Workbook
Name _: #REF!
Name _: #REF!
Name _: #REF!
Name _: #REF!
Name ___AFC1: [1]INV!$A$25:$D$28
Name ___AFC3: [1]INV!$F$25:$I$28
Name ___AFC5: [1]INV!$K$25:$N$28
Name ___BGC1: [1]INV!$A$5:$D$8
Name ___BGC3: [1]INV!$F$5:$I$8
Name ___BGC5: [1]INV!$K$5:$N$8
Name ___CAC1: [1]INV!$A$19:$D$22
Name ___CAC3: [1]INV!$F$19:$I$22
Name ___CAC5: [1]INV!$K$19:$N$22
Name ___EST1: #REF!
Name ___EST1: #REF!
Name ___EST1: #REF!
Name ___EST1: #REF!
Name ___EST10: #REF!
Name ___EST10: #REF!
Name ___EST10: #REF!
Name ___EST10: #REF!
Name ___EST11: #REF!
Name ___EST11: #REF!
Name ___EST11: #REF!
Name ___EST11: #REF!
Name ___EST12: #REF!
Name ___EST12: #REF!
Name ___EST12: #REF!
Name ___EST12: #REF!
Name ___EST13: #REF!
Name ___EST13: #REF!
Name ___EST13: #REF!
Name ___EST13: #REF!
Name ___EST14: #REF!
Name ___EST14: #REF!
Name ___EST14: #REF!
Name ___EST14: #REF!
Name ___EST15: #REF!
Name ___EST15: #REF!
Name ___EST15: #REF!
Name ___EST15: #REF!
Name ___EST16: #REF!
Name ___EST16: #REF!
Name ___EST16: #REF!
Name ___EST16: #REF!
Name ___EST17: #REF!
Name ___EST17: #REF!
Name ___EST17: #REF!
Name ___EST17: #REF!
Name ___EST18: #REF!
Name ___EST18: #REF!
Name ___EST18: #REF!
Name ___EST18: #REF!
Name ___EST19: #REF!
Name ___EST19: #REF!
Name ___EST19: #REF!
Name ___EST19: #REF!
Name ___EST2: #REF!
Name ___EST2: #REF!
Name ___EST2: #REF!

Sheet Conformación
A1: EMPRESA NACIONAL PROMOTORA DEL DESARROLLO TERRITORIAL – ENTerritorio CLIENTE COMISIÓN RECTORA DEL SISTEMA GENERAL DE REGALIAS (SGR) OBJETO ESTRUCTURACION INTEGRAL DE SOLUCIONES INDIVIDUALES FOTOVOLTAICAS EN VIVIENDA RURAL DISPERSA DE MUNICIPIOS PDET, EN EL MARCO DE LOS LINEAMIENTOS Y REQUISITOS FIJADOS EN EL ACUERDO ÚNICO No. 045 DE 2017 MODIFICADO POR EL ACUERDO 52 DE 2018 EXPEDIDO POR LA COMISIÓN RECTORA DEL SISTEMA GENERAL DE REGALÍAS Y DEMÁS NORMATIVIDAD VIGENTE CONVOCATORIA MERITORIA CME -016-2020 GRUPO 1
A4: No. | B4: NOMBRE DEL OFERENTE | C4: REPRESENTANTE LEGAL | D4: INTEGRANTES | E4: INTEGRANTE 1 | F4: Identificación Int. 1 | G4: % Int. 1 | H4: INTEGRANTE 2 | I4: Identificación Int. 2 | J4: % Int. 2 | K4: INTEGRANTE 3 | L4: Identificación Int. 3 | M4: % Int. 3 | N4: INTEGRANTE 4 | O4: Identificación Int. 4 | P4: % Int. 4 | Q4: INTEGRANTE 5 | R4: Identificación Int. 5 | S4: % Int. 5 | T4: Telefono | U4: FAX | V4: Direccion | W4: Email | X4: Ciudad | Y4: ANTICIPO
A5: 1 | B5: CONSTRUCCIONES Y SOLUCIONES ENERGÉTICAS S.A.S. “CONSENER S.A.S.” | C5: Nubia Stella Castro Molano C.C. 40.421.634 | D5: (CONSTRUCCIONES Y SOLUCIONES ENERGÉTICAS S.A.S. “CONSENER S.A.S.” 100% - 0% - 0%- 0%- 0%) | E5: CONSTRUCCIONES Y SOLUCIONES ENERGÉTICAS S.A.S. “CONSENER S.A.S.” | F5: NIT. 900.804.048-9 | G5: 1 | T5: 310 7862514 | V5: Carrera 29 No. 17-59 F30 | W5: consener.sas@gmail.com | X5: Yopal | Y5: NO INDICA
A6: 2 | B6: SUNCOLOMBIA S.A.S | C6: JUAN DIEGO GÓMEZ ZULUAGA C.C. 80.186.640 | D6: (SUNCOLOMBIA S.A.S 100% - 0% - 0%- 0%- 0%) | E6: SUNCOLOMBIA S.A.S | F6: NIT 900538988-6 | G6: 1 | T6: 3015854351 | V6: carrear 21 # 164 -74 | W6: juridico@suncolombia.com | X6: Bogotá | Y6: NO INDICA
A7: 3 | B7: ARDCO CONSTRUCCIONES S.A.S. | C7: NANCY LUCERO FONSECA BUSTACARA C.C. 51.930.331 | D7: (ARDCO CONSTRUCCIONES S.A.S. 100% - 0% - 0%- 0%- 0%) | E7: ARDCO CONSTRUCCIONES S.A.S. | F7: NIT. 844.000.433-8 | G7: 1 | T7: 3102615914 | V7: Av. Calle 116 No. 71B-14 of.204 | W7: gerencia@ardconstrucciones.com | X7: BOGOTA D.C. | Y7: NO INDICA
A8: 4
A9: 5
A10: 6
A11: 7
A12: 8
A13: 9
A14: 10

Sheet Exp. oferente
A1: EMPRESA NACIONAL PROMOTORA DEL DESARROLLO TERRITORIAL – ENTerritorio CLIENTE COMISIÓN RECTORA DEL SISTEMA GENERAL DE REGALIAS (SGR) OBJETO ESTRUCTURACION INTEGRAL DE SOLUCIONES INDIVIDUALES FOTOVOLTAICAS EN VIVIENDA RURAL DISPERSA DE MUNICIPIOS PDET, EN EL MARCO DE LOS LINEAMIENTOS Y REQUISITOS FIJADOS EN EL ACUERDO ÚNICO No. 045 DE 2017 MODIFICADO POR EL ACUERDO 52 DE 2018 EXPEDIDO POR LA COMISIÓN RECTORA DEL SISTEMA GENERAL DE REGALÍAS Y DEMÁS NORMATIVIDAD VIGENTE CONVOCATORIA MERITORIA CME -016-2020 GRUPO 1
U2: AÑO | V2: SMMLV
A3: EXPERIENCIA TÉCNICA DEL OFERENTE | U3: 1984 | V3: 11298
U4: 1985 | V4: 13557.6
A5: El oferente debe acreditar en su oferta, que cuenta con experiencia específica en: | U5: 1986 | V5: 16811.4
A6: ESTUDIOS Y/O DISEÑO Y/O FORMULACIÓN Y/O ESTRUCTURACIÓN DE: PROYECTOS ENERGÉTICOS EN ZONAS NO INTERCONECTADAS Y/O PROYECTOS ENERGÉTICOS CON PANELES SOLARES. | U6: 1987 | V6: 20509.8
A7: La experiencia deberá ser acreditada con la ejecución de MÁXIMO CINCO (5) CONTRATOS.
A8: Los contratos aportados deben sumar en su conjunto, un valor igual o superior a 0,9 veces el valor del POE, expresado en SMMLV en la fecha de terminación | U8: 1987 | V8: 20509.8
A9: MÍNIMO uno (1) de los contratos aportados, debe ser de INTERVENTORÍA A LA ELABORACIÓN DE ESTUDIOS O DISEÑOS O INVENTARIOS O DIAGNÓSTICOS PARA LA CONSTRUCCIÓN O AMPLIACIÓN O MEJORAMIENTO O REHABILITACIÓN U OPERACIÓN Y MANTENIMIENTO DE: PROYECTOS DE INFRAESTRUCTURA DE TRANSPORTE AÉREO. | U9: 1987 | V9: 20509.8
A10: Mínimo (1) uno de los contratos aportados deberá tener dentro de sus actividades intervenciones en construcción de Boxcoulver. | U10: 1987 | V10: 20509.8
A11: Mínimo (1) uno de los contratos aportados debe ser igual o superior valor al POE expresado en SMLMV en la fecha de terminación | U11: 1987 | V11: 20509.8
U12: 1988 | V12: 25637.4
J13: SMMLV | U13: 1989 | V13: 32559.6
J14: 1668.6581 | U14: 1990 | V14: 41025
H15: presup.of | I15: 1.4647531e+09 | J15: SMMLV | U15: 1991 | V15: 51716.1
H16: SMMLV 2020 | I16: 877803 | J16: 1501.7923 | U16: 1992 | V16: 65190
U17: 1993 | V17: 81510
U18: 1994 | V18: 98700
B19: Oferente | C19: 1 | D19: CONSTRUCCIONES Y SOLUCIONES ENERGÉTICAS S.A.S. “CONSENER S.A.S.” | U19: 1995 | V19: 118933.5
D20: (CONSTRUCCIONES Y SOLUCIONES ENERGÉTICAS S.A.S. “CONSENER S.A.S.” 100% - 0% - 0%- 0%- 0%) | U20: 1996 | V20: 142125
O21: INTEGRANTES | U21: 1997 | V21: 172005
O22: CONSTRUCCIONES Y SOLUCIONES ENERGÉTICAS S.A.S. “CONSENER S.A.S.” | P22: 0 | Q22: 0 | R22: 0 | S22: 0 | U22: 1998 | V22: 203826
A23: No | B23: PROPIETARIO O ENTIDAD CONTRATANTE | C23: APORTADA POR | D23: % en Cto | E23: CONSECUTIVO RUP | F23: OBJETO | G23: Fecha de Terminación | H23: Página | I23: VALOR | J23: SMMLV | K23: OBSERVACIONES | O23: 3879.6171 | P23: 0 | Q23: 0 | R23: 0 | S23: 0 | U23: 1999 | V23: 236460
A24: 1 | B24: EMPRESA DE ENERGÍA LA CEIBA S.A. E.S.P. "EMELCE S.A. E.S.P." | C24: CONSTRUCCIONES Y SOLUCIONES ENERGÉTICAS S.A.S. “CONSENER S.A.S.” | D24: 0.9 | E24: 75 | F24: ContratoNo.018-2016:Apoyoalaconsultoríaparalaelaboracióndeestudiosconsistemasdefuentestantoconvencionalescomonoconvencionalesdeenergía(FNCE)ydeestudiosdeeficienciaenergéticaenlaszonasnointerconectadas(ZNI)delaOrinoquíaylaAmazoníadeColombia | G24: 42669 | H24: SECOP ll | I24: 2972019508 | J24: 3879.6171 | K24: CUMPLE | L24: 1 | O24: 167.84957 | P24: 0 | Q24: 0 | R24: 0 | S24: 0 | U24: 2000 | V24: 260100
A25: 2 | B25: IPSE | C25: CONSTRUCCIONES Y SOLUCIONES ENERGÉTICAS S.A.S. “CONSENER S.A.S.” | D25: 0.3 | E25: 81 | F25: ContratoNo.062-2018:EstructurarproyectosenergéticosorientadosalmejoramientodelainfraestructuradelserviciodeenergíaenlosMunicipiosdeUnguíayAcandí,DepartamentodelChocó,enlasZNIdeColombia | G25: 43584 | H25: SECOP ll | I25: 463329720 | J25: 167.84957 | K25: CUMPLE | L25: 1 | O25: 0 | P25: 0 | Q25: 0 | R25: 0 | S25: 0 | U25: 2001 | V25: 286000
A26: 3 | L26: 1 | O26: 0 | P26: 0 | Q26: 0 | R26: 0 | S26: 0 | U26: 2002 | V26: 309000
A27: 4 | J27: 0 | L27: 1 | O27: 0 | P27: 0 | Q27: 0 | R27: 0 | S27: 0 | U27: 2003 | V27: 332000
A28: 5 | J28: 0 | L28: 1 | O28: 0 | P28: 0 | Q28: 0 | R28: 0 | S28: 0 | U28: 2004 | V28: 358000
A29: 6 | B29: #REF! | F29: #REF! | J29: 0 | L29: 1 | O29: 0 | P29: 0 | Q29: 0 | R29: 0 | S29: 0 | U29: 2005 | V29: 381500
A30: 7 | B30: #REF! | F30: #REF! | J30: 0 | L30: 1 | O30: 0 | P30: 0 | Q30: 0 | R30: 0 | S30: 0 | U30: 2006 | V30: 408000
A31: 8 | B31: #REF! | F31: #REF! | J31: 0 | L31: 1 | O31: 0 | P31: 0 | Q31: 0 | R31: 0 | S31: 0 | U31: 2007 | V31: 433700
A32: 9 | B32: #REF! | F32: #REF! | J32: 0 | L32: 1 | O32: 4047.4667 | P32: 0 | Q32: 0 | R32: 0 | S32: 0 | U32: 2008 | V32: 461500
A33: 10 | B33: #REF! | F33: #REF! | J33: 0 | L33: 1 | U33: 2009 | V33: 496900
I34: TOTAL | J34: 4047.4667 | L34: 10 | U34: 2010 | V34: 515000
B35: NOTA: VERIFICAR QUE LOS CONTRATOS ESTEN EN EL RUP (CUANDO APLIQUE) | J35: CUMPLE | K35: CUMPLE SUMATORIA DE TODOS 0,9 DEL POE | U35: 2011 | V35: 535600
G36: CONSTRUCCIONES Y SOLUCIONES ENERGÉTICAS S.A.S. “CONSENER S.A.S.” | H36: 1 | I36: 4047.4667 | J36: V.Bo. | U36: 2012 | V36: 566700
G37: 0 | H37: 0 | I37: 0 | U37: 2013 | V37: 589500
G38: 0 | H38: 0 | I38: 0 | U38: 2014 | V38: 616000
G39: 0 | H39: 0 | I39: 0 | U39: 2015 | V39: 644350
G40: 0 | H40: 0 | I40: 0 | U40: 2016 | V40: 689454
...

Sheet Exp. profesionales
A1: EMPRESA NACIONAL PROMOTORA DEL DESARROLLO TERRITORIAL – ENTerritorio CLIENTE COMISIÓN RECTORA DEL SISTEMA GENERAL DE REGALIAS (SGR) OBJETO ESTRUCTURACION INTEGRAL DE SOLUCIONES INDIVIDUALES FOTOVOLTAICAS EN VIVIENDA RURAL DISPERSA DE MUNICIPIOS PDET, EN EL MARCO DE LOS LINEAMIENTOS Y REQUISITOS FIJADOS EN EL ACUERDO ÚNICO No. 045 DE 2017 MODIFICADO POR EL ACUERDO 52 DE 2018 EXPEDIDO POR LA COMISIÓN RECTORA DEL SISTEMA GENERAL DE REGALÍAS Y DEMÁS NORMATIVIDAD VIGENTE CONVOCATORIA MERITORIA CME -016-2020 GRUPO 1 | Q1: 1957 | R1: 155.4
Q2: 1958 | R2: 155.4
Q3: 1959 | R3: 155.4
A4: REQUISITOS MINIMOS - PERSONAL PRINCIPAL REQUERIDO - CUMPLE/ NO CUMPLE | Q4: 1960 | R4: 198
Q5: 1961
A6: CARGO A DESEMPEÑAR | B6: FORMACIÓN ACADÉMICA | C6: TIEMPO MÍNIMO REQUERIDO DE HABER TERMINADO Y APROBADO ESTUDIOS (EN AÑOS) | E6: NUMERO DE PROYECTOS A ACREDITAR | F6: EXPERIENCIA ESPECÍFICA | I6: REQUERIMIENTO PARTICULAR | K6: REQUISITO MINIMO EN SMMLV | Q6: 1962 | R6: 300
A7: Director de Consultoría | B7: "Ingeniero Civil, o Ingeniero Eléctrico o Ingeniero Electricista o Ingeniero Electromecánico o Ingeniero Electrónico o Ingeniero Mecánico o Arquitecto, Con estudios de especialización o Maestría o doctorado en administración de empresas o gerencia de proyectos o gestión de proyectos o diseño y evaluación de proyectos o formulación de proyectos o formulación y evaluación de proyectos o gerencia de construcciones o energías renovables y sostenibilidad energética o administración de Negocios o gerencia de mantenimiento o Ingeniería eléctrica o Finanzas o Gerencia Pública o en sistemas de distribución de energía eléctrica o gerencia integral de proyectos". | C7: 8 | D7: 41062 | E7: 1 | F7: Experiencia específica como director de consultoría o director de proyectos o gerente de proyectos, de máximo cinco (5) contratos que sumados correspondan mínimo a 0.5 veces el presupuesto oficial del grupo al que se presente la oferta expresado en SMMLV a la fecha de terminación de la ejecución y que cada uno de los contratos aportados contemple dentro de su alcance la elaboración de estudios y/o diseños para proyectos de energía. | I7: máximo cinco (5) contratos que sumados correspondan mínimo a 0.5 veces el presupuesto oficial del grupo al que se presente la oferta | K7: 834.32905 | Q7: 1963 | R7: 420
Q8: 1964 | R8: 420
Q9: 1965 | R9: 420
Q10: 1966 | R10: 420
Q11: 1967 | R11: 420
Q12: 1968 | R12: 420
Q13: 1969 | R13: 519
Q14: 1970 | R14: 519
Q15: 1971 | R15: 519
Q16: 1972 | R16: 660
Q17: 1973 | R17: 660
Q18: 1974 | R18: 900
A19: OFERENTE | B19: 1 | C19: CONSTRUCCIONES Y SOLUCIONES ENERGÉTICAS S.A.S. “CONSENER S.A.S.” | Q19: 1975 | R19: 1200
C20: (CONSTRUCCIONES Y SOLUCIONES ENERGÉTICAS S.A.S. “CONSENER S.A.S.” 100% - 0% - 0%- 0%- 0%) | Q20: 1976 | R20: 1560
Q21: 1977 | R21: 1770
Q22: 1978 | R22: 2580
A23: CARGO | B23: NOMBRE | C23: TARJETA PROFESIONAL | D23: FECHA EXPEDICIÓN | F23: PROFESION | G23: POSGRADO | H23: OBJETO | I23: FECHA TERMINACIÓN PROYECTO | J23: VALOR | K23: SMMLV | L23: REQUERIMIENTO PARTICULAR QUE ACREDITA | M23: PÁGINA | N23: OBSERVACIONES | Q23: 1979 | R23: 3450
A24: Director de Consultoría | B24: JOHN JAIRO CORREA GARCÉS | C24: 05205-11294 | D24: 30466 | E24: CUMPLE EL TIEMPO MÍNIMO REQUERIDO DE HABER TERMINADO Y APROBADO ESTUDIOS | F24: INGENIERO ELECTRICISTA | G24: ESPECIALISTA EN ADMINISTRACIÓN DE EMPRESAS | H24: Gerente de la Oficina de Energía Eléctrica Municipal | I24: 31047 | J24: NO INDICA | L24: N/A | N24: NO CUMPLE No se evidencia la fecha de terminación no se evidencia elaboración de estudios y diseño para proyectos de energía | Q24: 1980 | R24: 4500
H25: Gerente de las Empresas Públicas de Caucasia | I25: 32237 | J25: NO INDICA | L25: N/A | N25: NO CUMPLE No se evidencia la fecha de terminación no se evidencia elaboración de estudios y diseño para proyectos de energía | Q25: 1981 | R25: 5700
H26: ContratoN°001-2-2005:Elmontajeydotaciónde17unidadesfotovoltaicasenlasviviendasruralesveredaNormandía, sector La Busaca, municipio de Tauramenta, departamento de Casanare | I26: 38428 | J26: 88255738 | L26: N/A | N26: NO CUMPLE NO SE VE LA FECHA DE TERMINACIÓN PERO SE VE EL PLAZO Y LA FECHA DE INICIO EN EL ACTA DE LIQUIDACIÓN POR ESO SE PRESUME LA FECHA INDICADA EN EL FORMATO POR EL OFERENTE NO CUMPLE CON LA EXPERIENCIA SOLICITADA POR QUE NO SE VE EXPERIENCIA EN ELABORACIÓN DE ESTUDIOS Y DISEÑOS PARA PROYECTOS DE ENERGÍA NO SE EVIDENCIA QUE FUERA EL DIRECTOR O GERENTE DEL PROYECTO PERO FIGURA COMO CONTRATISTA, PREGUNTAR SI APLICA | Q26: 1982 | R26: 7410
H27: ContratoN°031-2005:Construccióndesistemasgeneradoresdeenergíafotovoltaicapara83viviendasruralesen el municipio de Paz de Ariporo, departamento de Casanare | I27: 38822 | J27: 436018087 | L27: N/A | N27: NO CUMPLE NO CUMPLE CON LA EXPERIENCIA SOLICITADA POR QUE NO SE VE EXPERIENCIA EN ELABORACIÓN DE ESTUDIOS Y DISEÑOS PARA PROYECTOS DE ENERGÍA NO SE EVIDENCIA QUE FUERA EL DIRECTOR O GERENTE DEL PROYECTO PERO FIGURA COMO CONTRATISTA, PREGUNTAR SI APLICA | Q27: 1983 | R27: 9261
H28: Contratodeconsultoría018-2016:Apoyoalaconsultoríadelconvenio095-2015IPSE-EMELCEparalaelaboracióndeestudiosconsistemasdefuentestantoconvencionalescomonoconvencionalesdeenergía(FNCE)ydeestudiosdeeficienciaenergéticaenlaszonasnointerconectadas(ZNI)delaOrinoquíaylaAmazoníadeColombiaValor: $ 2.972.709.508 = 4310.68 SMMLV | I28: 42669 | J28: 2972019508 | K28: 4310.3981 | L28: N/A | M28: SECOP ll | N28: CUMPLE
H29: ContratoN°012-2006:DotacióneimplementacióndeenergíafotovoltaicaendiversasveredasdelosmunicipiosdeYopal,Nunchía,Támara,Monterrey,Maní,Trinidad,HatoCorozal,Tauramenta,PazdeAriporodel departamento de Casanare | I29: 39118 | J29: 1437787384 | L29: N/A | N29: NO CUMPLE NO CUMPLE CON LA EXPERIENCIA SOLICITADA POR QUE NO SE VE EXPERIENCIA EN ELABORACIÓN DE ESTUDIOS Y DISEÑOS PARA PROYECTOS DE ENERGÍA | Q29: 1984 | R29: 11298
H30: TOTAL | K30: 4310.3981 | N30: CUMPLE | Q30: 1985 | R30: 13557
Q31: 1986 | R31: 16811.4
Q32: 1987 | R32: 20510
A33: OFERENTE | B33: 2 | C33: SUNCOLOMBIA S.A.S | Q33: 1988 | R33: 25637.4
C34: (SUNCOLOMBIA S.A.S 100% - 0% - 0%- 0%- 0%) | Q34: 1989 | R34: 32559.6
Q35: 1990 | R35: 41025
A36: CARGO | B36: NOMBRE | C36: TARJETA PROFESIONAL | D36: FECHA EXPEDICIÓN | F36: PROFESION | G36: POSGRADO | H36: OBJETO | I36: FECHA TERMINACIÓN PROYECTO | J36: VALOR | K36: SMMLV | L36: REQUERIMIENTO PARTICULAR QUE ACREDITA | M36: PÁGINA | N36: OBSERVACIONES | Q36: 1991 | R36: 51716.1
A37: Director de Consultoría | B37: WILLLIAM ANTONIO BARCO BRAVO | C37: CN250-50394 | D37: 39030 | E37: CUMPLE EL TIEMPO MÍNIMO REQUERIDO DE HABER TERMINADO Y APROBADO ESTUDIOS | F37: INGENIERO ELECTRÓMECANICO | G37: ESPECIALISTA EN GERENCIA DE PROYECTOS | H37: Planeación, diseño, suministro, implementación, puesta en marcha, operación y mantenimiento de soluciones fotovoltaicas | I37: 43096 | J37: NO SE EVIDENCIÓ | L37: cumple | M37: SECOP ll | N37: NO CUMPLE | Q37: 1992 | R37: 65190
K38: 0 | L38: 0 | Q38: 1993 | R38: 81510
K39: 0 | L39: 0 | Q39: 1994 | R39: 98700
K40: 0 | L40: 0 | Q40: 1995 | R40: 118933.5
...

Sheet Exp. profesionales (2)
A1: =+#REF! -> #REF! | P1: 1957 | Q1: 155.4
P2: 1958 | Q2: 155.4
P3: 1959 | Q3: 155.4
A4: REQUISITOS MINIMOS - PERSONAL PRINCIPAL REQUERIDO - CUMPLE/ NO CUMPLE | P4: 1960 | Q4: 198
P5: 1961
A6: CARGO A DESEMPEÑAR | B6: FORMACIÓN ACADÉMICA | C6: TIEMPO MÍNIMO REQUERIDO DE HABER TERMINADO Y APROBADO ESTUDIOS (EN AÑOS) | E6: NUMERO DE PROYECTOS A ACREDITAR | F6: EXPERIENCIA ESPECÍFICA | H6: REQUERIMIENTO PARTICULAR | J6: REQUISITO MINIMO EN SMMLV | K6: REQUISITO MINIMO EN AÑOS | P6: 1962 | Q6: 300
A7: Profesional Eléctrico | B7: Ingeniero Eléctrico o Electricista o Electromecánico. | C7: 8 | D7: 41062 | E7: 1 | F7: Acreditar experiencia en mínimo un (1) contrato como diseñador y/o estructurador de soluciones fotovoltaicas y/o paneles solares y/o sistemas alternativos de generación de energía eléctrica y/o con fuentes no convencionales de energía. | H7: N/A | J7: 0 | K7: 0 | P7: 1963 | Q7: 420
P8: 1964 | Q8: 420
P9: 1965 | Q9: 420
P10: 1966 | Q10: 420
P11: 1967 | Q11: 420
P12: 1968 | Q12: 420
P13: 1969 | Q13: 519
P14: 1970 | Q14: 519
P15: 1971 | Q15: 519
P16: 1972 | Q16: 660
P17: 1973 | Q17: 660
P18: 1974 | Q18: 900
P19: 1975 | Q19: 1200
P20: 1976 | Q20: 1560
A21: OFERENTE | B21: 1 | C21: =VLOOKUP(B21,Conformación!$A$5:$S$129,2,FALSE) -> CONSTRUCCIONES Y SOLUCIONES ENERGÉTICAS S.A.S. “CONSENER S.A.S.” | P21: 1977 | Q21: 1770
C22: =VLOOKUP(B21,Conformación!$A$5:$S$129,4,FALSE) -> (CONSTRUCCIONES Y SOLUCIONES ENERGÉTICAS S.A.S. “CONSENER S.A.S.” 100% - 0% - 0%- 0%- 0%) | P22: 1978 | Q22: 2580
P23: 1979 | Q23: 3450
P24: 1980 | Q24: 4500
A25: CARGO | B25: NOMBRE | C25: TARJETA PROFESIONAL | D25: FECHA EXPEDICIÓN | F25: PROFESION | G25: OBJETO | H25: FECHA TERMINACIÓN CONTRATO | I25: VALOR | J25: SMMLV | K25: REQUERIMIENTO PARTICULAR QUE ACREDITA | L25: FOLIO | M25: OBSERVACIONES | P25: 1981 | Q25: 5700
A26: =A7 -> Profesional Eléctrico | B26: OSCAR LEONARDO RINCÓN PULIDO | C26: CN205-29279 | D26: 36013 | E26: =IF(D26=0,0,IF(D26<D$7,"CUMPLE EL TIEMPO MÍNIMO REQUERIDO DE HABER TERMINADO Y APROBADO ESTUDIOS","NO CUMPLE EL TIEMPO MÍNIMO REQUERIDO DE HABER TERMINADO Y APROBADO ESTUDIOS")) -> CUMPLE EL TIEMPO MÍNIMO REQUERIDO DE HABER TERMINADO Y APROBADO ESTUDIOS | F26: INGENIERO ELECTRICISTA | G26: Contrato No. 155-2017: Apoyo a la consultoría de asistencia técnica para la estructuración de proyectos energéticos orientados a la reducción de combustibles fósiles en el Departamento del Guainía: Valor: $ 320.496.750 | H26: 43236 | I26: 320496750 | J26: =IF(I26=0,0,IF(H26<D$26,"EXPERIENCIA ADQUIRIDA ANTES DEL GRADO",I26/VLOOKUP(YEAR(H26),$P$1:$Q$64,2,0))) -> 410.24004 | K26: N/A | L26: SECOP ll | M26: CUMPLE | P26: 1982 | Q26: 7410
J27: =IF(I27=0,0,IF(H27<D$26,"EXPERIENCIA ADQUIRIDA ANTES DEL GRADO",I27/VLOOKUP(YEAR(H27),$P$1:$Q$64,2,0))) -> 0 | P27: 1983 | Q27: 9261
J28: =IF(I28=0,0,IF(H28<D$26,"EXPERIENCIA ADQUIRIDA ANTES DEL GRADO",I28/VLOOKUP(YEAR(H28),$P$1:$Q$64,2,0))) -> 0 | P28: 1984 | Q28: 11298
J29: =IF(I29=0,0,IF(H29<D$26,"EXPERIENCIA ADQUIRIDA ANTES DEL GRADO",I29/VLOOKUP(YEAR(H29),$P$1:$Q$64,2,0))) -> 0 | P29: 1985 | Q29: 13557
J30: =IF(I30=0,0,IF(H30<D$26,"EXPERIENCIA ADQUIRIDA ANTES DEL GRADO",I30/VLOOKUP(YEAR(H30),$P$1:$Q$64,2,0))) -> 0 | P30: 1986 | Q30: 16811.4
J31: =IF(I31=0,0,IF(H31<D$26,"EXPERIENCIA ADQUIRIDA ANTES DEL GRADO",I31/VLOOKUP(YEAR(H31),$P$1:$Q$64,2,0))) -> 0 | P31: 1987 | Q31: 20510
J32: =IF(I32=0,0,IF(H32<D$26,"EXPERIENCIA ADQUIRIDA ANTES DEL GRADO",I32/VLOOKUP(YEAR(H32),$P$1:$Q$64,2,0))) -> 0 | P32: 1988 | Q32: 25637.4
J33: =SUM(J26:J32) -> 410.24004 | M33: CUMPLE | P33: 1989 | Q33: 32559.6
P34: 1990 | Q34: 41025
P35: 1991 | Q35: 51716.1
A36: OFERENTE | B36: 2 | C36: =VLOOKUP(B36,Conformación!$A$5:$S$129,2,FALSE) -> SUNCOLOMBIA S.A.S | P36: 1992 | Q36: 65190
C37: =VLOOKUP(B36,Conformación!$A$5:$S$129,4,FALSE) -> (SUNCOLOMBIA S.A.S 100% - 0% - 0%- 0%- 0%) | P37: 1993 | Q37: 81510
P38: 1994 | Q38: 98700
A39: CARGO | B39: NOMBRE | C39: TARJETA PROFESIONAL | D39: FECHA EXPEDICIÓN | F39: PROFESION | G39: OBJETO | H39: FECHA TERMINACIÓN CONTRATO | I39: VALOR | J39: SMMLV | K39: REQUERIMIENTO PARTICULAR QUE ACREDITA | L39: FOLIO | M39: OBSERVACIONES | P39: 1995 | Q39: 118933.5
A40: =A7 -> Profesional Eléctrico | B40: HECTOR YOVANY TULCAN TEPUD | C40: CN250-68406 | D40: 40224 | E40: =IF(D40=0,0,IF(D40<D$7,"CUMPLE EL TIEMPO MÍNIMO REQUERIDO DE HABER TERMINADO Y APROBADO ESTUDIOS","NO CUMPLE EL TIEMPO MÍNIMO REQUERIDO DE HABER TERMINADO Y APROBADO ESTUDIOS")) -> CUMPLE EL TIEMPO MÍNIMO REQUERIDO DE HABER TERMINADO Y APROBADO ESTUDIOS | F40: INGENIERO ELECTROMECÁNICO | G40: Cargo de ingeniero de desarrollo, realizando actividades de diseño eléctrico, dimensionamiento óptimo de soluciones energéticas, utilizando energía solar fotovoltaica e híbridas además del estudio y cumplimiento de la normativa RETIE. | H40: 43955 | I40: NO SE EVIDENCIÓ | K40: N/A | L40: SECOP ll | M40: NO CUMPLE | P40: 1996 | Q40: 142125
...

Sheet Exp. oferente ADICIONAL
A1: EMPRESA NACIONAL PROMOTORA DEL DESARROLLO TERRITORIAL – ENTerritorio CLIENTE COMISIÓN RECTORA DEL SISTEMA GENERAL DE REGALIAS (SGR) OBJETO ESTRUCTURACION INTEGRAL DE SOLUCIONES INDIVIDUALES FOTOVOLTAICAS EN VIVIENDA RURAL DISPERSA DE MUNICIPIOS PDET, EN EL MARCO DE LOS LINEAMIENTOS Y REQUISITOS FIJADOS EN EL ACUERDO ÚNICO No. 045 DE 2017 MODIFICADO POR EL ACUERDO 52 DE 2018 EXPEDIDO POR LA COMISIÓN RECTORA DEL SISTEMA GENERAL DE REGALÍAS Y DEMÁS NORMATIVIDAD VIGENTE CONVOCATORIA MERITORIA CME -016-2020 GRUPO 1
U2: AÑO | V2: SMMLV
A3: EXPERIENCIA ADICIONAL TÉCNICA DEL OFERENTE | U3: 1984 | V3: 11298
U4: 1985 | V4: 13557.6
A5: El oferente debe acreditar en su oferta, que cuenta con experiencia específica ADICIONAL en: | U5: 1986 | V5: 16811.4
A6: FORMULACIÓN O ESTRUCTURACIÓN O DISEÑO DE PROYECTOS ENERGÉTICOS EN ZONAS NO INTERCONECTADAS | U6: 1987 | V6: 20509.8
I7: PUNTAJE | J7: SMMLV | U7: 1988 | V7: 25637.4
A8: Entre 1 y 3 contratos en FORMULACIÓN O ESTRUCTURACIÓN O DISEÑO DE PROYECTOS ENERGÉTICOS EN ZONAS NO INTERCONECTADAS, cuya sumatoria sea igual o mayor a cero punto cinco (0.5) vez el POE expresado en SMMLV a la fecha de su terminación. | I8: 20 | J8: 0.5 | K8: 0.75 | U8: 1989 | V8: 32559.6
J9: 1090.1591 | K9: 1635.2387 | U9: 1990 | V9: 41025
A10: Entre 1 y 3 contratos en FORMULACIÓN O ESTRUCTURACIÓN O DISEÑO DE PROYECTOS ENERGÉTICOS EN ZONAS NO INTERCONECTADAS, cuya sumatoria sea igual o mayor a cero punto setenta y cinco (0.75) veces el POE expresado en SMMLV a la fecha de su terminación. | I10: 30 | J10: 0.75 | K10: 1 | U10: 1991 | V10: 51716.1
J11: 1635.2387 | K11: 2180.3182 | U11: 1992 | V11: 65190
A12: Entre 1 y 3 contratos FORMULACIÓN O ESTRUCTURACIÓN O DISEÑO DE PROYECTOS ENERGÉTICOS EN ZONAS NO INTERCONECTADAS, cuya sumatoria sea igual o mayor a una (1.0) vez el POE expresado en SMMLV a la fecha de su terminación. | I12: 50 | J12: 1 | U12: 1993 | V12: 81510
J13: 2180.3182 | U13: 1994 | V13: 98700
B16: Oferente | C16: 1 | D16: CONSTRUCCIONES Y SOLUCIONES ENERGÉTICAS S.A.S. “CONSENER S.A.S.” | U16: 1995 | V16: 118933.5
D17: (CONSTRUCCIONES Y SOLUCIONES ENERGÉTICAS S.A.S. “CONSENER S.A.S.” 100% - 0% - 0%- 0%- 0%) | U17: 1996 | V17: 142125
O18: INTEGRANTES | U18: 1997 | V18: 172005
O19: 0 | P19: 0 | Q19: 0 | R19: 0 | S19: 0 | U19: 1998 | V19: 203826
A20: No | B20: PROPIETARIO O ENTIDAD CONTRATANTE | C20: APORTADA POR | D20: % en Cto | E20: CONSECUTIVO RUP | F20: OBJETO | G20: Fecha de Terminación | H20: Página | I20: VALOR | J20: SMMLV | K20: CALIFICACION | O20: 0 | P20: 0 | Q20: 0 | R20: 0 | S20: 0 | U20: 1999 | V20: 236460
A21: 1 | B21: ZNI URIBIA - ALTA GUAJIRA | C21: CONSTRUCCIONES Y SOLUCIONES ENERGÉTICAS S.A.S. “CONSENER S.A.S.” | D21: 1 | E21: 79 | F21: ContratoNo.065-2017:EstructuracióndeproyectosenergéticosorientadosalareposicióndeinfraestructuradelserviciodeenergíaenlasZNI de Uribia - Alta Guajira | G21: 43126 | H21: SECOP ll | I21: 176865723 | J21: 226.39044 | K21: CUMPLE | O21: 0 | P21: 0 | Q21: 0 | R21: 0 | S21: 0 | U21: 2000 | V21: 260100
A22: 2 | B22: ZNI GUAINÍA | C22: CONSTRUCCIONES Y SOLUCIONES ENERGÉTICAS S.A.S. “CONSENER S.A.S.” | D22: 1 | E22: 80 | F22: ContratoNo.155-2017:Apoyoalaconsultoríadeasistenciatécnicaparalaestructuracióndeproyectosenergéticosorientadosalareduccióndecombustibles fósiles en el Departamento del Guainía | G22: 43277 | H22: SECOP ll | I22: 320496750 | K22: NO CUMPLE | O22: 0 | P22: 0 | Q22: 0 | R22: 0 | S22: 0 | U22: 2001 | V22: 286000
A23: 3 | B23: ZNI REGIÓN AMAZONÍA | C23: CONSTRUCCIONES Y SOLUCIONES ENERGÉTICAS S.A.S. “CONSENER S.A.S.” | D23: 1 | E23: 86 | F23: ContratoNo.038-2019:Formulación,estructuraciónydiseñodeproyectosenergéticossosteniblesparalaampliacióndelacoberturaenlas localidades de las zonas no interconectadas - Región Amazonía | G23: 43823 | H23: SECOP ll | I23: 1609870640 | J23: 1944.0159 | K23: CUMPLE | O23: 0 | P23: 0 | Q23: 0 | R23: 0 | S23: 0 | U23: 2002 | V23: 309000
A24: 4 | J24: 0 | O24: 0 | P24: 0 | Q24: 0 | R24: 0 | S24: 0 | U24: 2003 | V24: 332000
A25: 5 | J25: 0 | O25: #REF! | P25: #REF! | Q25: #REF! | R25: #REF! | S25: #REF! | U25: 2004 | V25: 358000
I26: TOTAL | J26: 2170.4063 | K26: 30 PUNTOS | U26: 2005 | V26: 381500
B27: NOTA: VERIFICAR QUE LOS CONTRATOS ESTEN EN EL RUP (CUANDO APLIQUE) | I27: CUMPLE | U27: 2006 | V27: 408000
U28: 2007 | V28: 433700
U29: 2008 | V29: 461500
U30: 2009 | V30: 496900
U31: 2010 | V31: 515000
U32: 2011 | V32: 535600
U33: 2012 | V33: 566700
U34: 2013 | V34: 589500
B35: Oferente | C35: 2 | D35: SUNCOLOMBIA S.A.S | U35: 2014 | V35: 616000
D36: (SUNCOLOMBIA S.A.S 100% - 0% - 0%- 0%- 0%) | U36: 2015 | V36: 644350
O37: INTEGRANTES | U37: 2016 | V37: 689454
O38: 0 | P38: 0 | Q38: 0 | R38: 0 | S38: 0 | U38: 2017 | V38: 737717
A39: No | B39: PROPIETARIO O ENTIDAD CONTRATANTE | C39: APORTADA POR | D39: % en Cto | E39: CONSECUTIVO RUP | F39: OBJETO | G39: Fecha de Terminación | H39: Página | I39: VALOR | J39: SMMLV | K39: CALIFICACION | O39: 0 | P39: 0 | Q39: 0 | R39: 0 | S39: 0 | U39: 2018 | V39: 781242
A40: 1 | J40: 0 | O40: 0 | P40: 0 | Q40: 0 | R40: 0 | S40: 0 | U40: 2019 | V40: 828116
A41: 2 | J41: 0 | O41: 0 | P41: 0 | Q41: 0 | R41: 0 | S41: 0 | U41: 2020 | V41: 877803
A42: 3 | J42: 0 | O42: 0 | P42: 0 | Q42: 0 | R42: 0 | S42: 0
...

Sheet Exp. profesionales ADICIONAL
A1: EMPRESA NACIONAL PROMOTORA DEL DESARROLLO TERRITORIAL – ENTerritorio CLIENTE COMISIÓN RECTORA DEL SISTEMA GENERAL DE REGALIAS (SGR) OBJETO ESTRUCTURACION INTEGRAL DE SOLUCIONES INDIVIDUALES FOTOVOLTAICAS EN VIVIENDA RURAL DISPERSA DE MUNICIPIOS PDET, EN EL MARCO DE LOS LINEAMIENTOS Y REQUISITOS FIJADOS EN EL ACUERDO ÚNICO No. 045 DE 2017 MODIFICADO POR EL ACUERDO 52 DE 2018 EXPEDIDO POR LA COMISIÓN RECTORA DEL SISTEMA GENERAL DE REGALÍAS Y DEMÁS NORMATIVIDAD VIGENTE CONVOCATORIA MERITORIA CME -016-2020 GRUPO 1 | L1: 1957 | M1: 155.4
L2: 1958 | M2: 155.4
L3: 1959 | M3: 155.4
A4: EXPERIENCIA ADICIONAL PERSONAL PRINCIPAL REQUERIDO | L4: 1960 | M4: 198
L5: 1961
A6: CARGO A DESEMPEÑAR | B6: EXPERIENCIA ESPECÍFICA | D6: NUMERO DE PROYECTOS | F6: PUNTAJE | G6: SMMLV | L6: 1962 | M6: 300
A7: Director de Consultoría | B7: Experiencia específica como director de consultoría o director de proyectos o gerente de proyectos, de máximo cinco (5) contratos que sumados correspondan mínimo a 0.5 veces el presupuesto oficial del grupo al que se presente la oferta expresado en SMMLV a la fecha de terminación de la ejecución y que cada uno de los contratos aportados contemple dentro de su alcance la elaboración de estudios y/o diseños para proyectos de energía. | D7: Entre 1 y 2 proyectos adicionales a los indicados en el numeral 6.3.2. del presente documento como director de consultoría contemplen dentro de su alcance la elaboración de estudios y/o diseños para proyectos energía | F7: 10 | G7: 0 | L7: 1963 | M7: 420
L8: 1964 | M8: 420
D9: Entre 3 y 4 Proyectos adicionales a los indicados en el numeral 6.3.2. del presente documento como director de consultoría contemplen dentro de su alcance la elaboración de estudios y/o diseños para proyectos energía | F9: 20 | G9: 0 | L9: 1965 | M9: 420
L10: 1966 | M10: 420
D11: Entre 5 y 6 Proyectos adicionales a los indicados en el numeral 6.3.2. del presente documento como director de consultoría contemplen dentro de su alcance la elaboración de estudios y/o diseños para proyectos energía | F11: 25 | G11: 0 | L11: 1967 | M11: 420
L12: 1968 | M12: 420
L13: 1969 | M13: 519
L14: 1970 | M14: 519
A15: OFERENTE | B15: 1 | C15: CONSTRUCCIONES Y SOLUCIONES ENERGÉTICAS S.A.S. “CONSENER S.A.S.” | L15: 1971 | M15: 519
C16: (CONSTRUCCIONES Y SOLUCIONES ENERGÉTICAS S.A.S. “CONSENER S.A.S.” 100% - 0% - 0%- 0%- 0%) | L16: 1972 | M16: 660
L17: 1973 | M17: 660
A18: CARGO | B18: NOMBRE | C18: OBJETO | D18: FECHA TERMINACIÓN PROYECTO | E18: VALOR | F18: SMMLV | G18: REQUERIMIENTO PARTICULAR QUE ACREDITA | H18: PÁGINA | I18: OBSERVACIONES | L18: 1974 | M18: 900
A19: Director de Consultoría | B19: JOHN JAIRO CORREA GARCÉS | C19: ContratoNo.065-2017:EstructuracióndeproyectosenergéticosorientadosalareposicióndeinfraestructuradelserviciodeenergíaenlasZNIdeUribia-AltaGuajiraValor: $ 176.865.723: Ampliación de Sistema Solar Fotovoltaico Centralizado Híbrido en las Localidades Nazareth y Puerto Estrella, Municipio de Uribia, Guajira = 108 KW | D19: 43126 | E19: 176865723 | F19: 226.39044 | G19: N/A | H19: SECOP ll | I19: NO CUMPLE | L19: 1975 | M19: 1200
C20: Sistema Solar Fotovoltaico Individual en las Localidades del Caño Bocón, Municipio de Inírida, Guainía = 136.96 KW | D20: 43277 | E20: 320496750 | F20: 410.24004 | G20: N/A | H20: SECOP ll | I20: NO CUMPLE | L20: 1976 | M20: 1560
C21: Sistema Solar Fotovoltaico Individual en las Localidades del Río Inírida, Municipio de Inírida, Guainía = 138.88 KW | D21: 43277 | G21: N/A | H21: SECOP ll | I21: NO CUMPLE | L21: 1977 | M21: 1770
C22: Sistema Solar Fotovoltaico Individual en las Localidades del Río Inírida, Corregimiento Morichal, Guainía = 92.80 KW | D22: 43277 | G22: N/A | H22: SECOP ll | I22: NO CUMPLE | L22: 1978 | M22: 2580
C23: Sistema Solar Fotovoltaico Individual en las Localidades del Río Guainía, Corregimiento Puerto Colombia, Guainía = 236.80 KW | D23: 43277 | G23: N/A | H23: SECOP ll | I23: NO CUMPLE | L23: 1979 | M23: 3450
C24: Sistema Solar Fotovoltaico Individual en las Localidades del Río Guainía, Corregimientos Puerto Colombia, San Felipe y La Guadalupe, Guainía = 191.68 KW | D24: 43277 | G24: N/A | H24: SECOP ll | I24: NO CUMPLE | L24: 1980 | M24: 4500
F25: 0 | L25: 1981 | M25: 5700
C26: TOTAL | F26: 636.63048 | G26: cumple | I26: 0 PUNTOS | L26: 1982 | M26: 7410
L27: 1983 | M27: 9261
A28: OFERENTE | B28: 2 | C28: SUNCOLOMBIA S.A.S | L28: 1984 | M28: 11298
C29: (SUNCOLOMBIA S.A.S 100% - 0% - 0%- 0%- 0%) | L29: 1985 | M29: 13557
L30: 1986 | M30: 16811.4
A31: CARGO | B31: NOMBRE | C31: OBJETO | D31: FECHA TERMINACIÓN PROYECTO | E31: VALOR | F31: SMMLV | G31: REQUERIMIENTO PARTICULAR QUE ACREDITA | H31: PÁGINA | I31: OBSERVACIONES | L31: 1987 | M31: 20510
A32: Director de Consultoría | B32: WILLLIAM ANTONIO BARCO BRAVO | F32: 0 | L32: 1988 | M32: 25637.4
F33: 0 | L33: 1989 | M33: 32559.6
F34: 0 | L34: 1990 | M34: 41025.1
F35: 0 | L35: 1991 | M35: 51720
F36: 0 | L36: 1992 | M36: 65190
F37: 0 | L37: 1993 | M37: 81510
F38: 0 | L38: 1994 | M38: 98700
C39: TOTAL | F39: 0 | G39: 0 | L39: 1995 | M39: 118933.5
L40: 1996 | M40: 142125
...

Sheet Exp. profesionales (2) ADICIONA
A1: EMPRESA NACIONAL PROMOTORA DEL DESARROLLO TERRITORIAL – ENTerritorio CLIENTE COMISIÓN RECTORA DEL SISTEMA GENERAL DE REGALIAS (SGR) OBJETO ESTRUCTURACION INTEGRAL DE SOLUCIONES INDIVIDUALES FOTOVOLTAICAS EN VIVIENDA RURAL DISPERSA DE MUNICIPIOS PDET, EN EL MARCO DE LOS LINEAMIENTOS Y REQUISITOS FIJADOS EN EL ACUERDO ÚNICO No. 045 DE 2017 MODIFICADO POR EL ACUERDO 52 DE 2018 EXPEDIDO POR LA COMISIÓN RECTORA DEL SISTEMA GENERAL DE REGALÍAS Y DEMÁS NORMATIVIDAD VIGENTE CONVOCATORIA MERITORIA CME -016-2020 GRUPO 1 | P1: 1957 | Q1: 155.4
P2: 1958 | Q2: 155.4
P3: 1959 | Q3: 155.4
A4: REQUISITOS MINIMOS - PERSONAL PRINCIPAL REQUERIDO - CUMPLE/ NO CUMPLE | P4: 1960 | Q4: 198
P5: 1961
A6: CARGO A DESEMPEÑAR | B6: FORMACIÓN ACADÉMICA | C6: TIEMPO MÍNIMO REQUERIDO DE HABER TERMINADO Y APROBADO ESTUDIOS (EN AÑOS) | E6: NUMERO DE PROYECTOS A ACREDITAR | F6: EXPERIENCIA ESPECÍFICA | H6: REQUERIMIENTO PARTICULAR | J6: REQUISITO MINIMO EN SMMLV | K6: REQUISITO MINIMO EN AÑOS | P6: 1962 | Q6: 300
A7: Profesional Eléctrico | B7: Ingeniero Eléctrico o Electricista o Electromecánico. | C7: 8 | D7: 41062 | E7: 1 | F7: Acreditar experiencia en mínimo un (1) contrato como diseñador y/o estructurador de soluciones fotovoltaicas y/o paneles solares y/o sistemas alternativos de generación de energía eléctrica y/o con fuentes no convencionales de energía. | H7: N/A | J7: 0 | K7: 0 | P7: 1963 | Q7: 420
P8: 1964 | Q8: 420
P9: 1965 | Q9: 420
P10: 1966 | Q10: 420
P11: 1967 | Q11: 420
A12: CARGO A DESEMPEÑAR | B12: EXPERIENCIA ESPECÍFICA | D12: NUMERO DE PROYECTOS | F12: PUNTAJE | G12: SMMLV | P12: 1968 | Q12: 420
A13: Profesional Eléctrico | B13: Acreditar experiencia como diseñador y/o estructurador de soluciones fotovoltaicas y/o paneles solares y/o sistemas alternativos de generación de energía eléctrica y/o con fuentes no convencionales de energía. | D13: Entre 1 y 2 contratos adicionales a los indicados en el numeral 6.3.2. del presente documento donde se haya realizado actividades como diseñador y/o estructurador de soluciones fotovoltaicas y/o paneles solares y/o sistemas alternativos de generación de energía eléctrica y/o con fuentes no convencionales de energía. | F13: 5 | G13: 0 | P13: 1969 | Q13: 519
P14: 1970 | Q14: 519
D15: Entre 3 y 4 Proyectos adicionales a los indicados en el numeral 6.3.2. del presente documento donde se haya realizado actividades como diseñador y/o estructurador de soluciones fotovoltaicas y/o paneles solares y/o sistemas alternativos de generación de energía eléctrica y/o con fuentes no convencionales de energía. | F15: 10 | G15: 0 | P15: 1971 | Q15: 519
P16: 1972 | Q16: 660
D17: Entre 5 y 6 Proyectos adicionales a los indicados en el numeral 6.3.2. del presente documento donde se haya realizado actividades como diseñador y/o estructurador de soluciones fotovoltaicas y/o paneles solares y/o sistemas alternativos de generación de energía eléctrica y/o con fuentes no convencionales de energía. | F17: 15 | G17: 0 | P17: 1973 | Q17: 660
P18: 1974 | Q18: 900
P19: 1975 | Q19: 1200
P20: 1976 | Q20: 1560
A21: OFERENTE | B21: 1 | C21: CONSTRUCCIONES Y SOLUCIONES ENERGÉTICAS S.A.S. “CONSENER S.A.S.” | P21: 1977 | Q21: 1770
C22: (CONSTRUCCIONES Y SOLUCIONES ENERGÉTICAS S.A.S. “CONSENER S.A.S.” 100% - 0% - 0%- 0%- 0%) | P22: 1978 | Q22: 2580
P23: 1979 | Q23: 3450
P24: 1980 | Q24: 4500
A25: CARGO | B25: NOMBRE | C25: TARJETA PROFESIONAL | D25: FECHA EXPEDICIÓN | F25: PROFESION | G25: OBJETO | H25: FECHA TERMINACIÓN CONTRATO | I25: VALOR | J25: SMMLV | K25: REQUERIMIENTO PARTICULAR QUE ACREDITA | L25: FOLIO | M25: OBSERVACIONES | P25: 1981 | Q25: 5700
A26: Profesional Eléctrico | B26: OSCAR LEONARDO RINCÓN PULIDO | C26: CN205-29279 | D26: 36013 | E26: CUMPLE EL TIEMPO MÍNIMO REQUERIDO DE HABER TERMINADO Y APROBADO ESTUDIOS | F26: INGENIERO ELECTRICISTA | G26: Sistemas Solares Fotovoltaicos Individuales Municipio El Retorno, Guaviare = 51.06 KW | H26: 43823 | I26: 1609870640 | J26: 1944.0159 | K26: N/A | L26: SECOP ll | M26: CUMPLE | P26: 1982 | Q26: 7410
G27: Sistemas Solares Fotovoltaicos Individuales Municipio Calamar, Guaviare = 60.68 KW | K27: N/A | L27: SECOP ll | M27: CUMPLE | P27: 1983 | Q27: 9261
G28: Sistemas Solares Fotovoltaicos Individuales Municipio San Vicente del Caguán, Caquetá = 564.62 KW | K28: N/A | L28: SECOP ll | M28: CUMPLE | P28: 1984 | Q28: 11298
G29: Sistemas Solares Fotovoltaicos Individuales Municipio Puerto Rico, Caquetá = 223.48 KW | K29: N/A | L29: SECOP ll | M29: CUMPLE | P29: 1985 | Q29: 13557
G30: Sistemas Solares Fotovoltaicos Individuales Municipio San José del Fragua, Caquetá = 74.00 KW | K30: N/A | L30: SECOP ll | M30: CUMPLE | P30: 1986 | Q30: 16811.4
G31: Sistemas Solares Fotovoltaicos Individuales Municipio Cartagena del Chairá, Caquetá = 827.32 KW | K31: N/A | L31: SECOP ll | M31: CUMPLE | P31: 1987 | Q31: 20510
J32: 0 | P32: 1988 | Q32: 25637.4
J33: 1944.0159 | M33: 15 PUNTOS | P33: 1989 | Q33: 32559.6
P34: 1990 | Q34: 41025
P35: 1991 | Q35: 51716.1
A36: OFERENTE | B36: 2 | C36: SUNCOLOMBIA S.A.S | P36: 1992 | Q36: 65190
C37: (SUNCOLOMBIA S.A.S 100% - 0% - 0%- 0%- 0%) | P37: 1993 | Q37: 81510
P38: 1994 | Q38: 98700
A39: CARGO | B39: NOMBRE | C39: TARJETA PROFESIONAL | D39: FECHA EXPEDICIÓN | F39: PROFESION | G39: OBJETO | H39: FECHA TERMINACIÓN CONTRATO | I39: VALOR | J39: SMMLV | K39: REQUERIMIENTO PARTICULAR QUE ACREDITA | L39: FOLIO | M39: OBSERVACIONES | P39: 1995 | Q39: 118933.5
A40: Profesional Eléctrico | B40: HECTOR YOVANY TULCAN TEPUD | C40: CN250-68406 | D40: 40224 | E40: CUMPLE EL TIEMPO MÍNIMO REQUERIDO DE HABER TERMINADO Y APROBADO ESTUDIOS | F40: INGENIERO ELECTROMECÁNICO | K40: N/A | L40: SECOP ll | P40: 1996 | Q40: 142125
...
