Workbook
Name _: #REF!
Name _: #REF!
Name _: #REF!
Name _: #REF!
Name ___AFC1: [1]INV!$A$25:$D$28
Name ___AFC3: [1]INV!$F$25:$I$28
Name ___AFC5: [1]INV!$K$25:$N$28
Name ___BGC1: [1]INV!$A$5:$D$8
Name ___BGC3: [1]INV!$F$5:$I$8
Name ___BGC5: [1]INV!$K$5:$N$8
Name ___CAC1: [1]INV!$A$19:$D$22
Name ___CAC3: [1]INV!$F$19:$I$22
Name ___CAC5: [1]INV!$K$19:$N$22
Name ___EST1: #REF!
Name ___EST1: #REF!
Name ___EST1: #REF!
Name ___EST1: #REF!
Name ___EST10: #REF!
Name ___EST10: #REF!
Name ___EST10: #REF!
Name ___EST10: #REF!
Name ___EST11: #REF!
Name ___EST11: #REF!
Name ___EST11: #REF!
Name ___EST11: #REF!
Name ___EST12: #REF!
Name ___EST12: #REF!
Name ___EST12: #REF!
Name ___EST12: #REF!
Name ___EST13: #REF!
Name ___EST13: #REF!
Name ___EST13: #REF!
Name ___EST13: #REF!
Name ___EST14: #REF!
Name ___EST14: #REF!
Name ___EST14: #REF!
Name ___EST14: #REF!
Name ___EST15: #REF!
Name ___EST15: #REF!
Name ___EST15: #REF!
Name ___EST15: #REF!
Name ___EST16: #REF!
Name ___EST16: #REF!
Name ___EST16: #REF!
Name ___EST16: #REF!
Name ___EST17: #REF!
Name ___EST17: #REF!
Name ___EST17: #REF!
Name ___EST17: #REF!
Name ___EST18: #REF!
Name ___EST18: #REF!
Name ___EST18: #REF!
Name ___EST18: #REF!
Name ___EST19: #REF!
Name ___EST19: #REF!
Name ___EST19: #REF!
Name ___EST19: #REF!
Name ___EST2: #REF!
Name ___EST2: #REF!
Name ___EST2: #REF!

Sheet Conformación
A1: EMPRESA NACIONAL PROMOTORA DEL DESARROLLO TERRITORIAL – ENTerritorio CLIENTE COMISIÓN RECTORA DEL SISTEMA GENERAL DE REGALIAS (SGR) OBJETO ESTRUCTURACION INTEGRAL DE SOLUCIONES INDIVIDUALES FOTOVOLTAICAS EN VIVIENDA RURAL DISPERSA DE MUNICIPIOS PDET, EN EL MARCO DE LOS LINEAMIENTOS Y REQUISITOS FIJADOS EN EL ACUERDO ÚNICO No. 045 DE 2017 MODIFICADO POR EL ACUERDO 52 DE 2018 EXPEDIDO POR LA COMISIÓN RECTORA DEL SISTEMA GENERAL DE REGALÍAS Y DEMÁS NORMATIVIDAD VIGENTE CONVOCATORIA MERITORIA CME -016-2020 GRUPO 1
A4: No. | B4: NOMBRE DEL OFERENTE | C4: REPRESENTANTE LEGAL | D4: INTEGRANTES | E4: INTEGRANTE 1 | F4: Identificación Int. 1 | G4: % Int. 1 | H4: INTEGRANTE 2 | I4: Identificación Int. 2 | J4: % Int. 2 | K4: INTEGRANTE 3 | L4: Identificación Int. 3 | M4: % Int. 3 | N4: INTEGRANTE 4 | O4: Identificación Int. 4 | P4: % Int. 4 | Q4: INTEGRANTE 5 | R4: Identificación Int. 5 | S4: % Int. 5 | T4: Telefono | U4: FAX | V4: Direccion | W4: Email | X4: Ciudad | Y4: ANTICIPO
A5: 1 | B5: CONSTRUCCIONES Y SOLUCIONES ENERGÉTICAS S.A.S. “CONSENER S.A.S.” | C5: Nubia Stella Castro Molano C.C. 40.421.634 | D5: (CONSTRUCCIONES Y SOLUCIONES ENERGÉTICAS S.A.S. “CONSENER S.A.S.” 100% - 0% - 0%- 0%- 0%) | E5: CONSTRUCCIONES Y SOLUCIONES ENERGÉTICAS S.A.S. “CONSENER S.A.S.” | F5: NIT. 900.804.048-9 | G5: 1 | T5: 310 7862514 | V5: Carrera 29 No. 17-59 F30 | W5: consener.sas@gmail.com | X5: Yopal | Y5: NO INDICA
A6: 2 | B6: SUNCOLOMBIA S.A.S | C6: JUAN DIEGO GÓMEZ ZULUAGA C.C. 80.186.640 | D6: (SUNCOLOMBIA S.A.S 100% - 0% - 0%- 0%- 0%) | E6: SUNCOLOMBIA S.A.S | F6: NIT 900538988-6 | G6: 1 | T6: 3015854351 | V6: carrear 21 # 164 -74 | W6: juridico@suncolombia.com | X6: Bogotá | Y6: NO INDICA
A7: 3 | B7: ARDCO CONSTRUCCIONES S.A.S. | C7: NANCY LUCERO FONSECA BUSTACARA C.C. 51.930.331 | D7: (ARDCO CONSTRUCCIONES S.A.S. 100% - 0% - 0%- 0%- 0%) | E7: ARDCO CONSTRUCCIONES S.A.S. | F7: NIT. 844.000.433-8 | G7: 1 | T7: 3102615914 | V7: Av. Calle 116 No. 71B-14 of.204 | W7: gerencia@ardconstrucciones.com | X7: BOGOTA D.C. | Y7: NO INDICA
A8: 4
A9: 5
A10: 6
A11: 7
A12: 8
A13: 9
A14: 10

Sheet Exp. oferente
A1: EMPRESA NACIONAL PROMOTORA DEL DESARROLLO TERRITORIAL – ENTerritorio CLIENTE COMISIÓN RECTORA DEL SISTEMA GENERAL DE REGALIAS (SGR) OBJETO ESTRUCTURACION INTEGRAL DE SOLUCIONES INDIVIDUALES FOTOVOLTAICAS EN VIVIENDA RURAL DISPERSA DE MUNICIPIOS PDET, EN EL MARCO DE LOS LINEAMIENTOS Y REQUISITOS FIJADOS EN EL ACUERDO ÚNICO No. 045 DE 2017 MODIFICADO POR EL ACUERDO 52 DE 2018 EXPEDIDO POR LA COMISIÓN RECTORA DEL SISTEMA GENERAL DE REGALÍAS Y DEMÁS NORMATIVIDAD VIGENTE CONVOCATORIA MERITORIA CME -016-2020 GRUPO 1
U2: AÑO | V2: SMMLV
A3: EXPERIENCIA TÉCNICA DEL OFERENTE | U3: 1984 | V3: 11298
U4: 1985 | V4: 13557.6
A5: El oferente debe acreditar en su oferta, que cuenta con experiencia específica en: | U5: 1986 | V5: 16811.4
A6: ESTUDIOS Y/O DISEÑO Y/O FORMULACIÓN Y/O ESTRUCTURACIÓN DE: PROYECTOS ENERGÉTICOS EN ZONAS NO INTERCONECTADAS Y/O PROYECTOS ENERGÉTICOS CON PANELES SOLARES. | U6: 1987 | V6: 20509.8
A7: La experiencia deberá ser acreditada con la ejecución de MÁXIMO CINCO (5) CONTRATOS.
A8: Los contratos aportados deben sumar en su conjunto, un valor igual o superior a 0,9 veces el valor del POE, expresado en SMMLV en la fecha de terminación | U8: 1987 | V8: 20509.8
A9: MÍNIMO uno (1) de los contratos aportados, debe ser de INTERVENTORÍA A LA ELABORACIÓN DE ESTUDIOS O DISEÑOS O INVENTARIOS O DIAGNÓSTICOS PARA LA CONSTRUCCIÓN O AMPLIACIÓN O MEJORAMIENTO O REHABILITACIÓN U OPERACIÓN Y MANTENIMIENTO DE: PROYECTOS DE INFRAESTRUCTURA DE TRANSPORTE AÉREO. | U9: 1987 | V9: 20509.8
A10: Mínimo (1) uno de los contratos aportados deberá tener dentro de sus actividades intervenciones en construcción de Boxcoulver. | U10: 1987 | V10: 20509.8
A11: Mínimo (1) uno de los contratos aportados debe ser igual o superior valor al POE expresado en SMLMV en la fecha de terminación | U11: 1987 | V11: 20509.8
U12: 1988 | V12: 25637.4
J13: SMMLV | U13: 1989 | V13: 32559.6
J14: 1668.6581 | U14: 1990 | V14: 41025
H15: presup.of | I15: 1.4647531e+09 | J15: SMMLV | U15: 1991 | V15: 51716.1
H16: SMMLV 2020 | I16: 877803 | J16: 1501.7923 | U16: 1992 | V16: 65190
U17: 1993 | V17: 81510
U18: 1994 | V18: 98700
B19: Oferente | C19: 1 | D19: CONSTRUCCIONES Y SOLUCIONES ENERGÉTICAS S.A.S. “CONSENER S.A.S.” | U19: 1995 | V19: 118933.5
D20: (CONSTRUCCIONES Y SOLUCIONES ENERGÉTICAS S.A.S. “CONSENER S.A.S.” 100% - 0% - 0%- 0%- 0%) | U20: 1996 | V20: 142125
O21: INTEGRANTES | U21: 1997 | V21: 172005
O22: CONSTRUCCIONES Y SOLUCIONES ENERGÉTICAS S.A.S. “CONSENER S.A.S.” | P22: 0 | Q22: 0 | R22: 0 | S22: 0 | U22: 1998 | V22: 203826
A23: No | B23: PROPIETARIO O ENTIDAD CONTRATANTE | C23: APORTADA POR | D23: % en Cto | E23: CONSECUTIVO RUP | F23: OBJETO | G23: Fecha de Terminación | H23: Página | I23: VALOR | J23: SMMLV | K23: OBSERVACIONES | O23: 3879.6171 | P23: 0 | Q23: 0 | R23: 0 | S23: 0 | U23: 1999 | V23: 236460
A24: 1 | B24: EMPRESA DE ENERGÍA LA CEIBA S.A. E.S.P. "EMELCE S.A. E.S.P." | C24: CONSTRUCCIONES Y SOLUCIONES ENERGÉTICAS S.A.S. “CONSENER S.A.S.” | D24: 0.9 | E24: 75 | F24: ContratoNo.018-2016:Apoyoalaconsultoríaparalaelaboracióndeestudiosconsistemasdefuentestantoconvencionalescomonoconvencionalesdeenergía(FNCE)ydeestudiosdeeficienciaenergéticaenlaszonasnointerconectadas(ZNI)delaOrinoquíaylaAmazoníadeColombia | G24: 42669 | H24: SECOP ll | I24: 2972019508 | J24: 3879.6171 | K24: CUMPLE | L24: 1 | O24: 167.84957 | P24: 0 | Q24: 0 | R24: 0 | S24: 0 | U24: 2000 | V24: 260100
A25: 2 | B25: IPSE | C25: CONSTRUCCIONES Y SOLUCIONES ENERGÉTICAS S.A.S. “CONSENER S.A.S.” | D25: 0.3 | E25: 81 | F25: ContratoNo.062-2018:EstructurarproyectosenergéticosorientadosalmejoramientodelainfraestructuradelserviciodeenergíaenlosMunicipiosdeUnguíayAcandí,DepartamentodelChocó,enlasZNIdeColombia | G25: 43584 | H25: SECOP ll | I25: 463329720 | J25: 167.84957 | K25: CUMPLE | L25: 1 | O25: 0 | P25: 0 | Q25: 0 | R25: 0 | S25: 0 | U25: 2001 | V25: 286000
A26: 3 | L26: 1 | O26: 0 | P26: 0 | Q26: 0 | R26: 0 | S26: 0 | U26: 2002 | V26: 309000
A27: 4 | J27: 0 | L27: 1 | O27: 0 | P27: 0 | Q27: 0 | R27: 0 | S27: 0 | U27: 2003 | V27: 332000
A28: 5 | J28: 0 | L28: 1 | O28: 0 | P28: 0 | Q28: 0 | R28: 0 | S28: 0 | U28: 2004 | V28: 358000
A29: 6 | B29: #REF! | F29: #REF! | J29: 0 | L29: 1 | O29: 0 | P29: 0 | Q29: 0 | R29: 0 | S29: 0 | U29: 2005 | V29: 381500
A30: 7 | B30: #REF! | F30: #REF! | J30: 0 | L30: 1 | O30: 0 | P30: 0 | Q30: 0 | R30: 0 | S30: 0 | U30: 2006 | V30: 408000
A31: 8 | B31: #REF! | F31: #REF! | J31: 0 | L31: 1 | O31: 0 | P31: 0 | Q31: 0 | R31: 0 | S31: 0 | U31: 2007 | V31: 433700
A32: 9 | B32: #REF! | F32: #REF! | J32: 0 | L32: 1 | O32: 4047.4667 | P32: 0 | Q32: 0 | R32: 0 | S32: 0 | U32: 2008 | V32: 461500
A33: 10 | B33: #REF! | F33: #REF! | J33: 0 | L33: 1 | U33: 2009 | V33: 496900
I34: TOTAL | J34: 4047.4667 | L34: 10 | U34: 2010 | V34: 515000
B35: NOTA: VERIFICAR QUE LOS CONTRATOS ESTEN EN EL RUP (CUANDO APLIQUE) | J35: CUMPLE | K35: CUMPLE SUMATORIA DE TODOS 0,9 DEL POE | U35: 2011 | V35: 535600
G36: CONSTRUCCIONES Y SOLUCIONES ENERGÉTICAS S.A.S. “CONSENER S.A.S.” | H36: 1 | I36: 4047.4667 | J36: V.Bo. | U36: 2012 | V36: 566700
G37: 0 | H37: 0 | I37: 0 | U37: 2013 | V37: 589500
G38: 0 | H38: 0 | I38: 0 | U38: 2014 | V38: 616000
G39: 0 | H39: 0 | I39: 0 | U39: 2015 | V39: 644350
G40: 0 | H40: 0 | I40: 0 | U40: 2016 | V40: 689454
J41: 0 | U41: 2017 | V41: 737717
U42: 2018 | V42: 781242
B43: Oferente | C43: 2 | D43: SUNCOLOMBIA S.A.S | U43: 2019 | V43: 828116
D44: (SUNCOLOMBIA S.A.S 100% - 0% - 0%- 0%- 0%) | U44: 2020 | V44: 877803
O45: INTEGRANTES
O46: SUNCOLOMBIA S.A.S | P46: 0 | Q46: 0 | R46: 0 | S46: 0
A47: No | B47: PROPIETARIO O ENTIDAD CONTRATANTE | C47: APORTADA POR | D47: % en Cto | E47: CONSECUTIVO RUP | F47: OBJETO | G47: Fecha de Terminación | H47: Página | I47: VALOR | J47: SMMLV | K47: OBSERVACIONES | O47: 1973.8418 | P47: 0 | Q47: 0 | R47: 0 | S47: 0
A48: 1 | B48: Iversiones KINGO Colombia S.A.S | C48: SUNCOLOMBIA S.A.S | D48: 1 | E48: 38 | F48: Realizar la consultoría e implementación ( estudio, diseño y transferencia de tecnología) del proceso de expansión del modelo de negocio Kingo en Colombia. | G48: 43655 | H48: SECOP ll | I48: 1634570000 | J48: 1973.8418 | K48: CUMPLE | L48: 1 | O48: 0 | P48: 0 | Q48: 0 | R48: 0 | S48: 0
A49: 2 | B49: Computadores para Educar | C49: SUNCOLOMBIA S.A.S | D49: 0.5 | E49: 23 | F49: Planeación, diseño, suministro, implementación, puesta en marcha, operación y mantenimiento de soluciones fotovoltaicas | G49: 43096 | H49: SECOP ll | I49: 6705310400 | K49: NO CUMPLE | L49: 1 | O49: 2107.0908 | P49: 0 | Q49: 0 | R49: 0 | S49: 0
A50: 3 | B50: QI HOLDING S.A.S | C50: SUNCOLOMBIA S.A.S | D50: 1 | E50: 25 | F50: contratar la consultoría técnica para obtener la viabilidad de la implementación de un modelo de distribución de sistemas de energía residencia SHS en el marco de un proyecto piloto en el departamento de la Guajira. | G50: 43100 | H50: SECOP ll | I50: 1554436668 | J50: 2107.0908 | K50: CUMPLE | L50: 1 | O50: 0 | P50: 0 | Q50: 0 | R50: 0 | S50: 0
A51: 4 | L51: 1 | O51: 0 | P51: 0 | Q51: 0 | R51: 0 | S51: 0
A52: 5 | J52: 0 | L52: 1 | O52: 0 | P52: 0 | Q52: 0 | R52: 0 | S52: 0
A53: 6 | J53: 0 | L53: 1 | O53: 0 | P53: 0 | Q53: 0 | R53: 0 | S53: 0
A54: 7 | J54: 0 | L54: 1 | O54: 0 | P54: 0 | Q54: 0 | R54: 0 | S54: 0
A55: 8 | J55: 0 | L55: 1 | O55: 0 | P55: 0 | Q55: 0 | R55: 0 | S55: 0
A56: 9 | J56: 0 | L56: 1 | O56: 4080.9326 | P56: 0 | Q56: 0 | R56: 0 | S56: 0
I57: TOTAL | J57: 4080.9326 | L57: 9
J58: CUMPLE | K58: CUMPLE SUMATORIA DE TODOS 0,9 DEL POE
G59: SUNCOLOMBIA S.A.S | H59: 1 | I59: 4080.9326 | J59: V.Bo.
G60: 0 | H60: 0 | I60: 0
G61: 0 | H61: 0 | I61: 0
G62: 0 | H62: 0 | I62: 0
G63: 0 | H63: 0 | I63: 0
J64: 0
B66: Oferente | C66: 3 | D66: ARDCO CONSTRUCCIONES S.A.S.
D67: (ARDCO CONSTRUCCIONES S.A.S. 100% - 0% - 0%- 0%- 0%)
O68: INTEGRANTES
O69: ARDCO CONSTRUCCIONES S.A.S. | P69: 0 | Q69: 0 | R69: 0 | S69: 0
A70: No | B70: PROPIETARIO O ENTIDAD CONTRATANTE | C70: APORTADA POR | D70: % en Cto | E70: CONSECUTIVO RUP | F70: OBJETO | G70: Fecha de Terminación | H70: Página | I70: VALOR | J70: SMMLV | K70: OBSERVACIONES | O70: 2041.2358 | P70: 0 | Q70: 0 | R70: 0 | S70: 0
A71: 1 | B71: INSTITUTO DE PLANEACION Y PROMOCION DE SOLUCIONES ENERGETICAS IPSE | C71: ARDCO CONSTRUCCIONES S.A.S. | D71: 1 | E71: 79 | F71: ESTRUCTURAR PROYECTOS ENERGÉTICOS ORIENTADOS A LA AMPLIACIÓN DE COBERTURA DEL SERVICIO DE ENERGÍA EN DIFERENTES ZNI DE COLOMBIA | G71: 43789 | H71: SECOP ll | I71: 1690380000 | J71: 2041.2358 | K71: CUMPLE | L71: 1 | O71: 0 | P71: 0 | Q71: 0 | R71: 0 | S71: 0
A72: 2 | J72: 0 | L72: 1 | O72: 0 | P72: 0 | Q72: 0 | R72: 0 | S72: 0
A73: 3 | J73: 0 | L73: 1 | O73: 0 | P73: 0 | Q73: 0 | R73: 0 | S73: 0
A74: 4 | J74: 0 | L74: 1 | O74: 0 | P74: 0 | Q74: 0 | R74: 0 | S74: 0
A75: 5 | J75: 0 | L75: 1 | O75: 0 | P75: 0 | Q75: 0 | R75: 0 | S75: 0
A76: 6 | J76: 0 | L76: 1 | O76: 0 | P76: 0 | Q76: 0 | R76: 0 | S76: 0
A77: 7 | J77: 0 | L77: 1 | O77: 0 | P77: 0 | Q77: 0 | R77: 0 | S77: 0
A78: 8 | J78: 0 | L78: 1 | O78: 0 | P78: 0 | Q78: 0 | R78: 0 | S78: 0
A79: 9 | J79: 0 | L79: 1 | O79: 2041.2358 | P79: 0 | Q79: 0 | R79: 0 | S79: 0
J80: 2041.2358 | L80: 9
J81: CUMPLE | K81: CUMPLE SUMATORIA DE TODOS 0,9 DEL POE
G82: ARDCO CONSTRUCCIONES S.A.S. | H82: 1 | I82: 2041.2358 | J82: V.Bo.
G83: 0 | H83: 0 | I83: 0
G84: 0 | H84: 0 | I84: 0
G85: 0 | H85: 0 | I85: 0
G86: 0 | H86: 0 | I86: 0
J87: 0
B89: Oferente | C89: 4 | D89: 0
D90: 0
O91: INTEGRANTES
O92: 0 | P92: 0 | Q92: 0 | R92: 0 | S92: 0
A93: No | B93: PROPIETARIO O ENTIDAD CONTRATANTE | C93: APORTADA POR | D93: % en Cto | E93: CONSECUTIVO RUP | F93: OBJETO | G93: Fecha de Terminación | H93: Página | I93: VALOR | J93: SMMLV | K93: OBSERVACIONES | O93: 0 | P93: 0 | Q93: 0 | R93: 0 | S93: 0
A94: 1 | L94: 1 | O94: 0 | P94: 0 | Q94: 0 | R94: 0 | S94: 0
A95: 2 | L95: 1 | O95: 0 | P95: 0 | Q95: 0 | R95: 0 | S95: 0
A96: 3 | L96: 1 | O96: 0 | P96: 0 | Q96: 0 | R96: 0 | S96: 0
A97: 4 | L97: 1 | O97: 0 | P97: 0 | Q97: 0 | R97: 0 | S97: 0
A98: 5 | J98: 0 | L98: 1 | O98: 0 | P98: 0 | Q98: 0 | R98: 0 | S98: 0
A99: 6 | J99: 0 | L99: 1 | O99: 0 | P99: 0 | Q99: 0 | R99: 0 | S99: 0
A100: 7 | J100: 0 | L100: 1 | O100: 0 | P100: 0 | Q100: 0 | R100: 0 | S100: 0
A101: 8 | J101: 0 | L101: 1 | O101: 0 | P101: 0 | Q101: 0 | R101: 0 | S101: 0
A102: 9 | J102: 0 | L102: 1 | O102: 0 | P102: 0 | Q102: 0 | R102: 0 | S102: 0
...

Sheet Exp. profesionales
A1: EMPRESA NACIONAL PROMOTORA DEL DESARROLLO TERRITORIAL – ENTerritorio CLIENTE COMISIÓN RECTORA DEL SISTEMA GENERAL DE REGALIAS (SGR) OBJETO ESTRUCTURACION INTEGRAL DE SOLUCIONES INDIVIDUALES FOTOVOLTAICAS EN VIVIENDA RURAL DISPERSA DE MUNICIPIOS PDET, EN EL MARCO DE LOS LINEAMIENTOS Y REQUISITOS FIJADOS EN EL ACUERDO ÚNICO No. 045 DE 2017 MODIFICADO POR EL ACUERDO 52 DE 2018 EXPEDIDO POR LA COMISIÓN RECTORA DEL SISTEMA GENERAL DE REGALÍAS Y DEMÁS NORMATIVIDAD VIGENTE CONVOCATORIA MERITORIA CME -016-2020 GRUPO 1 | Q1: 1957 | R1: 155.4
Q2: 1958 | R2: 155.4
Q3: 1959 | R3: 155.4
A4: REQUISITOS MINIMOS - PERSONAL PRINCIPAL REQUERIDO - CUMPLE/ NO CUMPLE | Q4: 1960 | R4: 198
Q5: 1961
A6: CARGO A DESEMPEÑAR | B6: FORMACIÓN ACADÉMICA | C6: TIEMPO MÍNIMO REQUERIDO DE HABER TERMINADO Y APROBADO ESTUDIOS (EN AÑOS) | E6: NUMERO DE PROYECTOS A ACREDITAR | F6: EXPERIENCIA ESPECÍFICA | I6: REQUERIMIENTO PARTICULAR | K6: REQUISITO MINIMO EN SMMLV | Q6: 1962 | R6: 300
A7: Director de Consultoría | B7: "Ingeniero Civil, o Ingeniero Eléctrico o Ingeniero Electricista o Ingeniero Electromecánico o Ingeniero Electrónico o Ingeniero Mecánico o Arquitecto, Con estudios de especialización o Maestría o doctorado en administración de empresas o gerencia de proyectos o gestión de proyectos o diseño y evaluación de proyectos o formulación de proyectos o formulación y evaluación de proyectos o gerencia de construcciones o energías renovables y sostenibilidad energética o administración de Negocios o gerencia de mantenimiento o Ingeniería eléctrica o Finanzas o Gerencia Pública o en sistemas de distribución de energía eléctrica o gerencia integral de proyectos". | C7: 8 | D7: 41062 | E7: 1 | F7: Experiencia específica como director de consultoría o director de proyectos o gerente de proyectos, de máximo cinco (5) contratos que sumados correspondan mínimo a 0.5 veces el presupuesto oficial del grupo al que se presente la oferta expresado en SMMLV a la fecha de terminación de la ejecución y que cada uno de los contratos aportados contemple dentro de su alcance la elaboración de estudios y/o diseños para proyectos de energía. | I7: máximo cinco (5) contratos que sumados correspondan mínimo a 0.5 veces el presupuesto oficial del grupo al que se presente la oferta | K7: 834.32905 | Q7: 1963 | R7: 420
Q8: 1964 | R8: 420
Q9: 1965 | R9: 420
Q10: 1966 | R10: 420
Q11: 1967 | R11: 420
Q12: 1968 | R12: 420
Q13: 1969 | R13: 519
Q14: 1970 | R14: 519
Q15: 1971 | R15: 519
Q16: 1972 | R16: 660
Q17: 1973 | R17: 660
Q18: 1974 | R18: 900
A19: OFERENTE | B19: 1 | C19: CONSTRUCCIONES Y SOLUCIONES ENERGÉTICAS S.A.S. “CONSENER S.A.S.” | Q19: 1975 | R19: 1200
C20: (CONSTRUCCIONES Y SOLUCIONES ENERGÉTICAS S.A.S. “CONSENER S.A.S.” 100% - 0% - 0%- 0%- 0%) | Q20: 1976 | R20: 1560
Q21: 1977 | R21: 1770
Q22: 1978 | R22: 2580
A23: CARGO | B23: NOMBRE | C23: TARJETA PROFESIONAL | D23: FECHA EXPEDICIÓN | F23: PROFESION | G23: POSGRADO | H23: OBJETO | I23: FECHA TERMINACIÓN PROYECTO | J23: VALOR | K23: SMMLV | L23: REQUERIMIENTO PARTICULAR QUE ACREDITA | M23: PÁGINA | N23: OBSERVACIONES | Q23: 1979 | R23: 3450
A24: Director de Consultoría | B24: JOHN JAIRO CORREA GARCÉS | C24: 05205-11294 | D24: 30466 | E24: CUMPLE EL TIEMPO MÍNIMO REQUERIDO DE HABER TERMINADO Y APROBADO ESTUDIOS | F24: INGENIERO ELECTRICISTA | G24: ESPECIALISTA EN ADMINISTRACIÓN DE EMPRESAS | H24: Gerente de la Oficina de Energía Eléctrica Municipal | I24: 31047 | J24: NO INDICA | L24: N/A | N24: NO CUMPLE No se evidencia la fecha de terminación no se evidencia elaboración de estudios y diseño para proyectos de energía | Q24: 1980 | R24: 4500
H25: Gerente de las Empresas Públicas de Caucasia | I25: 32237 | J25: NO INDICA | L25: N/A | N25: NO CUMPLE No se evidencia la fecha de terminación no se evidencia elaboración de estudios y diseño para proyectos de energía | Q25: 1981 | R25: 5700
H26: ContratoN°001-2-2005:Elmontajeydotaciónde17unidadesfotovoltaicasenlasviviendasruralesveredaNormandía, sector La Busaca, municipio de Tauramenta, departamento de Casanare | I26: 38428 | J26: 88255738 | L26: N/A | N26: NO CUMPLE NO SE VE LA FECHA DE TERMINACIÓN PERO SE VE EL PLAZO Y LA FECHA DE INICIO EN EL ACTA DE LIQUIDACIÓN POR ESO SE PRESUME LA FECHA INDICADA EN EL FORMATO POR EL OFERENTE NO CUMPLE CON LA EXPERIENCIA SOLICITADA POR QUE NO SE VE EXPERIENCIA EN ELABORACIÓN DE ESTUDIOS Y DISEÑOS PARA PROYECTOS DE ENERGÍA NO SE EVIDENCIA QUE FUERA EL DIRECTOR O GERENTE DEL PROYECTO PERO FIGURA COMO CONTRATISTA, PREGUNTAR SI APLICA | Q26: 1982 | R26: 7410
H27: ContratoN°031-2005:Construccióndesistemasgeneradoresdeenergíafotovoltaicapara83viviendasruralesen el municipio de Paz de Ariporo, departamento de Casanare | I27: 38822 | J27: 436018087 | L27: N/A | N27: NO CUMPLE NO CUMPLE CON LA EXPERIENCIA SOLICITADA POR QUE NO SE VE EXPERIENCIA EN ELABORACIÓN DE ESTUDIOS Y DISEÑOS PARA PROYECTOS DE ENERGÍA NO SE EVIDENCIA QUE FUERA EL DIRECTOR O GERENTE DEL PROYECTO PERO FIGURA COMO CONTRATISTA, PREGUNTAR SI APLICA | Q27: 1983 | R27: 9261
H28: Contratodeconsultoría018-2016:Apoyoalaconsultoríadelconvenio095-2015IPSE-EMELCEparalaelaboracióndeestudiosconsistemasdefuentestantoconvencionalescomonoconvencionalesdeenergía(FNCE)ydeestudiosdeeficienciaenergéticaenlaszonasnointerconectadas(ZNI)delaOrinoquíaylaAmazoníadeColombiaValor: $ 2.972.709.508 = 4310.68 SMMLV | I28: 42669 | J28: 2972019508 | K28: 4310.3981 | L28: N/A | M28: SECOP ll | N28: CUMPLE
H29: ContratoN°012-2006:DotacióneimplementacióndeenergíafotovoltaicaendiversasveredasdelosmunicipiosdeYopal,Nunchía,Támara,Monterrey,Maní,Trinidad,HatoCorozal,Tauramenta,PazdeAriporodel departamento de Casanare | I29: 39118 | J29: 1437787384 | L29: N/A | N29: NO CUMPLE NO CUMPLE CON LA EXPERIENCIA SOLICITADA POR QUE NO SE VE EXPERIENCIA EN ELABORACIÓN DE ESTUDIOS Y DISEÑOS PARA PROYECTOS DE ENERGÍA | Q29: 1984 | R29: 11298
H30: TOTAL | K30: 4310.3981 | N30: CUMPLE | Q30: 1985 | R30: 13557
Q31: 1986 | R31: 16811.4
Q32: 1987 | R32: 20510
A33: OFERENTE | B33: 2 | C33: SUNCOLOMBIA S.A.S | Q33: 1988 | R33: 25637.4
C34: (SUNCOLOMBIA S.A.S 100% - 0% - 0%- 0%- 0%) | Q34: 1989 | R34: 32559.6
Q35: 1990 | R35: 41025
A36: CARGO | B36: NOMBRE | C36: TARJETA PROFESIONAL | D36: FECHA EXPEDICIÓN | F36: PROFESION | G36: POSGRADO | H36: OBJETO | I36: FECHA TERMINACIÓN PROYECTO | J36: VALOR | K36: SMMLV | L36: REQUERIMIENTO PARTICULAR QUE ACREDITA | M36: PÁGINA | N36: OBSERVACIONES | Q36: 1991 | R36: 51716.1
A37: Director de Consultoría | B37: WILLLIAM ANTONIO BARCO BRAVO | C37: CN250-50394 | D37: 39030 | E37: CUMPLE EL TIEMPO MÍNIMO REQUERIDO DE HABER TERMINADO Y APROBADO ESTUDIOS | F37: INGENIERO ELECTRÓMECANICO | G37: ESPECIALISTA EN GERENCIA DE PROYECTOS | H37: Planeación, diseño, suministro, implementación, puesta en marcha, operación y mantenimiento de soluciones fotovoltaicas | I37: 43096 | J37: NO SE EVIDENCIÓ | L37: cumple | M37: SECOP ll | N37: NO CUMPLE | Q37: 1992 | R37: 65190
K38: 0 | L38: 0 | Q38: 1993 | R38: 81510
K39: 0 | L39: 0 | Q39: 1994 | R39: 98700
K40: 0 | L40: 0 | Q40: 1995 | R40: 118933.5
K41: 0 | L41: 0 | Q41: 1996 | R41: 142125
H42: TOTAL | K42: 0 | N42: NO CUMPLE | Q42: 1997 | R42: 172005
Q43: 1998 | R43: 203826
Q44: 1999 | R44: 236460
A45: OFERENTE | B45: 3 | C45: ARDCO CONSTRUCCIONES S.A.S. | Q45: 2000 | R45: 260100
C46: (ARDCO CONSTRUCCIONES S.A.S. 100% - 0% - 0%- 0%- 0%) | Q46: 2001 | R46: 286000
Q47: 2002 | R47: 309000
A48: CARGO | B48: NOMBRE | C48: TARJETA PROFESIONAL | D48: FECHA EXPEDICIÓN | F48: PROFESION | G48: POSGRADO | H48: OBJETO | I48: FECHA TERMINACIÓN PROYECTO | J48: VALOR | K48: SMMLV | L48: REQUERIMIENTO PARTICULAR QUE ACREDITA | M48: PÁGINA | N48: OBSERVACIONES | Q48: 2003 | R48: 332000
A49: Director de Consultoría | B49: Adán de Jesús Bautista Morantes | C49: CN205-5516 | D49: 34192 | E49: CUMPLE EL TIEMPO MÍNIMO REQUERIDO DE HABER TERMINADO Y APROBADO ESTUDIOS | F49: Ingeniero electricista, | G49: magíster en ingeniería área ingeniería eléctrica, especialista en automatización industrial | H49: “Estructuración de proyectos con fuentes no convencionales de energía FNCE- para las localidades de las zonas no interconectadas". IPSE-042-2018 ($1.690.380.000) | I49: 43789 | J49: 1690380000 | K49: 2041.2358 | L49: cumple | M49: SECOP ll | N49: CUMPLE | Q49: 2004 | R49: 358000
K50: 0 | L50: 0 | Q50: 2005 | R50: 381500
K51: 0 | L51: 0 | Q51: 2006 | R51: 408000
K52: 0 | L52: 0 | Q52: 2007 | R52: 433700
K53: 0 | L53: 0 | Q53: 2008 | R53: 461500
H54: TOTAL | K54: 2041.2358 | N54: CUMPLE | Q54: 2009 | R54: 496900
Q55: 2010 | R55: 515000
Q56: 2011 | R56: 535600
A57: OFERENTE | B57: 4 | C57: 0 | Q57: 2012 | R57: 566700
C58: 0 | Q58: 2013 | R58: 581900
Q59: 2014 | R59: 616000
A60: CARGO | B60: NOMBRE | C60: TARJETA PROFESIONAL | D60: FECHA EXPEDICIÓN | F60: PROFESION | G60: POSGRADO | H60: OBJETO | I60: FECHA TERMINACIÓN PROYECTO | J60: VALOR | K60: SMMLV | L60: REQUERIMIENTO PARTICULAR QUE ACREDITA | M60: PÁGINA | N60: OBSERVACIONES | Q60: 2015 | R60: 644350
A61: Director de Consultoría | E61: 0 | K61: 0 | L61: 0 | Q61: 2016 | R61: 689500
K62: 0 | L62: 0 | Q62: 2017 | R62: 737717
K63: 0 | L63: 0 | Q63: 2018 | R63: 781242
K64: 0 | L64: 0 | Q64: 2019 | R64: 828116
K65: 0 | L65: 0 | Q65: 2020 | R65: 877803
H66: TOTAL | K66: 0
A69: OFERENTE | B69: 5 | C69: 0
C70: 0
A72: CARGO | B72: NOMBRE | C72: TARJETA PROFESIONAL | D72: FECHA EXPEDICIÓN | F72: PROFESION | G72: POSGRADO | H72: OBJETO | I72: FECHA TERMINACIÓN PROYECTO | J72: VALOR | K72: SMMLV | L72: REQUERIMIENTO PARTICULAR QUE ACREDITA | M72: PÁGINA | N72: OBSERVACIONES
A73: Director de Consultoría | E73: 0 | K73: 0 | L73: 0
K74: 0 | L74: 0
K75: 0 | L75: 0
K76: 0 | L76: 0
K77: 0 | L77: 0
H78: TOTAL | K78: 0

Sheet Exp. profesionales (2)
A1: =+#REF! -> #REF! | P1: 1957 | Q1: 155.4
P2: 1958 | Q2: 155.4
P3: 1959 | Q3: 155.4
A4: REQUISITOS MINIMOS - PERSONAL PRINCIPAL REQUERIDO - CUMPLE/ NO CUMPLE | P4: 1960 | Q4: 198
P5: 1961
A6: CARGO A DESEMPEÑAR | B6: FORMACIÓN ACADÉMICA | C6: TIEMPO MÍNIMO REQUERIDO DE HABER TERMINADO Y APROBADO ESTUDIOS (EN AÑOS) | E6: NUMERO DE PROYECTOS A ACREDITAR | F6: EXPERIENCIA ESPECÍFICA | H6: REQUERIMIENTO PARTICULAR | J6: REQUISITO MINIMO EN SMMLV | K6: REQUISITO MINIMO EN AÑOS | P6: 1962 | Q6: 300
A7: Profesional Eléctrico | B7: Ingeniero Eléctrico o Electricista o Electromecánico. | C7: 8 | D7: 41062 | E7: 1 | F7: Acreditar experiencia en mínimo un (1) contrato como diseñador y/o estructurador de soluciones fotovoltaicas y/o paneles solares y/o sistemas alternativos de generación de energía eléctrica y/o con fuentes no convencionales de energía. | H7: N/A | J7: 0 | K7: 0 | P7: 1963 | Q7: 420
P8: 1964 | Q8: 420
P9: 1965 | Q9: 420
P10: 1966 | Q10: 420
P11: 1967 | Q11: 420
P12: 1968 | Q12: 420
P13: 1969 | Q13: 519
P14: 1970 | Q14: 519
P15: 1971 | Q15: 519
P16: 1972 | Q16: 660
P17: 1973 | Q17: 660
P18: 1974 | Q18: 900
P19: 1975 | Q19: 1200
P20: 1976 | Q20: 1560
A21: OFERENTE | B21: 1 | C21: =VLOOKUP(B21,Conformación!$A$5:$S$129,2,FALSE) -> CONSTRUCCIONES Y SOLUCIONES ENERGÉTICAS S.A.S. “CONSENER S.A.S.” | P21: 1977 | Q21: 1770
C22: =VLOOKUP(B21,Conformación!$A$5:$S$129,4,FALSE) -> (CONSTRUCCIONES Y SOLUCIONES ENERGÉTICAS S.A.S. “CONSENER S.A.S.” 100% - 0% - 0%- 0%- 0%) | P22: 1978 | Q22: 2580
P23: 1979 | Q23: 3450
P24: 1980 | Q24: 4500
A25: CARGO | B25: NOMBRE | C25: TARJETA PROFESIONAL | D25: FECHA EXPEDICIÓN | F25: PROFESION | G25: OBJETO | H25: FECHA TERMINACIÓN CONTRATO | I25: VALOR | J25: SMMLV | K25: REQUERIMIENTO PARTICULAR QUE ACREDITA | L25: FOLIO | M25: OBSERVACIONES | P25: 1981 | Q25: 5700
A26: =A7 -> Profesional Eléctrico | B26: OSCAR LEONARDO RINCÓN PULIDO | C26: CN205-29279 | D26: 36013 | E26: =IF(D26=0,0,IF(D26<D$7,"CUMPLE EL TIEMPO MÍNIMO REQUERIDO DE HABER TERMINADO Y APROBADO ESTUDIOS","NO CUMPLE EL TIEMPO MÍNIMO REQUERIDO DE HABER TERMINADO Y APROBADO ESTUDIOS")) -> CUMPLE EL TIEMPO MÍNIMO REQUERIDO DE HABER TERMINADO Y APROBADO ESTUDIOS | F26: INGENIERO ELECTRICISTA | G26: Contrato No. 155-2017: Apoyo a la consultoría de asistencia técnica para la estructuración de proyectos energéticos orientados a la reducción de combustibles fósiles en el Departamento del Guainía: Valor: $ 320.496.750 | H26: 43236 | I26: 320496750 | J26: =IF(I26=0,0,IF(H26<D$26,"EXPERIENCIA ADQUIRIDA ANTES DEL GRADO",I26/VLOOKUP(YEAR(H26),$P$1:$Q$64,2,0))) -> 410.24004 | K26: N/A | L26: SECOP ll | M26: CUMPLE | P26: 1982 | Q26: 7410
J27: =IF(I27=0,0,IF(H27<D$26,"EXPERIENCIA ADQUIRIDA ANTES DEL GRADO",I27/VLOOKUP(YEAR(H27),$P$1:$Q$64,2,0))) -> 0 | P27: 1983 | Q27: 9261
J28: =IF(I28=0,0,IF(H28<D$26,"EXPERIENCIA ADQUIRIDA ANTES DEL GRADO",I28/VLOOKUP(YEAR(H28),$P$1:$Q$64,2,0))) -> 0 | P28: 1984 | Q28: 11298
J29: =IF(I29=0,0,IF(H29<D$26,"EXPERIENCIA ADQUIRIDA ANTES DEL GRADO",I29/VLOOKUP(YEAR(H29),$P$1:$Q$64,2,0))) -> 0 | P29: 1985 | Q29: 13557
J30: =IF(I30=0,0,IF(H30<D$26,"EXPERIENCIA ADQUIRIDA ANTES DEL GRADO",I30/VLOOKUP(YEAR(H30),$P$1:$Q$64,2,0))) -> 0 | P30: 1986 | Q30: 16811.4
J31: =IF(I31=0,0,IF(H31<D$26,"EXPERIENCIA ADQUIRIDA ANTES DEL GRADO",I31/VLOOKUP(YEAR(H31),$P$1:$Q$64,2,0))) -> 0 | P31: 1987 | Q31: 20510
J32: =IF(I32=0,0,IF(H32<D$26,"EXPERIENCIA ADQUIRIDA ANTES DEL GRADO",I32/VLOOKUP(YEAR(H32),$P$1:$Q$64,2,0))) -> 0 | P32: 1988 | Q32: 25637.4
J33: =SUM(J26:J32) -> 410.24004 | M33: CUMPLE | P33: 1989 | Q33: 32559.6
P34: 1990 | Q34: 41025
P35: 1991 | Q35: 51716.1
A36: OFERENTE | B36: 2 | C36: =VLOOKUP(B36,Conformación!$A$5:$S$129,2,FALSE) -> SUNCOLOMBIA S.A.S | P36: 1992 | Q36: 65190
C37: =VLOOKUP(B36,Conformación!$A$5:$S$129,4,FALSE) -> (SUNCOLOMBIA S.A.S 100% - 0% - 0%- 0%- 0%) | P37: 1993 | Q37: 81510
P38: 1994 | Q38: 98700
A39: CARGO | B39: NOMBRE | C39: TARJETA PROFESIONAL | D39: FECHA EXPEDICIÓN | F39: PROFESION | G39: OBJETO | H39: FECHA TERMINACIÓN CONTRATO | I39: VALOR | J39: SMMLV | K39: REQUERIMIENTO PARTICULAR QUE ACREDITA | L39: FOLIO | M39: OBSERVACIONES | P39: 1995 | Q39: 118933.5
A40: =A7 -> Profesional Eléctrico | B40: HECTOR YOVANY TULCAN TEPUD | C40: CN250-68406 | D40: 40224 | E40: =IF(D40=0,0,IF(D40<D$7,"CUMPLE EL TIEMPO MÍNIMO REQUERIDO DE HABER TERMINADO Y APROBADO ESTUDIOS","NO CUMPLE EL TIEMPO MÍNIMO REQUERIDO DE HABER TERMINADO Y APROBADO ESTUDIOS")) -> CUMPLE EL TIEMPO MÍNIMO REQUERIDO DE HABER TERMINADO Y APROBADO ESTUDIOS | F40: INGENIERO ELECTROMECÁNICO | G40: Cargo de ingeniero de desarrollo, realizando actividades de diseño eléctrico, dimensionamiento óptimo de soluciones energéticas, utilizando energía solar fotovoltaica e híbridas además del estudio y cumplimiento de la normativa RETIE. | H40: 43955 | I40: NO SE EVIDENCIÓ | K40: N/A | L40: SECOP ll | M40: NO CUMPLE | P40: 1996 | Q40: 142125
J41: =IF(I41=0,0,IF(H41<D$26,"EXPERIENCIA ADQUIRIDA ANTES DEL GRADO",I41/VLOOKUP(YEAR(H41),$P$1:$Q$64,2,0))) -> 0 | P41: 1997 | Q41: 172005
J42: =IF(I42=0,0,IF(H42<D$26,"EXPERIENCIA ADQUIRIDA ANTES DEL GRADO",I42/VLOOKUP(YEAR(H42),$P$1:$Q$64,2,0))) -> 0 | P42: 1998 | Q42: 203826
J43: =IF(I43=0,0,IF(H43<D$26,"EXPERIENCIA ADQUIRIDA ANTES DEL GRADO",I43/VLOOKUP(YEAR(H43),$P$1:$Q$64,2,0))) -> 0 | P43: 1999 | Q43: 236460
J44: =IF(I44=0,0,IF(H44<D$26,"EXPERIENCIA ADQUIRIDA ANTES DEL GRADO",I44/VLOOKUP(YEAR(H44),$P$1:$Q$64,2,0))) -> 0 | P44: 2000 | Q44: 260100
J45: =IF(I45=0,0,IF(H45<D$26,"EXPERIENCIA ADQUIRIDA ANTES DEL GRADO",I45/VLOOKUP(YEAR(H45),$P$1:$Q$64,2,0))) -> 0 | P45: 2001 | Q45: 286000
J46: =IF(I46=0,0,IF(H46<D$26,"EXPERIENCIA ADQUIRIDA ANTES DEL GRADO",I46/VLOOKUP(YEAR(H46),$P$1:$Q$64,2,0))) -> 0 | P46: 2002 | Q46: 309000
J47: =SUM(J40:J46) -> 0 | M47: NO CUMPLE | P47: 2003 | Q47: 332000
P48: 2004 | Q48: 358000
P49: 2005 | Q49: 381500
P50: 2006 | Q50: 408000
A51: OFERENTE | B51: 3 | C51: =VLOOKUP(B51,Conformación!$A$5:$S$129,2,FALSE) -> ARDCO CONSTRUCCIONES S.A.S. | P51: 2007 | Q51: 433700
C52: =VLOOKUP(B51,Conformación!$A$5:$S$129,4,FALSE) -> (ARDCO CONSTRUCCIONES S.A.S. 100% - 0% - 0%- 0%- 0%) | P52: 2008 | Q52: 461500
P53: 2009 | Q53: 496900
A54: CARGO | B54: NOMBRE | C54: TARJETA PROFESIONAL | D54: FECHA EXPEDICIÓN | F54: PROFESION | G54: OBJETO | H54: FECHA TERMINACIÓN CONTRATO | I54: VALOR | J54: SMMLV | K54: REQUERIMIENTO PARTICULAR QUE ACREDITA | L54: FOLIO | M54: OBSERVACIONES | P54: 2010 | Q54: 515000
A55: =A7 -> Profesional Eléctrico | B55: Marlon Dennis Rodriguez Lizcano | C55: CN250-36043 | D55: 37518 | E55: =IF(D55=0,0,IF(D55<D$7,"CUMPLE EL TIEMPO MÍNIMO REQUERIDO DE HABER TERMINADO Y APROBADO ESTUDIOS","NO CUMPLE EL TIEMPO MÍNIMO REQUERIDO DE HABER TERMINADO Y APROBADO ESTUDIOS")) -> CUMPLE EL TIEMPO MÍNIMO REQUERIDO DE HABER TERMINADO Y APROBADO ESTUDIOS | F55: Ingeniero electromecánico, especialista en gerencia en mantenimiento | G55: CONTRATO 200-2015 PRESTACION DE SERVICIOS PROFESIONALES EN CONSULTORIA PARA LA REALIZACION DE ESTUDIO TECNICO Y FINANCIRO CORRESPONDIENTE AL DISEÑO DE UN PROYECTO PARA LA CONSTRUCCION DE SISTEMAS DE ENERGIA SOLAR FOTOVOLTAICA EN 38 VEREDAS LOCALIZADAS EN EL MUNICIPIO DE SAN JOSE DEL GUAVIARE-GUAVIARE | H55: 42419 | I55: 61200000 | J55: =IF(I55=0,0,IF(H55<D$26,"EXPERIENCIA ADQUIRIDA ANTES DEL GRADO",I55/VLOOKUP(YEAR(H55),$P$1:$Q$64,2,0))) -> 88.759971 | K55: N/A | L55: SECOP ll | M55: CUMPLE | P55: 2011 | Q55: 535600
J56: =IF(I56=0,0,IF(H56<D$26,"EXPERIENCIA ADQUIRIDA ANTES DEL GRADO",I56/VLOOKUP(YEAR(H56),$P$1:$Q$64,2,0))) -> 0 | P56: 2012 | Q56: 566700
J57: =IF(I57=0,0,IF(H57<D$26,"EXPERIENCIA ADQUIRIDA ANTES DEL GRADO",I57/VLOOKUP(YEAR(H57),$P$1:$Q$64,2,0))) -> 0 | P57: 2013 | Q57: 581900
J58: =IF(I58=0,0,IF(H58<D$26,"EXPERIENCIA ADQUIRIDA ANTES DEL GRADO",I58/VLOOKUP(YEAR(H58),$P$1:$Q$64,2,0))) -> 0 | P58: 2014 | Q58: 616000
J59: =IF(I59=0,0,IF(H59<D$26,"EXPERIENCIA ADQUIRIDA ANTES DEL GRADO",I59/VLOOKUP(YEAR(H59),$P$1:$Q$64,2,0))) -> 0 | P59: 2015 | Q59: 644350
J60: =IF(I60=0,0,IF(H60<D$26,"EXPERIENCIA ADQUIRIDA ANTES DEL GRADO",I60/VLOOKUP(YEAR(H60),$P$1:$Q$64,2,0))) -> 0 | P60: 2016 | Q60: 689500
J61: =IF(I61=0,0,IF(H61<D$26,"EXPERIENCIA ADQUIRIDA ANTES DEL GRADO",I61/VLOOKUP(YEAR(H61),$P$1:$Q$64,2,0))) -> 0 | P61: 2017 | Q61: 737717
J62: =SUM(J55:J61) -> 88.759971 | P62: 2018 | Q62: 781242
P63: 2019 | Q63: 828116
P64: 2020 | Q64: 877803
A65: OFERENTE | B65: 4 | C65: =VLOOKUP(B65,Conformación!$A$5:$S$129,2,FALSE) -> 0
C66: =VLOOKUP(B65,Conformación!$A$5:$S$129,4,FALSE) -> 0
A68: CARGO | B68: NOMBRE | C68: TARJETA PROFESIONAL | D68: FECHA EXPEDICIÓN | F68: PROFESION | G68: OBJETO | H68: FECHA TERMINACIÓN CONTRATO | I68: VALOR | J68: SMMLV | K68: REQUERIMIENTO PARTICULAR QUE ACREDITA | L68: N/A | M68: OBSERVACIONES
A83: OFERENTE | B83: 5 | C83: =VLOOKUP(B83,Conformación!$A$5:$S$129,2,FALSE) -> 0
C84: =VLOOKUP(B83,Conformación!$A$5:$S$129,4,FALSE) -> 0
A86: CARGO | B86: NOMBRE | C86: TARJETA PROFESIONAL | D86: FECHA EXPEDICIÓN | F86: PROFESION | G86: OBJETO | H86: FECHA TERMINACIÓN CONTRATO | I86: VALOR | J86: SMMLV | K86: REQUERIMIENTO PARTICULAR QUE ACREDITA | L86: N/A | M86: OBSERVACIONES

Sheet Exp. oferente ADICIONAL
A1: EMPRESA NACIONAL PROMOTORA DEL DESARROLLO TERRITORIAL – ENTerritorio CLIENTE COMISIÓN RECTORA DEL SISTEMA GENERAL DE REGALIAS (SGR) OBJETO ESTRUCTURACION INTEGRAL DE SOLUCIONES INDIVIDUALES FOTOVOLTAICAS EN VIVIENDA RURAL DISPERSA DE MUNICIPIOS PDET, EN EL MARCO DE LOS LINEAMIENTOS Y REQUISITOS FIJADOS EN EL ACUERDO ÚNICO No. 045 DE 2017 MODIFICADO POR EL ACUERDO 52 DE 2018 EXPEDIDO POR LA COMISIÓN RECTORA DEL SISTEMA GENERAL DE REGALÍAS Y DEMÁS NORMATIVIDAD VIGENTE CONVOCATORIA MERITORIA CME -016-2020 GRUPO 1
U2: AÑO | V2: SMMLV
A3: EXPERIENCIA ADICIONAL TÉCNICA DEL OFERENTE | U3: 1984 | V3: 11298
U4: 1985 | V4: 13557.6
A5: El oferente debe acreditar en su oferta, que cuenta con experiencia específica ADICIONAL en: | U5: 1986 | V5: 16811.4
A6: FORMULACIÓN O ESTRUCTURACIÓN O DISEÑO DE PROYECTOS ENERGÉTICOS EN ZONAS NO INTERCONECTADAS | U6: 1987 | V6: 20509.8
I7: PUNTAJE | J7: SMMLV | U7: 1988 | V7: 25637.4
A8: Entre 1 y 3 contratos en FORMULACIÓN O ESTRUCTURACIÓN O DISEÑO DE PROYECTOS ENERGÉTICOS EN ZONAS NO INTERCONECTADAS, cuya sumatoria sea igual o mayor a cero punto cinco (0.5) vez el POE expresado en SMMLV a la fecha de su terminación. | I8: 20 | J8: 0.5 | K8: 0.75 | U8: 1989 | V8: 32559.6
J9: 1090.1591 | K9: 1635.2387 | U9: 1990 | V9: 41025
A10: Entre 1 y 3 contratos en FORMULACIÓN O ESTRUCTURACIÓN O DISEÑO DE PROYECTOS ENERGÉTICOS EN ZONAS NO INTERCONECTADAS, cuya sumatoria sea igual o mayor a cero punto setenta y cinco (0.75) veces el POE expresado en SMMLV a la fecha de su terminación. | I10: 30 | J10: 0.75 | K10: 1 | U10: 1991 | V10: 51716.1
J11: 1635.2387 | K11: 2180.3182 | U11: 1992 | V11: 65190
A12: Entre 1 y 3 contratos FORMULACIÓN O ESTRUCTURACIÓN O DISEÑO DE PROYECTOS ENERGÉTICOS EN ZONAS NO INTERCONECTADAS, cuya sumatoria sea igual o mayor a una (1.0) vez el POE expresado en SMMLV a la fecha de su terminación. | I12: 50 | J12: 1 | U12: 1993 | V12: 81510
J13: 2180.3182 | U13: 1994 | V13: 98700
B16: Oferente | C16: 1 | D16: CONSTRUCCIONES Y SOLUCIONES ENERGÉTICAS S.A.S. “CONSENER S.A.S.” | U16: 1995 | V16: 118933.5
D17: (CONSTRUCCIONES Y SOLUCIONES ENERGÉTICAS S.A.S. “CONSENER S.A.S.” 100% - 0% - 0%- 0%- 0%) | U17: 1996 | V17: 142125
O18: INTEGRANTES | U18: 1997 | V18: 172005
O19: 0 | P19: 0 | Q19: 0 | R19: 0 | S19: 0 | U19: 1998 | V19: 203826
A20: No | B20: PROPIETARIO O ENTIDAD CONTRATANTE | C20: APORTADA POR | D20: % en Cto | E20: CONSECUTIVO RUP | F20: OBJETO | G20: Fecha de Terminación | H20: Página | I20: VALOR | J20: SMMLV | K20: CALIFICACION | O20: 0 | P20: 0 | Q20: 0 | R20: 0 | S20: 0 | U20: 1999 | V20: 236460
A21: 1 | B21: ZNI URIBIA - ALTA GUAJIRA | C21: CONSTRUCCIONES Y SOLUCIONES ENERGÉTICAS S.A.S. “CONSENER S.A.S.” | D21: 1 | E21: 79 | F21: ContratoNo.065-2017:EstructuracióndeproyectosenergéticosorientadosalareposicióndeinfraestructuradelserviciodeenergíaenlasZNI de Uribia - Alta Guajira | G21: 43126 | H21: SECOP ll | I21: 176865723 | J21: 226.39044 | K21: CUMPLE | O21: 0 | P21: 0 | Q21: 0 | R21: 0 | S21: 0 | U21: 2000 | V21: 260100
A22: 2 | B22: ZNI GUAINÍA | C22: CONSTRUCCIONES Y SOLUCIONES ENERGÉTICAS S.A.S. “CONSENER S.A.S.” | D22: 1 | E22: 80 | F22: ContratoNo.155-2017:Apoyoalaconsultoríadeasistenciatécnicaparalaestructuracióndeproyectosenergéticosorientadosalareduccióndecombustibles fósiles en el Departamento del Guainía | G22: 43277 | H22: SECOP ll | I22: 320496750 | K22: NO CUMPLE | O22: 0 | P22: 0 | Q22: 0 | R22: 0 | S22: 0 | U22: 2001 | V22: 286000
A23: 3 | B23: ZNI REGIÓN AMAZONÍA | C23: CONSTRUCCIONES Y SOLUCIONES ENERGÉTICAS S.A.S. “CONSENER S.A.S.” | D23: 1 | E23: 86 | F23: ContratoNo.038-2019:Formulación,estructuraciónydiseñodeproyectosenergéticossosteniblesparalaampliacióndelacoberturaenlas localidades de las zonas no interconectadas - Región Amazonía | G23: 43823 | H23: SECOP ll | I23: 1609870640 | J23: 1944.0159 | K23: CUMPLE | O23: 0 | P23: 0 | Q23: 0 | R23: 0 | S23: 0 | U23: 2002 | V23: 309000
A24: 4 | J24: 0 | O24: 0 | P24: 0 | Q24: 0 | R24: 0 | S24: 0 | U24: 2003 | V24: 332000
A25: 5 | J25: 0 | O25: #REF! | P25: #REF! | Q25: #REF! | R25: #REF! | S25: #REF! | U25: 2004 | V25: 358000
I26: TOTAL | J26: 2170.4063 | K26: 30 PUNTOS | U26: 2005 | V26: 381500
B27: NOTA: VERIFICAR QUE LOS CONTRATOS ESTEN EN EL RUP (CUANDO APLIQUE) | I27: CUMPLE | U27: 2006 | V27: 408000
U28: 2007 | V28: 433700
U29: 2008 | V29: 461500
U30: 2009 | V30: 496900
U31: 2010 | V31: 515000
U32: 2011 | V32: 535600
U33: 2012 | V33: 566700
U34: 2013 | V34: 589500
B35: Oferente | C35: 2 | D35: SUNCOLOMBIA S.A.S | U35: 2014 | V35: 616000
D36: (SUNCOLOMBIA S.A.S 100% - 0% - 0%- 0%- 0%) | U36: 2015 | V36: 644350
O37: INTEGRANTES | U37: 2016 | V37: 689454
O38: 0 | P38: 0 | Q38: 0 | R38: 0 | S38: 0 | U38: 2017 | V38: 737717
A39: No | B39: PROPIETARIO O ENTIDAD CONTRATANTE | C39: APORTADA POR | D39: % en Cto | E39: CONSECUTIVO RUP | F39: OBJETO | G39: Fecha de Terminación | H39: Página | I39: VALOR | J39: SMMLV | K39: CALIFICACION | O39: 0 | P39: 0 | Q39: 0 | R39: 0 | S39: 0 | U39: 2018 | V39: 781242
A40: 1 | J40: 0 | O40: 0 | P40: 0 | Q40: 0 | R40: 0 | S40: 0 | U40: 2019 | V40: 828116
A41: 2 | J41: 0 | O41: 0 | P41: 0 | Q41: 0 | R41: 0 | S41: 0 | U41: 2020 | V41: 877803
A42: 3 | J42: 0 | O42: 0 | P42: 0 | Q42: 0 | R42: 0 | S42: 0
A43: 4 | J43: 0 | O43: 0 | P43: 0 | Q43: 0 | R43: 0 | S43: 0
A44: 5 | J44: 0 | O44: #REF! | P44: #REF! | Q44: #REF! | R44: #REF! | S44: #REF!
I45: TOTAL | J45: 0 | K45: 0
I46: NO CUMPLE
B54: Oferente | C54: 3 | D54: ARDCO CONSTRUCCIONES S.A.S.
D55: (ARDCO CONSTRUCCIONES S.A.S. 100% - 0% - 0%- 0%- 0%)
O56: INTEGRANTES
O57: 0 | P57: #REF! | Q57: #REF! | R57: #REF! | S57: #REF!
A58: No | B58: PROPIETARIO O ENTIDAD CONTRATANTE | C58: APORTADA POR | D58: % en Cto | E58: CONSECUTIVO RUP | F58: OBJETO | G58: Fecha de Terminación | H58: Página | I58: VALOR | J58: SMMLV | K58: CALIFICACION | O58: 0 | P58: #REF! | Q58: #REF! | R58: #REF! | S58: #REF!
A59: 1 | B59: INSTITUTO DE PLANEACION Y PROMOCION DE SOLUCIONES ENERGETICAS IPSE | C59: ARDCO CONSTRUCCIONES S.A.S. | D59: 1 | E59: 67 | F59: "ESTRUCTURACIÓN DE PROYECTOS CON FUENTES NO CONVENCIONALES DE ENERGÍA -FNCE- PARA LAS LOCALIDADES DE LAS ZONAS NO INTERCONECTADAS" | G59: 42415 | H59: SECOP ll | I59: 436000000 | J59: 632.38447 | K59: CUMPLE | O59: 0 | P59: #REF! | Q59: #REF! | R59: #REF! | S59: #REF!
A60: 2 | B60: GOBERNACIÓN DE CÓRDOBA | C60: ARDCO CONSTRUCCIONES S.A.S. | D60: 1 | E60: 70 | F60: FORMULACIÓN DEL PLAN DE ELECTRIFICACIÓN RURAL CONSISTENTE EN IDENTIFICACIÓN, DISEÑO Y ESTRUCTURACIÓN DE PROYECTOS EN EL CORTO Y MEDIANO PLAZO PARA EL DEPARTAMENTO DE CÓRDOBA | G60: 42720 | H60: SECOP ll | I60: 487919053 | J60: 707.68906 | K60: CUMPLE | O60: 0 | P60: #REF! | Q60: #REF! | R60: #REF! | S60: #REF!
A61: 3 | J61: 0 | O61: 0 | P61: #REF! | Q61: #REF! | R61: #REF! | S61: #REF!
A62: 4 | J62: 0 | O62: 0 | P62: #REF! | Q62: #REF! | R62: #REF! | S62: #REF!
A63: 5 | J63: 0 | O63: #REF! | P63: #REF! | Q63: #REF! | R63: #REF! | S63: #REF!
I64: TOTAL | J64: 1340.0735 | K64: 20 puntos
I65: CUMPLE
B68: Oferente | C68: 4 | D68: 0
D69: 0
O70: INTEGRANTES
O71: 0 | P71: #REF! | Q71: #REF! | R71: #REF! | S71: #REF!
A72: No | B72: PROPIETARIO O ENTIDAD CONTRATANTE | C72: APORTADA POR | D72: % en Cto | E72: CONSECUTIVO RUP | F72: OBJETO | G72: Fecha de Terminación | H72: Página | I72: VALOR | J72: SMMLV | K72: CALIFICACION | O72: 0 | P72: #REF! | Q72: #REF! | R72: #REF! | S72: #REF!
A73: 1 | J73: 0 | O73: 0 | P73: #REF! | Q73: #REF! | R73: #REF! | S73: #REF!
A74: 2 | J74: 0 | O74: 0 | P74: #REF! | Q74: #REF! | R74: #REF! | S74: #REF!
A75: 3 | J75: 0 | O75: 0 | P75: #REF! | Q75: #REF! | R75: #REF! | S75: #REF!
A76: 4 | J76: 0 | O76: 0 | P76: #REF! | Q76: #REF! | R76: #REF! | S76: #REF!
A77: 5 | J77: 0 | O77: #REF! | P77: #REF! | Q77: #REF! | R77: #REF! | S77: #REF!
I78: TOTAL | J78: 0 | K78: 0
I79: NO CUMPLE
B81: Oferente | C81: 5 | D81: 0
D82: 0
O83: INTEGRANTES
O84: 0 | P84: 0 | Q84: 0 | R84: 0 | S84: 0
A85: No | B85: PROPIETARIO O ENTIDAD CONTRATANTE | C85: APORTADA POR | D85: % en Cto | E85: CONSECUTIVO RUP | F85: OBJETO | G85: Fecha de Terminación | H85: Página | I85: VALOR | J85: SMMLV | K85: CALIFICACION | O85: 0 | P85: 0 | Q85: 0 | R85: 0 | S85: 0
A86: 1 | J86: 0 | O86: 0 | P86: 0 | Q86: 0 | R86: 0 | S86: 0
A87: 2 | J87: 0 | O87: 0 | P87: 0 | Q87: 0 | R87: 0 | S87: 0
A88: 3 | J88: 0 | O88: 0 | P88: 0 | Q88: 0 | R88: 0 | S88: 0
A89: 4 | J89: 0 | O89: 0 | P89: 0 | Q89: 0 | R89: 0 | S89: 0
A90: 5 | J90: 0 | O90: #REF! | P90: #REF! | Q90: #REF! | R90: #REF! | S90: #REF!
I91: TOTAL | J91: 0 | K91: 0
I92: NO CUMPLE
F114: 96534900
D116: 0.2228 | E116: 0.2228 | F116: 21507976
D117: 0.03 | E117: 0.03 | F117: 2896047
D118: 0.05 | E118: 0.05 | F118: 4826745
F119: 1.2576567e+08
F121: 1.2576567e+08

Sheet Exp. profesionales ADICIONAL
A1: EMPRESA NACIONAL PROMOTORA DEL DESARROLLO TERRITORIAL – ENTerritorio CLIENTE COMISIÓN RECTORA DEL SISTEMA GENERAL DE REGALIAS (SGR) OBJETO ESTRUCTURACION INTEGRAL DE SOLUCIONES INDIVIDUALES FOTOVOLTAICAS EN VIVIENDA RURAL DISPERSA DE MUNICIPIOS PDET, EN EL MARCO DE LOS LINEAMIENTOS Y REQUISITOS FIJADOS EN EL ACUERDO ÚNICO No. 045 DE 2017 MODIFICADO POR EL ACUERDO 52 DE 2018 EXPEDIDO POR LA COMISIÓN RECTORA DEL SISTEMA GENERAL DE REGALÍAS Y DEMÁS NORMATIVIDAD VIGENTE CONVOCATORIA MERITORIA CME -016-2020 GRUPO 1 | L1: 1957 | M1: 155.4
L2: 1958 | M2: 155.4
L3: 1959 | M3: 155.4
A4: EXPERIENCIA ADICIONAL PERSONAL PRINCIPAL REQUERIDO | L4: 1960 | M4: 198
L5: 1961
A6: CARGO A DESEMPEÑAR | B6: EXPERIENCIA ESPECÍFICA | D6: NUMERO DE PROYECTOS | F6: PUNTAJE | G6: SMMLV | L6: 1962 | M6: 300
A7: Director de Consultoría | B7: Experiencia específica como director de consultoría o director de proyectos o gerente de proyectos, de máximo cinco (5) contratos que sumados correspondan mínimo a 0.5 veces el presupuesto oficial del grupo al que se presente la oferta expresado en SMMLV a la fecha de terminación de la ejecución y que cada uno de los contratos aportados contemple dentro de su alcance la elaboración de estudios y/o diseños para proyectos de energía. | D7: Entre 1 y 2 proyectos adicionales a los indicados en el numeral 6.3.2. del presente documento como director de consultoría contemplen dentro de su alcance la elaboración de estudios y/o diseños para proyectos energía | F7: 10 | G7: 0 | L7: 1963 | M7: 420
L8: 1964 | M8: 420
D9: Entre 3 y 4 Proyectos adicionales a los indicados en el numeral 6.3.2. del presente documento como director de consultoría contemplen dentro de su alcance la elaboración de estudios y/o diseños para proyectos energía | F9: 20 | G9: 0 | L9: 1965 | M9: 420
L10: 1966 | M10: 420
D11: Entre 5 y 6 Proyectos adicionales a los indicados en el numeral 6.3.2. del presente documento como director de consultoría contemplen dentro de su alcance la elaboración de estudios y/o diseños para proyectos energía | F11: 25 | G11: 0 | L11: 1967 | M11: 420
L12: 1968 | M12: 420
L13: 1969 | M13: 519
L14: 1970 | M14: 519
A15: OFERENTE | B15: 1 | C15: CONSTRUCCIONES Y SOLUCIONES ENERGÉTICAS S.A.S. “CONSENER S.A.S.” | L15: 1971 | M15: 519
C16: (CONSTRUCCIONES Y SOLUCIONES ENERGÉTICAS S.A.S. “CONSENER S.A.S.” 100% - 0% - 0%- 0%- 0%) | L16: 1972 | M16: 660
L17: 1973 | M17: 660
A18: CARGO | B18: NOMBRE | C18: OBJETO | D18: FECHA TERMINACIÓN PROYECTO | E18: VALOR | F18: SMMLV | G18: REQUERIMIENTO PARTICULAR QUE ACREDITA | H18: PÁGINA | I18: OBSERVACIONES | L18: 1974 | M18: 900
A19: Director de Consultoría | B19: JOHN JAIRO CORREA GARCÉS | C19: ContratoNo.065-2017:EstructuracióndeproyectosenergéticosorientadosalareposicióndeinfraestructuradelserviciodeenergíaenlasZNIdeUribia-AltaGuajiraValor: $ 176.865.723: Ampliación de Sistema Solar Fotovoltaico Centralizado Híbrido en las Localidades Nazareth y Puerto Estrella, Municipio de Uribia, Guajira = 108 KW | D19: 43126 | E19: 176865723 | F19: 226.39044 | G19: N/A | H19: SECOP ll | I19: NO CUMPLE | L19: 1975 | M19: 1200
C20: Sistema Solar Fotovoltaico Individual en las Localidades del Caño Bocón, Municipio de Inírida, Guainía = 136.96 KW | D20: 43277 | E20: 320496750 | F20: 410.24004 | G20: N/A | H20: SECOP ll | I20: NO CUMPLE | L20: 1976 | M20: 1560
C21: Sistema Solar Fotovoltaico Individual en las Localidades del Río Inírida, Municipio de Inírida, Guainía = 138.88 KW | D21: 43277 | G21: N/A | H21: SECOP ll | I21: NO CUMPLE | L21: 1977 | M21: 1770
C22: Sistema Solar Fotovoltaico Individual en las Localidades del Río Inírida, Corregimiento Morichal, Guainía = 92.80 KW | D22: 43277 | G22: N/A | H22: SECOP ll | I22: NO CUMPLE | L22: 1978 | M22: 2580
C23: Sistema Solar Fotovoltaico Individual en las Localidades del Río Guainía, Corregimiento Puerto Colombia, Guainía = 236.80 KW | D23: 43277 | G23: N/A | H23: SECOP ll | I23: NO CUMPLE | L23: 1979 | M23: 3450
C24: Sistema Solar Fotovoltaico Individual en las Localidades del Río Guainía, Corregimientos Puerto Colombia, San Felipe y La Guadalupe, Guainía = 191.68 KW | D24: 43277 | G24: N/A | H24: SECOP ll | I24: NO CUMPLE | L24: 1980 | M24: 4500
F25: 0 | L25: 1981 | M25: 5700
C26: TOTAL | F26: 636.63048 | G26: cumple | I26: 0 PUNTOS | L26: 1982 | M26: 7410
L27: 1983 | M27: 9261
A28: OFERENTE | B28: 2 | C28: SUNCOLOMBIA S.A.S | L28: 1984 | M28: 11298
C29: (SUNCOLOMBIA S.A.S 100% - 0% - 0%- 0%- 0%) | L29: 1985 | M29: 13557
L30: 1986 | M30: 16811.4
A31: CARGO | B31: NOMBRE | C31: OBJETO | D31: FECHA TERMINACIÓN PROYECTO | E31: VALOR | F31: SMMLV | G31: REQUERIMIENTO PARTICULAR QUE ACREDITA | H31: PÁGINA | I31: OBSERVACIONES | L31: 1987 | M31: 20510
A32: Director de Consultoría | B32: WILLLIAM ANTONIO BARCO BRAVO | F32: 0 | L32: 1988 | M32: 25637.4
F33: 0 | L33: 1989 | M33: 32559.6
F34: 0 | L34: 1990 | M34: 41025.1
F35: 0 | L35: 1991 | M35: 51720
F36: 0 | L36: 1992 | M36: 65190
F37: 0 | L37: 1993 | M37: 81510
F38: 0 | L38: 1994 | M38: 98700
C39: TOTAL | F39: 0 | G39: 0 | L39: 1995 | M39: 118933.5
L40: 1996 | M40: 142125
A41: OFERENTE | B41: 3 | C41: ARDCO CONSTRUCCIONES S.A.S. | L41: 1997 | M41: 172005
C42: (ARDCO CONSTRUCCIONES S.A.S. 100% - 0% - 0%- 0%- 0%) | L42: 1998 | M42: 203826
L43: 1999 | M43: 236460
A44: CARGO | B44: NOMBRE | C44: OBJETO | D44: FECHA TERMINACIÓN PROYECTO | E44: VALOR | F44: SMMLV | G44: REQUERIMIENTO PARTICULAR QUE ACREDITA | H44: PÁGINA | I44: OBSERVACIONES | L44: 2000 | M44: 260100
A45: Director de Consultoría | B45: Adán de Jesús Bautista Morantes | C45: DISEÑO ELECTRIFICACIÓN DE LA PLANTA DE TRATAMIENTO DEL SUR EN LA VEREDA LAGUNITA DE CUÍTIVA. COOSERVICIOS 20030303 | D45: 37995 | E45: 19000000 | F45: 53.072626 | G45: N/A | H45: SECOP ll Coservicio contrato No. 5 pag 1 | I45: CUMPLE | L45: 2001 | M45: 286000
C46: ESTUDIOS ELÉCTRICOS DE LAS VEREDAS CEIBA CHIQUITA, BALCONES, CULMA Y SAN MIGUEL SECTORES NAZARETH Y LA VICTORIA DEL MUNICIPIO DE SANTA MARÍA. JPC 204-19 | D46: 38560 | E46: 17193600 | F46: 45.068414 | G46: N/A | H46: SECOP ll certificación EBSA pag 1 y certificación de JPC pag 1 | I46: CUMPLE | L46: 2002 | M46: 309000
C47: ESTUDIOS AMPLIACIÓN REDES MUNICIPIO DE SAN LUIS DE GACENO. JPC 20053191MC | D47: 38716 | E47: 15900000 | F47: 41.677588 | G47: N/A | H47: SECOP ll certificación EBSA pag 1 y certificación de JPC pag 1 | I47: CUMPLE | L47: 2003 | M47: 332000
C48: ESTUDIOS AMPLIACIÓN REDES MUNICIPIO DE RAMIRIQUÍ. JPC 2006298 | D48: 39079 | E48: 19241650 | F48: 47.160907 | G48: N/A | H48: SECOP ll certificación EBSA pag 1 y certificación de JPC pag 1 | I48: CUMPLE | L48: 2004 | M48: 358000
C49: ESTUDIO Y DISEÑO PARA LA AMPLIACIÓN ELECTRIFICACIÓN RURAL VEREDAS VARIAS DEL MUNICIPIO DE UMBITA JPC 2006133 | D49: 39055 | E49: 18960750 | F49: 46.472426 | G49: N/A | H49: SECOP ll certificación EBSA pag 1 y certificación de JPC pag 1 | I49: CUMPLE | L49: 2005 | M49: 381500
C50: ESTUDIO Y DISEÑO PROGRAMA DE NORMALIZACIÓN DE REDES ELÉCTRICAS TRENZADAS-PRONE SECTOR URBANO MUNICIPIO DE PUERTO BOYACÁ. JPC 20073585MC | D50: 39426 | E50: 15804000 | F50: 36.439935 | G50: N/A | H50: SECOP ll certificación EBSA pag 1 y certificación de JPC pag 1 | I50: CUMPLE | L50: 2006 | M50: 408000
F51: 0 | H51: SECOP ll certificación EBSA pag 1 y certificación de JPC pag 3 | L51: 2007 | M51: 433700
C52: TOTAL | F52: 269.8919 | G52: cumple | I52: 25 Puntos | L52: 2008 | M52: 461500
L53: 2009 | M53: 496900
L54: 2010 | M54: 515000
A55: OFERENTE | B55: 4 | C55: 0 | L55: 2011 | M55: 535600
C56: 0 | L56: 2012 | M56: 566700
L57: 2013 | M57: 581900
A58: CARGO | B58: NOMBRE | C58: OBJETO | D58: FECHA TERMINACIÓN PROYECTO | E58: VALOR | F58: SMMLV | G58: REQUERIMIENTO PARTICULAR QUE ACREDITA | H58: PÁGINA | I58: OBSERVACIONES | L58: 2014 | M58: 616000
A59: Director de Consultoría | B59: 0 | F59: 0 | L59: 2015 | M59: 644350
F60: 0 | L60: 2016 | M60: 689500
F61: 0 | L61: 2017 | M61: 717737
F62: 0 | L62: 2018 | M62: 781242
F63: 0 | L63: 2019 | M63: 828116
F64: 0 | L64: 2020 | M64: 877803
F65: 0
C66: TOTAL | F66: 0 | G66: 0
A69: OFERENTE | B69: 5 | C69: 0
C70: 0
A72: CARGO | B72: NOMBRE | C72: OBJETO | D72: FECHA TERMINACIÓN PROYECTO | E72: VALOR | F72: SMMLV | G72: REQUERIMIENTO PARTICULAR QUE ACREDITA | H72: PÁGINA | I72: OBSERVACIONES
A73: Director de Consultoría | B73: 0 | F73: 0
F74: 0
F75: 0
F76: 0
F77: 0
F78: 0
F79: 0
C80: TOTAL | F80: 0 | G80: 0

Sheet Exp. profesionales (2) ADICIONA
A1: EMPRESA NACIONAL PROMOTORA DEL DESARROLLO TERRITORIAL – ENTerritorio CLIENTE COMISIÓN RECTORA DEL SISTEMA GENERAL DE REGALIAS (SGR) OBJETO ESTRUCTURACION INTEGRAL DE SOLUCIONES INDIVIDUALES FOTOVOLTAICAS EN VIVIENDA RURAL DISPERSA DE MUNICIPIOS PDET, EN EL MARCO DE LOS LINEAMIENTOS Y REQUISITOS FIJADOS EN EL ACUERDO ÚNICO No. 045 DE 2017 MODIFICADO POR EL ACUERDO 52 DE 2018 EXPEDIDO POR LA COMISIÓN RECTORA DEL SISTEMA GENERAL DE REGALÍAS Y DEMÁS NORMATIVIDAD VIGENTE CONVOCATORIA MERITORIA CME -016-2020 GRUPO 1 | P1: 1957 | Q1: 155.4
P2: 1958 | Q2: 155.4
P3: 1959 | Q3: 155.4
A4: REQUISITOS MINIMOS - PERSONAL PRINCIPAL REQUERIDO - CUMPLE/ NO CUMPLE | P4: 1960 | Q4: 198
P5: 1961
A6: CARGO A DESEMPEÑAR | B6: FORMACIÓN ACADÉMICA | C6: TIEMPO MÍNIMO REQUERIDO DE HABER TERMINADO Y APROBADO ESTUDIOS (EN AÑOS) | E6: NUMERO DE PROYECTOS A ACREDITAR | F6: EXPERIENCIA ESPECÍFICA | H6: REQUERIMIENTO PARTICULAR | J6: REQUISITO MINIMO EN SMMLV | K6: REQUISITO MINIMO EN AÑOS | P6: 1962 | Q6: 300
A7: Profesional Eléctrico | B7: Ingeniero Eléctrico o Electricista o Electromecánico. | C7: 8 | D7: 41062 | E7: 1 | F7: Acreditar experiencia en mínimo un (1) contrato como diseñador y/o estructurador de soluciones fotovoltaicas y/o paneles solares y/o sistemas alternativos de generación de energía eléctrica y/o con fuentes no convencionales de energía. | H7: N/A | J7: 0 | K7: 0 | P7: 1963 | Q7: 420
P8: 1964 | Q8: 420
P9: 1965 | Q9: 420
P10: 1966 | Q10: 420
P11: 1967 | Q11: 420
A12: CARGO A DESEMPEÑAR | B12: EXPERIENCIA ESPECÍFICA | D12: NUMERO DE PROYECTOS | F12: PUNTAJE | G12: SMMLV | P12: 1968 | Q12: 420
A13: Profesional Eléctrico | B13: Acreditar experiencia como diseñador y/o estructurador de soluciones fotovoltaicas y/o paneles solares y/o sistemas alternativos de generación de energía eléctrica y/o con fuentes no convencionales de energía. | D13: Entre 1 y 2 contratos adicionales a los indicados en el numeral 6.3.2. del presente documento donde se haya realizado actividades como diseñador y/o estructurador de soluciones fotovoltaicas y/o paneles solares y/o sistemas alternativos de generación de energía eléctrica y/o con fuentes no convencionales de energía. | F13: 5 | G13: 0 | P13: 1969 | Q13: 519
P14: 1970 | Q14: 519
D15: Entre 3 y 4 Proyectos adicionales a los indicados en el numeral 6.3.2. del presente documento donde se haya realizado actividades como diseñador y/o estructurador de soluciones fotovoltaicas y/o paneles solares y/o sistemas alternativos de generación de energía eléctrica y/o con fuentes no convencionales de energía. | F15: 10 | G15: 0 | P15: 1971 | Q15: 519
P16: 1972 | Q16: 660
D17: Entre 5 y 6 Proyectos adicionales a los indicados en el numeral 6.3.2. del presente documento donde se haya realizado actividades como diseñador y/o estructurador de soluciones fotovoltaicas y/o paneles solares y/o sistemas alternativos de generación de energía eléctrica y/o con fuentes no convencionales de energía. | F17: 15 | G17: 0 | P17: 1973 | Q17: 660
P18: 1974 | Q18: 900
P19: 1975 | Q19: 1200
P20: 1976 | Q20: 1560
A21: OFERENTE | B21: 1 | C21: CONSTRUCCIONES Y SOLUCIONES ENERGÉTICAS S.A.S. “CONSENER S.A.S.” | P21: 1977 | Q21: 1770
C22: (CONSTRUCCIONES Y SOLUCIONES ENERGÉTICAS S.A.S. “CONSENER S.A.S.” 100% - 0% - 0%- 0%- 0%) | P22: 1978 | Q22: 2580
P23: 1979 | Q23: 3450
P24: 1980 | Q24: 4500
A25: CARGO | B25: NOMBRE | C25: TARJETA PROFESIONAL | D25: FECHA EXPEDICIÓN | F25: PROFESION | G25: OBJETO | H25: FECHA TERMINACIÓN CONTRATO | I25: VALOR | J25: SMMLV | K25: REQUERIMIENTO PARTICULAR QUE ACREDITA | L25: FOLIO | M25: OBSERVACIONES | P25: 1981 | Q25: 5700
A26: Profesional Eléctrico | B26: OSCAR LEONARDO RINCÓN PULIDO | C26: CN205-29279 | D26: 36013 | E26: CUMPLE EL TIEMPO MÍNIMO REQUERIDO DE HABER TERMINADO Y APROBADO ESTUDIOS | F26: INGENIERO ELECTRICISTA | G26: Sistemas Solares Fotovoltaicos Individuales Municipio El Retorno, Guaviare = 51.06 KW | H26: 43823 | I26: 1609870640 | J26: 1944.0159 | K26: N/A | L26: SECOP ll | M26: CUMPLE | P26: 1982 | Q26: 7410
G27: Sistemas Solares Fotovoltaicos Individuales Municipio Calamar, Guaviare = 60.68 KW | K27: N/A | L27: SECOP ll | M27: CUMPLE | P27: 1983 | Q27: 9261
G28: Sistemas Solares Fotovoltaicos Individuales Municipio San Vicente del Caguán, Caquetá = 564.62 KW | K28: N/A | L28: SECOP ll | M28: CUMPLE | P28: 1984 | Q28: 11298
G29: Sistemas Solares Fotovoltaicos Individuales Municipio Puerto Rico, Caquetá = 223.48 KW | K29: N/A | L29: SECOP ll | M29: CUMPLE | P29: 1985 | Q29: 13557
G30: Sistemas Solares Fotovoltaicos Individuales Municipio San José del Fragua, Caquetá = 74.00 KW | K30: N/A | L30: SECOP ll | M30: CUMPLE | P30: 1986 | Q30: 16811.4
G31: Sistemas Solares Fotovoltaicos Individuales Municipio Cartagena del Chairá, Caquetá = 827.32 KW | K31: N/A | L31: SECOP ll | M31: CUMPLE | P31: 1987 | Q31: 20510
J32: 0 | P32: 1988 | Q32: 25637.4
J33: 1944.0159 | M33: 15 PUNTOS | P33: 1989 | Q33: 32559.6
P34: 1990 | Q34: 41025
P35: 1991 | Q35: 51716.1
A36: OFERENTE | B36: 2 | C36: SUNCOLOMBIA S.A.S | P36: 1992 | Q36: 65190
C37: (SUNCOLOMBIA S.A.S 100% - 0% - 0%- 0%- 0%) | P37: 1993 | Q37: 81510
P38: 1994 | Q38: 98700
A39: CARGO | B39: NOMBRE | C39: TARJETA PROFESIONAL | D39: FECHA EXPEDICIÓN | F39: PROFESION | G39: OBJETO | H39: FECHA TERMINACIÓN CONTRATO | I39: VALOR | J39: SMMLV | K39: REQUERIMIENTO PARTICULAR QUE ACREDITA | L39: FOLIO | M39: OBSERVACIONES | P39: 1995 | Q39: 118933.5
A40: Profesional Eléctrico | B40: HECTOR YOVANY TULCAN TEPUD | C40: CN250-68406 | D40: 40224 | E40: CUMPLE EL TIEMPO MÍNIMO REQUERIDO DE HABER TERMINADO Y APROBADO ESTUDIOS | F40: INGENIERO ELECTROMECÁNICO | K40: N/A | L40: SECOP ll | P40: 1996 | Q40: 142125
J41: 0 | P41: 1997 | Q41: 172005
J42: 0 | P42: 1998 | Q42: 203826
J43: 0 | P43: 1999 | Q43: 236460
J44: 0 | P44: 2000 | Q44: 260100
J45: 0 | P45: 2001 | Q45: 286000
J46: 0 | P46: 2002 | Q46: 309000
J47: 0 | P47: 2003 | Q47: 332000
P48: 2004 | Q48: 358000
P49: 2005 | Q49: 381500
P50: 2006 | Q50: 408000
A51: OFERENTE | B51: 3 | C51: ARDCO CONSTRUCCIONES S.A.S. | P51: 2007 | Q51: 433700
C52: (ARDCO CONSTRUCCIONES S.A.S. 100% - 0% - 0%- 0%- 0%) | P52: 2008 | Q52: 461500
P53: 2009 | Q53: 496900
A54: CARGO | B54: NOMBRE | C54: TARJETA PROFESIONAL | D54: FECHA EXPEDICIÓN | F54: PROFESION | G54: OBJETO | H54: FECHA TERMINACIÓN CONTRATO | I54: VALOR | J54: SMMLV | K54: REQUERIMIENTO PARTICULAR QUE ACREDITA | L54: FOLIO | M54: OBSERVACIONES | P54: 2010 | Q54: 515000
A55: Profesional Eléctrico | B55: Marlon Dennis Rodriguez Lizcano | C55: CN250-36043 | D55: 37518 | E55: CUMPLE EL TIEMPO MÍNIMO REQUERIDO DE HABER TERMINADO Y APROBADO ESTUDIOS | F55: Ingeniero electromecánico, especialista en gerencia en mantenimiento | G55: CONTRATO PS-071-07/2015: Estructurar con fuentes no convencionales de energía FNCE- para las zonas no interconectadas, dando cumplimiento a los documentos establecidos en el contrato de Prestación de Servicios Profesionales suscrito entre el IPSE y ARDCO Construcciones S.A.S No. 071-2015. Proyecto: "CONSTRUCCION, SUMINISTRO, MONTAJE Y PUESTA EN FUNCIONAMIENTO DE UN SISTEMA DE GENERACION DE ELECTRICIDAD CON FUENTES NO CONVENCIONALES DE ENERGIA: SISTEMA HIBRIDO SOLAR-DIESEL PARALA LOCALIDAD DE TOMACHIPAN, MUNICIPIO DE SAN JOSE DEL GUAVIARE, DEPARTAMENTO DEL GUAVIARE" | H55: 42365 | I55: 436000000 | J55: 676.65089 | K55: N/A | L55: SECOP ll - EQIPO DE TRABAJO 1 Y 4 - GRUPO 1 MARLON Rodríguez - calificable - carpetas 1 | M55: CUMPLE | P55: 2011 | Q55: 535600
K56: N/A | L56: SECOP ll - EQIPO DE TRABAJO 1 Y 4 - GRUPO 1 MARLON Rodríguez - calificable - carpetas 1,2 y 4 | M56: CUMPLE | P56: 2012 | Q56: 566700
K57: N/A | L57: SECOP ll - EQIPO DE TRABAJO 1 Y 4 - GRUPO 1 MARLON Rodríguez - calificable - carpetas 1,2 y 5 | M57: CUMPLE | P57: 2013 | Q57: 581900
K58: N/A | L58: SECOP ll - EQIPO DE TRABAJO 1 Y 4 - GRUPO 1 MARLON Rodríguez - calificable - carpetas 1,2 y 6 | M58: CUMPLE | P58: 2014 | Q58: 616000
K59: N/A | L59: SECOP ll - EQIPO DE TRABAJO 1 Y 4 - GRUPO 1 MARLON Rodríguez - calificable - carpetas 1,2 y 7 | M59: CUMPLE | P59: 2015 | Q59: 644350
G60: CONTRATO PS-071-11/2015: Estructurar con fuentes no convencionales de energía FNCE- para las zonas no interconectadas, dando cumplimiento a los documentos establecidos en el contrato de Prestación de Servicios Profesionales suscrito entre el IPSE y ARDCO Construcciones S.A.S No. 071-2015. Proyecto: "CONSTRUCCION, SUMINISTRO, MONTAJE Y PUESTA EN FUNCIONAMIENTO DE SISTEMAS DE GENERACION DE ELECTRICIDAD CON FUENTES NO CONVENCIONALES DE ENERGIA, CON SISTEMAS HIBRIDOS SOLAR-DIESEL PARA LAS LOCALIDADES DE SANTA FE DEL CAGUAN, SARDINATA Y MONSERRATE DEL MUNICIPIO DE CARTAGENA DEL CHAIRA, DEPARTAMENTO DEL CAQUETÁ" | H60: 42348 | K60: N/A | L60: SECOP ll - EQIPO DE TRABAJO 1 Y 4 - GRUPO 1 MARLON Rodríguez - calificable - carpetas 2 | M60: CUMPLE
G61: CONTRATO PS-071-19/2015: Estructurar con fuentes no convencionales de energía FNCE- para las zonas no interconectadas, dando cumplimiento a los documentos establecidos en el contrato de Prestación de Servicios Profesionales suscrito entre el IPSE y ARDCO Construcciones S.A.S No. 071-2015. Proyecto: “SUMINISTRO, MONTAJE Y PUESTA EN FUNCIÓNAMIENTO DE SISTEMAS DE GENERACIÓN DE ELECTRICIDAD CON BASE EN SISTEMAS HÍBRIDOS SOLAR-DIESEL EN LA LOCALIDAD DE MIRAFLORES, MUNICIPIO DE MIRAFLORES, DEPARTAMENTO DEL GUAVIARE” | H61: 42386 | K61: N/A | L61: SECOP ll - EQIPO DE TRABAJO 1 Y 4 - GRUPO 1 MARLON Rodríguez - calificable - carpetas 3 | M61: CUMPLE
G62: CONTRATO 042-007-2018- Levantantamiento de información, diseño y estructuración de proyectos con fuentes no convencionales de energía -FNCE- en las localidades de 1. BOCAS DE CUMARE 2. PUERTO SANTANDER 3. CAÑO GUARACU 4. VUELTA DEL ALIVIO 5. LAGOS DEL PASO 6. CAÑO TACUNEMA 7. PUERTO VIEJO LA ATAWA 8. PUERTO LAGRIMAS 9. LOS MEDIOS 10. LAGOS DEL DORADO 11. PUERTO NARE 12. PIÑALITO 13. LAS FLORES 14. LAS BRISAS 15. CAÑO CUMBRE 16. LAS PALMAS II 17. CAÑO TIGRE 18. LA GIRIZA 19. PUERTO CORDOBA 20. BARRANQUILLITA 21. CAÑO ITILLA 22. LA YE 23. MATEGUADUA BAJA 24. MATEGUADUA ALTA 25. LA HACIENDA 26. CAÑO ARCO 27. ALTO CAÑO IRIS 28. BUENOS AIRES 29. CAÑO MAGIÑA 30. LA MILAGROSA 31. LA GUARAPA 32. LA ESPERANZA 33. YAVILLA CENTRO 34. YARUMAL 35. CAÑO GUARUMO y Resguardos indígenas 1. LAGOS DE JAMAICURU 2. VUELTA DEL ALIVIO 3. REMANSO 4. BOCAS DE BUENOS AIRES 5. LAGOS DEL PASO 6. LAGOS DEL DORADO 7. YAVILLA II 8. PUERTO NARE 9. PUERTO MONFORTH 9. PUERTO LA PALMA 10. TUCAN CAÑO GIRIZA 11. BARRANQUILLITA 12. PUERTO VIEJO 13. PUERTO ESPERANZA 14. CENTRO MIRAFLORES del municipio de Miraflores del departamento de Guaviare | H62: 43439 | I62: 1690380000 | J62: 2163.7086 | K62: N/A | L62: SECOP ll - EQIPO DE TRABAJO 1 Y 4 - GRUPO 1 MARLON Rodríguez - calificable - carpetas 4 | M62: CUMPLE
G63: CONT 042-008-2018-Levantantamiento de información, diseño y estructuración de proyectos con fuentes no convencionales de energía -FNCE- Para la comunidad indígena San Luis Grupo Étnico Korebaju en el municipio de Milán Departamento del Caquetá. | H63: 43487 | K63: N/A | L63: SECOP ll - EQIPO DE TRABAJO 1 Y 4 - GRUPO 1 MARLON Rodríguez - calificable - carpetas 5 | M63: CUMPLE
G64: CONT 042-010-2018-Levantantamiento de información, diseño y estructuración de proyectos con fuentes no convencionales de energía -FNCE- en las localidades de 1. Pradera. 2. Mirití y 3. santa Lucia en el Departamento del Amazonas. | H64: 43576 | K64: N/A | L64: SECOP ll - EQIPO DE TRABAJO 1 Y 4 - GRUPO 1 MARLON Rodríguez - calificable - carpetas 6 | M64: CUMPLE
J65: 0 | P65: 2016 | Q65: 689500
J66: 0 | P66: 2017 | Q66: 737717
J67: 2840.3594 | M67: 15 PUNTOS | P67: 2018 | Q67: 781242
P68: 2019 | Q68: 828116
P69: 2020 | Q69: 877803
A70: OFERENTE | B70: 4 | C70: 0
C71: 0
A73: CARGO | B73: NOMBRE | C73: TARJETA PROFESIONAL | D73: FECHA EXPEDICIÓN | F73: PROFESION | G73: OBJETO | H73: FECHA TERMINACIÓN CONTRATO | I73: VALOR | J73: SMMLV | K73: REQUERIMIENTO PARTICULAR QUE ACREDITA | L73: N/A | M73: OBSERVACIONES
A88: OFERENTE | B88: 5 | C88: 0
C89: 0
A91: CARGO | B91: NOMBRE | C91: TARJETA PROFESIONAL | D91: FECHA EXPEDICIÓN | F91: PROFESION | G91: OBJETO | H91: FECHA TERMINACIÓN CONTRATO | I91: VALOR | J91: SMMLV | K91: REQUERIMIENTO PARTICULAR QUE ACREDITA | L91: N/A | M91: OBSERVACIONES
