Workbook

Sheet Conformación
A1: EMPRESA NACIONAL PROMOTORA DEL DESARROLLO TERRITORIAL – ENTerritorio CLIENTE COMISIÓN RECTORA DEL SISTEMA GENERAL DE REGALIAS (SGR) OBJETO ESTRUCTURACION INTEGRAL DE SOLUCIONES INDIVIDUALES FOTOVOLTAICAS EN VIVIENDA RURAL DISPERSA DE MUNICIPIOS PDET, EN EL MARCO DE LOS LINEAMIENTOS Y REQUISITOS FIJADOS EN EL ACUERDO ÚNICO No. 045 DE 2017 MODIFICADO POR EL ACUERDO 52 DE 2018 EXPEDIDO POR LA COMISIÓN RECTORA DEL SISTEMA GENERAL DE REGALÍAS Y DEMÁS NORMATIVIDAD VIGENTE CONVOCATORIA MERITORIA CME -016-2020 GRUPO 2
A4: No. | B4: NOMBRE DEL OFERENTE | C4: REPRESENTANTE LEGAL | D4: INTEGRANTES | E4: INTEGRANTE 1 | F4: Identificación Int. 1 | G4: % Int. 1 | H4: INTEGRANTE 2 | I4: Identificación Int. 2 | J4: % Int. 2 | K4: INTEGRANTE 3 | L4: Identificación Int. 3 | M4: % Int. 3 | N4: INTEGRANTE 4 | O4: Identificación Int. 4 | P4: % Int. 4 | Q4: INTEGRANTE 5 | R4: Identificación Int. 5 | S4: % Int. 5 | T4: Telefono | U4: FAX | V4: Direccion | W4: Email | X4: Ciudad | Y4: ANTICIPO
A5: 1 | B5: SUNCOLOMBIA S.A.S | C5: JUAN DIEGO GÓMEZ ZULUAGA C.C. 80.186.640 | D5: (SUNCOLOMBIA S.A.S 100% - 0% - 0%- 0%- 0%) | E5: SUNCOLOMBIA S.A.S | F5: NIT 900538988-6 | G5: 1 | T5: 3015854351 | V5: carrear 21 # 164 -74 | W5: juridico@suncolombia.com | X5: Bogotá | Y5: NO INDICA
A6: 2 | Y6: NO INDICA
A7: 3 | Y7: NO INDICA
A8: 4
A9: 5
A10: 6
A11: 7
A12: 8
A13: 9
A14: 10

Sheet Exp. oferente
A1: EMPRESA NACIONAL PROMOTORA DEL DESARROLLO TERRITORIAL – ENTerritorio CLIENTE COMISIÓN RECTORA DEL SISTEMA GENERAL DE REGALIAS (SGR) OBJETO ESTRUCTURACION INTEGRAL DE SOLUCIONES INDIVIDUALES FOTOVOLTAICAS EN VIVIENDA RURAL DISPERSA DE MUNICIPIOS PDET, EN EL MARCO DE LOS LINEAMIENTOS Y REQUISITOS FIJADOS EN EL ACUERDO ÚNICO No. 045 DE 2017 MODIFICADO POR EL ACUERDO 52 DE 2018 EXPEDIDO POR LA COMISIÓN RECTORA DEL SISTEMA GENERAL DE REGALÍAS Y DEMÁS NORMATIVIDAD VIGENTE CONVOCATORIA MERITORIA CME -016-2020 GRUPO 2
U2: AÑO | V2: SMMLV
A3: EXPERIENCIA TÉCNICA DEL OFERENTE | U3: 1984 | V3: 11298
U4: 1985 | V4: 13557.6
A5: El oferente debe acreditar en su oferta, que cuenta con experiencia específica en: | U5: 1986 | V5: 16811.4
A6: ESTUDIOS Y/O DISEÑO Y/O FORMULACIÓN Y/O ESTRUCTURACIÓN DE: PROYECTOS ENERGÉTICOS EN ZONAS NO INTERCONECTADAS Y/O PROYECTOS ENERGÉTICOS CON PANELES SOLARES. | U6: 1987 | V6: 20509.8
A7: La experiencia deberá ser acreditada con la ejecución de MÁXIMO CINCO (5) CONTRATOS.
A8: Los contratos aportados deben sumar en su conjunto, un valor igual o superior a 0,9 veces el valor del POE, expresado en SMMLV en la fecha de terminación | U8: 1987 | V8: 20509.8
A9: MÍNIMO uno (1) de los contratos aportados, debe ser de INTERVENTORÍA A LA ELABORACIÓN DE ESTUDIOS O DISEÑOS O INVENTARIOS O DIAGNÓSTICOS PARA LA CONSTRUCCIÓN O AMPLIACIÓN O MEJORAMIENTO O REHABILITACIÓN U OPERACIÓN Y MANTENIMIENTO DE: PROYECTOS DE INFRAESTRUCTURA DE TRANSPORTE AÉREO. | U9: 1987 | V9: 20509.8
A10: Mínimo (1) uno de los contratos aportados deberá tener dentro de sus actividades intervenciones en construcción de Boxcoulver. | U10: 1987 | V10: 20509.8
A11: Mínimo (1) uno de los contratos aportados debe ser igual o superior valor al POE expresado en SMLMV en la fecha de terminación | U11: 1987 | V11: 20509.8
U12: 1988 | V12: 25637.4
J13: SMMLV | U13: 1989 | V13: 32559.6
J14: 2590.3706 | U14: 1990 | V14: 41025
H15: presup.of | I15: 2.2738351e+09 | J15: SMMLV | U15: 1991 | V15: 51716.1
H16: SMMLV 2020 | I16: 877803 | J16: 2331.3336 | U16: 1992 | V16: 65190
U17: 1993 | V17: 81510
U18: 1994 | V18: 98700
B19: Oferente | C19: 1 | D19: SUNCOLOMBIA S.A.S | U19: 1995 | V19: 118933.5
D20: (SUNCOLOMBIA S.A.S 100% - 0% - 0%- 0%- 0%) | U20: 1996 | V20: 142125
O21: INTEGRANTES | U21: 1997 | V21: 172005
O22: SUNCOLOMBIA S.A.S | P22: 0 | Q22: 0 | R22: 0 | S22: 0 | U22: 1998 | V22: 203826
A23: No | B23: PROPIETARIO O ENTIDAD CONTRATANTE | C23: APORTADA POR | D23: % en Cto | E23: CONSECUTIVO RUP | F23: OBJETO | G23: Fecha de Terminación | H23: Página | I23: VALOR | J23: SMMLV | K23: OBSERVACIONES | O23: 1973.8418 | P23: 0 | Q23: 0 | R23: 0 | S23: 0 | U23: 1999 | V23: 236460
A24: 1 | B24: Iversiones KINGO Colombia S.A.S | C24: SUNCOLOMBIA S.A.S | D24: 1 | E24: 38 | F24: Realizar la consultoría e implementación ( estudio, diseño y transferencia de tecnología) del proceso de expansión del modelo de negocio Kingo en Colombia. | G24: 43655 | H24: SECOP ll | I24: 1634570000 | J24: 1973.8418 | K24: CUMPLE | L24: 1 | O24: 0 | P24: 0 | Q24: 0 | R24: 0 | S24: 0 | U24: 2000 | V24: 260100
A25: 2 | B25: Computadores para Educar | C25: SUNCOLOMBIA S.A.S | D25: 0.5 | E25: 23 | F25: Planeación, diseño, suministro, implementación, puesta en marcha, operación y mantenimiento de soluciones fotovoltaicas | G25: 43096 | H25: SECOP ll | I25: 6705310400 | K25: NO CUMPLE | L25: 1 | O25: 2107.0908 | P25: 0 | Q25: 0 | R25: 0 | S25: 0 | U25: 2001 | V25: 286000
A26: 3 | B26: QI HOLDING S.A.S | C26: SUNCOLOMBIA S.A.S | D26: 1 | E26: 25 | F26: contratar la consultoría técnica para obtener la viabilidad de la implementación de un modelo de distribución de sistemas de energía residencia SHS en el marco de un proyecto piloto en el departamento de la Guajira. | G26: 43100 | H26: SECOP ll | I26: 1554436668 | J26: 2107.0908 | K26: CUMPLE | L26: 1 | O26: 0 | P26: 0 | Q26: 0 | R26: 0 | S26: 0 | U26: 2002 | V26: 309000
A27: 4 | J27: 0 | L27: 1 | O27: 0 | P27: 0 | Q27: 0 | R27: 0 | S27: 0 | U27: 2003 | V27: 332000
A28: 5 | J28: 0 | L28: 1 | O28: 0 | P28: 0 | Q28: 0 | R28: 0 | S28: 0 | U28: 2004 | V28: 358000
A29: 6 | J29: 0 | L29: 1 | O29: 0 | P29: 0 | Q29: 0 | R29: 0 | S29: 0 | U29: 2005 | V29: 381500
A30: 7 | J30: 0 | L30: 1 | O30: 0 | P30: 0 | Q30: 0 | R30: 0 | S30: 0 | U30: 2006 | V30: 408000
A31: 8 | J31: 0 | L31: 1 | O31: 0 | P31: 0 | Q31: 0 | R31: 0 | S31: 0 | U31: 2007 | V31: 433700
A32: 9 | J32: 0 | L32: 1 | O32: 4080.9326 | P32: 0 | Q32: 0 | R32: 0 | S32: 0 | U32: 2008 | V32: 461500
A33: 10 | J33: 0 | L33: 1 | U33: 2009 | V33: 496900
I34: TOTAL | J34: 4080.9326 | L34: 10 | U34: 2010 | V34: 515000
B35: NOTA: VERIFICAR QUE LOS CONTRATOS ESTEN EN EL RUP (CUANDO APLIQUE) | J35: CUMPLE | K35: CUMPLE SUMATORIA DE TODOS 0,9 DEL POE | U35: 2011 | V35: 535600
G36: SUNCOLOMBIA S.A.S | H36: 1 | I36: 4080.9326 | J36: V.Bo. | U36: 2012 | V36: 566700
G37: 0 | H37: 0 | I37: 0 | U37: 2013 | V37: 589500
G38: 0 | H38: 0 | I38: 0 | U38: 2014 | V38: 616000
G39: 0 | H39: 0 | I39: 0 | U39: 2015 | V39: 644350
G40: 0 | H40: 0 | I40: 0 | U40: 2016 | V40: 689454
...

Sheet Exp. profesionales
A1: =+'[1]K-Kr Constructor'!A1:F1 -> EMPRESA NACIONAL PROMOTORA DEL DESARROLLO TERRITORIAL – ENTerritorio CLIENTE COMISIÓN RECTORA DEL SISTEMA GENERAL DE REGALIAS (SGR) OBJETO ESTRUCTURACION INTEGRAL DE SOLUCIONES INDIVIDUALES FOTOVOLTAICAS EN VIVIENDA RURAL DISPERSA DE MUNICIPIOS PDET, EN EL MARCO DE LOS LINEAMIENTOS Y REQUISITOS FIJADOS EN EL ACUERDO ÚNICO No. 045 DE 2017 MODIFICADO POR EL ACUERDO 52 DE 2018 EXPEDIDO POR LA COMISIÓN RECTORA DEL SISTEMA GENERAL DE REGALÍAS Y DEMÁS NORMATIVIDAD VIGENTE CONVOCATORIA MERITORIA CME -016-2020 GRUPO 2 | Q1: 1957 | R1: 155.4
Q2: 1958 | R2: 155.4
Q3: 1959 | R3: 155.4
A4: REQUISITOS MINIMOS - PERSONAL PRINCIPAL REQUERIDO - CUMPLE/ NO CUMPLE | Q4: 1960 | R4: 198
Q5: 1961
A6: CARGO A DESEMPEÑAR | B6: FORMACIÓN ACADÉMICA | C6: TIEMPO MÍNIMO REQUERIDO DE HABER TERMINADO Y APROBADO ESTUDIOS (EN AÑOS) | E6: NUMERO DE PROYECTOS A ACREDITAR | F6: EXPERIENCIA ESPECÍFICA | I6: REQUERIMIENTO PARTICULAR | K6: REQUISITO MINIMO EN SMMLV | Q6: 1962 | R6: 300
A7: Director de Consultoría | B7: "Ingeniero Civil, o Ingeniero Eléctrico o Ingeniero Electricista o Ingeniero Electromecánico o Ingeniero Electrónico o Ingeniero Mecánico o Arquitecto, Con estudios de especialización o Maestría o doctorado en administración de empresas o gerencia de proyectos o gestión de proyectos o diseño y evaluación de proyectos o formulación de proyectos o formulación y evaluación de proyectos o gerencia de construcciones o energías renovables y sostenibilidad energética o administración de Negocios o gerencia de mantenimiento o Ingeniería eléctrica o Finanzas o Gerencia Pública o en sistemas de distribución de energía eléctrica o gerencia integral de proyectos". | C7: 8 | D7: 41062 | E7: 1 | F7: Experiencia específica como director de consultoría o director de proyectos o gerente de proyectos, de máximo cinco (5) contratos que sumados correspondan mínimo a 0.5 veces el presupuesto oficial del grupo al que se presente la oferta expresado en SMMLV a la fecha de terminación de la ejecución y que cada uno de los contratos aportados contemple dentro de su alcance la elaboración de estudios y/o diseños para proyectos de energía. | I7: máximo cinco (5) contratos que sumados correspondan mínimo a 0.5 veces el presupuesto oficial del grupo al que se presente la oferta | K7: ='[1]K-Kr Constructor'!B6/2 -> 1295.1853 | Q7: 1963 | R7: 420
Q8: 1964 | R8: 420
Q9: 1965 | R9: 420
Q10: 1966 | R10: 420
Q11: 1967 | R11: 420
Q12: 1968 | R12: 420
Q13: 1969 | R13: 519
Q14: 1970 | R14: 519
Q15: 1971 | R15: 519
Q16: 1972 | R16: 660
Q17: 1973 | R17: 660
Q18: 1974 | R18: 900
A19: OFERENTE | B19: 1 | C19: =VLOOKUP(B19,[1]Conformación!$A$5:$S$129,2,FALSE) -> SUNCOLOMBIA S.A.S | Q19: 1975 | R19: 1200
C20: =VLOOKUP(B19,[1]Conformación!$A$5:$S$129,4,FALSE) -> (SUNCOLOMBIA S.A.S 100% - 0% - 0%- 0%- 0%) | Q20: 1976 | R20: 1560
Q21: 1977 | R21: 1770
Q22: 1978 | R22: 2580
A23: CARGO | B23: NOMBRE | C23: TARJETA PROFESIONAL | D23: FECHA EXPEDICIÓN | F23: PROFESION | G23: POSGRADO | H23: OBJETO | I23: FECHA TERMINACIÓN PROYECTO | J23: VALOR | K23: SMMLV | L23: REQUERIMIENTO PARTICULAR QUE ACREDITA | M23: PÁGINA | N23: OBSERVACIONES | Q23: 1979 | R23: 3450
A24: =A7 -> Director de Consultoría | B24: WILLLIAM ANTONIO BARCO BRAVO | C24: CN250-50394 | D24: 39030 | E24: =IF(D24=0,0,IF(D24<D$7,"CUMPLE EL TIEMPO MÍNIMO REQUERIDO DE HABER TERMINADO Y APROBADO ESTUDIOS","NO CUMPLE EL TIEMPO MÍNIMO REQUERIDO DE HABER TERMINADO Y APROBADO ESTUDIOS")) -> CUMPLE EL TIEMPO MÍNIMO REQUERIDO DE HABER TERMINADO Y APROBADO ESTUDIOS | F24: INGENIERO ELECTRÓMECANICO | G24: ESPECIALISTA EN GERENCIA DE PROYECTOS | H24: Gerente de la Oficina de Energía Eléctrica Municipal | I24: 31047 | J24: NO INDICA | L24: N/A | N24: NO CUMPLE No se evidencia la fecha de terminación no se evidencia elaboración de estudios y diseño para proyectos de energía | Q24: 1980 | R24: 4500
H25: Gerente de las Empresas Públicas de Caucasia | I25: 32237 | J25: NO INDICA | L25: N/A | N25: NO CUMPLE No se evidencia la fecha de terminación no se evidencia elaboración de estudios y diseño para proyectos de energía | Q25: 1981 | R25: 5700
H26: ContratoN°001-2-2005:Elmontajeydotaciónde17unidadesfotovoltaicasenlasviviendasruralesveredaNormandía, sector La Busaca, municipio de Tauramenta, departamento de Casanare | I26: 38428 | J26: 88255738 | L26: N/A | N26: NO CUMPLE NO SE VE LA FECHA DE TERMINACIÓN PERO SE VE EL PLAZO Y LA FECHA DE INICIO EN EL ACTA DE LIQUIDACIÓN POR ESO SE PRESUME LA FECHA INDICADA EN EL FORMATO POR EL OFERENTE NO CUMPLE CON LA EXPERIENCIA SOLICITADA POR QUE NO SE VE EXPERIENCIA EN ELABORACIÓN DE ESTUDIOS Y DISEÑOS PARA PROYECTOS DE ENERGÍA NO SE EVIDENCIA QUE FUERA EL DIRECTOR O GERENTE DEL PROYECTO PERO FIGURA COMO CONTRATISTA, PREGUNTAR SI APLICA | Q26: 1982 | R26: 7410
H27: ContratoN°031-2005:Construccióndesistemasgeneradoresdeenergíafotovoltaicapara83viviendasruralesen el municipio de Paz de Ariporo, departamento de Casanare | I27: 38822 | J27: 436018087 | L27: N/A | N27: NO CUMPLE NO CUMPLE CON LA EXPERIENCIA SOLICITADA POR QUE NO SE VE EXPERIENCIA EN ELABORACIÓN DE ESTUDIOS Y DISEÑOS PARA PROYECTOS DE ENERGÍA NO SE EVIDENCIA QUE FUERA EL DIRECTOR O GERENTE DEL PROYECTO PERO FIGURA COMO CONTRATISTA, PREGUNTAR SI APLICA | Q27: 1983 | R27: 9261
H28: Planeación, diseño, suministro, implementación, puesta en marcha, operación y mantenimiento de soluciones fotovoltaicas | I28: 43096 | J28: NO SE EVIDENCIÓ | L28: N/A | M28: SECOP ll | N28: NO CUMPLE
L32: N/A | Q32: 1984 | R32: 11298
H33: TOTAL | K33: =SUM(K24:K32) -> 0 | N33: NO CUMPLE | Q33: 1985 | R33: 13557
Q34: 1986 | R34: 16811.4
Q35: 1987 | R35: 20510
A36: OFERENTE | B36: 2 | C36: =VLOOKUP(B36,[1]Conformación!$A$5:$S$129,2,FALSE) -> 0 | Q36: 1988 | R36: 25637.4
C37: =VLOOKUP(B36,[1]Conformación!$A$5:$S$129,4,FALSE) -> 0 | Q37: 1989 | R37: 32559.6
Q38: 1990 | R38: 41025
A39: CARGO | B39: NOMBRE | C39: TARJETA PROFESIONAL | D39: FECHA EXPEDICIÓN | F39: PROFESION | G39: POSGRADO | H39: OBJETO | I39: FECHA TERMINACIÓN PROYECTO | J39: VALOR | K39: SMMLV | L39: REQUERIMIENTO PARTICULAR QUE ACREDITA | M39: PÁGINA | N39: OBSERVACIONES | Q39: 1991 | R39: 51716.1
A40: =A$7 -> Director de Consultoría | E40: =IF(D40=0,0,IF(D40<D$7,"CUMPLE EL TIEMPO MÍNIMO REQUERIDO DE HABER TERMINADO Y APROBADO ESTUDIOS","NO CUMPLE EL TIEMPO MÍNIMO REQUERIDO DE HABER TERMINADO Y APROBADO ESTUDIOS")) -> 0 | L40: =IF(J40>=K$7,"cumple",0) -> 0 | M40: SECOP ll | Q40: 1992 | R40: 65190
K41: =IF(J41=0,0,IF(I41<D$40,"EXPERIENCIA ADQUIRIDA ANTES DEL GRADO",J41/VLOOKUP(YEAR(I41),$Q$1:$R$68,2,0))) -> 0 | L41: =IF(J41>=K$7,"cumple",0) -> 0 | Q41: 1993 | R41: 81510
K42: =IF(J42=0,0,IF(I42<D$40,"EXPERIENCIA ADQUIRIDA ANTES DEL GRADO",J42/VLOOKUP(YEAR(I42),$Q$1:$R$68,2,0))) -> 0 | L42: =IF(J42>=K$7,"cumple",0) -> 0 | Q42: 1994 | R42: 98700
K43: =IF(J43=0,0,IF(I43<D$40,"EXPERIENCIA ADQUIRIDA ANTES DEL GRADO",J43/VLOOKUP(YEAR(I43),$Q$1:$R$68,2,0))) -> 0 | L43: =IF(J43>=K$7,"cumple",0) -> 0 | Q43: 1995 | R43: 118933.5
...

Sheet Exp. profesionales (2)
A1: =+'[1]K-Kr Constructor'!A1:F1 -> EMPRESA NACIONAL PROMOTORA DEL DESARROLLO TERRITORIAL – ENTerritorio CLIENTE COMISIÓN RECTORA DEL SISTEMA GENERAL DE REGALIAS (SGR) OBJETO ESTRUCTURACION INTEGRAL DE SOLUCIONES INDIVIDUALES FOTOVOLTAICAS EN VIVIENDA RURAL DISPERSA DE MUNICIPIOS PDET, EN EL MARCO DE LOS LINEAMIENTOS Y REQUISITOS FIJADOS EN EL ACUERDO ÚNICO No. 045 DE 2017 MODIFICADO POR EL ACUERDO 52 DE 2018 EXPEDIDO POR LA COMISIÓN RECTORA DEL SISTEMA GENERAL DE REGALÍAS Y DEMÁS NORMATIVIDAD VIGENTE CONVOCATORIA MERITORIA CME -016-2020 GRUPO 2 | P1: 1957 | Q1: 155.4
P2: 1958 | Q2: 155.4
P3: 1959 | Q3: 155.4
A4: REQUISITOS MINIMOS - PERSONAL PRINCIPAL REQUERIDO - CUMPLE/ NO CUMPLE | P4: 1960 | Q4: 198
P5: 1961
A6: CARGO A DESEMPEÑAR | B6: FORMACIÓN ACADÉMICA | C6: TIEMPO MÍNIMO REQUERIDO DE HABER TERMINADO Y APROBADO ESTUDIOS (EN AÑOS) | E6: NUMERO DE PROYECTOS A ACREDITAR | F6: EXPERIENCIA ESPECÍFICA | H6: REQUERIMIENTO PARTICULAR | J6: REQUISITO MINIMO EN SMMLV | K6: REQUISITO MINIMO EN AÑOS | P6: 1962 | Q6: 300
A7: Profesional Eléctrico | B7: Ingeniero Eléctrico o Electricista o Electromecánico. | C7: 8 | D7: 41062 | E7: 1 | F7: Acreditar experiencia en mínimo un (1) contrato como diseñador y/o estructurador de soluciones fotovoltaicas y/o paneles solares y/o sistemas alternativos de generación de energía eléctrica y/o con fuentes no convencionales de energía. | H7: N/A | J7: 0 | K7: 0 | P7: 1963 | Q7: 420
P8: 1964 | Q8: 420
P9: 1965 | Q9: 420
P10: 1966 | Q10: 420
P11: 1967 | Q11: 420
P12: 1968 | Q12: 420
P13: 1969 | Q13: 519
P14: 1970 | Q14: 519
P15: 1971 | Q15: 519
P16: 1972 | Q16: 660
P17: 1973 | Q17: 660
P18: 1974 | Q18: 900
P19: 1975 | Q19: 1200
P20: 1976 | Q20: 1560
A21: OFERENTE | B21: 1 | C21: =VLOOKUP(B21,[1]Conformación!$A$5:$S$129,2,FALSE) -> SUNCOLOMBIA S.A.S | P21: 1977 | Q21: 1770
C22: =VLOOKUP(B21,[1]Conformación!$A$5:$S$129,4,FALSE) -> (SUNCOLOMBIA S.A.S 100% - 0% - 0%- 0%- 0%) | P22: 1978 | Q22: 2580
P23: 1979 | Q23: 3450
P24: 1980 | Q24: 4500
A25: CARGO | B25: NOMBRE | C25: TARJETA PROFESIONAL | D25: FECHA EXPEDICIÓN | F25: PROFESION | G25: OBJETO | H25: FECHA TERMINACIÓN CONTRATO | I25: VALOR | J25: SMMLV | K25: REQUERIMIENTO PARTICULAR QUE ACREDITA | L25: FOLIO | M25: OBSERVACIONES | P25: 1981 | Q25: 5700
A26: =A7 -> Profesional Eléctrico | B26: LUIS MAURICIO MUÑOZ GONZÁLEZ | C26: CL205-50601 | D26: 39001 | E26: =IF(D26=0,0,IF(D26<D$7,"CUMPLE EL TIEMPO MÍNIMO REQUERIDO DE HABER TERMINADO Y APROBADO ESTUDIOS","NO CUMPLE EL TIEMPO MÍNIMO REQUERIDO DE HABER TERMINADO Y APROBADO ESTUDIOS")) -> CUMPLE EL TIEMPO MÍNIMO REQUERIDO DE HABER TERMINADO Y APROBADO ESTUDIOS | F26: INGENIERO ELECTRICISTA | G26: Cartagena de Acuacultura Proyectos de electrificación rural utilizando energía solar fotovoltaica y tendido de red eléctrica en BT para las viviendas de la población en los corregimientos de los municipios de Santa Rosa, soplavento, Repelón y Luruaco, en el marco de proyectos de responsabilidad social empresarial que adelanta la empresa | H26: 41853 | I26: 3883476 | J26: =IF(I26=0,0,IF(H26<D$26,"EXPERIENCIA ADQUIRIDA ANTES DEL GRADO",I26/VLOOKUP(YEAR(H26),$P$1:$Q$64,2,0))) -> 6.3043442 | K26: N/A | L26: SECOP ll | M26: NO CUMPLE | P26: 1982 | Q26: 7410
J27: =IF(I27=0,0,IF(H27<D$26,"EXPERIENCIA ADQUIRIDA ANTES DEL GRADO",I27/VLOOKUP(YEAR(H27),$P$1:$Q$64,2,0))) -> 0 | P27: 1983 | Q27: 9261
J28: =IF(I28=0,0,IF(H28<D$26,"EXPERIENCIA ADQUIRIDA ANTES DEL GRADO",I28/VLOOKUP(YEAR(H28),$P$1:$Q$64,2,0))) -> 0 | P28: 1984 | Q28: 11298
J29: =IF(I29=0,0,IF(H29<D$26,"EXPERIENCIA ADQUIRIDA ANTES DEL GRADO",I29/VLOOKUP(YEAR(H29),$P$1:$Q$64,2,0))) -> 0 | P29: 1985 | Q29: 13557
J30: =IF(I30=0,0,IF(H30<D$26,"EXPERIENCIA ADQUIRIDA ANTES DEL GRADO",I30/VLOOKUP(YEAR(H30),$P$1:$Q$64,2,0))) -> 0 | P30: 1986 | Q30: 16811.4
J31: =IF(I31=0,0,IF(H31<D$26,"EXPERIENCIA ADQUIRIDA ANTES DEL GRADO",I31/VLOOKUP(YEAR(H31),$P$1:$Q$64,2,0))) -> 0 | P31: 1987 | Q31: 20510
J32: =IF(I32=0,0,IF(H32<D$26,"EXPERIENCIA ADQUIRIDA ANTES DEL GRADO",I32/VLOOKUP(YEAR(H32),$P$1:$Q$64,2,0))) -> 0 | P32: 1988 | Q32: 25637.4
J33: =SUM(J26:J32) -> 6.3043442 | M33: NO CUMPLE | P33: 1989 | Q33: 32559.6
P34: 1990 | Q34: 41025
P35: 1991 | Q35: 51716.1
A36: OFERENTE | B36: 2 | C36: =VLOOKUP(B36,[1]Conformación!$A$5:$S$129,2,FALSE) -> 0 | P36: 1992 | Q36: 65190
C37: =VLOOKUP(B36,[1]Conformación!$A$5:$S$129,4,FALSE) -> 0 | P37: 1993 | Q37: 81510
P38: 1994 | Q38: 98700
A39: CARGO | B39: NOMBRE | C39: TARJETA PROFESIONAL | D39: FECHA EXPEDICIÓN | F39: PROFESION | G39: OBJETO | H39: FECHA TERMINACIÓN CONTRATO | I39: VALOR | J39: M2 | K39: REQUERIMIENTO PARTICULAR QUE ACREDITA | L39: FOLIO | M39: OBSERVACIONES | P39: 1995 | Q39: 118933.5
A40: =A7 -> Profesional Eléctrico | E40: =IF(D40=0,0,IF(D40<D$7,"CUMPLE EL TIEMPO MÍNIMO REQUERIDO DE HABER TERMINADO Y APROBADO ESTUDIOS","NO CUMPLE EL TIEMPO MÍNIMO REQUERIDO DE HABER TERMINADO Y APROBADO ESTUDIOS")) -> 0 | K40: N/A | L40: SECOP ll | P40: 1996 | Q40: 142125
...
