Workbook

Sheet Lote 3 Ferreteria
A1: PROCESO DE SUMINISTRO (FERRETERIA Y OTROS)
A2: PROCESO | B2: FDRS SASI
A3: PROYECTO | B3: 1634,1648,1651,Y 1696
A4: OBJETO | B4: “SUMINISTRAR BIENES PARA EL DESARROLLO DE LOS PROYECTOS DE INVERSIÓN DEL FONDO DE DESARROLLO RURAL DE SUMAPAZ A MONTO AGOTABLE, PARA LA VIGENCIA 2024”
B5: MATERIALES DE FERRETERÍA Y OTROS | E5: COTIZACION No1 | H5: COTIZACION No2 | K5: COTIZACION No3
A6: ITEM | B6: DESCRIPCIÓN | C6: UNIDAD/MED | D6: CANTIDAD TOTAL | E6: VALOR UNITARIO SIN IVA | F6: VALOR DE IVA | G6: VALOR UNITARIO CON IVA | H6: VALOR UNITARIO SIN IVA | I6: VALOR DE IVA | J6: VALOR UNITARIO CON IVA | K6: VALOR UNITARIO SIN IVA | L6: VALOR DE IVA | M6: VALOR UNITARIO CON IVA | O6: PROMEDIO VALOR UNITARIO ANTES DE IVA | P6: DESVIACION ESTANDAR | Q6: COEFICIENTE DE VARIACION
A7: 1 | B7: ABRAZADERA CREMALLERA 1/2' | C7: UNIDAD | D7: 1 | E7: 1600 | F7: =ROUND(E7*19%,0) -> 304 | G7: =ROUND(E7+F7,0) -> 1904 | H7: 1700 | I7: =ROUND(H7*19%,0) -> 323 | J7: =ROUND(H7+I7,0) -> 2023 | K7: 1665 | L7: =ROUND(K7*19%,0) -> 316 | M7: =ROUND(K7+L7,0) -> 1981 | O7: =ROUND(AVERAGE(E7,H7,K7),0) -> 1655 | P7: =ROUND(_xlfn.STDEV.S(G7,J7,M7),0) -> 60 | Q7: =+((P7/O7)) -> 0.036253776
A8: 2 | B8: ADAPTADOR PVC HEMBRA 1/2' | C8: UNIDAD | D8: 1 | E8: 900 | F8: =ROUND(E8*19%,0) -> 171 | G8: =ROUND(E8+F8,0) -> 1071 | H8: 800 | I8: =ROUND(H8*19%,0) -> 152 | J8: =ROUND(H8+I8,0) -> 952 | K8: 888 | L8: =ROUND(K8*19%,0) -> 169 | M8: =ROUND(K8+L8,0) -> 1057 | O8: =ROUND(AVERAGE(E8,H8,K8),0) -> 863 | P8: =ROUND(_xlfn.STDEV.S(G8,J8,M8),0) -> 65 | Q8: =+((P8/O8)) -> 0.075318656
A9: 3 | B9: ADAPTADOR PVC MACHO 1/2' | C9: UNIDAD | D9: 1 | E9: 800 | F9: =ROUND(E9*19%,0) -> 152 | G9: =ROUND(E9+F9,0) -> 952 | H9: 900 | I9: =ROUND(H9*19%,0) -> 171 | J9: =ROUND(H9+I9,0) -> 1071 | K9: 777 | L9: =ROUND(K9*19%,0) -> 148 | M9: =ROUND(K9+L9,0) -> 925 | O9: =ROUND(AVERAGE(E9,H9,K9),0) -> 826 | P9: =ROUND(_xlfn.STDEV.S(G9,J9,M9),0) -> 78 | Q9: =+((P9/O9)) -> 0.094430993
A10: 4 | B10: BUJE ROSCADO PVC 1' X 1/2' | C10: UNIDAD | D10: 1 | E10: 3000 | F10: =ROUND(E10*19%,0) -> 570 | G10: =ROUND(E10+F10,0) -> 3570 | H10: 3100 | I10: =ROUND(H10*19%,0) -> 589 | J10: =ROUND(H10+I10,0) -> 3689 | K10: 3219 | L10: =ROUND(K10*19%,0) -> 612 | M10: =ROUND(K10+L10,0) -> 3831 | O10: =ROUND(AVERAGE(E10,H10,K10),0) -> 3106 | P10: =ROUND(_xlfn.STDEV.S(G10,J10,M10),0) -> 131 | Q10: =+((P10/O10)) -> 0.042176433
A11: 5 | B11: CANAL AMAZONAS X 3 METROS | C11: UNIDAD | D11: 1 | E11: 124000 | F11: =ROUND(E11*19%,0) -> 23560 | G11: =ROUND(E11+F11,0) -> 147560 | H11: 128900 | I11: =ROUND(H11*19%,0) -> 24491 | J11: =ROUND(H11+I11,0) -> 153391 | K11: 136197 | L11: =ROUND(K11*19%,0) -> 25877 | M11: =ROUND(K11+L11,0) -> 162074 | O11: =ROUND(AVERAGE(E11,H11,K11),0) -> 129699 | P11: =ROUND(_xlfn.STDEV.S(G11,J11,M11),0) -> 7304 | Q11: =+((P11/O11)) -> 0.056315006
A12: 6 | B12: LIMPIADOR PVC 1/32 | C12: UNIDAD | D12: 1 | E12: 9800 | F12: =ROUND(E12*19%,0) -> 1862 | G12: =ROUND(E12+F12,0) -> 11662 | H12: 10200 | I12: =ROUND(H12*19%,0) -> 1938 | J12: =ROUND(H12+I12,0) -> 12138 | K12: 10767 | L12: =ROUND(K12*19%,0) -> 2046 | M12: =ROUND(K12+L12,0) -> 12813 | O12: =ROUND(AVERAGE(E12,H12,K12),0) -> 10256 | P12: =ROUND(_xlfn.STDEV.S(G12,J12,M12),0) -> 578 | Q12: =+((P12/O12)) -> 0.056357254
A13: 7 | B13: LIMPIADOR PVC 12 ONZAS | C13: UNIDAD | D13: 1 | E13: 31900 | F13: =ROUND(E13*19%,0) -> 6061 | G13: =ROUND(E13+F13,0) -> 37961 | H13: 33100 | I13: =ROUND(H13*19%,0) -> 6289 | J13: =ROUND(H13+I13,0) -> 39389 | K13: 34965 | L13: =ROUND(K13*19%,0) -> 6643 | M13: =ROUND(K13+L13,0) -> 41608 | O13: =ROUND(AVERAGE(E13,H13,K13),0) -> 33322 | P13: =ROUND(_xlfn.STDEV.S(G13,J13,M13),0) -> 1838 | Q13: =+((P13/O13)) -> 0.055158754
A14: 8 | B14: LLAVE PARA JARDIN PVC 1/2' | C14: UNIDAD | D14: 1 | E14: 30000 | F14: =ROUND(E14*19%,0) -> 5700 | G14: =ROUND(E14+F14,0) -> 35700 | H14: 31200 | I14: =ROUND(H14*19%,0) -> 5928 | J14: =ROUND(H14+I14,0) -> 37128 | K14: 32967 | L14: =ROUND(K14*19%,0) -> 6264 | M14: =ROUND(K14+L14,0) -> 39231 | O14: =ROUND(AVERAGE(E14,H14,K14),0) -> 31389 | P14: =ROUND(_xlfn.STDEV.S(G14,J14,M14),0) -> 1776 | Q14: =+((P14/O14)) -> 0.056580331
A15: 9 | B15: BUJE SOLDADO PVC 4' X 2' | C15: UNIDAD | D15: 1 | E15: 36400 | F15: =ROUND(E15*19%,0) -> 6916 | G15: =ROUND(E15+F15,0) -> 43316 | H15: 37800 | I15: =ROUND(H15*19%,0) -> 7182 | J15: =ROUND(H15+I15,0) -> 44982 | K15: 39960 | L15: =ROUND(K15*19%,0) -> 7592 | M15: =ROUND(K15+L15,0) -> 47552 | O15: =ROUND(AVERAGE(E15,H15,K15),0) -> 38053 | P15: =ROUND(_xlfn.STDEV.S(G15,J15,M15),0) -> 2134 | Q15: =+((P15/O15)) -> 0.056079678
A16: 10 | B16: BUJE SOLDADO PVC 2' X 1' | C16: UNIDAD | D16: 1 | E16: 6700 | F16: =ROUND(E16*19%,0) -> 1273 | G16: =ROUND(E16+F16,0) -> 7973 | H16: 7000 | I16: =ROUND(H16*19%,0) -> 1330 | J16: =ROUND(H16+I16,0) -> 8330 | K16: 7326 | L16: =ROUND(K16*19%,0) -> 1392 | M16: =ROUND(K16+L16,0) -> 8718 | O16: =ROUND(AVERAGE(E16,H16,K16),0) -> 7009 | P16: =ROUND(_xlfn.STDEV.S(G16,J16,M16),0) -> 373 | Q16: =+((P16/O16)) -> 0.053217292
A17: 11 | B17: REGISTRO BOLA PVC LISO 1' | C17: UNIDAD | D17: 1 | E17: 22800 | F17: =ROUND(E17*19%,0) -> 4332 | G17: =ROUND(E17+F17,0) -> 27132 | H17: 23700 | I17: =ROUND(H17*19%,0) -> 4503 | J17: =ROUND(H17+I17,0) -> 28203 | K17: 24975 | L17: =ROUND(K17*19%,0) -> 4745 | M17: =ROUND(K17+L17,0) -> 29720 | O17: =ROUND(AVERAGE(E17,H17,K17),0) -> 23825 | P17: =ROUND(_xlfn.STDEV.S(G17,J17,M17),0) -> 1300 | Q17: =+((P17/O17)) -> 0.054564533
A18: 12 | B18: TUBO PVC RDE 21 1' | C18: UNIDAD | D18: 1 | E18: 33300 | F18: =ROUND(E18*19%,0) -> 6327 | G18: =ROUND(E18+F18,0) -> 39627 | H18: 34600 | I18: =ROUND(H18*19%,0) -> 6574 | J18: =ROUND(H18+I18,0) -> 41174 | K18: 36519 | L18: =ROUND(K18*19%,0) -> 6939 | M18: =ROUND(K18+L18,0) -> 43458 | O18: =ROUND(AVERAGE(E18,H18,K18),0) -> 34806 | P18: =ROUND(_xlfn.STDEV.S(G18,J18,M18),0) -> 1927 | Q18: =+((P18/O18)) -> 0.055364018
... A31: 25 | B31: BEBEDERO BAJITO 500 LITROS CON FLOTADOR | C31: UNIDAD | D31: 1 | E31: 717100 | F31: =ROUND(E31*19%,0) -> 136249 | G31: =ROUND(E31+F31,0) -> 853349 | H31: 745500 | I31: =ROUND(H31*19%,0) -> 141645 | J31: =ROUND(H31+I31,0) -> 887145 | K31: 788100 | L31: =ROUND(K31*19%,0) -> 149739 | M31: =ROUND(K31+L31,0) -> 937839 | O31: =ROUND(AVERAGE(E31,H31,K31),0) -> 750233 | P31: =ROUND(_xlfn.STDEV.S(G31,J31,M31),0) -> 42526 | Q31: =+((P31/O31)) -> 0.056683724
A32: 26 | B32: BEBEDERO PARA GALLINAS CAPACIDAD 7 LITROS | C32: UNIDAD | D32: 1 | E32: 33400 | F32: =ROUND(E32*5%,0) -> 1670 | G32: =ROUND(E32+F32,0) -> 35070 | H32: 34700 | I32: =ROUND(H32*5%,0) -> 1735 | J32: =ROUND(H32+I32,0) -> 36435 | K32: 36630 | L32: =ROUND(K32*5%,0) -> 1832 | M32: =ROUND(K32+L32,0) -> 38462 | O32: =ROUND(AVERAGE(E32,H32,K32),0) -> 34910 | P32: =ROUND(_xlfn.STDEV.S(G32,J32,M32),0) -> 1707 | Q32: =+((P32/O32)) -> 0.048897164
A33: 27 | B33: FUMIGADORA MANUAL TANQUE 20 LITROS - IVA 5% | C33: UNIDAD | D33: 1 | E33: 753400 | F33: =ROUND(E33*5%,0) -> 37670 | G33: =ROUND(E33+F33,0) -> 791070 | H33: 783200 | I33: =ROUND(H33*5%,0) -> 39160 | J33: =ROUND(H33+I33,0) -> 822360 | K33: 827949 | L33: =ROUND(K33*5%,0) -> 41397 | M33: =ROUND(K33+L33,0) -> 869346 | O33: =ROUND(AVERAGE(E33,H33,K33),0) -> 788183 | P33: =ROUND(_xlfn.STDEV.S(G33,J33,M33),0) -> 39399 | Q33: =+((P33/O33)) -> 0.049987122
A34: 28 | B34: ATOMIZADOR PLASTICO 1000 ML | C34: UNIDAD | D34: 1 | E34: 17200 | F34: =ROUND(E34*19%,0) -> 3268 | G34: =ROUND(E34+F34,0) -> 20468 | H34: 17900 | I34: =ROUND(H34*19%,0) -> 3401 | J34: =ROUND(H34+I34,0) -> 21301 | K34: 18870 | L34: =ROUND(K34*19%,0) -> 3585 | M34: =ROUND(K34+L34,0) -> 22455 | O34: =ROUND(AVERAGE(E34,H34,K34),0) -> 17990 | P34: =ROUND(_xlfn.STDEV.S(G34,J34,M34),0) -> 998 | Q34: =+((P34/O34)) -> 0.055475264
A35: 29 | B35: CANECA PLASTICA CON TAPA Y ARO 55 GALONES | C35: UNIDAD | D35: 1 | E35: 414100 | F35: =ROUND(E35*19%,0) -> 78679 | G35: =ROUND(E35+F35,0) -> 492779 | H35: 430500 | I35: =ROUND(H35*19%,0) -> 81795 | J35: =ROUND(H35+I35,0) -> 512295 | K35: 455100 | L35: =ROUND(K35*19%,0) -> 86469 | M35: =ROUND(K35+L35,0) -> 541569 | O35: =ROUND(AVERAGE(E35,H35,K35),0) -> 433233 | P35: =ROUND(_xlfn.STDEV.S(G35,J35,M35),0) -> 24557 | Q35: =+((P35/O35)) -> 0.056683124
A36: 30 | B36: COMEDERO PARA GALLINAS CAPACIDAD DE. 12 KILOS | C36: UNIDAD | D36: 1 | E36: 33400 | F36: =ROUND(E36*5%,0) -> 1670 | G36: =ROUND(E36+F36,0) -> 35070 | H36: 34700 | I36: =ROUND(H36*5%,0) -> 1735 | J36: =ROUND(H36+I36,0) -> 36435 | K36: 36630 | L36: =ROUND(K36*5%,0) -> 1832 | M36: =ROUND(K36+L36,0) -> 38462 | O36: =ROUND(AVERAGE(E36,H36,K36),0) -> 34910 | P36: =ROUND(_xlfn.STDEV.S(G36,J36,M36),0) -> 1707 | Q36: =+((P36/O36)) -> 0.048897164
A37: 31 | B37: MANGUERA VERDE PARA RIEGO ACOPLADA 3 CAPAS 1/2' X 20 METROS | C37: ROLLO | D37: 1 | E37: 137400 | F37: =ROUND(E37*19%,0) -> 26106 | G37: =ROUND(E37+F37,0) -> 163506 | H37: 142800 | I37: =ROUND(H37*19%,0) -> 27132 | J37: =ROUND(H37+I37,0) -> 169932 | K37: 150960 | L37: =ROUND(K37*19%,0) -> 28682 | M37: =ROUND(K37+L37,0) -> 179642 | O37: =ROUND(AVERAGE(E37,H37,K37),0) -> 143720 | P37: =ROUND(_xlfn.STDEV.S(G37,J37,M37),0) -> 8124 | Q37: =+((P37/O37)) -> 0.056526579
A38: 32 | B38: PISTOLA PARA MANGUERA 1/2' | C38: UNIDAD | D38: 1 | E38: 47500 | F38: =ROUND(E38*19%,0) -> 9025 | G38: =ROUND(E38+F38,0) -> 56525 | H38: 49400 | I38: =ROUND(H38*19%,0) -> 9386 | J38: =ROUND(H38+I38,0) -> 58786 | K38: 52170 | L38: =ROUND(K38*19%,0) -> 9912 | M38: =ROUND(K38+L38,0) -> 62082 | O38: =ROUND(AVERAGE(E38,H38,K38),0) -> 49690 | P38: =ROUND(_xlfn.STDEV.S(G38,J38,M38),0) -> 2795 | Q38: =+((P38/O38)) -> 0.056248742
A39: 33 | B39: MANGUERA TRANSPARENTE 1/2' X METRO | C39: METRO LINEAL | D39: 1 | E39: 5500 | F39: =ROUND(E39*19%,0) -> 1045 | G39: =ROUND(E39+F39,0) -> 6545 | H39: 5700 | I39: =ROUND(H39*19%,0) -> 1083 | J39: =ROUND(H39+I39,0) -> 6783 | K39: 5994 | L39: =ROUND(K39*19%,0) -> 1139 | M39: =ROUND(K39+L39,0) -> 7133 | O39: =ROUND(AVERAGE(E39,H39,K39),0) -> 5731 | P39: =ROUND(_xlfn.STDEV.S(G39,J39,M39),0) -> 296 | Q39: =+((P39/O39)) -> 0.051648927
A40: 34 | B40: MANGUERA REVESTIDA CALIBRE 60 1/2' X 90 METROS | C40: ROLLO | D40: 1 | E40: 121200 | F40: =ROUND(E40*19%,0) -> 23028 | G40: =ROUND(E40+F40,0) -> 144228 | H40: 126000 | I40: =ROUND(H40*19%,0) -> 23940 | J40: =ROUND(H40+I40,0) -> 149940 | K40: 133200 | L40: =ROUND(K40*19%,0) -> 25308 | M40: =ROUND(K40+L40,0) -> 158508 | O40: =ROUND(AVERAGE(E40,H40,K40),0) -> 126800 | P40: =ROUND(_xlfn.STDEV.S(G40,J40,M40),0) -> 7187 | Q40: =+((P40/O40)) -> 0.056679811
A41: 35 | B41: MANILA POLIPROPILENO CALIBRE 6 X METRO | C41: METRO LINEAL | D41: 1 | E41: 2100 | F41: =ROUND(E41*19%,0) -> 399 | G41: =ROUND(E41+F41,0) -> 2499 | H41: 2100 | I41: =ROUND(H41*19%,0) -> 399 | J41: =ROUND(H41+I41,0) -> 2499 | K41: 2220 | L41: =ROUND(K41*19%,0) -> 422 | M41: =ROUND(K41+L41,0) -> 2642 | O41: =ROUND(AVERAGE(E41,H41,K41),0) -> 2140 | P41: =ROUND(_xlfn.STDEV.S(G41,J41,M41),0) -> 83 | Q41: =+((P41/O41)) -> 0.038785047
A42: 36 | B42: MANILA POLIPROPILENO CALIBRE 8 X METRO | C42: METRO LINEAL | D42: 1 | E42: 2400 | F42: =ROUND(E42*19%,0) -> 456 | G42: =ROUND(E42+F42,0) -> 2856 | H42: 2500 | I42: =ROUND(H42*19%,0) -> 475 | J42: =ROUND(H42+I42,0) -> 2975 | K42: 2553 | L42: =ROUND(K42*19%,0) -> 485 | M42: =ROUND(K42+L42,0) -> 3038 | O42: =ROUND(AVERAGE(E42,H42,K42),0) -> 2484 | P42: =ROUND(_xlfn.STDEV.S(G42,J42,M42),0) -> 92 | Q42: =+((P42/O42)) -> 0.037037037
A43: 37 | B43: MANILA POLIPROPILENO 1/2' ROLLO X 200 METROS | C43: ROLLO | D43: 1 | E43: 925400 | F43: =ROUND(E43*19%,0) -> 175826 | G43: =ROUND(E43+F43,0) -> 1101226 | H43: 962100 | I43: =ROUND(H43*19%,0) -> 182799 | J43: =ROUND(H43+I43,0) -> 1144899 | K43: 1016982 | L43: =ROUND(K43*19%,0) -> 193227 | M43: =ROUND(K43+L43,0) -> 1210209 | O43: =ROUND(AVERAGE(E43,H43,K43),0) -> 968161 | P43: =ROUND(_xlfn.STDEV.S(G43,J43,M43),0) -> 54848 | Q43: =+((P43/O43)) -> 0.056651735
A44: 38 | B44: RECOLECTOR TIPO GUARDIAN 1.5 LTR | C44: UNIDAD | D44: 1 | E44: 18100 | F44: =ROUND(E44*19%,0) -> 3439 | G44: =ROUND(E44+F44,0) -> 21539 | H44: 18800 | I44: =ROUND(H44*19%,0) -> 3572 | J44: =ROUND(H44+I44,0) -> 22372 | K44: 19869 | L44: =ROUND(K44*19%,0) -> 3775 | M44: =ROUND(K44+L44,0) -> 23644 | O44: =ROUND(AVERAGE(E44,H44,K44),0) -> 18923 | P44: =ROUND(_xlfn.STDEV.S(G44,J44,M44),0) -> 1060 | Q44: =+((P44/O44)) -> 0.056016488
A45: 39 | B45: REGADERA PARA JARDIN 7 LITROS | C45: UNIDAD | D45: 1 | E45: 85900 | F45: =ROUND(E45*19%,0) -> 16321 | G45: =ROUND(E45+F45,0) -> 102221 | H45: 89300 | I45: =ROUND(H45*19%,0) -> 16967 | J45: =ROUND(H45+I45,0) -> 106267 | K45: 94350 | L45: =ROUND(K45*19%,0) -> 17927 | M45: =ROUND(K45+L45,0) -> 112277 | O45: =ROUND(AVERAGE(E45,H45,K45),0) -> 89850 | P45: =ROUND(_xlfn.STDEV.S(G45,J45,M45),0) -> 5060 | Q45: =+((P45/O45)) -> 0.056316082
A46: 40 | B46: TAPA CANAL EXTERNA DERECHA | C46: UNIDAD | D46: 1 | E46: 12100 | F46: =ROUND(E46*19%,0) -> 2299 | G46: =ROUND(E46+F46,0) -> 14399 | H46: 12500 | I46: =ROUND(H46*19%,0) -> 2375 | J46: =ROUND(H46+I46,0) -> 14875 | K46: 13209 | L46: =ROUND(K46*19%,0) -> 2510 | M46: =ROUND(K46+L46,0) -> 15719 | O46: =ROUND(AVERAGE(E46,H46,K46),0) -> 12603 | P46: =ROUND(_xlfn.STDEV.S(G46,J46,M46),0) -> 668 | Q46: =+((P46/O46)) -> 0.053003253
A47: 41 | B47: TAPA CANAL EXTERNA IZQUIERDA | C47: UNIDAD | D47: 1 | E47: 12100 | F47: =ROUND(E47*19%,0) -> 2299 | G47: =ROUND(E47+F47,0) -> 14399 | H47: 12500 | I47: =ROUND(H47*19%,0) -> 2375 | J47: =ROUND(H47+I47,0) -> 14875 | K47: 13209 | L47: =ROUND(K47*19%,0) -> 2510 | M47: =ROUND(K47+L47,0) -> 15719 | O47: =ROUND(AVERAGE(E47,H47,K47),0) -> 12603 | P47: =ROUND(_xlfn.STDEV.S(G47,J47,M47),0) -> 668 | Q47: =+((P47/O47)) -> 0.053003253
A48: 42 | B48: UNION CANAL A BAJANTE 3' | C48: UNIDAD | D48: 1 | E48: 33300 | F48: =ROUND(E48*19%,0) -> 6327 | G48: =ROUND(E48+F48,0) -> 39627 | H48: 34600 | I48: =ROUND(H48*19%,0) -> 6574 | J48: =ROUND(H48+I48,0) -> 41174 | K48: 36519 | L48: =ROUND(K48*19%,0) -> 6939 | M48: =ROUND(K48+L48,0) -> 43458 | O48: =ROUND(AVERAGE(E48,H48,K48),0) -> 34806 | P48: =ROUND(_xlfn.STDEV.S(G48,J48,M48),0) -> 1927 | Q48: =+((P48/O48)) -> 0.055364018
... A117: 111 | B117: CLAVO PARA HERRAR 4.5' X CAJA | C117: CAJA | D117: 1 | E117: 61000 | F117: =ROUND(E117*19%,0) -> 11590 | G117: =ROUND(E117+F117,0) -> 72590 | H117: 63400 | I117: =ROUND(H117*19%,0) -> 12046 | J117: =ROUND(H117+I117,0) -> 75446 | K117: 66933 | L117: =ROUND(K117*19%,0) -> 12717 | M117: =ROUND(K117+L117,0) -> 79650 | O117: =ROUND(AVERAGE(E117,H117,K117),0) -> 63778 | P117: =ROUND(_xlfn.STDEV.S(G117,J117,M117),0) -> 3551 | Q117: =+((P117/O117)) -> 0.055677506
A118: 112 | B118: CUCHILLA PARA GUADAÑA 5% | C118: UNIDAD | D118: 1 | E118: 18200 | F118: =ROUND(E118*5%,0) -> 910 | G118: =ROUND(E118+F118,0) -> 19110 | H118: 18900 | I118: =ROUND(H118*5%,0) -> 945 | J118: =ROUND(H118+I118,0) -> 19845 | K118: 19980 | L118: =ROUND(K118*5%,0) -> 999 | M118: =ROUND(K118+L118,0) -> 20979 | O118: =ROUND(AVERAGE(E118,H118,K118),0) -> 19027 | P118: =ROUND(_xlfn.STDEV.S(G118,J118,M118),0) -> 942 | Q118: =+((P118/O118)) -> 0.049508593
A119: 113 | B119: CABUYA COSECHERA SINTETICA N.12 X 750 METROS | C119: ROLLO | D119: 1 | E119: 33400 | F119: =ROUND(E119*19%,0) -> 6346 | G119: =ROUND(E119+F119,0) -> 39746 | H119: 34700 | I119: =ROUND(H119*19%,0) -> 6593 | J119: =ROUND(H119+I119,0) -> 41293 | K119: 36630 | L119: =ROUND(K119*19%,0) -> 6960 | M119: =ROUND(K119+L119,0) -> 43590 | O119: =ROUND(AVERAGE(E119,H119,K119),0) -> 34910 | P119: =ROUND(_xlfn.STDEV.S(G119,J119,M119),0) -> 1934 | Q119: =+((P119/O119)) -> 0.055399599
A120: 114 | B120: CINTA METRICA EN FIBRA DE VIDRIO X 50 METROS | C120: ROLLO | D120: 1 | E120: 174700 | F120: =ROUND(E120*19%,0) -> 33193 | G120: =ROUND(E120+F120,0) -> 207893 | H120: 181600 | I120: =ROUND(H120*19%,0) -> 34504 | J120: =ROUND(H120+I120,0) -> 216104 | K120: 191919 | L120: =ROUND(K120*19%,0) -> 36465 | M120: =ROUND(K120+L120,0) -> 228384 | O120: =ROUND(AVERAGE(E120,H120,K120),0) -> 182740 | P120: =ROUND(_xlfn.STDEV.S(G120,J120,M120),0) -> 10313 | Q120: =+((P120/O120)) -> 0.056435373
...

Sheet Analisis de Mercado Lote 3
A1: ANALISIS DE MERCADO LOTE 3
A2: PROCESO | B2: FDRS SASI
A3: PROYECTO | B3: 1634,1648,1651,Y 1696
A4: OBJETO | B4: “SUMINISTRAR BIENES PARA EL DESARROLLO DE LOS PROYECTOS DE INVERSIÓN DEL FONDO DE DESARROLLO RURAL DE SUMAPAZ A MONTO AGOTABLE, PARA LA VIGENCIA 2024”
A5: MATERIALES DE FERRETERÍA Y OTROS
A6: ITEM | B6: DESCRIPCIÓN TÉCNICA (si aplica) | C6: UNIDAD/MED | D6: CANTIDAD TOTAL | E6: VALOR UNITARIO SIN IVA | F6: VALOR DE IVA | G6: VALOR UNITARIO CON IVA
A7: 1 | B7: ABRAZADERA CREMALLERA 1/2' | C7: UNIDAD | D7: 1 | E7: =ROUND(AVERAGE('Lote 3 Ferreteria'!E7,'Lote 3 Ferreteria'!H7,'Lote 3 Ferreteria'!K7),0) -> 1655 | F7: =ROUND(E7*19%,0) -> 314 | G7: =+ROUND(E7+F7,0) -> 1969
A8: 2 | B8: ADAPTADOR PVC HEMBRA 1/2' | C8: UNIDAD | D8: 1 | E8: =ROUND(AVERAGE('Lote 3 Ferreteria'!E8,'Lote 3 Ferreteria'!H8,'Lote 3 Ferreteria'!K8),0) -> 863 | F8: =ROUND(E8*19%,0) -> 164 | G8: =+ROUND(E8+F8,0) -> 1027
A9: 3 | B9: ADAPTADOR PVC MACHO 1/2' | C9: UNIDAD | D9: 1 | E9: =ROUND(AVERAGE('Lote 3 Ferreteria'!E9,'Lote 3 Ferreteria'!H9,'Lote 3 Ferreteria'!K9),0) -> 826 | F9: =ROUND(E9*19%,0) -> 157 | G9: =+ROUND(E9+F9,0) -> 983
A10: 4 | B10: BUJE ROSCADO PVC 1' X 1/2' | C10: UNIDAD | D10: 1 | E10: =ROUND(AVERAGE('Lote 3 Ferreteria'!E10,'Lote 3 Ferreteria'!H10,'Lote 3 Ferreteria'!K10),0) -> 3106 | F10: =ROUND(E10*19%,0) -> 590 | G10: =+ROUND(E10+F10,0) -> 3696
A11: 5 | B11: CANAL AMAZONAS X 3 METROS | C11: UNIDAD | D11: 1 | E11: =ROUND(AVERAGE('Lote 3 Ferreteria'!E11,'Lote 3 Ferreteria'!H11,'Lote 3 Ferreteria'!K11),0) -> 129699 | F11: =ROUND(E11*19%,0) -> 24643 | G11: =+ROUND(E11+F11,0) -> 154342
A12: 6 | B12: LIMPIADOR PVC 1/32 | C12: UNIDAD | D12: 1 | E12: =ROUND(AVERAGE('Lote 3 Ferreteria'!E12,'Lote 3 Ferreteria'!H12,'Lote 3 Ferreteria'!K12),0) -> 10256 | F12: =ROUND(E12*19%,0) -> 1949 | G12: =+ROUND(E12+F12,0) -> 12205
A13: 7 | B13: LIMPIADOR PVC 12 ONZAS | C13: UNIDAD | D13: 1 | E13: =ROUND(AVERAGE('Lote 3 Ferreteria'!E13,'Lote 3 Ferreteria'!H13,'Lote 3 Ferreteria'!K13),0) -> 33322 | F13: =ROUND(E13*19%,0) -> 6331 | G13: =+ROUND(E13+F13,0) -> 39653
A14: 8 | B14: LLAVE PARA JARDIN PVC 1/2' | C14: UNIDAD | D14: 1 | E14: =ROUND(AVERAGE('Lote 3 Ferreteria'!E14,'Lote 3 Ferreteria'!H14,'Lote 3 Ferreteria'!K14),0) -> 31389 | F14: =ROUND(E14*19%,0) -> 5964 | G14: =+ROUND(E14+F14,0) -> 37353
A15: 9 | B15: BUJE SOLDADO PVC 4' X 2' | C15: UNIDAD | D15: 1 | E15: =ROUND(AVERAGE('Lote 3 Ferreteria'!E15,'Lote 3 Ferreteria'!H15,'Lote 3 Ferreteria'!K15),0) -> 38053 | F15: =ROUND(E15*19%,0) -> 7230 | G15: =+ROUND(E15+F15,0) -> 45283
A16: 10 | B16: BUJE SOLDADO PVC 2' X 1' | C16: UNIDAD | D16: 1 | E16: =ROUND(AVERAGE('Lote 3 Ferreteria'!E16,'Lote 3 Ferreteria'!H16,'Lote 3 Ferreteria'!K16),0) -> 7009 | F16: =ROUND(E16*19%,0) -> 1332 | G16: =+ROUND(E16+F16,0) -> 8341
A17: 11 | B17: REGISTRO BOLA PVC LISO 1' | C17: UNIDAD | D17: 1 | E17: =ROUND(AVERAGE('Lote 3 Ferreteria'!E17,'Lote 3 Ferreteria'!H17,'Lote 3 Ferreteria'!K17),0) -> 23825 | F17: =ROUND(E17*19%,0) -> 4527 | G17: =+ROUND(E17+F17,0) -> 28352
A18: 12 | B18: TUBO PVC RDE 21 1' | C18: UNIDAD | D18: 1 | E18: =ROUND(AVERAGE('Lote 3 Ferreteria'!E18,'Lote 3 Ferreteria'!H18,'Lote 3 Ferreteria'!K18),0) -> 34806 | F18: =ROUND(E18*19%,0) -> 6613 | G18: =+ROUND(E18+F18,0) -> 41419
... A31: 25 | B31: BEBEDERO BAJITO 500 LITROS CON FLOTADOR | C31: UNIDAD | D31: 1 | E31: =ROUND(AVERAGE('Lote 3 Ferreteria'!E31,'Lote 3 Ferreteria'!H31,'Lote 3 Ferreteria'!K31),0) -> 750233 | F31: =ROUND(E31*19%,0) -> 142544 | G31: =+ROUND(E31+F31,0) -> 892777
A32: 26 | B32: BEBEDERO PARA GALLINAS CAPACIDAD 7 LITROS | C32: UNIDAD | D32: 1 | E32: =ROUND(AVERAGE('Lote 3 Ferreteria'!E32,'Lote 3 Ferreteria'!H32,'Lote 3 Ferreteria'!K32),0) -> 34910 | F32: =ROUND(E32*5%,0) -> 1746 | G32: =+ROUND(E32+F32,0) -> 36656
A33: 27 | B33: FUMIGADORA MANUAL TANQUE 20 LITROS - IVA 5% | C33: UNIDAD | D33: 1 | E33: =ROUND(AVERAGE('Lote 3 Ferreteria'!E33,'Lote 3 Ferreteria'!H33,'Lote 3 Ferreteria'!K33),0) -> 788183 | F33: =ROUND(E33*5%,0) -> 39409 | G33: =+ROUND(E33+F33,0) -> 827592
A34: 28 | B34: ATOMIZADOR PLASTICO 1000 ML | C34: UNIDAD | D34: 1 | E34: =ROUND(AVERAGE('Lote 3 Ferreteria'!E34,'Lote 3 Ferreteria'!H34,'Lote 3 Ferreteria'!K34),0) -> 17990 | F34: =ROUND(E34*19%,0) -> 3418 | G34: =+ROUND(E34+F34,0) -> 21408
A35: 29 | B35: CANECA PLASTICA CON TAPA Y ARO 55 GALONES | C35: UNIDAD | D35: 1 | E35: =ROUND(AVERAGE('Lote 3 Ferreteria'!E35,'Lote 3 Ferreteria'!H35,'Lote 3 Ferreteria'!K35),0) -> 433233 | F35: =ROUND(E35*19%,0) -> 82314 | G35: =+ROUND(E35+F35,0) -> 515547
A36: 30 | B36: COMEDERO PARA GALLINAS CAPACIDAD DE. 12 KILOS | C36: UNIDAD | D36: 1 | E36: =ROUND(AVERAGE('Lote 3 Ferreteria'!E36,'Lote 3 Ferreteria'!H36,'Lote 3 Ferreteria'!K36),0) -> 34910 | F36: =ROUND(E36*5%,0) -> 1746 | G36: =+ROUND(E36+F36,0) -> 36656
A37: 31 | B37: MANGUERA VERDE PARA RIEGO ACOPLADA 3 CAPAS 1/2' X 20 METROS | C37: ROLLO | D37: 1 | E37: =ROUND(AVERAGE('Lote 3 Ferreteria'!E37,'Lote 3 Ferreteria'!H37,'Lote 3 Ferreteria'!K37),0) -> 143720 | F37: =ROUND(E37*19%,0) -> 27307 | G37: =+ROUND(E37+F37,0) -> 171027
A38: 32 | B38: PISTOLA PARA MANGUERA 1/2' | C38: UNIDAD | D38: 1 | E38: =ROUND(AVERAGE('Lote 3 Ferreteria'!E38,'Lote 3 Ferreteria'!H38,'Lote 3 Ferreteria'!K38),0) -> 49690 | F38: =ROUND(E38*19%,0) -> 9441 | G38: =+ROUND(E38+F38,0) -> 59131
A39: 33 | B39: MANGUERA TRANSPARENTE 1/2' X METRO | C39: METRO LINEAL | D39: 1 | E39: =ROUND(AVERAGE('Lote 3 Ferreteria'!E39,'Lote 3 Ferreteria'!H39,'Lote 3 Ferreteria'!K39),0) -> 5731 | F39: =ROUND(E39*19%,0) -> 1089 | G39: =+ROUND(E39+F39,0) -> 6820
A40: 34 | B40: MANGUERA REVESTIDA CALIBRE 60 1/2' X 90 METROS | C40: ROLLO | D40: 1 | E40: =ROUND(AVERAGE('Lote 3 Ferreteria'!E40,'Lote 3 Ferreteria'!H40,'Lote 3 Ferreteria'!K40),0) -> 126800 | F40: =ROUND(E40*19%,0) -> 24092 | G40: =+ROUND(E40+F40,0) -> 150892
A41: 35 | B41: MANILA POLIPROPILENO CALIBRE 6 X METRO | C41: METRO LINEAL | D41: 1 | E41: =ROUND(AVERAGE('Lote 3 Ferreteria'!E41,'Lote 3 Ferreteria'!H41,'Lote 3 Ferreteria'!K41),0) -> 2140 | F41: =ROUND(E41*19%,0) -> 407 | G41: =+ROUND(E41+F41,0) -> 2547
A42: 36 | B42: MANILA POLIPROPILENO CALIBRE 8 X METRO | C42: METRO LINEAL | D42: 1 | E42: =ROUND(AVERAGE('Lote 3 Ferreteria'!E42,'Lote 3 Ferreteria'!H42,'Lote 3 Ferreteria'!K42),0) -> 2484 | F42: =ROUND(E42*19%,0) -> 472 | G42: =+ROUND(E42+F42,0) -> 2956
A43: 37 | B43: MANILA POLIPROPILENO 1/2' ROLLO X 200 METROS | C43: ROLLO | D43: 1 | E43: =ROUND(AVERAGE('Lote 3 Ferreteria'!E43,'Lote 3 Ferreteria'!H43,'Lote 3 Ferreteria'!K43),0) -> 968161 | F43: =ROUND(E43*19%,0) -> 183951 | G43: =+ROUND(E43+F43,0) -> 1152112
A44: 38 | B44: RECOLECTOR TIPO GUARDIAN 1.5 LTR | C44: UNIDAD | D44: 1 | E44: =ROUND(AVERAGE('Lote 3 Ferreteria'!E44,'Lote 3 Ferreteria'!H44,'Lote 3 Ferreteria'!K44),0) -> 18923 | F44: =ROUND(E44*19%,0) -> 3595 | G44: =+ROUND(E44+F44,0) -> 22518
A45: 39 | B45: REGADERA PARA JARDIN 7 LITROS | C45: UNIDAD | D45: 1 | E45: =ROUND(AVERAGE('Lote 3 Ferreteria'!E45,'Lote 3 Ferreteria'!H45,'Lote 3 Ferreteria'!K45),0) -> 89850 | F45: =ROUND(E45*19%,0) -> 17072 | G45: =+ROUND(E45+F45,0) -> 106922
A46: 40 | B46: TAPA CANAL EXTERNA DERECHA | C46: UNIDAD | D46: 1 | E46: =ROUND(AVERAGE('Lote 3 Ferreteria'!E46,'Lote 3 Ferreteria'!H46,'Lote 3 Ferreteria'!K46),0) -> 12603 | F46: =ROUND(E46*19%,0) -> 2395 | G46: =+ROUND(E46+F46,0) -> 14998
A47: 41 | B47: TAPA CANAL EXTERNA IZQUIERDA | C47: UNIDAD | D47: 1 | E47: =ROUND(AVERAGE('Lote 3 Ferreteria'!E47,'Lote 3 Ferreteria'!H47,'Lote 3 Ferreteria'!K47),0) -> 12603 | F47: =ROUND(E47*19%,0) -> 2395 | G47: =+ROUND(E47+F47,0) -> 14998
A48: 42 | B48: UNION CANAL A BAJANTE 3' | C48: UNIDAD | D48: 1 | E48: =ROUND(AVERAGE('Lote 3 Ferreteria'!E48,'Lote 3 Ferreteria'!H48,'Lote 3 Ferreteria'!K48),0) -> 34806 | F48: =ROUND(E48*19%,0) -> 6613 | G48: =+ROUND(E48+F48,0) -> 41419
... A117: 111 | B117: CLAVO PARA HERRAR 4.5' X CAJA | C117: CAJA | D117: 1 | E117: =ROUND(AVERAGE('Lote 3 Ferreteria'!E117,'Lote 3 Ferreteria'!H117,'Lote 3 Ferreteria'!K117),0) -> 63778 | F117: =ROUND(E117*19%,0) -> 12118 | G117: =+ROUND(E117+F117,0) -> 75896
A118: 112 | B118: CUCHILLA PARA GUADAÑA 5% | C118: UNIDAD | D118: 1 | E118: =ROUND(AVERAGE('Lote 3 Ferreteria'!E118,'Lote 3 Ferreteria'!H118,'Lote 3 Ferreteria'!K118),0) -> 19027 | F118: =ROUND(E118*5%,0) -> 951 | G118: =+ROUND(E118+F118,0) -> 19978
A119: 113 | B119: CABUYA COSECHERA SINTETICA N.12 X 750 METROS | C119: ROLLO | D119: 1 | E119: =ROUND(AVERAGE('Lote 3 Ferreteria'!E119,'Lote 3 Ferreteria'!H119,'Lote 3 Ferreteria'!K119),0) -> 34910 | F119: =ROUND(E119*19%,0) -> 6633 | G119: =+ROUND(E119+F119,0) -> 41543
A120: 114 | B120: CINTA METRICA EN FIBRA DE VIDRIO X 50 METROS | C120: ROLLO | D120: 1 | E120: =ROUND(AVERAGE('Lote 3 Ferreteria'!E120,'Lote 3 Ferreteria'!H120,'Lote 3 Ferreteria'!K120),0) -> 182740 | F120: =ROUND(E120*19%,0) -> 34721 | G120: =+ROUND(E120+F120,0) -> 217461
...
