Workbook

Sheet Lote 3 Ferreteria
A1: PROCESO DE SUMINISTRO (FERRETERIA Y OTROS)
A2: PROCESO | B2: FDRS SASI
A3: PROYECTO | B3: 1634,1648,1651,Y 1696
A4: OBJETO | B4: “SUMINISTRAR BIENES PARA EL DESARROLLO DE LOS PROYECTOS DE INVERSIÓN DEL FONDO DE DESARROLLO RURAL DE SUMAPAZ A MONTO AGOTABLE, PARA LA VIGENCIA 2024”
B5: MATERIALES DE FERRETERÍA Y OTROS | E5: COTIZACION No1 | H5: COTIZACION No2 | K5: COTIZACION No3
A6: ITEM | B6: DESCRIPCIÓN | C6: UNIDAD/MED | D6: CANTIDAD TOTAL | E6: VALOR UNITARIO SIN IVA | F6: VALOR DE IVA | G6: VALOR UNITARIO CON IVA | H6: VALOR UNITARIO SIN IVA | I6: VALOR DE IVA | J6: VALOR UNITARIO CON IVA | K6: VALOR UNITARIO SIN IVA | L6: VALOR DE IVA | M6: VALOR UNITARIO CON IVA | O6: PROMEDIO VALOR UNITARIO ANTES DE IVA | P6: DESVIACION ESTANDAR | Q6: COEFICIENTE DE VARIACION
A7: 1 | B7: ABRAZADERA CREMALLERA 1/2' | C7: UNIDAD | D7: 1 | E7: 1600 | F7: =ROUND(E7*19%,0) -> 304 | G7: =ROUND(E7+F7,0) -> 1904 | H7: 1700 | I7: =ROUND(H7*19%,0) -> 323 | J7: =ROUND(H7+I7,0) -> 2023 | K7: 1665 | L7: =ROUND(K7*19%,0) -> 316 | M7: =ROUND(K7+L7,0) -> 1981 | O7: =ROUND(AVERAGE(E7,H7,K7),0) -> 1655 | P7: =ROUND(_xlfn.STDEV.S(G7,J7,M7),0) -> 60 | Q7: =+((P7/O7)) -> 0.036253776
A8: 2 | B8: ADAPTADOR PVC HEMBRA 1/2' | C8: UNIDAD | D8: 1 | E8: 900 | F8: =ROUND(E8*19%,0) -> 171 | G8: =ROUND(E8+F8,0) -> 1071 | H8: 800 | I8: =ROUND(H8*19%,0) -> 152 | J8: =ROUND(H8+I8,0) -> 952 | K8: 888 | L8: =ROUND(K8*19%,0) -> 169 | M8: =ROUND(K8+L8,0) -> 1057 | O8: =ROUND(AVERAGE(E8,H8,K8),0) -> 863 | P8: =ROUND(_xlfn.STDEV.S(G8,J8,M8),0) -> 65 | Q8: =+((P8/O8)) -> 0.075318656
A9: 3 | B9: ADAPTADOR PVC MACHO 1/2' | C9: UNIDAD | D9: 1 | E9: 800 | F9: =ROUND(E9*19%,0) -> 152 | G9: =ROUND(E9+F9,0) -> 952 | H9: 900 | I9: =ROUND(H9*19%,0) -> 171 | J9: =ROUND(H9+I9,0) -> 1071 | K9: 777 | L9: =ROUND(K9*19%,0) -> 148 | M9: =ROUND(K9+L9,0) -> 925 | O9: =ROUND(AVERAGE(E9,H9,K9),0) -> 826 | P9: =ROUND(_xlfn.STDEV.S(G9,J9,M9),0) -> 78 | Q9: =+((P9/O9)) -> 0.094430993
A10: 4 | B10: BUJE ROSCADO PVC 1' X 1/2' | C10: UNIDAD | D10: 1 | E10: 3000 | F10: =ROUND(E10*19%,0) -> 570 | G10: =ROUND(E10+F10,0) -> 3570 | H10: 3100 | I10: =ROUND(H10*19%,0) -> 589 | J10: =ROUND(H10+I10,0) -> 3689 | K10: 3219 | L10: =ROUND(K10*19%,0) -> 612 | M10: =ROUND(K10+L10,0) -> 3831 | O10: =ROUND(AVERAGE(E10,H10,K10),0) -> 3106 | P10: =ROUND(_xlfn.STDEV.S(G10,J10,M10),0) -> 131 | Q10: =+((P10/O10)) -> 0.042176433
A11: 5 | B11: CANAL AMAZONAS X 3 METROS | C11: UNIDAD | D11: 1 | E11: 124000 | F11: =ROUND(E11*19%,0) -> 23560 | G11: =ROUND(E11+F11,0) -> 147560 | H11: 128900 | I11: =ROUND(H11*19%,0) -> 24491 | J11: =ROUND(H11+I11,0) -> 153391 | K11: 136197 | L11: =ROUND(K11*19%,0) -> 25877 | M11: =ROUND(K11+L11,0) -> 162074 | O11: =ROUND(AVERAGE(E11,H11,K11),0) -> 129699 | P11: =ROUND(_xlfn.STDEV.S(G11,J11,M11),0) -> 7304 | Q11: =+((P11/O11)) -> 0.056315006
A12: 6 | B12: LIMPIADOR PVC 1/32 | C12: UNIDAD | D12: 1 | E12: 9800 | F12: =ROUND(E12*19%,0) -> 1862 | G12: =ROUND(E12+F12,0) -> 11662 | H12: 10200 | I12: =ROUND(H12*19%,0) -> 1938 | J12: =ROUND(H12+I12,0) -> 12138 | K12: 10767 | L12: =ROUND(K12*19%,0) -> 2046 | M12: =ROUND(K12+L12,0) -> 12813 | O12: =ROUND(AVERAGE(E12,H12,K12),0) -> 10256 | P12: =ROUND(_xlfn.STDEV.S(G12,J12,M12),0) -> 578 | Q12: =+((P12/O12)) -> 0.056357254
A13: 7 | B13: LIMPIADOR PVC 12 ONZAS | C13: UNIDAD | D13: 1 | E13: 31900 | F13: =ROUND(E13*19%,0) -> 6061 | G13: =ROUND(E13+F13,0) -> 37961 | H13: 33100 | I13: =ROUND(H13*19%,0) -> 6289 | J13: =ROUND(H13+I13,0) -> 39389 | K13: 34965 | L13: =ROUND(K13*19%,0) -> 6643 | M13: =ROUND(K13+L13,0) -> 41608 | O13: =ROUND(AVERAGE(E13,H13,K13),0) -> 33322 | P13: =ROUND(_xlfn.STDEV.S(G13,J13,M13),0) -> 1838 | Q13: =+((P13/O13)) -> 0.055158754
A14: 8 | B14: LLAVE PARA JARDIN PVC 1/2' | C14: UNIDAD | D14: 1 | E14: 30000 | F14: =ROUND(E14*19%,0) -> 5700 | G14: =ROUND(E14+F14,0) -> 35700 | H14: 31200 | I14: =ROUND(H14*19%,0) -> 5928 | J14: =ROUND(H14+I14,0) -> 37128 | K14: 32967 | L14: =ROUND(K14*19%,0) -> 6264 | M14: =ROUND(K14+L14,0) -> 39231 | O14: =ROUND(AVERAGE(E14,H14,K14),0) -> 31389 | P14: =ROUND(_xlfn.STDEV.S(G14,J14,M14),0) -> 1776 | Q14: =+((P14/O14)) -> 0.056580331
A15: 9 | B15: BUJE SOLDADO PVC 4' X 2' | C15: UNIDAD | D15: 1 | E15: 36400 | F15: =ROUND(E15*19%,0) -> 6916 | G15: =ROUND(E15+F15,0) -> 43316 | H15: 37800 | I15: =ROUND(H15*19%,0) -> 7182 | J15: =ROUND(H15+I15,0) -> 44982 | K15: 39960 | L15: =ROUND(K15*19%,0) -> 7592 | M15: =ROUND(K15+L15,0) -> 47552 | O15: =ROUND(AVERAGE(E15,H15,K15),0) -> 38053 | P15: =ROUND(_xlfn.STDEV.S(G15,J15,M15),0) -> 2134 | Q15: =+((P15/O15)) -> 0.056079678
A16: 10 | B16: BUJE SOLDADO PVC 2' X 1' | C16: UNIDAD | D16: 1 | E16: 6700 | F16: =ROUND(E16*19%,0) -> 1273 | G16: =ROUND(E16+F16,0) -> 7973 | H16: 7000 | I16: =ROUND(H16*19%,0) -> 1330 | J16: =ROUND(H16+I16,0) -> 8330 | K16: 7326 | L16: =ROUND(K16*19%,0) -> 1392 | M16: =ROUND(K16+L16,0) -> 8718 | O16: =ROUND(AVERAGE(E16,H16,K16),0) -> 7009 | P16: =ROUND(_xlfn.STDEV.S(G16,J16,M16),0) -> 373 | Q16: =+((P16/O16)) -> 0.053217292
A17: 11 | B17: REGISTRO BOLA PVC LISO 1' | C17: UNIDAD | D17: 1 | E17: 22800 | F17: =ROUND(E17*19%,0) -> 4332 | G17: =ROUND(E17+F17,0) -> 27132 | H17: 23700 | I17: =ROUND(H17*19%,0) -> 4503 | J17: =ROUND(H17+I17,0) -> 28203 | K17: 24975 | L17: =ROUND(K17*19%,0) -> 4745 | M17: =ROUND(K17+L17,0) -> 29720 | O17: =ROUND(AVERAGE(E17,H17,K17),0) -> 23825 | P17: =ROUND(_xlfn.STDEV.S(G17,J17,M17),0) -> 1300 | Q17: =+((P17/O17)) -> 0.054564533
A18: 12 | B18: TUBO PVC RDE 21 1' | C18: UNIDAD | D18: 1 | E18: 33300 | F18: =ROUND(E18*19%,0) -> 6327 | G18: =ROUND(E18+F18,0) -> 39627 | H18: 34600 | I18: =ROUND(H18*19%,0) -> 6574 | J18: =ROUND(H18+I18,0) -> 41174 | K18: 36519 | L18: =ROUND(K18*19%,0) -> 6939 | M18: =ROUND(K18+L18,0) -> 43458 | O18: =ROUND(AVERAGE(E18,H18,K18),0) -> 34806 | P18: =ROUND(_xlfn.STDEV.S(G18,J18,M18),0) -> 1927 | Q18: =+((P18/O18)) -> 0.055364018
... A31: 25 | B31: BEBEDERO BAJITO 500 LITROS CON FLOTADOR | C31: UNIDAD | D31: 1 | E31: 717100 | F31: =ROUND(E31*19%,0) -> 136249 | G31: =ROUND(E31+F31,0) -> 853349 | H31: 745500 | I31: =ROUND(H31*19%,0) -> 141645 | J31: =ROUND(H31+I31,0) -> 887145 | K31: 788100 | L31: =ROUND(K31*19%,0) -> 149739 | M31: =ROUND(K31+L31,0) -> 937839 | O31: =ROUND(AVERAGE(E31,H31,K31),0) -> 750233 | P31: =ROUND(_xlfn.STDEV.S(G31,J31,M31),0) -> 42526 | Q31: =+((P31/O31)) -> 0.056683724
A32: 26 | B32: BEBEDERO PARA GALLINAS CAPACIDAD 7 LITROS | C32: UNIDAD | D32: 1 | E32: 33400 | F32: =ROUND(E32*5%,0) -> 1670 | G32: =ROUND(E32+F32,0) -> 35070 | H32: 34700 | I32: =ROUND(H32*5%,0) -> 1735 | J32: =ROUND(H32+I32,0) -> 36435 | K32: 36630 | L32: =ROUND(K32*5%,0) -> 1832 | M32: =ROUND(K32+L32,0) -> 38462 | O32: =ROUND(AVERAGE(E32,H32,K32),0) -> 34910 | P32: =ROUND(_xlfn.STDEV.S(G32,J32,M32),0) -> 1707 | Q32: =+((P32/O32)) -> 0.048897164
A33: 27 | B33: FUMIGADORA MANUAL TANQUE 20 LITROS - IVA 5% | C33: UNIDAD | D33: 1 | E33: 753400 | F33: =ROUND(E33*5%,0) -> 37670 | G33: =ROUND(E33+F33,0) -> 791070 | H33: 783200 | I33: =ROUND(H33*5%,0) -> 39160 | J33: =ROUND(H33+I33,0) -> 822360 | K33: 827949 | L33: =ROUND(K33*5%,0) -> 41397 | M33: =ROUND(K33+L33,0) -> 869346 | O33: =ROUND(AVERAGE(E33,H33,K33),0) -> 788183 | P33: =ROUND(_xlfn.STDEV.S(G33,J33,M33),0) -> 39399 | Q33: =+((P33/O33)) -> 0.049987122
A34: 28 | B34: ATOMIZADOR PLASTICO 1000 ML | C34: UNIDAD | D34: 1 | E34: 17200 | F34: =ROUND(E34*19%,0) -> 3268 | G34: =ROUND(E34+F34,0) -> 20468 | H34: 17900 | I34: =ROUND(H34*19%,0) -> 3401 | J34: =ROUND(H34+I34,0) -> 21301 | K34: 18870 | L34: =ROUND(K34*19%,0) -> 3585 | M34: =ROUND(K34+L34,0) -> 22455 | O34: =ROUND(AVERAGE(E34,H34,K34),0) -> 17990 | P34: =ROUND(_xlfn.STDEV.S(G34,J34,M34),0) -> 998 | Q34: =+((P34/O34)) -> 0.055475264
A35: 29 | B35: CANECA PLASTICA CON TAPA Y ARO 55 GALONES | C35: UNIDAD | D35: 1 | E35: 414100 | F35: =ROUND(E35*19%,0) -> 78679 | G35: =ROUND(E35+F35,0) -> 492779 | H35: 430500 | I35: =ROUND(H35*19%,0) -> 81795 | J35: =ROUND(H35+I35,0) -> 512295 | K35: 455100 | L35: =ROUND(K35*19%,0) -> 86469 | M35: =ROUND(K35+L35,0) -> 541569 | O35: =ROUND(AVERAGE(E35,H35,K35),0) -> 433233 | P35: =ROUND(_xlfn.STDEV.S(G35,J35,M35),0) -> 24557 | Q35: =+((P35/O35)) -> 0.056683124
A36: 30 | B36: COMEDERO PARA GALLINAS CAPACIDAD DE. 12 KILOS | C36: UNIDAD | D36: 1 | E36: 33400 | F36: =ROUND(E36*5%,0) -> 1670 | G36: =ROUND(E36+F36,0) -> 35070 | H36: 34700 | I36: =ROUND(H36*5%,0) -> 1735 | J36: =ROUND(H36+I36,0) -> 36435 | K36: 36630 | L36: =ROUND(K36*5%,0) -> 1832 | M36: =ROUND(K36+L36,0) -> 38462 | O36: =ROUND(AVERAGE(E36,H36,K36),0) -> 34910 | P36: =ROUND(_xlfn.STDEV.S(G36,J36,M36),0) -> 1707 | Q36: =+((P36/O36)) -> 0.048897164
A37: 31 | B37: MANGUERA VERDE PARA RIEGO ACOPLADA 3 CAPAS 1/2' X 20 METROS | C37: ROLLO | D37: 1 | E37: 137400 | F37: =ROUND(E37*19%,0) -> 26106 | G37: =ROUND(E37+F37,0) -> 163506 | H37: 142800 | I37: =ROUND(H37*19%,0) -> 27132 | J37: =ROUND(H37+I37,0) -> 169932 | K37: 150960 | L37: =ROUND(K37*19%,0) -> 28682 | M37: =ROUND(K37+L37,0) -> 179642 | O37: =ROUND(AVERAGE(E37,H37,K37),0) -> 143720 | P37: =ROUND(_xlfn.STDEV.S(G37,J37,M37),0) -> 8124 | Q37: =+((P37/O37)) -> 0.056526579
A38: 32 | B38: PISTOLA PARA MANGUERA 1/2' | C38: UNIDAD | D38: 1 | E38: 47500 | F38: =ROUND(E38*19%,0) -> 9025 | G38: =ROUND(E38+F38,0) -> 56525 | H38: 49400 | I38: =ROUND(H38*19%,0) -> 9386 | J38: =ROUND(H38+I38,0) -> 58786 | K38: 52170 | L38: =ROUND(K38*19%,0) -> 9912 | M38: =ROUND(K38+L38,0) -> 62082 | O38: =ROUND(AVERAGE(E38,H38,K38),0) -> 49690 | P38: =ROUND(_xlfn.STDEV.S(G38,J38,M38),0) -> 2795 | Q38: =+((P38/O38)) -> 0.056248742
A39: 33 | B39: MANGUERA TRANSPARENTE 1/2' X METRO | C39: METRO LINEAL | D39: 1 | E39: 5500 | F39: =ROUND(E39*19%,0) -> 1045 | G39: =ROUND(E39+F39,0) -> 6545 | H39: 5700 | I39: =ROUND(H39*19%,0) -> 1083 | J39: =ROUND(H39+I39,0) -> 6783 | K39: 5994 | L39: =ROUND(K39*19%,0) -> 1139 | M39: =ROUND(K39+L39,0) -> 7133 | O39: =ROUND(AVERAGE(E39,H39,K39),0) -> 5731 | P39: =ROUND(_xlfn.STDEV.S(G39,J39,M39),0) -> 296 | Q39: =+((P39/O39)) -> 0.051648927
A40: 34 | B40: MANGUERA REVESTIDA CALIBRE 60 1/2' X 90 METROS | C40: ROLLO | D40: 1 | E40: 121200 | F40: =ROUND(E40*19%,0) -> 23028 | G40: =ROUND(E40+F40,0) -> 144228 | H40: 126000 | I40: =ROUND(H40*19%,0) -> 23940 | J40: =ROUND(H40+I40,0) -> 149940 | K40: 133200 | L40: =ROUND(K40*19%,0) -> 25308 | M40: =ROUND(K40+L40,0) -> 158508 | O40: =ROUND(AVERAGE(E40,H40,K40),0) -> 126800 | P40: =ROUND(_xlfn.STDEV.S(G40,J40,M40),0) -> 7187 | Q40: =+((P40/O40)) -> 0.056679811
A41: 35 | B41: MANILA POLIPROPILENO CALIBRE 6 X METRO | C41: METRO LINEAL | D41: 1 | E41: 2100 | F41: =ROUND(E41*19%,0) -> 399 | G41: =ROUND(E41+F41,0) -> 2499 | H41: 2100 | I41: =ROUND(H41*19%,0) -> 399 | J41: =ROUND(H41+I41,0) -> 2499 | K41: 2220 | L41: =ROUND(K41*19%,0) -> 422 | M41: =ROUND(K41+L41,0) -> 2642 | O41: =ROUND(AVERAGE(E41,H41,K41),0) -> 2140 | P41: =ROUND(_xlfn.STDEV.S(G41,J41,M41),0) -> 83 | Q41: =+((P41/O41)) -> 0.038785047
A42: 36 | B42: MANILA POLIPROPILENO CALIBRE 8 X METRO | C42: METRO LINEAL | D42: 1 | E42: 2400 | F42: =ROUND(E42*19%,0) -> 456 | G42: =ROUND(E42+F42,0) -> 2856 | H42: 2500 | I42: =ROUND(H42*19%,0) -> 475 | J42: =ROUND(H42+I42,0) -> 2975 | K42: 2553 | L42: =ROUND(K42*19%,0) -> 485 | M42: =ROUND(K42+L42,0) -> 3038 | O42: =ROUND(AVERAGE(E42,H42,K42),0) -> 2484 | P42: =ROUND(_xlfn.STDEV.S(G42,J42,M42),0) -> 92 | Q42: =+((P42/O42)) -> 0.037037037
A43: 37 | B43: MANILA POLIPROPILENO 1/2' ROLLO X 200 METROS | C43: ROLLO | D43: 1 | E43: 925400 | F43: =ROUND(E43*19%,0) -> 175826 | G43: =ROUND(E43+F43,0) -> 1101226 | H43: 962100 | I43: =ROUND(H43*19%,0) -> 182799 | J43: =ROUND(H43+I43,0) -> 1144899 | K43: 1016982 | L43: =ROUND(K43*19%,0) -> 193227 | M43: =ROUND(K43+L43,0) -> 1210209 | O43: =ROUND(AVERAGE(E43,H43,K43),0) -> 968161 | P43: =ROUND(_xlfn.STDEV.S(G43,J43,M43),0) -> 54848 | Q43: =+((P43/O43)) -> 0.056651735
A44: 38 | B44: RECOLECTOR TIPO GUARDIAN 1.5 LTR | C44: UNIDAD | D44: 1 | E44: 18100 | F44: =ROUND(E44*19%,0) -> 3439 | G44: =ROUND(E44+F44,0) -> 21539 | H44: 18800 | I44: =ROUND(H44*19%,0) -> 3572 | J44: =ROUND(H44+I44,0) -> 22372 | K44: 19869 | L44: =ROUND(K44*19%,0) -> 3775 | M44: =ROUND(K44+L44,0) -> 23644 | O44: =ROUND(AVERAGE(E44,H44,K44),0) -> 18923 | P44: =ROUND(_xlfn.STDEV.S(G44,J44,M44),0) -> 1060 | Q44: =+((P44/O44)) -> 0.056016488
A45: 39 | B45: REGADERA PARA JARDIN 7 LITROS | C45: UNIDAD | D45: 1 | E45: 85900 | F45: =ROUND(E45*19%,0) -> 16321 | G45: =ROUND(E45+F45,0) -> 102221 | H45: 89300 | I45: =ROUND(H45*19%,0) -> 16967 | J45: =ROUND(H45+I45,0) -> 106267 | K45: 94350 | L45: =ROUND(K45*19%,0) -> 17927 | M45: =ROUND(K45+L45,0) -> 112277 | O45: =ROUND(AVERAGE(E45,H45,K45),0) -> 89850 | P45: =ROUND(_xlfn.STDEV.S(G45,J45,M45),0) -> 5060 | Q45: =+((P45/O45)) -> 0.056316082
A46: 40 | B46: TAPA CANAL EXTERNA DERECHA | C46: UNIDAD | D46: 1 | E46: 12100 | F46: =ROUND(E46*19%,0) -> 2299 | G46: =ROUND(E46+F46,0) -> 14399 | H46: 12500 | I46: =ROUND(H46*19%,0) -> 2375 | J46: =ROUND(H46+I46,0) -> 14875 | K46: 13209 | L46: =ROUND(K46*19%,0) -> 2510 | M46: =ROUND(K46+L46,0) -> 15719 | O46: =ROUND(AVERAGE(E46,H46,K46),0) -> 12603 | P46: =ROUND(_xlfn.STDEV.S(G46,J46,M46),0) -> 668 | Q46: =+((P46/O46)) -> 0.053003253
A47: 41 | B47: TAPA CANAL EXTERNA IZQUIERDA | C47: UNIDAD | D47: 1 | E47: 12100 | F47: =ROUND(E47*19%,0) -> 2299 | G47: =ROUND(E47+F47,0) -> 14399 | H47: 12500 | I47: =ROUND(H47*19%,0) -> 2375 | J47: =ROUND(H47+I47,0) -> 14875 | K47: 13209 | L47: =ROUND(K47*19%,0) -> 2510 | M47: =ROUND(K47+L47,0) -> 15719 | O47: =ROUND(AVERAGE(E47,H47,K47),0) -> 12603 | P47: =ROUND(_xlfn.STDEV.S(G47,J47,M47),0) -> 668 | Q47: =+((P47/O47)) -> 0.053003253
A48: 42 | B48: UNION CANAL A BAJANTE 3' | C48: UNIDAD | D48: 1 | E48: 33300 | F48: =ROUND(E48*19%,0) -> 6327 | G48: =ROUND(E48+F48,0) -> 39627 | H48: 34600 | I48: =ROUND(H48*19%,0) -> 6574 | J48: =ROUND(H48+I48,0) -> 41174 | K48: 36519 | L48: =ROUND(K48*19%,0) -> 6939 | M48: =ROUND(K48+L48,0) -> 43458 | O48: =ROUND(AVERAGE(E48,H48,K48),0) -> 34806 | P48: =ROUND(_xlfn.STDEV.S(G48,J48,M48),0) -> 1927 | Q48: =+((P48/O48)) -> 0.055364018
... A117: 111 | B117: CLAVO PARA HERRAR 4.5' X CAJA | C117: CAJA | D117: 1 | E117: 61000 | F117: =ROUND(E117*19%,0) -> 11590 | G117: =ROUND(E117+F117,0) -> 72590 | H117: 63400 | I117: =ROUND(H117*19%,0) -> 12046 | J117: =ROUND(H117+I117,0) -> 75446 | K117: 66933 | L117: =ROUND(K117*19%,0) -> 12717 | M117: =ROUND(K117+L117,0) -> 79650 | O117: =ROUND(AVERAGE(E117,H117,K117),0) -> 63778 | P117: =ROUND(_xlfn.STDEV.S(G117,J117,M117),0) -> 3551 | Q117: =+((P117/O117)) -> 0.055677506
A118: 112 | B118: CUCHILLA PARA GUADAÑA 5% | C118: UNIDAD | D118: 1 | E118: 18200 | F118: =ROUND(E118*5%,0) -> 910 | G118: =ROUND(E118+F118,0) -> 19110 | H118: 18900 | I118: =ROUND(H118*5%,0) -> 945 | J118: =ROUND(H118+I118,0) -> 19845 | K118: 19980 | L118: =ROUND(K118*5%,0) -> 999 | M118: =ROUND(K118+L118,0) -> 20979 | O118: =ROUND(AVERAGE(E118,H118,K118),0) -> 19027 | P118: =ROUND(_xlfn.STDEV.S(G118,J118,M118),0) -> 942 | Q118: =+((P118/O118)) -> 0.049508593
A119: 113 | B119: CABUYA COSECHERA SINTETICA N.12 X 750 METROS | C119: ROLLO | D119: 1 | E119: 33400 | F119: =ROUND(E119*19%,0) -> 6346 | G119: =ROUND(E119+F119,0) -> 39746 | H119: 34700 | I119: =ROUND(H119*19%,0) -> 6593 | J119: =ROUND(H119+I119,0) -> 41293 | K119: 36630 | L119: =ROUND(K119*19%,0) -> 6960 | M119: =ROUND(K119+L119,0) -> 43590 | O119: =ROUND(AVERAGE(E119,H119,K119),0) -> 34910 | P119: =ROUND(_xlfn.STDEV.S(G119,J119,M119),0) -> 1934 | Q119: =+((P119/O119)) -> 0.055399599
A120: 114 | B120: CINTA METRICA EN FIBRA DE VIDRIO X 50 METROS | C120: ROLLO | D120: 1 | E120: 174700 | F120: =ROUND(E120*19%,0) -> 33193 | G120: =ROUND(E120+F120,0) -> 207893 | H120: 181600 | I120: =ROUND(H120*19%,0) -> 34504 | J120: =ROUND(H120+I120,0) -> 216104 | K120: 191919 | L120: =ROUND(K120*19%,0) -> 36465 | M120: =ROUND(K120+L120,0) -> 228384 | O120: =ROUND(AVERAGE(E120,H120,K120),0) -> 182740 | P120: =ROUND(_xlfn.STDEV.S(G120,J120,M120),0) -> 10313 | Q120: =+((P120/O120)) -> 0.056435373
A121: 115 | B121: JUEGO CONEXION FLANCHE PARA TANQUE | C121: JUEGO | D121: 1 | E121: 20000 | F121: =ROUND(E121*19%,0) -> 3800 | G121: =ROUND(E121+F121,0) -> 23800 | H121: 20800 | I121: =ROUND(H121*19%,0) -> 3952 | J121: =ROUND(H121+I121,0) -> 24752 | K121: 21978 | L121: =ROUND(K121*19%,0) -> 4176 | M121: =ROUND(K121+L121,0) -> 26154 | O121: =ROUND(AVERAGE(E121,H121,K121),0) -> 20926 | P121: =ROUND(_xlfn.STDEV.S(G121,J121,M121),0) -> 1184 | Q121: =+((P121/O121)) -> 0.056580331
A122: 116 | B122: GUANTE POLIESTER/POLIURETANO - PAR | C122: PAR | D122: 1 | E122: 14700 | F122: =ROUND(E122*19%,0) -> 2793 | G122: =ROUND(E122+F122,0) -> 17493 | H122: 15300 | I122: =ROUND(H122*19%,0) -> 2907 | J122: =ROUND(H122+I122,0) -> 18207 | K122: 16095 | L122: =ROUND(K122*19%,0) -> 3058 | M122: =ROUND(K122+L122,0) -> 19153 | O122: =ROUND(AVERAGE(E122,H122,K122),0) -> 15365 | P122: =ROUND(_xlfn.STDEV.S(G122,J122,M122),0) -> 833 | Q122: =+((P122/O122)) -> 0.054214123
A123: 117 | B123: ESCOBA CON CABO BARREPRADO METALICA 22 DIENTES | C123: UNIDAD | D123: 1 | E123: 35100 | F123: =ROUND(E123*19%,0) -> 6669 | G123: =ROUND(E123+F123,0) -> 41769 | H123: 36500 | I123: =ROUND(H123*19%,0) -> 6935 | J123: =ROUND(H123+I123,0) -> 43435 | K123: 38517 | L123: =ROUND(K123*19%,0) -> 7318 | M123: =ROUND(K123+L123,0) -> 45835 | O123: =ROUND(AVERAGE(E123,H123,K123),0) -> 36706 | P123: =ROUND(_xlfn.STDEV.S(G123,J123,M123),0) -> 2044 | Q123: =+((P123/O123)) -> 0.055685719
A124: 118 | B124: TIJERA PARA PODA MANUAL TUBO 53 CMS REF. 18397 5% | C124: UNIDAD | D124: 1 | E124: 79900 | F124: =ROUND(E124*5%,0) -> 3995 | G124: =ROUND(E124+F124,0) -> 83895 | H124: 83100 | I124: =ROUND(H124*5%,0) -> 4155 | J124: =ROUND(H124+I124,0) -> 87255 | K124: 87801 | L124: =ROUND(K124*5%,0) -> 4390 | M124: =ROUND(K124+L124,0) -> 92191 | O124: =ROUND(AVERAGE(E124,H124,K124),0) -> 83600 | P124: =ROUND(_xlfn.STDEV.S(G124,J124,M124),0) -> 4173 | Q124: =+((P124/O124)) -> 0.049916268
A125: 119 | B125: SERRUCHO CORTADOR CON MANGO TELESCOPICO 16' | C125: UNIDAD | D125: 1 | E125: 439400 | F125: =ROUND(E125*19%,0) -> 83486 | G125: =ROUND(E125+F125,0) -> 522886 | H125: 456800 | I125: =ROUND(H125*19%,0) -> 86792 | J125: =ROUND(H125+I125,0) -> 543592 | K125: 482850 | L125: =ROUND(K125*19%,0) -> 91742 | M125: =ROUND(K125+L125,0) -> 574592 | O125: =ROUND(AVERAGE(E125,H125,K125),0) -> 459683 | P125: =ROUND(_xlfn.STDEV.S(G125,J125,M125),0) -> 26023 | Q125: =+((P125/O125)) -> 0.056610751
A126: 120 | B126: TENSOR PARA CERCA ELECTRICA DE 500 METRO | C126: UNIDAD | D126: 1 | E126: 13200 | F126: =ROUND(E126*19%,0) -> 2508 | G126: =ROUND(E126+F126,0) -> 15708 | H126: 13700 | I126: =ROUND(H126*19%,0) -> 2603 | J126: =ROUND(H126+I126,0) -> 16303 | K126: 14430 | L126: =ROUND(K126*19%,0) -> 2742 | M126: =ROUND(K126+L126,0) -> 17172 | O126: =ROUND(AVERAGE(E126,H126,K126),0) -> 13777 | P126: =ROUND(_xlfn.STDEV.S(G126,J126,M126),0) -> 736 | Q126: =+((P126/O126)) -> 0.053422371
A127: 121 | B127: GUAYA ALMA DE FIBRA PLASTIFICADA 3/16' | C127: UNIDAD | D127: 1 | E127: 4700 | F127: =ROUND(E127*19%,0) -> 893 | G127: =ROUND(E127+F127,0) -> 5593 | H127: 4900 | I127: =ROUND(H127*19%,0) -> 931 | J127: =ROUND(H127+I127,0) -> 5831 | K127: 5106 | L127: =ROUND(K127*19%,0) -> 970 | M127: =ROUND(K127+L127,0) -> 6076 | O127: =ROUND(AVERAGE(E127,H127,K127),0) -> 4902 | P127: =ROUND(_xlfn.STDEV.S(G127,J127,M127),0) -> 242 | Q127: =+((P127/O127)) -> 0.049367605
A128: 122 | B128: PUNTILLA CON CABEZA 2.1/2' X 500 GRAMOS | C128: UNIDAD | D128: 1 | E128: 8600 | F128: =ROUND(E128*19%,0) -> 1634 | G128: =ROUND(E128+F128,0) -> 10234 | H128: 9000 | I128: =ROUND(H128*19%,0) -> 1710 | J128: =ROUND(H128+I128,0) -> 10710 | K128: 9435 | L128: =ROUND(K128*19%,0) -> 1793 | M128: =ROUND(K128+L128,0) -> 11228 | O128: =ROUND(AVERAGE(E128,H128,K128),0) -> 9012 | P128: =ROUND(_xlfn.STDEV.S(G128,J128,M128),0) -> 497 | Q128: =+((P128/O128)) -> 0.055148691
A129: 123 | B129: MALLA ANTITRIPS H. 4 METRO X 100 METROS | C129: METRO LINEAL | D129: 1 | E129: 2686600 | F129: =ROUND(E129*19%,0) -> 510454 | G129: =ROUND(E129+F129,0) -> 3197054 | H129: 2793000 | I129: =ROUND(H129*19%,0) -> 530670 | J129: =ROUND(H129+I129,0) -> 3323670 | K129: 2952600 | L129: =ROUND(K129*19%,0) -> 560994 | M129: =ROUND(K129+L129,0) -> 3513594 | O129: =ROUND(AVERAGE(E129,H129,K129),0) -> 2810733 | P129: =ROUND(_xlfn.STDEV.S(G129,J129,M129),0) -> 159322 | Q129: =+((P129/O129)) -> 0.056683435
A130: 124 | B130: VARILLA ROSCADA 3/8' X 1 METRO CON TUERCA Y ARANDELA | C130: UNIDAD | D130: 1 | E130: 23700 | F130: =ROUND(E130*19%,0) -> 4503 | G130: =ROUND(E130+F130,0) -> 28203 | H130: 24600 | I130: =ROUND(H130*19%,0) -> 4674 | J130: =ROUND(H130+I130,0) -> 29274 | K130: 25974 | L130: =ROUND(K130*19%,0) -> 4935 | M130: =ROUND(K130+L130,0) -> 30909 | O130: =ROUND(AVERAGE(E130,H130,K130),0) -> 24758 | P130: =ROUND(_xlfn.STDEV.S(G130,J130,M130),0) -> 1363 | Q130: =+((P130/O130)) -> 0.055052912
A131: 125 | B131: AMARRE X 100 UNIDADES DE 50 CMS | C131: UNIDAD | D131: 1 | E131: 84200 | F131: =ROUND(E131*19%,0) -> 15998 | G131: =ROUND(E131+F131,0) -> 100198 | H131: 87500 | I131: =ROUND(H131*19%,0) -> 16625 | J131: =ROUND(H131+I131,0) -> 104125 | K131: 92463 | L131: =ROUND(K131*19%,0) -> 17568 | M131: =ROUND(K131+L131,0) -> 110031 | O131: =ROUND(AVERAGE(E131,H131,K131),0) -> 88054 | P131: =ROUND(_xlfn.STDEV.S(G131,J131,M131),0) -> 4950 | Q131: =+((P131/O131)) -> 0.056215504
A132: 126 | B132: ALICATE ELECTRICO N.8 ECONOMICO REF. 84-023 | C132: UNIDAD | D132: 1 | E132: 51900 | F132: =ROUND(E132*19%,0) -> 9861 | G132: =ROUND(E132+F132,0) -> 61761 | H132: 53900 | I132: =ROUND(H132*19%,0) -> 10241 | J132: =ROUND(H132+I132,0) -> 64141 | K132: 56943 | L132: =ROUND(K132*19%,0) -> 10819 | M132: =ROUND(K132+L132,0) -> 67762 | O132: =ROUND(AVERAGE(E132,H132,K132),0) -> 54248 | P132: =ROUND(_xlfn.STDEV.S(G132,J132,M132),0) -> 3022 | Q132: =+((P132/O132)) -> 0.055707123
A133: 127 | B133: ALICATE DIABLO 11' REF. 22656 | C133: UNIDAD | D133: 1 | E133: 117200 | F133: =ROUND(E133*19%,0) -> 22268 | G133: =ROUND(E133+F133,0) -> 139468 | H133: 121800 | I133: =ROUND(H133*19%,0) -> 23142 | J133: =ROUND(H133+I133,0) -> 144942 | K133: 128760 | L133: =ROUND(K133*19%,0) -> 24464 | M133: =ROUND(K133+L133,0) -> 153224 | O133: =ROUND(AVERAGE(E133,H133,K133),0) -> 122587 | P133: =ROUND(_xlfn.STDEV.S(G133,J133,M133),0) -> 6926 | Q133: =+((P133/O133)) -> 0.05649865
A134: 128 | B134: AZADON CON CABO REF 3753-2 | C134: UNIDAD | D134: 1 | E134: 79800 | F134: =ROUND(E134*19%,0) -> 15162 | G134: =ROUND(E134+F134,0) -> 94962 | H134: 83000 | I134: =ROUND(H134*19%,0) -> 15770 | J134: =ROUND(H134+I134,0) -> 98770 | K134: 87690 | L134: =ROUND(K134*19%,0) -> 16661 | M134: =ROUND(K134+L134,0) -> 104351 | O134: =ROUND(AVERAGE(E134,H134,K134),0) -> 83497 | P134: =ROUND(_xlfn.STDEV.S(G134,J134,M134),0) -> 4722 | Q134: =+((P134/O134)) -> 0.05655293
A135: 129 | B135: AZADON CON CABO REF3120 OCAÑERO | C135: UNIDAD | D135: 1 | E135: 84900 | F135: =ROUND(E135*19%,0) -> 16131 | G135: =ROUND(E135+F135,0) -> 101031 | H135: 88200 | I135: =ROUND(H135*19%,0) -> 16758 | J135: =ROUND(H135+I135,0) -> 104958 | K135: 93240 | L135: =ROUND(K135*19%,0) -> 17716 | M135: =ROUND(K135+L135,0) -> 110956 | O135: =ROUND(AVERAGE(E135,H135,K135),0) -> 88780 | P135: =ROUND(_xlfn.STDEV.S(G135,J135,M135),0) -> 4998 | Q135: =+((P135/O135)) -> 0.056296463
A136: 130 | B136: BARRA 18 LIBRAS 5% | C136: UNIDAD | D136: 1 | E136: 168900 | F136: =ROUND(E136*5%,0) -> 8445 | G136: =ROUND(E136+F136,0) -> 177345 | H136: 175600 | I136: =ROUND(H136*5%,0) -> 8780 | J136: =ROUND(H136+I136,0) -> 184380 | K136: 185592 | L136: =ROUND(K136*5%,0) -> 9280 | M136: =ROUND(K136+L136,0) -> 194872 | O136: =ROUND(AVERAGE(E136,H136,K136),0) -> 176697 | P136: =ROUND(_xlfn.STDEV.S(G136,J136,M136),0) -> 8820 | Q136: =+((P136/O136)) -> 0.049915958
A137: 131 | B137: BOTAS DE CUERO NEGRO CON PUNTERA | C137: UNIDAD | D137: 1 | E137: 136400 | F137: =ROUND(E137*19%,0) -> 25916 | G137: =ROUND(E137+F137,0) -> 162316 | H137: 141800 | I137: =ROUND(H137*19%,0) -> 26942 | J137: =ROUND(H137+I137,0) -> 168742 | K137: 149850 | L137: =ROUND(K137*19%,0) -> 28472 | M137: =ROUND(K137+L137,0) -> 178322 | O137: =ROUND(AVERAGE(E137,H137,K137),0) -> 142683 | P137: =ROUND(_xlfn.STDEV.S(G137,J137,M137),0) -> 8055 | Q137: =+((P137/O137)) -> 0.056453817
A138: 132 | B138: CABO PARA AZADON. | C138: UNIDAD | D138: 1 | E138: 16400 | F138: =ROUND(E138*19%,0) -> 3116 | G138: =ROUND(E138+F138,0) -> 19516 | H138: 17100 | I138: =ROUND(H138*19%,0) -> 3249 | J138: =ROUND(H138+I138,0) -> 20349 | K138: 17982 | L138: =ROUND(K138*19%,0) -> 3417 | M138: =ROUND(K138+L138,0) -> 21399 | O138: =ROUND(AVERAGE(E138,H138,K138),0) -> 17161 | P138: =ROUND(_xlfn.STDEV.S(G138,J138,M138),0) -> 944 | Q138: =+((P138/O138)) -> 0.055008449
A139: 133 | B139: CABO PARA HOYADORA | C139: UNIDAD | D139: 1 | E139: 20200 | F139: =ROUND(E139*19%,0) -> 3838 | G139: =ROUND(E139+F139,0) -> 24038 | H139: 21000 | I139: =ROUND(H139*19%,0) -> 3990 | J139: =ROUND(H139+I139,0) -> 24990 | K139: 22200 | L139: =ROUND(K139*19%,0) -> 4218 | M139: =ROUND(K139+L139,0) -> 26418 | O139: =ROUND(AVERAGE(E139,H139,K139),0) -> 21133 | P139: =ROUND(_xlfn.STDEV.S(G139,J139,M139),0) -> 1198 | Q139: =+((P139/O139)) -> 0.056688591
A140: 134 | B140: CABO PARA PALA | C140: UNIDAD | D140: 1 | E140: 16400 | F140: =ROUND(E140*19%,0) -> 3116 | G140: =ROUND(E140+F140,0) -> 19516 | H140: 17100 | I140: =ROUND(H140*19%,0) -> 3249 | J140: =ROUND(H140+I140,0) -> 20349 | K140: 17982 | L140: =ROUND(K140*19%,0) -> 3417 | M140: =ROUND(K140+L140,0) -> 21399 | O140: =ROUND(AVERAGE(E140,H140,K140),0) -> 17161 | P140: =ROUND(_xlfn.STDEV.S(G140,J140,M140),0) -> 944 | Q140: =+((P140/O140)) -> 0.055008449
A141: 135 | B141: CASCO BLANCO CON BARBUQUEJO CERTFICADO | C141: UNIDAD | D141: 1 | E141: 55600 | F141: =ROUND(E141*19%,0) -> 10564 | G141: =ROUND(E141+F141,0) -> 66164 | H141: 57800 | I141: =ROUND(H141*19%,0) -> 10982 | J141: =ROUND(H141+I141,0) -> 68782 | K141: 61050 | L141: =ROUND(K141*19%,0) -> 11600 | M141: =ROUND(K141+L141,0) -> 72650 | O141: =ROUND(AVERAGE(E141,H141,K141),0) -> 58150 | P141: =ROUND(_xlfn.STDEV.S(G141,J141,M141),0) -> 3263 | Q141: =+((P141/O141)) -> 0.0561135
A142: 136 | B142: KIT SOLAR CON PANEL 50W MAS BATERIA | C142: KIT | D142: 1 | E142: 2222000 | F142: =ROUND(E142*19%,0) -> 422180 | G142: =ROUND(E142+F142,0) -> 2644180 | H142: 2310000 | I142: =ROUND(H142*19%,0) -> 438900 | J142: =ROUND(H142+I142,0) -> 2748900 | K142: 2442000 | L142: =ROUND(K142*19%,0) -> 463980 | M142: =ROUND(K142+L142,0) -> 2905980 | O142: =ROUND(AVERAGE(E142,H142,K142),0) -> 2324667 | P142: =ROUND(_xlfn.STDEV.S(G142,J142,M142),0) -> 131770 | Q142: =+((P142/O142)) -> 0.056683387
A143: 137 | B143: ESCALERA DE TIJERA 4 PASOS (1.50 MTR) | C143: UNIDAD | D143: 1 | E143: 838300 | F143: =ROUND(E143*19%,0) -> 159277 | G143: =ROUND(E143+F143,0) -> 997577 | H143: 871500 | I143: =ROUND(H143*19%,0) -> 165585 | J143: =ROUND(H143+I143,0) -> 1037085 | K143: 921300 | L143: =ROUND(K143*19%,0) -> 175047 | M143: =ROUND(K143+L143,0) -> 1096347 | O143: =ROUND(AVERAGE(E143,H143,K143),0) -> 877033 | P143: =ROUND(_xlfn.STDEV.S(G143,J143,M143),0) -> 49713 | Q143: =+((P143/O143)) -> 0.056683158
A144: 138 | B144: HACHA 3.1/2' LIBRAS CON CABO | C144: UNIDAD | D144: 1 | E144: 105100 | F144: =ROUND(E144*19%,0) -> 19969 | G144: =ROUND(E144+F144,0) -> 125069 | H144: 109200 | I144: =ROUND(H144*19%,0) -> 20748 | J144: =ROUND(H144+I144,0) -> 129948 | K144: 115440 | L144: =ROUND(K144*19%,0) -> 21934 | M144: =ROUND(K144+L144,0) -> 137374 | O144: =ROUND(AVERAGE(E144,H144,K144),0) -> 109913 | P144: =ROUND(_xlfn.STDEV.S(G144,J144,M144),0) -> 6196 | Q144: =+((P144/O144)) -> 0.056371858
A145: 139 | B145: IMPULSOR PARA CERCA ELECTRICA 40 KILOMETROS | C145: UNIDAD | D145: 1 | E145: 585800 | F145: =ROUND(E145*19%,0) -> 111302 | G145: =ROUND(E145+F145,0) -> 697102 | H145: 609000 | I145: =ROUND(H145*19%,0) -> 115710 | J145: =ROUND(H145+I145,0) -> 724710 | K145: 643800 | L145: =ROUND(K145*19%,0) -> 122322 | M145: =ROUND(K145+L145,0) -> 766122 | O145: =ROUND(AVERAGE(E145,H145,K145),0) -> 612867 | P145: =ROUND(_xlfn.STDEV.S(G145,J145,M145),0) -> 34739 | Q145: =+((P145/O145)) -> 0.056682771
A146: 140 | B146: JUEGO TORNILLO 1' X 5/32 CON TUERCA Y ARANDELA | C146: JUEGO | D146: 1 | E146: 400 | F146: =ROUND(E146*19%,0) -> 76 | G146: =ROUND(E146+F146,0) -> 476 | H146: 400 | I146: =ROUND(H146*19%,0) -> 76 | J146: =ROUND(H146+I146,0) -> 476 | K146: 333 | L146: =ROUND(K146*19%,0) -> 63 | M146: =ROUND(K146+L146,0) -> 396 | O146: =ROUND(AVERAGE(E146,H146,K146),0) -> 378 | P146: =ROUND(_xlfn.STDEV.S(G146,J146,M146),0) -> 46 | Q146: =+((P146/O146)) -> 0.12169312
A147: 141 | B147: MACHETE 3 CANALES IVA 5% | C147: UNIDAD | D147: 1 | E147: 29300 | F147: =ROUND(E147*5%,0) -> 1465 | G147: =ROUND(E147+F147,0) -> 30765 | H147: 30500 | I147: =ROUND(H147*5%,0) -> 1525 | J147: =ROUND(H147+I147,0) -> 32025 | K147: 32190 | L147: =ROUND(K147*5%,0) -> 1610 | M147: =ROUND(K147+L147,0) -> 33800 | O147: =ROUND(AVERAGE(E147,H147,K147),0) -> 30663 | P147: =ROUND(_xlfn.STDEV.S(G147,J147,M147),0) -> 1525 | Q147: =+((P147/O147)) -> 0.049734207
A148: 142 | B148: MALLA GALLINERO 1.20 X 36 METROS | C148: ROLLO | D148: 1 | E148: 172800 | F148: =ROUND(E148*19%,0) -> 32832 | G148: =ROUND(E148+F148,0) -> 205632 | H148: 179600 | I148: =ROUND(H148*19%,0) -> 34124 | J148: =ROUND(H148+I148,0) -> 213724 | K148: 189810 | L148: =ROUND(K148*19%,0) -> 36064 | M148: =ROUND(K148+L148,0) -> 225874 | O148: =ROUND(AVERAGE(E148,H148,K148),0) -> 180737 | P148: =ROUND(_xlfn.STDEV.S(G148,J148,M148),0) -> 10189 | Q148: =+((P148/O148)) -> 0.056374732
A149: 143 | B149: GAFAS PROTECTORAS | C149: UNIDAD | D149: 1 | E149: 21100 | F149: =ROUND(E149*19%,0) -> 4009 | G149: =ROUND(E149+F149,0) -> 25109 | H149: 21900 | I149: =ROUND(H149*19%,0) -> 4161 | J149: =ROUND(H149+I149,0) -> 26061 | K149: 23088 | L149: =ROUND(K149*19%,0) -> 4387 | M149: =ROUND(K149+L149,0) -> 27475 | O149: =ROUND(AVERAGE(E149,H149,K149),0) -> 22029 | P149: =ROUND(_xlfn.STDEV.S(G149,J149,M149),0) -> 1190 | Q149: =+((P149/O149)) -> 0.054019701
A150: 144 | B150: PALIN CON CABO | C150: UNIDAD | D150: 1 | E150: 61700 | F150: =ROUND(E150*19%,0) -> 11723 | G150: =ROUND(E150+F150,0) -> 73423 | H150: 64100 | I150: =ROUND(H150*19%,0) -> 12179 | J150: =ROUND(H150+I150,0) -> 76279 | K150: 67710 | L150: =ROUND(K150*19%,0) -> 12865 | M150: =ROUND(K150+L150,0) -> 80575 | O150: =ROUND(AVERAGE(E150,H150,K150),0) -> 64503 | P150: =ROUND(_xlfn.STDEV.S(G150,J150,M150),0) -> 3600 | Q150: =+((P150/O150)) -> 0.055811358
A151: 145 | B151: HOMBRESOLO 10' | C151: UNIDAD | D151: 1 | E151: 75800 | F151: =ROUND(E151*19%,0) -> 14402 | G151: =ROUND(E151+F151,0) -> 90202 | H151: 78800 | I151: =ROUND(H151*19%,0) -> 14972 | J151: =ROUND(H151+I151,0) -> 93772 | K151: 83250 | L151: =ROUND(K151*19%,0) -> 15818 | M151: =ROUND(K151+L151,0) -> 99068 | O151: =ROUND(AVERAGE(E151,H151,K151),0) -> 79283 | P151: =ROUND(_xlfn.STDEV.S(G151,J151,M151),0) -> 4461 | Q151: =+((P151/O151)) -> 0.056266791
A152: 146 | B152: TIJERAS PARA RAMAS ALTAS MANGOS TUBULARES | C152: UNIDAD | D152: 1 | E152: 95800 | F152: =ROUND(E152*19%,0) -> 18202 | G152: =ROUND(E152+F152,0) -> 114002 | H152: 99600 | I152: =ROUND(H152*19%,0) -> 18924 | J152: =ROUND(H152+I152,0) -> 118524 | K152: 105228 | L152: =ROUND(K152*19%,0) -> 19993 | M152: =ROUND(K152+L152,0) -> 125221 | O152: =ROUND(AVERAGE(E152,H152,K152),0) -> 100209 | P152: =ROUND(_xlfn.STDEV.S(G152,J152,M152),0) -> 5645 | Q152: =+((P152/O152)) -> 0.056332266
A153: 147 | B153: VARILLA COPERWELL 5/8' X 1.50 CON CONECTOR | C153: UNIDAD | D153: 1 | E153: 194000 | F153: =ROUND(E153*19%,0) -> 36860 | G153: =ROUND(E153+F153,0) -> 230860 | H153: 201600 | I153: =ROUND(H153*19%,0) -> 38304 | J153: =ROUND(H153+I153,0) -> 239904 | K153: 213120 | L153: =ROUND(K153*19%,0) -> 40493 | M153: =ROUND(K153+L153,0) -> 253613 | O153: =ROUND(AVERAGE(E153,H153,K153),0) -> 202907 | P153: =ROUND(_xlfn.STDEV.S(G153,J153,M153),0) -> 11456 | Q153: =+((P153/O153)) -> 0.056459363
A154: 148 | B154: ASERRIN POR BULTO 12 KILOS APROX. | C154: BULTO | D154: 1 | E154: 16000 | F154: =ROUND(E154*19%,0) -> 3040 | G154: =ROUND(E154+F154,0) -> 19040 | H154: 16600 | I154: =ROUND(H154*19%,0) -> 3154 | J154: =ROUND(H154+I154,0) -> 19754 | K154: 17538 | L154: =ROUND(K154*19%,0) -> 3332 | M154: =ROUND(K154+L154,0) -> 20870 | O154: =ROUND(AVERAGE(E154,H154,K154),0) -> 16713 | P154: =ROUND(_xlfn.STDEV.S(G154,J154,M154),0) -> 922 | Q154: =+((P154/O154)) -> 0.055166637
A155: 149 | B155: GUANTE CARNAZA REFORZADO CORTO | C155: UNIDAD | D155: 1 | E155: 16500 | F155: =ROUND(E155*19%,0) -> 3135 | G155: =ROUND(E155+F155,0) -> 19635 | H155: 17200 | I155: =ROUND(H155*19%,0) -> 3268 | J155: =ROUND(H155+I155,0) -> 20468 | K155: 18093 | L155: =ROUND(K155*19%,0) -> 3438 | M155: =ROUND(K155+L155,0) -> 21531 | O155: =ROUND(AVERAGE(E155,H155,K155),0) -> 17264 | P155: =ROUND(_xlfn.STDEV.S(G155,J155,M155),0) -> 950 | Q155: =+((P155/O155)) -> 0.055027804
A156: 150 | B156: PERRO TIPO LIVIANO 3/16' | C156: UNIDAD | D156: 1 | E156: 1100 | F156: =ROUND(E156*19%,0) -> 209 | G156: =ROUND(E156+F156,0) -> 1309 | H156: 1100 | I156: =ROUND(H156*19%,0) -> 209 | J156: =ROUND(H156+I156,0) -> 1309 | K156: 1110 | L156: =ROUND(K156*19%,0) -> 211 | M156: =ROUND(K156+L156,0) -> 1321 | O156: =ROUND(AVERAGE(E156,H156,K156),0) -> 1103 | P156: =ROUND(_xlfn.STDEV.S(G156,J156,M156),0) -> 7 | Q156: =+((P156/O156)) -> 0.0063463282
A157: 151 | B157: GRAVILLA 3/4' X LONA | C157: UNIDAD | D157: 1 | E157: 17200 | F157: =ROUND(E157*19%,0) -> 3268 | G157: =ROUND(E157+F157,0) -> 20468 | H157: 17900 | I157: =ROUND(H157*19%,0) -> 3401 | J157: =ROUND(H157+I157,0) -> 21301 | K157: 18870 | L157: =ROUND(K157*19%,0) -> 3585 | M157: =ROUND(K157+L157,0) -> 22455 | O157: =ROUND(AVERAGE(E157,H157,K157),0) -> 17990 | P157: =ROUND(_xlfn.STDEV.S(G157,J157,M157),0) -> 998 | Q157: =+((P157/O157)) -> 0.055475264
A158: 152 | B158: PUNTILLA CON CABEZA 4' X 800 GRAMOS | C158: UNIDAD | D158: 1 | E158: 17000 | F158: =ROUND(E158*19%,0) -> 3230 | G158: =ROUND(E158+F158,0) -> 20230 | H158: 17700 | I158: =ROUND(H158*19%,0) -> 3363 | J158: =ROUND(H158+I158,0) -> 21063 | K158: 18648 | L158: =ROUND(K158*19%,0) -> 3543 | M158: =ROUND(K158+L158,0) -> 22191 | O158: =ROUND(AVERAGE(E158,H158,K158),0) -> 17783 | P158: =ROUND(_xlfn.STDEV.S(G158,J158,M158),0) -> 984 | Q158: =+((P158/O158)) -> 0.055333746
A159: 153 | B159: BISAGRA 3' X 2 UNIDADES | C159: UNIDAD | D159: 1 | E159: 9500 | F159: =ROUND(E159*19%,0) -> 1805 | G159: =ROUND(E159+F159,0) -> 11305 | H159: 9900 | I159: =ROUND(H159*19%,0) -> 1881 | J159: =ROUND(H159+I159,0) -> 11781 | K159: 10434 | L159: =ROUND(K159*19%,0) -> 1982 | M159: =ROUND(K159+L159,0) -> 12416 | O159: =ROUND(AVERAGE(E159,H159,K159),0) -> 9945 | P159: =ROUND(_xlfn.STDEV.S(G159,J159,M159),0) -> 557 | Q159: =+((P159/O159)) -> 0.056008044
... A175: 169 | B175: SOLUCION DE ALMACENAMIENTO DE ELECTRODOS 500 ML HI 70300L | C175: UNIDAD | D175: 1 | E175: 138400 | F175: =ROUND(E175*19%,0) -> 26296 | G175: =ROUND(E175+F175,0) -> 164696 | H175: 143900 | I175: =ROUND(H175*19%,0) -> 27341 | J175: =ROUND(H175+I175,0) -> 171241 | K175: 152070 | L175: =ROUND(K175*19%,0) -> 28893 | M175: =ROUND(K175+L175,0) -> 180963 | O175: =ROUND(AVERAGE(E175,H175,K175),0) -> 144790 | P175: =ROUND(_xlfn.STDEV.S(G175,J175,M175),0) -> 8185 | Q175: =+((P175/O175)) -> 0.056530147
A176: 170 | B176: BARRA 16 LIBRAS 5% | C176: UNIDAD | D176: 1 | E176: 200000 | F176: =ROUND(E176*5%,0) -> 10000 | G176: =ROUND(E176+F176,0) -> 210000 | H176: 207900 | I176: =ROUND(H176*5%,0) -> 10395 | J176: =ROUND(H176+I176,0) -> 218295 | K176: 219780 | L176: =ROUND(K176*5%,0) -> 10989 | M176: =ROUND(K176+L176,0) -> 230769 | O176: =ROUND(AVERAGE(E176,H176,K176),0) -> 209227 | P176: =ROUND(_xlfn.STDEV.S(G176,J176,M176),0) -> 10454 | Q176: =+((P176/O176)) -> 0.049964871
A177: 171 | B177: CANECA PLASTICA CON TAPA 120 LITROS | C177: UNIDAD | D177: 1 | E177: 108800 | F177: =ROUND(E177*19%,0) -> 20672 | G177: =ROUND(E177+F177,0) -> 129472 | H177: 113100 | I177: =ROUND(H177*19%,0) -> 21489 | J177: =ROUND(H177+I177,0) -> 134589 | K177: 119547 | L177: =ROUND(K177*19%,0) -> 22714 | M177: =ROUND(K177+L177,0) -> 142261 | O177: =ROUND(AVERAGE(E177,H177,K177),0) -> 113816 | P177: =ROUND(_xlfn.STDEV.S(G177,J177,M177),0) -> 6437 | Q177: =+((P177/O177)) -> 0.056556196
A178: 172 | B178: GUADAÑA HUSQVARNA REF 143 II | C178: UNIDAD | D178: 1 | E178: 3272400 | F178: =ROUND(E178*19%,0) -> 621756 | G178: =ROUND(E178+F178,0) -> 3894156 | H178: 3402000 | I178: =ROUND(H178*19%,0) -> 646380 | J178: =ROUND(H178+I178,0) -> 4048380 | K178: 3596400 | L178: =ROUND(K178*19%,0) -> 683316 | M178: =ROUND(K178+L178,0) -> 4279716 | O178: =ROUND(AVERAGE(E178,H178,K178),0) -> 3423600 | P178: =ROUND(_xlfn.STDEV.S(G178,J178,M178),0) -> 194061 | Q178: =+((P178/O178)) -> 0.056683316
A179: 173 | B179: PALA HOYADORA CON CABO | C179: UNIDAD | D179: 1 | E179: 125700 | F179: =ROUND(E179*19%,0) -> 23883 | G179: =ROUND(E179+F179,0) -> 149583 | H179: 130700 | I179: =ROUND(H179*19%,0) -> 24833 | J179: =ROUND(H179+I179,0) -> 155533 | K179: 138084 | L179: =ROUND(K179*19%,0) -> 26236 | M179: =ROUND(K179+L179,0) -> 164320 | O179: =ROUND(AVERAGE(E179,H179,K179),0) -> 131495 | P179: =ROUND(_xlfn.STDEV.S(G179,J179,M179),0) -> 7414 | Q179: =+((P179/O179)) -> 0.056382372
A180: 174 | B180: MALLA ESLABONADA C10.5 H 2.1/4' 2MT H X 10 METRO LINEAL | C180: UNIDAD | D180: 1 | E180: 555500 | F180: =ROUND(E180*19%,0) -> 105545 | G180: =ROUND(E180+F180,0) -> 661045 | H180: 577500 | I180: =ROUND(H180*19%,0) -> 109725 | J180: =ROUND(H180+I180,0) -> 687225 | K180: 610500 | L180: =ROUND(K180*19%,0) -> 115995 | M180: =ROUND(K180+L180,0) -> 726495 | O180: =ROUND(AVERAGE(E180,H180,K180),0) -> 581167 | P180: =ROUND(_xlfn.STDEV.S(G180,J180,M180),0) -> 32942 | Q180: =+((P180/O180)) -> 0.056682503
A181: 175 | B181: MANGUERA TIPO SWAN 1/2' X 15 METROS | C181: UNIDAD | D181: 1 | E181: 60600 | F181: =ROUND(E181*19%,0) -> 11514 | G181: =ROUND(E181+F181,0) -> 72114 | H181: 63000 | I181: =ROUND(H181*19%,0) -> 11970 | J181: =ROUND(H181+I181,0) -> 74970 | K181: 66600 | L181: =ROUND(K181*19%,0) -> 12654 | M181: =ROUND(K181+L181,0) -> 79254 | O181: =ROUND(AVERAGE(E181,H181,K181),0) -> 63400 | P181: =ROUND(_xlfn.STDEV.S(G181,J181,M181),0) -> 3594 | Q181: =+((P181/O181)) -> 0.056687697
A182: 176 | B182: MARTILLO DE UÑA DE 27 MM MANG. FV | C182: UNIDAD | D182: 1 | E182: 49600 | F182: =ROUND(E182*19%,0) -> 9424 | G182: =ROUND(E182+F182,0) -> 59024 | H182: 51000 | I182: =ROUND(H182*19%,0) -> 9690 | J182: =ROUND(H182+I182,0) -> 60690 | K182: 53200 | L182: =ROUND(K182*19%,0) -> 10108 | M182: =ROUND(K182+L182,0) -> 63308 | O182: =ROUND(AVERAGE(E182,H182,K182),0) -> 51267 | P182: =ROUND(_xlfn.STDEV.S(G182,J182,M182),0) -> 2160 | Q182: =+((P182/O182)) -> 0.042132366
A183: 177 | B183: NAVAJA PLEGABLE REF 101101 | C183: UNIDAD | D183: 1 | E183: 106900 | F183: =ROUND(E183*19%,0) -> 20311 | G183: =ROUND(E183+F183,0) -> 127211 | H183: 111100 | I183: =ROUND(H183*19%,0) -> 21109 | J183: =ROUND(H183+I183,0) -> 132209 | K183: 117438 | L183: =ROUND(K183*19%,0) -> 22313 | M183: =ROUND(K183+L183,0) -> 139751 | O183: =ROUND(AVERAGE(E183,H183,K183),0) -> 111813 | P183: =ROUND(_xlfn.STDEV.S(G183,J183,M183),0) -> 6313 | Q183: =+((P183/O183)) -> 0.05646034
A184: 178 | B184: PICA C/CABO | C184: UNIDAD | D184: 1 | E184: 79100 | F184: =ROUND(E184*19%,0) -> 15029 | G184: =ROUND(E184+F184,0) -> 94129 | H184: 80200 | I184: =ROUND(H184*19%,0) -> 15238 | J184: =ROUND(H184+I184,0) -> 95438 | K184: 82400 | L184: =ROUND(K184*19%,0) -> 15656 | M184: =ROUND(K184+L184,0) -> 98056 | O184: =ROUND(AVERAGE(E184,H184,K184),0) -> 80567 | P184: =ROUND(_xlfn.STDEV.S(G184,J184,M184),0) -> 2000 | Q184: =+((P184/O184)) -> 0.024824059
A185: 179 | B185: VINILO TIPO 1 X CANECA COLOR ________ | C185: UNIDAD | D185: 1 | E185: 487400 | F185: =ROUND(E185*19%,0) -> 92606 | G185: =ROUND(E185+F185,0) -> 580006 | H185: 506700 | I185: =ROUND(H185*19%,0) -> 96273 | J185: =ROUND(H185+I185,0) -> 602973 | K185: 535575 | L185: =ROUND(K185*19%,0) -> 101759 | M185: =ROUND(K185+L185,0) -> 637334 | O185: =ROUND(AVERAGE(E185,H185,K185),0) -> 509892 | P185: =ROUND(_xlfn.STDEV.S(G185,J185,M185),0) -> 28852 | Q185: =+((P185/O185)) -> 0.056584532
A186: 180 | B186: CORTADORA CESPED CON MOTOR A GASOLINA 6.5HP 4 TIEMPOS | C186: UNIDAD | D186: 1 | E186: 5654000 | F186: =ROUND(E186*19%,0) -> 1074260 | G186: =ROUND(E186+F186,0) -> 6728260 | H186: 5877900 | I186: =ROUND(H186*19%,0) -> 1116801 | J186: =ROUND(H186+I186,0) -> 6994701 | K186: 6213780 | L186: =ROUND(K186*19%,0) -> 1180618 | M186: =ROUND(K186+L186,0) -> 7394398 | O186: =ROUND(AVERAGE(E186,H186,K186),0) -> 5915227 | P186: =ROUND(_xlfn.STDEV.S(G186,J186,M186),0) -> 335283 | Q186: =+((P186/O186)) -> 0.056681341
A187: 181 | B187: PRENSA BOTANICA 70 X 45 CMS | C187: UNIDAD | D187: 1 | E187: 2253400 | F187: =ROUND(E187*19%,0) -> 428146 | G187: =ROUND(E187+F187,0) -> 2681546 | H187: 2342600 | I187: =ROUND(H187*19%,0) -> 445094 | J187: =ROUND(H187+I187,0) -> 2787694 | K187: 2476410 | L187: =ROUND(K187*19%,0) -> 470518 | M187: =ROUND(K187+L187,0) -> 2946928 | O187: =ROUND(AVERAGE(E187,H187,K187),0) -> 2357470 | P187: =ROUND(_xlfn.STDEV.S(G187,J187,M187),0) -> 133573 | Q187: =+((P187/O187)) -> 0.05665947
A188: 182 | B188: RODILLO MASTER 9' | C188: UNIDAD | D188: 1 | E188: 21100 | F188: =ROUND(E188*19%,0) -> 4009 | G188: =ROUND(E188+F188,0) -> 25109 | H188: 21900 | I188: =ROUND(H188*19%,0) -> 4161 | J188: =ROUND(H188+I188,0) -> 26061 | K188: 23088 | L188: =ROUND(K188*19%,0) -> 4387 | M188: =ROUND(K188+L188,0) -> 27475 | O188: =ROUND(AVERAGE(E188,H188,K188),0) -> 22029 | P188: =ROUND(_xlfn.STDEV.S(G188,J188,M188),0) -> 1190 | Q188: =+((P188/O188)) -> 0.054019701
... A201: 195 | B201: JUEGO DE HERRAMIENTAS PARA JARDIN X 3 PIEZAS | C201: UNIDAD | D201: 1 | E201: 33900 | F201: =ROUND(E201*19%,0) -> 6441 | G201: =ROUND(E201+F201,0) -> 40341 | H201: 35200 | I201: =ROUND(H201*19%,0) -> 6688 | J201: =ROUND(H201+I201,0) -> 41888 | K201: 37185 | L201: =ROUND(K201*19%,0) -> 7065 | M201: =ROUND(K201+L201,0) -> 44250 | O201: =ROUND(AVERAGE(E201,H201,K201),0) -> 35428 | P201: =ROUND(_xlfn.STDEV.S(G201,J201,M201),0) -> 1969 | Q201: =+((P201/O201)) -> 0.055577509
A202: 196 | B202: TIJERA PARA FLORICULTURA N.8 REF 23103 | C202: UNIDAD | D202: 1 | E202: 44800 | F202: =ROUND(E202*5%,0) -> 2240 | G202: =ROUND(E202+F202,0) -> 47040 | H202: 46600 | I202: =ROUND(H202*5%,0) -> 2330 | J202: =ROUND(H202+I202,0) -> 48930 | K202: 49173 | L202: =ROUND(K202*5%,0) -> 2459 | M202: =ROUND(K202+L202,0) -> 51632 | O202: =ROUND(AVERAGE(E202,H202,K202),0) -> 46858 | P202: =ROUND(_xlfn.STDEV.S(G202,J202,M202),0) -> 2308 | Q202: =+((P202/O202)) -> 0.049255197
A203: 197 | B203: RASTRILLO JARDIN METALICO C/CABO 16 DIENTES | C203: UNIDAD | D203: 1 | E203: 55200 | F203: =ROUND(E203*19%,0) -> 10488 | G203: =ROUND(E203+F203,0) -> 65688 | H203: 56300 | I203: =ROUND(H203*19%,0) -> 10697 | J203: =ROUND(H203+I203,0) -> 66997 | K203: 57900 | L203: =ROUND(K203*19%,0) -> 11001 | M203: =ROUND(K203+L203,0) -> 68901 | O203: =ROUND(AVERAGE(E203,H203,K203),0) -> 56467 | P203: =ROUND(_xlfn.STDEV.S(G203,J203,M203),0) -> 1616 | Q203: =+((P203/O203)) -> 0.028618485
A204: 198 | B204: BOTIQUIN DE PRIMEROS AUXILIOS TIPO A - EXCENTO IVA | C204: UNIDAD | D204: 1 | E204: 548000 | G204: =ROUND(E204+F204,0) -> 548000 | H204: 550000 | J204: =ROUND(H204+I204,0) -> 550000 | K204: 557250 | M204: =ROUND(K204+L204,0) -> 557250 | O204: =ROUND(AVERAGE(E204,H204,K204),0) -> 551750 | P204: =ROUND(_xlfn.STDEV.S(G204,J204,M204),0) -> 4867 | Q204: =+((P204/O204)) -> 0.008821024
A205: 199 | B205: CAMILLA POLIETILENO CON INMOVILIZADOR DE CABEZA | C205: UNIDAD | D205: 1 | E205: 410000 | F205: =ROUND(E205*19%,0) -> 77900 | G205: =ROUND(E205+F205,0) -> 487900 | H205: 428000 | I205: =ROUND(H205*19%,0) -> 81320 | J205: =ROUND(H205+I205,0) -> 509320 | K205: 450000 | L205: =ROUND(K205*19%,0) -> 85500 | M205: =ROUND(K205+L205,0) -> 535500 | O205: =ROUND(AVERAGE(E205,H205,K205),0) -> 429333 | P205: =ROUND(_xlfn.STDEV.S(G205,J205,M205),0) -> 23840 | Q205: =+((P205/O205)) -> 0.055527993
A206: 200 | B206: REFLECTOR LED 300W | C206: UNIDAD | D206: 1 | E206: 761800 | F206: =ROUND(E206*19%,0) -> 144742 | G206: =ROUND(E206+F206,0) -> 906542 | H206: 792000 | I206: =ROUND(H206*19%,0) -> 150480 | J206: =ROUND(H206+I206,0) -> 942480 | K206: 837162 | L206: =ROUND(K206*19%,0) -> 159061 | M206: =ROUND(K206+L206,0) -> 996223 | O206: =ROUND(AVERAGE(E206,H206,K206),0) -> 796987 | P206: =ROUND(_xlfn.STDEV.S(G206,J206,M206),0) -> 45134 | Q206: =+((P206/O206)) -> 0.056630786
A207: 201 | B207: TALADRO PERCUTOR INALAMBRICO 18 V 1/2 | C207: UNIDAD | D207: 1 | E207: 2183700 | F207: =ROUND(E207*19%,0) -> 414903 | G207: =ROUND(E207+F207,0) -> 2598603 | H207: 2270100 | I207: =ROUND(H207*19%,0) -> 431319 | J207: =ROUND(H207+I207,0) -> 2701419 | K207: 2399820 | L207: =ROUND(K207*19%,0) -> 455966 | M207: =ROUND(K207+L207,0) -> 2855786 | O207: =ROUND(AVERAGE(E207,H207,K207),0) -> 2284540 | P207: =ROUND(_xlfn.STDEV.S(G207,J207,M207),0) -> 129450 | Q207: =+((P207/O207)) -> 0.056663486
...

Sheet Analisis de Mercado Lote 3
A1: ANALISIS DE MERCADO LOTE 3
A2: PROCESO | B2: FDRS SASI
A3: PROYECTO | B3: 1634,1648,1651,Y 1696
A4: OBJETO | B4: “SUMINISTRAR BIENES PARA EL DESARROLLO DE LOS PROYECTOS DE INVERSIÓN DEL FONDO DE DESARROLLO RURAL DE SUMAPAZ A MONTO AGOTABLE, PARA LA VIGENCIA 2024”
A5: MATERIALES DE FERRETERÍA Y OTROS
A6: ITEM | B6: DESCRIPCIÓN TÉCNICA (si aplica) | C6: UNIDAD/MED | D6: CANTIDAD TOTAL | E6: VALOR UNITARIO SIN IVA | F6: VALOR DE IVA | G6: VALOR UNITARIO CON IVA
A7: 1 | B7: ABRAZADERA CREMALLERA 1/2' | C7: UNIDAD | D7: 1 | E7: =ROUND(AVERAGE('Lote 3 Ferreteria'!E7,'Lote 3 Ferreteria'!H7,'Lote 3 Ferreteria'!K7),0) -> 1655 | F7: =ROUND(E7*19%,0) -> 314 | G7: =+ROUND(E7+F7,0) -> 1969
A8: 2 | B8: ADAPTADOR PVC HEMBRA 1/2' | C8: UNIDAD | D8: 1 | E8: =ROUND(AVERAGE('Lote 3 Ferreteria'!E8,'Lote 3 Ferreteria'!H8,'Lote 3 Ferreteria'!K8),0) -> 863 | F8: =ROUND(E8*19%,0) -> 164 | G8: =+ROUND(E8+F8,0) -> 1027
A9: 3 | B9: ADAPTADOR PVC MACHO 1/2' | C9: UNIDAD | D9: 1 | E9: =ROUND(AVERAGE('Lote 3 Ferreteria'!E9,'Lote 3 Ferreteria'!H9,'Lote 3 Ferreteria'!K9),0) -> 826 | F9: =ROUND(E9*19%,0) -> 157 | G9: =+ROUND(E9+F9,0) -> 983
A10: 4 | B10: BUJE ROSCADO PVC 1' X 1/2' | C10: UNIDAD | D10: 1 | E10: =ROUND(AVERAGE('Lote 3 Ferreteria'!E10,'Lote 3 Ferreteria'!H10,'Lote 3 Ferreteria'!K10),0) -> 3106 | F10: =ROUND(E10*19%,0) -> 590 | G10: =+ROUND(E10+F10,0) -> 3696
A11: 5 | B11: CANAL AMAZONAS X 3 METROS | C11: UNIDAD | D11: 1 | E11: =ROUND(AVERAGE('Lote 3 Ferreteria'!E11,'Lote 3 Ferreteria'!H11,'Lote 3 Ferreteria'!K11),0) -> 129699 | F11: =ROUND(E11*19%,0) -> 24643 | G11: =+ROUND(E11+F11,0) -> 154342
A12: 6 | B12: LIMPIADOR PVC 1/32 | C12: UNIDAD | D12: 1 | E12: =ROUND(AVERAGE('Lote 3 Ferreteria'!E12,'Lote 3 Ferreteria'!H12,'Lote 3 Ferreteria'!K12),0) -> 10256 | F12: =ROUND(E12*19%,0) -> 1949 | G12: =+ROUND(E12+F12,0) -> 12205
A13: 7 | B13: LIMPIADOR PVC 12 ONZAS | C13: UNIDAD | D13: 1 | E13: =ROUND(AVERAGE('Lote 3 Ferreteria'!E13,'Lote 3 Ferreteria'!H13,'Lote 3 Ferreteria'!K13),0) -> 33322 | F13: =ROUND(E13*19%,0) -> 6331 | G13: =+ROUND(E13+F13,0) -> 39653
A14: 8 | B14: LLAVE PARA JARDIN PVC 1/2' | C14: UNIDAD | D14: 1 | E14: =ROUND(AVERAGE('Lote 3 Ferreteria'!E14,'Lote 3 Ferreteria'!H14,'Lote 3 Ferreteria'!K14),0) -> 31389 | F14: =ROUND(E14*19%,0) -> 5964 | G14: =+ROUND(E14+F14,0) -> 37353
A15: 9 | B15: BUJE SOLDADO PVC 4' X 2' | C15: UNIDAD | D15: 1 | E15: =ROUND(AVERAGE('Lote 3 Ferreteria'!E15,'Lote 3 Ferreteria'!H15,'Lote 3 Ferreteria'!K15),0) -> 38053 | F15: =ROUND(E15*19%,0) -> 7230 | G15: =+ROUND(E15+F15,0) -> 45283
A16: 10 | B16: BUJE SOLDADO PVC 2' X 1' | C16: UNIDAD | D16: 1 | E16: =ROUND(AVERAGE('Lote 3 Ferreteria'!E16,'Lote 3 Ferreteria'!H16,'Lote 3 Ferreteria'!K16),0) -> 7009 | F16: =ROUND(E16*19%,0) -> 1332 | G16: =+ROUND(E16+F16,0) -> 8341
A17: 11 | B17: REGISTRO BOLA PVC LISO 1' | C17: UNIDAD | D17: 1 | E17: =ROUND(AVERAGE('Lote 3 Ferreteria'!E17,'Lote 3 Ferreteria'!H17,'Lote 3 Ferreteria'!K17),0) -> 23825 | F17: =ROUND(E17*19%,0) -> 4527 | G17: =+ROUND(E17+F17,0) -> 28352
A18: 12 | B18: TUBO PVC RDE 21 1' | C18: UNIDAD | D18: 1 | E18: =ROUND(AVERAGE('Lote 3 Ferreteria'!E18,'Lote 3 Ferreteria'!H18,'Lote 3 Ferreteria'!K18),0) -> 34806 | F18: =ROUND(E18*19%,0) -> 6613 | G18: =+ROUND(E18+F18,0) -> 41419
... A31: 25 | B31: BEBEDERO BAJITO 500 LITROS CON FLOTADOR | C31: UNIDAD | D31: 1 | E31: =ROUND(AVERAGE('Lote 3 Ferreteria'!E31,'Lote 3 Ferreteria'!H31,'Lote 3 Ferreteria'!K31),0) -> 750233 | F31: =ROUND(E31*19%,0) -> 142544 | G31: =+ROUND(E31+F31,0) -> 892777
A32: 26 | B32: BEBEDERO PARA GALLINAS CAPACIDAD 7 LITROS | C32: UNIDAD | D32: 1 | E32: =ROUND(AVERAGE('Lote 3 Ferreteria'!E32,'Lote 3 Ferreteria'!H32,'Lote 3 Ferreteria'!K32),0) -> 34910 | F32: =ROUND(E32*5%,0) -> 1746 | G32: =+ROUND(E32+F32,0) -> 36656
A33: 27 | B33: FUMIGADORA MANUAL TANQUE 20 LITROS - IVA 5% | C33: UNIDAD | D33: 1 | E33: =ROUND(AVERAGE('Lote 3 Ferreteria'!E33,'Lote 3 Ferreteria'!H33,'Lote 3 Ferreteria'!K33),0) -> 788183 | F33: =ROUND(E33*5%,0) -> 39409 | G33: =+ROUND(E33+F33,0) -> 827592
A34: 28 | B34: ATOMIZADOR PLASTICO 1000 ML | C34: UNIDAD | D34: 1 | E34: =ROUND(AVERAGE('Lote 3 Ferreteria'!E34,'Lote 3 Ferreteria'!H34,'Lote 3 Ferreteria'!K34),0) -> 17990 | F34: =ROUND(E34*19%,0) -> 3418 | G34: =+ROUND(E34+F34,0) -> 21408
A35: 29 | B35: CANECA PLASTICA CON TAPA Y ARO 55 GALONES | C35: UNIDAD | D35: 1 | E35: =ROUND(AVERAGE('Lote 3 Ferreteria'!E35,'Lote 3 Ferreteria'!H35,'Lote 3 Ferreteria'!K35),0) -> 433233 | F35: =ROUND(E35*19%,0) -> 82314 | G35: =+ROUND(E35+F35,0) -> 515547
A36: 30 | B36: COMEDERO PARA GALLINAS CAPACIDAD DE. 12 KILOS | C36: UNIDAD | D36: 1 | E36: =ROUND(AVERAGE('Lote 3 Ferreteria'!E36,'Lote 3 Ferreteria'!H36,'Lote 3 Ferreteria'!K36),0) -> 34910 | F36: =ROUND(E36*5%,0) -> 1746 | G36: =+ROUND(E36+F36,0) -> 36656
A37: 31 | B37: MANGUERA VERDE PARA RIEGO ACOPLADA 3 CAPAS 1/2' X 20 METROS | C37: ROLLO | D37: 1 | E37: =ROUND(AVERAGE('Lote 3 Ferreteria'!E37,'Lote 3 Ferreteria'!H37,'Lote 3 Ferreteria'!K37),0) -> 143720 | F37: =ROUND(E37*19%,0) -> 27307 | G37: =+ROUND(E37+F37,0) -> 171027
A38: 32 | B38: PISTOLA PARA MANGUERA 1/2' | C38: UNIDAD | D38: 1 | E38: =ROUND(AVERAGE('Lote 3 Ferreteria'!E38,'Lote 3 Ferreteria'!H38,'Lote 3 Ferreteria'!K38),0) -> 49690 | F38: =ROUND(E38*19%,0) -> 9441 | G38: =+ROUND(E38+F38,0) -> 59131
A39: 33 | B39: MANGUERA TRANSPARENTE 1/2' X METRO | C39: METRO LINEAL | D39: 1 | E39: =ROUND(AVERAGE('Lote 3 Ferreteria'!E39,'Lote 3 Ferreteria'!H39,'Lote 3 Ferreteria'!K39),0) -> 5731 | F39: =ROUND(E39*19%,0) -> 1089 | G39: =+ROUND(E39+F39,0) -> 6820
A40: 34 | B40: MANGUERA REVESTIDA CALIBRE 60 1/2' X 90 METROS | C40: ROLLO | D40: 1 | E40: =ROUND(AVERAGE('Lote 3 Ferreteria'!E40,'Lote 3 Ferreteria'!H40,'Lote 3 Ferreteria'!K40),0) -> 126800 | F40: =ROUND(E40*19%,0) -> 24092 | G40: =+ROUND(E40+F40,0) -> 150892
A41: 35 | B41: MANILA POLIPROPILENO CALIBRE 6 X METRO | C41: METRO LINEAL | D41: 1 | E41: =ROUND(AVERAGE('Lote 3 Ferreteria'!E41,'Lote 3 Ferreteria'!H41,'Lote 3 Ferreteria'!K41),0) -> 2140 | F41: =ROUND(E41*19%,0) -> 407 | G41: =+ROUND(E41+F41,0) -> 2547
A42: 36 | B42: MANILA POLIPROPILENO CALIBRE 8 X METRO | C42: METRO LINEAL | D42: 1 | E42: =ROUND(AVERAGE('Lote 3 Ferreteria'!E42,'Lote 3 Ferreteria'!H42,'Lote 3 Ferreteria'!K42),0) -> 2484 | F42: =ROUND(E42*19%,0) -> 472 | G42: =+ROUND(E42+F42,0) -> 2956
A43: 37 | B43: MANILA POLIPROPILENO 1/2' ROLLO X 200 METROS | C43: ROLLO | D43: 1 | E43: =ROUND(AVERAGE('Lote 3 Ferreteria'!E43,'Lote 3 Ferreteria'!H43,'Lote 3 Ferreteria'!K43),0) -> 968161 | F43: =ROUND(E43*19%,0) -> 183951 | G43: =+ROUND(E43+F43,0) -> 1152112
A44: 38 | B44: RECOLECTOR TIPO GUARDIAN 1.5 LTR | C44: UNIDAD | D44: 1 | E44: =ROUND(AVERAGE('Lote 3 Ferreteria'!E44,'Lote 3 Ferreteria'!H44,'Lote 3 Ferreteria'!K44),0) -> 18923 | F44: =ROUND(E44*19%,0) -> 3595 | G44: =+ROUND(E44+F44,0) -> 22518
A45: 39 | B45: REGADERA PARA JARDIN 7 LITROS | C45: UNIDAD | D45: 1 | E45: =ROUND(AVERAGE('Lote 3 Ferreteria'!E45,'Lote 3 Ferreteria'!H45,'Lote 3 Ferreteria'!K45),0) -> 89850 | F45: =ROUND(E45*19%,0) -> 17072 | G45: =+ROUND(E45+F45,0) -> 106922
A46: 40 | B46: TAPA CANAL EXTERNA DERECHA | C46: UNIDAD | D46: 1 | E46: =ROUND(AVERAGE('Lote 3 Ferreteria'!E46,'Lote 3 Ferreteria'!H46,'Lote 3 Ferreteria'!K46),0) -> 12603 | F46: =ROUND(E46*19%,0) -> 2395 | G46: =+ROUND(E46+F46,0) -> 14998
A47: 41 | B47: TAPA CANAL EXTERNA IZQUIERDA | C47: UNIDAD | D47: 1 | E47: =ROUND(AVERAGE('Lote 3 Ferreteria'!E47,'Lote 3 Ferreteria'!H47,'Lote 3 Ferreteria'!K47),0) -> 12603 | F47: =ROUND(E47*19%,0) -> 2395 | G47: =+ROUND(E47+F47,0) -> 14998
A48: 42 | B48: UNION CANAL A BAJANTE 3' | C48: UNIDAD | D48: 1 | E48: =ROUND(AVERAGE('Lote 3 Ferreteria'!E48,'Lote 3 Ferreteria'!H48,'Lote 3 Ferreteria'!K48),0) -> 34806 | F48: =ROUND(E48*19%,0) -> 6613 | G48: =+ROUND(E48+F48,0) -> 41419
... A117: 111 | B117: CLAVO PARA HERRAR 4.5' X CAJA | C117: CAJA | D117: 1 | E117: =ROUND(AVERAGE('Lote 3 Ferreteria'!E117,'Lote 3 Ferreteria'!H117,'Lote 3 Ferreteria'!K117),0) -> 63778 | F117: =ROUND(E117*19%,0) -> 12118 | G117: =+ROUND(E117+F117,0) -> 75896
A118: 112 | B118: CUCHILLA PARA GUADAÑA 5% | C118: UNIDAD | D118: 1 | E118: =ROUND(AVERAGE('Lote 3 Ferreteria'!E118,'Lote 3 Ferreteria'!H118,'Lote 3 Ferreteria'!K118),0) -> 19027 | F118: =ROUND(E118*5%,0) -> 951 | G118: =+ROUND(E118+F118,0) -> 19978
A119: 113 | B119: CABUYA COSECHERA SINTETICA N.12 X 750 METROS | C119: ROLLO | D119: 1 | E119: =ROUND(AVERAGE('Lote 3 Ferreteria'!E119,'Lote 3 Ferreteria'!H119,'Lote 3 Ferreteria'!K119),0) -> 34910 | F119: =ROUND(E119*19%,0) -> 6633 | G119: =+ROUND(E119+F119,0) -> 41543
A120: 114 | B120: CINTA METRICA EN FIBRA DE VIDRIO X 50 METROS | C120: ROLLO | D120: 1 | E120: =ROUND(AVERAGE('Lote 3 Ferreteria'!E120,'Lote 3 Ferreteria'!H120,'Lote 3 Ferreteria'!K120),0) -> 182740 | F120: =ROUND(E120*19%,0) -> 34721 | G120: =+ROUND(E120+F120,0) -> 217461
A121: 115 | B121: JUEGO CONEXION FLANCHE PARA TANQUE | C121: JUEGO | D121: 1 | E121: =ROUND(AVERAGE('Lote 3 Ferreteria'!E121,'Lote 3 Ferreteria'!H121,'Lote 3 Ferreteria'!K121),0) -> 20926 | F121: =ROUND(E121*19%,0) -> 3976 | G121: =+ROUND(E121+F121,0) -> 24902
A122: 116 | B122: GUANTE POLIESTER/POLIURETANO - PAR | C122: PAR | D122: 1 | E122: =ROUND(AVERAGE('Lote 3 Ferreteria'!E122,'Lote 3 Ferreteria'!H122,'Lote 3 Ferreteria'!K122),0) -> 15365 | F122: =ROUND(E122*19%,0) -> 2919 | G122: =+ROUND(E122+F122,0) -> 18284
A123: 117 | B123: ESCOBA CON CABO BARREPRADO METALICA 22 DIENTES | C123: UNIDAD | D123: 1 | E123: =ROUND(AVERAGE('Lote 3 Ferreteria'!E123,'Lote 3 Ferreteria'!H123,'Lote 3 Ferreteria'!K123),0) -> 36706 | F123: =ROUND(E123*19%,0) -> 6974 | G123: =+ROUND(E123+F123,0) -> 43680
A124: 118 | B124: TIJERA PARA PODA MANUAL TUBO 53 CMS REF. 18397 5% | C124: UNIDAD | D124: 1 | E124: =ROUND(AVERAGE('Lote 3 Ferreteria'!E124,'Lote 3 Ferreteria'!H124,'Lote 3 Ferreteria'!K124),0) -> 83600 | F124: =ROUND(E124*5%,0) -> 4180 | G124: =+ROUND(E124+F124,0) -> 87780
A125: 119 | B125: SERRUCHO CORTADOR CON MANGO TELESCOPICO 16' | C125: UNIDAD | D125: 1 | E125: =ROUND(AVERAGE('Lote 3 Ferreteria'!E125,'Lote 3 Ferreteria'!H125,'Lote 3 Ferreteria'!K125),0) -> 459683 | F125: =ROUND(E125*19%,0) -> 87340 | G125: =+ROUND(E125+F125,0) -> 547023
A126: 120 | B126: TENSOR PARA CERCA ELECTRICA DE 500 METRO | C126: UNIDAD | D126: 1 | E126: =ROUND(AVERAGE('Lote 3 Ferreteria'!E126,'Lote 3 Ferreteria'!H126,'Lote 3 Ferreteria'!K126),0) -> 13777 | F126: =ROUND(E126*19%,0) -> 2618 | G126: =+ROUND(E126+F126,0) -> 16395
A127: 121 | B127: GUAYA ALMA DE FIBRA PLASTIFICADA 3/16' | C127: UNIDAD | D127: 1 | E127: =ROUND(AVERAGE('Lote 3 Ferreteria'!E127,'Lote 3 Ferreteria'!H127,'Lote 3 Ferreteria'!K127),0) -> 4902 | F127: =ROUND(E127*19%,0) -> 931 | G127: =+ROUND(E127+F127,0) -> 5833
A128: 122 | B128: PUNTILLA CON CABEZA 2.1/2' X 500 GRAMOS | C128: UNIDAD | D128: 1 | E128: =ROUND(AVERAGE('Lote 3 Ferreteria'!E128,'Lote 3 Ferreteria'!H128,'Lote 3 Ferreteria'!K128),0) -> 9012 | F128: =ROUND(E128*19%,0) -> 1712 | G128: =+ROUND(E128+F128,0) -> 10724
A129: 123 | B129: MALLA ANTITRIPS H. 4 METRO X 100 METROS | C129: METRO LINEAL | D129: 1 | E129: =ROUND(AVERAGE('Lote 3 Ferreteria'!E129,'Lote 3 Ferreteria'!H129,'Lote 3 Ferreteria'!K129),0) -> 2810733 | F129: =ROUND(E129*19%,0) -> 534039 | G129: =+ROUND(E129+F129,0) -> 3344772
A130: 124 | B130: VARILLA ROSCADA 3/8' X 1 METRO CON TUERCA Y ARANDELA | C130: UNIDAD | D130: 1 | E130: =ROUND(AVERAGE('Lote 3 Ferreteria'!E130,'Lote 3 Ferreteria'!H130,'Lote 3 Ferreteria'!K130),0) -> 24758 | F130: =ROUND(E130*19%,0) -> 4704 | G130: =+ROUND(E130+F130,0) -> 29462
A131: 125 | B131: AMARRE X 100 UNIDADES DE 50 CMS | C131: UNIDAD | D131: 1 | E131: =ROUND(AVERAGE('Lote 3 Ferreteria'!E131,'Lote 3 Ferreteria'!H131,'Lote 3 Ferreteria'!K131),0) -> 88054 | F131: =ROUND(E131*19%,0) -> 16730 | G131: =+ROUND(E131+F131,0) -> 104784
A132: 126 | B132: ALICATE ELECTRICO N.8 ECONOMICO REF. 84-023 | C132: UNIDAD | D132: 1 | E132: =ROUND(AVERAGE('Lote 3 Ferreteria'!E132,'Lote 3 Ferreteria'!H132,'Lote 3 Ferreteria'!K132),0) -> 54248 | F132: =ROUND(E132*19%,0) -> 10307 | G132: =+ROUND(E132+F132,0) -> 64555
A133: 127 | B133: ALICATE DIABLO 11' REF. 22656 | C133: UNIDAD | D133: 1 | E133: =ROUND(AVERAGE('Lote 3 Ferreteria'!E133,'Lote 3 Ferreteria'!H133,'Lote 3 Ferreteria'!K133),0) -> 122587 | F133: =ROUND(E133*19%,0) -> 23292 | G133: =+ROUND(E133+F133,0) -> 145879
A134: 128 | B134: AZADON CON CABO REF 3753-2 | C134: UNIDAD | D134: 1 | E134: =ROUND(AVERAGE('Lote 3 Ferreteria'!E134,'Lote 3 Ferreteria'!H134,'Lote 3 Ferreteria'!K134),0) -> 83497 | F134: =ROUND(E134*19%,0) -> 15864 | G134: =+ROUND(E134+F134,0) -> 99361
A135: 129 | B135: AZADON CON CABO REF3120 OCAÑERO | C135: UNIDAD | D135: 1 | E135: =ROUND(AVERAGE('Lote 3 Ferreteria'!E135,'Lote 3 Ferreteria'!H135,'Lote 3 Ferreteria'!K135),0) -> 88780 | F135: =ROUND(E135*19%,0) -> 16868 | G135: =+ROUND(E135+F135,0) -> 105648
A136: 130 | B136: BARRA 18 LIBRAS 5% | C136: UNIDAD | D136: 1 | E136: =ROUND(AVERAGE('Lote 3 Ferreteria'!E136,'Lote 3 Ferreteria'!H136,'Lote 3 Ferreteria'!K136),0) -> 176697 | F136: =ROUND(E136*5%,0) -> 8835 | G136: =+ROUND(E136+F136,0) -> 185532
A137: 131 | B137: BOTAS DE CUERO NEGRO CON PUNTERA | C137: UNIDAD | D137: 1 | E137: =ROUND(AVERAGE('Lote 3 Ferreteria'!E137,'Lote 3 Ferreteria'!H137,'Lote 3 Ferreteria'!K137),0) -> 142683 | F137: =ROUND(E137*19%,0) -> 27110 | G137: =+ROUND(E137+F137,0) -> 169793
A138: 132 | B138: CABO PARA AZADON. | C138: UNIDAD | D138: 1 | E138: =ROUND(AVERAGE('Lote 3 Ferreteria'!E138,'Lote 3 Ferreteria'!H138,'Lote 3 Ferreteria'!K138),0) -> 17161 | F138: =ROUND(E138*19%,0) -> 3261 | G138: =+ROUND(E138+F138,0) -> 20422
A139: 133 | B139: CABO PARA HOYADORA | C139: UNIDAD | D139: 1 | E139: =ROUND(AVERAGE('Lote 3 Ferreteria'!E139,'Lote 3 Ferreteria'!H139,'Lote 3 Ferreteria'!K139),0) -> 21133 | F139: =ROUND(E139*19%,0) -> 4015 | G139: =+ROUND(E139+F139,0) -> 25148
A140: 134 | B140: CABO PARA PALA | C140: UNIDAD | D140: 1 | E140: =ROUND(AVERAGE('Lote 3 Ferreteria'!E140,'Lote 3 Ferreteria'!H140,'Lote 3 Ferreteria'!K140),0) -> 17161 | F140: =ROUND(E140*19%,0) -> 3261 | G140: =+ROUND(E140+F140,0) -> 20422
A141: 135 | B141: CASCO BLANCO CON BARBUQUEJO CERTFICADO | C141: UNIDAD | D141: 1 | E141: =ROUND(AVERAGE('Lote 3 Ferreteria'!E141,'Lote 3 Ferreteria'!H141,'Lote 3 Ferreteria'!K141),0) -> 58150 | F141: =ROUND(E141*19%,0) -> 11049 | G141: =+ROUND(E141+F141,0) -> 69199
A142: 136 | B142: KIT SOLAR CON PANEL 50W MAS BATERIA | C142: KIT | D142: 1 | E142: =ROUND(AVERAGE('Lote 3 Ferreteria'!E142,'Lote 3 Ferreteria'!H142,'Lote 3 Ferreteria'!K142),0) -> 2324667 | F142: =ROUND(E142*19%,0) -> 441687 | G142: =+ROUND(E142+F142,0) -> 2766354
A143: 137 | B143: ESCALERA DE TIJERA 4 PASOS (1.50 MTR) | C143: UNIDAD | D143: 1 | E143: =ROUND(AVERAGE('Lote 3 Ferreteria'!E143,'Lote 3 Ferreteria'!H143,'Lote 3 Ferreteria'!K143),0) -> 877033 | F143: =ROUND(E143*19%,0) -> 166636 | G143: =+ROUND(E143+F143,0) -> 1043669
A144: 138 | B144: HACHA 3.1/2' LIBRAS CON CABO | C144: UNIDAD | D144: 1 | E144: =ROUND(AVERAGE('Lote 3 Ferreteria'!E144,'Lote 3 Ferreteria'!H144,'Lote 3 Ferreteria'!K144),0) -> 109913 | F144: =ROUND(E144*19%,0) -> 20883 | G144: =+ROUND(E144+F144,0) -> 130796
A145: 139 | B145: IMPULSOR PARA CERCA ELECTRICA 40 KILOMETROS | C145: UNIDAD | D145: 1 | E145: =ROUND(AVERAGE('Lote 3 Ferreteria'!E145,'Lote 3 Ferreteria'!H145,'Lote 3 Ferreteria'!K145),0) -> 612867 | F145: =ROUND(E145*19%,0) -> 116445 | G145: =+ROUND(E145+F145,0) -> 729312
A146: 140 | B146: JUEGO TORNILLO 1' X 5/32 CON TUERCA Y ARANDELA | C146: JUEGO | D146: 1 | E146: =ROUND(AVERAGE('Lote 3 Ferreteria'!E146,'Lote 3 Ferreteria'!H146,'Lote 3 Ferreteria'!K146),0) -> 378 | F146: =ROUND(E146*19%,0) -> 72 | G146: =+ROUND(E146+F146,0) -> 450
A147: 141 | B147: MACHETE 3 CANALES IVA 5% | C147: UNIDAD | D147: 1 | E147: =ROUND(AVERAGE('Lote 3 Ferreteria'!E147,'Lote 3 Ferreteria'!H147,'Lote 3 Ferreteria'!K147),0) -> 30663 | F147: =ROUND(E147*5%,0) -> 1533 | G147: =+ROUND(E147+F147,0) -> 32196
A148: 142 | B148: MALLA GALLINERO 1.20 X 36 METROS | C148: ROLLO | D148: 1 | E148: =ROUND(AVERAGE('Lote 3 Ferreteria'!E148,'Lote 3 Ferreteria'!H148,'Lote 3 Ferreteria'!K148),0) -> 180737 | F148: =ROUND(E148*19%,0) -> 34340 | G148: =+ROUND(E148+F148,0) -> 215077
A149: 143 | B149: GAFAS PROTECTORAS | C149: UNIDAD | D149: 1 | E149: =ROUND(AVERAGE('Lote 3 Ferreteria'!E149,'Lote 3 Ferreteria'!H149,'Lote 3 Ferreteria'!K149),0) -> 22029 | F149: =ROUND(E149*19%,0) -> 4186 | G149: =+ROUND(E149+F149,0) -> 26215
A150: 144 | B150: PALIN CON CABO | C150: UNIDAD | D150: 1 | E150: =ROUND(AVERAGE('Lote 3 Ferreteria'!E150,'Lote 3 Ferreteria'!H150,'Lote 3 Ferreteria'!K150),0) -> 64503 | F150: =ROUND(E150*19%,0) -> 12256 | G150: =+ROUND(E150+F150,0) -> 76759
A151: 145 | B151: HOMBRESOLO 10' | C151: UNIDAD | D151: 1 | E151: =ROUND(AVERAGE('Lote 3 Ferreteria'!E151,'Lote 3 Ferreteria'!H151,'Lote 3 Ferreteria'!K151),0) -> 79283 | F151: =ROUND(E151*19%,0) -> 15064 | G151: =+ROUND(E151+F151,0) -> 94347
A152: 146 | B152: TIJERAS PARA RAMAS ALTAS MANGOS TUBULARES | C152: UNIDAD | D152: 1 | E152: =ROUND(AVERAGE('Lote 3 Ferreteria'!E152,'Lote 3 Ferreteria'!H152,'Lote 3 Ferreteria'!K152),0) -> 100209 | F152: =ROUND(E152*19%,0) -> 19040 | G152: =+ROUND(E152+F152,0) -> 119249
A153: 147 | B153: VARILLA COPERWELL 5/8' X 1.50 CON CONECTOR | C153: UNIDAD | D153: 1 | E153: =ROUND(AVERAGE('Lote 3 Ferreteria'!E153,'Lote 3 Ferreteria'!H153,'Lote 3 Ferreteria'!K153),0) -> 202907 | F153: =ROUND(E153*19%,0) -> 38552 | G153: =+ROUND(E153+F153,0) -> 241459
A154: 148 | B154: ASERRIN POR BULTO 12 KILOS APROX. | C154: BULTO | D154: 1 | E154: =ROUND(AVERAGE('Lote 3 Ferreteria'!E154,'Lote 3 Ferreteria'!H154,'Lote 3 Ferreteria'!K154),0) -> 16713 | F154: =ROUND(E154*19%,0) -> 3175 | G154: =+ROUND(E154+F154,0) -> 19888
A155: 149 | B155: GUANTE CARNAZA REFORZADO CORTO | C155: UNIDAD | D155: 1 | E155: =ROUND(AVERAGE('Lote 3 Ferreteria'!E155,'Lote 3 Ferreteria'!H155,'Lote 3 Ferreteria'!K155),0) -> 17264 | F155: =ROUND(E155*19%,0) -> 3280 | G155: =+ROUND(E155+F155,0) -> 20544
A156: 150 | B156: PERRO TIPO LIVIANO 3/16' | C156: UNIDAD | D156: 1 | E156: =ROUND(AVERAGE('Lote 3 Ferreteria'!E156,'Lote 3 Ferreteria'!H156,'Lote 3 Ferreteria'!K156),0) -> 1103 | F156: =ROUND(E156*19%,0) -> 210 | G156: =+ROUND(E156+F156,0) -> 1313
A157: 151 | B157: GRAVILLA 3/4' X LONA | C157: UNIDAD | D157: 1 | E157: =ROUND(AVERAGE('Lote 3 Ferreteria'!E157,'Lote 3 Ferreteria'!H157,'Lote 3 Ferreteria'!K157),0) -> 17990 | F157: =ROUND(E157*19%,0) -> 3418 | G157: =+ROUND(E157+F157,0) -> 21408
A158: 152 | B158: PUNTILLA CON CABEZA 4' X 800 GRAMOS | C158: UNIDAD | D158: 1 | E158: =ROUND(AVERAGE('Lote 3 Ferreteria'!E158,'Lote 3 Ferreteria'!H158,'Lote 3 Ferreteria'!K158),0) -> 17783 | F158: =ROUND(E158*19%,0) -> 3379 | G158: =+ROUND(E158+F158,0) -> 21162
A159: 153 | B159: BISAGRA 3' X 2 UNIDADES | C159: UNIDAD | D159: 1 | E159: =ROUND(AVERAGE('Lote 3 Ferreteria'!E159,'Lote 3 Ferreteria'!H159,'Lote 3 Ferreteria'!K159),0) -> 9945 | F159: =ROUND(E159*19%,0) -> 1890 | G159: =+ROUND(E159+F159,0) -> 11835
... A175: 169 | B175: SOLUCION DE ALMACENAMIENTO DE ELECTRODOS 500 ML HI 70300L | C175: UNIDAD | D175: 1 | E175: =ROUND(AVERAGE('Lote 3 Ferreteria'!E175,'Lote 3 Ferreteria'!H175,'Lote 3 Ferreteria'!K175),0) -> 144790 | F175: =ROUND(E175*19%,0) -> 27510 | G175: =+ROUND(E175+F175,0) -> 172300
A176: 170 | B176: BARRA 16 LIBRAS 5% | C176: UNIDAD | D176: 1 | E176: =ROUND(AVERAGE('Lote 3 Ferreteria'!E176,'Lote 3 Ferreteria'!H176,'Lote 3 Ferreteria'!K176),0) -> 209227 | F176: =ROUND(E176*5%,0) -> 10461 | G176: =+ROUND(E176+F176,0) -> 219688
A177: 171 | B177: CANECA PLASTICA CON TAPA 120 LITROS | C177: UNIDAD | D177: 1 | E177: =ROUND(AVERAGE('Lote 3 Ferreteria'!E177,'Lote 3 Ferreteria'!H177,'Lote 3 Ferreteria'!K177),0) -> 113816 | F177: =ROUND(E177*19%,0) -> 21625 | G177: =+ROUND(E177+F177,0) -> 135441
A178: 172 | B178: GUADAÑA HUSQVARNA REF 143 II | C178: UNIDAD | D178: 1 | E178: =ROUND(AVERAGE('Lote 3 Ferreteria'!E178,'Lote 3 Ferreteria'!H178,'Lote 3 Ferreteria'!K178),0) -> 3423600 | F178: =ROUND(E178*19%,0) -> 650484 | G178: =+ROUND(E178+F178,0) -> 4074084
A179: 173 | B179: PALA HOYADORA CON CABO | C179: UNIDAD | D179: 1 | E179: =ROUND(AVERAGE('Lote 3 Ferreteria'!E179,'Lote 3 Ferreteria'!H179,'Lote 3 Ferreteria'!K179),0) -> 131495 | F179: =ROUND(E179*19%,0) -> 24984 | G179: =+ROUND(E179+F179,0) -> 156479
A180: 174 | B180: MALLA ESLABONADA C10.5 H 2.1/4' 2MT H X 10 METRO LINEAL | C180: UNIDAD | D180: 1 | E180: =ROUND(AVERAGE('Lote 3 Ferreteria'!E180,'Lote 3 Ferreteria'!H180,'Lote 3 Ferreteria'!K180),0) -> 581167 | F180: =ROUND(E180*19%,0) -> 110422 | G180: =+ROUND(E180+F180,0) -> 691589
A181: 175 | B181: MANGUERA TIPO SWAN 1/2' X 15 METROS | C181: UNIDAD | D181: 1 | E181: =ROUND(AVERAGE('Lote 3 Ferreteria'!E181,'Lote 3 Ferreteria'!H181,'Lote 3 Ferreteria'!K181),0) -> 63400 | F181: =ROUND(E181*19%,0) -> 12046 | G181: =+ROUND(E181+F181,0) -> 75446
A182: 176 | B182: MARTILLO DE UÑA DE 27 MM MANG. FV | C182: UNIDAD | D182: 1 | E182: =ROUND(AVERAGE('Lote 3 Ferreteria'!E182,'Lote 3 Ferreteria'!H182,'Lote 3 Ferreteria'!K182),0) -> 51267 | F182: =ROUND(E182*19%,0) -> 9741 | G182: =+ROUND(E182+F182,0) -> 61008
A183: 177 | B183: NAVAJA PLEGABLE REF 101101 | C183: UNIDAD | D183: 1 | E183: =ROUND(AVERAGE('Lote 3 Ferreteria'!E183,'Lote 3 Ferreteria'!H183,'Lote 3 Ferreteria'!K183),0) -> 111813 | F183: =ROUND(E183*19%,0) -> 21244 | G183: =+ROUND(E183+F183,0) -> 133057
A184: 178 | B184: PICA C/CABO | C184: UNIDAD | D184: 1 | E184: =ROUND(AVERAGE('Lote 3 Ferreteria'!E184,'Lote 3 Ferreteria'!H184,'Lote 3 Ferreteria'!K184),0) -> 80567 | F184: =ROUND(E184*19%,0) -> 15308 | G184: =+ROUND(E184+F184,0) -> 95875
A185: 179 | B185: VINILO TIPO 1 X CANECA COLOR ________ | C185: UNIDAD | D185: 1 | E185: =ROUND(AVERAGE('Lote 3 Ferreteria'!E185,'Lote 3 Ferreteria'!H185,'Lote 3 Ferreteria'!K185),0) -> 509892 | F185: =ROUND(E185*19%,0) -> 96879 | G185: =+ROUND(E185+F185,0) -> 606771
A186: 180 | B186: CORTADORA CESPED CON MOTOR A GASOLINA 6.5HP 4 TIEMPOS | C186: UNIDAD | D186: 1 | E186: =ROUND(AVERAGE('Lote 3 Ferreteria'!E186,'Lote 3 Ferreteria'!H186,'Lote 3 Ferreteria'!K186),0) -> 5915227 | F186: =ROUND(E186*19%,0) -> 1123893 | G186: =+ROUND(E186+F186,0) -> 7039120
A187: 181 | B187: PRENSA BOTANICA 70 X 45 CMS | C187: UNIDAD | D187: 1 | E187: =ROUND(AVERAGE('Lote 3 Ferreteria'!E187,'Lote 3 Ferreteria'!H187,'Lote 3 Ferreteria'!K187),0) -> 2357470 | F187: =ROUND(E187*19%,0) -> 447919 | G187: =+ROUND(E187+F187,0) -> 2805389
A188: 182 | B188: RODILLO MASTER 9' | C188: UNIDAD | D188: 1 | E188: =ROUND(AVERAGE('Lote 3 Ferreteria'!E188,'Lote 3 Ferreteria'!H188,'Lote 3 Ferreteria'!K188),0) -> 22029 | F188: =ROUND(E188*19%,0) -> 4186 | G188: =+ROUND(E188+F188,0) -> 26215
... A201: 195 | B201: JUEGO DE HERRAMIENTAS PARA JARDIN X 3 PIEZAS | C201: UNIDAD | D201: 1 | E201: =ROUND(AVERAGE('Lote 3 Ferreteria'!E201,'Lote 3 Ferreteria'!H201,'Lote 3 Ferreteria'!K201),0) -> 35428 | F201: =ROUND(E201*19%,0) -> 6731 | G201: =+ROUND(E201+F201,0) -> 42159
A202: 196 | B202: TIJERA PARA FLORICULTURA N.8 REF 23103 | C202: UNIDAD | D202: 1 | E202: =ROUND(AVERAGE('Lote 3 Ferreteria'!E202,'Lote 3 Ferreteria'!H202,'Lote 3 Ferreteria'!K202),0) -> 46858 | F202: =ROUND(E202*5%,0) -> 2343 | G202: =+ROUND(E202+F202,0) -> 49201
A203: 197 | B203: RASTRILLO JARDIN METALICO C/CABO 16 DIENTES | C203: UNIDAD | D203: 1 | E203: =ROUND(AVERAGE('Lote 3 Ferreteria'!E203,'Lote 3 Ferreteria'!H203,'Lote 3 Ferreteria'!K203),0) -> 56467 | F203: =ROUND(E203*19%,0) -> 10729 | G203: =+ROUND(E203+F203,0) -> 67196
A204: 198 | B204: BOTIQUIN DE PRIMEROS AUXILIOS TIPO A - EXCENTO IVA | C204: UNIDAD | D204: 1 | E204: =ROUND(AVERAGE('Lote 3 Ferreteria'!E204,'Lote 3 Ferreteria'!H204,'Lote 3 Ferreteria'!K204),0) -> 551750 | F204: =ROUND(E204*0%,0) -> 0 | G204: =+ROUND(E204+F204,0) -> 551750
A205: 199 | B205: CAMILLA POLIETILENO CON INMOVILIZADOR DE CABEZA | C205: UNIDAD | D205: 1 | E205: =ROUND(AVERAGE('Lote 3 Ferreteria'!E205,'Lote 3 Ferreteria'!H205,'Lote 3 Ferreteria'!K205),0) -> 429333 | F205: =ROUND(E205*19%,0) -> 81573 | G205: =+ROUND(E205+F205,0) -> 510906
A206: 200 | B206: REFLECTOR LED 300W | C206: UNIDAD | D206: 1 | E206: =ROUND(AVERAGE('Lote 3 Ferreteria'!E206,'Lote 3 Ferreteria'!H206,'Lote 3 Ferreteria'!K206),0) -> 796987 | F206: =ROUND(E206*19%,0) -> 151428 | G206: =+ROUND(E206+F206,0) -> 948415
A207: 201 | B207: TALADRO PERCUTOR INALAMBRICO 18 V 1/2 | C207: UNIDAD | D207: 1 | E207: =ROUND(AVERAGE('Lote 3 Ferreteria'!E207,'Lote 3 Ferreteria'!H207,'Lote 3 Ferreteria'!K207),0) -> 2284540 | F207: =ROUND(E207*19%,0) -> 434063 | G207: =+ROUND(E207+F207,0) -> 2718603
...
