Workbook

Sheet OFERTA ECONOMICA CIUDAD FUTURO
A2: OFERTA ECONOMICA CENTRO VIDA EL OSO
A3: DESCRIPCION | B3: UNIDAD DE MEDIDA | C3: CANTIDAD | D3: VALOR UNITARIO /MES INCLUIDO IVA | E3: SUBTOTAL | F3: FACTOR MULTIPLICADOR (1.9) Perfiles que aplica. | G3: VALOR TOTAL X 1 INCLUIDO IVA
A4: ITEM 1- PERSONAL
A5: Director o Coordinador | B5: UNIDAD | C5: 1 | D5: 3600000 | E5: =C5*D5 -> 3600000 | F5: =E5*1.9 -> 6840000 | G5: =(F5/30)*24 -> 5472000
A6: Nutricionista | B6: UNIDAD | C6: 1 | D6: 3600000 | E6: =C6*D6 -> 3600000 | F6: =E6 -> 3600000 | G6: =(F6/30)*24 -> 2880000
A7: Manipulador de alimentos | B7: UNIDAD | C7: 4 | D7: 1300000 | E7: =C7*D7 -> 5200000 | F7: =E7*1.9 -> 9880000 | G7: =(F7/30)*24 -> 7904000
A8: Técnico auxiliar de enfermería | B8: UNIDAD | C8: 2 | D8: 1465053 | E8: =C8*D8 -> 2930106 | F8: =E8*1.9 -> 5567201.4 | G8: =(F8/30)*24 -> 4453761.1
A9: Tallerista en Manualidades y artes Plásticas | B9: UNIDAD | C9: 2 | D9: 1800000 | E9: =C9*D9 -> 3600000 | F9: =E9*1.9 -> 6840000 | G9: =(F9/30)*24 -> 5472000
A10: Profesional en ciencias del deporte, actividades cognitivas y productivas, actividades recreativas y culturales | B10: UNIDAD | C10: 6 | D10: 3600000 | E10: =C10*D10 -> 21600000 | F10: =E10*1.9 -> 41040000 | G10: =(F10/30)*24 -> 32832000
A11: Psicólogo (Ley 1276) | B11: UNIDAD | C11: 2 | D11: 3600000 | E11: =C11*D11 -> 7200000 | F11: =E11 -> 7200000 | G11: =(F11/30)*24 -> 5760000
A12: Trabajador social | B12: UNIDAD | C12: 2 | D12: 3600000 | E12: =C12*D12 -> 7200000 | F12: =E12 -> 7200000 | G12: =(F12/30)*24 -> 5760000
A13: Profesional SGST | B13: UNIDAD | C13: 1 | D13: 3600000 | E13: =C13*D13 -> 3600000 | F13: =E13 -> 3600000 | G13: =(F13/30)*24 -> 2880000
A14: Profesional Fisioterapia | B14: UNIDAD | C14: 1 | D14: 3600000 | E14: =C14*D14 -> 3600000 | F14: =E14*1.9 -> 6840000 | G14: =(F14/30)*24 -> 5472000
A15: Gerontólogo | B15: UNIDAD | C15: 1 | D15: 3600000 | E15: =C15*D15 -> 3600000 | F15: =E15 -> 3600000 | G15: =(F15/30)*24 -> 2880000
A16: Persona mantenimiento y aseo de infraestructura física | B16: UNIDAD | C16: 2 | D16: 1300000 | E16: =C16*D16 -> 2600000 | F16: =E16 -> 2600000 | G16: =(F16/30)*24 -> 2080000
A17: Salvavidas (Ley 1209/2008) | B17: UNIDAD | C17: 1 | D17: 2300000 | E17: =C17*D17 -> 2300000 | F17: =E17*1.9 -> 4370000 | G17: =(F17/30)*24 -> 3496000
A18: Auxiliar para atención de emergencias | B18: UNIDAD | C18: 2 | D18: 1800000 | E18: =C18*D18 -> 3600000 | F18: =E18 -> 3600000 | G18: =(F18/30)*24 -> 2880000
A19: Auxiliar administrativo | B19: UNIDAD | C19: 3 | D19: 1300000 | E19: =C19*D19 -> 3900000 | F19: =E19*1.9 -> 7410000 | G19: =(F19/30)*24 -> 5928000
A20: Tecnólogo en sistemas | B20: UNIDAD | C20: 1 | D20: 2700000 | E20: =C20*D20 -> 2700000 | F20: =E20 -> 2700000 | G20: =(F20/30)*24 -> 2160000
A21: TOTAL TALENTO HUMANO | D21: =SUM(D5:D20) -> 42765053 | E21: =SUM(E5:E20) -> 80830106 | F21: =SUM(F5:F20) -> 1.228872e+08 | G21: =SUM(G5:G20) -> 98309761
A22: ITEM 2 ALIMENTACIÓN
A23: JORNADA MAÑANA: desayuno, ($ 6.566 ), Refreigero ($4,600 ), Almuerzo ($12.350.) JORNADA TARDE; Almuerzo, Refrigerio y Cena ($11.233 ). Son tres raciones por cada AM. Establecer un valor promedio entre el desayuno y la cena) $ Valor alimentación diaria ($ 25.850 ) Valor Alimentación x 26 días ($ 672.100 ) | B23: UNIDAD | C23: 160 | D23: 672100 | E23: =C23*D23 -> 107536000 | F23: =E23 -> 107536000 | G23: =(F23/30)*24 -> 86028800
A24: ITEM 3 SEGURO EXEQUIAL | G24: =(F24/30)*26 -> 0
A25: Seguro Exequial | B25: UNIDAD | C25: 160 | D25: 14400 | E25: =C25*D25 -> 2304000 | F25: =E25 -> 2304000 | G25: =F25 -> 2304000
A26: ITEM 4 Y 5 - TRANSPORTE
A27: alquiler de vehiculo para Transporte de pasajeros | B27: UNIDAD | C27: 2 | D27: 22400000 | E27: =C27*D27 -> 44800000 | F27: =E27 -> 44800000 | G27: =(F27/30)*24 -> 35840000
A28: Servicio de transporte de alimentos | B28: UNIDAD | C28: 1 | D28: 6300000 | E28: =C28*D28 -> 6300000 | F28: =E28 -> 6300000 | G28: =(F28/30)*24 -> 5040000
A29: TOTAL COSTOS FIJOS | E29: =SUM(E21+E23+E25+E27+F28) -> 241770106 | F29: =F21+F23+F25+F27+F28 -> 2.838272e+08 | G29: =G21+G23+G25+G27+G28 -> 2.2752256e+08
A31: DESCRIPCION | B31: UNIDAD DE MEDIDA | C31: CANTIDAD | D31: VALOR UNITARIO /MES INCLUIDO IVA | E31: SUBTOTAL | F31: VALOR MENSUAL | G31: VALOR TOTAL X 6 INCLUIDO IVA
A32: ITEM 6 DOTACION VESTUARIO ADULTOS MAYORES
A33: Dotación Hombre ($ 255.000 ) y Dama ($421,666 ). VALOR PROMEDIO HOMBRE Y DAMA ($338,333 ) | B33: UNIDAD | C33: 160 | D33: 338333 | E33: =C33*D33 -> 54133280 | F33: =E33/6 -> 9022213.3 | G33: 0
A34: ITEM 7 INSUMOS ASEO INSTALACIONES CENTRO VIDA
A35: Compuesto por 16 items (ver descripción, cantidades y valores promedio en el item 7-suministros del estudio de costos del análiis del sector) | B35: KIT | C35: 1 | D35: 4396600 | E35: =C35*D35 -> 4396600 | F35: =E35 -> 4396600 | G35: =(F35/30)*24 -> 3517280
A36: ITEM 8- BOTIQUIN | C36: 1
A37: Compuesto pot 11 items (ver descripción, cantidades y valores promedio en el del estudio de costos.suministros del anális del sector) | B37: UNIDAD | C37: 1 | D37: 136000 | E37: =C37*D37 -> 136000 | F37: =E37/6 -> 22666.667 | G37: 0
A38: ITEM 9-DOTACION PARA ACTIVIDADES CULTURALES
A39: Compuesta por 10 items, (ver descripción, cantidades y valores promedio en estudio de costos-Suministros del análisis del sector) | B39: UNIDAD | C39: 1 | D39: 9540000 | E39: =C39*D39 -> 9540000 | F39: =E39/6 -> 1590000 | G39: 0
A40: ITEM 10- INSUMOS ACTIVIDADES PRODUCTIVAS
A41: Compuesto por 35 items (Ver descripción, cantidades y valores promedio en el estudios de costos-Suministros del análisis del sector) | B41: UNIDAD | C41: 1 | D41: 12112000 | E41: =C41*D41 -> 12112000 | F41: =E41/6 -> 2018666.7 | G41: 0
A42: TOTAL SUMINISTROS (COSTOS VARIABLES ) | E42: =SUM(E33:E41) -> 80317880 | F42: =SUM(F33:F41) -> 17050147 | G42: =SUM(G33+G35+G37+G39+G41) -> 3517280
...

Sheet PROYECCION DE LA EJECUCION
H1: ='[1]OFERTA ECONOMICA CIUDAD FUTURO'!A32 -> ITEM 6 DOTACION VESTUARIO ADULTOS MAYORES
B2: EJECUCION PRORROGA 24 DIAS
B3: ITEM | D3: 24 dias | E3: APORTE MUNICIPIO | F3: APORTE ESAL
B4: ='[1]OFERTA ECONOMICA CIUDAD FUTURO'!A4 -> ITEM 1- PERSONAL | D4: ='OFERTA ECONOMICA CIUDAD FUTURO'!G21 -> 98309761 | E4: =D4*83% -> 81597102 | F4: =D4*17% -> 16712659 | G4: ok | H4: =SUM(E4:F4) -> 98309761
B5: ='[1]OFERTA ECONOMICA CIUDAD FUTURO'!A22 -> ITEM 2 ALIMENTACIÓN | D5: ='OFERTA ECONOMICA CIUDAD FUTURO'!G23 -> 86028800 | E5: =D5*83% -> 71403904 | F5: =D5*17% -> 14624896 | G5: ok | H5: =SUM(E5:F5) -> 86028800
B6: ='[1]OFERTA ECONOMICA CIUDAD FUTURO'!A24 -> ITEM 3 SEGURO EXEQUIAL | D6: ='OFERTA ECONOMICA CIUDAD FUTURO'!G25 -> 2304000 | E6: =D6*83% -> 1912320 | F6: =D6*17% -> 391680 | G6: ok | H6: =SUM(E6:F6) -> 2304000
B7: ='[1]OFERTA ECONOMICA CIUDAD FUTURO'!A26 -> ITEM 4 Y 5 - TRANSPORTE | D7: ='OFERTA ECONOMICA CIUDAD FUTURO'!G27 -> 35840000 | E7: =D7*83% -> 29747200 | F7: =D7*17% -> 6092800 | G7: ok | H7: =SUM(E7:F7) -> 35840000
B8: ='[1]OFERTA ECONOMICA CIUDAD FUTURO'!A26 -> ITEM 4 Y 5 - TRANSPORTE | D8: ='OFERTA ECONOMICA CIUDAD FUTURO'!G28 -> 5040000 | E8: =D8*83% -> 4183200 | F8: =D8*17% -> 856800 | G8: ok | H8: =SUM(E8:F8) -> 5040000
B9: ='[1]OFERTA ECONOMICA CIUDAD FUTURO'!A32 -> ITEM 6 DOTACION VESTUARIO ADULTOS MAYORES | D9: ='[1]OFERTA ECONOMICA CIUDAD FUTURO'!G33 -> 0 | E9: 0 | F9: =D9*17% -> 0 | G9: NO | H9: =SUM(E9:F9) -> 0
B10: ='[1]OFERTA ECONOMICA CIUDAD FUTURO'!A34 -> ITEM 7 INSUMOS ASEO INSTALACIONES CENTRO VIDA | D10: ='OFERTA ECONOMICA CIUDAD FUTURO'!G35 -> 3517280 | E10: =D10*83% -> 2919342.4 | F10: =D10*17% -> 597937.6 | G10: ok | H10: =SUM(E10:F10) -> 3517280
B11: ='[1]OFERTA ECONOMICA CIUDAD FUTURO'!A36 -> ITEM 8- BOTIQUIN | D11: ='[1]OFERTA ECONOMICA CIUDAD FUTURO'!G37 -> 0 | E11: 0 | F11: =D11*17% -> 0 | G11: NO | H11: =SUM(E11:F11) -> 0
B12: ='[1]OFERTA ECONOMICA CIUDAD FUTURO'!A38 -> ITEM 9-DOTACION PARA ACTIVIDADES CULTURALES | D12: ='[1]OFERTA ECONOMICA CIUDAD FUTURO'!G39 -> 0 | E12: 0 | F12: =D12*17% -> 0 | G12: NO | H12: =SUM(E12:F12) -> 0
B13: ='[1]OFERTA ECONOMICA CIUDAD FUTURO'!A40 -> ITEM 10- INSUMOS ACTIVIDADES PRODUCTIVAS | D13: ='[1]OFERTA ECONOMICA CIUDAD FUTURO'!G41 -> 0 | E13: 0 | F13: =D13*17% -> 0 | G13: NO | H13: =SUM(E13:F13) -> 0
B14: TOTAL CONVENIO /APORTES | D14: =SUM(D4:D13) -> 2.3103984e+08 | E14: =SUM(E4:E13) -> 1.9176307e+08 | F14: =SUM(F4:F13) -> 39276773 | H14: =SUM(H4:H13) -> 2.3103984e+08
D15: SALDOS | E15: 1.9299021e+08 | F15: 39416219 | H15: =SUM(E15:G15) -> 2.3240643e+08 | J15: =F15/H15 -> 0.16960038
G16: Adicion
C18: APORTES ENTIDADES | D18: %
C19: MUNICIPIO DE PEREIRA | D19: =E14/D14 -> 0.83
C20: ENTIDAD SIN ANIMO DE LUCRO | D20: =F14/D14 -> 0.17
C21: TOTAL DEL CONVENIO | D21: 1
B28: Atentamente,
B31: LINA VICTORIA IBÁÑEZ MÉNDEZ
B32: C.C 25.163.494 de Santa Rosa de Cabal (Risaralda).
B33: Correo electrónico: asociacionciudadfuturo@gmail.com
B34: Representante legal Asociación Ciudad Futuro

Sheet PROYECCION PRORROGA
A3: PROYECCION ADICION Y PRORROGA
A4: CONVENIO 2691 DE 6 DE MAYO | C4: CENTRO VIDA EL OSO | E4: PLAZO INICIAL: 6 MESES
A6: PAGOS | B6: VALOR DESEMBOLSO MPIO | C6: APORTES ESAL | D6: TOTAL EJECUTADO | E6: SALDOS PENDIENTES MPIO | F6: SALDOS PENDIENTES ESAL | G6: VALO TOTAL CONVENIO
A7: VALOR INICIAL CONVENIO | E7: 1624764760 | F7: 180499328 | G7: =SUM(E7:F7) -> 1805264088
A8: DESEMBOLSO 1 | B8: 2.305089e+08 | C8: 28627613 | D8: =SUM(B8:C8) -> 2.5913651e+08 | E8: =E7-B8 -> 1.3942559e+09 | F8: =+F7-C8 -> 151871715
A9: DESEMBOLSO 2 | B9: 230557414 | C9: 21493327 | D9: =SUM(B9:C9) -> 252050741 | E9: =E8-B9 -> 1.1636984e+09 | F9: =+F8-C9 -> 130378388
A10: DESEMBOLSO 3 | B10: 230667929 | C10: 20297906 | D10: =SUM(B10:C10) -> 250965835 | E10: =E9-B10 -> 9.3303052e+08 | F10: =+F9-C10 -> 110080482
A11: DESEMBOLSO 4 | B11: 233046726 | C11: 22532836 | D11: =SUM(B11:C11) -> 255579562 | E11: =E10-B11 -> 6.9998379e+08 | F11: =+F10-C11 -> 87547646
A12: DESEMBOLSO 5 | B12: 224946851 | C12: 19926755 | D12: =SUM(B12:C12) -> 244873606 | E12: =E11-B12 -> 4.7503694e+08 | F12: =+F11-C12 -> 67620891
A13: DESEMBOLSO 6 (proyectado) | B13: 282046726 | C13: 28204672 | D13: =SUM(B13:C13) -> 310251398 | E13: =E12-B13 -> 1.9299021e+08 | F13: =+F12-C13 -> 39416219
A14: TOTAL EJECUCIONES /SALDOS | B14: =SUM(B8:B13) -> 1.4317745e+09 | C14: =SUM(C8:C13) -> 141083109 | D14: =SUM(D8:D13) -> 1.5728577e+09 | E14: =E13 -> 1.9299021e+08 | F14: =F13 -> 39416219 | G14: =SUM(E14:F14) -> 2.3240643e+08
E15: Saldo Pendiente x ejecutar: | G15: =G14 -> 2.3240643e+08
A16: PROYECCION DE EJECUCION PRORROGA X 24 DÍAS
A17: Desembolso 7 | B17: ='PROYECCION DE LA EJECUCION'!E14 -> 1.9176307e+08 | C17: ='PROYECCION DE LA EJECUCION'!F14 -> 39276773 | D17: =SUM(B17:C17) -> 2.3103984e+08 | G17: =G15-D17 -> 1366592.8
A20: TOTAL EJECUCION | B20: =B14+B17 -> 1.6235376e+09 | C20: =C14+C17 -> 1.8035988e+08 | D20: =D14+D17 -> 1.8038975e+09
