Workbook
Name \0: #REF!
Name \00: #REF!
Name \a: #REF!
Name \a: #REF!
Name \AA: [1]LIQUIDACION!#REF!
Name \b: [2]STRSUMM0!#REF!
Name \bb: [2]STRSUMM0!#REF!
Name \E: #REF!
Name \EE: #REF!
Name \G: #REF!
Name \k: '[3]7422CW00'!#REF!
Name \l: [4]STRSUMM0!#REF!
Name \M: #REF!
Name \ñ: '[5]7422CW00'!#REF!
Name \P: #REF!
Name \R: #REF!
Name \s: #REF!
Name \s: #REF!
Name \V: #REF!
Name \X: 'INDICAR CÓDIGO DEL ITEM DE PAGO'!ERR
Name \X: [0]!ERR
Name \Z: 'INDICAR CÓDIGO DEL ITEM DE PAGO'!ERR
Name \Z: [0]!ERR
Name _________AFC1: [6]INV!$A$25:$D$28
Name _________AFC3: [6]INV!$F$25:$I$28
Name _________AFC5: [6]INV!$K$25:$N$28
Name _________BGC1: [6]INV!$A$5:$D$8
Name _________BGC3: [6]INV!$F$5:$I$8
Name _________BGC5: [6]INV!$K$5:$N$8
Name _________CAC1: [6]INV!$A$19:$D$22
Name _________CAC3: [6]INV!$F$19:$I$22
Name _________CAC5: [6]INV!$K$19:$N$22
Name _________PJ50: #REF!
Name _________PJ50: #REF!
Name _________SBC1: [6]INV!$A$12:$D$15
Name _________SBC3: [6]INV!$F$12:$I$15
Name _________SBC5: [6]INV!$K$12:$N$15
Name ________AFC1: [6]INV!$A$25:$D$28
Name ________AFC3: [6]INV!$F$25:$I$28
Name ________AFC5: [6]INV!$K$25:$N$28
Name ________BGC1: [6]INV!$A$5:$D$8
Name ________BGC3: [6]INV!$F$5:$I$8
Name ________BGC5: [6]INV!$K$5:$N$8
Name ________CAC1: [6]INV!$A$19:$D$22
Name ________CAC3: [6]INV!$F$19:$I$22
Name ________CAC5: [6]INV!$K$19:$N$22
Name ________MA2: #REF!
Name ________MA2: #REF!
Name ________PJ50: #REF!
Name ________PJ50: #REF!
Name ________SBC1: [6]INV!$A$12:$D$15
Name ________SBC3: [6]INV!$F$12:$I$15
Name ________SBC5: [6]INV!$K$12:$N$15
Name _______AFC1: [6]INV!$A$25:$D$28
Name _______AFC3: [6]INV!$F$25:$I$28
Name _______AFC5: [6]INV!$K$25:$N$28
Name _______BGC1: [6]INV!$A$5:$D$8
Name _______BGC3: [6]INV!$F$5:$I$8
Name _______BGC5: [6]INV!$K$5:$N$8
Name _______CAC1: [6]INV!$A$19:$D$22

Sheet PRESUPUESTO OFICIAL
C3: Formulario 1 - Propuesta económica - Documento tipo de licitación de obra pública de infraestructura de transporte - versión 4
C4: Código | D4: CCE-EICP-FM-14 | E4: Versión | F4: 4
C5: FORMULARIO 1
C6: PRESUPUESTO OFICIAL
C7: [La entidad puede utilizar este formulario de detalle del presupuesto oficial para determinar las condiciones bajo las cuales los proponentes analizarán y presentarán su propuesta económica de forma detallada, sin perjuicio que la entidad pueda modificarlo o establecer la presentación de la oferta económica con un formulario distinto al indicado.]
C9: Adicionalmente, cuando el proceso de contratación es estructurado por precios unitarios, la Entidad debe aplicar las notas 1, 2 y 3 del presente formulario y las casillas de "Descripción", "Porcentaje" de la Administración, Imprevisto, Utilidad y total A.I.U. resaltadas en color amarillo. Tratándose de otras modalidades de precio, la Entidad puede o no configurar los mismos aspectos.
C10: CONSTRUCCION, MANTENIMIENTO Y/O MEJORAMIENTO DE LAS VIAS URBANAS DE LAS COMUNAS 2 Y 3, Y DE LAS VIAS RURALES DE LOS CORREGIMIENTOS DE PUERTO VILLAMIZAR Y BUENA ESPERANZA, MUNICIPIO DE SAN JOSE DE CUCUTA (PRESUPUESTO PARTICIPATIVO).
C11: Nº | D11: ÍTEM DE PAGO | E11: ESPECIFICACIONES | G11: DESCRIPCIÓN | H11: UND. | I11: CANTIDAD | J11: VALOR UNITARIO | K11: VALOR TOTAL
E12: GENERAL | F12: PARTICULAR
D13: 1. REHABILITACION Y/O MANTENIMIENTO COMUNA 2
D14: REHABILITACION/MANTENIMIENTO EN ASFALTO
D15: 1 | G15: PRELIMINARES
D16: 1.01 | G16: Localizacion y replanteo | H16: m2 | I16: 1 | J16: 7213 | K16: =+I16*J16 -> 7213
D17: 1.02 | G17: Corte de pavimento existente | H17: m | I17: 1 | J17: 7868 | K17: =+I17*J17 -> 7868
D18: 1.03 | G18: Demolicion de pavimento existente | H18: m2 | I18: 1 | J18: 36623 | K18: =+I18*J18 -> 36623
D19: 1.04 | G19: Excavación mecánica en material sin clasificar | H19: m3 | I19: 1 | J19: 39182 | K19: =+ROUND(I19*J19,0) -> 39182
D20: 1.05 | G20: Conformación de subrasante | H20: m2 | I20: 1 | J20: 10002 | K20: =+ROUND(I20*J20,0) -> 10002
D21: 2 | G21: PAVIMENTO FLEXIBLE
D22: 2.01 | G22: Suministro e instalacion de piedra para mejoramiento de subrasante (incluye Suministro, Extendido, Nivelación y Compactación con Vibrocompactador, incluye transporte) | H22: m3 | I22: 1 | J22: 243072 | K22: =+I22*J22 -> 243072
D23: 2.02 | G23: Suministro e instalacion de Recebo para mejoramiento de subrasante (incluye Suministro, Extendido, Nivelación y Compactación con Vibrocompactador , incluye transporte) | H23: m3 | I23: 1 | J23: 166178 | K23: =+I23*J23 -> 166178
D24: 2.03 | G24: Sub Base granular (incluye Suministro, Extendido, Nivelación y Compactación con Vibrocompactador l, incluye transporte) | H24: m3 | I24: 1 | J24: 187357 | K24: =+I24*J24 -> 187357
D25: 2.04 | G25: Base granular (incluye Suministro, Extendido, Nivelación y Compactación con Vibrocompactador, incluye transporte) | H25: m3 | I25: 1 | J25: 202580 | K25: =+ROUND(I25*J25,0) -> 202580
D26: 2.05 | G26: Suministro y aplicación de emulsion para Imprimacion asfaltica CRL-1 | H26: m2 | I26: 1 | J26: 6529 | K26: =+ROUND(I26*J26,0) -> 6529
D27: 2.06 | G27: Mezcla densa caliente 19 REHABILITACION (incluye Suministro, Extendido, Nivelación y Compactación con Vibrocompactador, incluye transporte) | H27: m3 | I27: 1 | J27: 1571027 | K27: =+ROUND(I27*J27,0) -> 1571027
D28: 2.07 | G28: Suministro e instalacion de Recebo para mejoramiento de subrasante (MANTENIMIENTO) (incluye Suministro, Extendido, Nivelación y Compactación con Vibrocompactador manual, incluye transporte) | H28: m3 | I28: 1 | J28: 174293 | K28: =+ROUND(I28*J28,0) -> 174293
D29: 2.08 | G29: Sub Base granular (MANTENIMIENTO) (incluye Suministro, Extendido, Nivelación y Compactación con Vibrocompactador , incluye transporte) | H29: m3 | I29: 1 | J29: 195472 | K29: =+ROUND(I29*J29,0) -> 195472
D30: 2.09 | G30: Base granular (MANTENIMIENTO) (incluye Suministro, Extendido, Nivelación y Compactación con Vibrocompactador, incluye transporte) | H30: m3 | I30: 1 | J30: 210695 | K30: =+ROUND(I30*J30,0) -> 210695
D31: 2.1 | G31: Suministro y aplicación de emulsion para Imprimacion asfaltica CRL-1 (mantenimiento) | H31: m2 | I31: 1 | J31: 6826 | K31: =+ROUND(I31*J31,0) -> 6826
D32: 2.11 | G32: Mezcla densa caliente 19 (MANTENIMIENTO) (incluye Suministro, Extendido, Nivelación y Compactación con Vibrocompactador , incluye transporte) | H32: m3 | I32: 1 | J32: 1575175 | K32: =+ROUND(I32*J32,0) -> 1575175
D33: 2.12 | G33: Bordillo de 15x40 en concreto de 21 Mpa hecho en sitio (incluye refuerzo) | H33: m | I33: 1 | J33: 124061 | K33: =+ROUND(I33*J33,0) -> 124061
D34: 2.13 | G34: Realce de Pozos en concreto de 3000 psi (incluye demolición de concreto, mamposteria y refuerzo no incluye arotapa) | H34: und | I34: 1 | J34: 726287 | K34: =+ROUND(I34*J34,0) -> 726287
D35: 2.14 | G35: Retiro de material sobrante | H35: m3 | I35: 1 | J35: 39412 | K35: =+ROUND(I35*J35,0) -> 39412
D36: 2.15 | G36: Generacion y disposicion | H36: m3 | I36: 1 | J36: 17685 | K36: =+ROUND(I36*J36,0) -> 17685
... D38: 2.17 | G38: Demarcacion de linea <12 cm | H38: m | I38: 1 | J38: 4645 | K38: =+ROUND(I38*J38,0) -> 4645
D39: REHABILITACION/MANTENIMIENTO EN CONCRETO
D40: 3 | G40: PRELIMINARES
D41: 3.01 | G41: Localizacion y replanteo | H41: m2 | I41: 1 | J41: 7213 | K41: =+I41*J41 -> 7213
D42: 3.02 | G42: Corte de pavimento existente | H42: m | I42: 1 | J42: 7868 | K42: =+I42*J42 -> 7868
D43: 3.03 | G43: Demolicion de pavimento existente | H43: m2 | I43: 1 | J43: 36623 | K43: =+I43*J43 -> 36623
D44: 3.04 | G44: Excavación mecánica en material sin clasificar | H44: m3 | I44: 1 | J44: 39182 | K44: =+ROUND(I44*J44,0) -> 39182
...

Sheet OFERTA ECONOMICA
C3: Formulario 1 - Propuesta económica - Documento tipo de licitación de obra pública de infraestructura de transporte - versión 4
C4: Código | D4: CCE-EICP-FM-14 | E4: Versión | F4: 4
C5: FORMULARIO 1
C6: PROPUESTA ECONOMICA
C7: [La entidad puede utilizar este formulario de presentación de propuesta económica de forma detallada, sin perjuicio que la entidad pueda modificarlo o establecer la presentación de la oferta económica con un formulario distinto al indicado.] [Los proponentes emplearán el formulario establecido por la entidad para determinar su propuesta económica conforme al Formulario 1 - Presupuesto Oficial publicado por la Entidad]
C9: Cuando el proceso de contratación es estructurado por precios unitarios, la Entidad debe aplicar las notas 1, 2 y 3 del presente formato y las casillas de "Descripción", "Porcentaje" de la Administración, Imprevisto, Utilidad y total A.I.U. resaltadas en color amarillo.
C10: CONSTRUCCION, MANTENIMIENTO Y/O MEJORAMIENTO DE LAS VIAS URBANAS DE LAS COMUNAS 2 Y 3, Y DE LAS VIAS RURALES DE LOS CORREGIMIENTOS DE PUERTO VILLAMIZAR Y BUENA ESPERANZA, MUNICIPIO DE SAN JOSE DE CUCUTA (PRESUPUESTO PARTICIPATIVO)
C11: Nº | D11: ÍTEM DE PAGO | E11: GENERAL | F11: PARTICULAR | G11: DESCRIPCIÓN | H11: UND. | I11: CANTIDAD | J11: VALOR UNITARIO | K11: VALOR TOTAL
E12: GENERAL | F12: PARTICULAR
D13: 1. REHABILITACION Y/O MANTENIMIENTO COMUNA 2
D14: REHABILITACION/MANTENIMIENTO EN ASFALTO
D15: 1 | G15: PRELIMINARES
D16: 1.01 | G16: Localizacion y replanteo | H16: m2 | I16: 1 | J16: 7213 | K16: =+I16*J16 -> 7213 | O16: =D16='PRESUPUESTO OFICIAL'!D16 -> TRUE | P16: =E16='PRESUPUESTO OFICIAL'!E16 -> TRUE | Q16: =F16='PRESUPUESTO OFICIAL'!F16 -> TRUE | R16: =G16='PRESUPUESTO OFICIAL'!G16 -> TRUE | S16: =H16='PRESUPUESTO OFICIAL'!H16 -> TRUE | T16: =I16='PRESUPUESTO OFICIAL'!I16 -> TRUE | U16: =J16='PRESUPUESTO OFICIAL'!J16 -> TRUE | V16: =K16='PRESUPUESTO OFICIAL'!K16 -> TRUE
D17: 1.02 | G17: Corte de pavimento existente | H17: m | I17: 1 | J17: 7868 | K17: =+I17*J17 -> 7868 | O17: =D17='PRESUPUESTO OFICIAL'!D17 -> TRUE | P17: =E17='PRESUPUESTO OFICIAL'!E17 -> TRUE | Q17: =F17='PRESUPUESTO OFICIAL'!F17 -> TRUE | R17: =G17='PRESUPUESTO OFICIAL'!G17 -> TRUE | S17: =H17='PRESUPUESTO OFICIAL'!H17 -> TRUE | T17: =I17='PRESUPUESTO OFICIAL'!I17 -> TRUE | U17: =J17='PRESUPUESTO OFICIAL'!J17 -> TRUE | V17: =K17='PRESUPUESTO OFICIAL'!K17 -> TRUE
D18: 1.03 | G18: Demolicion de pavimento existente | H18: m2 | I18: 1 | J18: 36623 | K18: =+I18*J18 -> 36623 | O18: =D18='PRESUPUESTO OFICIAL'!D18 -> TRUE | P18: =E18='PRESUPUESTO OFICIAL'!E18 -> TRUE | Q18: =F18='PRESUPUESTO OFICIAL'!F18 -> TRUE | R18: =G18='PRESUPUESTO OFICIAL'!G18 -> TRUE | S18: =H18='PRESUPUESTO OFICIAL'!H18 -> TRUE | T18: =I18='PRESUPUESTO OFICIAL'!I18 -> TRUE | U18: =J18='PRESUPUESTO OFICIAL'!J18 -> TRUE | V18: =K18='PRESUPUESTO OFICIAL'!K18 -> TRUE
D19: 1.04 | G19: Excavación mecánica en material sin clasificar | H19: m3 | I19: 1 | J19: 39182 | K19: =+ROUND(I19*J19,0) -> 39182 | O19: =D19='PRESUPUESTO OFICIAL'!D19 -> TRUE | P19: =E19='PRESUPUESTO OFICIAL'!E19 -> TRUE | Q19: =F19='PRESUPUESTO OFICIAL'!F19 -> TRUE | R19: =G19='PRESUPUESTO OFICIAL'!G19 -> TRUE | S19: =H19='PRESUPUESTO OFICIAL'!H19 -> TRUE | T19: =I19='PRESUPUESTO OFICIAL'!I19 -> TRUE | U19: =J19='PRESUPUESTO OFICIAL'!J19 -> TRUE | V19: =K19='PRESUPUESTO OFICIAL'!K19 -> TRUE
D20: 1.05 | G20: Conformación de subrasante | H20: m2 | I20: 1 | J20: 10002 | K20: =+ROUND(I20*J20,0) -> 10002 | O20: =D20='PRESUPUESTO OFICIAL'!D20 -> TRUE | P20: =E20='PRESUPUESTO OFICIAL'!E20 -> TRUE | Q20: =F20='PRESUPUESTO OFICIAL'!F20 -> TRUE | R20: =G20='PRESUPUESTO OFICIAL'!G20 -> TRUE | S20: =H20='PRESUPUESTO OFICIAL'!H20 -> TRUE | T20: =I20='PRESUPUESTO OFICIAL'!I20 -> TRUE | U20: =J20='PRESUPUESTO OFICIAL'!J20 -> TRUE | V20: =K20='PRESUPUESTO OFICIAL'!K20 -> TRUE
D21: 2 | G21: PAVIMENTO FLEXIBLE | O21: =D21='PRESUPUESTO OFICIAL'!D21 -> TRUE | P21: =E21='PRESUPUESTO OFICIAL'!E21 -> TRUE | Q21: =F21='PRESUPUESTO OFICIAL'!F21 -> TRUE | R21: =G21='PRESUPUESTO OFICIAL'!G21 -> TRUE | S21: =H21='PRESUPUESTO OFICIAL'!H21 -> TRUE | T21: =I21='PRESUPUESTO OFICIAL'!I21 -> TRUE | U21: =J21='PRESUPUESTO OFICIAL'!J21 -> TRUE | V21: =K21='PRESUPUESTO OFICIAL'!K21 -> TRUE
D22: 2.01 | G22: Suministro e instalacion de piedra para mejoramiento de subrasante (incluye Suministro, Extendido, Nivelación y Compactación con Vibrocompactador, incluye transporte) | H22: m3 | I22: 1 | J22: 243072 | K22: =+I22*J22 -> 243072 | O22: =D22='PRESUPUESTO OFICIAL'!D22 -> TRUE | P22: =E22='PRESUPUESTO OFICIAL'!E22 -> TRUE | Q22: =F22='PRESUPUESTO OFICIAL'!F22 -> TRUE | R22: =G22='PRESUPUESTO OFICIAL'!G22 -> TRUE | S22: =H22='PRESUPUESTO OFICIAL'!H22 -> TRUE | T22: =I22='PRESUPUESTO OFICIAL'!I22 -> TRUE | U22: =J22='PRESUPUESTO OFICIAL'!J22 -> TRUE | V22: =K22='PRESUPUESTO OFICIAL'!K22 -> TRUE
D23: 2.02 | G23: Suministro e instalacion de Recebo para mejoramiento de subrasante (incluye Suministro, Extendido, Nivelación y Compactación con Vibrocompactador , incluye transporte) | H23: m3 | I23: 1 | J23: 166178 | K23: =+I23*J23 -> 166178 | O23: =D23='PRESUPUESTO OFICIAL'!D23 -> TRUE | P23: =E23='PRESUPUESTO OFICIAL'!E23 -> TRUE | Q23: =F23='PRESUPUESTO OFICIAL'!F23 -> TRUE | R23: =G23='PRESUPUESTO OFICIAL'!G23 -> TRUE | S23: =H23='PRESUPUESTO OFICIAL'!H23 -> TRUE | T23: =I23='PRESUPUESTO OFICIAL'!I23 -> TRUE | U23: =J23='PRESUPUESTO OFICIAL'!J23 -> TRUE | V23: =K23='PRESUPUESTO OFICIAL'!K23 -> TRUE
D24: 2.03 | G24: Sub Base granular (incluye Suministro, Extendido, Nivelación y Compactación con Vibrocompactador l, incluye transporte) | H24: m3 | I24: 1 | J24: 187357 | K24: =+I24*J24 -> 187357 | O24: =D24='PRESUPUESTO OFICIAL'!D24 -> TRUE | P24: =E24='PRESUPUESTO OFICIAL'!E24 -> TRUE | Q24: =F24='PRESUPUESTO OFICIAL'!F24 -> TRUE | R24: =G24='PRESUPUESTO OFICIAL'!G24 -> TRUE | S24: =H24='PRESUPUESTO OFICIAL'!H24 -> TRUE | T24: =I24='PRESUPUESTO OFICIAL'!I24 -> TRUE | U24: =J24='PRESUPUESTO OFICIAL'!J24 -> TRUE | V24: =K24='PRESUPUESTO OFICIAL'!K24 -> TRUE
D25: 2.04 | G25: Base granular (incluye Suministro, Extendido, Nivelación y Compactación con Vibrocompactador, incluye transporte) | H25: m3 | I25: 1 | J25: 202580 | K25: =+ROUND(I25*J25,0) -> 202580 | O25: =D25='PRESUPUESTO OFICIAL'!D25 -> TRUE | P25: =E25='PRESUPUESTO OFICIAL'!E25 -> TRUE | Q25: =F25='PRESUPUESTO OFICIAL'!F25 -> TRUE | R25: =G25='PRESUPUESTO OFICIAL'!G25 -> TRUE | S25: =H25='PRESUPUESTO OFICIAL'!H25 -> TRUE | T25: =I25='PRESUPUESTO OFICIAL'!I25 -> TRUE | U25: =J25='PRESUPUESTO OFICIAL'!J25 -> TRUE | V25: =K25='PRESUPUESTO OFICIAL'!K25 -> TRUE
D26: 2.05 | G26: Suministro y aplicación de emulsion para Imprimacion asfaltica CRL-1 | H26: m2 | I26: 1 | J26: 6529 | K26: =+ROUND(I26*J26,0) -> 6529 | O26: =D26='PRESUPUESTO OFICIAL'!D26 -> TRUE | P26: =E26='PRESUPUESTO OFICIAL'!E26 -> TRUE | Q26: =F26='PRESUPUESTO OFICIAL'!F26 -> TRUE | R26: =G26='PRESUPUESTO OFICIAL'!G26 -> TRUE | S26: =H26='PRESUPUESTO OFICIAL'!H26 -> TRUE | T26: =I26='PRESUPUESTO OFICIAL'!I26 -> TRUE | U26: =J26='PRESUPUESTO OFICIAL'!J26 -> TRUE | V26: =K26='PRESUPUESTO OFICIAL'!K26 -> TRUE
D27: 2.06 | G27: Mezcla densa caliente 19 REHABILITACION (incluye Suministro, Extendido, Nivelación y Compactación con Vibrocompactador, incluye transporte) | H27: m3 | I27: 1 | J27: 1571027 | K27: =+ROUND(I27*J27,0) -> 1571027 | O27: =D27='PRESUPUESTO OFICIAL'!D27 -> TRUE | P27: =E27='PRESUPUESTO OFICIAL'!E27 -> TRUE | Q27: =F27='PRESUPUESTO OFICIAL'!F27 -> TRUE | R27: =G27='PRESUPUESTO OFICIAL'!G27 -> TRUE | S27: =H27='PRESUPUESTO OFICIAL'!H27 -> TRUE | T27: =I27='PRESUPUESTO OFICIAL'!I27 -> TRUE | U27: =J27='PRESUPUESTO OFICIAL'!J27 -> TRUE | V27: =K27='PRESUPUESTO OFICIAL'!K27 -> TRUE
D28: 2.07 | G28: Suministro e instalacion de Recebo para mejoramiento de subrasante (MANTENIMIENTO) (incluye Suministro, Extendido, Nivelación y Compactación con Vibrocompactador manual, incluye transporte) | H28: m3 | I28: 1 | J28: 174293 | K28: =+ROUND(I28*J28,0) -> 174293 | O28: =D28='PRESUPUESTO OFICIAL'!D28 -> TRUE | P28: =E28='PRESUPUESTO OFICIAL'!E28 -> TRUE | Q28: =F28='PRESUPUESTO OFICIAL'!F28 -> TRUE | R28: =G28='PRESUPUESTO OFICIAL'!G28 -> TRUE | S28: =H28='PRESUPUESTO OFICIAL'!H28 -> TRUE | T28: =I28='PRESUPUESTO OFICIAL'!I28 -> TRUE | U28: =J28='PRESUPUESTO OFICIAL'!J28 -> TRUE | V28: =K28='PRESUPUESTO OFICIAL'!K28 -> TRUE
D29: 2.08 | G29: Sub Base granular (MANTENIMIENTO) (incluye Suministro, Extendido, Nivelación y Compactación con Vibrocompactador , incluye transporte) | H29: m3 | I29: 1 | J29: 195472 | K29: =+ROUND(I29*J29,0) -> 195472 | O29: =D29='PRESUPUESTO OFICIAL'!D29 -> TRUE | P29: =E29='PRESUPUESTO OFICIAL'!E29 -> TRUE | Q29: =F29='PRESUPUESTO OFICIAL'!F29 -> TRUE | R29: =G29='PRESUPUESTO OFICIAL'!G29 -> TRUE | S29: =H29='PRESUPUESTO OFICIAL'!H29 -> TRUE | T29: =I29='PRESUPUESTO OFICIAL'!I29 -> TRUE | U29: =J29='PRESUPUESTO OFICIAL'!J29 -> TRUE | V29: =K29='PRESUPUESTO OFICIAL'!K29 -> TRUE
D30: 2.09 | G30: Base granular (MANTENIMIENTO) (incluye Suministro, Extendido, Nivelación y Compactación con Vibrocompactador, incluye transporte) | H30: m3 | I30: 1 | J30: 210695 | K30: =+ROUND(I30*J30,0) -> 210695 | O30: =D30='PRESUPUESTO OFICIAL'!D30 -> TRUE | P30: =E30='PRESUPUESTO OFICIAL'!E30 -> TRUE | Q30: =F30='PRESUPUESTO OFICIAL'!F30 -> TRUE | R30: =G30='PRESUPUESTO OFICIAL'!G30 -> TRUE | S30: =H30='PRESUPUESTO OFICIAL'!H30 -> TRUE | T30: =I30='PRESUPUESTO OFICIAL'!I30 -> TRUE | U30: =J30='PRESUPUESTO OFICIAL'!J30 -> TRUE | V30: =K30='PRESUPUESTO OFICIAL'!K30 -> TRUE
D31: 2.1 | G31: Suministro y aplicación de emulsion para Imprimacion asfaltica CRL-1 (mantenimiento) | H31: m2 | I31: 1 | J31: 6826 | K31: =+ROUND(I31*J31,0) -> 6826 | O31: =D31='PRESUPUESTO OFICIAL'!D31 -> TRUE | P31: =E31='PRESUPUESTO OFICIAL'!E31 -> TRUE | Q31: =F31='PRESUPUESTO OFICIAL'!F31 -> TRUE | R31: =G31='PRESUPUESTO OFICIAL'!G31 -> TRUE | S31: =H31='PRESUPUESTO OFICIAL'!H31 -> TRUE | T31: =I31='PRESUPUESTO OFICIAL'!I31 -> TRUE | U31: =J31='PRESUPUESTO OFICIAL'!J31 -> TRUE | V31: =K31='PRESUPUESTO OFICIAL'!K31 -> TRUE
D32: 2.11 | G32: Mezcla densa caliente 19 (MANTENIMIENTO) (incluye Suministro, Extendido, Nivelación y Compactación con Vibrocompactador , incluye transporte) | H32: m3 | I32: 1 | J32: 1575175 | K32: =+ROUND(I32*J32,0) -> 1575175 | O32: =D32='PRESUPUESTO OFICIAL'!D32 -> TRUE | P32: =E32='PRESUPUESTO OFICIAL'!E32 -> TRUE | Q32: =F32='PRESUPUESTO OFICIAL'!F32 -> TRUE | R32: =G32='PRESUPUESTO OFICIAL'!G32 -> TRUE | S32: =H32='PRESUPUESTO OFICIAL'!H32 -> TRUE | T32: =I32='PRESUPUESTO OFICIAL'!I32 -> TRUE | U32: =J32='PRESUPUESTO OFICIAL'!J32 -> TRUE | V32: =K32='PRESUPUESTO OFICIAL'!K32 -> TRUE
D33: 2.12 | G33: Bordillo de 15x40 en concreto de 21 Mpa hecho en sitio (incluye refuerzo) | H33: m | I33: 1 | J33: 124061 | K33: =+ROUND(I33*J33,0) -> 124061 | O33: =D33='PRESUPUESTO OFICIAL'!D33 -> TRUE | P33: =E33='PRESUPUESTO OFICIAL'!E33 -> TRUE | Q33: =F33='PRESUPUESTO OFICIAL'!F33 -> TRUE | R33: =G33='PRESUPUESTO OFICIAL'!G33 -> TRUE | S33: =H33='PRESUPUESTO OFICIAL'!H33 -> TRUE | T33: =I33='PRESUPUESTO OFICIAL'!I33 -> TRUE | U33: =J33='PRESUPUESTO OFICIAL'!J33 -> TRUE | V33: =K33='PRESUPUESTO OFICIAL'!K33 -> TRUE
D34: 2.13 | G34: Realce de Pozos en concreto de 3000 psi (incluye demolición de concreto, mamposteria y refuerzo no incluye arotapa) | H34: und | I34: 1 | J34: 726287 | K34: =+ROUND(I34*J34,0) -> 726287 | O34: =D34='PRESUPUESTO OFICIAL'!D34 -> TRUE | P34: =E34='PRESUPUESTO OFICIAL'!E34 -> TRUE | Q34: =F34='PRESUPUESTO OFICIAL'!F34 -> TRUE | R34: =G34='PRESUPUESTO OFICIAL'!G34 -> TRUE | S34: =H34='PRESUPUESTO OFICIAL'!H34 -> TRUE | T34: =I34='PRESUPUESTO OFICIAL'!I34 -> TRUE | U34: =J34='PRESUPUESTO OFICIAL'!J34 -> TRUE | V34: =K34='PRESUPUESTO OFICIAL'!K34 -> TRUE
D35: 2.14 | G35: Retiro de material sobrante | H35: m3 | I35: 1 | J35: 39412 | K35: =+ROUND(I35*J35,0) -> 39412 | O35: =D35='PRESUPUESTO OFICIAL'!D35 -> TRUE | P35: =E35='PRESUPUESTO OFICIAL'!E35 -> TRUE | Q35: =F35='PRESUPUESTO OFICIAL'!F35 -> TRUE | R35: =G35='PRESUPUESTO OFICIAL'!G35 -> TRUE | S35: =H35='PRESUPUESTO OFICIAL'!H35 -> TRUE | T35: =I35='PRESUPUESTO OFICIAL'!I35 -> TRUE | U35: =J35='PRESUPUESTO OFICIAL'!J35 -> TRUE | V35: =K35='PRESUPUESTO OFICIAL'!K35 -> TRUE
D36: 2.15 | G36: Generacion y disposicion | H36: m3 | I36: 1 | J36: 17685 | K36: =+ROUND(I36*J36,0) -> 17685 | O36: =D36='PRESUPUESTO OFICIAL'!D36 -> TRUE | P36: =E36='PRESUPUESTO OFICIAL'!E36 -> TRUE | Q36: =F36='PRESUPUESTO OFICIAL'!F36 -> TRUE | R36: =G36='PRESUPUESTO OFICIAL'!G36 -> TRUE | S36: =H36='PRESUPUESTO OFICIAL'!H36 -> TRUE | T36: =I36='PRESUPUESTO OFICIAL'!I36 -> TRUE | U36: =J36='PRESUPUESTO OFICIAL'!J36 -> TRUE | V36: =K36='PRESUPUESTO OFICIAL'!K36 -> TRUE
... D38: 2.17 | G38: Demarcacion de linea <12 cm | H38: m | I38: 1 | J38: 4645 | K38: =+ROUND(I38*J38,0) -> 4645 | O38: =D38='PRESUPUESTO OFICIAL'!D38 -> TRUE | P38: =E38='PRESUPUESTO OFICIAL'!E38 -> TRUE | Q38: =F38='PRESUPUESTO OFICIAL'!F38 -> TRUE | R38: =G38='PRESUPUESTO OFICIAL'!G38 -> TRUE | S38: =H38='PRESUPUESTO OFICIAL'!H38 -> TRUE | T38: =I38='PRESUPUESTO OFICIAL'!I38 -> TRUE | U38: =J38='PRESUPUESTO OFICIAL'!J38 -> TRUE | V38: =K38='PRESUPUESTO OFICIAL'!K38 -> TRUE
D39: REHABILITACION/MANTENIMIENTO EN CONCRETO | O39: =D39='PRESUPUESTO OFICIAL'!D39 -> TRUE | P39: =E39='PRESUPUESTO OFICIAL'!E39 -> TRUE | Q39: =F39='PRESUPUESTO OFICIAL'!F39 -> TRUE | R39: =G39='PRESUPUESTO OFICIAL'!G39 -> TRUE | S39: =H39='PRESUPUESTO OFICIAL'!H39 -> TRUE | T39: =I39='PRESUPUESTO OFICIAL'!I39 -> TRUE | U39: =J39='PRESUPUESTO OFICIAL'!J39 -> TRUE | V39: =K39='PRESUPUESTO OFICIAL'!K39 -> TRUE
D40: 3 | G40: PRELIMINARES | O40: =D40='PRESUPUESTO OFICIAL'!D40 -> TRUE | P40: =E40='PRESUPUESTO OFICIAL'!E40 -> TRUE | Q40: =F40='PRESUPUESTO OFICIAL'!F40 -> TRUE | R40: =G40='PRESUPUESTO OFICIAL'!G40 -> TRUE | S40: =H40='PRESUPUESTO OFICIAL'!H40 -> TRUE | T40: =I40='PRESUPUESTO OFICIAL'!I40 -> TRUE | U40: =J40='PRESUPUESTO OFICIAL'!J40 -> TRUE | V40: =K40='PRESUPUESTO OFICIAL'!K40 -> TRUE
D41: 3.01 | G41: Localizacion y replanteo | H41: m2 | I41: 1 | J41: 7213 | K41: =+I41*J41 -> 7213 | O41: =D41='PRESUPUESTO OFICIAL'!D41 -> TRUE | P41: =E41='PRESUPUESTO OFICIAL'!E41 -> TRUE | Q41: =F41='PRESUPUESTO OFICIAL'!F41 -> TRUE | R41: =G41='PRESUPUESTO OFICIAL'!G41 -> TRUE | S41: =H41='PRESUPUESTO OFICIAL'!H41 -> TRUE | T41: =I41='PRESUPUESTO OFICIAL'!I41 -> TRUE | U41: =J41='PRESUPUESTO OFICIAL'!J41 -> TRUE | V41: =K41='PRESUPUESTO OFICIAL'!K41 -> TRUE
D42: 3.02 | G42: Corte de pavimento existente | H42: m | I42: 1 | J42: 7868 | K42: =+I42*J42 -> 7868 | O42: =D42='PRESUPUESTO OFICIAL'!D42 -> TRUE | P42: =E42='PRESUPUESTO OFICIAL'!E42 -> TRUE | Q42: =F42='PRESUPUESTO OFICIAL'!F42 -> TRUE | R42: =G42='PRESUPUESTO OFICIAL'!G42 -> TRUE | S42: =H42='PRESUPUESTO OFICIAL'!H42 -> TRUE | T42: =I42='PRESUPUESTO OFICIAL'!I42 -> TRUE | U42: =J42='PRESUPUESTO OFICIAL'!J42 -> TRUE | V42: =K42='PRESUPUESTO OFICIAL'!K42 -> TRUE
D43: 3.03 | G43: Demolicion de pavimento existente | H43: m2 | I43: 1 | J43: 36623 | K43: =+I43*J43 -> 36623 | O43: =D43='PRESUPUESTO OFICIAL'!D43 -> TRUE | P43: =E43='PRESUPUESTO OFICIAL'!E43 -> TRUE | Q43: =F43='PRESUPUESTO OFICIAL'!F43 -> TRUE | R43: =G43='PRESUPUESTO OFICIAL'!G43 -> TRUE | S43: =H43='PRESUPUESTO OFICIAL'!H43 -> TRUE | T43: =I43='PRESUPUESTO OFICIAL'!I43 -> TRUE | U43: =J43='PRESUPUESTO OFICIAL'!J43 -> TRUE | V43: =K43='PRESUPUESTO OFICIAL'!K43 -> TRUE
D44: 3.04 | G44: Excavación mecánica en material sin clasificar | H44: m3 | I44: 1 | J44: 39182 | K44: =+ROUND(I44*J44,0) -> 39182 | O44: =D44='PRESUPUESTO OFICIAL'!D44 -> TRUE | P44: =E44='PRESUPUESTO OFICIAL'!E44 -> TRUE | Q44: =F44='PRESUPUESTO OFICIAL'!F44 -> TRUE | R44: =G44='PRESUPUESTO OFICIAL'!G44 -> TRUE | S44: =H44='PRESUPUESTO OFICIAL'!H44 -> TRUE | T44: =I44='PRESUPUESTO OFICIAL'!I44 -> TRUE | U44: =J44='PRESUPUESTO OFICIAL'!J44 -> TRUE | V44: =K44='PRESUPUESTO OFICIAL'!K44 -> TRUE
...

Sheet INDICAR CÓDIGO DEL ITEM DE PAGO
C3: Formulario 1 - Propuesta económica - Documento tipo de licitación de obra pública de infraestructura de transporte - versión 3
C4: Código | D4: CCE-EICP-FM-14 | E4: Versión | F4: 3
C6: [La entidad podrá utilizar este formato para la presentación de los análisis de precios unitarios del contratista en la oportunidad prevista en el numeral 8.1. del Documento Base]
D9: [NOMBRE DE LA ENTIDAD]
L10: VERSIÓN
D11: [NÚMERO DEL PROCESO]
L12: PÁGINA | M12: 1 | N12: DE | O12: 1
D14: ANALISIS DE PRECIOS UNITARIOS
L16: FECHA | M16: DD | N16: MM | O16: AA
C18: ÍTEMS DE LA PROPUESTA ECONÓMICA | I18: ÍTEMS NO PREVISTOS
C22: DATOS ESPECÍFICOS
C24: ÍTEM | D24: DESCRIPCIÓN | M24: UNIDAD | O24: CANTIDAD
C26: I. EQUIPO
C29: DESCRIPCIÓN | H29: MARCA | J29: TIPO | L29: TARIFA/HORA | M29: RENDIMIENTO | O29: Vr. UNITARIO
C33: SUBTOTAL $
C34: II. MATERIALES
C37: DESCRIPCIÓN | K37: UNIDAD | L37: CANTIDAD | M37: PRECIO UNIT. | O37: Vr. UNITARIO
C40: SUBTOTAL $ | O40: 0
C41: III. TRANSPORTES
C44: MATERIAL | J44: VOL. o PESO | K44: DISTANCIA | L44: M3 o Ton/Km | M44: TARIFA | O44: Vr. UNITARIO
C47: SUBTOTAL $
C48: IV. MANO DE OBRA
C51: TRABAJADOR | J51: JORNAL | K51: PRESTACIONES | L51: JORNAL TOTAL | M51: RENDIMIENTO | O51: Vr. UNITARIO
C56: SUBTOTAL $
C58: TOTAL COSTO DIRECTO $
C59: V. COSTOS INDIRECTOS
C62: Descripción | L62: Porcentaje | M62: Valor Total
C63: ADMINISTRACION
C64: IMPREVISTOS
C65: UTILIDAD
C66: SUBTOTAL $
C68: Precio Unitario Total Aproximado al peso $
H72: Firma
H73: Nombre:
H74: Representante Legal del Contratista o su Apoderado
H75: Matricula No. :
C77: OBSERVACIONES INTERVENTORÍA
C81: APROBACIÓN POR INTERVENTORÍA
C82: Nota 1: Cuando se trate de Análisis de precios unitarios correspondientes a ítems de la propuesta económica aprobada, el Interventor aprueba el desglose de los componentes manteniendo el mismo precio unitario de cada ítem, cumpliendo con las especificaciones de construcción vigentes para el proyecto.
C84: Nota 2: Cuando se trate de Análisis de precios unitarios de ítems no previstos, el Interventor aprueba el desglose y precio unitario de cada ítem no previsto, exigiendo la aplicación de los costos correspondientes a insumos y tarifas de la propuesta económica inicial cuando estén contemplados, cumpliendo con las especificaciones de construcción vigente para el proyecto.
...
