Workbook

Sheet RESUM (2)
A1: UNIDAD ADMINISTRATIVA ESPECIAL DE AERONAUTICA CIVIL
A2: OBJETO:REALIZAR LA INTERVENTORIA INTEGRAL A ESTUDIOS, DISEÑOS Y MANTENIMIENTO DE LA PISTA, CALLE DE RODAJE Y PLATAFORMA DEL AEROPUERTO DE MONTELÍBANO, CÓRDOBA.
A3: =#REF! -> #REF!
A4: PROPONENTES | C4: REQUISITOS HABILITANTES | H4: REQUISITOS DE PONDERACION | K4: EVALUACION FINAL | L4: PUNTAJE TOTAL | M4: OBSERVACIONES
C5: EXPERIENCIA GENERAL DEL PROPONENTE MIN XXXXX SMMLV (811015 O 801016) | G5: EXPERIENCIA EQUIPO DE TRABAJO | H5: EXPERIENCIA PONDERABLE DEL PROPONENTE | I5: PERSONAL EN CONDICION DE DISCAPACIDAD | J5: APOYO A LA INDUSTRIA NACIONAL
C6: Contrato No.1 | D6: Contrato No.2 | E6: Contrato No.3 | F6: Contrato No.4 | G6: CARTA DE COMPROMISO DIRECTOR DE INTERVENTORIA Y RESIDENTE DE INTERVENTORIA | H6: PUNTAJE (MAX 89) | I6: PUNTAJE (MAX 1 PTO) | J6: PUNTAJE (MAX 10 PTS)
A7: 1 | B7: =+#REF! -> #REF! | C7: =+#REF! -> #REF! | D7: =+#REF! -> #REF! | E7: =+#REF! -> #REF! | F7: =+#REF! -> #REF! | G7: =+#REF! -> #REF! | H7: =+#REF! -> #REF! | I7: =+#REF! -> #REF! | J7: =+#REF!+#REF! -> #REF! | K7: =+#REF! -> #REF! | L7: =+H7+I7+J7 -> #REF! | M7: =+#REF! -> #REF!

Sheet SALARIOS
A2: 1980 | B2: 4500
A3: 1981 | B3: 5700
A4: 1982 | B4: 7410
A5: 1983 | B5: 9261
A6: 1984 | B6: 11298
A7: 1985 | B7: 13558
A8: 1986 | B8: 16811
A9: 1987 | B9: 20510
A10: 1988 | B10: 25637
A11: 1989 | B11: 32560
A12: 1990 | B12: 41025
A13: 1991 | B13: 51716
... A42: 2020 | B42: 877803

Sheet consideraciones

Sheet RESUMEN
A2: No. | B2: PROPONENTE | C2: Evaluador | D2: EXPERIENCIA GENERAL | E2: EXPERIENCIA ESPECIFICA | F2: TRATO NACIONAL | G2: DISCAPACIDAD | H2: FACTOR DE CALIDAD | I2: EMPRENDIMIENTO MUJER | J2: MIPYME | K2: CONSIDERACIONES PARA LA VALIDEZ DE LA EXPERIENCIA REQUERIDA | L2: TRATO NACIONAL | M2: DISCAPACIDAD | N2: FACTOR DE CALIDAD | O2: EMPRENDIMIENTO MUJER | P2: MIPYME | Q2: Obra Inconclusa | R2: Puntaje oferta economica | S2: Total
A3: 1 | B3: Consorcio AERO JK 24 | C3: Guillermo Linares | D3: =+'1'!$O$23 -> CUMPLE | E3: =+'1'!$O$31 -> CUMPLE | F3: =+'1'!$M$40 -> CUMPLE | G3: =+'1'!$M$49 -> CUMPLE | H3: =+'1'!$M$52 -> CUMPLE | I3: =+'1'!$M$54 -> CUMPLE | J3: =+'1'!$M$56 -> CUMPLE | K3: =+'1'!$O$23 -> CUMPLE | L3: =+'1'!$M$44 -> 20 | M3: =+'1'!$M$50 -> 1 | N3: =+'1'!$O$52 -> 19 | O3: =+'1'!$O$54 -> 0.25 | P3: =+'1'!$O$56 -> 0.25 | Q3: =+'1'!$O$58 -> 0 | S3: =IF(AND(D3="CUMPLE",E3="CUMPLE",F3="CUMPLE",G3="CUMPLE",H3="CUMPLE",I3="CUMPLE",J3="CUMPLE",K3="CUMPLE"),SUM(L3:R3),0) -> 40.5 | T3: =_xlfn.RANK.EQ(S3,$S$3:$S$9) -> 1
A4: 2 | B4: Consorcio CSLA LETICIA | C4: Juan Gomez | D4: =+'2'!$O$23 -> CUMPLE | E4: =+'2'!$O$31 -> CUMPLE | F4: =+'2'!$M$40 -> CUMPLE | G4: =+'2'!$M$49 -> CUMPLE | H4: =+'2'!$M$52 -> CUMPLE | I4: =+'2'!$M$54 -> CUMPLE | J4: =+'2'!$M$56 -> CUMPLE | K4: =+'2'!$O$23 -> CUMPLE | L4: =+'2'!$M$44 -> 20 | M4: =+'2'!$M$50 -> 1 | N4: =+'2'!$O$52 -> 19 | O4: =+'2'!$O$54 -> 0.25 | P4: =+'2'!$O$56 -> 0.25 | Q4: =+'2'!$O$58 -> 0 | S4: =IF(AND(D4="CUMPLE",E4="CUMPLE",F4="CUMPLE",G4="CUMPLE",H4="CUMPLE",I4="CUMPLE",J4="CUMPLE",K4="CUMPLE"),SUM(L4:R4),0) -> 40.5 | T4: =_xlfn.RANK.EQ(S4,$S$3:$S$9) -> 1
A5: 3 | B5: CONSTRUCTORA Y FERRETERIA LA SABANA SAS | C5: Michell Moreno | D5: =+'3'!$O$23 -> CUMPLE | E5: =+'3'!$O$31 -> CUMPLE | F5: =+'3'!$M$40 -> CUMPLE | G5: =+'3'!$M$49 -> CUMPLE | H5: =+'3'!$M$52 -> CUMPLE | I5: =+'3'!$M$54 -> CUMPLE | J5: =+'3'!$M$56 -> CUMPLE | K5: =+'3'!$O$23 -> CUMPLE | L5: =+'3'!$M$44 -> 20 | M5: =+'3'!M50 -> 0 | N5: =+'3'!$O$52 -> 19 | O5: =+'3'!$O$54 -> 0.25 | P5: =+'3'!$O$56 -> 0.25 | Q5: =+'3'!$O$58 -> 0 | S5: =IF(AND(D5="CUMPLE",E5="CUMPLE",F5="CUMPLE",G5="CUMPLE",H5="CUMPLE",I5="CUMPLE",J5="CUMPLE",K5="CUMPLE"),SUM(L5:R5),0) -> 39.5 | T5: =_xlfn.RANK.EQ(S5,$S$3:$S$9) -> 7
A6: 4 | B6: AIR LETICIA 2024 | C6: Guillermo Linares | D6: =+'4'!$O$23 -> CUMPLE | E6: =+'4'!$O$31 -> CUMPLE | F6: =+'4'!$M$40 -> CUMPLE | G6: =+'4'!$M$49 -> CUMPLE | H6: =+'4'!$M$52 -> CUMPLE | I6: =+'4'!$M$54 -> CUMPLE | J6: =+'4'!$M$56 -> CUMPLE | K6: =+'4'!$O$23 -> CUMPLE | L6: =+'4'!$M$44 -> 20 | M6: =+'4'!$M$50 -> 1 | N6: =+'4'!$O$52 -> 19 | O6: =+'4'!$O$54 -> 0.25 | P6: =+'4'!$O$56 -> 0.25 | Q6: =+'4'!$O$58 -> 0 | S6: =IF(AND(D6="CUMPLE",E6="CUMPLE",F6="CUMPLE",G6="CUMPLE",H6="CUMPLE",I6="CUMPLE",J6="CUMPLE",K6="CUMPLE"),SUM(L6:R6),0) -> 40.5 | T6: =_xlfn.RANK.EQ(S6,$S$3:$S$9) -> 1
A7: 5 | B7: CONSORCIO CALIDAD LETICIA 2024 | C7: Juan Gomez | D7: =+'5'!$O$23 -> CUMPLE | E7: =+'5'!$O$31 -> CUMPLE | F7: =+'5'!$M$40 -> CUMPLE | G7: =+'5'!$M$49 -> CUMPLE | H7: =+'5'!$M$52 -> CUMPLE | I7: =+'5'!$M$54 -> CUMPLE | J7: =+'5'!$M$56 -> CUMPLE | K7: =+'5'!$O$23 -> CUMPLE | L7: =+'5'!$M$44 -> 20 | M7: =+'5'!$M$50 -> 1 | N7: =+'5'!$O$52 -> 19 | O7: =+'5'!$O$54 -> 0.25 | P7: =+'5'!$O$56 -> 0.25 | Q7: =+'5'!$O$58 -> 0 | S7: =IF(AND(D7="CUMPLE",E7="CUMPLE",F7="CUMPLE",G7="CUMPLE",H7="CUMPLE",I7="CUMPLE",J7="CUMPLE",K7="CUMPLE"),SUM(L7:R7),0) -> 40.5 | T7: =_xlfn.RANK.EQ(S7,$S$3:$S$9) -> 1
A8: 6 | B8: CONSORCIO TARQUI | C8: Juan Gomez | D8: =+'6'!$O$23 -> CUMPLE | E8: =+'6'!$O$31 -> CUMPLE | F8: =+'6'!$M$40 -> CUMPLE | G8: =+'6'!$M$49 -> CUMPLE | H8: =+'6'!$M$52 -> CUMPLE | I8: =+'6'!$M$54 -> CUMPLE | J8: =+'6'!$M$56 -> CUMPLE | K8: =+'6'!$O$23 -> CUMPLE | L8: =+'6'!M44 -> 20 | M8: =+'6'!M50 -> 1 | N8: =+'6'!O52 -> 19 | O8: =+'6'!O54 -> 0.25 | P8: =+'6'!O56 -> 0.25 | Q8: =+'6'!O58 -> 0 | S8: =IF(AND(D8="CUMPLE",E8="CUMPLE",F8="CUMPLE",G8="CUMPLE",H8="CUMPLE",I8="CUMPLE",J8="CUMPLE",K8="CUMPLE"),SUM(L8:R8),0) -> 40.5 | T8: =_xlfn.RANK.EQ(S8,$S$3:$S$9) -> 1
A9: 7 | B9: CONSORCIO IF LETICIA | C9: Michell Moreno | D9: =+'7'!$O$23 -> CUMPLE | E9: =+'7'!$O$31 -> CUMPLE | F9: =+'7'!$M$40 -> CUMPLE | G9: =+'7'!$M$49 -> CUMPLE | H9: =+'7'!$M$52 -> CUMPLE | I9: =+'7'!$M$54 -> CUMPLE | J9: =+'7'!$M$56 -> CUMPLE | K9: =+'7'!$O$23 -> CUMPLE | L9: =+'7'!$M$44 -> 20 | M9: =+'7'!$M$50 -> 1 | N9: =+'7'!$O$52 -> 19 | O9: =+'7'!$O$54 -> 0.25 | P9: =+'7'!$O$56 -> 0.25 | Q9: =+'7'!$O$58 -> 0 | S9: =IF(AND(D9="CUMPLE",E9="CUMPLE",F9="CUMPLE",G9="CUMPLE",H9="CUMPLE",I9="CUMPLE",J9="CUMPLE",K9="CUMPLE"),SUM(L9:R9),0) -> 40.5 | T9: =_xlfn.RANK.EQ(S9,$S$3:$S$9) -> 1
B11: PROPONENTE CON EL MAYOR PUNTAJE
B12: Maximo Putaje | D12: Consorcio con el mayor puntaje | F12: No. De proponente
B13: {=MAX(IF(ISERROR(S3:S9),0,S3:S9))} -> 40.5 | D13: =_xlfn.XLOOKUP(B13,S3:S9,B3:B9) -> Consorcio AERO JK 24 | F13: =+_xlfn.XLOOKUP(D13,B3:B9,A3:A9) -> 1
B16: ORDEN | D16: NOMBRE DEL CONSORCIO O UT O EMPRESA | F16: No. De proponente | G16: PUNTAJE
B17: 1 | D17: =_xlfn.XLOOKUP(B17,$T$3:$T$9,$B$3:$B$9) -> Consorcio AERO JK 24 | F17: =+_xlfn.XLOOKUP(B17,$T$3:$T$9,$A$3:$A$9) -> 1 | G17: =+_xlfn.XLOOKUP(B17,$T$3:$T$9,$S$3:$S$9) -> 40.5
B18: 2 | D18: =_xlfn.XLOOKUP(B18,$T$3:$T$9,$B$3:$B$9) -> #N/A | F18: =+_xlfn.XLOOKUP(B18,$T$3:$T$9,$A$3:$A$9) -> #N/A | G18: =+_xlfn.XLOOKUP(B18,$T$3:$T$9,$S$3:$S$9) -> #N/A
B19: 3 | D19: =_xlfn.XLOOKUP(B19,$T$3:$T$9,$B$3:$B$9) -> #N/A | F19: =+_xlfn.XLOOKUP(B19,$T$3:$T$9,$A$3:$A$9) -> #N/A | G19: =+_xlfn.XLOOKUP(B19,$T$3:$T$9,$S$3:$S$9) -> #N/A
B20: 4 | D20: =_xlfn.XLOOKUP(B20,$T$3:$T$9,$B$3:$B$9) -> #N/A | F20: =+_xlfn.XLOOKUP(B20,$T$3:$T$9,$A$3:$A$9) -> #N/A | G20: =+_xlfn.XLOOKUP(B20,$T$3:$T$9,$S$3:$S$9) -> #N/A
B21: 5 | D21: =_xlfn.XLOOKUP(B21,$T$3:$T$9,$B$3:$B$9) -> #N/A | F21: =+_xlfn.XLOOKUP(B21,$T$3:$T$9,$A$3:$A$9) -> #N/A | G21: =+_xlfn.XLOOKUP(B21,$T$3:$T$9,$S$3:$S$9) -> #N/A
B22: 6 | D22: =_xlfn.XLOOKUP(B22,$T$3:$T$9,$B$3:$B$9) -> #N/A | F22: =+_xlfn.XLOOKUP(B22,$T$3:$T$9,$A$3:$A$9) -> #N/A | G22: =+_xlfn.XLOOKUP(B22,$T$3:$T$9,$S$3:$S$9) -> #N/A
B23: 7 | D23: =_xlfn.XLOOKUP(B23,$T$3:$T$9,$B$3:$B$9) -> CONSTRUCTORA Y FERRETERIA LA SABANA SAS | F23: =+_xlfn.XLOOKUP(B23,$T$3:$T$9,$A$3:$A$9) -> 3 | G23: =+_xlfn.XLOOKUP(B23,$T$3:$T$9,$S$3:$S$9) -> 39.5

Sheet 1
A1: UNIDAD ADMINISTRATIVA ESPECIAL DE AERONAUTICA CIVIL | U1: 1 | V1: 20 | W1: 5
A2: 23001258 H4 2023 | Q2: SI | R2: CUMPLE | U2: 0 | V2: 5 | W2: 0
A3: REALIZAR EL MANTENIMIENTO DE LA INFRAESTRUCTURA FÍSICA LADO AIRE DEL AEROPUERTO VÁSQUEZ COBO DE LA CIUDAD DE LETICIA (VF) | Q3: NO | R3: NO CUMPLE | V3: 0
A4: 1 | B4: =_xlfn.XLOOKUP(A4,RESUMEN!$A$3:$A$9,RESUMEN!$B$3:$B$9) -> Consorcio AERO JK 24 | F4: % PO | I4: APORTANTE DE LA EXPERIENCIA - GENERAL | P4: =+I4 -> APORTANTE DE LA EXPERIENCIA - GENERAL | R4: 10
I5: JMS INGENIERIA SAS | O5: 0.9 | P5: =+I7 -> 0 | R5: 0
I6: KOUMI SAS | O6: 0.1 | P6: =+I6 -> KOUMI SAS
P7: =+#REF! -> #REF!
F8: De 1 hasta 2 | H8: 0.75 | P8: =+I8 -> 0
F9: De 3 hasta 4 | H9: 1.2 | P9: =+I9 -> 0
F10: Hasta 5 | H10: 1.5 | I10: TOTAL | O10: =+SUM(O5:O9) -> 1
A11: CODIGOS | B11: 72101500 72141000 72141100 72151500 72154100 72102900 72103300 | C11: PRESUPUESTO A EVALUAR (P.O) | I11: 4038010590 | J11: PO SMMLV | M11: =I11/W13 -> 3106.162 | R11: Registro Nacional de Obras Civiles Inconclusas
A13: REQUISITOS HABILITANTES (CUMPLE /NO CUMPLE) | V13: 2024 | W13: 1300000
A14: EXPERIENCIA GENERAL PROPONENTE
A15: OBRAS DE CONSTRUCCIÓN O RECONSTRUCCIÓN O AMPLIACIÓN O MEJORAMIENTO O MANTENIMIENTO O REHABILITACIÓN O CONSERVACIÓN DE: CARRETERAS PRIMARIAS O PISTAS DE AERODROMOS O CALLES DE RODAJE DE AERODROMOS O PLATAFORMAS DE AERÓDROMOS, DICHAS OBRAS DEBEN CONTENER LA EJECUCION DE PAVIMENTO ASFALTICO O PAVIMENTO EN CONCRETO HIDRÁULICO | V15: 2023 | W15: 1160000
A16: % PO | B16: CTO´S | C16: No. CONSECUTIVO EN EL RUP | D16: CONTRATANTE | E16: INFO DEL CONTRATO | F16: PRESENTA DOCUMENTOS ENLISTADOS | G16: CUMPLE CODIGOS 72101500 72141000 72141100 72151500 72154100 72102900 72103300 | H16: CUMPLE EXPERIENCIA? | I16: QUIEN APORTA LA EXPERIENCIA? | J16: AÑO DE TERMINACION DEL CONTRATO | K16: VALOR TOTAL EN PESOS | L16: VALOR TOTAL SMMLV - RUP | M16: % PARTICIPACION | N16: VALOR TOTAL AFECTADO | O16: CUMPLE / NO CUMPLE | V16: 2022 | W16: 1000000
A17: =+M11*H8 -> 2329.6215 | B17: CTO 1 | C17: CONTRATO 58 JMS INGENIERIA S.A.S. | D17: UNIDAD ADMINISTRATIVA ESPECIAL DE AERONAUTICACIVIL | E17: REALIZARLAREHABILITACIONDELAPISTAYCALLESDERODAJE,AMPLIACIONDELAPLATAFORMACONSTRUCCIONDELACALLEDERODAJE,ADECUACIONDEFRANJASDESEGURIDADYMANTO.LADOAIREYTIERRADEL AEROPUERTO DE ARAUCA | F17: SI | G17: SI | H17: SI | I17: JMS INGENIERIA S.A.S. | J17: 44763 | K17: =L17*W16 -> 18819940000 | L17: 18819.94 | M17: 0.2 | N17: =L17*M17 -> 3763.988 | O17: =+IF(AND(H17="SI",G17="SI"),"CUMPLE","NO CUMPLE") -> CUMPLE | R17: =+N17/A17 -> 1.615708 | V17: 2021 | W17: 908526
B18: CTO 2 | C18: CONTRATO 66 JMS INGENIERIA S.A.S. | D18: CONSORCIO RUTA 40 | E18: REALIZAR LAS OBRAS CIVILES PARA LA CONSTRUCCIÓN DE LA GLORIETA LAS PALMAS DE LA UNIDAD FUNCIONAL 4 | F18: SI | G18: SI | H18: SI | I18: JMS INGENIERIA S.A.S. | J18: 44987 | K18: =L18*W15 -> 1452250400 | L18: 1251.94 | M18: 1 | N18: =L17*M18 -> 18819.94 | O18: =+IF(AND(H18="SI",G18="SI"),"CUMPLE","NO CUMPLE") -> CUMPLE | R18: =+N18/A17 -> 8.0785398
B19: CTO 3 | N19: =L19*M19 -> 0 | O19: =+IF(AND(H19="SI",G19="SI"),"CUMPLE","NO CUMPLE") -> NO CUMPLE | V19: 2020 | W19: 877803
B20: CTO 4 | N20: =IF(AND(G20="SI",H20="SI"),(L20*M20),0) -> 0 | O20: =+IF(AND(H20="SI",G20="SI"),"CUMPLE","NO CUMPLE") -> NO CUMPLE | V20: 2019 | W20: 828116
B21: CTO 5 | N21: =IF(AND(G21="SI",H21="SI"),(L21*M21),0) -> 0 | O21: =+IF(AND(H21="SI",G21="SI"),"CUMPLE","NO CUMPLE") -> NO CUMPLE | V21: 2018 | W21: 781242
B22: CTO 6 | N22: =IF(AND(G22="SI",H22="SI"),(L22*M22),0) -> 0 | O22: =+IF(AND(H22="SI",G22="SI"),"CUMPLE","NO CUMPLE") -> NO CUMPLE | V22: 2017 | W22: 737717
N23: =SUM(N17:N22) -> 22583.928 | O23: =+IF(OR(O18="CUMPLE",O22="CUMPLE",O21="CUMPLE",O20="CUMPLE",O19="CUMPLE",O17="CUMPLE")*AND(N23>=A17),"CUMPLE","NO CUMPLE") -> CUMPLE | V23: 2015 | W23: 644350
A24: EVALUACION EXPERIENCIA GENERAL PROPONENTE | V24: 2014 | W24: 616000
A25: EXPERIENCIA ESPECIFICA PROPONENTE | T25: =1949500000+6451200000 -> 8400700000 | V25: 2007 | W25: 433700
A26: OBRAS DE CONSTRUCCIÓN O RECONSTRUCCIÓN O AMPLIACIÓN O MEJORAMIENTO O MANTENIMIENTO O REHABILITACIÓN O CONSERVACIÓN DE: PISTAS DE AERODROMOS O CALLES DE RODAJE DE AERODROMOS O PLATAFORMAS DE AERÓDROMOS, DICHAS OBRAS DEBEN CONTENER LA EJECUCION DE PAVIMENTO ASFALTICO O PAVIMENTO EN CONCRETO HIDRÁULICO, cuyo valor sea igual o mayor al 50% del valor del PRESUPUESTO OFICIAL (PO) del presente Proceso de Contratación. | S26: =+T26*0.9 -> 17432.857 | T26: =+T25/W25 -> 19369.841 | V26: 2023 | W26: 1160000
A27: 50% PO | B27: CTO´S | C27: No. CONSECUTIVO EN EL RUP | D27: CONTRATANTE | E27: INFO DEL CONTRATO | F27: PRESENTA DOCUMENTOS ENLISTADOS | G27: CUMPLE CODIGOS 72101500 72141000 72141100 72151500 72154100 72102900 72103300 | H27: CUMPLE EXPERIENCIA? | I27: QUIEN APORTA LA EXPERIENCIA? | J27: AÑO DE TERMINACION DEL CONTRATO | K27: VALOR TOTAL EN PESOS | L27: VALOR TOTAL SMMLV - RUP | M27: % PARTICIPACION | N27: VALOR TOTAL AFECTADO | O27: CUMPLE / NO CUMPLE | S27: 50% PO | V27: 2022 | W27: 1000000
A28: =M11*50% -> 1553.081 | B28: CTO 1 | C28: CONTRATO 58 JMS INGENIERIA S.A.S. | D28: UNIDAD ADMINISTRATIVA ESPECIAL DE AERONAUTICACIVIL | E28: REALIZARLAREHABILITACIONDELAPISTAYCALLESDERODAJE,AMPLIACIONDELAPLATAFORMACONSTRUCCIONDELACALLEDERODAJE,ADECUACIONDEFRANJASDESEGURIDADYMANTO.LADOAIREYTIERRADEL AEROPUERTO DE ARAUCA | F28: SI | G28: SI | H28: SI | I28: JMS INGENIERIA S.A.S. | J28: 44763 | K28: =L28*W27 -> 18819940000 | L28: 18819.94 | M28: 0.2 | N28: =L28*M28 -> 3763.988 | O28: =+IF(AND(H28="SI",G28="SI"),"CUMPLE","NO CUMPLE") -> CUMPLE
B29: CTO 2 | N29: =L28*M29 -> 0 | O29: =+IF(AND(H29="SI",G29="SI"),"CUMPLE","NO CUMPLE") -> NO CUMPLE | R29: =+IF(OR(O29="CUMPLE")*AND(N29>=$R$16),"CUMPLE","NO CUMPLE") -> NO CUMPLE | V29: 2021 | W29: 908526
V30: 2015 | W30: 644350
A31: EVALUACION OFERTA ECONOMICA | N31: =SUM(N28:N29) -> 3763.988 | O31: =+IF(OR(O29="CUMPLE",O28="CUMPLE")*AND(N31>=A28),"CUMPLE","NO CUMPLE") -> CUMPLE | V31: 2014 | W31: 616000
L33: PUNTAJE ASIGNADO | N33: 0 | O33: =O31 -> CUMPLE | V33: 2014 | W33: 616000
V34: 2012 | W34: 566700
V35: 2011 | W35: 535600
V36: 2010 | W36: 515000
V37: 2002 | W37: 309000
A38: EVALUACIÓN APOYO A LA INDUSTRIA NACIONAL( MAX 20 PUNTOS) NUMERAL 4.3. | V38: 2001 | W38: 286000
A39: SERVICIOS NACIONALES | C39: Para que el proponente obtenga puntaje por servicios nacionales debe presentar: A. Persona natural colombiana: La cédula de ciudadanía del proponente. B. Persona natural extranjera residente en Colombia: La visa de residencia que le permita la ejecución del objeto contractual de conformidad con la ley. C. Persona jurídica constituida en Colombia: el certificado de existencia y representación legal emitido por las Cámaras de Comercio. | M39: PUNTAJE ASIGNADO | V39: 2000 | W39: 260100
M40: CUMPLE | V40: 1999 | W40: 236438
V41: 1998 | W41: 203825
V42: 1997 | W42: 172005
A43: PROPONENTE EXTRANJERO PUNTAJE POR TRATO NACIONAL | C43: Para que el proponente extranjero obtenga puntaje por trato nacional debe acreditar que los servicios son originarios de los estados mencionados en la sección de acuerdos comerciales aplicables al presente proceso de contratación, información que se acreditará con los documentos que aporte el proponente extranjero para acreditar su domicilio. Para asignar el puntaje por servicios nacionales o por trato nacional el proponente nacional o extranjero con trato nacional no deben presentar el Formato 7 – Puntaje de Industria Nacional. Únicamente deberán presentar los documentos señalados en esta sección. | V43: 1996 | W43: 142125
M44: 20 | V44: 1996 | W44: 142125
C45: NOTA: La entidad asignará veinte (20) puntos a un proponente plural cuando todos sus integrantes cumplan con las anteriores condiciones. Cuando uno de sus integrantes no cumpla con las condiciones descritas no obtendrá puntaje por servicios nacionales o trato Nacional. El Formato 7 – Puntaje de Industria Nacional únicamente debe ser aportado por los proponentes extranjeros sin derecho a trato nacional que opten por incorporar personal calificado. En el evento que un proponente nacional o extranjero con trato nacional lo presente, no será una razón para no otorgar el puntaje de promoción de servicios nacionales o con trato nacional. | V45: 1996 | W45: 142125
V46: 2009 | W46: 496900
A47: EVALUACIÓN VINCULACIÓN DE PERSONAS CON DISCAPACIDAD. (MAX 1 PUNTO) NUMERAL 4.4. | V47: 2005 | W47: 381500
A48: La entidad asignará un (1) punto al proponente que acredite el número mínimo de personas con discapacidad de acuerdo con el número total de trabajadores de la planta de su personal en los términos señalados en el artículo 2.2.1.2.4.2.6. del Decreto 1082 de 2015 (adicionado por el Decreto 392 de 2018). | M48: PUNTAJE ASIGNADO | V48: 2004 | W48: 358000
A49: Para esto debe presentar: i) el Formato 6 – Vinculación de personas en condición de discapacidad suscrito por la persona natural, el representante legal o el revisor fiscal, según corresponda en el cual certifique el número total de trabajadores vinculados a la planta de personal del proponente o sus integrantes a la fecha de cierre del proceso de selección, ii) acreditar el número mínimo de personas con discapacidad en su planta de personal, de conformidad con lo señalado en el certificado expedido por el Ministerio de Trabajo, el cual deberá estar vigente a la fecha de cierre del proceso de selección. | M49: CUMPLE | V49: 2003 | W49: 332000
A50: Para los proponentes plurales, la entidad tendrá en cuenta la planta de personal del integrante del proponente plural que aporte como mínimo el cuarenta por ciento (40%) de la experiencia requerida para el proceso de contratación. Este porcentaje de experiencia se tomará sobre el “Valor mínimo a certificar (como % del presupuesto oficial expresado en SMMLV)” de conformidad con el numeral 3.8.1, sin importar si la experiencia es general o específica. | M50: 1 | V50: 2003 | W50: 332000
A51: FACTOR DE CALIDAD (19 PTS)
A52: (i) implementación del programa de gerencia de proyectos (19) La entidad asignará 19 puntos, al proponente que se comprometa a instaurar un programa de gerencia de proyectos mediante la suscripción del Formato 7A – Programa de gerencia de proyectos, en el cual bajo la gravedad de juramento conste el compromiso que en este sentido asume. | M52: CUMPLE | O52: 19
A53: EMPRENDIMIENTO MUJERES
A54: Para que el Proponente obtenga este puntaje debe diligenciar el Formato 12 – Acreditación de emprendimientos y empresas de mujeres y aportar la documentación requerida. Tratándose de Proponentes Plurales este puntaje solo se otorgará si por lo menos uno de los integrantes acredita la calidad de emprendimientos y empresas de mujeres y tiene una participación igual o superior al diez por ciento (10 %) en el Consorcio o en la Unión Temporal. | M54: CUMPLE | O54: 0.25
A55: MiPYME
A56: Así las cosas, para obtener el puntaje, el Proponente entregará copia del certificado del Registro Único de Proponentes, el cual deberá encontrarse vigente y en firme al momento de su presentación Tratándose de Proponentes Plurales este puntaje se otorgará si por lo menos uno de los integrantes acredita la calidad de Mipyme y tiene una participación igual o superior al diez por ciento (10 %) en el Consorcio o en la Unión Temporal | M56: CUMPLE | O56: 0.25
A57: OBRAS CIVILES INCONCLUSAS
A58: Las Entidades Estatales deben consultar y analizar las anotaciones vigentes que reposen en el Registro Nacional de Obras Civiles Inconclusas, de que trata la Ley 2020 de 2020. En el evento que las personas naturales o jurídicas, nacionales o extranjeras domiciliadas o con sucursal en Colombia, o integrantes de Proponentes Plurales, cuenten con alguna anotación vigente de obra civil inconclusa, en el mencionado registro, se descontará un (1) punto de la sumatoria obtenida en relación con el factor de calidad. En todo caso, no se descontará el puntaje en los términos previstos en el inciso anterior cuando el Proponente no oferte el factor de calidad, por lo que éste obtendrá cero (0) puntos en este criterio de evaluación. En esta circunstancia, la Entidad no podrá reducir el puntaje de la sumatoria obtenida en los demás factores de ponderación. | O58: 0
A59: CUMPLE / NO CUMPLE | I59: CUMPLE | V59: 1995 | W59: 118934
A60: EVALUACION FINAL | I60: CUMPLE | M60: =+O56+O54+O52+M50+M44+O58 -> 40.5 | V60: 1994 | W60: 98700
A61: Observaciones: | V61: 1993 | W61: 81510
V62: 1992 | W62: 65190
V63: 1991 | W63: 51720
V64: 1990 | W64: 41025
A75: 4038010590 | C75: REALIZAR EL MANTENIMIENTO DE LA INFRAESTRUCTURA FÍSICA LADO AIRE DEL AEROPUERTO VÁSQUEZ COBO DE LA CIUDAD DE LETICIA (VF)

Sheet 2
A1: UNIDAD ADMINISTRATIVA ESPECIAL DE AERONAUTICA CIVIL | U1: 1 | V1: 20 | W1: 5
A2: 23001258 H4 2023 | Q2: SI | R2: CUMPLE | U2: 0 | V2: 5 | W2: 0
A3: REALIZAR EL MANTENIMIENTO DE LA INFRAESTRUCTURA FÍSICA LADO AIRE DEL AEROPUERTO VÁSQUEZ COBO DE LA CIUDAD DE LETICIA (VF) | Q3: NO | R3: NO CUMPLE | V3: 0
A4: 2 | B4: =_xlfn.XLOOKUP(A4,RESUMEN!$A$3:$A$9,RESUMEN!$B$3:$B$9) -> Consorcio CSLA LETICIA | F4: % PO | I4: APORTANTE DE LA EXPERIENCIA - GENERAL | P4: =+I4 -> APORTANTE DE LA EXPERIENCIA - GENERAL | R4: 10
I5: SOCIEDAD COLOMBIANA DE INGENIERIA Y CONSTRUCCIÓN S.A.S | O5: 0.5 | P5: =+I7 -> 0 | R5: 0
I6: CONALTEC INGENIERIA S.A.S | O6: 0.5 | P6: =+I6 -> CONALTEC INGENIERIA S.A.S
P7: =+#REF! -> #REF!
F8: De 1 hasta 2 | H8: 0.75 | P8: =+I8 -> 0
F9: De 3 hasta 4 | H9: 1.2 | P9: =+I9 -> 0
F10: Hasta 5 | H10: 1.5 | I10: TOTAL | O10: =+SUM(O5:O9) -> 1
A11: CODIGOS | B11: 72101500 72141000 72141100 72151500 72154100 72102900 72103300 | C11: PRESUPUESTO A EVALUAR (P.O) | I11: 4038010590 | J11: PO SMMLV | M11: =I11/W13 -> 3106.162 | R11: Registro Nacional de Obras Civiles Inconclusas
A13: REQUISITOS HABILITANTES (CUMPLE /NO CUMPLE) | V13: 2024 | W13: 1300000
A14: EXPERIENCIA GENERAL PROPONENTE
A15: OBRAS DE CONSTRUCCIÓN O RECONSTRUCCIÓN O AMPLIACIÓN O MEJORAMIENTO O MANTENIMIENTO O REHABILITACIÓN O CONSERVACIÓN DE: CARRETERAS PRIMARIAS O PISTAS DE AERODROMOS O CALLES DE RODAJE DE AERODROMOS O PLATAFORMAS DE AERÓDROMOS, DICHAS OBRAS DEBEN CONTENER LA EJECUCION DE PAVIMENTO ASFALTICO O PAVIMENTO EN CONCRETO HIDRÁULICO | V15: 2023 | W15: 1160000
A16: % PO | B16: CTO´S | C16: No. CONSECUTIVO EN EL RUP | D16: CONTRATANTE | E16: INFO DEL CONTRATO | F16: PRESENTA DOCUMENTOS ENLISTADOS | G16: CUMPLE CODIGOS 72101500 72141000 72141100 72151500 72154100 72102900 72103300 | H16: CUMPLE EXPERIENCIA? | I16: QUIEN APORTA LA EXPERIENCIA? | J16: AÑO DE TERMINACION DEL CONTRATO | K16: VALOR TOTAL EN PESOS | L16: VALOR TOTAL SMMLV - RUP | M16: % PARTICIPACION | N16: VALOR TOTAL AFECTADO | O16: CUMPLE / NO CUMPLE | V16: 2022 | W16: 1000000
A17: =+M11*H9 -> 3727.3944 | B17: CTO 1 | C17: CONTRATO 39 Sociedad colombiana de ingenieria y construcciones SAS | D17: AEROCIVIL | E17: REALIZAR LA REHABILITACION DE LA PISTA Y CALLE DE RODAJE; ADECUACION DE LOS CANALES Y ZONAS DE SEGURIDAD Y MANTENIMIENTO RUTINARIO DE LAS AREAS LADO AIRE Y LADO TIERRA DEL AEROPUERTO PALONEGRO DE BUCARAMANGA | F17: SI | G17: si | H17: si | I17: SOCIEDAD COLOMBIANA DE INGENIERIA Y CONSTRUCCIÓN S.A.S | J17: 44773 | K17: 29358880105 | L17: =K17/$W$16 -> 29358.88 | M17: 0.4 | N17: =L17*M17 -> 11743.552 | O17: =+IF(AND(H17="SI",G17="SI"),"CUMPLE","NO CUMPLE") -> CUMPLE | R17: =N17/A17 -> 3.1506062 | V17: 2021 | W17: 908526
B18: CTO 2 | C18: CONTRATO 09 Conaltec INGENIERIA SAS | D18: FUERZA AEREA COLOMBIANA | E18: OBRA PÚBLICA PARA EL MANTENIMIENTO Y ADECUACIÓN DEL AERÓDROMO DEL COMANDO AÉREO DE COMBATE | F18: SI | G18: SI | H18: SI | I18: CONALTEC INGENIERIA S.A.S | J18: 42715 | K18: 1.6951505e+09 | L18: =K18/689455 -> 2458.6819 | M18: 0.3 | N18: =L18*M18 -> 737.60457 | O18: =+IF(AND(H18="SI",G18="SI"),"CUMPLE","NO CUMPLE") -> CUMPLE | R18: =+(N18+N19)/A17 -> 0.19788745
B19: CTO 3 | N19: =L19*M19 -> 0 | O19: =+IF(AND(H19="SI",G19="SI"),"CUMPLE","NO CUMPLE") -> NO CUMPLE | V19: 2020 | W19: 877803
B20: CTO 4 | N20: =L20*M20 -> 0 | O20: =+IF(AND(H20="SI",G20="SI"),"CUMPLE","NO CUMPLE") -> NO CUMPLE | R20: =N20/A17 -> 0 | V20: 2019 | W20: 828116
B21: CTO 5 | N21: =IF(AND(G21="SI",H21="SI"),(L21*M21),0) -> 0 | O21: =+IF(AND(H21="SI",G21="SI"),"CUMPLE","NO CUMPLE") -> NO CUMPLE | V21: 2018 | W21: 781242
B22: CTO 6 | N22: =IF(AND(G22="SI",H22="SI"),(L22*M22),0) -> 0 | O22: =+IF(AND(H22="SI",G22="SI"),"CUMPLE","NO CUMPLE") -> NO CUMPLE | V22: 2017 | W22: 737717
N23: =SUM(N17:N22) -> 12481.157 | O23: =+IF(OR(O18="CUMPLE",O22="CUMPLE",O21="CUMPLE",O20="CUMPLE",O19="CUMPLE",O17="CUMPLE")*AND(N23>=A17),"CUMPLE","NO CUMPLE") -> CUMPLE | V23: 2015 | W23: 644350
A24: EVALUACION EXPERIENCIA GENERAL PROPONENTE | V24: 2014 | W24: 616000
A25: EXPERIENCIA ESPECIFICA PROPONENTE | V25: 2007 | W25: 433700
A26: OBRAS DE CONSTRUCCIÓN O RECONSTRUCCIÓN O AMPLIACIÓN O MEJORAMIENTO O MANTENIMIENTO O REHABILITACIÓN O CONSERVACIÓN DE: PISTAS DE AERODROMOS O CALLES DE RODAJE DE AERODROMOS O PLATAFORMAS DE AERÓDROMOS, DICHAS OBRAS DEBEN CONTENER LA EJECUCION DE PAVIMENTO ASFALTICO O PAVIMENTO EN CONCRETO HIDRÁULICO, cuyo valor sea igual o mayor al 50% del valor del PRESUPUESTO OFICIAL (PO) del presente Proceso de Contratación. | V26: 2023 | W26: 1160000
A27: 50% PO | B27: CTO´S | C27: No. CONSECUTIVO EN EL RUP | D27: CONTRATANTE | E27: INFO DEL CONTRATO | F27: PRESENTA DOCUMENTOS ENLISTADOS | G27: CUMPLE CODIGOS 72101500 72141000 72141100 72151500 72154100 72102900 72103300 | H27: CUMPLE EXPERIENCIA? | I27: QUIEN APORTA LA EXPERIENCIA? | J27: AÑO DE TERMINACION DEL CONTRATO | K27: VALOR TOTAL EN PESOS | L27: VALOR TOTAL SMMLV - RUP | M27: % PARTICIPACION | N27: VALOR TOTAL AFECTADO | O27: CUMPLE / NO CUMPLE | V27: 2022 | W27: 1000000
A28: =M11*50% -> 1553.081 | B28: CTO 1 | C28: CONTRATO 39 Sociedad colombiana de ingenieria y construcciones SAS | D28: AEROCIVIL | E28: REALIZAR LA REHABILITACION DE LA PISTA Y CALLE DE RODAJE; ADECUACION DE LOS CANALES Y ZONAS DE SEGURIDAD Y MANTENIMIENTO RUTINARIO DE LAS AREAS LADO AIRE Y LADO TIERRA DEL AEROPUERTO PALONEGRO DE BUCARAMANGA | F28: SI | G28: si | H28: si | I28: SOCIEDAD COLOMBIANA DE INGENIERIA Y CONSTRUCCIÓN S.A.S | J28: 44773 | K28: 29358880105 | L28: =K28/$W$16 -> 29358.88 | M28: 0.4 | N28: =L28*M28 -> 11743.552 | O28: =+IF(AND(H28="SI",G28="SI"),"CUMPLE","NO CUMPLE") -> CUMPLE
B29: CTO 2 | C29: CONTRATO 09 Conaltec INGENIERIA SAS | D29: FUERZA AEREA COLOMBIANA | E29: OBRA PÚBLICA PARA EL MANTENIMIENTO Y ADECUACIÓN DEL AERÓDROMO DEL COMANDO AÉREO DE COMBATE | F29: SI | G29: SI | H29: SI | I29: CONALTEC INGENIERIA S.A.S | J29: 42715 | K29: 1.6951505e+09 | L29: =K29/689455 -> 2458.6819 | M29: 0.3 | N29: =L29*M29 -> 737.60457 | O29: =+IF(AND(H29="SI",G29="SI"),"CUMPLE","NO CUMPLE") -> CUMPLE | R29: =+IF(OR(O29="CUMPLE")*AND(N29>=$R$16),"CUMPLE","NO CUMPLE") -> CUMPLE | V29: 2021 | W29: 908526
V30: 2015 | W30: 644350
A31: EVALUACION OFERTA ECONOMICA | N31: =SUM(N28:N29) -> 12481.157 | O31: =+IF(OR(O29="CUMPLE",O28="CUMPLE")*AND(N31>=A28),"CUMPLE","NO CUMPLE") -> CUMPLE | V31: 2014 | W31: 616000
L33: PUNTAJE ASIGNADO | N33: 0 | O33: =O31 -> CUMPLE | V33: 2014 | W33: 616000
V34: 2012 | W34: 566700
V35: 2011 | W35: 535600
V36: 2010 | W36: 515000
V37: 2002 | W37: 309000
A38: EVALUACIÓN APOYO A LA INDUSTRIA NACIONAL( MAX 20 PUNTOS) NUMERAL 4.3. | V38: 2001 | W38: 286000
A39: SERVICIOS NACIONALES | C39: Para que el proponente obtenga puntaje por servicios nacionales debe presentar: A. Persona natural colombiana: La cédula de ciudadanía del proponente. B. Persona natural extranjera residente en Colombia: La visa de residencia que le permita la ejecución del objeto contractual de conformidad con la ley. C. Persona jurídica constituida en Colombia: el certificado de existencia y representación legal emitido por las Cámaras de Comercio. | M39: PUNTAJE ASIGNADO | V39: 2000 | W39: 260100
M40: CUMPLE | V40: 1999 | W40: 236438
V41: 1998 | W41: 203825
V42: 1997 | W42: 172005
A43: PROPONENTE EXTRANJERO PUNTAJE POR TRATO NACIONAL | C43: Para que el proponente extranjero obtenga puntaje por trato nacional debe acreditar que los servicios son originarios de los estados mencionados en la sección de acuerdos comerciales aplicables al presente proceso de contratación, información que se acreditará con los documentos que aporte el proponente extranjero para acreditar su domicilio. Para asignar el puntaje por servicios nacionales o por trato nacional el proponente nacional o extranjero con trato nacional no deben presentar el Formato 7 – Puntaje de Industria Nacional. Únicamente deberán presentar los documentos señalados en esta sección. | V43: 1996 | W43: 142125
M44: 20 | V44: 1996 | W44: 142125
C45: NOTA: La entidad asignará veinte (20) puntos a un proponente plural cuando todos sus integrantes cumplan con las anteriores condiciones. Cuando uno de sus integrantes no cumpla con las condiciones descritas no obtendrá puntaje por servicios nacionales o trato Nacional. El Formato 7 – Puntaje de Industria Nacional únicamente debe ser aportado por los proponentes extranjeros sin derecho a trato nacional que opten por incorporar personal calificado. En el evento que un proponente nacional o extranjero con trato nacional lo presente, no será una razón para no otorgar el puntaje de promoción de servicios nacionales o con trato nacional. | V45: 1996 | W45: 142125
V46: 2009 | W46: 496900
A47: EVALUACIÓN VINCULACIÓN DE PERSONAS CON DISCAPACIDAD. (MAX 1 PUNTO) NUMERAL 4.4. | V47: 2005 | W47: 381500
A48: La entidad asignará un (1) punto al proponente que acredite el número mínimo de personas con discapacidad de acuerdo con el número total de trabajadores de la planta de su personal en los términos señalados en el artículo 2.2.1.2.4.2.6. del Decreto 1082 de 2015 (adicionado por el Decreto 392 de 2018). | M48: PUNTAJE ASIGNADO | V48: 2004 | W48: 358000
A49: Para esto debe presentar: i) el Formato 6 – Vinculación de personas en condición de discapacidad suscrito por la persona natural, el representante legal o el revisor fiscal, según corresponda en el cual certifique el número total de trabajadores vinculados a la planta de personal del proponente o sus integrantes a la fecha de cierre del proceso de selección, ii) acreditar el número mínimo de personas con discapacidad en su planta de personal, de conformidad con lo señalado en el certificado expedido por el Ministerio de Trabajo, el cual deberá estar vigente a la fecha de cierre del proceso de selección. | M49: CUMPLE | V49: 2003 | W49: 332000
A50: Para los proponentes plurales, la entidad tendrá en cuenta la planta de personal del integrante del proponente plural que aporte como mínimo el cuarenta por ciento (40%) de la experiencia requerida para el proceso de contratación. Este porcentaje de experiencia se tomará sobre el “Valor mínimo a certificar (como % del presupuesto oficial expresado en SMMLV)” de conformidad con el numeral 3.8.1, sin importar si la experiencia es general o específica. | M50: 1 | V50: 2003 | W50: 332000
A51: FACTOR DE CALIDAD (19 PTS)
A52: (i) implementación del programa de gerencia de proyectos (19) La entidad asignará 19 puntos, al proponente que se comprometa a instaurar un programa de gerencia de proyectos mediante la suscripción del Formato 7A – Programa de gerencia de proyectos, en el cual bajo la gravedad de juramento conste el compromiso que en este sentido asume. | M52: CUMPLE | O52: 19
A53: EMPRENDIMIENTO MUJERES
A54: Para que el Proponente obtenga este puntaje debe diligenciar el Formato 12 – Acreditación de emprendimientos y empresas de mujeres y aportar la documentación requerida. Tratándose de Proponentes Plurales este puntaje solo se otorgará si por lo menos uno de los integrantes acredita la calidad de emprendimientos y empresas de mujeres y tiene una participación igual o superior al diez por ciento (10 %) en el Consorcio o en la Unión Temporal. | M54: CUMPLE | O54: 0.25
A55: MiPYME
A56: Así las cosas, para obtener el puntaje, el Proponente entregará copia del certificado del Registro Único de Proponentes, el cual deberá encontrarse vigente y en firme al momento de su presentación Tratándose de Proponentes Plurales este puntaje se otorgará si por lo menos uno de los integrantes acredita la calidad de Mipyme y tiene una participación igual o superior al diez por ciento (10 %) en el Consorcio o en la Unión Temporal | M56: CUMPLE | O56: 0.25
A57: OBRAS CIVILES INCONCLUSAS
A58: Las Entidades Estatales deben consultar y analizar las anotaciones vigentes que reposen en el Registro Nacional de Obras Civiles Inconclusas, de que trata la Ley 2020 de 2020. En el evento que las personas naturales o jurídicas, nacionales o extranjeras domiciliadas o con sucursal en Colombia, o integrantes de Proponentes Plurales, cuenten con alguna anotación vigente de obra civil inconclusa, en el mencionado registro, se descontará un (1) punto de la sumatoria obtenida en relación con el factor de calidad. En todo caso, no se descontará el puntaje en los términos previstos en el inciso anterior cuando el Proponente no oferte el factor de calidad, por lo que éste obtendrá cero (0) puntos en este criterio de evaluación. En esta circunstancia, la Entidad no podrá reducir el puntaje de la sumatoria obtenida en los demás factores de ponderación. | O58: 0
A59: CUMPLE / NO CUMPLE | I59: CUMPLE | V59: 1995 | W59: 118934
A60: EVALUACION FINAL | I60: CUMPLE | M60: =+O56+O54+O52+M50+M44+O58 -> 40.5 | V60: 1994 | W60: 98700
A61: Observaciones: | V61: 1993 | W61: 81510
V62: 1992 | W62: 65190
V63: 1991 | W63: 51720
V64: 1990 | W64: 41025
A75: 4038010590 | C75: REALIZAR EL MANTENIMIENTO DE LA INFRAESTRUCTURA FÍSICA LADO AIRE DEL AEROPUERTO VÁSQUEZ COBO DE LA CIUDAD DE LETICIA (VF)

Sheet 3
A1: UNIDAD ADMINISTRATIVA ESPECIAL DE AERONAUTICA CIVIL | U1: 1 | V1: 20 | W1: 5
A2: 23001258 H4 2023 | Q2: SI | R2: CUMPLE | U2: 0 | V2: 5 | W2: 0
A3: REALIZAR EL MANTENIMIENTO DE LA INFRAESTRUCTURA FÍSICA LADO AIRE DEL AEROPUERTO VÁSQUEZ COBO DE LA CIUDAD DE LETICIA (VF) | Q3: NO | R3: NO CUMPLE | V3: 0
A4: 3 | B4: =_xlfn.XLOOKUP(A4,RESUMEN!$A$3:$A$9,RESUMEN!$B$3:$B$9) -> CONSTRUCTORA Y FERRETERIA LA SABANA SAS | F4: % PO | I4: APORTANTE DE LA EXPERIENCIA - GENERAL | P4: =+I4 -> APORTANTE DE LA EXPERIENCIA - GENERAL | R4: 10
I5: ANA CLOVIS PUENTES | O5: 0.6 | P5: =+I7 -> 0 | R5: 0
I6: GUSTAVO TENJO RODRIGUEZ | O6: 0.4 | P6: =+I6 -> GUSTAVO TENJO RODRIGUEZ
P7: =+#REF! -> #REF!
F8: De 1 hasta 2 | H8: 0.75 | P8: =+I8 -> 0
F9: De 3 hasta 4 | H9: 1.2 | P9: =+I9 -> 0
F10: Hasta 5 | H10: 1.5 | I10: TOTAL | O10: =+SUM(O5:O9) -> 1
A11: CODIGOS | B11: 72101500 72141000 72141100 72151500 72154100 72102900 72103300 | C11: PRESUPUESTO A EVALUAR (P.O) | I11: 4038010590 | J11: PO SMMLV | M11: =I11/W13 -> 3106.162 | R11: Registro Nacional de Obras Civiles Inconclusas
A13: REQUISITOS HABILITANTES (CUMPLE /NO CUMPLE) | V13: 2024 | W13: 1300000
A14: EXPERIENCIA GENERAL PROPONENTE
A15: OBRAS DE CONSTRUCCIÓN O RECONSTRUCCIÓN O AMPLIACIÓN O MEJORAMIENTO O MANTENIMIENTO O REHABILITACIÓN O CONSERVACIÓN DE: CARRETERAS PRIMARIAS O PISTAS DE AERODROMOS O CALLES DE RODAJE DE AERODROMOS O PLATAFORMAS DE AERÓDROMOS, DICHAS OBRAS DEBEN CONTENER LA EJECUCION DE PAVIMENTO ASFALTICO O PAVIMENTO EN CONCRETO HIDRÁULICO | V15: 2023 | W15: 1160000
A16: % PO | B16: CTO´S | C16: No. CONSECUTIVO EN EL RUP | D16: CONTRATANTE | E16: INFO DEL CONTRATO | F16: PRESENTA DOCUMENTOS ENLISTADOS | G16: CUMPLE CODIGOS 72101500 72141000 72141100 72151500 72154100 72102900 72103300 | H16: CUMPLE EXPERIENCIA? | I16: QUIEN APORTA LA EXPERIENCIA? | J16: AÑO DE TERMINACION DEL CONTRATO | K16: VALOR TOTAL EN PESOS | L16: VALOR TOTAL SMMLV - RUP | M16: % PARTICIPACION | N16: VALOR TOTAL AFECTADO | O16: CUMPLE / NO CUMPLE | V16: 2022 | W16: 1000000
A17: =+M11*H9 -> 3727.3944 | B17: CTO 1 | C17: 5 | D17: AERONAUTICA CIVIL | E17: EJECUCIÓN DE LAS OBRAS DE RECUPERACIÓN DE LAS ZONAS DE SEGURIDAD Y CANALES. PISTA, PLATAFORMA, Y VIA DE ACCESO DEL AEROPUERTO ''MÓRELA'' DE PUERTO BERRIO (ANTIOQUIA) | F17: SI | G17: SI | H17: SI | I17: CONSTRUCTORA & FERRETERIA LA SABANA | J17: 2012 | K17: 1580482196 | L17: 2788.92 | M17: 0.4 | N17: =L17*M17 -> 1115.568 | O17: =+IF(AND(H17="SI",G17="SI"),"CUMPLE","NO CUMPLE") -> CUMPLE | R17: =(N17+N18+N19)/A17 -> 1.0267033 | V17: 2021 | W17: 908526
B18: CTO 2 | C18: 41 | D18: COOPEMUN | E18: CONTRATAR LAS OBRAS PARA EL MEJORAMIENTO DE LA PISTA DEL AEROPUERTO DEL ESPINO BOYACA | F18: SI | G18: SI | H18: SI | I18: GUSTAVO TENJO RODRIGUEZ | J18: 2006 | K18: 1106235200 | L18: 2711.36 | M18: 1 | N18: =L18*M18 -> 2711.36 | O18: =+IF(AND(H18="SI",G18="SI"),"CUMPLE","NO CUMPLE") -> CUMPLE
B19: CTO 3 | N19: =L19*M19 -> 0 | O19: =+IF(AND(H19="SI",G19="SI"),"CUMPLE","NO CUMPLE") -> NO CUMPLE | V19: 2020 | W19: 877803
B20: CTO 4 | N20: =L20*M20 -> 0 | O20: =+IF(AND(H20="SI",G20="SI"),"CUMPLE","NO CUMPLE") -> NO CUMPLE | R20: =+N20/A17 -> 0 | T20: Ok | V20: 2019 | W20: 828116
B21: CTO 5 | N21: =IF(AND(G21="SI",H21="SI"),(L21*M21),0) -> 0 | O21: =+IF(AND(H21="SI",G21="SI"),"CUMPLE","NO CUMPLE") -> NO CUMPLE | V21: 2018 | W21: 781242
B22: CTO 6 | N22: =IF(AND(G22="SI",H22="SI"),(L22*M22),0) -> 0 | O22: =+IF(AND(H22="SI",G22="SI"),"CUMPLE","NO CUMPLE") -> NO CUMPLE | V22: 2017 | W22: 737717
N23: =SUM(N17:N22) -> 3826.928 | O23: =+IF(OR(O18="CUMPLE",O22="CUMPLE",O21="CUMPLE",O20="CUMPLE",O19="CUMPLE",O17="CUMPLE")*AND(N23>=A17),"CUMPLE","NO CUMPLE") -> CUMPLE | V23: 2015 | W23: 644350
A24: EVALUACION EXPERIENCIA GENERAL PROPONENTE | V24: 2014 | W24: 616000
A25: EXPERIENCIA ESPECIFICA PROPONENTE | T25: =1949500000+6451200000 -> 8400700000 | V25: 2007 | W25: 433700
A26: OBRAS DE CONSTRUCCIÓN O RECONSTRUCCIÓN O AMPLIACIÓN O MEJORAMIENTO O MANTENIMIENTO O REHABILITACIÓN O CONSERVACIÓN DE: PISTAS DE AERODROMOS O CALLES DE RODAJE DE AERODROMOS O PLATAFORMAS DE AERÓDROMOS, DICHAS OBRAS DEBEN CONTENER LA EJECUCION DE PAVIMENTO ASFALTICO O PAVIMENTO EN CONCRETO HIDRÁULICO, cuyo valor sea igual o mayor al 50% del valor del PRESUPUESTO OFICIAL (PO) del presente Proceso de Contratación. | S26: =+T26*0.9 -> 17432.857 | T26: =+T25/W25 -> 19369.841 | V26: 2023 | W26: 1160000
A27: 50% PO | B27: CTO´S | C27: No. CONSECUTIVO EN EL RUP | D27: CONTRATANTE | E27: INFO DEL CONTRATO | F27: PRESENTA DOCUMENTOS ENLISTADOS | G27: CUMPLE CODIGOS 72101500 72141000 72141100 72151500 72154100 72102900 72103300 | H27: CUMPLE EXPERIENCIA? | I27: QUIEN APORTA LA EXPERIENCIA? | J27: AÑO DE TERMINACION DEL CONTRATO | K27: VALOR TOTAL EN PESOS | L27: VALOR TOTAL SMMLV - RUP | M27: % PARTICIPACION | N27: VALOR TOTAL AFECTADO | O27: CUMPLE / NO CUMPLE | R27: =#REF!/2 -> #REF! | S27: 50% PO | V27: 2022 | W27: 1000000
A28: =M11*50% -> 1553.081 | B28: CTO 1 | C28: 5 | D28: AERONAUTICA CIVIL | E28: EJECUCIÓN DE LAS OBRAS DE RECUPERACIÓN DE LAS ZONAS DE SEGURIDAD Y CANALES. PISTA, PLATAFORMA, Y VIA DE ACCESO DEL AEROPUERTO ''MÓRELA'' DE PUERTO BERRIO (ANTIOQUIA) | F28: SI | G28: SI | H28: SI | I28: CONSTRUCTORA & FERRETERIA LA SABANA | J28: 2012 | K28: 1580482196 | L28: 2788.92 | M28: 0.4 | N28: =L28*M28 -> 1115.568 | O28: =+IF(AND(H28="SI",G28="SI"),"CUMPLE","NO CUMPLE") -> CUMPLE | S28: =+K28/W34 -> 2788.9222
B29: CTO 2 | C29: 41 | D29: COOPEMUN | E29: CONTRATAR LAS OBRAS PARA EL MEJORAMIENTO DE LA PISTA DEL AEROPUERTO DEL ESPINO BOYACA | F29: SI | G29: SI | H29: SI | I29: GUSTAVO TENJO RODRIGUEZ | J29: 2006 | K29: 1106235200 | L29: 2711.36 | M29: 1 | N29: =L29*M29 -> 2711.36 | O29: =+IF(AND(H29="SI",G29="SI"),"CUMPLE","NO CUMPLE") -> CUMPLE | R29: =+IF(OR(O29="CUMPLE")*AND(N29>=$R$16),"CUMPLE","NO CUMPLE") -> CUMPLE | V29: 2021 | W29: 908526
V30: 2015 | W30: 644350
A31: EVALUACION OFERTA ECONOMICA | N31: =SUM(N28:N29) -> 3826.928 | O31: =+IF(OR(O29="CUMPLE",O28="CUMPLE")*AND(N31>=A28),"CUMPLE","NO CUMPLE") -> CUMPLE | V31: 2014 | W31: 616000
L33: PUNTAJE ASIGNADO | N33: 0 | O33: =O31 -> CUMPLE | V33: 2014 | W33: 616000
V34: 2012 | W34: 566700
V35: 2011 | W35: 535600
V36: 2010 | W36: 515000
V37: 2002 | W37: 309000
A38: EVALUACIÓN APOYO A LA INDUSTRIA NACIONAL( MAX 20 PUNTOS) NUMERAL 4.3. | V38: 2001 | W38: 286000
A39: SERVICIOS NACIONALES | C39: Para que el proponente obtenga puntaje por servicios nacionales debe presentar: A. Persona natural colombiana: La cédula de ciudadanía del proponente. B. Persona natural extranjera residente en Colombia: La visa de residencia que le permita la ejecución del objeto contractual de conformidad con la ley. C. Persona jurídica constituida en Colombia: el certificado de existencia y representación legal emitido por las Cámaras de Comercio. | M39: PUNTAJE ASIGNADO | V39: 2000 | W39: 260100
M40: CUMPLE | V40: 1999 | W40: 236438
V41: 1998 | W41: 203825
V42: 1997 | W42: 172005
A43: PROPONENTE EXTRANJERO PUNTAJE POR TRATO NACIONAL | C43: Para que el proponente extranjero obtenga puntaje por trato nacional debe acreditar que los servicios son originarios de los estados mencionados en la sección de acuerdos comerciales aplicables al presente proceso de contratación, información que se acreditará con los documentos que aporte el proponente extranjero para acreditar su domicilio. Para asignar el puntaje por servicios nacionales o por trato nacional el proponente nacional o extranjero con trato nacional no deben presentar el Formato 7 – Puntaje de Industria Nacional. Únicamente deberán presentar los documentos señalados en esta sección. | V43: 1996 | W43: 142125
M44: 20 | V44: 1996 | W44: 142125
C45: NOTA: La entidad asignará veinte (20) puntos a un proponente plural cuando todos sus integrantes cumplan con las anteriores condiciones. Cuando uno de sus integrantes no cumpla con las condiciones descritas no obtendrá puntaje por servicios nacionales o trato Nacional. El Formato 7 – Puntaje de Industria Nacional únicamente debe ser aportado por los proponentes extranjeros sin derecho a trato nacional que opten por incorporar personal calificado. En el evento que un proponente nacional o extranjero con trato nacional lo presente, no será una razón para no otorgar el puntaje de promoción de servicios nacionales o con trato nacional. | V45: 1996 | W45: 142125
V46: 2009 | W46: 496900
A47: EVALUACIÓN VINCULACIÓN DE PERSONAS CON DISCAPACIDAD. (MAX 1 PUNTO) NUMERAL 4.4. | V47: 2005 | W47: 381500
A48: La entidad asignará un (1) punto al proponente que acredite el número mínimo de personas con discapacidad de acuerdo con el número total de trabajadores de la planta de su personal en los términos señalados en el artículo 2.2.1.2.4.2.6. del Decreto 1082 de 2015 (adicionado por el Decreto 392 de 2018). | M48: PUNTAJE ASIGNADO | V48: 2004 | W48: 358000
A49: Para esto debe presentar: i) el Formato 6 – Vinculación de personas en condición de discapacidad suscrito por la persona natural, el representante legal o el revisor fiscal, según corresponda en el cual certifique el número total de trabajadores vinculados a la planta de personal del proponente o sus integrantes a la fecha de cierre del proceso de selección, ii) acreditar el número mínimo de personas con discapacidad en su planta de personal, de conformidad con lo señalado en el certificado expedido por el Ministerio de Trabajo, el cual deberá estar vigente a la fecha de cierre del proceso de selección. | M49: CUMPLE | V49: 2003 | W49: 332000
A50: Para los proponentes plurales, la entidad tendrá en cuenta la planta de personal del integrante del proponente plural que aporte como mínimo el cuarenta por ciento (40%) de la experiencia requerida para el proceso de contratación. Este porcentaje de experiencia se tomará sobre el “Valor mínimo a certificar (como % del presupuesto oficial expresado en SMMLV)” de conformidad con el numeral 3.8.1, sin importar si la experiencia es general o específica. | M50: 0 | V50: 2003 | W50: 332000
A51: FACTOR DE CALIDAD (19 PTS)
A52: (i) implementación del programa de gerencia de proyectos (19) La entidad asignará 19 puntos, al proponente que se comprometa a instaurar un programa de gerencia de proyectos mediante la suscripción del Formato 7A – Programa de gerencia de proyectos, en el cual bajo la gravedad de juramento conste el compromiso que en este sentido asume. | M52: CUMPLE | O52: 19
A53: EMPRENDIMIENTO MUJERES
A54: Para que el Proponente obtenga este puntaje debe diligenciar el Formato 12 – Acreditación de emprendimientos y empresas de mujeres y aportar la documentación requerida. Tratándose de Proponentes Plurales este puntaje solo se otorgará si por lo menos uno de los integrantes acredita la calidad de emprendimientos y empresas de mujeres y tiene una participación igual o superior al diez por ciento (10 %) en el Consorcio o en la Unión Temporal. | M54: CUMPLE | O54: 0.25
A55: MiPYME
A56: Así las cosas, para obtener el puntaje, el Proponente entregará copia del certificado del Registro Único de Proponentes, el cual deberá encontrarse vigente y en firme al momento de su presentación Tratándose de Proponentes Plurales este puntaje se otorgará si por lo menos uno de los integrantes acredita la calidad de Mipyme y tiene una participación igual o superior al diez por ciento (10 %) en el Consorcio o en la Unión Temporal | M56: CUMPLE | O56: 0.25
A57: OBRAS CIVILES INCONCLUSAS
A58: Las Entidades Estatales deben consultar y analizar las anotaciones vigentes que reposen en el Registro Nacional de Obras Civiles Inconclusas, de que trata la Ley 2020 de 2020. En el evento que las personas naturales o jurídicas, nacionales o extranjeras domiciliadas o con sucursal en Colombia, o integrantes de Proponentes Plurales, cuenten con alguna anotación vigente de obra civil inconclusa, en el mencionado registro, se descontará un (1) punto de la sumatoria obtenida en relación con el factor de calidad. En todo caso, no se descontará el puntaje en los términos previstos en el inciso anterior cuando el Proponente no oferte el factor de calidad, por lo que éste obtendrá cero (0) puntos en este criterio de evaluación. En esta circunstancia, la Entidad no podrá reducir el puntaje de la sumatoria obtenida en los demás factores de ponderación. | O58: 0
A59: CUMPLE / NO CUMPLE | I59: CUMPLE | V59: 1995 | W59: 118934
A60: EVALUACION FINAL | I60: CUMPLE | M60: =+O56+O54+O52+M50+M44+O58 -> 39.5 | V60: 1994 | W60: 98700
A61: Observaciones: | V61: 1993 | W61: 81510
V62: 1992 | W62: 65190
V63: 1991 | W63: 51720
V64: 1990 | W64: 41025
A75: 4038010590 | C75: REALIZAR EL MANTENIMIENTO DE LA INFRAESTRUCTURA FÍSICA LADO AIRE DEL AEROPUERTO VÁSQUEZ COBO DE LA CIUDAD DE LETICIA (VF)

Sheet 4
A1: UNIDAD ADMINISTRATIVA ESPECIAL DE AERONAUTICA CIVIL | U1: 1 | V1: 20 | W1: 5
A2: 23001258 H4 2023 | Q2: SI | R2: CUMPLE | U2: 0 | V2: 5 | W2: 0
A3: REALIZAR EL MANTENIMIENTO DE LA INFRAESTRUCTURA FÍSICA LADO AIRE DEL AEROPUERTO VÁSQUEZ COBO DE LA CIUDAD DE LETICIA (VF) | Q3: NO | R3: NO CUMPLE | V3: 0
A4: 4 | B4: =_xlfn.XLOOKUP(A4,RESUMEN!$A$3:$A$9,RESUMEN!$B$3:$B$9) -> AIR LETICIA 2024 | F4: % PO | I4: APORTANTE DE LA EXPERIENCIA - GENERAL | P4: =+I4 -> APORTANTE DE LA EXPERIENCIA - GENERAL | R4: 10
I5: CQK CONSTRUCCIONES S.A.S. | O5: 0.1 | P5: =+I7 -> 0 | R5: 0
I6: CONSTRUCTORA SAN MARINO S.A.S. | O6: 0.9 | P6: =+I6 -> CONSTRUCTORA SAN MARINO S.A.S.
P7: =+#REF! -> #REF!
F8: De 1 hasta 2 | H8: 0.75 | P8: =+I8 -> 0
F9: De 3 hasta 4 | H9: 1.2 | P9: =+I9 -> 0
F10: Hasta 5 | H10: 1.5 | I10: TOTAL | O10: =+SUM(O5:O9) -> 1
A11: CODIGOS | B11: 72101500 72141000 72141100 72151500 72154100 72102900 72103300 | C11: PRESUPUESTO A EVALUAR (P.O) | I11: 4038010590 | J11: PO SMMLV | M11: =I11/W13 -> 3106.162 | R11: Registro Nacional de Obras Civiles Inconclusas
A13: REQUISITOS HABILITANTES (CUMPLE /NO CUMPLE) | V13: 2024 | W13: 1300000
A14: EXPERIENCIA GENERAL PROPONENTE
A15: OBRAS DE CONSTRUCCIÓN O RECONSTRUCCIÓN O AMPLIACIÓN O MEJORAMIENTO O MANTENIMIENTO O REHABILITACIÓN O CONSERVACIÓN DE: CARRETERAS PRIMARIAS O PISTAS DE AERODROMOS O CALLES DE RODAJE DE AERODROMOS O PLATAFORMAS DE AERÓDROMOS, DICHAS OBRAS DEBEN CONTENER LA EJECUCION DE PAVIMENTO ASFALTICO O PAVIMENTO EN CONCRETO HIDRÁULICO | V15: 2023 | W15: 1160000
A16: % PO | B16: CTO´S | C16: No. CONSECUTIVO EN EL RUP | D16: CONTRATANTE | E16: INFO DEL CONTRATO | F16: PRESENTA DOCUMENTOS ENLISTADOS | G16: CUMPLE CODIGOS 72101500 72141000 72141100 72151500 72154100 72102900 72103300 | H16: CUMPLE EXPERIENCIA? | I16: QUIEN APORTA LA EXPERIENCIA? | J16: AÑO DE TERMINACION DEL CONTRATO | K16: VALOR TOTAL EN PESOS | L16: VALOR TOTAL SMMLV - RUP | M16: % PARTICIPACION | N16: VALOR TOTAL AFECTADO | O16: CUMPLE / NO CUMPLE | V16: 2022 | W16: 1000000
A17: =+M11*H8 -> 2329.6215 | B17: CTO 1 | C17: CONTRATO 30 CONSTRUCTORA SAN MARINO S.A.S. | D17: UNIDAD ADMINISTRATIVA ESPECIAL DE AERONAUTICACIVIL | E17: MANTENIMIENTO DE LA PISTA DEL AEROPUERTO DE PROVIDENCIA ISLA | F17: SI | G17: SI | H17: SI | I17: CONSTRUCTORA SAN MARINO S.A.S. | J17: 38468 | K17: =L17*W47 -> 1368360385 | L17: 3586.79 | M17: 0.8 | N17: =L17*M17 -> 2869.432 | O17: =+IF(AND(H17="SI",G17="SI"),"CUMPLE","NO CUMPLE") -> CUMPLE | R17: =+N17/A17 -> 1.231716 | V17: 2021 | W17: 908526
B18: CTO 2 | N18: =L18*M18 -> 0 | O18: =+IF(AND(H18="SI",G18="SI"),"CUMPLE","NO CUMPLE") -> NO CUMPLE | R18: =+(N18+N19)/A17 -> 0
B19: CTO 3 | N19: =L19*M19 -> 0 | O19: =+IF(AND(H19="SI",G19="SI"),"CUMPLE","NO CUMPLE") -> NO CUMPLE | V19: 2020 | W19: 877803
B20: CTO 4 | N20: =IF(AND(G20="SI",H20="SI"),(L20*M20),0) -> 0 | O20: =+IF(AND(H20="SI",G20="SI"),"CUMPLE","NO CUMPLE") -> NO CUMPLE | V20: 2019 | W20: 828116
B21: CTO 5 | N21: =IF(AND(G21="SI",H21="SI"),(L21*M21),0) -> 0 | O21: =+IF(AND(H21="SI",G21="SI"),"CUMPLE","NO CUMPLE") -> NO CUMPLE | V21: 2018 | W21: 781242
B22: CTO 6 | N22: =IF(AND(G22="SI",H22="SI"),(L22*M22),0) -> 0 | O22: =+IF(AND(H22="SI",G22="SI"),"CUMPLE","NO CUMPLE") -> NO CUMPLE | V22: 2017 | W22: 737717
N23: =SUM(N17:N22) -> 2869.432 | O23: =+IF(OR(O18="CUMPLE",O22="CUMPLE",O21="CUMPLE",O20="CUMPLE",O19="CUMPLE",O17="CUMPLE")*AND(N23>=A17),"CUMPLE","NO CUMPLE") -> CUMPLE | V23: 2015 | W23: 644350
A24: EVALUACION EXPERIENCIA GENERAL PROPONENTE | V24: 2014 | W24: 616000
A25: EXPERIENCIA ESPECIFICA PROPONENTE | T25: =1949500000+6451200000 -> 8400700000 | V25: 2007 | W25: 433700
A26: OBRAS DE CONSTRUCCIÓN O RECONSTRUCCIÓN O AMPLIACIÓN O MEJORAMIENTO O MANTENIMIENTO O REHABILITACIÓN O CONSERVACIÓN DE: PISTAS DE AERODROMOS O CALLES DE RODAJE DE AERODROMOS O PLATAFORMAS DE AERÓDROMOS, DICHAS OBRAS DEBEN CONTENER LA EJECUCION DE PAVIMENTO ASFALTICO O PAVIMENTO EN CONCRETO HIDRÁULICO, cuyo valor sea igual o mayor al 50% del valor del PRESUPUESTO OFICIAL (PO) del presente Proceso de Contratación. | S26: =+T26*0.9 -> 17432.857 | T26: =+T25/W25 -> 19369.841 | V26: 2023 | W26: 1160000
A27: 50% PO | B27: CTO´S | C27: No. CONSECUTIVO EN EL RUP | D27: CONTRATANTE | E27: INFO DEL CONTRATO | F27: PRESENTA DOCUMENTOS ENLISTADOS | G27: CUMPLE CODIGOS 72101500 72141000 72141100 72151500 72154100 72102900 72103300 | H27: CUMPLE EXPERIENCIA? | I27: QUIEN APORTA LA EXPERIENCIA? | J27: AÑO DE TERMINACION DEL CONTRATO | K27: VALOR TOTAL EN PESOS | L27: VALOR TOTAL SMMLV - RUP | M27: % PARTICIPACION | N27: VALOR TOTAL AFECTADO | O27: CUMPLE / NO CUMPLE | R27: =#REF!/2 -> #REF! | S27: 50% PO | V27: 2022 | W27: 1000000
A28: =M11*50% -> 1553.081 | B28: CTO 1 | C28: CONTRATO 30 CONSTRUCTORA SAN MARINO S.A.S. | D28: UNIDAD ADMINISTRATIVA ESPECIAL DE AERONAUTICACIVIL | E28: MANTENIMIENTO DE LA PISTA DEL AEROPUERTO DE PROVIDENCIA ISLA | F28: SI | G28: SI | H28: SI | I28: CONSTRUCTORA SAN MARINO S.A.S. | J28: 38468 | K28: =L28*W58 -> 0 | L28: 3586.79 | M28: 0.8 | N28: =L28*M28 -> 2869.432 | O28: =+IF(AND(H28="SI",G28="SI"),"CUMPLE","NO CUMPLE") -> CUMPLE
B29: CTO 2 | N29: =L29*M29 -> 0 | O29: =+IF(AND(H29="SI",G29="SI"),"CUMPLE","NO CUMPLE") -> NO CUMPLE | R29: =+IF(OR(O29="CUMPLE")*AND(N29>=$R$16),"CUMPLE","NO CUMPLE") -> NO CUMPLE | V29: 2021 | W29: 908526
V30: 2015 | W30: 644350
A31: EVALUACION OFERTA ECONOMICA | N31: =SUM(N28:N29) -> 2869.432 | O31: =+IF(OR(O29="CUMPLE",O28="CUMPLE")*AND(N31>=A28),"CUMPLE","NO CUMPLE") -> CUMPLE | V31: 2014 | W31: 616000
L33: PUNTAJE ASIGNADO | N33: 0 | O33: =O31 -> CUMPLE | V33: 2014 | W33: 616000
V34: 2012 | W34: 566700
V35: 2011 | W35: 535600
V36: 2010 | W36: 515000
V37: 2002 | W37: 309000
A38: EVALUACIÓN APOYO A LA INDUSTRIA NACIONAL( MAX 20 PUNTOS) NUMERAL 4.3. | V38: 2001 | W38: 286000
A39: SERVICIOS NACIONALES | C39: Para que el proponente obtenga puntaje por servicios nacionales debe presentar: A. Persona natural colombiana: La cédula de ciudadanía del proponente. B. Persona natural extranjera residente en Colombia: La visa de residencia que le permita la ejecución del objeto contractual de conformidad con la ley. C. Persona jurídica constituida en Colombia: el certificado de existencia y representación legal emitido por las Cámaras de Comercio. | M39: PUNTAJE ASIGNADO | V39: 2000 | W39: 260100
M40: CUMPLE | V40: 1999 | W40: 236438
V41: 1998 | W41: 203825
V42: 1997 | W42: 172005
A43: PROPONENTE EXTRANJERO PUNTAJE POR TRATO NACIONAL | C43: Para que el proponente extranjero obtenga puntaje por trato nacional debe acreditar que los servicios son originarios de los estados mencionados en la sección de acuerdos comerciales aplicables al presente proceso de contratación, información que se acreditará con los documentos que aporte el proponente extranjero para acreditar su domicilio. Para asignar el puntaje por servicios nacionales o por trato nacional el proponente nacional o extranjero con trato nacional no deben presentar el Formato 7 – Puntaje de Industria Nacional. Únicamente deberán presentar los documentos señalados en esta sección. | V43: 1996 | W43: 142125
M44: 20 | V44: 1996 | W44: 142125
C45: NOTA: La entidad asignará veinte (20) puntos a un proponente plural cuando todos sus integrantes cumplan con las anteriores condiciones. Cuando uno de sus integrantes no cumpla con las condiciones descritas no obtendrá puntaje por servicios nacionales o trato Nacional. El Formato 7 – Puntaje de Industria Nacional únicamente debe ser aportado por los proponentes extranjeros sin derecho a trato nacional que opten por incorporar personal calificado. En el evento que un proponente nacional o extranjero con trato nacional lo presente, no será una razón para no otorgar el puntaje de promoción de servicios nacionales o con trato nacional. | V45: 1996 | W45: 142125
V46: 2009 | W46: 496900
A47: EVALUACIÓN VINCULACIÓN DE PERSONAS CON DISCAPACIDAD. (MAX 1 PUNTO) NUMERAL 4.4. | V47: 2005 | W47: 381500
A48: La entidad asignará un (1) punto al proponente que acredite el número mínimo de personas con discapacidad de acuerdo con el número total de trabajadores de la planta de su personal en los términos señalados en el artículo 2.2.1.2.4.2.6. del Decreto 1082 de 2015 (adicionado por el Decreto 392 de 2018). | M48: PUNTAJE ASIGNADO | V48: 2004 | W48: 358000
A49: Para esto debe presentar: i) el Formato 6 – Vinculación de personas en condición de discapacidad suscrito por la persona natural, el representante legal o el revisor fiscal, según corresponda en el cual certifique el número total de trabajadores vinculados a la planta de personal del proponente o sus integrantes a la fecha de cierre del proceso de selección, ii) acreditar el número mínimo de personas con discapacidad en su planta de personal, de conformidad con lo señalado en el certificado expedido por el Ministerio de Trabajo, el cual deberá estar vigente a la fecha de cierre del proceso de selección. | M49: CUMPLE | V49: 2003 | W49: 332000
A50: Para los proponentes plurales, la entidad tendrá en cuenta la planta de personal del integrante del proponente plural que aporte como mínimo el cuarenta por ciento (40%) de la experiencia requerida para el proceso de contratación. Este porcentaje de experiencia se tomará sobre el “Valor mínimo a certificar (como % del presupuesto oficial expresado en SMMLV)” de conformidad con el numeral 3.8.1, sin importar si la experiencia es general o específica. | M50: 1 | V50: 2003 | W50: 332000
A51: FACTOR DE CALIDAD (19 PTS)
A52: (i) implementación del programa de gerencia de proyectos (19) La entidad asignará 19 puntos, al proponente que se comprometa a instaurar un programa de gerencia de proyectos mediante la suscripción del Formato 7A – Programa de gerencia de proyectos, en el cual bajo la gravedad de juramento conste el compromiso que en este sentido asume. | M52: CUMPLE | O52: 19
A53: EMPRENDIMIENTO MUJERES
A54: Para que el Proponente obtenga este puntaje debe diligenciar el Formato 12 – Acreditación de emprendimientos y empresas de mujeres y aportar la documentación requerida. Tratándose de Proponentes Plurales este puntaje solo se otorgará si por lo menos uno de los integrantes acredita la calidad de emprendimientos y empresas de mujeres y tiene una participación igual o superior al diez por ciento (10 %) en el Consorcio o en la Unión Temporal. | M54: CUMPLE | O54: 0.25
A55: MiPYME
A56: Así las cosas, para obtener el puntaje, el Proponente entregará copia del certificado del Registro Único de Proponentes, el cual deberá encontrarse vigente y en firme al momento de su presentación Tratándose de Proponentes Plurales este puntaje se otorgará si por lo menos uno de los integrantes acredita la calidad de Mipyme y tiene una participación igual o superior al diez por ciento (10 %) en el Consorcio o en la Unión Temporal | M56: CUMPLE | O56: 0.25
A57: OBRAS CIVILES INCONCLUSAS
A58: Las Entidades Estatales deben consultar y analizar las anotaciones vigentes que reposen en el Registro Nacional de Obras Civiles Inconclusas, de que trata la Ley 2020 de 2020. En el evento que las personas naturales o jurídicas, nacionales o extranjeras domiciliadas o con sucursal en Colombia, o integrantes de Proponentes Plurales, cuenten con alguna anotación vigente de obra civil inconclusa, en el mencionado registro, se descontará un (1) punto de la sumatoria obtenida en relación con el factor de calidad. En todo caso, no se descontará el puntaje en los términos previstos en el inciso anterior cuando el Proponente no oferte el factor de calidad, por lo que éste obtendrá cero (0) puntos en este criterio de evaluación. En esta circunstancia, la Entidad no podrá reducir el puntaje de la sumatoria obtenida en los demás factores de ponderación. | O58: 0
A59: CUMPLE / NO CUMPLE | I59: CUMPLE | V59: 1995 | W59: 118934
A60: EVALUACION FINAL | I60: CUMPLE | M60: =+O56+O54+O52+M50+M44+O58 -> 40.5 | V60: 1994 | W60: 98700
A61: Observaciones: | V61: 1993 | W61: 81510
V62: 1992 | W62: 65190
V63: 1991 | W63: 51720
V64: 1990 | W64: 41025
A75: 4038010590 | C75: REALIZAR EL MANTENIMIENTO DE LA INFRAESTRUCTURA FÍSICA LADO AIRE DEL AEROPUERTO VÁSQUEZ COBO DE LA CIUDAD DE LETICIA (VF)

Sheet 5
A1: UNIDAD ADMINISTRATIVA ESPECIAL DE AERONAUTICA CIVIL | U1: 1 | V1: 20 | W1: 5
A2: 23001258 H4 2023 | Q2: SI | R2: CUMPLE | U2: 0 | V2: 5 | W2: 0
A3: REALIZAR EL MANTENIMIENTO DE LA INFRAESTRUCTURA FÍSICA LADO AIRE DEL AEROPUERTO VÁSQUEZ COBO DE LA CIUDAD DE LETICIA (VF) | Q3: NO | R3: NO CUMPLE | V3: 0
A4: 5 | B4: =_xlfn.XLOOKUP(A4,RESUMEN!$A$3:$A$9,RESUMEN!$B$3:$B$9) -> CONSORCIO CALIDAD LETICIA 2024 | F4: % PO | I4: APORTANTE DE LA EXPERIENCIA - GENERAL | P4: =+I4 -> APORTANTE DE LA EXPERIENCIA - GENERAL | R4: 10
I5: CONSULTORIA Y CONSTRUCCIONES DARLEV SAS | O5: 0.7 | P5: =+I7 -> 0 | R5: 0
I6: CALING SAS | O6: 0.3 | P6: =+I6 -> CALING SAS
P7: =+#REF! -> #REF!
F8: De 1 hasta 2 | H8: 0.75 | P8: =+I8 -> 0
F9: De 3 hasta 4 | H9: 1.2 | P9: =+I9 -> 0
F10: Hasta 5 | H10: 1.5 | I10: TOTAL | O10: =+SUM(O5:O9) -> 1
A11: CODIGOS | B11: 72101500 72141000 72141100 72151500 72154100 72102900 72103300 | C11: PRESUPUESTO A EVALUAR (P.O) | I11: 4038010590 | J11: PO SMMLV | M11: =I11/W13 -> 3106.162 | R11: Registro Nacional de Obras Civiles Inconclusas
A13: REQUISITOS HABILITANTES (CUMPLE /NO CUMPLE) | V13: 2024 | W13: 1300000
A14: EXPERIENCIA GENERAL PROPONENTE
A15: OBRAS DE CONSTRUCCIÓN O RECONSTRUCCIÓN O AMPLIACIÓN O MEJORAMIENTO O MANTENIMIENTO O REHABILITACIÓN O CONSERVACIÓN DE: CARRETERAS PRIMARIAS O PISTAS DE AERODROMOS O CALLES DE RODAJE DE AERODROMOS O PLATAFORMAS DE AERÓDROMOS, DICHAS OBRAS DEBEN CONTENER LA EJECUCION DE PAVIMENTO ASFALTICO O PAVIMENTO EN CONCRETO HIDRÁULICO | V15: 2023 | W15: 1160000
A16: % PO | B16: CTO´S | C16: No. CONSECUTIVO EN EL RUP | D16: CONTRATANTE | E16: INFO DEL CONTRATO | F16: PRESENTA DOCUMENTOS ENLISTADOS | G16: CUMPLE CODIGOS 72101500 72141000 72141100 72151500 72154100 72102900 72103300 | H16: CUMPLE EXPERIENCIA? | I16: QUIEN APORTA LA EXPERIENCIA? | J16: AÑO DE TERMINACION DEL CONTRATO | K16: VALOR TOTAL EN PESOS | L16: VALOR TOTAL SMMLV - RUP | M16: % PARTICIPACION | N16: VALOR TOTAL AFECTADO | O16: CUMPLE / NO CUMPLE | V16: 2022 | W16: 1000000
A17: =+M11*H8 -> 2329.6215 | B17: CTO 1 | C17: CONTRATO 08 CONSULTORIA Y CONSTRUCCIONES SAS | D17: AERONAUTICA CIVIL | E17: CONTRATAR LAS OBRAS DE MANTENIMIEENTO PISTA EN EL AEROPUERTO ANTONIO NARIÑO DE PASTO PRIMERA ETAPA | F17: SI | G17: SI | H17: SI | I17: CONSULTORIA Y CONSTRUCCIONES SAS | J17: 41080 | K17: 2020465993 | L17: =K17/566700 -> 3565.3185 | M17: 0.25 | N17: =L17*M17 -> 891.32962 | O17: =+IF(AND(H17="SI",G17="SI"),"CUMPLE","NO CUMPLE") -> CUMPLE | R17: =+(N17+N19+N21)/A17 -> 0.80084002 | V17: 2021 | W17: 908526
C18: CONTRATO 63 CALINGG SAS | F18: SI | G18: SI | H18: SI | I18: CALINGG SAS | M18: 0.2 | N18: =L17*M18 -> 713.0637 | O18: =+IF(AND(H18="SI",G18="SI"),"CUMPLE","NO CUMPLE") -> CUMPLE | R18: =+N18/A17 -> 0.30608565 | T18: 120701530
B19: CTO 2 | C19: CONTRATO 06 CONSULTORIA Y CONSTRUCCIONES SAS | D19: INSTITUTO NACIONAL DE VIAS | E19: MEJORAMIENTO Y MANTENIMIENTO DE LAS CARRETERAS PUENTE REAL PR40+050 RUTA 40CNB PASO POR CHIPAQUE RUTA 40CNB Y EL PORTAL - EL ANTOJO RUTA 40CN01 DEPARTAMENTO DE CUNDINAMARCA | F19: SI | G19: SI | H19: SI | I19: CONSULTORIA Y CONSTRUCCIONES SAS | J19: 40571 | K19: 1.3046205e+09 | L19: =K19/535600 -> 2435.8113 | M19: 0.4 | N19: =L19*M19 -> 974.32451 | O19: =+IF(AND(H19="SI",G19="SI"),"CUMPLE","NO CUMPLE") -> CUMPLE | S19: =+K19/L19 -> 535600 | T19: =+T18/S19 -> 225.3576 | V19: 2020 | W19: 877803
B20: CTO 4 | N20: =L19*M20 -> 0 | O20: =+IF(AND(H20="SI",G20="SI"),"CUMPLE","NO CUMPLE") -> NO CUMPLE | R20: =+N20/A17 -> 0 | T20: =870000000+85105216+1552307270+617918154+295489219 -> 3420819859 | V20: 2019 | W20: 828116
B21: CTO 5 | N21: =L21*M21 -> 0 | O21: =+IF(AND(H21="SI",G21="SI"),"CUMPLE","NO CUMPLE") -> NO CUMPLE | S21: =+K21/L21 -> #DIV/0! | T21: =+T20/S21 -> #DIV/0! | V21: 2018 | W21: 781242
B22: CTO 6 | N22: =IF(AND(G22="SI",H22="SI"),(L22*M22),0) -> 0 | O22: =+IF(AND(H22="SI",G22="SI"),"CUMPLE","NO CUMPLE") -> NO CUMPLE | R22: =+N22/A17 -> 0 | V22: 2017 | W22: 737717
N23: =SUM(N17:N22) -> 2578.7178 | O23: =+IF(OR(O18="CUMPLE",O22="CUMPLE",O21="CUMPLE",O20="CUMPLE",O19="CUMPLE",O17="CUMPLE")*AND(N23>=A17),"CUMPLE","NO CUMPLE") -> CUMPLE | V23: 2015 | W23: 644350
A24: EVALUACION EXPERIENCIA GENERAL PROPONENTE | V24: 2014 | W24: 616000
A25: EXPERIENCIA ESPECIFICA PROPONENTE | V25: 2007 | W25: 433700
A26: OBRAS DE CONSTRUCCIÓN O RECONSTRUCCIÓN O AMPLIACIÓN O MEJORAMIENTO O MANTENIMIENTO O REHABILITACIÓN O CONSERVACIÓN DE: PISTAS DE AERODROMOS O CALLES DE RODAJE DE AERODROMOS O PLATAFORMAS DE AERÓDROMOS, DICHAS OBRAS DEBEN CONTENER LA EJECUCION DE PAVIMENTO ASFALTICO O PAVIMENTO EN CONCRETO HIDRÁULICO, cuyo valor sea igual o mayor al 50% del valor del PRESUPUESTO OFICIAL (PO) del presente Proceso de Contratación. | V26: 2023 | W26: 1160000
A27: 50% PO | B27: CTO´S | C27: No. CONSECUTIVO EN EL RUP | D27: CONTRATANTE | E27: INFO DEL CONTRATO | F27: PRESENTA DOCUMENTOS ENLISTADOS | G27: CUMPLE CODIGOS 72101500 72141000 72141100 72151500 72154100 72102900 72103300 | H27: CUMPLE EXPERIENCIA? | I27: QUIEN APORTA LA EXPERIENCIA? | J27: AÑO DE TERMINACION DEL CONTRATO | K27: VALOR TOTAL EN PESOS | L27: VALOR TOTAL SMMLV - RUP | M27: % PARTICIPACION | N27: VALOR TOTAL AFECTADO | O27: CUMPLE / NO CUMPLE | V27: 2022 | W27: 1000000
A28: =M11*50% -> 1553.081 | B28: CTO 1 | C28: CONTRATO 08 CONSULTORIA Y CONSTRUCCIONES SAS | D28: AERONAUTICA CIVIL | E28: CONTRATAR LAS OBRAS DE MANTENIMIEENTO PISTA EN EL AEROPUERTO ANTONIO NARIÑO DE PASTO PRIMERA ETAPA | F28: SI | G28: SI | H28: SI | I28: CONSULTORIA Y CONSTRUCCIONES SAS | J28: 41080 | K28: 2020465993 | L28: =K28/566700 -> 3565.3185 | M28: 0.25 | N28: =L28*M28 -> 891.32962 | O28: =+IF(AND(H28="SI",G28="SI"),"CUMPLE","NO CUMPLE") -> CUMPLE
C29: CONTRATO 63 CALINGG SAS | F29: SI | G29: SI | H29: SI | I29: CALINGG SAS | M29: 0.2 | N29: =L28*M29 -> 713.0637 | O29: =+IF(AND(H29="SI",G29="SI"),"CUMPLE","NO CUMPLE") -> CUMPLE | R29: =+IF(OR(O29="CUMPLE")*AND(N29>=$R$16),"CUMPLE","NO CUMPLE") -> CUMPLE | V29: 2021 | W29: 908526
V30: 2015 | W30: 644350
A31: EVALUACION OFERTA ECONOMICA | N31: =SUM(N28:N29) -> 1604.3933 | O31: =+IF(OR(O29="CUMPLE",O28="CUMPLE")*AND(N31>=A28),"CUMPLE","NO CUMPLE") -> CUMPLE | V31: 2014 | W31: 616000
L33: PUNTAJE ASIGNADO | N33: 0 | O33: =O31 -> CUMPLE | V33: 2014 | W33: 616000
V34: 2012 | W34: 566700
V35: 2011 | W35: 535600
V36: 2010 | W36: 515000
V37: 2002 | W37: 309000
A38: EVALUACIÓN APOYO A LA INDUSTRIA NACIONAL( MAX 20 PUNTOS) NUMERAL 4.3. | V38: 2001 | W38: 286000
A39: SERVICIOS NACIONALES | C39: Para que el proponente obtenga puntaje por servicios nacionales debe presentar: A. Persona natural colombiana: La cédula de ciudadanía del proponente. B. Persona natural extranjera residente en Colombia: La visa de residencia que le permita la ejecución del objeto contractual de conformidad con la ley. C. Persona jurídica constituida en Colombia: el certificado de existencia y representación legal emitido por las Cámaras de Comercio. | M39: PUNTAJE ASIGNADO | V39: 2000 | W39: 260100
M40: CUMPLE | V40: 1999 | W40: 236438
V41: 1998 | W41: 203825
V42: 1997 | W42: 172005
A43: PROPONENTE EXTRANJERO PUNTAJE POR TRATO NACIONAL | C43: Para que el proponente extranjero obtenga puntaje por trato nacional debe acreditar que los servicios son originarios de los estados mencionados en la sección de acuerdos comerciales aplicables al presente proceso de contratación, información que se acreditará con los documentos que aporte el proponente extranjero para acreditar su domicilio. Para asignar el puntaje por servicios nacionales o por trato nacional el proponente nacional o extranjero con trato nacional no deben presentar el Formato 7 – Puntaje de Industria Nacional. Únicamente deberán presentar los documentos señalados en esta sección. | V43: 1996 | W43: 142125
M44: 20 | V44: 1996 | W44: 142125
C45: NOTA: La entidad asignará veinte (20) puntos a un proponente plural cuando todos sus integrantes cumplan con las anteriores condiciones. Cuando uno de sus integrantes no cumpla con las condiciones descritas no obtendrá puntaje por servicios nacionales o trato Nacional. El Formato 7 – Puntaje de Industria Nacional únicamente debe ser aportado por los proponentes extranjeros sin derecho a trato nacional que opten por incorporar personal calificado. En el evento que un proponente nacional o extranjero con trato nacional lo presente, no será una razón para no otorgar el puntaje de promoción de servicios nacionales o con trato nacional. | V45: 1996 | W45: 142125
V46: 2009 | W46: 496900
A47: EVALUACIÓN VINCULACIÓN DE PERSONAS CON DISCAPACIDAD. (MAX 1 PUNTO) NUMERAL 4.4. | V47: 2005 | W47: 381500
A48: La entidad asignará un (1) punto al proponente que acredite el número mínimo de personas con discapacidad de acuerdo con el número total de trabajadores de la planta de su personal en los términos señalados en el artículo 2.2.1.2.4.2.6. del Decreto 1082 de 2015 (adicionado por el Decreto 392 de 2018). | M48: PUNTAJE ASIGNADO | V48: 2004 | W48: 358000
A49: Para esto debe presentar: i) el Formato 6 – Vinculación de personas en condición de discapacidad suscrito por la persona natural, el representante legal o el revisor fiscal, según corresponda en el cual certifique el número total de trabajadores vinculados a la planta de personal del proponente o sus integrantes a la fecha de cierre del proceso de selección, ii) acreditar el número mínimo de personas con discapacidad en su planta de personal, de conformidad con lo señalado en el certificado expedido por el Ministerio de Trabajo, el cual deberá estar vigente a la fecha de cierre del proceso de selección. | M49: CUMPLE | V49: 2003 | W49: 332000
A50: Para los proponentes plurales, la entidad tendrá en cuenta la planta de personal del integrante del proponente plural que aporte como mínimo el cuarenta por ciento (40%) de la experiencia requerida para el proceso de contratación. Este porcentaje de experiencia se tomará sobre el “Valor mínimo a certificar (como % del presupuesto oficial expresado en SMMLV)” de conformidad con el numeral 3.8.1, sin importar si la experiencia es general o específica. | M50: 1 | V50: 2003 | W50: 332000
A51: FACTOR DE CALIDAD (19 PTS)
A52: (i) implementación del programa de gerencia de proyectos (19) La entidad asignará 19 puntos, al proponente que se comprometa a instaurar un programa de gerencia de proyectos mediante la suscripción del Formato 7A – Programa de gerencia de proyectos, en el cual bajo la gravedad de juramento conste el compromiso que en este sentido asume. | M52: CUMPLE | O52: 19
A53: EMPRENDIMIENTO MUJERES
A54: Para que el Proponente obtenga este puntaje debe diligenciar el Formato 12 – Acreditación de emprendimientos y empresas de mujeres y aportar la documentación requerida. Tratándose de Proponentes Plurales este puntaje solo se otorgará si por lo menos uno de los integrantes acredita la calidad de emprendimientos y empresas de mujeres y tiene una participación igual o superior al diez por ciento (10 %) en el Consorcio o en la Unión Temporal. | M54: CUMPLE | O54: 0.25
A55: MiPYME
A56: Así las cosas, para obtener el puntaje, el Proponente entregará copia del certificado del Registro Único de Proponentes, el cual deberá encontrarse vigente y en firme al momento de su presentación Tratándose de Proponentes Plurales este puntaje se otorgará si por lo menos uno de los integrantes acredita la calidad de Mipyme y tiene una participación igual o superior al diez por ciento (10 %) en el Consorcio o en la Unión Temporal | M56: CUMPLE | O56: 0.25
A57: OBRAS CIVILES INCONCLUSAS
A58: Las Entidades Estatales deben consultar y analizar las anotaciones vigentes que reposen en el Registro Nacional de Obras Civiles Inconclusas, de que trata la Ley 2020 de 2020. En el evento que las personas naturales o jurídicas, nacionales o extranjeras domiciliadas o con sucursal en Colombia, o integrantes de Proponentes Plurales, cuenten con alguna anotación vigente de obra civil inconclusa, en el mencionado registro, se descontará un (1) punto de la sumatoria obtenida en relación con el factor de calidad. En todo caso, no se descontará el puntaje en los términos previstos en el inciso anterior cuando el Proponente no oferte el factor de calidad, por lo que éste obtendrá cero (0) puntos en este criterio de evaluación. En esta circunstancia, la Entidad no podrá reducir el puntaje de la sumatoria obtenida en los demás factores de ponderación. | O58: 0
A59: CUMPLE / NO CUMPLE | I59: CUMPLE | V59: 1995 | W59: 118934
A60: EVALUACION FINAL | I60: CUMPLE | M60: =+O56+O54+O52+M50+M44+O58 -> 40.5 | V60: 1994 | W60: 98700
A61: Observaciones: EL FORMATO No3 - "Experiencia - Documentos tipo de selección abreviada de menor cuantia de infraestructura del transporte - version 2" - el oferente no realiza el diligenciamiento del valor de los contratos anexos en pesos. Asi mismo se presenta el CTO 2 "CONTRATO 06 CONSULTORIA Y CONSTRUCCIONES SAS" como experiencia especifica, cuyo objeto contractual no cumple. | V61: 1993 | W61: 81510
V62: 1992 | W62: 65190
V63: 1991 | W63: 51720
V64: 1990 | W64: 41025
A75: 4038010590 | C75: REALIZAR EL MANTENIMIENTO DE LA INFRAESTRUCTURA FÍSICA LADO AIRE DEL AEROPUERTO VÁSQUEZ COBO DE LA CIUDAD DE LETICIA (VF)

Sheet 6
A1: UNIDAD ADMINISTRATIVA ESPECIAL DE AERONAUTICA CIVIL | U1: 1 | V1: 20 | W1: 5
A2: 23001258 H4 2023 | Q2: SI | R2: CUMPLE | U2: 0 | V2: 5 | W2: 0
A3: REALIZAR EL MANTENIMIENTO DE LA INFRAESTRUCTURA FÍSICA LADO AIRE DEL AEROPUERTO VÁSQUEZ COBO DE LA CIUDAD DE LETICIA (VF) | Q3: NO | R3: NO CUMPLE | V3: 0
A4: 6 | B4: =_xlfn.XLOOKUP(A4,RESUMEN!$A$3:$A$9,RESUMEN!$B$3:$B$9) -> CONSORCIO TARQUI | F4: % PO | I4: APORTANTE DE LA EXPERIENCIA - GENERAL | P4: =+I4 -> APORTANTE DE LA EXPERIENCIA - GENERAL | R4: 10
I5: Diego Mauricio Galán Echeverri | O5: 0.3333 | P5: =+I7 -> Luis Fernando Galán Echeverri | R5: 0
I6: Guillermo Andrés Galán Echeverri | O6: 0.3333 | P6: =+I6 -> Guillermo Andrés Galán Echeverri
I7: Luis Fernando Galán Echeverri | O7: 0.3334 | P7: =+#REF! -> #REF!
F8: De 1 hasta 2 | H8: 0.75 | P8: =+I8 -> 0
F9: De 3 hasta 4 | H9: 1.2 | P9: =+I9 -> 0
F10: Hasta 5 | H10: 1.5 | I10: TOTAL | O10: =+SUM(O5:O9) -> 1
A11: CODIGOS | B11: 72101500 72141000 72141100 72151500 72154100 72102900 72103300 | C11: PRESUPUESTO A EVALUAR (P.O) | I11: 4038010590 | J11: PO SMMLV | M11: =I11/W13 -> 3106.162 | R11: Registro Nacional de Obras Civiles Inconclusas
A13: REQUISITOS HABILITANTES (CUMPLE /NO CUMPLE) | V13: 2024 | W13: 1300000
A14: EXPERIENCIA GENERAL PROPONENTE
A15: OBRAS DE CONSTRUCCIÓN O RECONSTRUCCIÓN O AMPLIACIÓN O MEJORAMIENTO O MANTENIMIENTO O REHABILITACIÓN O CONSERVACIÓN DE: CARRETERAS PRIMARIAS O PISTAS DE AERODROMOS O CALLES DE RODAJE DE AERODROMOS O PLATAFORMAS DE AERÓDROMOS, DICHAS OBRAS DEBEN CONTENER LA EJECUCION DE PAVIMENTO ASFALTICO O PAVIMENTO EN CONCRETO HIDRÁULICO | V15: 2023 | W15: 1160000
A16: % PO | B16: CTO´S | C16: No. CONSECUTIVO EN EL RUP | D16: CONTRATANTE | E16: INFO DEL CONTRATO | F16: PRESENTA DOCUMENTOS ENLISTADOS | G16: CUMPLE CODIGOS 72101500 72141000 72141100 72151500 72154100 72102900 72103300 | H16: CUMPLE EXPERIENCIA? | I16: QUIEN APORTA LA EXPERIENCIA? | J16: AÑO DE TERMINACION DEL CONTRATO | K16: VALOR TOTAL EN PESOS | L16: VALOR TOTAL SMMLV - RUP | M16: % PARTICIPACION | N16: VALOR TOTAL AFECTADO | O16: CUMPLE / NO CUMPLE | V16: 2022 | W16: 1000000
A17: =+M11*H8 -> 2329.6215 | B17: CTO 1 | C17: 125 | D17: UNIDAD ADMINISTRATIVA ESPECIAL DE AERONAUTICA CIVIL-UAEAC | E17: MEJORAMIENTO DE LAS ZONAS DE SEGURIDAD DEL AEROPUERTO DE GUAYMARAL, MANTENIMIENTO DE LA PLATAFORMA DELA AEROPUERTO DE FLORENCIA, MANTENIMIENTO DE LA PISTA Y ZONAS DE SEGURIDAD DEL AEROPUERTO DE SAN VICENTE DEL CAGUAN Y MANTENIMIENTO DE LA PISTA DEL AEROPUERTO DE MITU | F17: SI | G17: si | H17: si | I17: JOSE GUILLERMO GALAN GOMEZ (35%) | J17: 43024 | K17: 15168492790 | L17: 20561.39 | M17: 0.35 | N17: =$L$17*SUM(M17:M17) -> 7196.4865 | O17: =+IF(AND(H17="SI",G17="SI"),"CUMPLE","NO CUMPLE") -> CUMPLE | R17: =+((N17*M17)+N18)/A17 -> 2.7451145 | V17: 2021 | W17: 908526
B18: CTO 2 | C18: 92 | D18: MUNICIPIO DE COTA | E18: MEJORAMIENTO Y REHABILITACIÓN DEL SEGMENTO VIAL VARIANTE COTA CHÍA EN EL MUNICIPIO DE COTA CUNDINAMARCA | F18: SI | G18: si | H18: si | I18: INGENIERÍA DE PROYECTOS AML (75%) | J18: 44899 | K18: 5169750725 | L18: 5168.41 | M18: 0.75 | N18: =L18*M18 -> 3876.3075 | O18: =+IF(AND(H18="SI",G18="SI"),"CUMPLE","NO CUMPLE") -> CUMPLE
B19: CTO 3 | N19: =L19*M19 -> 0 | O19: =+IF(AND(H19="SI",G19="SI"),"CUMPLE","NO CUMPLE") -> NO CUMPLE | V19: 2020 | W19: 877803
B20: CTO 4 | N20: =IF(AND(G20="SI",H20="SI"),(L20*M20),0) -> 0 | O20: =+IF(AND(H20="SI",G20="SI"),"CUMPLE","NO CUMPLE") -> NO CUMPLE | R20: =+N20/A17 -> 0 | V20: 2019 | W20: 828116
B21: CTO 5 | N21: =IF(AND(G21="SI",H21="SI"),(L21*M21),0) -> 0 | O21: =+IF(AND(H21="SI",G21="SI"),"CUMPLE","NO CUMPLE") -> NO CUMPLE | V21: 2018 | W21: 781242
B22: CTO 6 | N22: =IF(AND(G22="SI",H22="SI"),(L22*M22),0) -> 0 | O22: =+IF(AND(H22="SI",G22="SI"),"CUMPLE","NO CUMPLE") -> NO CUMPLE | V22: 2017 | W22: 737717
N23: =SUM(N17:N22) -> 11072.794 | O23: =+IF(OR(O18="CUMPLE",O22="CUMPLE",O21="CUMPLE",O20="CUMPLE",O19="CUMPLE",O17="CUMPLE")*AND(N23>=A17),"CUMPLE","NO CUMPLE") -> CUMPLE | V23: 2015 | W23: 644350
A24: EVALUACION EXPERIENCIA GENERAL PROPONENTE | V24: 2014 | W24: 616000
A25: EXPERIENCIA ESPECIFICA PROPONENTE | V25: 2007 | W25: 433700
A26: OBRAS DE CONSTRUCCIÓN O RECONSTRUCCIÓN O AMPLIACIÓN O MEJORAMIENTO O MANTENIMIENTO O REHABILITACIÓN O CONSERVACIÓN DE: PISTAS DE AERODROMOS O CALLES DE RODAJE DE AERODROMOS O PLATAFORMAS DE AERÓDROMOS, DICHAS OBRAS DEBEN CONTENER LA EJECUCION DE PAVIMENTO ASFALTICO O PAVIMENTO EN CONCRETO HIDRÁULICO, cuyo valor sea igual o mayor al 50% del valor del PRESUPUESTO OFICIAL (PO) del presente Proceso de Contratación. | V26: 2023 | W26: 1160000
A27: 50% PO | B27: CTO´S | C27: No. CONSECUTIVO EN EL RUP | D27: CONTRATANTE | E27: INFO DEL CONTRATO | F27: PRESENTA DOCUMENTOS ENLISTADOS | G27: CUMPLE CODIGOS 72101500 72141000 72141100 72151500 72154100 72102900 72103300 | H27: CUMPLE EXPERIENCIA? | I27: QUIEN APORTA LA EXPERIENCIA? | J27: AÑO DE TERMINACION DEL CONTRATO | K27: VALOR TOTAL EN PESOS | L27: VALOR TOTAL SMMLV - RUP | M27: % PARTICIPACION | N27: VALOR TOTAL AFECTADO | O27: CUMPLE / NO CUMPLE | V27: 2022 | W27: 1000000
A28: =M11*50% -> 1553.081 | B28: CTO 1 | C28: 125 | D28: UNIDAD ADMINISTRATIVA ESPECIAL DE AERONAUTICA CIVIL-UAEAC | E28: MEJORAMIENTO DE LAS ZONAS DE SEGURIDAD DEL AEROPUERTO DE GUAYMARAL, MANTENIMIENTO DE LA PLATAFORMA DELA AEROPUERTO DE FLORENCIA, MANTENIMIENTO DE LA PISTA Y ZONAS DE SEGURIDAD DEL AEROPUERTO DE SAN VICENTE DEL CAGUAN Y MANTENIMIENTO DE LA PISTA DEL AEROPUERTO DE MITU | F28: SI | G28: si | H28: si | I28: JOSE GUILLERMO GALAN GOMEZ (35%) | J28: 43024 | K28: 15168492790 | L28: 20561.39 | M28: 0.35 | N28: =L28*M28 -> 7196.4865 | O28: =+IF(AND(H28="SI",G28="SI"),"CUMPLE","NO CUMPLE") -> CUMPLE
B29: CTO 2 | N29: =L29*M29 -> 0 | O29: =+IF(AND(H29="SI",G29="SI"),"CUMPLE","NO CUMPLE") -> NO CUMPLE | R29: =+IF(OR(O29="CUMPLE")*AND(N29>=$R$16),"CUMPLE","NO CUMPLE") -> NO CUMPLE | V29: 2021 | W29: 908526
V30: 2015 | W30: 644350
A31: EVALUACION OFERTA ECONOMICA | N31: =SUM(N28:N29) -> 7196.4865 | O31: =+IF(OR(O29="CUMPLE",O28="CUMPLE")*AND(N31>=A28),"CUMPLE","NO CUMPLE") -> CUMPLE | V31: 2014 | W31: 616000
L33: PUNTAJE ASIGNADO | N33: 0 | O33: =O31 -> CUMPLE | V33: 2014 | W33: 616000
V34: 2012 | W34: 566700
V35: 2011 | W35: 535600
V36: 2010 | W36: 515000
V37: 2002 | W37: 309000
A38: EVALUACIÓN APOYO A LA INDUSTRIA NACIONAL( MAX 20 PUNTOS) NUMERAL 4.3. | V38: 2001 | W38: 286000
A39: SERVICIOS NACIONALES | C39: Para que el proponente obtenga puntaje por servicios nacionales debe presentar: A. Persona natural colombiana: La cédula de ciudadanía del proponente. B. Persona natural extranjera residente en Colombia: La visa de residencia que le permita la ejecución del objeto contractual de conformidad con la ley. C. Persona jurídica constituida en Colombia: el certificado de existencia y representación legal emitido por las Cámaras de Comercio. | M39: PUNTAJE ASIGNADO | V39: 2000 | W39: 260100
M40: CUMPLE | V40: 1999 | W40: 236438
V41: 1998 | W41: 203825
V42: 1997 | W42: 172005
A43: PROPONENTE EXTRANJERO PUNTAJE POR TRATO NACIONAL | C43: Para que el proponente extranjero obtenga puntaje por trato nacional debe acreditar que los servicios son originarios de los estados mencionados en la sección de acuerdos comerciales aplicables al presente proceso de contratación, información que se acreditará con los documentos que aporte el proponente extranjero para acreditar su domicilio. Para asignar el puntaje por servicios nacionales o por trato nacional el proponente nacional o extranjero con trato nacional no deben presentar el Formato 7 – Puntaje de Industria Nacional. Únicamente deberán presentar los documentos señalados en esta sección. | V43: 1996 | W43: 142125
M44: 20 | V44: 1996 | W44: 142125
C45: NOTA: La entidad asignará veinte (20) puntos a un proponente plural cuando todos sus integrantes cumplan con las anteriores condiciones. Cuando uno de sus integrantes no cumpla con las condiciones descritas no obtendrá puntaje por servicios nacionales o trato Nacional. El Formato 7 – Puntaje de Industria Nacional únicamente debe ser aportado por los proponentes extranjeros sin derecho a trato nacional que opten por incorporar personal calificado. En el evento que un proponente nacional o extranjero con trato nacional lo presente, no será una razón para no otorgar el puntaje de promoción de servicios nacionales o con trato nacional. | V45: 1996 | W45: 142125
V46: 2009 | W46: 496900
A47: EVALUACIÓN VINCULACIÓN DE PERSONAS CON DISCAPACIDAD. (MAX 1 PUNTO) NUMERAL 4.4. | V47: 2005 | W47: 381500
A48: La entidad asignará un (1) punto al proponente que acredite el número mínimo de personas con discapacidad de acuerdo con el número total de trabajadores de la planta de su personal en los términos señalados en el artículo 2.2.1.2.4.2.6. del Decreto 1082 de 2015 (adicionado por el Decreto 392 de 2018). | M48: PUNTAJE ASIGNADO | V48: 2004 | W48: 358000
A49: Para esto debe presentar: i) el Formato 6 – Vinculación de personas en condición de discapacidad suscrito por la persona natural, el representante legal o el revisor fiscal, según corresponda en el cual certifique el número total de trabajadores vinculados a la planta de personal del proponente o sus integrantes a la fecha de cierre del proceso de selección, ii) acreditar el número mínimo de personas con discapacidad en su planta de personal, de conformidad con lo señalado en el certificado expedido por el Ministerio de Trabajo, el cual deberá estar vigente a la fecha de cierre del proceso de selección. | M49: CUMPLE | V49: 2003 | W49: 332000
A50: Para los proponentes plurales, la entidad tendrá en cuenta la planta de personal del integrante del proponente plural que aporte como mínimo el cuarenta por ciento (40%) de la experiencia requerida para el proceso de contratación. Este porcentaje de experiencia se tomará sobre el “Valor mínimo a certificar (como % del presupuesto oficial expresado en SMMLV)” de conformidad con el numeral 3.8.1, sin importar si la experiencia es general o específica. | M50: 1 | V50: 2003 | W50: 332000
A51: FACTOR DE CALIDAD (19 PTS)
A52: (i) implementación del programa de gerencia de proyectos (19) La entidad asignará 19 puntos, al proponente que se comprometa a instaurar un programa de gerencia de proyectos mediante la suscripción del Formato 7A – Programa de gerencia de proyectos, en el cual bajo la gravedad de juramento conste el compromiso que en este sentido asume. | M52: CUMPLE | O52: 19
A53: EMPRENDIMIENTO MUJERES
A54: Para que el Proponente obtenga este puntaje debe diligenciar el Formato 12 – Acreditación de emprendimientos y empresas de mujeres y aportar la documentación requerida. Tratándose de Proponentes Plurales este puntaje solo se otorgará si por lo menos uno de los integrantes acredita la calidad de emprendimientos y empresas de mujeres y tiene una participación igual o superior al diez por ciento (10 %) en el Consorcio o en la Unión Temporal. | M54: CUMPLE | O54: 0.25
A55: MiPYME
A56: Así las cosas, para obtener el puntaje, el Proponente entregará copia del certificado del Registro Único de Proponentes, el cual deberá encontrarse vigente y en firme al momento de su presentación Tratándose de Proponentes Plurales este puntaje se otorgará si por lo menos uno de los integrantes acredita la calidad de Mipyme y tiene una participación igual o superior al diez por ciento (10 %) en el Consorcio o en la Unión Temporal | M56: CUMPLE | O56: 0.25
A57: OBRAS CIVILES INCONCLUSAS
A58: Las Entidades Estatales deben consultar y analizar las anotaciones vigentes que reposen en el Registro Nacional de Obras Civiles Inconclusas, de que trata la Ley 2020 de 2020. En el evento que las personas naturales o jurídicas, nacionales o extranjeras domiciliadas o con sucursal en Colombia, o integrantes de Proponentes Plurales, cuenten con alguna anotación vigente de obra civil inconclusa, en el mencionado registro, se descontará un (1) punto de la sumatoria obtenida en relación con el factor de calidad. En todo caso, no se descontará el puntaje en los términos previstos en el inciso anterior cuando el Proponente no oferte el factor de calidad, por lo que éste obtendrá cero (0) puntos en este criterio de evaluación. En esta circunstancia, la Entidad no podrá reducir el puntaje de la sumatoria obtenida en los demás factores de ponderación. | O58: 0
A59: CUMPLE / NO CUMPLE | I59: CUMPLE | V59: 1995 | W59: 118934
A60: EVALUACION FINAL | I60: CUMPLE | M60: =+O56+O54+O52+M50+M44+O58 -> 40.5 | V60: 1994 | W60: 98700
A61: Observaciones: | V61: 1993 | W61: 81510
V62: 1992 | W62: 65190
V63: 1991 | W63: 51720
V64: 1990 | W64: 41025
A75: 4038010590 | C75: REALIZAR EL MANTENIMIENTO DE LA INFRAESTRUCTURA FÍSICA LADO AIRE DEL AEROPUERTO VÁSQUEZ COBO DE LA CIUDAD DE LETICIA (VF)

Sheet 7
A1: UNIDAD ADMINISTRATIVA ESPECIAL DE AERONAUTICA CIVIL | U1: 1 | V1: 20 | W1: 5
A2: 23001258 H4 2023 | Q2: SI | R2: CUMPLE | U2: 0 | V2: 5 | W2: 0
A3: REALIZAR EL MANTENIMIENTO DE LA INFRAESTRUCTURA FÍSICA LADO AIRE DEL AEROPUERTO VÁSQUEZ COBO DE LA CIUDAD DE LETICIA (VF) | Q3: NO | R3: NO CUMPLE | V3: 0
A4: 7 | B4: =_xlfn.XLOOKUP(A4,RESUMEN!$A$3:$A$9,RESUMEN!$B$3:$B$9) -> CONSORCIO IF LETICIA | F4: % PO | I4: APORTANTE DE LA EXPERIENCIA - GENERAL | P4: =+I4 -> APORTANTE DE LA EXPERIENCIA - GENERAL | R4: 10
I5: INFINIA S.A.S NIT. 901.519.839-1 | O5: 0.5 | P5: =+I7 -> ORDOÑEZ S A NIT. 900.079.438-7 | R5: 0
I6: GRUPO FAO SAS NIT. 901.484.861-1 | O6: 0.4 | P6: =+I6 -> GRUPO FAO SAS NIT. 901.484.861-1
I7: ORDOÑEZ S A NIT. 900.079.438-7 | O7: 0.1 | P7: =+#REF! -> #REF!
F8: De 1 hasta 2 | H8: 0.75 | P8: =+I8 -> 0
F9: De 3 hasta 4 | H9: 1.2 | P9: =+I9 -> 0
F10: Hasta 5 | H10: 1.5 | I10: TOTAL | O10: =+SUM(O5:O9) -> 1
A11: CODIGOS | B11: 72101500 72141000 72141100 72151500 72154100 72102900 72103300 | C11: PRESUPUESTO A EVALUAR (P.O) | I11: 4038010590 | J11: PO SMMLV | M11: =I11/W13 -> 3106.162 | R11: Registro Nacional de Obras Civiles Inconclusas
A13: REQUISITOS HABILITANTES (CUMPLE /NO CUMPLE) | V13: 2024 | W13: 1300000
A14: EXPERIENCIA GENERAL PROPONENTE
A15: OBRAS DE CONSTRUCCIÓN O RECONSTRUCCIÓN O AMPLIACIÓN O MEJORAMIENTO O MANTENIMIENTO O REHABILITACIÓN O CONSERVACIÓN DE: CARRETERAS PRIMARIAS O PISTAS DE AERODROMOS O CALLES DE RODAJE DE AERODROMOS O PLATAFORMAS DE AERÓDROMOS, DICHAS OBRAS DEBEN CONTENER LA EJECUCION DE PAVIMENTO ASFALTICO O PAVIMENTO EN CONCRETO HIDRÁULICO | V15: 2023 | W15: 1160000
A16: % PO | B16: CTO´S | C16: No. CONSECUTIVO EN EL RUP | D16: CONTRATANTE | E16: INFO DEL CONTRATO | F16: PRESENTA DOCUMENTOS ENLISTADOS | G16: CUMPLE CODIGOS 72101500 72141000 72141100 72151500 72154100 72102900 72103300 | H16: CUMPLE EXPERIENCIA? | I16: QUIEN APORTA LA EXPERIENCIA? | J16: AÑO DE TERMINACION DEL CONTRATO | K16: VALOR TOTAL EN PESOS | L16: VALOR TOTAL SMMLV - RUP | M16: % PARTICIPACION | N16: VALOR TOTAL AFECTADO | O16: CUMPLE / NO CUMPLE | R16: =M11*0.3 -> 931.8486 | S16: 30% PO | V16: 2022 | W16: 1000000
A17: =+M11*H8 -> 2329.6215 | B17: CTO 1 | C17: 2 | D17: UNIDAD ADMINISTRATIVA ESPECIAL DE AERONAUTICA CIVIL | E17: REALIZAR LA AMPLIACION DE LA PLATAFORMA DE GIRO, CABECERAS Y REPAVIMENTACION DE LA CALLE DE RODAJE B (BRAVO) DEL AEROPUERTO INTERNACIONAL SIMON BOLIVAR DE LA CIUDAD DE SANTA MARTA | F17: si | G17: si | H17: si | I17: INFINIA SAS | J17: 41638 | K17: 3315387414 | L17: 5624.06 | M17: 0.5 | N17: =L17*M17 -> 2812.03 | O17: =+IF(AND(H17="SI",G17="SI"),"CUMPLE","NO CUMPLE") -> CUMPLE | R17: =+N17/A17 -> 1.2070759 | V17: 2021 | W17: 908526
B18: CTO 2 | C18: 203 | D18: INSTITUTO DE INFRAESTRUCTURA Y CONCESIONES DE CUNDINAMARCA | E18: MANTENIMIENTO Y REHABILITACIÓN DEL PASO URBANO DEL MUNICIPIO DE VILLETA VÍA BOGOTÁ – VILLETA, EN EL DEPARTAMENTO DE CUNDINAMARCA | F18: SI | G18: si | H18: SI | I18: GRUPO FAO SAS | J18: 45344 | K18: 5128887235 | L18: 3945.29 | M18: 0.5 | N18: =L18*M18 -> 1972.645 | O18: =+IF(AND(H18="SI",G18="SI"),"CUMPLE","NO CUMPLE") -> CUMPLE | R18: =+N18/A17 -> 0.84676631
B19: CTO 3 | N19: =L19*M19 -> 0 | O19: =+IF(AND(H19="SI",G19="SI"),"CUMPLE","NO CUMPLE") -> NO CUMPLE | V19: 2020 | W19: 877803
B20: CTO 4 | N20: =IF(AND(G20="SI",H20="SI"),(L20*M20),0) -> 0 | O20: =+IF(AND(H20="SI",G20="SI"),"CUMPLE","NO CUMPLE") -> NO CUMPLE | V20: 2019 | W20: 828116
B21: CTO 5 | N21: =IF(AND(G21="SI",H21="SI"),(L21*M21),0) -> 0 | O21: =+IF(AND(H21="SI",G21="SI"),"CUMPLE","NO CUMPLE") -> NO CUMPLE | V21: 2018 | W21: 781242
B22: CTO 6 | N22: =IF(AND(G22="SI",H22="SI"),(L22*M22),0) -> 0 | O22: =+IF(AND(H22="SI",G22="SI"),"CUMPLE","NO CUMPLE") -> NO CUMPLE | V22: 2017 | W22: 737717
N23: =SUM(N17:N22) -> 4784.675 | O23: =+IF(OR(O18="CUMPLE",O22="CUMPLE",O21="CUMPLE",O20="CUMPLE",O19="CUMPLE",O17="CUMPLE")*AND(N23>=A17),"CUMPLE","NO CUMPLE") -> CUMPLE | V23: 2015 | W23: 644350
A24: EVALUACION EXPERIENCIA GENERAL PROPONENTE | V24: 2014 | W24: 616000
A25: EXPERIENCIA ESPECIFICA PROPONENTE | V25: 2007 | W25: 433700
A26: OBRAS DE CONSTRUCCIÓN O RECONSTRUCCIÓN O AMPLIACIÓN O MEJORAMIENTO O MANTENIMIENTO O REHABILITACIÓN O CONSERVACIÓN DE: PISTAS DE AERODROMOS O CALLES DE RODAJE DE AERODROMOS O PLATAFORMAS DE AERÓDROMOS, DICHAS OBRAS DEBEN CONTENER LA EJECUCION DE PAVIMENTO ASFALTICO O PAVIMENTO EN CONCRETO HIDRÁULICO, cuyo valor sea igual o mayor al 50% del valor del PRESUPUESTO OFICIAL (PO) del presente Proceso de Contratación. | V26: 2023 | W26: 1160000
A27: 50% PO | B27: CTO´S | C27: No. CONSECUTIVO EN EL RUP | D27: CONTRATANTE | E27: INFO DEL CONTRATO | F27: PRESENTA DOCUMENTOS ENLISTADOS | G27: CUMPLE CODIGOS 72101500 72141000 72141100 72151500 72154100 72102900 72103300 | H27: CUMPLE EXPERIENCIA? | I27: QUIEN APORTA LA EXPERIENCIA? | J27: AÑO DE TERMINACION DEL CONTRATO | K27: VALOR TOTAL EN PESOS | L27: VALOR TOTAL SMMLV - RUP | M27: % PARTICIPACION | N27: VALOR TOTAL AFECTADO | O27: CUMPLE / NO CUMPLE | V27: 2022 | W27: 1000000
A28: =M11*50% -> 1553.081 | B28: CTO 1 | C28: 2 | D28: UNIDAD ADMINISTRATIVA ESPECIAL DE AERONAUTICA CIVIL | E28: REALIZAR LA AMPLIACION DE LA PLATAFORMA DE GIRO, CABECERAS Y REPAVIMENTACION DE LA CALLE DE RODAJE B (BRAVO) DEL AEROPUERTO INTERNACIONAL SIMON BOLIVAR DE LA CIUDAD DE SANTA MARTA | F28: si | G28: si | H28: si | I28: INFINIA SAS | J28: 41638 | K28: 3315387414 | L28: 5624.06 | M28: 0.5 | N28: =L28*M28 -> 2812.03 | O28: =+IF(AND(H28="SI",G28="SI"),"CUMPLE","NO CUMPLE") -> CUMPLE
B29: CTO 2 | N29: =L29*M29 -> 0 | O29: =+IF(AND(H29="SI",G29="SI"),"CUMPLE","NO CUMPLE") -> NO CUMPLE | R29: =+IF(OR(O29="CUMPLE")*AND(N29>=$R$16),"CUMPLE","NO CUMPLE") -> NO CUMPLE | V29: 2021 | W29: 908526
V30: 2015 | W30: 644350
A31: EVALUACION OFERTA ECONOMICA | N31: =SUM(N28:N29) -> 2812.03 | O31: =+IF(OR(O29="CUMPLE",O28="CUMPLE")*AND(N31>=A28),"CUMPLE","NO CUMPLE") -> CUMPLE | V31: 2014 | W31: 616000
L33: PUNTAJE ASIGNADO | N33: 0 | O33: =O31 -> CUMPLE | V33: 2014 | W33: 616000
V34: 2012 | W34: 566700
V35: 2011 | W35: 535600
V36: 2010 | W36: 515000
V37: 2002 | W37: 309000
A38: EVALUACIÓN APOYO A LA INDUSTRIA NACIONAL( MAX 20 PUNTOS) NUMERAL 4.3. | V38: 2001 | W38: 286000
A39: SERVICIOS NACIONALES | C39: Para que el proponente obtenga puntaje por servicios nacionales debe presentar: A. Persona natural colombiana: La cédula de ciudadanía del proponente. B. Persona natural extranjera residente en Colombia: La visa de residencia que le permita la ejecución del objeto contractual de conformidad con la ley. C. Persona jurídica constituida en Colombia: el certificado de existencia y representación legal emitido por las Cámaras de Comercio. | M39: PUNTAJE ASIGNADO | V39: 2000 | W39: 260100
M40: CUMPLE | V40: 1999 | W40: 236438
V41: 1998 | W41: 203825
V42: 1997 | W42: 172005
A43: PROPONENTE EXTRANJERO PUNTAJE POR TRATO NACIONAL | C43: Para que el proponente extranjero obtenga puntaje por trato nacional debe acreditar que los servicios son originarios de los estados mencionados en la sección de acuerdos comerciales aplicables al presente proceso de contratación, información que se acreditará con los documentos que aporte el proponente extranjero para acreditar su domicilio. Para asignar el puntaje por servicios nacionales o por trato nacional el proponente nacional o extranjero con trato nacional no deben presentar el Formato 7 – Puntaje de Industria Nacional. Únicamente deberán presentar los documentos señalados en esta sección. | V43: 1996 | W43: 142125
M44: 20 | V44: 1996 | W44: 142125
C45: NOTA: La entidad asignará veinte (20) puntos a un proponente plural cuando todos sus integrantes cumplan con las anteriores condiciones. Cuando uno de sus integrantes no cumpla con las condiciones descritas no obtendrá puntaje por servicios nacionales o trato Nacional. El Formato 7 – Puntaje de Industria Nacional únicamente debe ser aportado por los proponentes extranjeros sin derecho a trato nacional que opten por incorporar personal calificado. En el evento que un proponente nacional o extranjero con trato nacional lo presente, no será una razón para no otorgar el puntaje de promoción de servicios nacionales o con trato nacional. | V45: 1996 | W45: 142125
V46: 2009 | W46: 496900
A47: EVALUACIÓN VINCULACIÓN DE PERSONAS CON DISCAPACIDAD. (MAX 1 PUNTO) NUMERAL 4.4. | V47: 2005 | W47: 381500
A48: La entidad asignará un (1) punto al proponente que acredite el número mínimo de personas con discapacidad de acuerdo con el número total de trabajadores de la planta de su personal en los términos señalados en el artículo 2.2.1.2.4.2.6. del Decreto 1082 de 2015 (adicionado por el Decreto 392 de 2018). | M48: PUNTAJE ASIGNADO | V48: 2004 | W48: 358000
A49: Para esto debe presentar: i) el Formato 6 – Vinculación de personas en condición de discapacidad suscrito por la persona natural, el representante legal o el revisor fiscal, según corresponda en el cual certifique el número total de trabajadores vinculados a la planta de personal del proponente o sus integrantes a la fecha de cierre del proceso de selección, ii) acreditar el número mínimo de personas con discapacidad en su planta de personal, de conformidad con lo señalado en el certificado expedido por el Ministerio de Trabajo, el cual deberá estar vigente a la fecha de cierre del proceso de selección. | M49: CUMPLE | V49: 2003 | W49: 332000
A50: Para los proponentes plurales, la entidad tendrá en cuenta la planta de personal del integrante del proponente plural que aporte como mínimo el cuarenta por ciento (40%) de la experiencia requerida para el proceso de contratación. Este porcentaje de experiencia se tomará sobre el “Valor mínimo a certificar (como % del presupuesto oficial expresado en SMMLV)” de conformidad con el numeral 3.8.1, sin importar si la experiencia es general o específica. | M50: 1 | V50: 2003 | W50: 332000
A51: FACTOR DE CALIDAD (19 PTS)
A52: (i) implementación del programa de gerencia de proyectos (19) La entidad asignará 19 puntos, al proponente que se comprometa a instaurar un programa de gerencia de proyectos mediante la suscripción del Formato 7A – Programa de gerencia de proyectos, en el cual bajo la gravedad de juramento conste el compromiso que en este sentido asume. | M52: CUMPLE | O52: 19
A53: EMPRENDIMIENTO MUJERES
A54: Para que el Proponente obtenga este puntaje debe diligenciar el Formato 12 – Acreditación de emprendimientos y empresas de mujeres y aportar la documentación requerida. Tratándose de Proponentes Plurales este puntaje solo se otorgará si por lo menos uno de los integrantes acredita la calidad de emprendimientos y empresas de mujeres y tiene una participación igual o superior al diez por ciento (10 %) en el Consorcio o en la Unión Temporal. | M54: CUMPLE | O54: 0.25 | S54: 1
A55: MiPYME
A56: Así las cosas, para obtener el puntaje, el Proponente entregará copia del certificado del Registro Único de Proponentes, el cual deberá encontrarse vigente y en firme al momento de su presentación Tratándose de Proponentes Plurales este puntaje se otorgará si por lo menos uno de los integrantes acredita la calidad de Mipyme y tiene una participación igual o superior al diez por ciento (10 %) en el Consorcio o en la Unión Temporal | M56: CUMPLE | O56: 0.25
A57: OBRAS CIVILES INCONCLUSAS
A58: Las Entidades Estatales deben consultar y analizar las anotaciones vigentes que reposen en el Registro Nacional de Obras Civiles Inconclusas, de que trata la Ley 2020 de 2020. En el evento que las personas naturales o jurídicas, nacionales o extranjeras domiciliadas o con sucursal en Colombia, o integrantes de Proponentes Plurales, cuenten con alguna anotación vigente de obra civil inconclusa, en el mencionado registro, se descontará un (1) punto de la sumatoria obtenida en relación con el factor de calidad. En todo caso, no se descontará el puntaje en los términos previstos en el inciso anterior cuando el Proponente no oferte el factor de calidad, por lo que éste obtendrá cero (0) puntos en este criterio de evaluación. En esta circunstancia, la Entidad no podrá reducir el puntaje de la sumatoria obtenida en los demás factores de ponderación. | O58: 0
A59: CUMPLE / NO CUMPLE | I59: CUMPLE | V59: 1995 | W59: 118934
A60: EVALUACION FINAL | I60: CUMPLE | M60: =+O56+O54+O52+M50+M44+O58 -> 40.5 | V60: 1994 | W60: 98700
A61: Observaciones: | V61: 1993 | W61: 81510
V62: 1992 | W62: 65190
V63: 1991 | W63: 51720
V64: 1990 | W64: 41025
A75: 4038010590 | C75: REALIZAR EL MANTENIMIENTO DE LA INFRAESTRUCTURA FÍSICA LADO AIRE DEL AEROPUERTO VÁSQUEZ COBO DE LA CIUDAD DE LETICIA (VF)
