Workbook
Name CARTA: '1'!$P$41
Name CARTA: #REF!
Name DISCAP: '1'!$P$64
Name DISCAP: #REF!
Name EXPESP: '1'!$O$24
Name EXPESP: #REF!
Name EXPGRAL: '1'!$O$13
Name EXPGRAL: #REF!
Name FCALIDAD: '1'!$P$58
Name FCALIDAD: #REF!
Name FORMATO8: '1'!$P$38
Name FORMATO8: #REF!
Name FTECNICAS: '1'!$P$50
Name FTECNICAS: #REF!
Name GARANTIA: '1'!$P$47
Name GARANTIA: #REF!
Name INDNAL: '1'!$P$61
Name INDNAL: #REF!
Name METODOS: 'F7 PROPUESTA ECONOMICA'!$U$1:$U$4
Name MIPYME: '1'!$P$70
Name MIPYME: #REF!
Name MUJERES: '1'!$P$67
Name MUJERES: #REF!
Name PPTOOFICIAL: RESUMEN!$T$5
Name PTOTAL: '1'!$P$72
Name PTOTAL: #REF!
Name REPBIENES: '1'!$P$44
Name REPBIENES: #REF!
Name SUMEXPESP: '1'!$O$21
Name SUMEXPESP: #REF!
Name SUMEXPGRAL: '1'!$O$21
Name SUMEXPGRAL: #REF!

Sheet RESUMEN
G1: INFORME EVALUACIÓN TÉCNICA GENERAL SUBSANACION
G2: DIRECCIÓN DE TELECOMUNICACIONES Y AYUDAS A LA NAVEGACIÓN AÉREA
G4: 2024
B5: N° PROCESO | D5: 24001025 H2 DE 2024 | E5: OBJETO | G5: ADQUIRIR, INSTALAR, COMISIONAR Y PONER EN FUNCIONAMIENTO LA RENOVACIÓN DE UN SISTEMA DE VIGILANCIA PSR /MSSR -MODO S ENHANCED Y ADSB INTEGRADO REDUNDANTE DE ÚLTIMA TECNOLOGÍA, UBICADO EN EL SECTOR DE PICACHO. | S5: VALOR PRESUPUESTO OFICIAL: | T5: 42835765122
G6: REQUISITOS HABILITANTES | N6: PONDERACIÓN
B7: Orden elegib. | C7: N° | D7: NOMBRE PROPONENTE | G7: EXPERIENCIA GENERAL PROPONENTE | H7: EVALUACION EXPERIENCIA ESPECIFICA PROPONENTE | I7: FORMATO No. 8 | J7: CARTA DE COMPROMISO | K7: Certificado de Representación y Distribución Autorizada de los Bienes. | L7: Certificado de Garantía de los Bienes o Servicios. | M7: Fichas Técnicas | N7: FACTOR DE CALIDAD (18,5 PUNTOS) | O7: APOYO A LA INDUSTRIA NACIONAL – LEY 816 DE 2003 (10 PUNTOS) | P7: PROPONENTES CON TRABAJADORES CON DISCAPACIDAD. (1 Punto) | Q7: EMPRENDIMIENTO Y EMPRESAS DE MUJERES (0,25 PUNTOS) | R7: MIPYME DOMICILIADA EN COLOMBIA (0,25 PUNTOS) | S7: SUBTOTAL PUNTAJE | T7: PUNTAJE OFERTA ECONOMICA | U7: TOTAL PUNTAJE
B8: =IF(OR(U8=0,U8="NO CUMPLE"),"NA",_xlfn.RANK.EQ(U8,$U$8:$U$22,0)) -> 1 | C8: 1 | D8: UNION TEMPORAL RADAR GEA 2024 | G8: {=IFERROR(INDIRECT("'"&$C8&"'!EXPGRAL",1),"-")} -> CUMPLE | H8: {=IFERROR(INDIRECT("'"&$C8&"'!EXPESP",1),"-")} -> CUMPLE | I8: {=IFERROR(INDIRECT("'"&$C8&"'!FORMATO8",1),"-")} -> CUMPLE | J8: NA | K8: {=IFERROR(INDIRECT("'"&$C8&"'!REPBIENES",1),"-")} -> CUMPLE | L8: {=IFERROR(INDIRECT("'"&$C8&"'!GARANTIA",1),"-")} -> CUMPLE | M8: {=IFERROR(INDIRECT("'"&$C8&"'!FTECNICAS",1),"-")} -> CUMPLE | N8: {=IFERROR(INDIRECT("'"&$C8&"'!FCALIDAD",1),"-")} -> 18.75 | O8: {=IFERROR(INDIRECT("'"&$C8&"'!INDNAL",1),"-")} -> 10 | P8: {=IFERROR(INDIRECT("'"&$C8&"'!DISCAP",1),"-")} -> 1 | Q8: {=IFERROR(INDIRECT("'"&$C8&"'!MUJERES",1),"-")} -> 0.25 | R8: {=IFERROR(INDIRECT("'"&$C8&"'!MIPYME",1),"-")} -> 0.25 | S8: =+SUM(N8:R8) -> 30.25 | T8: 69.75 | U8: =S8+T8 -> 100
B9: =IF(OR(U9=0,U9="NO CUMPLE"),"NA",_xlfn.RANK.EQ(U9,$U$8:$U$22,0)) -> NA | C9: 2
B10: =IF(OR(U10=0,U10="NO CUMPLE"),"NA",_xlfn.RANK.EQ(U10,$U$8:$U$22,0)) -> NA | C10: 3
B11: =IF(OR(U11=0,U11="NO CUMPLE"),"NA",_xlfn.RANK.EQ(U11,$U$8:$U$22,0)) -> NA | C11: 4
B12: =IF(OR(U12=0,U12="NO CUMPLE"),"NA",_xlfn.RANK.EQ(U12,$U$8:$U$22,0)) -> NA | C12: 5 | G12: {=IFERROR(INDIRECT("'"&$C12&"'!EXPGRAL",1),"-")} -> - | H12: {=IFERROR(INDIRECT("'"&$C12&"'!EXPESP",1),"-")} -> - | I12: {=IFERROR(INDIRECT("'"&$C12&"'!FORMATO8",1),"-")} -> - | J12: {=IFERROR(INDIRECT("'"&$C12&"'!CARTA",1),"-")} -> - | K12: {=IFERROR(INDIRECT("'"&$C12&"'!REPBIENES",1),"-")} -> - | L12: {=IFERROR(INDIRECT("'"&$C12&"'!GARANTIA",1),"-")} -> - | M12: {=IFERROR(INDIRECT("'"&$C12&"'!FTECNICAS",1),"-")} -> - | N12: {=IFERROR(INDIRECT("'"&$C12&"'!FCALIDAD",1),"-")} -> - | O12: {=IFERROR(INDIRECT("'"&$C12&"'!INDNAL",1),"-")} -> - | P12: {=IFERROR(INDIRECT("'"&$C12&"'!DISCAP",1),"-")} -> - | Q12: {=IFERROR(INDIRECT("'"&$C12&"'!MUJERES",1),"-")} -> - | R12: {=IFERROR(INDIRECT("'"&$C12&"'!MIPYME",1),"-")} -> -
B13: =IF(OR(U13=0,U13="NO CUMPLE"),"NA",_xlfn.RANK.EQ(U13,$U$8:$U$22,0)) -> NA | C13: 6 | G13: {=IFERROR(INDIRECT("'"&$C13&"'!EXPGRAL",1),"-")} -> - | H13: {=IFERROR(INDIRECT("'"&$C13&"'!EXPESP",1),"-")} -> - | I13: {=IFERROR(INDIRECT("'"&$C13&"'!FORMATO8",1),"-")} -> - | J13: {=IFERROR(INDIRECT("'"&$C13&"'!CARTA",1),"-")} -> - | K13: {=IFERROR(INDIRECT("'"&$C13&"'!REPBIENES",1),"-")} -> - | L13: {=IFERROR(INDIRECT("'"&$C13&"'!GARANTIA",1),"-")} -> - | M13: {=IFERROR(INDIRECT("'"&$C13&"'!FTECNICAS",1),"-")} -> - | N13: {=IFERROR(INDIRECT("'"&$C13&"'!FCALIDAD",1),"-")} -> - | O13: {=IFERROR(INDIRECT("'"&$C13&"'!INDNAL",1),"-")} -> - | P13: {=IFERROR(INDIRECT("'"&$C13&"'!DISCAP",1),"-")} -> - | Q13: {=IFERROR(INDIRECT("'"&$C13&"'!MUJERES",1),"-")} -> - | R13: {=IFERROR(INDIRECT("'"&$C13&"'!MIPYME",1),"-")} -> -
B14: =IF(OR(U14=0,U14="NO CUMPLE"),"NA",_xlfn.RANK.EQ(U14,$U$8:$U$22,0)) -> NA | C14: 7 | G14: {=IFERROR(INDIRECT("'"&$C14&"'!EXPGRAL",1),"-")} -> - | H14: {=IFERROR(INDIRECT("'"&$C14&"'!EXPESP",1),"-")} -> - | I14: {=IFERROR(INDIRECT("'"&$C14&"'!FORMATO8",1),"-")} -> - | J14: {=IFERROR(INDIRECT("'"&$C14&"'!CARTA",1),"-")} -> - | K14: {=IFERROR(INDIRECT("'"&$C14&"'!REPBIENES",1),"-")} -> - | L14: {=IFERROR(INDIRECT("'"&$C14&"'!GARANTIA",1),"-")} -> - | M14: {=IFERROR(INDIRECT("'"&$C14&"'!FTECNICAS",1),"-")} -> - | N14: {=IFERROR(INDIRECT("'"&$C14&"'!FCALIDAD",1),"-")} -> - | O14: {=IFERROR(INDIRECT("'"&$C14&"'!INDNAL",1),"-")} -> - | P14: {=IFERROR(INDIRECT("'"&$C14&"'!DISCAP",1),"-")} -> - | Q14: {=IFERROR(INDIRECT("'"&$C14&"'!MUJERES",1),"-")} -> - | R14: {=IFERROR(INDIRECT("'"&$C14&"'!MIPYME",1),"-")} -> -
B15: =IF(OR(U15=0,U15="NO CUMPLE"),"NA",_xlfn.RANK.EQ(U15,$U$8:$U$22,0)) -> NA | C15: 8 | G15: {=IFERROR(INDIRECT("'"&$C15&"'!EXPGRAL",1),"-")} -> - | H15: {=IFERROR(INDIRECT("'"&$C15&"'!EXPESP",1),"-")} -> - | I15: {=IFERROR(INDIRECT("'"&$C15&"'!FORMATO8",1),"-")} -> - | J15: {=IFERROR(INDIRECT("'"&$C15&"'!CARTA",1),"-")} -> - | K15: {=IFERROR(INDIRECT("'"&$C15&"'!REPBIENES",1),"-")} -> - | L15: {=IFERROR(INDIRECT("'"&$C15&"'!GARANTIA",1),"-")} -> - | M15: {=IFERROR(INDIRECT("'"&$C15&"'!FTECNICAS",1),"-")} -> - | N15: {=IFERROR(INDIRECT("'"&$C15&"'!FCALIDAD",1),"-")} -> - | O15: {=IFERROR(INDIRECT("'"&$C15&"'!INDNAL",1),"-")} -> - | P15: {=IFERROR(INDIRECT("'"&$C15&"'!DISCAP",1),"-")} -> - | Q15: {=IFERROR(INDIRECT("'"&$C15&"'!MUJERES",1),"-")} -> - | R15: {=IFERROR(INDIRECT("'"&$C15&"'!MIPYME",1),"-")} -> -
B16: =IF(OR(U16=0,U16="NO CUMPLE"),"NA",_xlfn.RANK.EQ(U16,$U$8:$U$22,0)) -> NA | C16: 9 | G16: {=IFERROR(INDIRECT("'"&$C16&"'!EXPGRAL",1),"-")} -> - | H16: {=IFERROR(INDIRECT("'"&$C16&"'!EXPESP",1),"-")} -> - | I16: {=IFERROR(INDIRECT("'"&$C16&"'!FORMATO8",1),"-")} -> - | J16: {=IFERROR(INDIRECT("'"&$C16&"'!CARTA",1),"-")} -> - | K16: {=IFERROR(INDIRECT("'"&$C16&"'!REPBIENES",1),"-")} -> - | L16: {=IFERROR(INDIRECT("'"&$C16&"'!GARANTIA",1),"-")} -> - | M16: {=IFERROR(INDIRECT("'"&$C16&"'!FTECNICAS",1),"-")} -> - | N16: {=IFERROR(INDIRECT("'"&$C16&"'!FCALIDAD",1),"-")} -> - | O16: {=IFERROR(INDIRECT("'"&$C16&"'!INDNAL",1),"-")} -> - | P16: {=IFERROR(INDIRECT("'"&$C16&"'!DISCAP",1),"-")} -> - | Q16: {=IFERROR(INDIRECT("'"&$C16&"'!MUJERES",1),"-")} -> - | R16: {=IFERROR(INDIRECT("'"&$C16&"'!MIPYME",1),"-")} -> -
B17: =IF(OR(U17=0,U17="NO CUMPLE"),"NA",_xlfn.RANK.EQ(U17,$U$8:$U$22,0)) -> NA | C17: 10 | G17: {=IFERROR(INDIRECT("'"&$C17&"'!EXPGRAL",1),"-")} -> - | H17: {=IFERROR(INDIRECT("'"&$C17&"'!EXPESP",1),"-")} -> - | I17: {=IFERROR(INDIRECT("'"&$C17&"'!FORMATO8",1),"-")} -> - | J17: {=IFERROR(INDIRECT("'"&$C17&"'!CARTA",1),"-")} -> - | K17: {=IFERROR(INDIRECT("'"&$C17&"'!REPBIENES",1),"-")} -> - | L17: {=IFERROR(INDIRECT("'"&$C17&"'!GARANTIA",1),"-")} -> - | M17: {=IFERROR(INDIRECT("'"&$C17&"'!FTECNICAS",1),"-")} -> - | N17: {=IFERROR(INDIRECT("'"&$C17&"'!FCALIDAD",1),"-")} -> - | O17: {=IFERROR(INDIRECT("'"&$C17&"'!INDNAL",1),"-")} -> - | P17: {=IFERROR(INDIRECT("'"&$C17&"'!DISCAP",1),"-")} -> - | Q17: {=IFERROR(INDIRECT("'"&$C17&"'!MUJERES",1),"-")} -> - | R17: {=IFERROR(INDIRECT("'"&$C17&"'!MIPYME",1),"-")} -> -
B18: =IF(OR(U18=0,U18="NO CUMPLE"),"NA",_xlfn.RANK.EQ(U18,$U$8:$U$22,0)) -> NA | C18: 11 | G18: {=IFERROR(INDIRECT("'"&$C18&"'!EXPGRAL",1),"-")} -> - | H18: {=IFERROR(INDIRECT("'"&$C18&"'!EXPESP",1),"-")} -> - | I18: {=IFERROR(INDIRECT("'"&$C18&"'!FORMATO8",1),"-")} -> - | J18: {=IFERROR(INDIRECT("'"&$C18&"'!CARTA",1),"-")} -> - | K18: {=IFERROR(INDIRECT("'"&$C18&"'!REPBIENES",1),"-")} -> - | L18: {=IFERROR(INDIRECT("'"&$C18&"'!GARANTIA",1),"-")} -> - | M18: {=IFERROR(INDIRECT("'"&$C18&"'!FTECNICAS",1),"-")} -> - | N18: {=IFERROR(INDIRECT("'"&$C18&"'!FCALIDAD",1),"-")} -> - | O18: {=IFERROR(INDIRECT("'"&$C18&"'!INDNAL",1),"-")} -> - | P18: {=IFERROR(INDIRECT("'"&$C18&"'!DISCAP",1),"-")} -> - | Q18: {=IFERROR(INDIRECT("'"&$C18&"'!MUJERES",1),"-")} -> - | R18: {=IFERROR(INDIRECT("'"&$C18&"'!MIPYME",1),"-")} -> -
B19: =IF(OR(U19=0,U19="NO CUMPLE"),"NA",_xlfn.RANK.EQ(U19,$U$8:$U$22,0)) -> NA | C19: 12 | G19: {=IFERROR(INDIRECT("'"&$C19&"'!EXPGRAL",1),"-")} -> - | H19: {=IFERROR(INDIRECT("'"&$C19&"'!EXPESP",1),"-")} -> - | I19: {=IFERROR(INDIRECT("'"&$C19&"'!FORMATO8",1),"-")} -> - | J19: {=IFERROR(INDIRECT("'"&$C19&"'!CARTA",1),"-")} -> - | K19: {=IFERROR(INDIRECT("'"&$C19&"'!REPBIENES",1),"-")} -> - | L19: {=IFERROR(INDIRECT("'"&$C19&"'!GARANTIA",1),"-")} -> - | M19: {=IFERROR(INDIRECT("'"&$C19&"'!FTECNICAS",1),"-")} -> - | N19: {=IFERROR(INDIRECT("'"&$C19&"'!FCALIDAD",1),"-")} -> - | O19: {=IFERROR(INDIRECT("'"&$C19&"'!INDNAL",1),"-")} -> - | P19: {=IFERROR(INDIRECT("'"&$C19&"'!DISCAP",1),"-")} -> - | Q19: {=IFERROR(INDIRECT("'"&$C19&"'!MUJERES",1),"-")} -> - | R19: {=IFERROR(INDIRECT("'"&$C19&"'!MIPYME",1),"-")} -> -
B20: =IF(OR(U20=0,U20="NO CUMPLE"),"NA",_xlfn.RANK.EQ(U20,$U$8:$U$22,0)) -> NA | C20: 13 | G20: {=IFERROR(INDIRECT("'"&$C20&"'!EXPGRAL",1),"-")} -> - | H20: {=IFERROR(INDIRECT("'"&$C20&"'!EXPESP",1),"-")} -> - | I20: {=IFERROR(INDIRECT("'"&$C20&"'!FORMATO8",1),"-")} -> - | J20: {=IFERROR(INDIRECT("'"&$C20&"'!CARTA",1),"-")} -> - | K20: {=IFERROR(INDIRECT("'"&$C20&"'!REPBIENES",1),"-")} -> - | L20: {=IFERROR(INDIRECT("'"&$C20&"'!GARANTIA",1),"-")} -> - | M20: {=IFERROR(INDIRECT("'"&$C20&"'!FTECNICAS",1),"-")} -> - | N20: {=IFERROR(INDIRECT("'"&$C20&"'!FCALIDAD",1),"-")} -> - | O20: {=IFERROR(INDIRECT("'"&$C20&"'!INDNAL",1),"-")} -> - | P20: {=IFERROR(INDIRECT("'"&$C20&"'!DISCAP",1),"-")} -> - | Q20: {=IFERROR(INDIRECT("'"&$C20&"'!MUJERES",1),"-")} -> - | R20: {=IFERROR(INDIRECT("'"&$C20&"'!MIPYME",1),"-")} -> -
B21: =IF(OR(U21=0,U21="NO CUMPLE"),"NA",_xlfn.RANK.EQ(U21,$U$8:$U$22,0)) -> NA | C21: 14 | G21: {=IFERROR(INDIRECT("'"&$C21&"'!EXPGRAL",1),"-")} -> - | H21: {=IFERROR(INDIRECT("'"&$C21&"'!EXPESP",1),"-")} -> - | I21: {=IFERROR(INDIRECT("'"&$C21&"'!FORMATO8",1),"-")} -> - | J21: {=IFERROR(INDIRECT("'"&$C21&"'!CARTA",1),"-")} -> - | K21: {=IFERROR(INDIRECT("'"&$C21&"'!REPBIENES",1),"-")} -> - | L21: {=IFERROR(INDIRECT("'"&$C21&"'!GARANTIA",1),"-")} -> - | M21: {=IFERROR(INDIRECT("'"&$C21&"'!FTECNICAS",1),"-")} -> - | N21: {=IFERROR(INDIRECT("'"&$C21&"'!FCALIDAD",1),"-")} -> - | O21: {=IFERROR(INDIRECT("'"&$C21&"'!INDNAL",1),"-")} -> - | P21: {=IFERROR(INDIRECT("'"&$C21&"'!DISCAP",1),"-")} -> - | Q21: {=IFERROR(INDIRECT("'"&$C21&"'!MUJERES",1),"-")} -> - | R21: {=IFERROR(INDIRECT("'"&$C21&"'!MIPYME",1),"-")} -> -
B22: =IF(OR(U22=0,U22="NO CUMPLE"),"NA",_xlfn.RANK.EQ(U22,$U$8:$U$22,0)) -> NA | C22: 15 | G22: {=IFERROR(INDIRECT("'"&$C22&"'!EXPGRAL",1),"-")} -> - | H22: {=IFERROR(INDIRECT("'"&$C22&"'!EXPESP",1),"-")} -> - | I22: {=IFERROR(INDIRECT("'"&$C22&"'!FORMATO8",1),"-")} -> - | J22: {=IFERROR(INDIRECT("'"&$C22&"'!CARTA",1),"-")} -> - | K22: {=IFERROR(INDIRECT("'"&$C22&"'!REPBIENES",1),"-")} -> - | L22: {=IFERROR(INDIRECT("'"&$C22&"'!GARANTIA",1),"-")} -> - | M22: {=IFERROR(INDIRECT("'"&$C22&"'!FTECNICAS",1),"-")} -> - | N22: {=IFERROR(INDIRECT("'"&$C22&"'!FCALIDAD",1),"-")} -> - | O22: {=IFERROR(INDIRECT("'"&$C22&"'!INDNAL",1),"-")} -> - | P22: {=IFERROR(INDIRECT("'"&$C22&"'!DISCAP",1),"-")} -> - | Q22: {=IFERROR(INDIRECT("'"&$C22&"'!MUJERES",1),"-")} -> - | R22: {=IFERROR(INDIRECT("'"&$C22&"'!MIPYME",1),"-")} -> -
B23: ="PROPONENTE SELECCIONADO DEL PROCESO N° " & D5 & ": " -> PROPONENTE SELECCIONADO DEL PROCESO N° 24001025 H2 DE 2024: | N23: =IFERROR(IF(COUNTIF($B$8:$B$22,1)>1,"REVISAR EMPATE",VLOOKUP(1,$B$8:$F$22,3,0)),"PENDIENTE") -> UNION TEMPORAL RADAR GEA 2024 | R23: PUNTAJE GANADOR | T23: =_xlfn.MAXIFS(U8:U22,G8:G22,"CUMPLE",H8:H22,"CUMPLE",I8:I22,"CUMPLE",M8:M22,"CUMPLE") -> 100
B24: EVALUADOR TECNICO No. 1 | G24: EVALUADOR TECNICO No. 2 | N24: EVALUADOR TECNICO No. 3 | R24: EVALUADOR TECNICO No. 4
B26: EVALUADOR TECNICO No. 5 | G26: EVALUADOR TECNICO No. 6 | N26: EVALUADOR TECNICO No. 7 | R26: EVALUADOR TECNICO No. 8

Sheet 1
A1: UNIDAD ADMINISTRATIVA ESPECIAL DE AERONAUTICA CIVIL
A2: =+RESUMEN!D5 -> 24001025 H2 DE 2024
A3: =+RESUMEN!G5 -> ADQUIRIR, INSTALAR, COMISIONAR Y PONER EN FUNCIONAMIENTO LA RENOVACIÓN DE UN SISTEMA DE VIGILANCIA PSR /MSSR -MODO S ENHANCED Y ADSB INTEGRADO REDUNDANTE DE ÚLTIMA TECNOLOGÍA, UBICADO EN EL SECTOR DE PICACHO.
A4: 1 | B4: =VLOOKUP(A4,RESUMEN!$C$8:$F$22,2) -> UNION TEMPORAL RADAR GEA 2024 | J4: CONFORMACIÓN | P4: % PARTICIPACIÓN
J5: INGENIERIA Y TELEMATICA G & C S A S | P5: 0.4
J6: AIRAVATA | P6: 0.35
J7: ENERGIA INTEGRAL ANDINA | P7: 0.25
J9: TOTAL | P9: =SUM(P5:P8) -> 1
A10: CÓDIGOS | B10: 41115200 43221700 46171600 | D10: PRESUPUESTO A EVALUAR (P.O) | J10: =RESUMEN!T5 -> 42835765122 | L10: PUNTAJE OBTENIDO: | N10: =P72 -> 30.25 | O10: PO SMMLV | P10: =N10*100% -> 30.25
A11: REQUISITOS HABILITANTES (CUMPLE /NO CUMPLE)
A12: EXPERIENCIA GENERAL PROPONENTE | O12: EVALUACIÓN
A13: La AEROCIVIL verificará la experiencia general del proponente con la información relacionada en el Formato No.19A –Experiencia General del Proponente, donde debe diligenciar la información de hasta tres (3) contratos registrados en el RUP e identificados en cualquiera de los códigos UNSPSC requeridos a continuación y que, sumados su valor total, expresado en SMMLV correspondiente a SMMLV, sea igual o mayor al cien por ciento (100%) del presupuesto oficial del presente procesopresente proceso. | O13: =IF(AND(O21>=$P$10,O21<>0),"CUMPLE", "NO CUMPLE") -> CUMPLE
A14: 100% PO EN SMMLV | B14: CTO´S | C14: N° CONSECUTIVO EN EL RUP | D14: CONTRATANTE | E14: OBJETO | G14: PRESENTA DOCUMENTOS EN LISTADOS | H14: ="CUMPLE CODIGOS? "&B10 -> CUMPLE CODIGOS? 41115200 43221700 46171600 | I14: CUMPLE EXPERIENCIA? | J14: QUIEN APORTA LA EXPERIENCIA? | K14: AÑO DE TERMINACION DEL CONTRATO | L14: VALOR TOTAL EN PESOS | M14: VALOR TOTAL SMMLV - RUP | N14: % PARTICIPACION | O14: VALOR TOTAL AFECTADO | P14: CUMPLE / NO CUMPLE
A15: =+P10 -> 30.25 | B15: CTO 1 | C15: 13 | D15: UNIDAD ADMINISTRATIVA ESPECIAL DE AERONAURICA CIVIL | E15: ADQUISICIÓN, INSTALACIÓN Y PUESTA EN FUNCIONAMIENTO DE SISTEMA DE VIGILANCIA AERONÁUTICA CABEZA RADAR CERRO VERDE | G15: SI | H15: SI | I15: SI | J15: G & C | K15: 41255 | L15: 11252522217 | M15: 19856.22 | N15: 0.749 | O15: =IF(AND(H15="SI",I15="SI")=TRUE,M15*N15,"") -> 14872.309 | P15: CUMPLE
B16: CTO 2 | C16: 17 | D16: UNIDAD ADMINISTRATIVA ESPECIAL DE AERONAURICA CIVIL | E16: ADQUISICIÓN, INSTALACIÓN Y PUESTA EN FUNCIONAMIENTO DE SISTEMA DE VIGILANCIA AERONÁUTICA CONSISTENTE EN LA CABEZA RADAR PARA EL AEROPUERTO DE FLANDES INCLUYE OBRA CIVIL | G16: SI | H16: SI | I16: SI | J16: G & C | K16: 41273 | L16: 7204684577 | M16: 12713.4 | N16: 0.749 | O16: =IF(AND(H16="SI",I16="SI")=TRUE,M16*N16,"") -> 9522.3366 | P16: CUMPLE
B17: CTO 3 | C17: 34 | D17: UNIDAD ADMINISTRATIVA ESPECIAL DE AERONAURICA CIVIL | E17: ACTUALIZACIÓN, INSTALACIÓN Y PUESTA EN FUNCIONAMIENTO DEL SISTEMA DE VIGILANCIA AERONÁUTICA CABEZA RADAR CARIMAGUA | G17: SI | H17: SI | I17: SI | J17: G & C | K17: 43069 | L17: 19035632059 | M17: 25803.43 | N17: 1 | O17: =IF(AND(H17="SI",I17="SI")=TRUE,M17*N17,"") -> 25803.43 | P17: CUMPLE
O20: =IF(AND(H20="SI",I20="SI")=TRUE,M20*N20,"")
K21: SUMATORIA CONTRATO EN SMMLV | O21: =SUMIF(P15:P20,"CUMPLE",O15:O20) -> 50198.075
A22: OBSERVACIONES:
A23: EVALUACION EXPERIENCIA ESPECIFICA PROPONENTE | O23: EVALUACIÓN
A24: La AEROCIVIL verificará la experiencia específica del proponente con hasta tres (3) certificaciones de contratos o actas de liquidación o actas de terminación de contratos celebrados con entidades públicas o privadas, ejecutados y terminados; debidamente registrados en el RUP e identificados en el código UNSPSC 41115200; con las siguientes condiciones: A. Sumado el valor total de los contratos, expresado en SMMLV correspondiente a 32.951 sea igual o mayor al cien por ciento (100%) del presupuesto oficial. B. El objeto de los contratos deberá contener alguna de las dos siguientes actividades: i. Compraventa o suministro o fabricación (cualquiera de las tres), instalación y puesta en funcionamiento de sensores de vigilancia radar PSR. ii. Compraventa o suministro o fabricación (cualquiera de las tres), instalación y puesta en funcionamiento de sensores de vigilancia radar MSSR. C. Al menos uno (1) de los contratos acreditados deberá contener la siguiente actividad o experiencia: • Compraventa o suministro o fabricación (cualquiera de las tres), instalación y puesta en funcionamiento de sensores de vigilancia radar integrado PSR/MSSR Los contratos presentados en cualquiera de las alternativas deberán para cada caso acreditar como mínimo estar basados en tecnologías PSR estado sólido para los sistemas primarios y MSSR modo S para los relacionados con radar secundario. | O24: =IF(AND(O34>=$P$10,O34<>0),"CUMPLE","NO CUMPLE") -> CUMPLE
A25: CERTIFICACION No. | B25: CTO´S | C25: N° CONSECUTIVO EN EL RUP | D25: CONTRATANTE | E25: OBJETO | G25: PRESENTA DOCUMENTOS ENLISTADOS | H25: CUMPLE CODIGOS? | I25: OBJETO, ACTIVI U OBLIGACIONES RELACIONADAS CON ACTIVI REQUERIDAS | J25: QUIEN APORTA LA EXPERIENCIA? | K25: AÑO DE TERMINACION DEL CONTRATO | L25: VALOR TOTAL PESOS | M25: VALOR TOTAL SMMLV - RUP | N25: % PARTICIPACION | O25: VALOR TOTAL AFECTADO | P25: CUMPLE / NO CUMPLE
A26: 1 | B26: CTO 1 | C26: 13 | D26: UNIDAD ADMINISTRATIVA ESPECIAL DE AERONAURICA CIVIL | E26: ADQUISICIÓN, INSTALACIÓN Y PUESTA EN FUNCIONAMIENTO DE SISTEMA DE VIGILANCIA AERONÁUTICA CABEZA RADAR CERRO VERDE | G26: SI | H26: SI | I26: SI | J26: INGENIERÍA Y TELEMÁTICA G&C SAS | K26: 41255 | L26: 11252522217 | M26: 19856.22 | N26: 0.749 | O26: =IF(AND(H26="SI",I26="SI")=TRUE,M26*N26,"") -> 14872.309 | P26: CUMPLE
C27: 129 | D27: UNIDAD ADMINISTRATIVA ESPECIAL DE AERONAURICA CIVIL | E27: ADQUISICIÓN, INSTALACIÓN Y PUESTA EN FUNCIONAMIENTO DE SISTEMA DE VIGILANCIA AERONÁUTICA CABEZA RADAR CERRO VERDE | G27: SI | H27: SI | I27: SI | J27: ENERGÍA INTEGRAL ANDINA S.A | K27: 41255 | L27: 11252522217 | M27: 19856.22 | N27: 0.25 | O27: =IF(AND(H27="SI",I27="SI")=TRUE,M27*N27,"") -> 4964.055 | P27: CUMPLE
A28: 2 | B28: CTO 2 | C28: 17 | D28: UNIDAD ADMINISTRATIVA ESPECIAL DE AERONAURICA CIVIL | E28: ADQUISICIÓN, INSTALACIÓN Y PUESTA EN FUNCIONAMIENTO DE SISTEMA DE VIGILANCIA AERONÁUTICA CONSISTENTE EN LA CABEZA RADAR PARA EL AEROPUERTO DE FLANDES INCLUYE OBRA CIVIL | G28: SI | H28: SI | I28: SI | J28: INGENIERÍA Y TELEMÁTICA G&C SAS | K28: 41273 | L28: 7204684577 | M28: 12713.4 | N28: 0.749 | O28: =IF(AND(H28="SI",I28="SI")=TRUE,M28*N28,"") -> 9522.3366 | P28: CUMPLE
C29: 46 | D29: UNIDAD ADMINISTRATIVA ESPECIAL DE AERONAURICA CIVIL | E29: ADQUISICIÓN, INSTALACIÓN Y PUESTA EN FUNCIONAMIENTO DE SISTEMA DE VIGILANCIA AERONÁUTICA CONSISTENTE EN LA CABEZA RADAR PARA EL AEROPUERTO DE FLANDES INCLUYE OBRA CIVIL | G29: SI | H29: SI | I29: SI | J29: ENERGÍA INTEGRAL ANDINA S.A | K29: 41273 | L29: 7204684577 | M29: 12713.4 | N29: 0.25 | O29: =IF(AND(H29="SI",I29="SI")=TRUE,M29*N29,"") -> 3178.35 | P29: CUMPLE
A30: 3 | B30: CTO 3 | C30: 40 | D30: UNIDAD ADMINISTRATIVA ESPECIAL DE AERONAURICA CIVIL | E30: ADQUIRIR, INSTALAR Y PONER EN FUNCIONAMIENTO SISTEMA RADAR SECUNDARIO MODO S PARA LA ESTACIÓN DE ARARACUARA EN EL CAQUETÁ | G30: SI | H30: SI | I30: SI | J30: AIRAVATA | K30: 44757 | L30: 6536693800 | M30: 6536.69 | N30: 0.9 | O30: =IF(AND(H30="SI",I30="SI")=TRUE,M30*N30,"") -> 5883.021 | P30: CUMPLE
A31: 4 | O31: =IF(AND(H31="SI",I31="SI")=TRUE,M31*N31,"")
A32: 5 | O32: =IF(AND(H32="SI",I32="SI")=TRUE,M32*N32,"")
A33: 6 | O33: =IF(AND(H33="SI",I33="SI")=TRUE,M33*N33,"")
K34: SUMATORIA CONTRATO EN SMMLV | O34: =SUMIF(P26:P33,"CUMPLE",O26:O33) -> 38420.071
A35: OBSERVACIONES:
A36: OTROS ASPECTOS TÉCNICOS DE OBLIGATORIO CUMPLIMIENTO
A37: FORMATO No. 8 | P37: EVALUACIÓN
A38: Contiene la totalidad de condiciones y especificaciones técnicas de los bienes y/o servicios solicitados por la Entidad y que debe cumplir el contratista para el logro del objeto del presente proceso. Los requerimientos descritos en dicho formato técnico son los mínimos exigidos por la Entidad, de obligatorio cumplimiento y se constituirán en obligaciones para el contratista. Con la presentación y firma del Formato No. 14 Carta de Presentación de la Oferta, se entiende que el proponente conoce y acepta todos los requisitos allí establecidos. En tal sentido, no será necesario aportar el formato No. 8 con la propuesta y en consecuencia no será objeto de verificación del comité evaluador. El formato No. 8, el formato No. 10, las fichas técnicas, junto con la oferta serán los documentos referencia para la presentación, análisis y aprobación del SDD del Sistema. | P38: CUMPLE
A39: OBSERVACIONES:
A40: CARTA DE COMPROMISO | P40: EVALUACIÓN
A41: NA
A42: OBSERVACIONES:
A43: Certificado de Representación y Distribución Autorizada de los Bienes. | P43: EVALUACIÓN
...

Sheet F7 PROPUESTA ECONOMICA
T1: 1 | U1: Mediana con valor absoluto
A2: Fuente | B2: Superintendencia Financiera de Colombia (superfinanciera.gov.co) | T2: 2 | U2: Media Geométrica
B3: TRM: | C3: 4407.13 | T3: 3 | U3: Media Aritmética Baja
B4: Centavos de la TRM: | C4: =C3-TRUNC(C3,0) -> 0.13 | T4: 4 | U4: Menor Valor
B5: Número de método de ponderación: | C5: {=_xlfn.IFS(C4<0.25,1,C4<0.5,2,C4<0.75,3,C4<1,4)} -> 1
B6: Método de Ponderación: | C6: =VLOOKUP(C5,$T$1:$U$4,2,0) -> Mediana con valor absoluto
A7: Propuesta No. | B7: PROPONENTES HABILITADOS | C7: VALOR TOTAL FORMATO 7 | D7: ="Método de Ponderación final: "&C6 -> Método de Ponderación final: Mediana con valor absoluto | F7: Me (Referencia Mediana) | G7: Mediana con valor absoluto | H7: Ge (Referencia M. Geom.) | I7: Media Geométrica | J7: Media Aritmética Baja | K7: Menor Valor | L7: Propuesta
A8: 1 | B8: =IF(VLOOKUP(A8,RESUMEN!$C$8:$U$22,16,0)="NO CUMPLE","-",IFERROR(IF(VLOOKUP(A8,RESUMEN!$C$8:$F$22,2,0)=0,"",VLOOKUP(A8,RESUMEN!$C$8:$F$22,2,0)),"")) -> UNION TEMPORAL RADAR GEA 2024 | C8: 42814347240 | D8: =HLOOKUP($C$6,$G$7:$K$22,A8+1,0) -> 69.75 | F8: =IF(C8<>"",IF(C8-$C$24>0,ABS(C8-$C$24)+0.00000000001,ABS(C8-$C$24)),"") -> 0 | G8: =IFERROR($C$33*(1-ABS(($C$25-C8)/$C$25)),0) -> 69.75 | H8: =IF(C8<>"",ABS($C$27-C8),"") -> 0 | I8: =IFERROR(IF(H8=MIN($H$8:$H$22),$C$33,$C$33*(1-ABS($C$27-C8)/$C$27)),0) -> 69.75 | J8: =IFERROR($C$33*IF(C8<=$C$29,(1-($C$29-C8)/$C$29),(1-ABS($C$29-C8)/$C$29)),0) -> 46.5 | K8: =IFERROR($C$33*$C$31/C8,0) -> 69.75 | L8: =A8 -> 1
A9: 2 | B9: =IF(VLOOKUP(A9,RESUMEN!$C$8:$U$22,16,0)="NO CUMPLE","-",IFERROR(IF(VLOOKUP(A9,RESUMEN!$C$8:$F$22,2,0)=0,"",VLOOKUP(A9,RESUMEN!$C$8:$F$22,2,0)),"")) | D9: =HLOOKUP($C$6,$G$7:$K$22,A9+1,0) -> 0 | F9: =IF(C9<>"",IF($C$24-C9<0,ABS($C$24-C9)+0.00000000001,ABS($C$24-C9)-0.00000000001),"") | G9: =IFERROR($C$33*(1-ABS(($C$25-C9)/$C$25)),0) -> 0 | H9: =IF(C9<>"",ABS($C$27-C9),"") | I9: =IFERROR(IF(H9=MIN($H$8:$H$22),$C$33,$C$33*(1-ABS($C$27-C9)/$C$27)),0) -> 0 | J9: =IFERROR($C$33*IF(C9<=$C$29,(1-($C$29-C9)/$C$29),(1-ABS($C$29-C9)/$C$29)),0) -> 0 | K9: =IFERROR($C$33*$C$31/C9,0) -> 0 | L9: =A9 -> 2
A10: 3 | B10: =IF(VLOOKUP(A10,RESUMEN!$C$8:$U$22,16,0)="NO CUMPLE","-",IFERROR(IF(VLOOKUP(A10,RESUMEN!$C$8:$F$22,2,0)=0,"",VLOOKUP(A10,RESUMEN!$C$8:$F$22,2,0)),"")) | D10: =HLOOKUP($C$6,$G$7:$K$22,A10+1,0) -> 0 | F10: =IF(C10<>"",IF($C$24-C10<0,ABS($C$24-C10)+0.00000000001,ABS($C$24-C10)-0.00000000001),"") | G10: =IFERROR($C$33*(1-ABS(($C$25-C10)/$C$25)),0) -> 0 | H10: =IF(C10<>"",ABS($C$27-C10),"") | I10: =IFERROR(IF(H10=MIN($H$8:$H$22),$C$33,$C$33*(1-ABS($C$27-C10)/$C$27)),0) -> 0 | J10: =IFERROR($C$33*IF(C10<=$C$29,(1-($C$29-C10)/$C$29),(1-ABS($C$29-C10)/$C$29)),0) -> 0 | K10: =IFERROR($C$33*$C$31/C10,0) -> 0 | L10: =A10 -> 3
A11: 4 | B11: =IF(VLOOKUP(A11,RESUMEN!$C$8:$U$22,16,0)="NO CUMPLE","-",IFERROR(IF(VLOOKUP(A11,RESUMEN!$C$8:$F$22,2,0)=0,"",VLOOKUP(A11,RESUMEN!$C$8:$F$22,2,0)),"")) | D11: =HLOOKUP($C$6,$G$7:$K$22,A11+1,0) -> 0 | F11: =IF(C11<>"",IF($C$24-C11<0,ABS($C$24-C11)+0.00000000001,ABS($C$24-C11)-0.00000000001),"") | G11: =IFERROR($C$33*(1-ABS(($C$25-C11)/$C$25)),0) -> 0 | H11: =IF(C11<>"",ABS($C$27-C11),"") | I11: =IFERROR(IF(H11=MIN($H$8:$H$22),$C$33,$C$33*(1-ABS($C$27-C11)/$C$27)),0) -> 0 | J11: =IFERROR($C$33*IF(C11<=$C$29,(1-($C$29-C11)/$C$29),(1-ABS($C$29-C11)/$C$29)),0) -> 0 | K11: =IFERROR($C$33*$C$31/C11,0) -> 0 | L11: =A11 -> 4
A12: 5 | B12: =IF(VLOOKUP(A12,RESUMEN!$C$8:$U$22,16,0)="NO CUMPLE","-",IFERROR(IF(VLOOKUP(A12,RESUMEN!$C$8:$F$22,2,0)=0,"",VLOOKUP(A12,RESUMEN!$C$8:$F$22,2,0)),"")) | D12: =HLOOKUP($C$6,$G$7:$K$22,A12+1,0) -> 0 | F12: =IF(C12<>"",IF($C$24-C12<0,ABS($C$24-C12)+0.00000000001,ABS($C$24-C12)-0.00000000001),"") | G12: =IFERROR($C$33*(1-ABS(($C$25-C12)/$C$25)),0) -> 0 | H12: =IF(C12<>"",ABS($C$27-C12),"") | I12: =IFERROR(IF(H12=MIN($H$8:$H$22),$C$33,$C$33*(1-ABS($C$27-C12)/$C$27)),0) -> 0 | J12: =IFERROR($C$33*IF(C12<=$C$29,(1-($C$29-C12)/$C$29),(1-ABS($C$29-C12)/$C$29)),0) -> 0 | K12: =IFERROR($C$33*$C$31/C12,0) -> 0 | L12: =A12 -> 5
A13: 6 | B13: =IF(VLOOKUP(A13,RESUMEN!$C$8:$U$22,16,0)="NO CUMPLE","-",IFERROR(IF(VLOOKUP(A13,RESUMEN!$C$8:$F$22,2,0)=0,"",VLOOKUP(A13,RESUMEN!$C$8:$F$22,2,0)),"")) | D13: =HLOOKUP($C$6,$G$7:$K$22,A13+1,0) -> 0 | F13: =IF(C13<>"",IF($C$24-C13<0,ABS($C$24-C13)+0.00000000001,ABS($C$24-C13)-0.00000000001),"") | G13: =IFERROR($C$33*(1-ABS(($C$25-C13)/$C$25)),0) -> 0 | H13: =IF(C13<>"",ABS($C$27-C13),"") | I13: =IFERROR(IF(H13=MIN($H$8:$H$22),$C$33,$C$33*(1-ABS($C$27-C13)/$C$27)),0) -> 0 | J13: =IFERROR($C$33*IF(C13<=$C$29,(1-($C$29-C13)/$C$29),(1-ABS($C$29-C13)/$C$29)),0) -> 0 | K13: =IFERROR($C$33*$C$31/C13,0) -> 0 | L13: =A13 -> 6
A14: 7 | B14: =IF(VLOOKUP(A14,RESUMEN!$C$8:$U$22,16,0)="NO CUMPLE","-",IFERROR(IF(VLOOKUP(A14,RESUMEN!$C$8:$F$22,2,0)=0,"",VLOOKUP(A14,RESUMEN!$C$8:$F$22,2,0)),"")) | D14: =HLOOKUP($C$6,$G$7:$K$22,A14+1,0) -> 0 | F14: =IF(C14<>"",IF($C$24-C14<0,ABS($C$24-C14)+0.00000000001,ABS($C$24-C14)-0.00000000001),"") | G14: =IFERROR($C$33*(1-ABS(($C$25-C14)/$C$25)),0) -> 0 | H14: =IF(C14<>"",ABS($C$27-C14),"") | I14: =IFERROR(IF(H14=MIN($H$8:$H$22),$C$33,$C$33*(1-ABS($C$27-C14)/$C$27)),0) -> 0 | J14: =IFERROR($C$33*IF(C14<=$C$29,(1-($C$29-C14)/$C$29),(1-ABS($C$29-C14)/$C$29)),0) -> 0 | K14: =IFERROR($C$33*$C$31/C14,0) -> 0 | L14: =A14 -> 7
A15: 8 | B15: =IF(VLOOKUP(A15,RESUMEN!$C$8:$U$22,16,0)="NO CUMPLE","-",IFERROR(IF(VLOOKUP(A15,RESUMEN!$C$8:$F$22,2,0)=0,"",VLOOKUP(A15,RESUMEN!$C$8:$F$22,2,0)),"")) | D15: =HLOOKUP($C$6,$G$7:$K$22,A15+1,0) -> 0 | F15: =IF(C15<>"",IF($C$24-C15<0,ABS($C$24-C15)+0.00000000001,ABS($C$24-C15)-0.00000000001),"") | G15: =IFERROR($C$33*(1-ABS(($C$25-C15)/$C$25)),0) -> 0 | H15: =IF(C15<>"",ABS($C$27-C15),"") | I15: =IFERROR(IF(H15=MIN($H$8:$H$22),$C$33,$C$33*(1-ABS($C$27-C15)/$C$27)),0) -> 0 | J15: =IFERROR($C$33*IF(C15<=$C$29,(1-($C$29-C15)/$C$29),(1-ABS($C$29-C15)/$C$29)),0) -> 0 | K15: =IFERROR($C$33*$C$31/C15,0) -> 0 | L15: =A15 -> 8
A16: 9 | B16: =IF(VLOOKUP(A16,RESUMEN!$C$8:$U$22,16,0)="NO CUMPLE","-",IFERROR(IF(VLOOKUP(A16,RESUMEN!$C$8:$F$22,2,0)=0,"",VLOOKUP(A16,RESUMEN!$C$8:$F$22,2,0)),"")) | D16: =HLOOKUP($C$6,$G$7:$K$22,A16+1,0) -> 0 | F16: =IF(C16<>"",IF($C$24-C16<0,ABS($C$24-C16)+0.00000000001,ABS($C$24-C16)-0.00000000001),"") | G16: =IFERROR($C$33*(1-ABS(($C$25-C16)/$C$25)),0) -> 0 | H16: =IF(C16<>"",ABS($C$27-C16),"") | I16: =IFERROR(IF(H16=MIN($H$8:$H$22),$C$33,$C$33*(1-ABS($C$27-C16)/$C$27)),0) -> 0 | J16: =IFERROR($C$33*IF(C16<=$C$29,(1-($C$29-C16)/$C$29),(1-ABS($C$29-C16)/$C$29)),0) -> 0 | K16: =IFERROR($C$33*$C$31/C16,0) -> 0 | L16: =A16 -> 9
A17: 10 | B17: =IF(VLOOKUP(A17,RESUMEN!$C$8:$U$22,16,0)="NO CUMPLE","-",IFERROR(IF(VLOOKUP(A17,RESUMEN!$C$8:$F$22,2,0)=0,"",VLOOKUP(A17,RESUMEN!$C$8:$F$22,2,0)),"")) | D17: =HLOOKUP($C$6,$G$7:$K$22,A17+1,0) -> 0 | F17: =IF(C17<>"",IF($C$24-C17<0,ABS($C$24-C17)+0.00000000001,ABS($C$24-C17)-0.00000000001),"") | G17: =IFERROR($C$33*(1-ABS(($C$25-C17)/$C$25)),0) -> 0 | H17: =IF(C17<>"",ABS($C$27-C17),"") | I17: =IFERROR(IF(H17=MIN($H$8:$H$22),$C$33,$C$33*(1-ABS($C$27-C17)/$C$27)),0) -> 0 | J17: =IFERROR($C$33*IF(C17<=$C$29,(1-($C$29-C17)/$C$29),(1-ABS($C$29-C17)/$C$29)),0) -> 0 | K17: =IFERROR($C$33*$C$31/C17,0) -> 0 | L17: =A17 -> 10
A18: 11 | B18: =IF(VLOOKUP(A18,RESUMEN!$C$8:$U$22,16,0)="NO CUMPLE","-",IFERROR(IF(VLOOKUP(A18,RESUMEN!$C$8:$F$22,2,0)=0,"",VLOOKUP(A18,RESUMEN!$C$8:$F$22,2,0)),"")) | D18: =HLOOKUP($C$6,$G$7:$K$22,A18+1,0) -> 0 | F18: =IF(C18<>"",IF($C$24-C18<0,ABS($C$24-C18)+0.00000000001,ABS($C$24-C18)-0.00000000001),"") | G18: =IFERROR($C$33*(1-ABS(($C$25-C18)/$C$25)),0) -> 0 | H18: =IF(C18<>"",ABS($C$27-C18),"") | I18: =IFERROR(IF(H18=MIN($H$8:$H$22),$C$33,$C$33*(1-ABS($C$27-C18)/$C$27)),0) -> 0 | J18: =IFERROR($C$33*IF(C18<=$C$29,(1-($C$29-C18)/$C$29),(1-ABS($C$29-C18)/$C$29)),0) -> 0 | K18: =IFERROR($C$33*$C$31/C18,0) -> 0 | L18: =A18 -> 11
A19: 12 | B19: =IF(VLOOKUP(A19,RESUMEN!$C$8:$U$22,16,0)="NO CUMPLE","-",IFERROR(IF(VLOOKUP(A19,RESUMEN!$C$8:$F$22,2,0)=0,"",VLOOKUP(A19,RESUMEN!$C$8:$F$22,2,0)),"")) | D19: =HLOOKUP($C$6,$G$7:$K$22,A19+1,0) -> 0 | F19: =IF(C19<>"",IF($C$24-C19<0,ABS($C$24-C19)+0.00000000001,ABS($C$24-C19)-0.00000000001),"") | G19: =IFERROR($C$33*(1-ABS(($C$25-C19)/$C$25)),0) -> 0 | H19: =IF(C19<>"",ABS($C$27-C19),"") | I19: =IFERROR(IF(H19=MIN($H$8:$H$22),$C$33,$C$33*(1-ABS($C$27-C19)/$C$27)),0) -> 0 | J19: =IFERROR($C$33*IF(C19<=$C$29,(1-($C$29-C19)/$C$29),(1-ABS($C$29-C19)/$C$29)),0) -> 0 | K19: =IFERROR($C$33*$C$31/C19,0) -> 0 | L19: =A19 -> 12
A20: 13 | B20: =IF(VLOOKUP(A20,RESUMEN!$C$8:$U$22,16,0)="NO CUMPLE","-",IFERROR(IF(VLOOKUP(A20,RESUMEN!$C$8:$F$22,2,0)=0,"",VLOOKUP(A20,RESUMEN!$C$8:$F$22,2,0)),"")) | D20: =HLOOKUP($C$6,$G$7:$K$22,A20+1,0) -> 0 | F20: =IF(C20<>"",IF($C$24-C20<0,ABS($C$24-C20)+0.00000000001,ABS($C$24-C20)-0.00000000001),"") | G20: =IFERROR($C$33*(1-ABS(($C$25-C20)/$C$25)),0) -> 0 | H20: =IF(C20<>"",ABS($C$27-C20),"") | I20: =IFERROR(IF(H20=MIN($H$8:$H$22),$C$33,$C$33*(1-ABS($C$27-C20)/$C$27)),0) -> 0 | J20: =IFERROR($C$33*IF(C20<=$C$29,(1-($C$29-C20)/$C$29),(1-ABS($C$29-C20)/$C$29)),0) -> 0 | K20: =IFERROR($C$33*$C$31/C20,0) -> 0 | L20: =A20 -> 13
... A22: 15 | B22: =IF(VLOOKUP(A22,RESUMEN!$C$8:$U$22,16,0)="NO CUMPLE","-",IFERROR(IF(VLOOKUP(A22,RESUMEN!$C$8:$F$22,2,0)=0,"",VLOOKUP(A22,RESUMEN!$C$8:$F$22,2,0)),"")) | D22: =HLOOKUP($C$6,$G$7:$K$22,A22+1,0) -> 0 | F22: =IF(C22<>"",IF($C$24-C22<0,ABS($C$24-C22)+0.00000000001,ABS($C$24-C22)-0.00000000001),"") | G22: =IFERROR($C$33*(1-ABS(($C$25-C22)/$C$25)),0) -> 0 | H22: =IF(C22<>"",ABS($C$27-C22),"") | I22: =IFERROR(IF(H22=MIN($H$8:$H$22),$C$33,$C$33*(1-ABS($C$27-C22)/$C$27)),0) -> 0 | J22: =IFERROR($C$33*IF(C22<=$C$29,(1-($C$29-C22)/$C$29),(1-ABS($C$29-C22)/$C$29)),0) -> 0 | K22: =IFERROR($C$33*$C$31/C22,0) -> 0 | L22: =A22 -> 15
B24: Mediana con valor absoluto: | C24: =IFERROR(MEDIAN(C8:C22),0) -> 42814347240
B25: Valor Me o VMe (Central para impar o bajo para par): | C25: =IFERROR(VLOOKUP(VLOOKUP(MIN($F$8:$F$22),$F$8:$L$22,7,0),$A$8:$C$22,3,0),0) -> 42814347240
B27: Media Geométrica: | C27: =IFERROR(GEOMEAN(C8:C22),0) -> 42814347240
B29: Media Aritmetica Baja: | C29: =IFERROR((MIN(C8:C22)+AVERAGE(C8:C22)/2),0) -> 64221520860
B31: Menor Valor: | C31: =MIN(C8:C22) -> 42814347240
B33: Máximo puntaje a asignar: | C33: 69.75

Sheet Serie Historica SMMLV
A1: Salario mínimo legal en Colombia
A2: 1.1.1. Serie histórica en pesos colombianos_periodicidad anual
A4: Información disponible desde el 1 de julio de 1984.
A6: Año (aaaa) | B6: Salario mínimo diario (COP) | C6: Salario mínimo mensual (COP)
A7: 1984 | B7: 376.6 | C7: 11298
A8: 1985 | B8: 451.92 | C8: 13558
A9: 1986 | B9: 560.38 | C9: 16811
A10: 1987 | B10: 683.66 | C10: 20510
A11: 1988 | B11: 854.58 | C11: 25637
A12: 1989 | B12: 1085.32 | C12: 32560
A13: 1990 | B13: 1367.5 | C13: 41025
A14: 1991 | B14: 1724 | C14: 51720
A15: 1992 | B15: 2173 | C15: 65190
A16: 1993 | B16: 2717 | C16: 81510
A17: 1994 | B17: 3290 | C17: 98700
A18: 1995 | B18: 3964.45 | C18: 118934
... A46: 2023 | B46: 38666.67 | C46: 1160000
A47: 2022 | B47: =C47/30 -> 43333.333 | C47: 1300000
A49: Fuente: Ministerio del Trabajo (www.mintrabajo.gov.co) y decretos del Gobierno Nacional (www.presidencia.gov.co).
A51: Notas:
A53: desde el 1 de julio de 1984 se unificó el salario mínimo para todos los sectores de la economía. En los años en que se decretó el salario mínimo diario, este se multiplica por 30 días y se redondea a la unidad para determinar el valor mensual. Cuando se decretó el salario mínimo mensual, se divide por 30 y se redondea a dos decimales para obtener el salario diario.
A55: Variación porcentual con respecto al dato del año inmediatamente anterior.
A56: (N/A) No aplica
A58: Banco de la República - Gerencia Técnica - información extraída de la bodega de datos -Serankua- el 08/11/2023 14:22:43
