Workbook
Name \a: #REF!
Name \a: #REF!
Name \b: #REF!
Name \b: #REF!
Name \eliminar: [1]RESUM96!#REF!
Name \eliminar: [1]RESUM96!#REF!
Name \eliminar1: [1]RESUM96!#REF!
Name \eliminar1: [1]RESUM96!#REF!
Name \q: #REF!
Name \q: #REF!
Name ______EST1: #REF!
Name ______EST1: #REF!
Name ______EST10: #REF!
Name ______EST10: #REF!
Name ______EST11: #REF!
Name ______EST11: #REF!
Name ______EST12: #REF!
Name ______EST12: #REF!
Name ______EST13: #REF!
Name ______EST13: #REF!
Name ______EST14: #REF!
Name ______EST14: #REF!
Name ______EST15: #REF!
Name ______EST15: #REF!
Name ______EST16: #REF!
Name ______EST16: #REF!
Name ______EST17: #REF!
Name ______EST17: #REF!
Name ______EST18: #REF!
Name ______EST18: #REF!
Name ______EST19: #REF!
Name ______EST19: #REF!
Name ______EST2: #REF!
Name ______EST2: #REF!
Name ______EST3: #REF!
Name ______EST3: #REF!
Name ______EST4: #REF!
Name ______EST4: #REF!
Name ______EST5: #REF!
Name ______EST5: #REF!
Name ______EST6: #REF!
Name ______EST6: #REF!
Name ______EST7: #REF!
Name ______EST7: #REF!
Name ______EST8: #REF!
Name ______EST8: #REF!
Name ______EST9: #REF!
Name ______EST9: #REF!
Name ______EXC1: #REF!
Name ______EXC1: #REF!
Name ______EXC10: #REF!
Name ______EXC10: #REF!
Name ______EXC11: #REF!
Name ______EXC11: #REF!
Name ______EXC12: #REF!
Name ______EXC12: #REF!
Name ______EXC2: #REF!
Name ______EXC2: #REF!
Name ______EXC3: #REF!
Name ______EXC3: #REF!

Sheet ESP TECNI
A1: ESPECIFICACIONES TECNICAS
A2: OBJETO: REALIZAR LA INTERVENTORÍA TÉCNICA, ADMINISTRATIVA, FINANCIERA, JURÍDICA Y CONTABLE PARA EL CONTRATO QUE TIENE POR OBJETO "IMPLEMENTAR ACCIONES INTEGRALES CON ENFOQUE PARTICIPATIVO PARA LA RESTAURACIÓN EN ÁREAS DE IMPORTANCIA AMBIENTAL EN MICROCUENCAS PRIORIZADAS (QUEBRADA EL TEJAR - CHOCONTA)"
A3: 1. PERSONAL
A5: 1.2 | B5: PERSONAL INTERVENTOR
A6: ÍTEM | B6: DESCRIPCIÓN | C6: UNIDAD | D6: CANTIDAD (A) | E6: DEDICACIÓN MENSUAL (B) | F6: MESES ( C ) | G6: F.M. ( E )
A7: 1.2.1 | B7: DIRECTOR DE INTERVENTORIA | C7: H/M | D7: 1 | E7: 0.3 | F7: 12 | G7: ='F.M.'!$D$53 -> 2
A8: 1.2.2 | B8: BIÓLOGO | C8: H/M | D8: 1 | E8: 0.4 | F8: 8 | G8: ='F.M.'!$D$53 -> 2
A9: 1.2.3 | B9: INGENIERO AGRÓNOMO | C9: H/M | D9: 1 | E9: 0.4 | F9: 11 | G9: ='F.M.'!$D$53 -> 2
A10: 1.2.4 | B10: PROFESIONAL SOCIAL | C10: H/M | D10: 1 | E10: 0.5 | F10: 11 | G10: ='F.M.'!$D$53 -> 2
A11: 1.1.5 | B11: ESPECIALISTA EN RIESGOS | C11: H/M | D11: 1 | E11: 0.2 | F11: 6 | G11: ='F.M.'!$D$53 -> 2
A12: 1.1.7 | C12: H/M
A13: 1.1.8 | C13: H/M
A14: 1.1.9 | C14: H/M
A15: 1.1.10 | C15: H/M
A16: 1.1.11 | C16: H/M
A17: 1.1.12 | C17: H/M
A19: 2. TRANSPORTE
A21: 2.1 | B21: TRANSPORTE PERSONAL INTERVENTOR
A22: ITEM | B22: DESCRIPCIÓN | D22: CANTIDAD (A) | E22: DEDICACION ( B ) | F22: MESES (C)
A23: 2.1.1 | B23: ALQUILER CAMIONETA DOBLE CABINA CON PLATON 4X4 2000 CC, MODELO 2015 EN ADELANTE, INCLUYE CONDUCTOR Y TODO COSTO ASOCIADO) | D23: 1 | E23: 0.5 | F23: 12
A24: 2 | B24: CAMIONETA DOBLE CABINA PLATON 4X4: 2.600 c.c. y capacidad mínima de carga de 700 Kg., o superior
A25: 3 | B25: CAMPEROS O CAMIONETA WAGON 4x4 Cilindraje mínimo: 1.300 c.c.
A26: 4 | B26: CAMIONETA WAGON 4x2 Cilindraje mínimo: 1.300 c.c.
A37: _________________________________________________________ Ing. EDWIN GIOVANNI GARCÍA MASMELA Dirección de Recursos nNturales - DNR
B39: Proyectó: xxxxxx - Contratista DRN - CAR

Sheet ANEXO ECONOMICO
A1: ANEXO ECONOMICO
A2: OBJETO: REALIZAR LA INTERVENTORÍA TÉCNICA, ADMINISTRATIVA, FINANCIERA, JURÍDICA Y CONTABLE PARA EL CONTRATO QUE TIENE POR OBJETO "IMPLEMENTAR ACCIONES INTEGRALES CON ENFOQUE PARTICIPATIVO PARA LA RESTAURACIÓN EN ÁREAS DE IMPORTANCIA AMBIENTAL EN MICROCUENCAS PRIORIZADAS (QUEBRADA EL TEJAR - CHOCONTA)"
A3: 1. PERSONAL
A5: 1.2 | B5: PERSONAL INTERVENTOR
A6: ÍTEM | B6: DESCRIPCIÓN | C6: UNIDAD | D6: CANTIDAD (A) | E6: DEDICACIÓN MENSUAL (B) | F6: MESES ( C ) | G6: VALOR MAXIMO CAR | H6: VALOR MENSUAL (D) | I6: F.M. ( E ) | J6: F.M. MAXIMO CAR | K6: VALOR TOTAL (AxBxCxDxE)
A7: 1.2.1 | B7: DIRECTOR DE INTERVENTORIA | C7: H/M | D7: 1 | E7: 0.3 | F7: 12 | G7: ='1 PERSONAL'!$R$12 -> 9447048 | I7: ='F.M.'!$D$53 -> 2 | K7: =ROUND(D7*E7*F7*H7*J7,0) -> 0
A8: 1.2.2 | B8: BIÓLOGO | C8: H/M | D8: 1 | E8: 0.4 | F8: 8 | G8: ='1 PERSONAL'!$R$14 -> 6920514 | I8: ='F.M.'!$D$53 -> 2 | K8: =ROUND(D8*E8*F8*H8*J8,0) -> 0
A9: 1.2.3 | B9: INGENIERO AGRÓNOMO | C9: H/M | D9: 1 | E9: 0.4 | F9: 11 | G9: ='1 PERSONAL'!$R$14 -> 6920514 | I9: ='F.M.'!$D$53 -> 2 | K9: =ROUND(D9*E9*F9*H9*J9,0) -> 0
A10: 1.2.4 | B10: PROFESIONAL SOCIAL | C10: H/M | D10: 1 | E10: 0.5 | F10: 11 | G10: ='1 PERSONAL'!$R$14 -> 6920514 | I10: ='F.M.'!$D$53 -> 2 | K10: =ROUND(D10*E10*F10*H10*J10,0) -> 0
A11: 1.1.5 | B11: ESPECIALISTA EN RIESGOS | C11: H/M | D11: 1 | E11: 0.2 | F11: 6 | G11: ='1 PERSONAL'!$R$14 -> 6920514 | I11: ='F.M.'!$D$53 -> 2 | K11: =ROUND(D11*E11*F11*H11*J11,0) -> 0
A12: 1.1.7 | C12: H/M | I12: ='F.M.'!$D$53 -> 2 | K12: =ROUND(D12*E12*F12*G12*I12,0) -> 0
A13: 1.1.8 | C13: H/M | I13: ='F.M.'!$D$53 -> 2 | K13: =ROUND(D13*E13*F13*G13*I13,0) -> 0
A14: 1.1.9 | C14: H/M | I14: ='F.M.'!$D$53 -> 2 | K14: =ROUND(D14*E14*F14*G14*I14,0) -> 0
A15: 1.1.10 | C15: H/M | I15: ='F.M.'!$D$53 -> 2 | K15: =ROUND(D15*E15*F15*G15*I15,0) -> 0
A16: 1.1.11 | C16: H/M | I16: ='F.M.'!$D$53 -> 2 | K16: =ROUND(D16*E16*F16*G16*I16,0) -> 0
A17: 1.1.12 | C17: H/M | I17: ='F.M.'!$D$53 -> 2 | K17: =ROUND(D17*E17*F17*G17*I17,0) -> 0
A18: SUBTOTAL | K18: =+SUM(K7:K11) -> 0
A19: IVA 19% | K19: =ROUND((+K18*0.19),0) -> 0
A20: 1.2 TOTAL PERSONAL INTERVENTOR | K20: =+K19+K18 -> 0
A22: 2. TRANSPORTE
A24: 2.1 | B24: TRANSPORTE PERSONAL INTERVENTOR
A25: ITEM | B25: DESCRIPCIÓN | D25: CANTIDAD (A) | E25: DEDICACION ( B ) | F25: MESES (C) | H25: VALOR MAXIMO CAR | J25: VALOR UNITARIO (D) | K25: VALOR TOTAL (AxBxCxD)
A26: 2.1.1 | B26: ALQUILER CAMIONETA DOBLE CABINA CON PLATON 4X4 2000 CC, MODELO 2015 EN ADELANTE, INCLUYE CONDUCTOR Y TODO COSTO ASOCIADO) | D26: 1 | E26: 0.5 | F26: 12 | H26: ='2 TRANSPORTE'!$R$12 -> 11551053 | K26: =D26*F26*J26*E26 -> 0
A27: 2 | B27: CAMIONETA DOBLE CABINA PLATON 4X4: 2.600 c.c. y capacidad mínima de carga de 700 Kg., o superior | K27: =D27*F27*I27 -> 0
A28: 3 | B28: CAMPEROS O CAMIONETA WAGON 4x4 Cilindraje mínimo: 1.300 c.c. | K28: =D28*F28*I28 -> 0
A29: 4 | B29: CAMIONETA WAGON 4x2 Cilindraje mínimo: 1.300 c.c. | K29: =D29*F29*I29 -> 0
A30: SUBTOTAL TRANSPORTE | K30: =SUM(K26:K29) -> 0
A31: IVA 19% | K31: =ROUND((K30*19%),0) -> 0
A32: 2.1 TOTAL TRANSPORTE PERSONAL INTERVENTOR | K32: =SUM(K30:K31) -> 0
A34: TOTAL PRESUPUESTO | K34: =K20+K32 -> 0 | L34: =K34*10% -> 0 | M34: =K34*90% -> 0
A46: _________________________________________________________ Ing. EDWIN GIOVANNI GARCÍA MASMELA Dirección de Recursos nNturales - DNR
B48: Proyectó: xxxxxx - Contratista DRN - CAR

Sheet PRESUPUESTO
A1: PRESUPUESTO OFICIAL
A2: OBJETO: REALIZAR LA INTERVENTORÍA TÉCNICA, ADMINISTRATIVA, FINANCIERA, JURÍDICA Y CONTABLE PARA EL CONTRATO QUE TIENE POR OBJETO "IMPLEMENTAR ACCIONES INTEGRALES CON ENFOQUE PARTICIPATIVO PARA LA RESTAURACIÓN EN ÁREAS DE IMPORTANCIA AMBIENTAL EN MICROCUENCAS PRIORIZADAS (QUEBRADA EL TEJAR - CHOCONTA)"
A3: 1. PERSONAL
A5: 1.2 | B5: PERSONAL INTERVENTOR
A6: ÍTEM | B6: DESCRIPCIÓN | C6: UNIDAD | D6: CANTIDAD (A) | E6: DEDICACIÓN MENSUAL (B) | F6: MESES ( C ) | G6: VALOR MENSUAL (D) | H6: F.M. ( E ) | I6: VALOR TOTAL (AxBxCxDxE)
A7: 1.2.1 | B7: DIRECTOR DE INTERVENTORIA | C7: H/M | D7: 1 | E7: 0.3 | F7: 12 | G7: ='1 PERSONAL'!$R$12 -> 9447048 | H7: ='F.M.'!$D$53 -> 2 | I7: =ROUND(D7*E7*F7*G7*H7,0) -> 68018746
A8: 1.2.2 | B8: BIÓLOGO | C8: H/M | D8: 1 | E8: 0.4 | F8: 8 | G8: ='1 PERSONAL'!$R$14 -> 6920514 | H8: ='F.M.'!$D$53 -> 2 | I8: =ROUND(D8*E8*F8*G8*H8,0) -> 44291290
A9: 1.2.3 | B9: INGENIERO AGRÓNOMO | C9: H/M | D9: 1 | E9: 0.4 | F9: 11 | G9: ='1 PERSONAL'!$R$14 -> 6920514 | H9: ='F.M.'!$D$53 -> 2 | I9: =ROUND(D9*E9*F9*G9*H9,0) -> 60900523
A10: 1.2.4 | B10: PROFESIONAL SOCIAL | C10: H/M | D10: 1 | E10: 0.5 | F10: 11 | G10: ='1 PERSONAL'!$R$14 -> 6920514 | H10: ='F.M.'!$D$53 -> 2 | I10: =ROUND(D10*E10*F10*G10*H10,0) -> 76125654
A11: 1.1.5 | B11: ESPECIALISTA EN RIESGOS | C11: H/M | D11: 1 | E11: 0.2 | F11: 6 | G11: ='1 PERSONAL'!$R$14 -> 6920514 | H11: ='F.M.'!$D$53 -> 2 | I11: =ROUND(D11*E11*F11*G11*H11,0) -> 16609234
A12: 1.1.7 | C12: H/M | H12: ='F.M.'!$D$53 -> 2 | I12: =ROUND(D12*E12*F12*G12*H12,0) -> 0
A13: 1.1.8 | C13: H/M | H13: ='F.M.'!$D$53 -> 2 | I13: =ROUND(D13*E13*F13*G13*H13,0) -> 0
A14: 1.1.9 | C14: H/M | H14: ='F.M.'!$D$53 -> 2 | I14: =ROUND(D14*E14*F14*G14*H14,0) -> 0
A15: 1.1.10 | C15: H/M | H15: ='F.M.'!$D$53 -> 2 | I15: =ROUND(D15*E15*F15*G15*H15,0) -> 0
A16: 1.1.11 | C16: H/M | H16: ='F.M.'!$D$53 -> 2 | I16: =ROUND(D16*E16*F16*G16*H16,0) -> 0
A17: 1.1.12 | C17: H/M | H17: ='F.M.'!$D$53 -> 2 | I17: =ROUND(D17*E17*F17*G17*H17,0) -> 0
A18: SUBTOTAL | I18: =+SUM(I7:I11) -> 265945447
A19: IVA 19% | I19: =ROUND((+I18*0.19),0) -> 50529635
A20: 1. TOTAL PERSONAL INTERVENTOR | I20: =+I19+I18 -> 316475082
A22: 2. TRANSPORTE
A24: 2.1 | B24: TRANSPORTE 2025
A25: ITEM | B25: DESCRIPCIÓN | D25: CANTIDAD (A) | E25: DEDICACION ( B ) | F25: MESES (C) | H25: VALOR UNITARIO (D) | I25: VALOR TOTAL (AxBxCxD)
A26: 2.1.1 | B26: ALQUILER CAMIONETA DOBLE CABINA CON PLATON 4X4 2000 CC, MODELO 2015 EN ADELANTE, INCLUYE CONDUCTOR Y TODO COSTO ASOCIADO) | D26: 1 | E26: 0.5 | F26: 12 | H26: ='2 TRANSPORTE'!$R$12 -> 11551053 | I26: =D26*F26*H26*E26 -> 69306318
A27: 2 | B27: CAMIONETA DOBLE CABINA PLATON 4X4: 2.600 c.c. y capacidad mínima de carga de 700 Kg., o superior | I27: =D27*F27*H27 -> 0
A28: 3 | B28: CAMPEROS O CAMIONETA WAGON 4x4 Cilindraje mínimo: 1.300 c.c. | I28: =D28*F28*H28 -> 0
A29: 4 | B29: CAMIONETA WAGON 4x2 Cilindraje mínimo: 1.300 c.c. | I29: =D29*F29*H29 -> 0
A30: SUBTOTAL TRANSPORTE | I30: =SUM(I26:I29) -> 69306318 | K30: PAA | L30: 400001130
A31: IVA 19% | I31: =ROUND((I30*19%),0) -> 13168200 | K31: DIFERE | L31: =L30-I34 -> 1051530
A32: 2.1 TOTAL TRANSPORTE PERSONAL INTERVENTOR | I32: =SUM(I30:I31) -> 82474518
A34: TOTAL PRESUPUESTO | I34: =I20+I32 -> 398949600 | J34: =I34*10% -> 39894960 | K34: =I34*90% -> 359054640
K36: =I34/1300000 -> 306.88431
A46: _________________________________________________________ Ing. EDWIN GIOVANNI GARCÍA MASMELA Dirección de Recursos nNturales - DNR
B48: Proyectó: xxxxxx - Contratista DRN - CAR

Sheet F.M.
A1: FACTOR MULTIPLICADOR.
A2: OBJETO: REALIZAR LA INTERVENTORÍA TÉCNICA, ADMINISTRATIVA, FINANCIERA, JURÍDICA Y CONTABLE PARA EL CONTRATO QUE TIENE POR OBJETO "IMPLEMENTAR ACCIONES INTEGRALES CON ENFOQUE PARTICIPATIVO PARA LA RESTAURACIÓN EN ÁREAS DE IMPORTANCIA AMBIENTAL EN MICROCUENCAS PRIORIZADAS (QUEBRADA EL TEJAR - CHOCONTA)
B4: CONCEPTO | D4: PORCENTAJE
A5: 1. | B5: Salarios y Prestaciones Sociales de Personal Facturable
A7: 1.1 | B7: Salarios | D7: 1
A8: 1.2 | B8: Prima de servicios (Junio -Diciembre) | D8: =1/12 -> 0.083333333
A9: 1.3 | B9: Cesantía | D9: =1/12 -> 0.083333333
A10: 1.4 | B10: Intereses de cesantía | D10: 0.01
A11: 1.5 | B11: Vacaciones | D11: =+D9/2 -> 0.041666667
A12: 1.6 | B12: Seguridad Social (salud + pensión) | D12: 0.205
A13: 1.7 | B13: Caja de Compensación Familiar | D13: 0.04
A14: 1.8 | B14: ARL | D14: 0.02436
A15: 1.9 | B15: Sena | D15: 0.02
A16: 1.10 | B16: ICBF | D16: 0.03
A17: 1.11 | B17: Otros (Auxilios varios, prestaciones extralegales, Incapacidades no cubertas) | D17: 0
A18: 1.12 | B18: Dotación (Para Ingresos Laborales hasta 2 SMLV, Demas cuando son actividades de Campo o que requieran dotacion) | D18: 0
C19: Sub-total | D19: =SUM(D7:D18) -> 1.5376933
A21: 2. | B21: Gastos Directos
A23: 2.1 | B23: Arriendo oficina | D23: 0.01
A24: 2.2 | B24: Servicios Públicos oficina | D24: 0.01
C25: Sub-total | D25: =SUM(D23:D24) -> 0.02
A27: 3. | B27: Gastos Generales
A29: 3.1 | B29: Asesoria Legal y Contable | D29: 0.01
A30: 3.2 | B30: Personal Administrativo no facturable (secretaria, mesajero, vigilancia) | D30: 0.01
A31: 3.3 | B31: Mantenimiento y Operación Oficina | D31: 0.01
A32: 3.4 | B32: Útiles y Papelería | D32: 0.01
A33: 3.5 | B33: Gastos Bancarios y Costos Financieros | D33: 0.01
A34: 3.6 | B34: Hardware, Software y Licencias | D34: 0.01
A35: 3.8 | B35: Trasnporte | D35: 0.025
C37: Sub-total | D37: =SUM(D29:D36) -> 0.085
A39: 4. | B39: Costos Directos no Reembolsables
A41: 4.1 | B41: Poliza de Calidad | D41: 0.02
A42: 4.2 | B42: Póliza Cumplimiento | D42: 0.02
A43: 4.3 | B43: Póliza Salarios y prestaciones Sociales | D43: 0.01
A44: 4.4 | B44: Póliza Responsabilidad Civil Extracontractual | D44: 0.01
A45: 4.5 | B45: Retefuente. (Obra 2%, compras 2.5%, servicios 4%, honorarios 11%) | D45: 0.11 | G45: FM, Es calculado unicamente para el componenete de personal,;es por ello que la retencion en la fuente fue determinada con respecto a los honarios de los profesonales mas no al proceso de manera integral.
A46: 4.6 | B46: Rete ICA | D46: 0.0069
A47: 4.7 | B47: Impuestos, Tasas y Contribuciones de Ley | D47: 0.005
C48: Sub-total | D48: =SUM(D41:D47) -> 0.1819
A50: 5. | B50: Honorarios (Utilidad del consultor y costos no previstos) | C50: Sub-total | D50: =10*(+D19+D25+D37+D48)/100 -> 0.18245933
...

Sheet 1 PERSONAL
A1: GUIA TECNICA
A2: SERVICIOS CONSULTORIA CAR
A3: RESOLUCION 1044 DE JUNIO 28 DE 2013
A5: PERSONAL PROFESIONAL | V5: Valor sugerido por Direccion y SGEN
A7: CATEG. | B7: SUELDO MAXIMO | C7: EXPERIENCIA GENERAL | D7: EXPERIENCIA ESPECIFICA | E7: ESTUDIOS ADICIONALES | G7: AÑO 2014 | H7: AÑO 2015 | I7: AÑO 2016 | J7: AÑO 2017 | K7: AÑO 2018 | L7: AÑO 2019 | M7: AÑO 2020 | N7: AÑO 2021 | O7: AÑO 2022 | P7: AÑO 2023 | Q7: AÑO 2024 | R7: AÑO 2025 | S7: AÑO 2026 | T7: AÑO 2027 | V7: =R7 -> AÑO 2025
B8: PESOS (S) | C8: AÑOS | G8: ='IPC 2013 - 2024'!L8 -> 0.0194 | H8: ='IPC 2013 - 2024'!M8 -> 0.0366 | I8: ='IPC 2013 - 2024'!N8 -> 0.0677 | J8: ='IPC 2013 - 2024'!O8 -> 0.0575 | K8: ='IPC 2013 - 2024'!P8 -> 0.0409 | L8: ='IPC 2013 - 2024'!Q8 -> 0.0318 | M8: ='IPC 2013 - 2024'!R8 -> 0.038 | N8: ='IPC 2013 - 2024'!S8 -> 0.0161 | ... Q8: ='IPC 2013 - 2024'!V8 -> 0.0928 | R8: ='IPC 2025 - 2026'!$C$25 -> 0.056 | S8: ='IPC 2025 - 2026'!$C$26 -> 0.038 | T8: 0.03 | V8: ='IPC 2025 - 2026'!$C$25 -> 0.056
A9: 1. PERSONAL | G9: 1. PERSONAL
A10: 1 | B10: 6484500 | C10: Minimo 15 | D10: Minimo 10 | E10: MAESTRIA o SUPERIOR | G10: =ROUND(B10+(B10*$G$8),0) -> 6610299 | H10: =ROUND(+G10+(G10*$H$8),0) -> 6852236 | I10: =ROUND(+H10+(H10*$I$8),0) -> 7316132 | J10: =ROUND(+I10+(I10*$J$8),0) -> 7736810 | K10: =ROUND(J10+(J10*$K$8),0) -> 8053246 | L10: =ROUND(K10+(K10*$L$8),0) -> 8309339 | M10: =ROUND(L10+(L10*$M$8),0) -> 8625094 | N10: =ROUND(M10+(M10*$N$8),0) -> 8763958 | O10: =ROUND(N10+(N10*$O$8),0) -> 9256492 | P10: =ROUND(O10+(O10*$P$8),0) -> 10470944 | Q10: =ROUND(P10+(P10*$Q$8),0) -> 11442648 | R10: =ROUND(Q10+(Q10*$R$8),0) -> 12083436 | S10: =ROUND(R10+(R10*$S$8),0) -> 12542607 | T10: =ROUND(S10+(S10*$T$8),0) -> 12918885 | V10: =ROUND(Q10+(V8*$Q$10),0) -> 12083436
A11: 2 | B11: 5777100 | C11: Minimo 12 | D11: Minimo 8 | E11: ESPECIALIZACION O SUPERIO | G11: =ROUND(B11+(B11*$G$8),0) -> 5889176 | H11: =ROUND(+G11+(G11*$H$8),0) -> 6104720 | I11: =ROUND(+H11+(H11*$I$8),0) -> 6518010 | J11: =ROUND(+I11+(I11*$J$8),0) -> 6892796 | K11: =ROUND(J11+(J11*$K$8),0) -> 7174711 | L11: =ROUND(K11+(K11*$L$8),0) -> 7402867 | M11: =ROUND(L11+(L11*$M$8),0) -> 7684176 | N11: =ROUND(M11+(M11*$N$8),0) -> 7807891 | O11: =ROUND(N11+(N11*$O$8),0) -> 8246694 | P11: =ROUND(O11+(O11*$P$8),0) -> 9328660 | Q11: =ROUND(P11+(P11*$Q$8),0) -> 10194360 | R11: =ROUND(Q11+(Q11*$R$8),0) -> 10765244 | S11: =ROUND(R11+(R11*$S$8),0) -> 11174323 | T11: =ROUND(S11+(S11*$T$8),0) -> 11509553 | V11: =ROUND(Q11+(V8*$Q$11),0) -> 10765244
A12: 3 | B12: 5069700 | C12: Minimo 10 | D12: Minimo 6 | E12: ESPECIALIZACION O SUPERIO | G12: =ROUND(B12+(B12*$G$8),0) -> 5168052 | H12: =ROUND(+G12+(G12*$H$8),0) -> 5357203 | I12: =ROUND(+H12+(H12*$I$8),0) -> 5719886 | J12: =ROUND(+I12+(I12*$J$8),0) -> 6048779 | K12: =ROUND(J12+(J12*$K$8),0) -> 6296174 | L12: =ROUND(K12+(K12*$L$8),0) -> 6496392 | M12: =ROUND(L12+(L12*$M$8),0) -> 6743255 | N12: =ROUND(M12+(M12*$N$8),0) -> 6851821 | O12: =ROUND(N12+(N12*$O$8),0) -> 7236893 | P12: =ROUND(O12+(O12*$P$8),0) -> 8186373 | Q12: =ROUND(P12+(P12*$Q$8),0) -> 8946068 | R12: =ROUND(Q12+(Q12*$R$8),0) -> 9447048 | S12: =ROUND(R12+(R12*$S$8),0) -> 9806036 | T12: =ROUND(S12+(S12*$T$8),0) -> 10100217 | V12: =ROUND(Q12+(V8*$Q$12),0) -> 9447048
A13: 4 | B13: 4362300 | C13: Minimo 8 | D13: Minimo 4 | E13: OPCIONAL | G13: =ROUND(B13+(B13*$G$8),0) -> 4446929 | H13: =ROUND(+G13+(G13*$H$8),0) -> 4609687 | I13: =ROUND(+H13+(H13*$I$8),0) -> 4921763 | J13: =ROUND(+I13+(I13*$J$8),0) -> 5204764 | K13: =ROUND(J13+(J13*$K$8),0) -> 5417639 | L13: =ROUND(K13+(K13*$L$8),0) -> 5589920 | M13: =ROUND(L13+(L13*$M$8),0) -> 5802337 | N13: =ROUND(M13+(M13*$N$8),0) -> 5895755 | O13: =ROUND(N13+(N13*$O$8),0) -> 6227096 | P13: =ROUND(O13+(O13*$P$8),0) -> 7044091 | Q13: =ROUND(P13+(P13*$Q$8),0) -> 7697783 | R13: =ROUND(Q13+(Q13*$R$8),0) -> 8128859 | S13: =ROUND(R13+(R13*$S$8),0) -> 8437756 | T13: =ROUND(S13+(S13*$T$8),0) -> 8690889 | V13: =ROUND(Q13+(V8*$Q$13),0) -> 8128859
A14: 5 | B14: 3713850 | C14: Minimo 6 | D14: Minimo 3 | E14: OPCIONAL | G14: =ROUND(B14+(B14*$G$8),0) -> 3785899 | H14: =ROUND(+G14+(G14*$H$8),0) -> 3924463 | I14: =ROUND(+H14+(H14*$I$8),0) -> 4190149 | J14: =ROUND(+I14+(I14*$J$8),0) -> 4431083 | K14: =ROUND(J14+(J14*$K$8),0) -> 4612314 | L14: =ROUND(K14+(K14*$L$8),0) -> 4758986 | M14: =ROUND(L14+(L14*$M$8),0) -> 4939827 | N14: =ROUND(M14+(M14*$N$8),0) -> 5019358 | O14: =ROUND(N14+(N14*$O$8),0) -> 5301446 | P14: =ROUND(O14+(O14*$P$8),0) -> 5996996 | Q14: =ROUND(P14+(P14*$Q$8),0) -> 6553517 | R14: =ROUND(Q14+(Q14*$R$8),0) -> 6920514 | S14: =ROUND(R14+(R14*$S$8),0) -> 7183494 | T14: =ROUND(S14+(S14*$T$8),0) -> 7398999 | V14: =ROUND(Q14+(V8*$Q$14),0) -> 6920514
A15: 6 | B15: 3065400 | C15: Minimo 4 | D15: Minimo 2 | E15: OPCIONAL | G15: =ROUND(B15+(B15*$G$8),0) -> 3124869 | H15: =ROUND(+G15+(G15*$H$8),0) -> 3239239 | I15: =ROUND(+H15+(H15*$I$8),0) -> 3458535 | J15: =ROUND(+I15+(I15*$J$8),0) -> 3657401 | K15: =ROUND(J15+(J15*$K$8),0) -> 3806989 | L15: =ROUND(K15+(K15*$L$8),0) -> 3928051 | M15: =ROUND(L15+(L15*$M$8),0) -> 4077317 | N15: =ROUND(M15+(M15*$N$8),0) -> 4142962 | O15: =ROUND(N15+(N15*$O$8),0) -> 4375796 | P15: =ROUND(O15+(O15*$P$8),0) -> 4949900 | Q15: =ROUND(P15+(P15*$Q$8),0) -> 5409251 | R15: =ROUND(Q15+(Q15*$R$8),0) -> 5712169 | S15: =ROUND(R15+(R15*$S$8),0) -> 5929231 | T15: =ROUND(S15+(S15*$T$8),0) -> 6107108 | V15: =ROUND(Q15+(V8*$Q$15),0) -> 5712169
A16: 7 | B16: 2416950 | C16: Minimo 2 | D16: Minimo 1 | E16: NO REQUIERE | G16: =ROUND(B16+(B16*$G$8),0) -> 2463839 | H16: =ROUND(+G16+(G16*$H$8),0) -> 2554016 | I16: =ROUND(+H16+(H16*$I$8),0) -> 2726923 | J16: =ROUND(+I16+(I16*$J$8),0) -> 2883721 | K16: =ROUND(J16+(J16*$K$8),0) -> 3001665 | L16: =ROUND(K16+(K16*$L$8),0) -> 3097118 | M16: =ROUND(L16+(L16*$M$8),0) -> 3214808 | N16: =ROUND(M16+(M16*$N$8),0) -> 3266566 | O16: =ROUND(N16+(N16*$O$8),0) -> 3450147 | P16: =ROUND(O16+(O16*$P$8),0) -> 3902806 | Q16: =ROUND(P16+(P16*$Q$8),0) -> 4264986 | R16: =ROUND(Q16+(Q16*$R$8),0) -> 4503825 | S16: =ROUND(R16+(R16*$S$8),0) -> 4674970 | T16: =ROUND(S16+(S16*$T$8),0) -> 4815219 | V16: =ROUND(Q16+(V8*$Q$16),0) -> 4503825
A17: 8 | B17: 1768500 | C17: Hasta 2 | D17: No requiere | E17: NO REQUIERE | G17: =ROUND(B17+(B17*$G$8),0) -> 1802809 | H17: =ROUND(+G17+(G17*$H$8),0) -> 1868792 | I17: =ROUND(+H17+(H17*$I$8),0) -> 1995309 | J17: =ROUND(+I17+(I17*$J$8),0) -> 2110039 | K17: =ROUND(J17+(J17*$K$8),0) -> 2196340 | L17: =ROUND(K17+(K17*$L$8),0) -> 2266184 | M17: =ROUND(L17+(L17*$M$8),0) -> 2352299 | N17: =ROUND(M17+(M17*$N$8),0) -> 2390171 | O17: =ROUND(N17+(N17*$O$8),0) -> 2524499 | P17: =ROUND(O17+(O17*$P$8),0) -> 2855713 | Q17: =ROUND(P17+(P17*$Q$8),0) -> 3120723 | R17: =ROUND(Q17+(Q17*$R$8),0) -> 3295483 | S17: =ROUND(R17+(R17*$S$8),0) -> 3420711 | T17: =ROUND(S17+(S17*$T$8),0) -> 3523332 | V17: =ROUND(Q17+(V8*$Q$17),0) -> 3295483
A19: PERSONAL TECNOLOGO
A21: CATEGORIA | B21: SUELDO MAXIMO | C21: EXPERIENCIA GENERAL | D21: EXPERIENCIA ESPECIFICA | E21: ESTUDIOS ADICIONALES | G21: AÑO 2014 | H21: AÑO 2015 | I21: AÑO 2016 | J21: AÑO 2017 | K21: AÑO 2018 | L21: AÑO 2019 | M21: AÑO 2020 | N21: AÑO 2021 | O21: AÑO 2022 | P21: AÑO 2023 | Q21: AÑO 2024 | R21: AÑO 2025 | S21: AÑO 2026 | T21: AÑO 2027 | V21: =R21 -> AÑO 2025
B22: PESOS (S) | C22: AÑOS | G22: =G8 -> 0.0194 | H22: =H8 -> 0.0366 | I22: =I8 -> 0.0677 | J22: =J8 -> 0.0575 | K22: =K8 -> 0.0409 | L22: =L8 -> 0.0318 | M22: =M8 -> 0.038 | N22: =N8 -> 0.0161 | ... T22: =T8 -> 0.03 | V22: =$V$8 -> 0.056
A23: 1. PERSONAL | G23: 1. PERSONAL
A24: 1 | B24: 2947500 | C24: Minimo 10 | D24: Minimo 6 | E24: NA | G24: =ROUND(B24+(B24*$G$8),0) -> 3004682 | H24: =ROUND(+G24+(G24*$H$8),0) -> 3114653 | I24: =ROUND(+H24+(H24*$I$8),0) -> 3325515 | J24: =ROUND(+I24+(I24*$J$8),0) -> 3516732 | K24: =ROUND(J24+(J24*$K$8),0) -> 3660566 | L24: =ROUND(K24+(K24*$L$22),0) -> 3776972 | M24: =ROUND(L24+(L24*$M$22),0) -> 3920497 | N24: =ROUND(M24+(M24*$N$22),0) -> 3983617 | O24: =ROUND(N24+(N24*$O$22),0) -> 4207496 | P24: =ROUND(O24+(O24*$P$22),0) -> 4759519 | Q24: =ROUND(P24+(P24*$Q$22),0) -> 5201202 | R24: =ROUND(Q24+(Q24*$R$22),0) -> 5492469 | S24: =ROUND(R24+(R24*$S$22),0) -> 5701183 | T24: =ROUND(S24+(S24*$T$22),0) -> 5872218 | V24: =ROUND(Q24+(V22*$Q$24),0) -> 5492469
A25: 2 | B25: 2358000 | C25: Minimo 6 | D25: Minimo 2 | E25: NA | G25: =ROUND(B25+(B25*$G$8),0) -> 2403745 | H25: =ROUND(+G25+(G25*$H$8),0) -> 2491722 | I25: =ROUND(+H25+(H25*$I$8),0) -> 2660412 | J25: =ROUND(+I25+(I25*$J$8),0) -> 2813386 | K25: =ROUND(J25+(J25*$K$8),0) -> 2928453 | L25: =ROUND(K25+(K25*$L$22),0) -> 3021578 | M25: =ROUND(L25+(L25*$M$22),0) -> 3136398 | N25: =ROUND(M25+(M25*$N$22),0) -> 3186894 | O25: =ROUND(N25+(N25*$O$22),0) -> 3365997 | P25: =ROUND(O25+(O25*$P$22),0) -> 3807616 | Q25: =ROUND(P25+(P25*$Q$22),0) -> 4160963 | R25: =ROUND(Q25+(Q25*$R$22),0) -> 4393977 | S25: =ROUND(R25+(R25*$S$22),0) -> 4560948 | T25: =ROUND(S25+(S25*$T$22),0) -> 4697776 | V25: =ROUND(Q25+(V22*$Q$25),0) -> 4393977
A26: 3 | B26: 1768500 | C26: Minimo 2 | D26: Hasta 1 | E26: NA | G26: =ROUND(B26+(B26*$G$8),0) -> 1802809 | H26: =ROUND(+G26+(G26*$H$8),0) -> 1868792 | I26: =ROUND(+H26+(H26*$I$8),0) -> 1995309 | J26: =ROUND(+I26+(I26*$J$8),0) -> 2110039 | K26: =ROUND(J26+(J26*$K$8),0) -> 2196340 | L26: =ROUND(K26+(K26*$L$22),0) -> 2266184 | M26: =ROUND(L26+(L26*$M$22),0) -> 2352299 | N26: =ROUND(M26+(M26*$N$22),0) -> 2390171 | O26: =ROUND(N26+(N26*$O$22),0) -> 2524499 | P26: =ROUND(O26+(O26*$P$22),0) -> 2855713 | Q26: =ROUND(P26+(P26*$Q$22),0) -> 3120723 | R26: =ROUND(Q26+(Q26*$R$22),0) -> 3295483 | S26: =ROUND(R26+(R26*$S$22),0) -> 3420711 | T26: =ROUND(S26+(S26*$T$22),0) -> 3523332 | V26: =ROUND(Q26+(V22*$Q$26),0) -> 3295483
B27: =+(B25+B26)/2 -> 2063250 | G27: =ROUND(B27+(B27*$G$8),0) -> 2103277 | H27: =ROUND(+G27+(G27*$H$8),0) -> 2180257 | I27: =ROUND(+H27+(H27*$I$8),0) -> 2327860 | J27: =ROUND(+I27+(I27*$J$8),0) -> 2461712 | K27: =ROUND(J27+(J27*$K$8),0) -> 2562396 | L27: =ROUND(K27+(K27*$L$22),0) -> 2643880 | M27: =ROUND(L27+(L27*$M$22),0) -> 2744347 | N27: =ROUND(M27+(M27*$N$22),0) -> 2788531 | O27: =ROUND(N27+(N27*$O$22),0) -> 2945246 | P27: =ROUND(O27+(O27*$P$22),0) -> 3331662 | Q27: =ROUND(P27+(P27*$Q$22),0) -> 3640840 | R27: =ROUND(Q27+(Q27*$R$22),0) -> 3844727 | S27: =ROUND(R27+(R27*$S$22),0) -> 3990827 | T27: =ROUND(S27+(S27*$T$22),0) -> 4110552 | V27: =ROUND(Q27+(V22*$Q$27),0) -> 3844727
A28: PERSONAL TECNICO
A30: CATEGORIA | B30: SUELDO MAXIMO | C30: EXPERIENCIA GENERAL | D30: EXPERIENCIA ESPECIFICA | E30: ESTUDIOS ADICIONALES | G30: AÑO 2014 | H30: AÑO 2015 | I30: AÑO 2016 | J30: AÑO 2017 | K30: AÑO 2018 | L30: AÑO 2019 | M30: AÑO 2020 | N30: AÑO 2021 | O30: AÑO 2022 | P30: AÑO 2023 | Q30: AÑO 2024 | R30: AÑO 2025 | S30: AÑO 2026 | T30: AÑO 2027 | V30: =R30 -> AÑO 2025
B31: PESOS (S) | C31: AÑOS | G31: =G8 -> 0.0194 | H31: =H8 -> 0.0366 | I31: =I8 -> 0.0677 | J31: =J8 -> 0.0575 | K31: =K8 -> 0.0409 | L31: =L8 -> 0.0318 | M31: =M8 -> 0.038 | N31: =N8 -> 0.0161 | ... T31: =T8 -> 0.03 | V31: =$V$8 -> 0.056
A32: 1. PERSONAL | G32: 1. PERSONAL
A33: 1 | B33: 1768500 | C33: Minimo 8 | D33: Minimo 4 | E33: NA | G33: =ROUND(B33+(B33*$G$8),0) -> 1802809 | H33: =ROUND(+G33+(G33*$H$8),0) -> 1868792 | I33: =ROUND(+H33+(H33*$I$8),0) -> 1995309 | J33: =ROUND(+I33+(I33*$J$8),0) -> 2110039 | K33: =ROUND(J33+(J33*$K$8),0) -> 2196340 | L33: =ROUND(K33+(K33*$L$31),0) -> 2266184 | M33: =ROUND(L33+(L33*$M$31),0) -> 2352299 | N33: =ROUND(M33+(M33*$N$31),0) -> 2390171 | O33: =ROUND(N33+(N33*$O$31),0) -> 2524499 | P33: =ROUND(O33+(O33*$P$31),0) -> 2855713 | Q33: =ROUND(P33+(P33*$Q$31),0) -> 3120723 | R33: =ROUND(Q33+(Q33*$R$31),0) -> 3295483 | S33: =ROUND(R33+(R33*$S$31),0) -> 3420711 | T33: =ROUND(S33+(S33*$T$31),0) -> 3523332 | V33: =ROUND(Q33+(V31*$Q$33),0) -> 3295483
A34: 2 | B34: 1473750 | C34: Minimo 5 | D34: Minimo 2 | E34: NA | G34: =ROUND(B34+(B34*$G$8),0) -> 1502341 | H34: =ROUND(+G34+(G34*$H$8),0) -> 1557327 | I34: =ROUND(+H34+(H34*$I$8),0) -> 1662758 | J34: =ROUND(+I34+(I34*$J$8),0) -> 1758367 | K34: =ROUND(J34+(J34*$K$8),0) -> 1830284 | L34: =ROUND(K34+(K34*$L$31),0) -> 1888487 | M34: =ROUND(L34+(L34*$M$31),0) -> 1960250 | N34: =ROUND(M34+(M34*$N$31),0) -> 1991810 | O34: =ROUND(N34+(N34*$O$31),0) -> 2103750 | P34: =ROUND(O34+(O34*$P$31),0) -> 2379762 | Q34: =ROUND(P34+(P34*$Q$31),0) -> 2600604 | R34: =ROUND(Q34+(Q34*$R$31),0) -> 2746238 | S34: =ROUND(R34+(R34*$S$31),0) -> 2850595 | T34: =ROUND(S34+(S34*$T$31),0) -> 2936113 | V34: =ROUND(Q34+(V31*$Q$34),0) -> 2746238
A35: 3 | B35: 1179000 | C35: Minimo 2 | D35: Hasta 1 | E35: NA | G35: =ROUND(B35+(B35*$G$8),0) -> 1201873 | H35: =ROUND(+G35+(G35*$H$8),0) -> 1245862 | I35: =ROUND(+H35+(H35*$I$8),0) -> 1330207 | J35: =ROUND(+I35+(I35*$J$8),0) -> 1406694 | K35: =ROUND(J35+(J35*$K$8),0) -> 1464228 | L35: =ROUND(K35+(K35*$L$31),0) -> 1510790 | M35: =ROUND(L35+(L35*$M$31),0) -> 1568200 | N35: =ROUND(M35+(M35*$N$31),0) -> 1593448 | O35: =ROUND(N35+(N35*$O$31),0) -> 1683000 | P35: =ROUND(O35+(O35*$P$31),0) -> 1903810 | Q35: =ROUND(P35+(P35*$Q$31),0) -> 2080484 | R35: =ROUND(Q35+(Q35*$R$31),0) -> 2196991 | S35: =ROUND(R35+(R35*$S$31),0) -> 2280477 | T35: =ROUND(S35+(S35*$T$31),0) -> 2348891 | V35: =ROUND(Q35+(V31*$Q$35),0) -> 2196991
A37: PERSONAL NO CALIFICADO
A39: CATEGORIA | B39: SUELDO MAXIMO | C39: EXPERIENCIA GENERAL | D39: EXPERIENCIA ESPECIFICA | E39: ESTUDIOS | G39: AÑO 2014 | H39: AÑO 2015 | I39: AÑO 2016 | J39: AÑO 2017 | K39: AÑO 2018 | L39: AÑO 2019 | M39: AÑO 2020 | N39: AÑO 2021 | O39: AÑO 2022 | P39: AÑO 2023 | Q39: AÑO 2024 | R39: AÑO 2025 | S39: AÑO 2026 | T39: AÑO 2027 | V39: =R39 -> AÑO 2025
B40: PESOS (S) | C40: AÑOS | G40: =G8 -> 0.0194 | H40: =H8 -> 0.0366 | I40: =I8 -> 0.0677 | J40: =J8 -> 0.0575 | K40: =K8 -> 0.0409 | L40: =L8 -> 0.0318 | M40: =M8 -> 0.038 | N40: =N8 -> 0.0161 | ... T40: =T8 -> 0.03 | V40: =$V$8 -> 0.056
A41: 1. PERSONAL | G41: 1. PERSONAL
A42: 1 | B42: 1179000 | C42: Minimo 4 | D42: Minimo 2 | E42: Bachiller y Estudios no formales | G42: =ROUND(B42+(B42*$G$8),0) -> 1201873 | H42: =ROUND(+G42+(G42*$H$8),0) -> 1245862 | I42: =ROUND(+H42+(H42*$I$8),0) -> 1330207 | J42: =ROUND(+I42+(I42*$J$8),0) -> 1406694 | K42: =ROUND(J42+(J42*$K$8),0) -> 1464228 | L42: =ROUND(K42+(K42*$L$40),0) -> 1510790 | M42: =ROUND(L42+(L42*$M$40),0) -> 1568200 | N42: =ROUND(M42+(M42*$N$40),0) -> 1593448 | O42: =ROUND(N42+(N42*$O$40),0) -> 1683000 | P42: =ROUND(O42+(O42*$P$40),0) -> 1903810 | Q42: =ROUND(P42+(P42*$Q$40),0) -> 2080484 | R42: =ROUND(Q42+(Q42*$R$40),0) -> 2196991 | S42: =ROUND(R42+(R42*$S$40),0) -> 2280477 | T42: =ROUND(S42+(S42*$T$40),0) -> 2348891 | V42: =ROUND(Q42+(V40*$Q$42),0) -> 2196991
A43: 2 | B43: 884250 | C43: Minimo 2 | D43: Minimo 1 | E43: Bachiller | G43: =ROUND(B43+(B43*$G$8),0) -> 901404 | H43: =ROUND(+G43+(G43*$H$8),0) -> 934395 | I43: =ROUND(+H43+(H43*$I$8),0) -> 997654 | J43: =ROUND(+I43+(I43*$J$8),0) -> 1055019 | K43: =ROUND(J43+(J43*$K$8),0) -> 1098169 | L43: =ROUND(K43+(K43*$L$40),0) -> 1133091 | M43: =ROUND(L43+(L43*$M$40),0) -> 1176148 | N43: =ROUND(M43+(M43*$N$40),0) -> 1195084 | O43: =ROUND(N43+(N43*$O$40),0) -> 1262248 | P43: =ROUND(O43+(O43*$P$40),0) -> 1427855 | Q43: =ROUND(P43+(P43*$Q$40),0) -> 1560360 | R43: =ROUND(Q43+(Q43*$R$40),0) -> 1647740 | S43: =ROUND(R43+(R43*$S$40),0) -> 1710354 | T43: =ROUND(S43+(S43*$T$40),0) -> 1761665 | V43: =ROUND(Q43+(V40*$Q$43),0) -> 1647740
A44: 3 | B44: 589500 | C44: Minimo 2 | D44: Hasta 1 | E44: ninguno | G44: =ROUND(B44+(B44*$G$8),0) -> 600936 | H44: =ROUND(+G44+(G44*$H$8),0) -> 622930 | I44: =ROUND(+H44+(H44*$I$8),0) -> 665102 | J44: =ROUND(+I44+(I44*$J$8),0) -> 703345 | K44: =ROUND(J44+(J44*$K$8),0) -> 732112 | L44: =ROUND(K44+(K44*$L$40),0) -> 755393 | M44: =ROUND(L44+(L44*$M$40),0) -> 784098 | N44: =ROUND(M44+(M44*$N$40),0) -> 796722 | O44: =ROUND(N44+(N44*$O$40),0) -> 841498 | P44: =ROUND(O44+(O44*$P$40),0) -> 951903 | Q44: =ROUND(P44+(P44*$Q$40),0) -> 1040240 | R44: =ROUND(Q44+(Q44*$R$40),0) -> 1098493 | S44: =ROUND(R44+(R44*$S$40),0) -> 1140236 | T44: =ROUND(S44+(S44*$T$40),0) -> 1174443 | V44: =ROUND(Q44+(V40*$Q$44),0) -> 1098493

Sheet IPC 2013 - 2024
A1: Meta de inflación e inflación total al consumidor
A2: 1.1. Serie histórica_periodicidad mensual
A4: Información disponible a partir de enero de 1993.
A6: Banco de la República - Gerencia Técnica - información extraída de la bodega de datos -Serankua- el 02/10/2024 09:35:42
I7: IPC | J7: 2011 | K7: 2012 | L7: 2013 | M7: 2014 | N7: 2015 | O7: 2016 | P7: 2017 | Q7: 2018 | R7: 2019 | S7: 2020 | T7: 2021 | U7: 2022 | V7: 2023
A8: Año(aaaa)-Mes(mm) | B8: Inflación total 1 | C8: Límite superior | D8: Meta de inflación | E8: Límite inferior | G8: IPC | I8: % | J8: =$G$161 -> 0.0373 | K8: =$G$149 -> 0.0244 | L8: =$G$137 -> 0.0194 | M8: =$G$125 -> 0.0366 | N8: =$G$113 -> 0.0677 | O8: =$G$101 -> 0.0575 | P8: =$G$89 -> 0.0409 | Q8: =$G$77 -> 0.0318 | R8: =$G$65 -> 0.038 | S8: =$G$53 -> 0.0161 | T8: =$G$41 -> 0.0562 | U8: =$G$29 -> 0.1312 | V8: =$G$17 -> 0.0928
A9: 202408 | B9: 6.12 | C9: 4 | D9: 3 | E9: 2
A10: 202407 | B10: 6.86 | C10: 4 | D10: 3 | E10: 2
A11: 202406 | B11: 7.18 | C11: 4 | D11: 3 | E11: 2
A12: 202405 | B12: 7.16 | C12: 4 | D12: 3 | E12: 2
A13: 202404 | B13: 7.16 | C13: 4 | D13: 3 | E13: 2
A14: 202403 | B14: 7.36 | C14: 4 | D14: 3 | E14: 2
A15: 202402 | B15: 7.74 | C15: 4 | D15: 3 | E15: 2
A16: 202401 | B16: 8.35 | C16: 4 | D16: 3 | E16: 2
A17: 202312 | B17: 9.28 | C17: 4 | D17: 3 | E17: 2 | G17: =B17/100 -> 0.0928
A18: 202311 | B18: 10.15 | C18: 4 | D18: 3 | E18: 2 | G18: =B18/100 -> 0.1015
A19: 202310 | B19: 10.48 | C19: 4 | D19: 3 | E19: 2 | G19: =B19/100 -> 0.1048
A20: 202309 | B20: 10.99 | C20: 4 | D20: 3 | E20: 2 | G20: =B20/100 -> 0.1099
A21: 202308 | B21: 11.43 | C21: 4 | D21: 3 | E21: 2 | G21: =B21/100 -> 0.1143
A22: 202307 | B22: 11.78 | C22: 4 | D22: 3 | E22: 2 | G22: =B22/100 -> 0.1178
A23: 202306 | B23: 12.13 | C23: 4 | D23: 3 | E23: 2 | G23: =B23/100 -> 0.1213
A24: 202305 | B24: 12.36 | C24: 4 | D24: 3 | E24: 2 | G24: =B24/100 -> 0.1236
A25: 202304 | B25: 12.82 | C25: 4 | D25: 3 | E25: 2 | G25: =B25/100 -> 0.1282
A26: 202303 | B26: 13.34 | C26: 4 | D26: 3 | E26: 2 | G26: =B26/100 -> 0.1334
A27: 202302 | B27: 13.28 | C27: 4 | D27: 3 | E27: 2 | G27: =B27/100 -> 0.1328
A28: 202301 | B28: 13.25 | C28: 4 | D28: 3 | E28: 2 | G28: =B28/100 -> 0.1325
... A161: 201112 | B161: 3.73 | C161: 4 | D161: 3 | E161: 2 | G161: =B161/100 -> 0.0373
A163: Fuente: Meta de inflación, Junta Directiva Banco de la República. Inflación total al consumidor, DANE.
A165: Nota: Atendiendo lo previsto en el parágrafo del artículo 2o. de la Ley 31 de 1992, la Junta Directiva del Banco de la República ha fijado la meta de inflación para cada año a partir de 1993. En el comunicado de prensa del 27 de noviembre de 2015, la Junta Directiva del Banco de la República, de conformidad con la Ley 31 de 1992, reitera que la meta de inflación es el 3% http://www.banrep.gov.co/es/comunicado-27-11-2015-2.
A167: ¹ Inflación total al consumidor se refiere a la variación doce meses del IPC total Nacional Ponderado, producido por el DANE.
A169: Banco de la República - Gerencia Técnica - información extraída de la bodega de datos -Serankua- el 02/10/2024 09:35:42
A170: https://www.banrep.gov.co/es/estadisticas/indice-precios-consumidor-ipc

Sheet IPC 2025 - 2026
B22: https://d1b4gd4m8561gs.cloudfront.net/sites/default/files/eme-graficas.pdf
B25: Espectativa de IPC para diciembre 2024 | C25: 0.056
B26: Espectativa de IPC para diciembre 2025 | C26: 0.038

Sheet 2 TRANSPORTE
B1: GUIA TECNICA
B2: SERVICIOS CONSULTORIA CAR
B3: RESOLUCION 1044 DE JUNIO 28 DE 2013
B7: OPCION N°2 TRANSPORTE
B8: CONCEPTO | E8: RESOLUCIÓN CAR 1044 DE 2013
E9: VEHÍCULO | F9: AÑO 2013 | G9: AÑO 2014 | H9: AÑO 2015 | I9: AÑO 2016 | J9: AÑO 2017 | K9: AÑO 2018 | L9: AÑO 2019 | M9: AÑO 2020 | N9: AÑO 2021 | O9: AÑO 2022 | P9: AÑO 2023 | Q9: AÑO 2024 | R9: AÑO 2025
G10: 0.0194 | H10: 0.0366 | I10: 0.0677 | J10: 0.0575 | K10: 0.0409 | L10: 0.0318 | M10: 0.038 | N10: 0.0161 | O10: 0.0562 | P10: 0.1312 | Q10: 0.0928 | R10: 0.056
B11: ALQUILER CAMPERO 4X 4 2000 CC, MODELO 2015 EN ADELANTE, INCLUYE CONDUCTOR Y TODO COSTO ASOCIADO) | E11: MENOR A 2000 CC | F11: 4514200 | G11: =ROUND(F11+(F11*G$10),0) -> 4601775 | H11: =ROUND(G11+(G11*H$10),0) -> 4770200 | I11: =ROUND(H11+(H11*I$10),0) -> 5093143 | J11: =ROUND(I11+(I11*J$10),0) -> 5385999 | K11: =ROUND(J11+(J11*K$10),0) -> 5606286 | L11: =ROUND(K11+(K11*L$10),0) -> 5784566 | M11: =ROUND(L11+(L11*M$10),0) -> 6004380 | N11: =ROUND(M11+(M11*N$10),0) -> 6101051 | ... R11: =ROUND(Q11+(Q11*R$10),0) -> 8411914
B12: ALQUILER CAMIONETA DOBLE CABINA CON PLATON 4X4 2000 CC, MODELO 2015 EN ADELANTE, INCLUYE CONDUCTOR Y TODO COSTO ASOCIADO) | E12: MAYOR A 2000 CC | F12: 6198800 | G12: =ROUND(F12+(F12*G$10),0) -> 6319057 | H12: =ROUND(G12+(G12*H$10),0) -> 6550334 | I12: =ROUND(H12+(H12*I$10),0) -> 6993792 | J12: =ROUND(I12+(I12*J$10),0) -> 7395935 | K12: =ROUND(J12+(J12*K$10),0) -> 7698429 | L12: =ROUND(K12+(K12*L$10),0) -> 7943239 | M12: =ROUND(L12+(L12*M$10),0) -> 8245082 | N12: =ROUND(M12+(M12*N$10),0) -> 8377828 | ... R12: =ROUND(Q12+(Q12*R$10),0) -> 11551053
B13: El servicio de transporte Publico esta excluido de IVA. Articulo 476 numeral 9. "El servicio de transporte público, terrestre, fluvial y marítimo de personas en el territorio nacional, y el de transporte público o privado nacional e internacional de carga marítimo, fluvial, terrestre y aéreo. Igualmente, se excluye el transporte de carga marítimo, fluvial, terrestre y aéreo. Igualmente, se excluye el transporte de gas e hidrocarburos."
