Workbook

Sheet Julieth 
A1: No. DE CONTRATO | B1: NOMBRE CONTRATISTA | C1: VALOR MENSUAL | D1: VALOR TOTAL CONTRATO INICIAL | E1: FECHA DE INICIO | F1: FECHA DE TERMINACIÓN | G1: MITAD CONTRATO | H1: VALOR PRORROGA PRÓRROGA Y ADICION | I1: FECHA DE PRÓRROGA | J1: ADICION | K1: VALOR TOTAL | L1: VALOR PAGADO | M1: NOVIEMBRE | N1: DICIEMBRE | O1: ENERO | P1: FEBRERO | Q1: TOTAL A PAGAR | R1: DIFERENCIA
A2: 1021-2024 | B2: John Sebastian Donato Caro | C2: 4853520 | D2: 29121120 | E2: 45463 | F2: 45645 | G2: =D2/2 -> 14560560 | H2: =(C2/30*11)+(C2*2) -> 11486664 | I2: 45716 | J2: =+H2 -> 11486664 | K2: =+D2+J2 -> 40607784 | L2: ='1021-2024'!G25 -> 21193704 | M2: =C2 -> 4853520 | N2: =C2 -> 4853520 | O2: =+N2 -> 4853520 | P2: =C2 -> 4853520 | Q2: =SUM(L2:P2) -> 40607784 | R2: =+K2-Q2 -> 0
A3: 1022-2024 | B3: Cristian Camilo Muñoz Astudillo | C3: 4853520 | D3: 29121120 | E3: 45463 | F3: 45645 | G3: =D3/2 -> 14560560 | H3: =(C3/30*11)+(C3*2) -> 11486664 | I3: 45716 | J3: =+H3 -> 11486664 | K3: =+D3+J3 -> 40607784 | L3: ='1022-2024 '!G25 -> 21193704 | M3: =C3 -> 4853520 | N3: =C3 -> 4853520 | O3: =+N3 -> 4853520 | P3: =C3 -> 4853520 | Q3: =SUM(L3:P3) -> 40607784 | R3: =+K3-Q3 -> 0
A4: 1020-2024 | B4: Edinson Fabian Vasquez Gonzalez | C4: 4853520 | D4: 29121120 | E4: 45463 | F4: 45645 | G4: =D4/2 -> 14560560 | H4: =(C4/30*11)+(C4*2) -> 11486664 | I4: 45716 | J4: =+H4 -> 11486664 | K4: =+D4+J4 -> 40607784 | L4: ='1020-2024 '!G25 -> 21193704 | M4: =C4 -> 4853520 | N4: =C4 -> 4853520 | O4: =+N4 -> 4853520 | P4: =C4 -> 4853520 | Q4: =SUM(L4:P4) -> 40607784 | R4: =+K4-Q4 -> 0
A5: 1008-2024 | B5: Nathalia Cruz Penagos | C5: 4853520 | D5: 29121120 | E5: 45462 | F5: 45644 | G5: =D5/2 -> 14560560 | H5: =(C5/30*12)+(C5*2) -> 11648448 | I5: 45716 | J5: =+H5 -> 11648448 | K5: =+D5+J5 -> 40769568 | L5: ='1008-2024'!G25 -> 21355488 | M5: =C5 -> 4853520 | N5: =C5 -> 4853520 | O5: =+N5 -> 4853520 | P5: =C5 -> 4853520 | Q5: =SUM(L5:P5) -> 40769568 | R5: =+K5-Q5 -> 0
A6: 1018-2024 | B6: Anyi Paola Galindez | C6: 4500000 | D6: 27000000 | E6: 45463 | F6: 45645 | G6: =D6/2 -> 13500000 | H6: =(C6/30*11)+(C6*2) -> 10650000 | I6: 45716 | J6: =+H6 -> 10650000 | K6: =+D6+J6 -> 37650000 | L6: ='1018-2024'!G25 -> 19650000 | M6: =C6 -> 4500000 | N6: =C6 -> 4500000 | O6: =+N6 -> 4500000 | P6: =C6 -> 4500000 | Q6: =SUM(L6:P6) -> 37650000 | R6: =+K6-Q6 -> 0

Sheet 1021-2024
A2: ESTADO CONTABLE
A3: ='Julieth '!B2 -> John Sebastian Donato Caro
A5: CONTRATO DE PRESTACION DE SERVICIO | G5: ='Julieth '!A2 -> 1021-2024
A6: FECHA DE INICIO | G6: ='Julieth '!E2 -> 45463
A7: FECHA FINAL | G7: ='Julieth '!F2 -> 45645
A10: VALOR INICIAL : | G10: ='Julieth '!D2 -> 29121120
A11: ADICION:
A12: VALOR TOTAL DEL CONTRATO | G12: =+G10+G11 -> 29121120
A14: Fecha de pago | B14: CDP | C14: Compromisos | D14: Cuentas por Pagar | E14: Obligaciones | F14: Ordenes de Pago | G14: Valor Pesos
F15: Junio | G15: 1779624 | I15: =G16/30*11 -> 1779624
F16: Julio | G16: 4853520
F17: Agosto | G17: 4853520
F18: Septiembre | G18: 4853520
F19: Octubre | G19: 4853520
D20: Noviembre | G20: 4853520
D21: Diciembre | G21: =G16/30*19 -> 3073896
A25: VALOR PAGADO A LA FECHA | G25: =SUM(G15:G19) -> 21193704
A26: VALOR OBLIGADO NO PAGADO
A27: VALOR PENDIENTE DE PAGO | G27: =SUM(G20:G21) -> 7927416
A28: VALOR EJECUTADO | G28: =+G25+G26+G27 -> 29121120
A29: SALDO A LA FECHA | G29: =+G12-G28 -> 0

Sheet 1022-2024 
A2: ESTADO CONTABLE
A3: ='Julieth '!B3 -> Cristian Camilo Muñoz Astudillo
A5: CONTRATO DE PRESTACION DE SERVICIO | G5: ='Julieth '!A3 -> 1022-2024
A6: FECHA DE INICIO | G6: ='Julieth '!E3 -> 45463
A7: FECHA FINAL | G7: ='Julieth '!F3 -> 45645
A10: VALOR INICIAL : | G10: ='Julieth '!D3 -> 29121120
A11: ADICION:
A12: VALOR TOTAL DEL CONTRATO | G12: =+G10+G11 -> 29121120
A14: Fecha de pago | B14: CDP | C14: Compromisos | D14: Cuentas por Pagar | E14: Obligaciones | F14: Ordenes de Pago | G14: Valor Pesos
F15: Junio | G15: 1779624 | I15: =G16/30*11 -> 1779624
F16: Julio | G16: 4853520
F17: Agosto | G17: 4853520
F18: Septiembre | G18: 4853520
F19: Octubre | G19: 4853520
D20: Noviembre | G20: 4853520
D21: Diciembre | G21: =G16/30*19 -> 3073896
A25: VALOR PAGADO A LA FECHA | G25: =SUM(G15:G19) -> 21193704
A26: VALOR OBLIGADO NO PAGADO
A27: VALOR PENDIENTE DE PAGO | G27: =SUM(G20:G21) -> 7927416
A28: VALOR EJECUTADO | G28: =+G25+G26+G27 -> 29121120
A29: SALDO A LA FECHA | G29: =+G12-G28 -> 0

Sheet 1020-2024  
A2: ESTADO CONTABLE
A3: ='Julieth '!B4 -> Edinson Fabian Vasquez Gonzalez
A5: CONTRATO DE PRESTACION DE SERVICIO | G5: ='Julieth '!A4 -> 1020-2024
A6: FECHA DE INICIO | G6: ='Julieth '!E4 -> 45463
A7: FECHA FINAL | G7: ='Julieth '!F4 -> 45645
A10: VALOR INICIAL : | G10: ='Julieth '!D3 -> 29121120
A11: ADICION:
A12: VALOR TOTAL DEL CONTRATO | G12: =+G10+G11 -> 29121120
A14: Fecha de pago | B14: CDP | C14: Compromisos | D14: Cuentas por Pagar | E14: Obligaciones | F14: Ordenes de Pago | G14: Valor Pesos
F15: Junio | G15: 1779624
F16: Julio | G16: 4853520
F17: Agosto | G17: 4853520
F18: Septiembre | G18: 4853520
F19: Octubre | G19: 4853520
D20: Noviembre | G20: 4853520
D21: Diciembre | G21: =G16/30*19 -> 3073896
A25: VALOR PAGADO A LA FECHA | G25: =SUM(G15:G19) -> 21193704
A26: VALOR OBLIGADO NO PAGADO
A27: VALOR PENDIENTE DE PAGO | G27: =SUM(G20:G21) -> 7927416
A28: VALOR EJECUTADO | G28: =+G25+G26+G27 -> 29121120
A29: SALDO A LA FECHA | G29: =+G12-G28 -> 0

Sheet 1008-2024
A2: ESTADO CONTABLE
A3: ='Julieth '!B5 -> Nathalia Cruz Penagos
A5: CONTRATO DE PRESTACION DE SERVICIO | G5: ='Julieth '!A5 -> 1008-2024
A6: FECHA DE INICIO | G6: ='Julieth '!E5 -> 45462
A7: FECHA FINAL | G7: ='Julieth '!F5 -> 45644
A10: VALOR INICIAL : | G10: ='Julieth '!D5 -> 29121120
A11: ADICION:
A12: VALOR TOTAL DEL CONTRATO | G12: =+G10+G11 -> 29121120
A14: Fecha de pago | B14: CDP | C14: Compromisos | D14: Cuentas por Pagar | E14: Obligaciones | F14: Ordenes de Pago | G14: Valor Pesos
F15: Junio | G15: 1941408
F16: Julio | G16: 4853520
F17: Agosto | G17: 4853520
F18: Septiembre | G18: 4853520
F19: Octubre | G19: 4853520
D20: Noviembre | G20: 4853520
D21: Diciembre | G21: =G16/30*18 -> 2912112
A25: VALOR PAGADO A LA FECHA | G25: =SUM(G15:G19) -> 21355488
A26: VALOR OBLIGADO NO PAGADO
A27: VALOR PENDIENTE DE PAGO | G27: =SUM(G20:G21) -> 7765632
A28: VALOR EJECUTADO | G28: =+G25+G26+G27 -> 29121120
A29: SALDO A LA FECHA | G29: =+G12-G28 -> 0

Sheet 1018-2024
A2: ESTADO CONTABLE
A3: ='Julieth '!B6 -> Anyi Paola Galindez
A5: CONTRATO DE PRESTACION DE SERVICIO | G5: ='Julieth '!A6 -> 1018-2024
A6: FECHA DE INICIO | G6: ='Julieth '!E6 -> 45463
A7: FECHA FINAL | G7: ='Julieth '!F6 -> 45645
A10: VALOR INICIAL : | G10: ='Julieth '!D6 -> 27000000
A11: ADICION:
A12: VALOR TOTAL DEL CONTRATO | G12: =+G10+G11 -> 27000000
A14: Fecha de pago | B14: CDP | C14: Compromisos | D14: Cuentas por Pagar | E14: Obligaciones | F14: Ordenes de Pago | G14: Valor Pesos
F15: Junio | G15: 1650000
F16: Julio | G16: 4500000
F17: Agosto | G17: 4500000
F18: Septiembre | G18: 4500000
F19: Octubre | G19: 4500000
D20: Noviembre | G20: 4500000
D21: Diciembre | G21: =G16/30*19 -> 2850000
A25: VALOR PAGADO A LA FECHA | G25: =SUM(G15:G19) -> 19650000
A26: VALOR OBLIGADO NO PAGADO
A27: VALOR PENDIENTE DE PAGO | G27: =SUM(G20:G21) -> 7350000
A28: VALOR EJECUTADO | G28: =+G25+G26+G27 -> 27000000
A29: SALDO A LA FECHA | G29: =+G12-G28 -> 0
