Workbook

Sheet Base
B1: Consultoría | K1: HOY
B2: Contrato Consultoría: | E2: DE | K2: =TODAY() -> 45611
B3: Objeto contrato
B4: Interventoría
B5: Contrato Interventoría: | E5: DE
B6: Objeto contrato Interventoría:
B7: Entidad Contratante | C7: FONDO DE DESARROLLO LOCAL DE LA CANDELARIA
B8: Versión: | C8: =E9&"-"&F9&" ("&H9&")" -> Mayo-2023 (V.1,0) | D8: Fecha | E8: Mes | F8: Año | G8: SMMLV / Sud. Transp. / IVA vigente | H8: Versión
D9: =INDEX($B$14:$H$26,MATCH(H9,B14:B26,0),MATCH(F14,B14:H14,0)) -> 45072 | E9: Mayo | F9: =YEAR(D9) -> 2023 | G9: 1160000 | H9: =B15 -> V.1,0
G10: 140000
G11: 0.19
B13: RÉCORD DE MODIFICACIÓN
B14: VERSIÓN | C14: DESCRIPCIÓN - CAMBIOS | F14: FECHA | G14: ELABORÓ | H14: REVISÓ
B15: V.1,0 | C15: PRESUPUESTO OFICIAL PROCESO DE CONTRATACIÓN OBRA PÚBLICA VERSIÓN INICIAL (Precios IDU 24/05/2023) | F15: 45072 | G15: DAHP

Sheet Trabajo
A1: Opción logica de decisión | D1: Numero | E1: Nombre | J1: VALOR DEL CONTRATO DE CONSTRUCCIÓN (SMMLV) | L1: UTILIDAD | Q1: RANGO | T1: 1 | U1: 2 | V1: 3 | W1: 4 | X1: 5 | Z1: Calculo hora efectiva personal profesional | AI1: Calculo hora efectiva personal administrativo
A2: Sí | B2: 1 | D2: 1 | E2: Usaquén | J2: DESDE | K2: HASTA | Q2: FACTOR MULTIPLICADOR | T2: 1500 | U2: 3000 | V2: 6000 | W2: 10000 | X2: > 10.000 | Z2: Código IDU | AA2: Cargo | AB2: UM | AC2: Costo | AD2: FM | AE2: Categoría | AF2: Experiencia mínima general (Años) | AG2: Experiencia mínima especifica (Años) | AI2: Código IDU | AJ2: Cargo | AK2: UM | AL2: Costo | AM2: FM
A3: Pendiente | B3: 2 | D3: 2 | E3: Chapinero | J3: 0 | K3: 1500 | L3: 0.09 | Q3: Valor minimo SMMLV | R3: Valor maximo SMMLV | T3: =+T2*$H$24 -> 1740000000 | U3: =+U2*$H$24 -> 3480000000 | V3: =+V2*$H$24 -> 6960000000 | W3: =+W2*$H$24 -> 11600000000 | Z3: 9107 | AA3: TARIFA MES - PROFESIONAL CATEGORÍA 1 (NO INCLUYE FACTOR DE PRESTACIONES) | AB3: MES | AC3: 14390000 | AD3: =ROUND(AC11/AC3,4) -> 1.5849 | AE3: 1 | AF3: 12 | AG3: =AF4 -> 10 | AI3: 9102 | AJ3: TARIFA MES - PERSONAL ADMINISTRATIVO - ADMINISTRADOR (NO INCLUYE FACTOR DE PRESTACIONES) | AK3: MES | AL3: 2879000 | AM3: =ROUND(AL8/AL3,4) -> 1.458
A4: No | B4: 0 | D4: 3 | E4: Santa Fe | J4: 1501 | K4: 30000 | L4: 0.07 | Q4: 0 | R4: 2 | S4: =H24*2 -> 2320000 | T4: 2.45 | U4: 2.4 | V4: 2.36 | W4: 2.32 | X4: 2.28 | Z4: 9108 | AA4: TARIFA MES - PROFESIONAL CATEGORÍA 2 (NO INCLUYE FACTOR DE PRESTACIONES) | AB4: MES | AC4: 10967000 | AD4: =ROUND(AC12/AC4,4) -> 1.4506 | AE4: 2 | AF4: 10 | AG4: 7 | AI4: 9103 | AJ4: TARIFA MES - PERSONAL ADMINISTRATIVO - AUXILIAR ADMINISTRATIVO-ALMACENISTA (NO INCLUYE FACTOR DE PRESTACIONES) | AK4: MES | AL4: 2053000 | AM4: =ROUND(AL9/AL4,4) -> 1.561
D5: 4 | E5: San Cristóbal | J5: 30001 | K5: 60000 | L5: 0.06 | Q5: 2 | R5: 10 | S5: =H24*10 -> 11600000 | T5: 2.3 | U5: 2.26 | V5: 2.23 | W5: 2.18 | X5: 2.14 | Z5: 9109 | AA5: TARIFA MES - PROFESIONAL CATEGORÍA 3 (NO INCLUYE FACTOR DE PRESTACIONES) | AB5: MES | AC5: 9255000 | AD5: =ROUND(AC13/AC5,4) -> 1.4511 | AE5: 3 | AF5: 8 | AG5: 5 | AI5: 9104 | AJ5: TARIFA MES - PERSONAL ADMINISTRATIVO - SECRETARIA 1 (NO INCLUYE FACTOR DE PRESTACIONES) | AK5: MES | AL5: 1670000 | AM5: =ROUND(AL10/AL5,4) -> 1.5869
A6: Unidades | B6: Simbolo | D6: 5 | E6: Usme | J6: 60001 | K6: 200000 | L6: 0.05 | Q6: > 10 SMLMV | S6: =+S5+1 -> 11600001 | T6: 2.47 | U6: 2.43 | V6: 2.39 | W6: 2.35 | X6: 2.31 | Z6: 9110 | AA6: TARIFA MES - PROFESIONAL CATEGORÍA 4 (NO INCLUYE FACTOR DE PRESTACIONES) | AB6: MES | AC6: 7881000 | AD6: =ROUND(AC14/AC6,4) -> 1.4516 | AE6: 4 | AF6: 6 | AG6: 4 | AI6: 9105 | AJ6: TARIFA MES - PERSONAL ADMINISTRATIVO - SECRETARIA 2 (NO INCLUYE FACTOR DE PRESTACIONES) | AK6: MES | AL6: 1389000 | AM6: =ROUND(AL11/AL6,4) -> 1.615
A7: Centimetro | B7: CM | D7: 6 | E7: Tunjuelito | J7: 200001 | K7: 100000000 | L7: 0.045 | Q7: F.M 2.004 | T7: 2.55 | U7: 2.5 | V7: 2.45 | W7: 2.4 | X7: 2.35 | Z7: 9111 | AA7: TARIFA MES - PROFESIONAL CATEGORÍA 5 (NO INCLUYE FACTOR DE PRESTACIONES) | AB7: MES | AC7: 7108000 | AD7: =ROUND(AC15/AC7,4) -> 1.452 | AE7: 5 | AF7: 4 | AG7: 3 | AI7: 9575 | AJ7: TARIFA MES - PERSONAL TÉCNICO - CELADOR ARMADO (24 horas por 30 dias dividos en 3 turnos de 8 horas diarias. Incluye prestaciones de ley, Administraciòn y servicios). | AK7: MES | AL7: 10981528 | AM7: =ROUND(AL12/AL7,4) -> 1
A8: Día | B8: DD | D8: 7 | E8: Bosa | Z8: 9112 | AA8: TARIFA MES - PROFESIONAL CATEGORÍA 6 (NO INCLUYE FACTOR DE PRESTACIONES) | AB8: MES | AC8: 6339000 | AD8: =ROUND(AC16/AC8,4) -> 1.4525 | AE8: 6 | AF8: 3 | AG8: 1 | AI8: 9485 | AJ8: TARIFA MES - PERSONAL ADMINISTRATIVO - ADMINISTRADOR (INCLUYE FACTOR DE PRESTACIONES) | AK8: MES | AL8: 4197599
A9: Galon | B9: GL | D9: 8 | E9: Kennedy | J9: VALOR DEL CONTRATO DE OBRA EN SMMLV | L9: CATEGORIA PROFESIONALES OBRA | Q9: VALORES Y PORCENTAJES DE ANTICIPO CTOS OBRA | Z9: 9113 | AA9: TARIFA MES - PROFESIONAL CATEGORÍA 7 (NO INCLUYE FACTOR DE PRESTACIONES) | AB9: MES | AC9: 4793000 | AD9: =ROUND(AC17/AC9,4) -> 1.454 | AE9: 7 | AF9: 2 | AG9: 0 | AI9: 9486 | AJ9: TARIFA MES - PERSONAL ADMINISTRATIVO - AUXILIAR ADMINISTRATIVO-ALMACENISTA (INCLUYE FACTOR DE PRESTACIONES) | AK9: MES | AL9: 3204657
A10: Global | B10: GLB | D10: 9 | E10: Fontibón | G10: Barra | H10: kg/m | L10: DIRECTOR | M10: COORDINADOR/ | N10: ESPECIALISTA | Q10: % | R10: DE | S10: HASTA | T10: VR. EN PESOS | Z10: 9114 | AA10: TARIFA MES - PROFESIONAL CATEGORÍA 8 (NO INCLUYE FACTOR DE PRESTACIONES) | AB10: MES | AC10: 4523000 | AD10: =ROUND(AC18/AC10,4) -> 1.4543 | AE10: 8 | AF10: 0 | AG10: 0 | AI10: 9487 | AJ10: TARIFA MES - PERSONAL ADMINISTRATIVO - SECRETARIA 1 (INCLUYE FACTOR DE PRESTACIONES) | AK10: MES | AL10: 2650098
A11: Gramo | B11: gr | D11: 10 | E11: Engativá | G11: 2 | H11: 0.25 | J11: DESDE | K11: HASTA | M11: RESIDENTE/ | Q11: 0.1 | R11: 1 | S11: 15000 | T11: 17400000000 | Z11: 9465 | AA11: TARIFA MES - PROFESIONAL CATEGORÍA 1 (INCLUYE FACTOR DE PRESTACIONES) | AB11: MES | AC11: 22807410 | AE11: 1 | AF11: 12 | AG11: =AF12 -> 10 | AI11: 9488 | AJ11: TARIFA MES - PERSONAL ADMINISTRATIVO - SECRETARIA 2 (INCLUYE FACTOR DE PRESTACIONES) | AK11: MES | AL11: 2243229
A12: Hectárea | B12: HA | D12: 11 | E12: Suba | G12: 3 | H12: 0.56 | M12: SUPERVISOR | Q12: 0.2 | R12: 15001 | S12: 100000000 | T12: 17401160000 | Z12: 9466 | AA12: TARIFA MES - PROFESIONAL CATEGORÍA 2 (INCLUYE FACTOR DE PRESTACIONES) | AB12: MES | AC12: 15908485 | AE12: 2 | AF12: 10 | AG12: 7 | AI12: 9575 | AJ12: TARIFA MES - PERSONAL TÉCNICO - CELADOR ARMADO (24 horas por 30 dias dividos en 3 turnos de 8 horas diarias. Incluye prestaciones de ley, Administraciòn y servicios). | AK12: MES | AL12: 10981528
A13: Hora | B13: H | D13: 12 | E13: Barrios Unidos | G13: 4 | H13: 1 | J13: 2 | K13: 23057 | L13: 4 | M13: 6 | N13: 4 | Z13: 9467 | AA13: TARIFA MES - PROFESIONAL CATEGORÍA 3 (INCLUYE FACTOR DE PRESTACIONES) | AB13: MES | AC13: 13429623 | AE13: 3 | AF13: 8 | AG13: 5
A14: Hora Hombre | B14: HH | D14: 13 | E14: Teusaquillo | G14: 5 | H14: 1.55 | J14: 23058 | K14: 46115 | L14: 3 | M14: 5 | N14: 3 | Q14: Valor minimo (SMMLV) | R14: Valor maximo (SMMLV) | S14: Factor Multiplicador del personal | Z14: 9468 | AA14: TARIFA MES - PROFESIONAL CATEGORÍA 4 (INCLUYE FACTOR DE PRESTACIONES) | AB14: MES | AC14: 11440163 | AE14: 4 | AF14: 6 | AG14: 4 | AI14: Insumos Costos Operativos
A15: Hora Cuadrilla | B15: HC | D15: 14 | E15: Los Mártires | G15: 6 | H15: 2.34 | J15: 46116 | K15: 115287 | L15: 3 | M15: 4 | N15: 3 | Q15: 0 | R15: 1500 | S15: 2.55 | Z15: 9469 | AA15: TARIFA MES - PROFESIONAL CATEGORÍA 5 (INCLUYE FACTOR DE PRESTACIONES) | AB15: MES | AC15: 10320910 | AE15: 5 | AF15: 4 | AG15: 3 | AI15: Código IDU | AJ15: Insumo | AK15: UM | AL15: Costo
A16: Juego | B16: Jgo | D16: 15 | E16: Antonio Nariño | G16: 7 | H16: 3.04 | J16: 115288 | K16: 100000000 | L16: 2 | M16: 4 | N16: 3 | Q16: =R15+1 -> 1501 | R16: 3000 | S16: 2.5 | Z16: 9470 | AA16: TARIFA MES - PROFESIONAL CATEGORÍA 6 (INCLUYE FACTOR DE PRESTACIONES) | AB16: MES | AC16: 9207450 | AE16: 6 | AF16: 3 | AG16: 1 | AI16: 6318 | AJ16: POSTE EN CONCRETO AP, H=14m, CR=750 KG | AK16: UN | AL16: 1400000
A17: Jornal | B17: Jr | D17: 16 | E17: Puente Aranda | G17: 8 | H17: 3.97 | Q17: =R16+1 -> 3001 | R17: 6000 | S17: 2.45 | Z17: 9471 | AA17: TARIFA MES - PROFESIONAL CATEGORÍA 7 (INCLUYE FACTOR DE PRESTACIONES) | AB17: MES | AC17: 6968945 | AE17: 7 | AF17: 2 | AG17: 0 | AI17: 9576 | AJ17: ALQUILER MES - ARRIENDO OFICINA INCL. ADMINISTRACIÓN, SERVICIOS PÚBLICOS, COMUNICACIONES | AK17: M2/MES | AL17: 45108
A18: Kilogramo | B18: kg | D18: 17 | E18: La Candelaria | J18: SOLO PARA ESTUDIOS Y DISEÑOS E INTERV DE EYD | Q18: =R17+1 -> 6001 | R18: 10000 | S18: 2.4 | Z18: 9472 | AA18: TARIFA MES - PROFESIONAL CATEGORÍA 8 (INCLUYE FACTOR DE PRESTACIONES) | AB18: MES | AC18: 6578003 | AE18: 8 | AF18: 0 | AG18: 0 | AI18: 9577 | AJ18: ALQUILER MES - CAMPAMENTOS INCL. SERVICIOS PÚBLICOS PROVISIONALES | AK18: M2/MES | AL18: 30851
A19: Kilogramo kilometro | B19: kg-km | D19: 18 | E19: Rafael Uribe Uribe | G19: Versión | H19: Sigla | J19: Presupuesto. Oficial Estudios y Diseños DESDE SMMLV | K19: HASTA SMMLV | L19: CATEGORIAS PROFESIONALES | Q19: =R18+1 -> 10001 | R19: =Q19^3 -> 1000300030001 | S19: 2.35 | AI19: 9578 | AJ19: GASTOS OFICINA (PAPELERIA, FOTOCOPIAS Y OTROS) | AK19: GLB/MS | AL19: 1043625
A20: Kilo Newton | B20: KN | D20: 19 | E20: Ciudad Bolívar | G20: =Base!H9 -> V.1,0 | H20: =MID(G20,FIND(".",G20,1)+1,1) -> 1 | L20: DIRECTOR | M20: COORDINADOR/SUPERVISOR/ ESPECIALISTA | N20: ESPECIALISTA | Z20: Calculo hora efectiva personal técnico | AI20: 9840 | AJ20: EDICIÓN DE INFORME MENSUAL DE INTERVENTORÍA O CONSULTORÍA. Incluye 4 tapas plastificadas tamaño carta color blanco, con 6 tornillos, hojas de papel bond tamaño carta 75 gramos, 170 folios | AK20: UN/MES | AL20: 219000
A21: Kilo Pascal | B21: KP | D21: 20 | E21: Sumapaz | G21: Versión vigente | H21: Ruta Principal | J21: 0 | K21: 2305 | L21: 4 | M21: 6 | N21: 4 | Z21: Código IDU | AA21: Cargo | AB21: UM | AC21: Costo | AD21: FM | AI21: 9117 | AJ21: EQUIPO COMPLETO DE LABORATORIO - ESTUDIOS - MES | AK21: MES | AL21: 6399000
A22: Litro | B22: LT | G22: =TEXT(H20,"0#") -> 01 | J22: 2306 | K22: 4611 | L22: 3 | M22: 5 | N22: 3 | Z22: 9084 | AA22: TARIFA MES - PERSONAL TÉCNICO-TECNÓLOGO EN ÁREAS DE INGENIERÍA (NO INCLUYE FACTOR DE PRESTACIONES) | AB22: MES | AC22: 2966000 | AD22: =ROUND(AC40/AC22,4) -> 1.4577 | AI22: 9119 | AJ22: EQUIPO COMPLETO DE LABORATORIO - INTERVENTORIAS - MES | AK22: MES | AL22: 11312000
A23: Metro | B23: ML | D23: Fecha base IDU | J23: 4612 | K23: 11528 | L23: 3 | M23: 4 | N23: 3 | Z23: 9085 | AA23: TARIFA MES - PERSONAL TÉCNICO - AUXILIAR DE INGENIERÍA (NO INCLUYE FACTOR DE PRESTACIONES) | AB23: MES | AC23: 2607000 | AD23: =ROUND(AC41/AC23,4) -> 1.4591 | AI23: 9115 | AJ23: EQUIPO DE TOPOGRAFÍA. INCLUYE TRÁNSITO, NIVEL Y ELEMENTOS COMPLEMENTARIOS - MES | AK23: MES | AL23: 4103000
A24: Metro cuadrado | B24: M2 | D24: Fecha de publicación | E24: 45021 | G24: Valor SMMLV | H24: =Base!G9 -> 1160000 | J24: 11529 | K24: 100000000 | L24: 2 | M24: 4 | N24: 3 | Z24: 9086 | AA24: TARIFA MES - PERSONAL TÉCNICO - DIBUJANTE 1 (NO INCLUYE FACTOR DE PRESTACIONES) | AB24: MES | AC24: 2734000 | AD24: =ROUND(AC42/AC24,4) -> 1.4585 | AI24: 9123 | AJ24: PLOTTER - MES | AK24: MES | AL24: 1254999
A25: Metro cuadrado día | B25: m2-día | D25: Fecha de ultimo ajuste | E25: 45070 | Z25: 9087 | AA25: TARIFA MES - PERSONAL TÉCNICO - DIBUJANTE 2 (NO INCLUYE FACTOR DE PRESTACIONES) | AB25: MES | AC25: 2209000 | AD25: =ROUND(AC43/AC25,4) -> 1.553 | AI25: 9125 | AJ25: DISTANCIOMETRO (Incluyendo tránsito y Estación Total) - Capacidad de Lectura hasta 1500m. | AK25: MES | AL25: 8016000
A26: Metro cubico | B26: M3 | D26: Día de publicación | E26: =DAY(E25) -> 24 | G26: Intervención Principal | H26: Material | J26: Decreto 1082 de 2015 SECCION III GARANTIAS | Z26: 9088 | AA26: TARIFA MES - PERSONAL TÉCNICO - TOPÓGRAFO INSPECTOR (NO INCLUYE FACTOR DE PRESTACIONES) | AB26: MES | AC26: 3092000 | AD26: =ROUND(AC44/AC26,4) -> 1.4573 | AI26: 11156 | AJ26: ANDAMIO CERTIFICADO MULTIDIRECCIONAL, 2 TORRES CON PASARELA DE 3 M, SECCIÓN DE 2.07 X 2.07 M, ALTURA DE ANDAMIO 4 M | AK26: DIA | AL26: 34827
A27: Metro cubico kilometro | B27: m3-km | D27: Mes de publicación | E27: =MONTH(E25) -> 5 | G27: Construcción | H27: Asfalto | J27: Suficiencia del seguro de responsabilidad civil extracontractual. El valor asegurado por los contratos de seguro que amparan la RCE No debe ser inferior a: | Z27: 9089 | AA27: TARIFA MES - PERSONAL TÉCNICO - LABORATORISTA INSPECTOR (NO INCLUYE FACTOR DE PRESTACIONES) | AB27: MES | AC27: 2739000 | AD27: =ROUND(AC45/AC27,4) -> 1.4585 | AI27: 11455 | AJ27: TOMA DE DEFLEXIONES CON EQUIPO DEFLECTÓMETRO DE IMPACTO (FWD/HWD) PARA PAVIMENTO CON SUPERFICIE FLEXIBLE. Incluye movilización, carro escolta del equipo, toma de información, procesamiento y entrega de resultados. Norma técnica: INV E – 798 - 13 ASTM D4694 INV E – 797 - 13 ASTM D4695. | AK27: Pto.3R | AL27: 23800
A28: Mes | B28: mes | D28: Año de Publicación | E28: =YEAR(E25) -> 2023 | G28: Reconstrucción | H28: Concreto Hidráulico | J28: ITEM | K28: Valor contrato minimo en SMMLV | L28: Valor contrato maximo en SMMLV | M28: SMLMV | N28: VALOR ASEGURABLE NO INFERIOR A: | O28: VALOR NAXIMO ASEGURABLE | Z28: 9090 | AA28: TARIFA MES - PERSONAL TÉCNICO - LABORATORISTA AUXILIAR (NO INCLUYE FACTOR DE PRESTACIONES) | AB28: MES | AC28: 1917000 | AD28: =ROUND(AC46/AC28,4) -> 1.569 | AI28: 11461 | AJ28: LEVANTAMIENTO DE FALLAS EN ESTRUCTURA DE PAVIMENTO CON SUPERFICIE FLEXIBLE, RÍGIDA O ARTICULADA EN ZONA URBANA, CON EQUIPO DE ALTO RENDIMIENTO MEDIANTE CAPTURA DE IMÁGENES DE ALTA RESOLUCIÓN O SISTEMA LASER, Y DETERMINACIÓN DEL ÍNDICE DE CONDICIÓN DEL PAVIMENTO-PCI. Incluye movilización y carro escolta del equipo y toma de información, procesamiento, cálculo y entrega del inventario de fallas y resultado de valor de PCI. Norma técnica: ASTM D6433: flexible y rígido ASTM E2840: articulado. | AK28: Km-Car | AL28: 142800
A29: Mililitro | B29: ml | D29: Fecha de modificació de insumo | E29: =E25 -> 45070 | G29: Rehabilitación | H29: Adoquín | J29: 1 | K29: 0 | L29: 1500 | M29: 200 | N29: 137891000 | Z29: 9091 | AA29: TARIFA MES - PERSONAL TÉCNICO - OPERADOR EQUIPO PERFORACIÓN (INCLUYE FACTOR DE PRESTACIONES) | AB29: MES | AC29: 3590916 | AD29: =ROUND(AC47/AC29,4) -> 1 | AI29: 9456 | AJ29: ALQUILER DE VEHICULO: CAMPERO, PICK-UP, CAMIONETA, CAMION O SIMILAR DE 1300cc A 2000cc DE CILINDRADA, MODELO 2014 A 2011. 75% DE LA TARIFA ESTABLECIDA. INCLUYE TODOS LOS COSTOS DE OPERACIÓN Y MANTENIMIENTO EXCEPTO EL SALARIO DEL CONDUCTOR | AK29: MES | AL29: 5448750
A30: Milimetro | B30: mm | D30: Fecha de inclusión de insumo | E30: =E25 -> 45070 | G30: Mantenimiento Periodico | J30: 2 | K30: =L29+1 -> 1501 | L30: 2500 | M30: 300 | N30: 206836500 | Z30: 9092 | AA30: TARIFA MES - PERSONAL TÉCNICO - OPERADOR AUXILIAR DE EQUIPO (INCLUYE FACTOR DE PRESTACIONES) | AB30: MES | AC30: 2613899 | AD30: =ROUND(AC48/AC30,4) -> 1 | AI30: 9165 | AJ30: ALQUILER DE VEHICULO: CAMPERO, PICK-UP, CAMIONETA, CAMION O SIMILAR DE 1300cc A 2000cc DE CILINDRADA, MODELO 2022 A 2019. 100% DE LA TARIFA ESTABLECIDA. INCLUYE TODOS LOS COSTOS DE OPERACIÓN Y MANTENIMIENTO EXCEPTO EL SALARIO DEL CONDUCTOR | AK30: MES | AL30: 7265000
A31: Megapascal | B31: Mpa | D31: Fecha de eliminación de insumo | E31: NA | G31: Mantenimiento Rutinario | J31: 3 | K31: =L30+1 -> 2501 | L31: 5000 | M31: 400 | N31: 275782000 | Z31: 9093 | AA31: TARIFA MES - PERSONAL TÉCNICO - INSPECTOR 1 (NO INCLUYE FACTOR DE PRESTACIONES) | AB31: MES | AC31: 2249000 | AD31: =ROUND(AC49/AC31,4) -> 1.5511
A32: Rollo | B32: Rollo | D32: Fecha de Modificación APU | E32: 44795 | G32: Accion de movilidad | J32: 4 | K32: =L31+1 -> 5001 | L32: 10000 | M32: 500 | N32: 344727500 | Z32: 9094 | AA32: TARIFA MES - PERSONAL TÉCNICO - INSPECTOR 2 (NO INCLUYE FACTOR DE PRESTACIONES) | AB32: MES | AC32: 2025000 | AD32: =ROUND(AC50/AC32,4) -> 1.5625 | AI32: Ensayos de campo y laboratrio
A33: Segundo | B33: s | D33: Fecha de inclusión APU | E33: 44898 | J33: 5 | K33: =L32+1 -> 10001 | L33: 100000000 | M33: 0.05 | N33: DEL VALOR DEL CONTRATO | Z33: 9095 | AA33: TARIFA MES - PERSONAL TÉCNICO - TOPÓGRAFO AUXILIAR (NO INCLUYE FACTOR DE PRESTACIONES) | AB33: MES | AC33: 2536000 | AD33: =ROUND(AC51/AC33,4) -> 1.4594 | AI33: Código IDU | AJ33: Insumo | AK33: UM | AL33: Costo
A34: Tonelada | B34: Tn | D34: Fecha de eliminación APU | E34: NA | M34: 75000 | O34: 51709125000 | Z34: 9096 | AA34: TARIFA MES - PERSONAL TÉCNICO - BATIMETRISTA INSPECTOR (NO INCLUYE FACTOR DE PRESTACIONES) | AB34: MES | AC34: 3092000 | AD34: =ROUND(AC52/AC34,4) -> 1.4573 | AI34: 11498 | AJ34: TRACCIÓN DE ACERO ESTRUCTURAL. Norma técnica: NTC 3353 - ASTM E8. | AK34: UN | AL34: 154500
A35: Unidad | B35: Un | D35: Fecha de precios utilizado | E35: =E24 -> 45021 | Z35: 9097 | AA35: TARIFA MES - PERSONAL TÉCNICO - BATIMETRISTA AUXILIAR (NO INCLUYE FACTOR DE PRESTACIONES) | AB35: MES | AC35: 2536000 | AD35: =ROUND(AC53/AC35,4) -> 1.4594 | AI35: 11872 | AJ35: FLEXIÓN DE ACERO ESTRUCTURAL. Norma técnica: ASTM E290. | AK35: UN | AL35: 185000
A36: Unidad Día | B36: Un-día | D36: Nombre | E36: Precios Unitarios de Referencia 2022-I Y MO-2023 | Z36: 9098 | AA36: TARIFA MES - PERSONAL AUXILIAR TÉCNICO - CADENERO 1 (NO INCLUYE FACTOR DE PRESTACIONES) | AB36: MES | AC36: 1917000 | AD36: =ROUND(AC54/AC36,4) -> 1.569 | AI36: 11499 | AJ36: TRACCIÓN DE BARRAS LISAS Y CORRUGADAS EN ACERO AL CARBONO. Norma técnica: NTC 2289 NTC 3353 ASTM A370. | AK36: UN | AL36: 115000
A37: Viaje | B37: Viaje | Z37: 9099 | AA37: TARIFA MES - PERSONAL AUXILIAR TÉCNICO - CADENERO 2 (NO INCLUYE FACTOR DE PRESTACIONES) | AB37: MES | AC37: 1670000 | AD37: =ROUND(AC55/AC37,4) -> 1.5869 | AI37: 11500 | AJ37: TRACCIÓN DE ALAMBRE DE ACERO/TORON DE ACERO. Norma técnica: NTC 2289 NTC 3353 ASTM A370. | AK37: UN | AL37: 115000
Z38: 9100 | AA38: TARIFA MES - PERSONAL AUXILIAR TÉCNICO - CONDUCTOR O MOTORISTA (NO INCLUYE FACTOR DE PRESTACIONES) | AB38: MES | AC38: 1389000 | AD38: =ROUND(AC56/AC38,4) -> 1.615 | AI38: 7485 | AJ38: RESISTENCIA A LA DEGRADACIÓN DE LOS AGREGADOS GRUESOS DE TAMAÑOS MAYORES DE 19 mm (¾") POR ABRASIÓN E IMPACTO EN LA MÁQUINA DE LOS ÁNGELES (CON TRITURACIÓN DE AGREGADOS). Norma técnica: INV E 219-13 NTC 93-2013. | AK38: UN | AL38: 111265
Z39: 9455 | AA39: TARIFA MES - PERSONAL DE OBRA - AYUDANTE (NO INCLUYE FACTOR DE PRESTACIONES) | AB39: MES | AC39: 1160000 | AD39: =ROUND(AC57/AC39,4) -> 1.648 | AI39: 7737 | AJ39: ANALISIS GRANULOMETRICO DE LOS AGREGADOS GRUESO Y FINO. Norma técnica: INV E 213-13 NTC 77-2007. | AK39: UN | AL39: 85085
Z40: 9473 | AA40: TARIFA MES - PERSONAL TÉCNICO - TECNÓLOGO EN ÁREAS DE INGENIERÍA (INCLUYE FACTOR DE PRESTACIONES) | AB40: MES | AC40: 4323570 | AI40: 7738 | AJ40: RESISTENCIA A LA DEGRADACIÓN DE LOS AGREGADOS DE TAMAÑOS MENORES DE 37.5 MM (1½") POR MEDIO DE LA MÁQUINA DE LOS ÁNGELES (SIN TRITURACIÓN DE LOS AGREGADOS). Norma técnica: INV E 218-13 NTC 98-2012. | AK40: UN | AL40: 111265
...

Sheet FM
C2: CALCULO DEL FACTOR MULTIPLICADOR
B4: 1 | C4: SALARIO MENSUAL BASICO
B5: 1.1 | C5: Salario básico | D5: 1
C6: SUBTOTAL 1 - SALARIO MENSUAL BASICO | D6: =ROUND(SUM(D5),4) -> 1
B8: 2 | C8: PRESTACIONES SOCIALES
B9: 2.1 | C9: Prima mensual | D9: =ROUND(30/360,4) -> 0.0833
B10: 2.2 | C10: Cesantía mensual | D10: =D9 -> 0.0833
B11: 2.3 | C11: Intereses de cesantías | D11: 0.01
B12: 2.4 | C12: Vacaciones | D12: =ROUND(15/360,4) -> 0.0417
B13: 2.5 | C13: Salud1 | D13: 0
B14: 2.6 | C14: Pensión | D14: 0.12
B15: 2.7 | C15: Subsidio Familiar | D15: =4% -> 0.04
B16: 2.8 | C16: ARL | D16: 0.0696
B17: 2.9 | C17: Dotación | D17: 0.02
B18: 2.10 | C18: Otros | D18: 0.025
C19: SUBTOTAL 2 - PRESTACIONES SOCIALES | D19: =ROUND((SUM(D9:D18)),4) -> 0.4929
B21: 3 | C21: COSTOS INDIRECTOS
B22: 3.1 | C22: Personal administrativo | D22: 0.025
B23: 3.2 | C23: Personal administrativo no facturable | D23: 0.02
B24: 3.3 | C24: Aseria Legal y tributaria | D24: 0.045
B25: 3.4 | C25: Equipos de uso del proyecto y software | D25: 0.06
B26: 3.5 | C26: Seguridad industrial y ocupacional | D26: 0.03
B27: 3.6 | C27: Costos de preparación de propuestas | D27: 0.02
C28: SUBTOTAL 3 - COSTOS INDIRECTOS | D28: =ROUND((SUM(D21:D27)),4) -> 0.2
B30: 4 | C30: COSTOS PERFECCIONAMIENTO
B31: 4.1 | C31: Poliza de calidad | D31: 0.005
B32: 4.2 | C32: Poliza cumplimineto | D32: 0.01
B33: 4.3 | C33: Poliza de salarios y prestaciones sociales | D33: 0.027
B34: 4.4 | C34: Retefuente | D34: 0.02
B35: 4.5 | C35: Estampillas | D35: 0.029
B36: 4.6 | C36: Retenciones bancarias (4/1000) | D36: 0.004
C37: SUBTOTAL 4 - COSTOS PERFECCIONAMIENTO | D37: =ROUND((SUM(D30:D36)),4) -> 0.095
B39: 5 | C39: CARGO POR HONORARIOS
B40: 5.1 | C40: Honorarios o utilidades | D40: 0.15
C41: SUBTOTAL 5 - HONORARIOS | D41: =ROUND(SUM(D40),4) -> 0.15
B43: 6 | C43: IMPREVISTOS
B44: 6.1 | C44: Estimación de imprevistos de la compañía | D44: 0.06
C45: SUBTOTAL 5 - HONORARIOS | D45: =ROUND(SUM(D44),4) -> 0.06
B47: 7 | C47: FACTOR MULTIPLICADOR = ( 1 + 2 + 3 + 4 + 5 + 6) / 100 | D47: =ROUND((D6+D19+D28+D37+D41+D45),2) -> 2
B49: Nota 1: | C49: Componente exceptuado a razon de normas tributarias de autoretención en la fuente

Sheet PPTO_OBRA
A4: No. | B4: CIV | C4: TRAMO | D4: DESDE | E4: HASTA | F4: ELEMENTO | G4: PK-ID | H4: TIPO DE INTERVENCIÓN | I4: SUPERFICIE | J4: COSTO | K4: TIPO VIA | L4: Elem Principal | M4: ÁREA | N4: Columna1 | O4: Columna2
A5: 1 | B5: 17000159 | C5: Carrera 1 | D5: Calle 12 b bis A | E5: Calle 12 c | F5: CALZADA | G5: 189591 | H5: {=INDIRECT("'"&PPTO_OBRA!$B5&"'!H49")} -> #REF! | I5: {=INDIRECT("'"&PPTO_OBRA!$B5&"'!H48")} -> #REF! | J5: {=INDIRECT("'"&PPTO_OBRA!$B5&"'!I91")} -> #REF! | K5: Local | L5: Vía | M5: {=INDIRECT("'"&PPTO_OBRA!$B5&"'!C5")} -> #REF!
A6: 2 | B6: 17000176 | C6: Carrera 6 | D6: Calle 10 | E6: Calle 11 | F6: CALZADA | G6: 189675 | H6: {=INDIRECT("'"&PPTO_OBRA!$B6&"'!H49")} -> #REF! | I6: {=INDIRECT("'"&PPTO_OBRA!$B6&"'!H48")} -> #REF! | J6: {=INDIRECT("'"&PPTO_OBRA!$B6&"'!I91")} -> #REF! | K6: Local | L6: Vía | M6: {=INDIRECT("'"&PPTO_OBRA!$B6&"'!C5")} -> #REF!
A7: 3 | B7: 17000181 | C7: Calle 11 | D7: Carrera 4 | E7: Carrera5 | F7: CALZADA | G7: 189747 | H7: {=INDIRECT("'"&PPTO_OBRA!$B7&"'!H49")} -> #REF! | I7: {=INDIRECT("'"&PPTO_OBRA!$B7&"'!H48")} -> #REF! | J7: {=INDIRECT("'"&PPTO_OBRA!$B7&"'!I91")} -> #REF! | K7: Local | L7: Vía | M7: {=INDIRECT("'"&PPTO_OBRA!$B7&"'!C5")} -> #REF!
A8: 4 | B8: 17000163 | C8: Calle 11 | D8: Carrera 5 | E8: Carrera 6 | F8: CALZADA | G8: 189748 | H8: {=INDIRECT("'"&PPTO_OBRA!$B8&"'!H49")} -> #REF! | I8: {=INDIRECT("'"&PPTO_OBRA!$B8&"'!H48")} -> #REF! | J8: {=INDIRECT("'"&PPTO_OBRA!$B8&"'!I91")} -> #REF! | K8: Local | L8: Vía | M8: {=INDIRECT("'"&PPTO_OBRA!$B8&"'!C5")} -> #REF!
A9: 5 | B9: 17000146 | C9: Calle 11 | D9: Carrera 6 | E9: Carrera 7 | F9: CALZADA | G9: 189749 | H9: {=INDIRECT("'"&PPTO_OBRA!$B9&"'!H49")} -> #REF! | I9: {=INDIRECT("'"&PPTO_OBRA!$B9&"'!H48")} -> #REF! | J9: {=INDIRECT("'"&PPTO_OBRA!$B9&"'!I91")} -> #REF! | K9: Local | L9: Vía | M9: {=INDIRECT("'"&PPTO_OBRA!$B9&"'!C5")} -> #REF!
A10: 6 | B10: 17000200 | C10: Carrera 6 | D10: Calle 9 | E10: Calle 10 | F10: CALZADA | G10: 189674 | H10: {=INDIRECT("'"&PPTO_OBRA!$B10&"'!H49")} -> #REF! | I10: {=INDIRECT("'"&PPTO_OBRA!$B10&"'!H48")} -> #REF! | J10: {=INDIRECT("'"&PPTO_OBRA!$B10&"'!I91")} -> #REF! | K10: Local | L10: Vía | M10: {=INDIRECT("'"&PPTO_OBRA!$B10&"'!C5")} -> #REF!
A11: 7 | B11: 17000248 | C11: Calle 8 | D11: Carrera 5 | E11: Carrera 6 | F11: CALZADA | G11: 189740 | H11: {=INDIRECT("'"&PPTO_OBRA!$B11&"'!H49")} -> #REF! | I11: {=INDIRECT("'"&PPTO_OBRA!$B11&"'!H48")} -> #REF! | J11: {=INDIRECT("'"&PPTO_OBRA!$B11&"'!I91")} -> #REF! | K11: Local | L11: Vía | M11: {=INDIRECT("'"&PPTO_OBRA!$B11&"'!C5")} -> #REF!
A12: 8 | B12: 17000330 | C12: Carrera 6 | D12: Calle 6b | E12: Calle 6c | F12: CALZADA | H12: {=INDIRECT("'"&PPTO_OBRA!$B12&"'!H49")} -> #REF! | I12: {=INDIRECT("'"&PPTO_OBRA!$B12&"'!H48")} -> #REF! | J12: {=INDIRECT("'"&PPTO_OBRA!$B12&"'!I91")} -> #REF! | K12: Local | L12: Vía | M12: {=INDIRECT("'"&PPTO_OBRA!$B12&"'!C5")} -> #REF!
A13: 9 | B13: 17000102 | C13: Calle 12C | D13: Carrera 4 | E13: Carrera 5 | F13: CALZADA | G13: 189790 | H13: {=INDIRECT("'"&PPTO_OBRA!$B13&"'!H49")} -> #REF! | I13: {=INDIRECT("'"&PPTO_OBRA!$B13&"'!H48")} -> #REF! | J13: {=INDIRECT("'"&PPTO_OBRA!$B13&"'!I91")} -> #REF! | K13: Local | L13: Vía | M13: {=INDIRECT("'"&PPTO_OBRA!$B13&"'!C5")} -> #REF!
A14: 10 | B14: 17000122 | C14: Carrera 9 | D14: Calle 10 | E14: Calle 11 | F14: CALZADA | G14: 189705 | H14: {=INDIRECT("'"&PPTO_OBRA!$B14&"'!H49")} -> #REF! | I14: {=INDIRECT("'"&PPTO_OBRA!$B14&"'!H48")} -> #REF! | J14: {=INDIRECT("'"&PPTO_OBRA!$B14&"'!I91")} -> #REF! | K14: Local | L14: Vía | M14: {=INDIRECT("'"&PPTO_OBRA!$B14&"'!C5")} -> #REF!
A15: 11 | B15: 17000147 | C15: Carrera 3 | D15: Calle 12b | E15: Calle 12c | F15: CALZADA | G15: 189633 | H15: {=INDIRECT("'"&PPTO_OBRA!$B15&"'!H49")} -> #REF! | I15: {=INDIRECT("'"&PPTO_OBRA!$B15&"'!H48")} -> #REF! | J15: {=INDIRECT("'"&PPTO_OBRA!$B15&"'!I91")} -> #REF! | K15: Local | L15: Vía | M15: {=INDIRECT("'"&PPTO_OBRA!$B15&"'!C5")} -> #REF!
A16: 12 | B16: 17000119 | C16: Carrera 3 | D16: Calle 12C | E16: Calle 12D | F16: CALZADA | G16: 189633 | H16: {=INDIRECT("'"&PPTO_OBRA!$B16&"'!H49")} -> #REF! | I16: {=INDIRECT("'"&PPTO_OBRA!$B16&"'!H48")} -> #REF! | J16: {=INDIRECT("'"&PPTO_OBRA!$B16&"'!I91")} -> #REF! | K16: Local | L16: Vía | M16: {=INDIRECT("'"&PPTO_OBRA!$B16&"'!C5")} -> #REF!
A17: 13 | B17: 17000229 | C17: Carrera 6 | D17: Calle 9 | E17: Calle 8 | F17: CALZADA | G17: 189673 | H17: {=INDIRECT("'"&PPTO_OBRA!$B17&"'!H49")} -> #REF! | I17: {=INDIRECT("'"&PPTO_OBRA!$B17&"'!H48")} -> #REF! | J17: {=INDIRECT("'"&PPTO_OBRA!$B17&"'!I91")} -> #REF! | K17: Local | L17: Vía | M17: {=INDIRECT("'"&PPTO_OBRA!$B17&"'!C5")} -> #REF!
A18: 14 | B18: 17000066 | C18: Carrera 2 | D18: Calle 16a | E18: Calle 17 | F18: CALZADA | G18: 529183 | H18: {=INDIRECT("'"&PPTO_OBRA!$B18&"'!H49")} -> #REF! | I18: {=INDIRECT("'"&PPTO_OBRA!$B18&"'!H48")} -> #REF! | J18: {=INDIRECT("'"&PPTO_OBRA!$B18&"'!I91")} -> #REF! | K18: Local | L18: Vía | M18: {=INDIRECT("'"&PPTO_OBRA!$B18&"'!C5")} -> #REF!
A19: 15 | B19: 17000225 | C19: Carrera 3 | D19: Calle 10 | E19: Calle 11 | F19: CALZADA | G19: 89629 | H19: {=INDIRECT("'"&PPTO_OBRA!$B19&"'!H49")} -> #REF! | I19: {=INDIRECT("'"&PPTO_OBRA!$B19&"'!H48")} -> #REF! | J19: {=INDIRECT("'"&PPTO_OBRA!$B19&"'!I91")} -> #REF! | K19: Local | L19: Vía | M19: {=INDIRECT("'"&PPTO_OBRA!$B19&"'!C5")} -> #REF!
A20: 16 | B20: 17000299 | C20: Calle 6c bis | D20: Carrera 6 | E20: Carrera 7 | F20: CALZADA | G20: 189727 | H20: {=INDIRECT("'"&PPTO_OBRA!$B20&"'!H49")} -> #REF! | I20: {=INDIRECT("'"&PPTO_OBRA!$B20&"'!H48")} -> #REF! | J20: {=INDIRECT("'"&PPTO_OBRA!$B20&"'!I91")} -> #REF! | K20: Local | L20: Vía | M20: {=INDIRECT("'"&PPTO_OBRA!$B20&"'!C5")} -> #REF!
A21: 17 | B21: 17000303 | C21: Calle 9 | D21: Carrera 1 | E21: Carrera 2 | F21: CALZADA | G21: 189898 | H21: {=INDIRECT("'"&PPTO_OBRA!$B21&"'!H49")} -> #REF! | I21: {=INDIRECT("'"&PPTO_OBRA!$B21&"'!H48")} -> #REF! | J21: {=INDIRECT("'"&PPTO_OBRA!$B21&"'!I91")} -> #REF! | K21: Local | L21: Vía | M21: {=INDIRECT("'"&PPTO_OBRA!$B21&"'!C5")} -> #REF!
A22: 18 | B22: 17000360 | C22: Carrera 1 | D22: Calle 6d | E22: Calle 7 | F22: CALZADA | G22: 189583 | H22: {=INDIRECT("'"&PPTO_OBRA!$B22&"'!H49")} -> #REF! | I22: {=INDIRECT("'"&PPTO_OBRA!$B22&"'!H48")} -> #REF! | J22: {=INDIRECT("'"&PPTO_OBRA!$B22&"'!I91")} -> #REF! | K22: Local | L22: Vía | M22: {=INDIRECT("'"&PPTO_OBRA!$B22&"'!C5")} -> #REF!
A23: Total | J23: =SUBTOTAL(109,PPTO_OBRA!$J$5:$J$22) -> 0 | M23: =SUBTOTAL(109,PPTO_OBRA!$M$5:$M$22) -> 0
K24: 1301489315
D25: COSTO DIRECTO INTERVENCIÓN ELEMENTOS ESPACIO PÚBLICO PRIORIZADOS | J25: 1358073569 | K25: =J25+J59 -> #REF! | L25: =ROUND(J59,0) -> #REF!
D27: PROVISIÓN COSTO DIRECTO PARA ACCIONES DE MOVILIDAD, ATENCIONES DE EMERGENCIA y FONDO DE AJUSTE | J27: =K27 -> #REF! | K27: =ROUND(J25*O34,0) -> #REF!
D29: COSTO DIRECTO OBRA | J29: =J25+J27 -> #REF! | L29: Costo directo total | N29: 1610407278
L30: Provision acciones mov | M30: 0.138 | N30: =ROUND(N29*M30,0) -> 222236204
D31: ADMINISTRACIÓN (A) | I31: =AIU!L49 -> 0.1619 | L31: costo directo a ejecutar Elemtos priorizados | N31: =N29-N30 -> 1388171074
D32: IMPREVISTOS (I) | I32: =AIU!L50 -> 0.0125 | L32: Costo intervención mensual | M32: =#REF! -> #REF! | N32: =ROUND(N31/M32,0) -> #REF!
D33: UTILIDAD (U) | I33: =AIU!L51 -> 0.04 | L33: Ajuste | M33: 0.13 | N33: =ROUND(M33*N32,0) -> #REF!
D34: AIU | I34: =SUM(I31:I33) -> 0.2144 | J34: =ROUND($J$29*I34,0) -> #REF! | L34: Total provisiones | N34: =N33+N30 -> #REF! | O34: =N34/N35 -> #REF!
L35: Costo directo vias priorizadas | N35: =N29-N34 -> #REF!
D36: SUBTOTAL COMPONENTE OBRA | J36: =J29+J34 -> #REF!
D38: ="COSTO TOTAL COMPONENTE AMBIENTAL ("&ROUND(ROUND(J38/$J$29,4)*100,2)&"% COSTO DIRECTO OBRA)" -> #REF! | J38: =#REF! -> #REF!
D39: ="COSTO TOTAL COMPONENTE SOCIAL ("&ROUND(ROUND(J39/$J$29,4)*100,2)&"% COSTO DIRECTO OBRA)" -> #REF! | J39: =#REF! -> #REF!
D40: ="COSTO TOTAL COMPONENTE PMT ("&ROUND(ROUND(J40/$J$29,4)*100,2)&"% COSTO DIRECTO OBRA)" -> #REF! | J40: =PPTO_PMT!M47 -> 7370068
D41: SUBTOTAL COMPONENTES DIFERENTES A OBRA | J41: =SUM(J38:J40) -> #REF!
D43: COSTOS ACTIVIDADES DE DIAGNOSTICO | J43: =PPTO_PRELIM!K29 -> 6153603
D45: TOTAL CONTRATO OBRA | J45: =J36+J41+J43 -> #REF!
F47: A | G47: VALOR CONTRATO CONSERVACION OBRA | J47: =J45 -> #REF!
F49: B | G49: VALOR INTERVENTORÍA | I49: 0.135 | J49: 350000000
G51: Reserva adicional | J51: 0
...

Sheet FORMULARIO OBRA
C2: Formulario 1 - Propuesta económica - Documento tipo de licitación de obra pública de infraestructura de transporte - versión 3
C3: Código | D3: CCE-EICP-FM-14 | E3: Versión | F3: 3
C4: FORMULARIO 1
C5: PRESUPUESTO OFICIAL
C6: [La entidad puede utilizar este formulario de detalle del presupuesto oficial para determinar las condiciones bajo las cuales los proponentes analizarán y presentarán su propuesta económica de forma detallada, sin perjuicio que la entidad pueda modificarlo o establecer la presentación de la oferta económica con un formulario distinto al indicado.]
C8: Adicionalmente, cuando el proceso de contratación es estructurado por precios unitarios, la Entidad debe aplicar las notas 1, 2 y 3 del presente formulario y las casillas de "Descripción", "Porcentaje" de la Administración, Imprevisto, Utilidad y total A.I.U. resaltadas en color amarillo. Tratándose de otras modalidades de precio, la Entidad puede o no configurar los mismos aspectos.
C10: Nº | D10: ÍTEM DE PAGO | E10: ESPECIFICACIONES | G10: DESCRIPCIÓN | H10: UND. | I10: CANTIDAD | J10: VALOR UNITARIO | K10: VALOR UNITARIO + AIU | L10: VALOR TOTAL
E11: GENERAL | F11: PARTICULAR
C12: 01.MANTENIMIENTO DE ESPACIO PUBLICO
C13: 1.1 | D13: 4595 | E13: IDU | G13: MANTENIMIENTO CORRECTIVO DE ESPACIO PUBLICO ADOQUIN DE ARCILLA LIVIANO SOBRE MORTERO. INCL. RETIRO ADOQUIN E INSTALAR NUEVO. NO INCLUYE REDES. | H13: M2 | I13: =I14 -> 343.49 | J13: 108321 | K13: =(J13*$L$46)+J13 -> 131545.02 | L13: =K13*I13 -> 45184400
C14: 1.2 | D14: 4702 | E14: IDU | G14: MANTENIMIENTO PREVENTIVO ESPACIO PUBLICO. INCLUYE LIMPIEZA E INSTALACION DE SELLO DE ARENA | H14: M2 | I14: 343.49 | J14: 3214 | K14: =(J14*$L$46)+J14 -> 3903.0816 | L14: =K14*I14 -> 1340669.5
C15: 1.3 | D15: 5197 | E15: IDU | G15: DEMOLICIÓN DE CONCRETO: ESPESORES 16CM A 25CM. (INCLUYE RETIRO DE MATERIAL, TRANSPORTE Y DISPOSICIÓN FINAL DE ESCOMBROS EN SITIO AUTORIZADO). | H15: M3 | I15: 5 | J15: 106959 | K15: =(J15*$L$46)+J15 -> 129891.01 | L15: =I15*K15 -> 649455.05
C16: 02.MANTENIMIENTO JARDINERAS
C17: 2.1 | D17: 10250 | E17: IDU | G17: PLANTACION DE JARDINERÍA DE PORTE BAJO. (INCLUYE SUMINISTRO AL SITIO DE OBRA, PLANTACION, TIERRA NEGRA Y ABONO. EN BOLSA DE 7" A 15" DE ALTURA DE 10CM A 20CM) | H17: M2 | I17: 10 | J17: 101085 | K17: =(J17*$L$46)+J17 -> 122757.62 | L17: =K17*I17 -> 1227576.2
C18: 2.2 | D18: A.P.U | G18: RESTAURACIÓN DE JARDINERAS | H18: UN | I18: 6 | J18: 240739 | K18: =(J18*$L$46)+J18 -> 292353.44 | L18: =K18*I18 -> 1754120.6
C19: 03.INTERVENCIÓN MURO DE FACHADA
C20: 3.1 | D20: Cotizacion | G20: MURAL incluye diseño del arte y elaboración | H20: GLB | I20: 1 | J20: =COTIZACIONES!I4 -> 33048488 | K20: =(J20*$L$46)+J20 -> 40134083 | L20: =K20*I20 -> 40134083
C21: 3.2 | D21: 10225 | G21: Pañete impermeab. muro 1:4 e=0.015 a> 0.60 m | H21: M2 | I21: 198.54 | J21: 20977.97 | K21: =(J21*$L$46)+J21 -> 25475.647 | L21: =K21*I21 -> 5057934.9
C22: 3.3 | D22: 10141 | G22: Koraza sobre color diferente (2 MANOS) | H22: M2 | I22: 198.54 | J22: 18020.54 | K22: =(J22*$L$46)+J22 -> 21884.144 | L22: =K22*I22 -> 4344877.9
C23: 04. ORNAMENTACIÓN
C24: 4.1 | D24: 15380 | G24: PINTURA ANTICORROSIVA + ESMALTE | H24: ML | I24: 40 | J24: 23473.68 | K24: =(J24*$L$46)+J24 -> 28506.437 | L24: =K24*I24 -> 1140257.5
C25: 4.2 | D25: A.P.U | G25: ORNAMENTACIÓN LETRERO | H25: GLB | I25: 1 | J25: 6000000 | K25: =(J25*$L$46)+J25 -> 7286400 | L25: =K25*I25 -> 7286400
C26: 4.3 | D26: A.P.U | G26: ANCLAJE DE ORNAMENTACIÓN | H26: UN | I26: 10 | J26: 124318 | K26: =(J26*$L$46)+J26 -> 150971.78 | L26: =K26*I26 -> 1509717.8
C27: SUBTOTAL OBRAS | L27: =SUM(L13:L26) -> 1.0962949e+08
G29: COSTO DIRECTO INTERVENCIÓN ELEMENTOS ESPACIO PÚBLICO | L29: =L27 -> 1.0962949e+08
G31: ="SUBTOTAL COSTO INDIRECTO OBRA A.I.U" -> SUBTOTAL COSTO INDIRECTO OBRA A.I.U | L31: =L46*L29 -> 23504563
G33: SUBTOTAL COSTO COMPONENTE OBRA | L33: =L31+L29 -> 1.3313406e+08
G35: COMPONENTE PLAN DE MANEJO DE TRAFICO - PMT (INCLUYE A.I.U.) - VALOR NO OFERTABLE | L35: =PPTO_PMT!M47 -> 7370068
G36: COSTOS ACTIVIDADES PRELIMINARES | L36: =PPTO_PRELIM!K29 -> 6153603
G39: VALOR TOTAL | L39: =ROUND(L33+L35+L36,0) -> 146657727
C42: NOTA 1: Se debe tener en cuenta que el PRECIO UNITARIO incluye el valor de A.I.U. | H42: DESCRIPCION | L42: PORCENTAJE
C43: NOTA 2: Cuando la fracción decimal del peso sea igual o superior a 5 se aproximará por exceso al número entero siguiente del peso y cuando la fracción decimal del peso sea inferior a 5 se aproximará por defecto al número entero del peso. | H43: ADMINISTRACIÓN | J43: A= | L43: =PPTO_OBRA!I31 -> 0.1619
C44: NOTA 3: El A.I.U y su discriminación deben estar en porcentaje (%). | H44: IMPREVISTO | J44: I= | L44: =PPTO_OBRA!I32 -> 0.0125
H45: UTILIDAD | J45: U= | L45: =PPTO_OBRA!I33 -> 0.04
H46: TOTAL A.I.U | J46: A.I.U.= | L46: =SUM(L43:L45) -> 0.2144

Sheet AIU
B2: ALCALDIA LOCAL DE CANDELARIA
B4: MATRIZ DE CÁLCULO DE AIU OBRA
C6: COSTO DIRECTO ESTIMADO DE OBRA (CD) | F6: 1.1309516e+08 | K6: =Base!$D$9 -> 45072 | N6: Codigo | O6: Componente | P6: Costo real | Q6: Estimación costo total | R6: Diferencia | S6: Codigo | T6: Costo directo | U6: Primera aproximación
C7: TERMINO ESTIMADO DE ETAPA PRELIMINARES | F7: 0.25 | G7: MESES | O7: Diferencia | P7: =P19 -> #REF! | Q7: 0 | R7: =P7-Q7 -> #REF!
C8: TERMINO ESTIMADO DE EJECUCIÓN DE OBRA | F8: 0.75 | G8: MESES | N8: NA | O8: OBRA | P8: =PPTO_OBRA!J36 -> #REF! | Q8: 2097721296 | R8: =P8-Q8 -> #REF! | S8: NA | T8: =PPTO_OBRA!J29 -> #REF! | U8: =IF(R8=0,Q8,IF(R8<(0.01*Q8),Q8,T8*1.32)) -> #REF!
C9: TERMINO ESTIMADO DE ETAPA DE ENTREGA | F9: 0 | G9: MESES | O9: AMBIENTAL | P9: =#REF! -> #REF! | Q9: 143288136 | R9: =P9-Q9 -> #REF! | T9: =#REF! -> #REF! | U9: =IF(R9=0,Q9,IF(R9<(0.01*Q9),Q9,T9*1.32)) -> #REF!
O10: SOCIAL | P10: =#REF! -> #REF! | Q10: 62367465 | R10: =P10-Q10 -> #REF! | T10: =#REF! -> #REF! | U10: =IF(R10=0,Q10,IF(R10<(0.01*Q10),Q10,T10*1.32)) -> #REF!
B11: COD IDU | C11: ÍTEM | D11: A. ADMINISTRACIÓN | O11: PPMT | P11: =PPTO_PMT!M47 -> 7370068 | Q11: 98125773 | R11: =P11-Q11 -> -90755705 | T11: =PPTO_PMT!M39 -> 6068896.6 | U11: =IF(R11=0,Q11,IF(R11<(0.01*Q11),Q11,T11*1.32)) -> 98125773
D12: 1. COSTOS MENSUALES DE PERSONAL | O12: TOTAL | P12: =SUM(P8:P11) -> #REF! | Q12: =SUM(Q8:Q11) -> 2401502670 | R12: =SUM(R7:R11) -> #REF! | T12: =SUM(T8:T11) -> #REF! | U12: =SUM(U8:U11) -> #REF!
D13: CARGO | F13: CANT | G13: CATEGORÍA | H13: TOPE SALARIO (MES) | I13: FACTOR PRESTACIONAL | J13: DEDICACIÓN | L13: SALARIO + PRESTACIONES | P13: {=DireccionBusq(P7)&":"&DireccionBusq(P11)} -> #NAME? | Q13: {=DireccionBusq(Q7)&":"&DireccionBusq(Q11)} -> #NAME? | R13: {=DireccionBusq(R12)} -> #NAME?
J15: RECIBO
F16: A | H16: C | I16: D | J16: E | L16: F=A*B*C*D*E
C17: 1.1 | D17: PERSONAL PROFESIONAL (Ingenieros y Otros) | N17: Costo directo calculado APU | P17: =PPTO_OBRA!J29 -> #REF!
B18: =INDEX(#REF!,MATCH($C18,#REF!,0),MATCH(#REF!,#REF!,0)) -> #REF! | C18: =#REF! -> #REF! | D18: RESIDENTE DE OBRA | F18: 1 | G18: 8 | H18: 4943000 | I18: 1.4525 | J18: 1 | K18: 1 | L18: =ROUND(F18*H18*I18*(J18),0) -> 7179708 | N18: Costo directo Calculado AIU | P18: =PPTO_OBRA!J29 -> #REF!
B19: =INDEX(#REF!,MATCH($C19,#REF!,0),MATCH(#REF!,#REF!,0)) -> #REF! | C19: =#REF! -> #REF! | D19: RESIDENTE SST | F19: 1 | G19: 8 | H19: 4943000 | I19: 1.4525 | J19: 0.5 | K19: 1 | L19: =ROUND(F19*H19*I19*(J19),0) -> 3589854 | N19: Diferencia Calculada | P19: =P18-P17 -> #REF!
B20: =INDEX(#REF!,MATCH($C20,#REF!,0),MATCH(#REF!,#REF!,0)) -> #REF! | C20: =#REF! -> #REF! | D20: =INDEX(#REF!,MATCH($C20,#REF!,0),MATCH(#REF!,#REF!,0)) -> #REF! | F20: =INDEX(#REF!,MATCH($C20,#REF!,0),MATCH(#REF!,#REF!,0)) -> #REF! | G20: =INDEX(#REF!,MATCH($C20,#REF!,0),MATCH(#REF!,#REF!,0)) -> #REF! | H20: =INDEX(#REF!,MATCH($C20,#REF!,0),MATCH(#REF!,#REF!,0)) -> #REF! | I20: =INDEX(#REF!,MATCH($C20,#REF!,0),MATCH(#REF!,#REF!,0)) -> #REF! | K20: =INDEX(#REF!,MATCH($C20,#REF!,0),MATCH(#REF!,#REF!,0)) -> #REF! | L20: =ROUND(F20*H20*I20*(#REF!+K20),0) -> #REF!
B21: =INDEX(#REF!,MATCH($C21,#REF!,0),MATCH(#REF!,#REF!,0)) -> #REF! | C21: =#REF! -> #REF! | D21: =INDEX(#REF!,MATCH($C21,#REF!,0),MATCH(#REF!,#REF!,0)) -> #REF! | F21: =INDEX(#REF!,MATCH($C21,#REF!,0),MATCH(#REF!,#REF!,0)) -> #REF! | G21: =INDEX(#REF!,MATCH($C21,#REF!,0),MATCH(#REF!,#REF!,0)) -> #REF! | H21: =INDEX(#REF!,MATCH($C21,#REF!,0),MATCH(#REF!,#REF!,0)) -> #REF! | I21: =INDEX(#REF!,MATCH($C21,#REF!,0),MATCH(#REF!,#REF!,0)) -> #REF! | K21: =INDEX(#REF!,MATCH($C21,#REF!,0),MATCH(#REF!,#REF!,0)) -> #REF! | L21: =ROUND(F21*H21*I21*(#REF!+K21),0) -> #REF!
D22: SUBTOTAL COSTOS MENSUALES DE PERSONAL | L22: =SUM(L18:L19) -> 10769562
B24: COD IDU | C24: 2 | D24: GASTOS OPERACIONALES MENSUALES | F24: CANT. | G24: AREA (M2) | H24: COSTO ($/M2.MES) | I24: DEDICACIÓN MES | K24: N. MESES | L24: VALOR ($)
B25: 9578 | C25: 2.03 | D25: =INDEX(Trabajo!$AI$15:$AL$30,MATCH(AIU!B25,Trabajo!$AI$15:$AI$30,0),MATCH(Trabajo!$AJ$15,Trabajo!$AI$15:$AL$15,0)) -> GASTOS OFICINA (PAPELERIA, FOTOCOPIAS Y OTROS) | F25: 1 | G25: N/A | H25: 1140473 | I25: 0.5 | K25: 1 | L25: =+K25*H25*I25*F25 -> 570236.5
D26: SUBTOTAL GASTOS OPERACIONALES MENSUALES | L26: =+SUM(L25:L25) -> 570236.5
D28: TOTAL COSTOS PERSONAL + GASTOS OPERACIONALES POR EL TÉRMINO DE EJECUCIÓN | L28: =+L22+L26 -> 11339798
D29: TOTAL COSTOS PERSONAL + GASTOS OPERACIONALES POR EL TÉRMINO DE EJECUCIÓN EN PORCENTAJE DEL COSTO DIRECTO | L29: =L28/F6 -> 0.10026776
C31: 3. IMPUESTOS Y GARANTÍAS ESTIMADAS
C32: 3.1 | D32: IMPUESTOS
C33: ÍTEM | D33: DESCRIPCIÓN | I33: APLICA | L33: VALOR ($)
C34: 3.101 | D34: Constribución especial de obra publica | I34: Si | K34: 0.05 | L34: =K34*F6 -> 5654758
C35: 3.107 | D35: Estampilla Unipedagógica (Dec 584 de 19 dic 2014) | I35: Si | K35: 0.005 | L35: =K35*F6 -> 565475.8
D36: SUBTOTAL IMPUESTOS | L36: =+SUM(L34:L35) -> 6220233.9
C38: 3.2 | D38: GARANTIAS ESTIMADAS
C39: ÍTEM | D39: DESCRIPCIÓN | G39: VR. BASE | I39: % ASEGURADO | J39: VIGENCIA AMPARO (MESES) | K39: TASA ASEGURADORA | L39: VALOR ($)
C40: 3.201 | D40: Cumplimiento | F40: GARANTIA UNICA | G40: =$F$6 -> 1.1309516e+08 | I40: 0.1 | J40: 12 | K40: 0.002 | L40: =ROUND(G40*I40*J40/12*K40*(1.19),2) -> 26916.65
C41: 3.203 | D41: Pago de salarios | G41: =$F$6 -> 1.1309516e+08 | I41: 0.05 | J41: =(12*3)+6 -> 42 | K41: 0.001 | L41: =ROUND(G41*I41*J41/12*K41*(1.19),2) -> 23552.07
C42: 3.204 | D42: Calidad del servicio | G42: =$F$6 -> 1.1309516e+08 | I42: 0.2 | J42: =12*5 -> 60 | K42: 0.002 | L42: =ROUND(G42*I42*J42/12*K42*(1.19),2) -> 269166.48
C43: 3.205 | D43: Predios, labores y Operaciones- Vigencia (Decreto 1082 de 2015 Sección III) | E43: 200 | F43: RESPONSABILIDAD CIVIL EXTRACONTRACTUAL | G43: 260000000 | I43: =E43&" SMMLV" -> 200 SMMLV | J43: 4 | K43: 0.003 | L43: =ROUND(G43*J43/12*K43*(1.19),2) -> 309400
D44: SUBTOTAL GARANTÍAS | L44: =+SUM(L40:L43)*1.19 -> 748551.89
D46: TOTAL IMPUESTOS Y GARANTÍAS | L46: =+L44+L36 -> 6968785.7
D47: TOTAL IMPUESTOS Y GARANTÍAS EN PORCENTAJE DEL COSTO DIRECTO | L47: =+L46/F6 -> 0.061618779
D49: A. ADMINISTRACIÓN (1 + 2 + 3) | L49: =ROUND(L29+L47,4) -> 0.1619
D50: I. IMPREVISTOS | L50: 0.0125
...

Sheet PPTO_PRELIM
B2: ALCALDIA LOCAL DE CANDELARIA
B4: MATRIZ DE PRESUPUESTO ETAPA DE DIAGNOSTICO
C6: TERMINO ESTIMADO DE ETAPA DE DIAGNOSTICO | F6: 0.25 | G6: MESES
C7: TERMINO ESTIMADO DE EJECUCIÓN DE OBRA | F7: 0.75 | G7: MESES
C8: TERMINO ESTIMADO DE ETAPA DE ENTREGA | F8: 0 | G8: MESES
B10: 1. COSTOS MENSUALES DE PERSONAL
B11: COD IDU | C11: ÍTEM | D11: CARGO | F11: CANT | G11: CATEGORÍA | H11: TOPE SALARIO (MES) | I11: FACTOR MULTIPLICADOR | J11: TOTAL DEDICACIÓN POR ETAPA (MES) | K11: SALARIO + PRESTACIONES
J13: DIAGNOSTICO
F14: A | H14: C | I14: D | K14: F=A*B*C*D*E
C15: 1.1 | D15: PERSONAL PROFESIONAL (Ingenieros y Otros)
D16: ESPECIALISTA EN PATRIMONIO | F16: 1 | G16: 7 | H16: 4943000 | I16: =FM!$D$47 -> 2 | J16: 0.5 | K16: =ROUND(F16*H16*I16*(J16),0) -> 4943000
B17: =INDEX(#REF!,MATCH($C17,#REF!,0),MATCH(#REF!,#REF!,0)) -> #REF! | C17: =#REF! -> #REF! | D17: =INDEX(#REF!,MATCH($C17,#REF!,0),MATCH(#REF!,#REF!,0)) -> #REF! | F17: =INDEX(#REF!,MATCH($C17,#REF!,0),MATCH(#REF!,#REF!,0)) -> #REF! | G17: =INDEX(#REF!,MATCH($C17,#REF!,0),MATCH(#REF!,#REF!,0)) -> #REF! | H17: =INDEX(#REF!,MATCH($C17,#REF!,0),MATCH(#REF!,#REF!,0)) -> #REF! | I17: =INDEX(#REF!,MATCH($C17,#REF!,0),MATCH(#REF!,#REF!,0)) -> #REF! | J17: =INDEX(#REF!,MATCH($C17,#REF!,0),MATCH(#REF!,#REF!,0)) -> #REF! | K17: =ROUND(F17*H17*I17*(J17+#REF!),0) -> #REF!
B18: =INDEX(#REF!,MATCH($C18,#REF!,0),MATCH(#REF!,#REF!,0)) -> #REF! | C18: =#REF! -> #REF! | D18: =INDEX(#REF!,MATCH($C18,#REF!,0),MATCH(#REF!,#REF!,0)) -> #REF! | F18: =INDEX(#REF!,MATCH($C18,#REF!,0),MATCH(#REF!,#REF!,0)) -> #REF! | G18: =INDEX(#REF!,MATCH($C18,#REF!,0),MATCH(#REF!,#REF!,0)) -> #REF! | H18: =INDEX(#REF!,MATCH($C18,#REF!,0),MATCH(#REF!,#REF!,0)) -> #REF! | I18: =INDEX(#REF!,MATCH($C18,#REF!,0),MATCH(#REF!,#REF!,0)) -> #REF! | J18: =INDEX(#REF!,MATCH($C18,#REF!,0),MATCH(#REF!,#REF!,0)) -> #REF! | K18: =ROUND(F18*H18*I18*(J18+#REF!),0) -> #REF!
D19: TOTAL COSTOS PERSONAL | K19: =SUM(K16:K16) -> 4943000
B21: GASTOS OPERACIONALES MENSUALES.
B22: COD IDU | C22: =C11 -> ÍTEM | D22: DESCRIPCIÓN | F22: CANT. | G22: AREA (M2) | H22: COSTO ($/M2.MES) | I22: DEDICACIÓN MES | J22: DEDICACIÓN X ÁREA (M2) | K22: VALOR ($)
B23: 9578 | C23: 2.03 | D23: =INDEX(Trabajo!$AI$15:$AL$30,MATCH(PPTO_PRELIM!B23,Trabajo!$AI$15:$AI$30,0),MATCH(Trabajo!$AJ$15,Trabajo!$AI$15:$AL$15,0)) -> GASTOS OFICINA (PAPELERIA, FOTOCOPIAS Y OTROS) | F23: 1 | G23: N/A | H23: 1140473 | I23: 0.2 | J23: N/A | K23: =ROUND(H23*I23*F23,0) -> 228095
D24: SUBTOTAL GASTOS OPERACIONALES MENSUALES | K24: =+SUM(K23:K23) -> 228095
D26: TOTAL BASICO COSTOS PERSONAL + GASTOS OPERACIONALES POR EL TÉRMINO DE EJECUCIÓN | K26: =+K19+K24 -> 5171095
D28: IVA | K28: 0.19
D29: COSTO ACTIVIDADES DE DIAGNOSTICO (INCLUYE IVA) | K29: =(K28*K26)+K26 -> 6153603

Sheet PPTO_PMT
A1: Col_1 | B1: Col_2 | C1: Col_3 | D1: Col_4 | E1: Col_5 | F1: Col_6 | G1: Col_7 | H1: Col_8 | I1: Col_9 | J1: Col_10 | K1: Col_11 | L1: Col_12 | M1: Valor | N1: Filtro
A2: =Base!$C$7 -> FONDO DE DESARROLLO LOCAL DE LA CANDELARIA | N2: 1
N3: 1
A4: PRESUPUESTO PLAN DE MANEJO DE TRAFICO (PMT) | N4: 1
A5: TERMINO ESTIMADO DE EJECUCIÓN DE OBRA | D5: 0.25 | E5: MESES | N5: 1
A6: TERMINO ESTIMADO DE ETAPA DE DIAGNOSTICO | D6: 0.75 | E6: MESES | N6: 1
A7: TERMINO ESTIMADO DE ETAPA DE ENTREGA | D7: 0 | E7: MESES | N7: 1
A8: TERMINO ESTIMADO TOTAL DE OBRA | D8: =SUM(D5:D7) -> 1 | E8: MESES | N8: 1
N9: 1
A10: COMPONENTE A. PERSONAL TÉCNICO Y PROFESIONAL | N10: 1
A11: CÓD. IDU | B11: ÍTEM | C11: CARGO | G11: CANTIDAD | H11: CATEGORÍA | I11: TARIFA (MES) | J11: FACTOR PRESTACIONAL | K11: DEDICACIÓN | M11: SALARIO + PRESTACIONES | N11: 1
G12: A | I12: D | J12: E | K12: F | M12: H = A*D*E*(B*F+C*G) | N12: 1
B13: A1 | C13: PERSONAL PROFESIONAL (Ingenieros y Otros) | I13: 2 | N13: 1
A14: =INDEX(#REF!,MATCH($B14,#REF!,0),MATCH(#REF!,#REF!,0)) -> #REF! | B14: A1.1T | C14: ESPECIALISTA EN TRÁNSITO Y TRANSPORTE | G14: 1 | H14: 7 | I14: 4943000 | J14: 1.4516 | K14: 0.3 | M14: =K14*J14*I14 -> 2152577.6 | N14: =IF(M14=0,0,1) -> 1
B15: A3 | C15: AYUDANTES PMT | N15: 1
A16: =INDEX(#REF!,MATCH($B16,#REF!,0),MATCH(#REF!,#REF!,0)) -> #REF! | B16: A3.1T | C16: AYUDANTES PMT | G16: 1 | H16: N/A | I16: 1825000 | J16: 1.648 | K16: 0.3 | M16: =K16*J16*I16 -> 902280 | N16: =IF(M16=0,0,1) -> 1
N17: 1
A18: ="SUBTOTAL "&A10 -> SUBTOTAL COMPONENTE A. PERSONAL TÉCNICO Y PROFESIONAL | M18: =SUM(M14:M16) -> 3054857.6 | N18: 1
N19: 1
A20: COMPONENTE B. GASTOS POR ELABORACIÓN DE INFORMES | N20: 1
A21: CÓD. IDU | B21: ÍTEM | C21: DESCRIPCIÓN | E21: ESPECIFICACIÓN | I21: UM | J21: VALOR UNITARIO | L21: CANTIDAD | M21: VALOR ($) | N21: 1
A22: 9724 | B22: B1 | C22: EQUIPOS DE COMPUTO | E22: PORTÁTILES - Procesador minimo: intel, Core i3 4005U, celeron o similar, Memoria RAM de 4 GB(2x2048 MB) Disco duro de 500gb a 7200 rpm Pantalla LED HP BrightView widescreen alta definición con 35,6 cm | I22: UN/MES | J22: 123571 | L22: 1 | M22: =ROUND(J22*L22,0) -> 123571 | N22: =IF(M22=0,0,1) -> 1
A23: 9840 | B23: B2 | C23: EDICIÓN DE INFORMES | E23: EDICIÓN DE INFORME MENSUAL DE INTERVENTORÍA O CONSULTORÍA. Incluye 4 tapas plastificadas tamaño carta color blanco, con 6 tornillos, hojas de papel bond tamaño carta 75 gramos, 170 folios | I23: UN/MES | J23: 239000 | L23: 1 | M23: =ROUND(J23*L23,0) -> 239000 | N23: =IF(M23=0,0,1) -> 1
N24: 1
A25: ="SUBTOTAL "&A20 -> SUBTOTAL COMPONENTE B. GASTOS POR ELABORACIÓN DE INFORMES | M25: =SUM(M22:M23) -> 362571 | N25: 1
N26: 1
A27: COMPONENTE C. ELEMENTOS DE PMT | N27: 1
A28: CÓD. IDU | B28: ÍTEM | C28: DESCRIPCIÓN | E28: ESPECIFICACIÓN | I28: UM | J28: VALOR UNITARIO | L28: CANTIDAD | M28: VALOR ($) | N28: 1
A29: 7554 | B29: C1 | C29: SEÑALIZACIÓN TUBULAR COLOMBINA PLÁSTICA | E29: SEÑALIZACION TUBULAR COLOMBINA PLASTICA | I29: UN | J29: 44982 | L29: 4 | M29: =ROUND(J29*L29,0) -> 179928 | N29: =IF(M29=0,0,1) -> 1
A30: 7360 | B30: C2 | C30: BARRERA RELLENABLE CON CINTA RET (2,00 X 0,55 X 1,00) | E30: BARRERA RELLENABLE (2.00x0.55x1.00m) CON CINTA RET | I30: UN | J30: 456960 | L30: 2 | M30: =ROUND(J30*L30,0) -> 913920 | N30: =IF(M30=0,0,1) -> 1
A31: 7555 | B31: C3 | C31: CINTA DE SEÑALIZACIÓN CALIBRE 4 (ROLLO 500 M X 0,10 M ) | E31: CINTA DE SEÑALIZACION CAL 4 (ROLLO 500mx0.10m) | I31: UN | J31: 40698 | L31: 10 | M31: =ROUND(J31*L31,0) -> 406980 | N31: =IF(M31=0,0,1) -> 1
A32: 6552 | B32: C4 | C32: SEÑALES DE TRÁNSITO SR 60 X 60 POSTE 3,50 M | E32: SEÑAL DE TRANSITO GRUPO I (60x60cm) POSTE 3.5m | I32: UN | J32: 386892 | L32: 2 | M32: =ROUND(J32*L32,0) -> 773784 | N32: =IF(M32=0,0,1) -> 1
A33: 9169 | B33: C7 | C33: SEÑAL EN POLIETILENO ALVEOLAR PARE | E33: PALETA PARE-SIGA REGLAMENTADA | I33: UN | J33: 31428 | L33: 2 | M33: =ROUND(J33*L33,0) -> 62856 | N33: =IF(M33=0,0,1) -> 1
A34: 7560 | B34: C10 | C34: POLISOMBRA (ALTURA 2,00 METROS) | E34: POLISOMBRA 65% (1x7m) R-800 NEGRA | I34: M2 | J34: 3140 | L34: 100 | M34: =ROUND(J34*L34,0) -> 314000 | N34: =IF(M34=0,0,1) -> 1
N35: 1
A36: ="SUBTOTAL "&A27 -> SUBTOTAL COMPONENTE C. ELEMENTOS DE PMT | M36: =SUM(M29:M34) -> 2651468 | N36: 1
N37: 1
N38: 1
A39: ="SUBTOTAL COSTO DIRECTO "&$C$2 -> SUBTOTAL COSTO DIRECTO | M39: =M18+M25+M36 -> 6068896.6 | N39: 1
N40: 1
...

Sheet APU
C5: ITEM: | D5: 4.3
C6: DESCRIPCION: | D6: Anclaje de ornamentación
C7: UNIDAD: | D7: Und
C9: A. MATERIALES
C10: Codigo Lista IDRD 30-11-2023 Pendiente Actualización | D10: DESCRIPCION | F10: UNIDAD | G10: CANTIDAD | H10: VR. UNITARIO | I10: VR.TOTAL
C11: 3517 | D11: ANCLAJE CHAZO METALICO EXP | F11: und | G11: 1 | H11: 1480 | I11: =G11*H11 -> 1480
D12: Soporte Para Bicicletas Dual en acero inoxidable capacidad max 20 kg | F12: und | G12: 1 | H12: 74900 | I12: =G12*H12 -> 74900
C13: 100231 | D13: Sikadur AnchorFix-4 | F13: Kg | G13: =26.13/1000 -> 0.02613 | H13: 152556 | I13: =G13*H13 -> 3986.2883
I14: =G14*H14 -> 0
I15: =G15*H15 -> 0
H16: SUBTOTAL | I16: =SUM(I11:I15) -> 80366.288
C17: B. EQUIPOS Y HERRAMIENTAS
D18: DESCRIPCION | F18: UNIDAD | G18: RENDIMIENTO | H18: VR. UNITARIO | I18: VR.TOTAL
C19: Contractual | D19: HERRAMIENTA MENOR | F19: GL | G19: 0.053 | H19: 1903 | I19: =G19*H19 -> 100.859
C20: 11167 | D20: ALQUILER TALADRO | F20: JR | G20: 0.03 | H20: 39184 | I20: =G20*H20 -> 1175.52
C21: 368 | D21: ANDAMIO TUBULAR (SECC 1.5X1.5) | F21: DD | G21: 0.009 | H21: 1566 | I21: =G21*H21 -> 14.094
I22: =G22*H22 -> 0
H23: SUBTOTAL | I23: =SUM(I19:I22) -> 1290.473
C24: C. MANO DE OBRA
D25: DESCRIPCION | F25: UNIDAD | G25: RENDIMIENTO | H25: VR. UNITARIO | I25: SUB TOTAL
C26: 11938 | D26: CUADRILLA ALBAÑILERIA GENERAL 1:1 + PREST. | F26: JR | G26: 0.216 | H26: 197507.53 | I26: =G26*H26 -> 42661.626
I27: =G27*H27 -> 0
I28: =G28*H28 -> 0
H29: SUBTOTAL | I29: =SUM(I26:I28) -> 42661.626
C30: D. TRANSPORTE
D31: DESCRIPCION | F31: UNIDAD | G31: CANTIDAD | H31: PRECIO UNITARIO | I31: SUB TOTAL
I32: =G32*H32 -> 0
I33: =G33*H33 -> 0
I34: =G34*H34 -> 0
H35: SUBTOTAL | I35: =SUM(I32:I34) -> 0
H37: COSTOS DIRECTOS | I37: =ROUND((I16+I23+I29+I35),2) -> 124318.39
C40: ITEM: | D40: 2.2
C41: DESCRIPCION: | D41: Restaruración jardineras
C42: UNIDAD: | D42: Und
C44: A. MATERIALES
C45: Codigo Lista IDRD 30-11-2023 Pendiente Actualización | D45: DESCRIPCION | F45: UNIDAD | G45: CANTIDAD | H45: VR. UNITARIO | I45: VR.TOTAL
C46: 100013 | D46: Sikadur 42 anclaje 5 Kg (toxement E3F Grout) | F46: Kg | G46: 1 | H46: 90951 | I46: =G46*H46 -> 90951
C47: 100364 | D47: Pintura Koraza | F47: GLN | G47: =10*0.04 -> 0.4 | H47: 90452 | I47: =G47*H47 -> 36180.8
D48: MORTERO 1:3 ARENA Lav.de PEÑA(M3) | F48: M3 | G48: =10*0.015 -> 0.15 | H48: 472203.95 | I48: =G48*H48 -> 70830.592
H51: SUBTOTAL | I51: =SUM(I46:I50) -> 197962.39
...

Sheet COTIZACIONES
B3: ITEM | C3: DESCRIPCIÓN | D3: COT 1 | E3: COT 2 | F3: COT 3 | G3: PROMEDIO | H3: CANTIDAD | I3: VALOR TOTAL
B4: 1 | C4: MURAL | D4: 35000000 | E4: 33294000 | F4: 30851463 | G4: =AVERAGE(D4:F4) -> 33048488 | H4: 1 | I4: =H4*G4 -> 33048488
