Workbook
Name \a: #REF!
Name \a: #REF!
Name \a: #REF!
Name \a: #REF!
Name \a: #REF!
Name \b: [1]INSUMOS!#REF!
Name \b: [2]INSUMOS!#REF!
Name \b: [2]INSUMOS!#REF!
Name \b: [1]INSUMOS!#REF!
Name \b: [3]INSUMOS!#REF!
Name \i: [1]INSUMOS!#REF!
Name \i: [2]INSUMOS!#REF!
Name \i: [2]INSUMOS!#REF!
Name \i: [1]INSUMOS!#REF!
Name \i: [3]INSUMOS!#REF!
Name \L: #REF!
Name \L: #REF!
Name \L: #REF!
Name \L: #REF!
Name \L: #REF!
Name \L: #REF!
Name \L: #REF!
Name \m: [3]INSUMOS!#REF!
Name \m: [1]INSUMOS!#REF!
Name \m: [3]INSUMOS!#REF!
Name \m: [2]INSUMOS!#REF!
Name \m: [2]INSUMOS!#REF!
Name \m: [1]INSUMOS!#REF!
Name \m: [3]INSUMOS!#REF!
Name \P: #REF!
Name \P: #REF!
Name \P: #REF!
Name \P: #REF!
Name \P: #REF!
Name \P: #REF!
Name \P: #REF!
Name \r: [3]INSUMOS!#REF!
Name \r: [1]INSUMOS!#REF!
Name \r: [3]INSUMOS!#REF!
Name \r: [2]INSUMOS!#REF!
Name \r: [2]INSUMOS!#REF!
Name \r: [1]INSUMOS!#REF!
Name \r: [3]INSUMOS!#REF!
Name \s: #REF!
Name \s: #REF!
Name \s: #REF!
Name \s: #REF!
Name \s: #REF!
Name \s: #REF!
Name \s: #REF!
Name \t: [3]INSUMOS!#REF!
Name \t: [1]INSUMOS!#REF!
Name \t: [3]INSUMOS!#REF!
Name \t: [2]INSUMOS!#REF!
Name \t: [2]INSUMOS!#REF!
Name \t: [1]INSUMOS!#REF!
Name \t: [3]INSUMOS!#REF!
Name \x: [3]INSUMOS!#REF!
Name \x: [1]INSUMOS!#REF!
Name \x: [3]INSUMOS!#REF!

Sheet INFO GENERAL
B2: SECRETARIA GENERAL | H2: #VALUE!
B3: GRUPO TÉCNICO
B4: CALCULO ADMINISTRACIÓN, IMPREVISTOS, UTILIDAD - AIU
B6: OBJETO DEL CONTRATO | C6: IMPLEMENTACIÓN DE ESTRATEGIAS INTEGRALES PARTICIPATIVAS PARA LA RESTAURACIÓN Y REHABILITACIÓN ECOLÓGICA, USO SOSTENIBLE Y GESTIÓN INTEGRAL DE LA MICROCUENCA EL TEJAR EN EL MUNICIPIO DE CHOCONTÁ.
B7: ALCANCE | C7: Generar acciones integrales de restauración participativa en la microcuenca El Tejar, por medio de acciones de restauracióny rehabilitación ecológica, sistemas productivos sostenibles articulados con los procesos sociales de gestión gestión del territorio, en el municipio de Chocontá.
B9: COSTO DIRECTO DE OBRA (CD) | C9: 2.495412e+09 | D9: COP | F9: VALOR ANTICIPO (% ) | H9: 0
B10: PLAZO DE EJECUCION | C10: 10 | D10: MESES | F10: SMMLV | H10: 1300000
B12: OBJETIVO GENERAL | C12: Implementación de estrategias integrales participativas para la restauración y rehabilitación ecológica, uso sostenible y gestión integral de la microcuenca el tejar en el municipio de Chocontá.
B13: OBJETIVOS ESPECIFICOS | C13: Implementar acciones de restauración de los ecosistemas altoandinos.
C15: Integración de prácticas sostenibles en agroecosistemas de las áreas de influencia.
C17: Articular los procesos sociales con la gestión ambiental del territorio.

Sheet RECURSO HUMANO
B2: SECRETARIA GENERAL | I2: #VALUE!
B3: GRUPO TÉCNICO
B4: =+'INFO GENERAL'!B4 -> CALCULO ADMINISTRACIÓN, IMPREVISTOS, UTILIDAD - AIU
B6: PERSONAL PROFESIONAL / TÉCNICO / ADMINISTRATIVO
B8: PERSONAL | C8: CATEGORÍA | E8: CANTIDAD | F8: SALARIO U HONORARIOS | G8: SMMLV | H8: DEDICACIÓN | I8: FP PRESTACIONAL | J8: ALERTAS
A9: 1 | B9: COORDINADOR DEL PROYECTO | C9: Especialista | E9: =ROUNDUP(SUMIFS('PLAN OPERATIVO'!$CL$11:$CL$79,'PLAN OPERATIVO'!$D$11:$D$79,'RECURSO HUMANO'!B9)/DEDICACIÓN!$Y$5,0) -> 1 | F9: 8946068 | G9: =F9/'INFO GENERAL'!$H$10 -> 6.8815908 | H9: =+DEDICACIÓN!C93 -> 0.49 | I9: =+'FACTOR PRESTACIONAL'!D36 -> 1.6625417 | J9: =IF(H9>1,"ES NECESARIO DOS PROFESIONALES","")
A10: 2 | B10: PROFESIONAL DE APOYO SIG | C10: Profesional | E10: =ROUNDUP(SUMIFS('PLAN OPERATIVO'!$CL$11:$CL$79,'PLAN OPERATIVO'!$D$11:$D$79,'RECURSO HUMANO'!B10)/DEDICACIÓN!$Y$5,0) -> 1 | F10: 6553517 | G10: =F10/'INFO GENERAL'!$H$10 -> 5.0411669 | H10: =+DEDICACIÓN!C94 -> 0.25 | I10: =+'FACTOR PRESTACIONAL'!H36 -> 1.6625417 | J10: =IF(H10>1,"ES NECESARIO DOS PROFESIONALES","")
A11: 3 | B11: PROFESIONAL BIÓLOGO CON ÉNFASIS EN RESTAURACIÓN ECOLÓGICA | C11: Profesional | E11: =ROUNDUP(SUMIFS('PLAN OPERATIVO'!$CL$11:$CL$79,'PLAN OPERATIVO'!$D$11:$D$79,'RECURSO HUMANO'!B11)/DEDICACIÓN!$Y$5,0) -> 1 | F11: 6553517 | G11: =F11/'INFO GENERAL'!$H$10 -> 5.0411669 | H11: =+DEDICACIÓN!C95 -> 0.71 | I11: =+'FACTOR PRESTACIONAL'!L36 -> 1.6625417 | J11: =IF(H11>1,"ES NECESARIO DOS PROFESIONALES","")
A12: 4 | B12: TÉCNICO AMBIENTAL RESIDENTE | C12: Técnico | E12: =ROUNDUP(SUMIFS('PLAN OPERATIVO'!$CL$11:$CL$79,'PLAN OPERATIVO'!$D$11:$D$79,'RECURSO HUMANO'!B12)/DEDICACIÓN!$Y$5,0) -> 1 | F12: 2600604 | G12: =F12/'INFO GENERAL'!$H$10 -> 2.0004646 | H12: =+DEDICACIÓN!C96 -> 0.98 | I12: =+'FACTOR PRESTACIONAL'!P36 -> 1.6625417 | J12: =IF(H12>1,"ES NECESARIO DOS PROFESIONALES","")
A13: 5 | B13: PROFESIONAL AGROECOSISTEMAS, INGENIERO FORESTAL O INGENIERO AGRÓNOMO | C13: Profesional | E13: =ROUNDUP(SUMIFS('PLAN OPERATIVO'!$CL$11:$CL$79,'PLAN OPERATIVO'!$D$11:$D$79,'RECURSO HUMANO'!B13)/DEDICACIÓN!$Y$5,0) -> 1 | F13: 8946068 | G13: =F13/'INFO GENERAL'!$H$10 -> 6.8815908 | H13: =+DEDICACIÓN!C97 -> 0.975 | I13: =+'FACTOR PRESTACIONAL'!T36 -> 1.6625417 | J13: =IF(H13>1,"ES NECESARIO DOS PROFESIONALES","")
A14: 6 | B14: PROFESIONAL SOCIAL I | C14: Profesional | E14: =ROUNDUP(SUMIFS('PLAN OPERATIVO'!$CL$11:$CL$79,'PLAN OPERATIVO'!$D$11:$D$79,'RECURSO HUMANO'!B14)/DEDICACIÓN!$Y$5,0) -> 1 | F14: 8946068 | G14: =F14/'INFO GENERAL'!$H$10 -> 6.8815908 | H14: =+DEDICACIÓN!C98 -> 0.968 | I14: =+'FACTOR PRESTACIONAL'!X36 -> 1.6625417 | J14: =IF(H14>1,"ES NECESARIO DOS PROFESIONALES","")
A15: 7 | B15: PROFESIONAL SOCIAL II | C15: Profesional | E15: =ROUNDUP(SUMIFS('PLAN OPERATIVO'!$CL$11:$CL$79,'PLAN OPERATIVO'!$D$11:$D$79,'RECURSO HUMANO'!B15)/DEDICACIÓN!$Y$5,0) -> 1 | F15: 5409251 | G15: =F15/'INFO GENERAL'!$H$10 -> 4.1609623 | H15: =+DEDICACIÓN!C99 -> 0.966 | I15: =+'FACTOR PRESTACIONAL'!AB36 -> 1.6625417 | J15: =IF(H15>1,"ES NECESARIO DOS PROFESIONALES","")
A16: 8 | B16: PROFESIONAL EN RIESGOS | C16: Profesional | E16: =ROUNDUP(SUMIFS('PLAN OPERATIVO'!$CL$11:$CL$79,'PLAN OPERATIVO'!$D$11:$D$79,'RECURSO HUMANO'!B16)/DEDICACIÓN!$Y$5,0) -> 1 | F16: 6553517 | G16: =F16/'INFO GENERAL'!$H$10 -> 5.0411669 | H16: =+DEDICACIÓN!C100 -> 0.27 | I16: =+'FACTOR PRESTACIONAL'!AF36 -> 1.6625417 | J16: =IF(H16>1,"ES NECESARIO DOS PROFESIONALES","")
E17: =ROUNDUP(SUMIFS('PLAN OPERATIVO'!$CL$11:$CL$79,'PLAN OPERATIVO'!$D$11:$D$79,'RECURSO HUMANO'!B17)/DEDICACIÓN!$Y$5,0) -> 0

Sheet PLAN OPERATIVO
B2: SECRETARIA GENERAL | CO2: #VALUE!
B3: GRUPO TÉCNICO
B4: =+'INFO GENERAL'!B4 -> CALCULO ADMINISTRACIÓN, IMPREVISTOS, UTILIDAD - AIU
B6: PLAN OPERATIVO
B8: ALCANCE
B9: ACTIVIDADES MACRO A REALIZAR | C9: Detalle | D9: PERSONAL | E9: C | F9: MES 1 | J9: MES 2 | N9: MES 3 | R9: MES 4 | V9: MES 5 | Z9: MES 6 | AD9: MES 7 | AH9: MES 8 | AL9: MES 9 | AP9: MES 10 | AT9: MES 11 | AX9: MES 12 | BB9: MES 13 | BF9: MES 14 | BJ9: MES 15 | BN9: MES 16 | BR9: MES 17 | BV9: MES 18 | BZ9: MES 19 | CD9: MES 20 | CH9: MES 21 | CL9: TOTAL | CM9: PRODUCTO | CN9: OBJETIVOS ESPECIFICOS | CO9: OBJETIVO GENERAL
F10: 1 | G10: 2 | H10: 3 | I10: 4 | J10: 1 | K10: 2 | L10: 3 | M10: 4 | N10: 1 | O10: 2 | P10: 3 | Q10: 4 | R10: 1 | S10: 2 | T10: 3 | U10: 4 | V10: 1 | W10: 2 | X10: 3 | Y10: 4 | Z10: 1 | AA10: 2 | AB10: 3 | AC10: 4 | AD10: 1 | AE10: 2 | AF10: 3 | AG10: 4 | AH10: 1 | AI10: 2 | AJ10: 3 | AK10: 4 | AL10: 1 | AM10: 2 | AN10: 3 | AO10: 4 | AP10: 1 | AQ10: 2 | AR10: 3 | AS10: 4 | AT10: 1 | AU10: 2 | AV10: 3 | AW10: 4 | AX10: 1 | AY10: 2 | AZ10: 3 | BA10: 4 | BB10: 1 | BC10: 2 | BD10: 3 | BE10: 4 | BF10: 1 | BG10: 2 | BH10: 3 | BI10: 4 | BJ10: 1 | BK10: 2 | BL10: 3 | BM10: 4 | BN10: 1 | BO10: 2 | BP10: 3 | BQ10: 4 | BR10: 1 | BS10: 2 | BT10: 3 | BU10: 4 | BV10: 1 | BW10: 2 | BX10: 3 | BY10: 4 | BZ10: 1 | CA10: 2 | CB10: 3 | CC10: 4 | CD10: 1 | CE10: 2 | CF10: 3 | CG10: 4 | CH10: 1 | CI10: 2 | CJ10: 3 | CK10: 4
B11: Estudios de los documentos del proyecto (diseños, especificaciones, documentos y demas informacion para el desarrollo del contrato). | C11: =IF(COUNTIFS($B$11:$B$79,B11)=0,"",COUNTIFS($B$11:$B$79,B11)) -> 1 | D11: COORDINADOR DEL PROYECTO | E11: P | F11: 2 | CL11: =SUM(F11:CK11) -> 2 | CM11: Documento con el plan de trabajo y metodologico para la etapa de obra | CN11: Reportar periodicamente el avance de ejecución del proyecto tanto técnica, social y presupestalmente | CO11: Codinar con el equipo de trabajo la ejecución del proyecto de acuerdo dando cumplimiento al plan de trabajo, la metodologia participativa e incidente de las comunidades y el presupuesto aprobado.
B12: Coordinar la construcción de metodologías y el cronograma general del proyecto con el apoyo del equipo de profesionales para el tiempo de obra. | C12: =IF(COUNTIFS($B$11:$B$79,B12)=0,"",COUNTIFS($B$11:$B$79,B12)) -> 1 | D12: COORDINADOR DEL PROYECTO | E12: P | F12: 2 | CL12: =SUM(F12:CK12) -> 2
B13: Realizar la coordinación, seguimiento, acompañamiento y cumplimiento de los componentes y actividades de obra, técnicas, sociales, operativas, administrativas y financieras del proyecto. | C13: =IF(COUNTIFS($B$11:$B$79,B13)=0,"",COUNTIFS($B$11:$B$79,B13)) -> 1 | D13: COORDINADOR DEL PROYECTO | E13: P | F13: 0.3 | G13: 1.4 | H13: 1.4 | I13: 0.7 | J13: 0.8 | K13: 1.4 | L13: 1.4 | M13: 0.7 | N13: 0.8 | O13: 1.4 | P13: 1.4 | Q13: 0.7 | R13: 0.8 | S13: 1.4 | T13: 1.4 | U13: 0.7 | V13: 0.8 | W13: 1.4 | X13: 1.4 | Y13: 0.7 | Z13: 0.8 | AA13: 1.4 | AB13: 1.4 | AC13: 0.7 | AD13: 0.8 | AE13: 1.4 | AF13: 1.4 | AG13: 0.7 | AH13: 0.8 | AI13: 1.4 | AJ13: 1.4 | AK13: 0.7 | AL13: 0.8 | AM13: 1.4 | AN13: 1.4 | AO13: 0.7 | AP13: 0.8 | AQ13: 1.4 | AR13: 1.4 | CL13: =SUM(F13:CK13) -> 41.8 | CM13: Informe mensual de ejecución según plan de trabajo y presupuesto
B14: Solucionar oportunamente las dificultades que se presenten en la ejecución de la obra | D14: COORDINADOR DEL PROYECTO | E14: P | G14: 0.2 | H14: 0.2 | I14: 0.2 | J14: 0.2 | K14: 0.2 | L14: 0.2 | M14: 0.2 | N14: 0.2 | O14: 0.2 | P14: 0.2 | Q14: 0.2 | R14: 0.2 | S14: 0.2 | T14: 0.2 | U14: 0.2 | V14: 0.2 | W14: 0.2 | X14: 0.2 | Y14: 0.2 | Z14: 0.2 | AA14: 0.2 | AB14: 0.2 | AC14: 0.2 | AD14: 0.2 | AE14: 0.2 | AF14: 0.2 | AG14: 0.2 | AH14: 0.2 | AI14: 0.2 | AJ14: 0.2 | AK14: 0.2 | AL14: 0.2 | AM14: 0.2 | AN14: 0.2 | AO14: 0.2 | AP14: 0.2 | AQ14: 0.2 | AR14: 0.2 | CL14: =SUM(F14:CK14) -> 7.6 | CM14: Documento informe que contenga reporte de la gestión
B15: Asegurar que las actividades del proyecto se realicen de acuerdo con los objetivos, el cronograma y el presupuesto establecido | D15: COORDINADOR DEL PROYECTO | E15: P | G15: 0.2 | H15: 0.2 | I15: 0.2 | J15: 0.2 | K15: 0.2 | L15: 0.2 | M15: 0.2 | N15: 0.2 | O15: 0.2 | P15: 0.2 | Q15: 0.2 | R15: 0.2 | S15: 0.2 | T15: 0.2 | U15: 0.2 | V15: 0.2 | W15: 0.2 | X15: 0.2 | Y15: 0.2 | Z15: 0.2 | AA15: 0.2 | AB15: 0.2 | AC15: 0.2 | AD15: 0.2 | AE15: 0.2 | AF15: 0.2 | AG15: 0.2 | AH15: 0.2 | AI15: 0.2 | AJ15: 0.2 | AK15: 0.2 | AL15: 0.2 | AM15: 0.2 | AN15: 0.2 | AO15: 0.2 | AP15: 0.2 | AQ15: 0.2 | AR15: 0.2 | CL15: =SUM(F15:CK15) -> 7.6 | CM15: Informe de avance periodido de las actividades implemtadas, ajustes, ejecución presupuestal
B16: Realizar el seguimiento continuo de las actividades en campo y con las comunidades, garantizando que se ajusten a los planes establecidos y proponiendo ajustes en caso de ser necesario. | D16: COORDINADOR DEL PROYECTO | E16: P | G16: 0.5 | H16: 0.5 | I16: 0.3 | J16: 0.5 | K16: 0.5 | L16: 0.5 | M16: 0.3 | N16: 0.5 | O16: 0.5 | P16: 0.5 | Q16: 0.3 | R16: 0.5 | S16: 0.5 | T16: 0.5 | U16: 0.3 | V16: 0.5 | W16: 0.5 | X16: 0.5 | Y16: 0.3 | Z16: 0.5 | AA16: 0.5 | AB16: 0.5 | AC16: 0.3 | AD16: 0.5 | AE16: 0.5 | AF16: 0.5 | AG16: 0.3 | AH16: 0.5 | AI16: 0.5 | AJ16: 0.5 | AK16: 0.3 | AL16: 0.5 | AM16: 0.5 | AN16: 0.5 | AO16: 0.3 | AP16: 0.5 | AQ16: 0.5 | AR16: 0.5 | CL16: =SUM(F16:CK16) -> 17.2
B17: Coordinar la ejecución financiera del proyecto, revisando informes y asegurando la correcta asignación de recursos. | D17: COORDINADOR DEL PROYECTO | E17: P | G17: 0.4 | H17: 0.4 | I17: 0.3 | J17: 1 | K17: 0.4 | L17: 0.4 | M17: 0.3 | N17: 1 | O17: 0.4 | P17: 0.4 | Q17: 0.3 | R17: 1 | S17: 0.4 | T17: 0.4 | U17: 0.3 | V17: 1 | W17: 0.4 | X17: 0.4 | Y17: 0.3 | Z17: 1 | AA17: 0.4 | AB17: 0.4 | AC17: 0.3 | AD17: 1 | AE17: 0.4 | AF17: 0.4 | AG17: 0.3 | AH17: 1 | AI17: 0.4 | AJ17: 0.4 | AK17: 0.3 | AL17: 1 | AM17: 0.4 | AN17: 0.4 | AO17: 0.3 | AP17: 1 | AQ17: 0.4 | AR17: 0.4 | CL17: =SUM(F17:CK17) -> 19.7 | CM17: Documentos con la evidencia de la cordinación de la ejecución interdiciplinaria con el equipo del proyecto
B18: Articular con actores locales, comunidades, y las entidades que corresponda, facilitando su participación en el proyecto. | C18: =IF(COUNTIFS($B$11:$B$79,B18)=0,"",COUNTIFS($B$11:$B$79,B18)) -> 1 | D18: COORDINADOR DEL PROYECTO | E18: P | G18: 0.2 | H18: 0.2 | I18: 0.2 | J18: 0.2 | K18: 0.2 | L18: 0.2 | M18: 0.2 | N18: 0.2 | O18: 0.2 | P18: 0.2 | Q18: 0.2 | R18: 0.2 | S18: 0.2 | T18: 0.2 | U18: 0.2 | V18: 0.2 | W18: 0.2 | X18: 0.2 | Y18: 0.2 | Z18: 0.2 | AA18: 0.2 | AB18: 0.2 | AC18: 0.2 | AD18: 0.2 | AE18: 0.2 | AF18: 0.2 | AG18: 0.2 | AH18: 0.2 | AI18: 0.2 | AJ18: 0.2 | AK18: 0.2 | AL18: 0.2 | AM18: 0.2 | AN18: 0.2 | AO18: 0.2 | AP18: 0.2 | AQ18: 0.2 | CL18: =SUM(F18:CK18) -> 7.4 | CN18: Cordinar con el equipo de profesionales del proyecto una ejecución participativa e inerdiciplinaria
B19: Preparar y entregar informes periódicos y finales, así como documentos que incluyan resultados técnicos, administrativos, sociales y financieros, con el paso a paso para replicar la experiencia. | C19: =IF(COUNTIFS($B$11:$B$79,B19)=0,"",COUNTIFS($B$11:$B$79,B19)) -> 1 | D19: COORDINADOR DEL PROYECTO | E19: P | I19: 1 | M19: 1 | Q19: 1 | U19: 1 | Y19: 1 | AC19: 1 | AG19: 1 | AK19: 1 | AO19: 1 | AR19: 0.2 | AS19: 3 | CL19: =SUM(F19:CK19) -> 12.2 | CM19: Informes bimensuales de acuerdo a los terminos definidos en el contrato
B20: Implementar un sistema de monitoreo SIG que permita la digitalización, espacialización y georreferenciación de información primaria, así como el análisis de cambios en las áreas de intervención, incluyendo el cálculo de áreas, mapas de coberturas y actualización de imágenes satelitales o por uso de drones. | D20: PROFESIONAL DE APOYO SIG | E20: P | F20: 0.7 | G20: 0.7 | H20: 0.7 | I20: 0.7 | J20: 0.7 | K20: 0.7 | L20: 0.7 | M20: 0.7 | N20: 0.7 | O20: 0.7 | P20: 0.7 | Q20: 0.7 | R20: 0.7 | S20: 0.7 | T20: 0.7 | U20: 0.7 | V20: 0.7 | W20: 0.7 | X20: 0.7 | Y20: 0.7 | Z20: 0.7 | AA20: 0.7 | AB20: 0.7 | AC20: 0.7 | AD20: 0.7 | AE20: 0.7 | AF20: 0.7 | AG20: 0.7 | AH20: 0.7 | AI20: 0.7 | AJ20: 0.7 | AK20: 0.7 | AL20: 0.7 | AM20: 0.7 | AN20: 0.7 | AO20: 0.7 | AP20: 0.7 | AQ20: 0.7 | AR20: 0.7 | AS20: 0.7 | CL20: =SUM(F20:CK20) -> 28 | CM20: Mapas temáticos que representen aspectos críticos como la distribución de recursos hídricos, áreas de intervención, zonas degradadas por procesos erosivos. | CN20: Realizar un monitoreo continuo de las intervenciones realizadas | CO20: Apoyar la ejecución de un proyecto de restauración de microcuencas, mediante la elaboración de mapas temáticos que representen la distribución y estado de los recursos hídricos, áreas prioritarias para reforestación y conservación, zonas afectadas por contaminación y degradación ambiental.
B21: Apoyar la socialización de los resultados y avances del proyecto con las partes interesadas, garantizando que la información sea accesible y comprensible para todos los involucrados | D21: PROFESIONAL DE APOYO SIG | E21: P | F21: 0.3 | G21: 0.3 | H21: 0.3 | I21: 0.3 | J21: 0.3 | K21: 0.3 | L21: 0.3 | M21: 0.3 | N21: 0.3 | O21: 0.3 | P21: 0.3 | Q21: 0.3 | R21: 0.3 | S21: 0.3 | T21: 0.3 | U21: 0.3 | V21: 0.3 | W21: 0.3 | X21: 0.3 | Y21: 0.3 | Z21: 0.3 | AA21: 0.3 | AB21: 0.3 | AC21: 0.3 | AD21: 0.3 | AE21: 0.3 | AF21: 0.3 | AG21: 0.3 | AH21: 0.3 | AI21: 0.3 | AJ21: 0.3 | AK21: 0.3 | AL21: 0.3 | AM21: 0.3 | AN21: 0.3 | AO21: 0.3 | AP21: 0.3 | AQ21: 0.3 | AR21: 0.3 | AS21: 0.3 | CL21: =SUM(F21:CK21) -> 12 | CN21: Elaborar la información cartográficas necesaria para comunicar oportunamente el avance del proyecto en sus diferentes aspectos técnicos y sociales
B22: Trabajar en conjunto con otros profesionales, como ecologistas, ingenieros y gestores de recursos hídricos, para asegurar un enfoque integral en la restauración de microcuencas | D22: PROFESIONAL DE APOYO SIG | E22: P | F22: 0.2 | G22: 0.2 | H22: 0.2 | I22: 0.2 | J22: 0.2 | K22: 0.2 | L22: 0.2 | M22: 0.2 | N22: 0.2 | O22: 0.2 | P22: 0.2 | Q22: 0.2 | R22: 0.2 | S22: 0.2 | T22: 0.2 | U22: 0.2 | V22: 0.2 | W22: 0.2 | X22: 0.2 | Y22: 0.2 | Z22: 0.2 | AA22: 0.2 | AB22: 0.2 | AC22: 0.2 | AD22: 0.2 | AE22: 0.2 | AF22: 0.2 | AG22: 0.2 | AH22: 0.2 | AI22: 0.2 | AJ22: 0.2 | AK22: 0.2 | AL22: 0.2 | AM22: 0.2 | AN22: 0.2 | AO22: 0.2 | AP22: 0.2 | AQ22: 0.2 | AR22: 0.2 | AS22: 0.2 | CL22: =SUM(F22:CK22) -> 8 | CN22: Desarrllar las actividades del proyecto con un enfoque interdiciplinario
B23: Elaborar los informes mensuales y los solicitados por el coordinador del proyecto. | D23: PROFESIONAL DE APOYO SIG | E23: P | I23: 1 | M23: 1 | Q23: 1 | U23: 1 | Y23: 1 | AC23: 1 | AG23: 1 | AK23: 1 | AO23: 1 | AS23: 2 | CL23: =SUM(F23:CK23) -> 11 | CM23: Informes mensuales de actividades. | CN23: Informar oportunamente el avance del proyecto a través de información georeferenciada
B24: Coordinar la implementación de los procesos de rehabilitación y enriquecimiento ecológico participativo con enfoque ecosistémico en las áreas definidas en la microcuenca del río Tejar. | C24: =IF(COUNTIFS($B$11:$B$79,B24)=0,"",COUNTIFS($B$11:$B$79,B24)) -> 1 | D24: PROFESIONAL BIÓLOGO CON ÉNFASIS EN RESTAURACIÓN ECOLÓGICA | E24: P | F24: 0.4 | G24: 1.1 | H24: 1.1 | I24: 0.5 | J24: 1.6 | K24: 0.6 | L24: 1.1 | M24: 0.5 | N24: 1.6 | O24: 1.1 | P24: 1.1 | Q24: 0.6 | R24: 1.6 | S24: 2.2 | T24: 1.1 | U24: 0.5 | V24: 2.1 | W24: 2.1 | X24: 1.8 | Y24: 1.5 | Z24: 2.1 | AA24: 1.8 | AB24: 1.8 | AC24: 1.5 | AD24: 1.6 | AE24: 2.1 | AF24: 1.6 | AG24: 1.5 | AH24: 1.6 | AI24: 2.1 | AJ24: 2.1 | AK24: 1.5 | AL24: 1.6 | AM24: 1.6 | AN24: 2.1 | AO24: 1.1 | CL24: =SUM(F24:CK24) -> 51.9 | CM24: Informes mensuales de actividades. | CN24: Coordinar la implementación de los procesos de rehabilitación y enriquecimiento ecológico participativo en la microcuenca del río Tejar | CO24: Implementar los procesos de rehabilitación y enriquecimiento ecológico participativo con enfoque ecosistémico en las áreas definidas en la microcuenca del río Tejar
B25: Apoyar y coordinar con los componentes de Gestión Integral del territorio y de Prácticas Sostenibles la gestión y firma de acuerdos de conservación con actores sociales para el desarrollo de procesos de rehabilitación ecológica, enriquecimiento ecológico y sistemas sostenibles. | C25: =IF(COUNTIFS($B$11:$B$79,B25)=0,"",COUNTIFS($B$11:$B$79,B25)) -> #VALUE! | D25: PROFESIONAL BIÓLOGO CON ÉNFASIS EN RESTAURACIÓN ECOLÓGICA | E25: P | F25: 1.5 | G25: 0.5 | H25: 1 | I25: 1 | J25: 1 | K25: 1.5 | L25: 1 | M25: 1 | N25: 1 | O25: 1 | P25: 1 | R25: 1 | T25: 1 | U25: 1 | CL25: =SUM(F25:CK25) -> 14.5 | CM25: Acuerdos de conservación firmados | CN25: Apoyar y coordinar la firma de acuerdos de conservación con actores sociales para el desarrollo de procesos de rehabilitación ecológica, enriquecimiento ecológico y sistemas sostenibles.
B26: Apoyar con el coordinador del proyecto la elaboración del cronograma y metodologías de trabajo. | C26: =IF(COUNTIFS($B$11:$B$79,B26)=0,"",COUNTIFS($B$11:$B$79,B26)) -> 1 | D26: PROFESIONAL BIÓLOGO CON ÉNFASIS EN RESTAURACIÓN ECOLÓGICA | E26: P | F26: 2 | CL26: =SUM(F26:CK26) -> 2 | CM26: Cronograma y metodologías de trabajo concertadas | CN26: Apoyar la elaboración del cronograma y metodologías de trabajo.
B27: Coordinar y desarrollar con el equipo del componente de Gestión Integral del Territorio las reuniones y talleres de participación comunitaria en los procesos de restauración ecológica. | C27: =IF(COUNTIFS($B$11:$B$79,B27)=0,"",COUNTIFS($B$11:$B$79,B27)) -> 1 | D27: PROFESIONAL BIÓLOGO CON ÉNFASIS EN RESTAURACIÓN ECOLÓGICA | E27: P | F27: 1.5 | G27: 2.5 | H27: 2 | I27: 1.8 | J27: 1.5 | K27: 2 | L27: 2 | M27: 1.8 | N27: 1.5 | O27: 2 | P27: 2 | Q27: 2.5 | R27: 1.5 | S27: 2 | T27: 2 | U27: 1.8 | V27: 2 | W27: 2 | X27: 2.3 | Y27: 1.8 | Z27: 2 | AA27: 2.3 | AB27: 2.3 | AC27: 1.8 | AD27: 2.5 | AE27: 2 | AF27: 2.5 | AG27: 1.8 | AH27: 2.5 | AI27: 2 | AJ27: 2 | AK27: 1.8 | AL27: 2.5 | AM27: 2.5 | AN27: 2 | AO27: 2 | AP27: 2 | AQ27: 2 | AR27: 2.5 | AS27: 1.5 | CL27: =SUM(F27:CK27) -> 81 | CM27: Listados de asistencia y actas de reunión | CN27: Coordinar y desarrollar reuniones y talleres de participación comunitaria enfocadas a promover procesos de restauración ecológica.
B28: Elaboración de los informes mensuales de cumplimiento de obligaciones asignadas y ejecución de productos del proyecto. | C28: =IF(COUNTIFS($B$11:$B$79,B28)=0,"",COUNTIFS($B$11:$B$79,B28)) -> 1 | D28: PROFESIONAL BIÓLOGO CON ÉNFASIS EN RESTAURACIÓN ECOLÓGICA | E28: P | I28: 1 | M28: 1 | Q28: 1 | U28: 1 | Y28: 1 | AC28: 1 | AG28: 1 | AK28: 1 | AO28: 3.8 | AP28: 2.1 | AQ28: 2.1 | AR28: 1.6 | AS28: 2.6 | CL28: =SUM(F28:CK28) -> 20.2 | CM28: 10 informes mensuales y 1 final | CN28: Elaborar informes mensuales de cumplimiento de obligaciones asignadas y ejecución de productos del proyecto.
B29: Coordinación y apoyo en las labores de campo, en el establecimiento y mantenimiento de las actividades de restauración/rehabilitación ecológica de las estrategias a implementar. | C29: =IF(COUNTIFS($B$11:$B$79,B29)=0,"",COUNTIFS($B$11:$B$79,B29)) -> 1 | D29: TÉCNICO AMBIENTAL RESIDENTE | E29: P | F29: 5 | G29: 5 | H29: 5 | I29: 4 | J29: 4.8 | K29: 4.8 | L29: 4.8 | M29: 4.1 | N29: 4.8 | O29: 4.8 | P29: 4.8 | Q29: 4.1 | R29: 4.8 | S29: 4.8 | T29: 4.8 | U29: 4.1 | V29: 4.8 | W29: 4.8 | X29: 4.8 | Y29: 4.1 | Z29: 4.8 | AA29: 4.8 | AB29: 4.8 | AC29: 4.1 | AD29: 4.8 | AE29: 4.8 | AF29: 4.8 | AG29: 4.8 | AH29: 5.8 | AI29: 5.8 | AJ29: 5.8 | AK29: 5 | AL29: 5.8 | AM29: 5.8 | AN29: 4.8 | AO29: 4.8 | AP29: 1 | AQ29: 1 | CL29: =SUM(F29:CK29) -> 176.3 | CM29: Informe mensual de actividades. | CN29: Apoyar el adecuado desarrollo de las actividades de restauración/rehabilitación ecológica de las zonas priorazadas en las microcuencas. | CO29: Apoyar en campo el establecimiento de todas las estrategias de rehabilitación ecológica en las microcuencas El Tunjo y Lagunero.
B30: Apoyo en el establecimiento de los sistemas silvopastoriles y de las estrategias a implementar en los procesos de reconversión productiva. | C30: =IF(COUNTIFS($B$11:$B$79,B30)=0,"",COUNTIFS($B$11:$B$79,B30)) -> 1 | D30: TÉCNICO AMBIENTAL RESIDENTE | E30: P | F30: 1 | G30: 1 | H30: 1 | I30: 1 | J30: 1 | K30: 1 | L30: 1 | M30: 1 | N30: 1 | O30: 1 | P30: 1 | Q30: 1 | R30: 1 | S30: 1 | T30: 1 | U30: 1 | V30: 1 | W30: 1 | X30: 1 | Y30: 1 | Z30: 1 | AA30: 1 | AB30: 1 | AC30: 1 | AD30: 1 | AE30: 1 | AF30: 1 | AN30: 1 | AO30: 1 | AP30: 1 | AQ30: 1 | AR30: 1 | CL30: =SUM(F30:CK30) -> 32
B31: Elaboración de los informes periódicos de cumplimiento de obligaciones asignadas y ejecución de productos del proyecto. | C31: =IF(COUNTIFS($B$11:$B$79,B31)=0,"",COUNTIFS($B$11:$B$79,B31)) -> 1 | D31: TÉCNICO AMBIENTAL RESIDENTE | E31: P | F31: 0 | G31: 0 | H31: 0 | I31: 1 | J31: 0 | K31: 0 | L31: 0 | M31: 1 | N31: 0 | O31: 0 | P31: 0 | Q31: 1 | R31: 0 | S31: 0 | T31: 0 | U31: 1 | V31: 0 | W31: 0 | X31: 0 | Y31: 1 | Z31: 0 | AA31: 0 | AB31: 0 | AC31: 1 | AD31: 0 | AE31: 0 | AF31: 0 | AG31: 1 | AH31: 0 | AI31: 0 | AJ31: 0 | AK31: 1 | AL31: 0 | AM31: 0 | AN31: 0 | AO31: 1 | AP31: 3.8 | AQ31: 3.8 | AR31: 4.8 | AS31: 5.8 | CL31: =SUM(F31:CK31) -> 27.2 | CM31: Informes periodicos debidamente soportados. | CN31: Elaborar los soportes correspondientes de las actividades realizadas para el proceso de restauración/rehabilitación ecológica.
B32: Participar con el coordinador y el resto del equipo técnico del proyecto la elaboración del cronograma y metodologías de trabajo. | C32: =IF(COUNTIFS($B$11:$B$79,B32)=0,"",COUNTIFS($B$11:$B$79,B32)) -> 1 | D32: PROFESIONAL AGROECOSISTEMAS, INGENIERO FORESTAL O INGENIERO AGRÓNOMO | E32: P | F32: 2 | CL32: =SUM(F32:CK32) -> 2
B33: Dirigir la implementación de los sistemas silvopastoriles (SSP), de acuerdo con el diseño agroecológico iniciando con el establecimiento de cercas | C33: =IF(COUNTIFS($B$11:$B$79,B33)=0,"",COUNTIFS($B$11:$B$79,B33)) -> 1 | D33: PROFESIONAL AGROECOSISTEMAS, INGENIERO FORESTAL O INGENIERO AGRÓNOMO | E33: P | F33: 1 | G33: 4.3 | H33: 3 | I33: 3 | J33: 2.8 | CL33: =SUM(F33:CK33) -> 14.1 | CM33: Informe mensual con el estado de la implementación de los sistemas silvopastoriles | CN33: Implementar los sistemas silvopastoriles iniciando con el establecimiento de cercas. | CO33: Realizar la implementación, mantenimiento y seguimiento, de las estrategias de agroecosistemas sostenibles propuestos durante la fase de consultoría, para el componente productivo de los predios, que apunten al mejoramiento del uso y conservación de los recursos naturales suelo, agua y aire, además de implementar medidas de adaptación al cambio climático
B34: Dirigir la plantación de árboles para los sistemas silvopastoriles | C34: =IF(COUNTIFS($B$11:$B$79,B34)=0,"",COUNTIFS($B$11:$B$79,B34)) -> 1 | D34: PROFESIONAL AGROECOSISTEMAS, INGENIERO FORESTAL O INGENIERO AGRÓNOMO | E34: P | K34: 3.8 | L34: 2.8 | M34: 3 | N34: 1.8 | CL34: =SUM(F34:CK34) -> 11.4 | CM34: Documento con las evidencias de la siembra de los árboles y de la implementación de los sistemas silvopastoriles
B35: Dirigir la implementación del establecimiento de abonos verdes, de acuerdo con el diseño agroecológico. | D35: PROFESIONAL AGROECOSISTEMAS, INGENIERO FORESTAL O INGENIERO AGRÓNOMO | E35: P | O35: 3.8 | P35: 2.3 | Q35: 3 | R35: 1.8 | AC35: 2 | AD35: 2 | CL35: =SUM(F35:CK35) -> 14.9 | CM35: Documento que detalle las técnicas seleccionadas y aplicadas para la recuperación de suelos, incluyendo la implementación de bioregeneradores. Informe que registre el monitoreo mensual de las áreas intervenidas, incluyendo el estado del suelo, la efectividad de las prácticas de recuperación y las acciones correctivas necesarias.
B36: Dirigir la implementación del establecimiento del aumento de coberturas, de acuerdo con el diseño agroecológico. | D36: PROFESIONAL AGROECOSISTEMAS, INGENIERO FORESTAL O INGENIERO AGRÓNOMO | E36: P | R36: 2 | S36: 1.5 | T36: 0.5 | U36: 2.2 | V36: 2 | CL36: =SUM(F36:CK36) -> 8.2
B37: Dirigir el primer mantenimiento de la plantación de árboles de los sistemas silvopastoriles | C37: =IF(COUNTIFS($B$11:$B$79,B37)=0,"",COUNTIFS($B$11:$B$79,B37)) -> 1 | D37: PROFESIONAL AGROECOSISTEMAS, INGENIERO FORESTAL O INGENIERO AGRÓNOMO | E37: P | Z37: 1.5 | AA37: 1.5 | AB37: 2 | AC37: 0.8 | CL37: =SUM(F37:CK37) -> 5.8 | CM37: Documento que detalle el estado de los árboles y de todos los componentes de los sistemas silvopastoriles | CN37: Realizar la resiembra del material forestal y dos mantenimientos a todo el material plantado en los sistemas silvopastoriles.
B38: Dirigir el segundo mantenimiento de la plantación de árboles de los sistemas silvopastoriles | C38: =IF(COUNTIFS($B$11:$B$79,B38)=0,"",COUNTIFS($B$11:$B$79,B38)) -> 1 | D38: PROFESIONAL AGROECOSISTEMAS, INGENIERO FORESTAL O INGENIERO AGRÓNOMO | E38: P | AP38: 1 | AQ38: 1.5 | AR38: 0.5 | AS38: 1.5 | CL38: =SUM(F38:CK38) -> 4.5
B39: Implementar las prácticas de ensilaje comunitario. Realizar 4 prácticas de ensilaje | C39: =IF(COUNTIFS($B$11:$B$79,B39)=0,"",COUNTIFS($B$11:$B$79,B39)) -> 1 | D39: PROFESIONAL AGROECOSISTEMAS, INGENIERO FORESTAL O INGENIERO AGRÓNOMO | E39: P | AM39: 1.5 | AO39: 1.5 | AP39: 1.5 | AQ39: 1.5 | CL39: =SUM(F39:CK39) -> 6 | CM39: Documento informe de las 4 jornadas pedagógicas de ensilaje realizadas con la comunidad, detallando los temas tratados, materias primas, cantidades, procedimientos y recomendaciones brindadas para garantizar el exíto de las actividades al ser replicadas por los productores. | CN39: Realizar jornadas pedagójicas que brinden a los productores herramientas que les permitan desarrollar un sistema productivo de manera orgánica, conservando y mejorando los recursos naturales con un uso racional, a fin de ser sostenibles en el tiempo.
B40: Dirigir la implementación del manejo sostenible de la materia orgánica mediante la construcción de una estructura adecuada para la elaboración de abonos sólidos y líquidos orgánicos. | C40: =IF(COUNTIFS($B$11:$B$79,B40)=0,"",COUNTIFS($B$11:$B$79,B40)) -> 1 | D40: PROFESIONAL AGROECOSISTEMAS, INGENIERO FORESTAL O INGENIERO AGRÓNOMO | E40: P | T40: 0.5 | U40: 0.5 | V40: 0.8 | W40: 1 | X40: 1.8 | Y40: 2 | Z40: 1 | AA40: 0.8 | AB40: 0.3 | AC40: 0.7 | AD40: 1.3 | AE40: 4 | AF40: 1.3 | AG40: 4 | AH40: 2 | AI40: 3 | AJ40: 2.3 | AK40: 3 | AL40: 1 | CL40: =SUM(F40:CK40) -> 31.3 | CM40: Documento de las implementación de las estructuras y la elaboración de abono bocashi y abonos líquidos, en los predios priorizados.
B41: Construir planes de fertilidad, incluyendo abonos verdes y enmiendas, según los arreglos agroforestales y diseños de restauración ecológica, acorde con las condiciones edafoclimáticas prevalentes. | C41: =IF(COUNTIFS($B$11:$B$79,B41)=0,"",COUNTIFS($B$11:$B$79,B41)) -> 1 | D41: PROFESIONAL AGROECOSISTEMAS, INGENIERO FORESTAL O INGENIERO AGRÓNOMO | E41: P | H41: 0.5 | I41: 0.5 | J41: 0.5 | K41: 0.5 | M41: 0.5 | N41: 0.5 | O41: 0.5 | Q41: 0.5 | R41: 0.5 | S41: 0.5 | W41: 1.5 | X41: 0.5 | Y41: 1.5 | Z41: 1.5 | AA41: 1.5 | AD41: 0.5 | CL41: =SUM(F41:CK41) -> 12 | CM41: Documento que contenga cada uno de los planes de fertilidad entregado en cada predio intervenido.
B42: Coordinar las jornadas pedagógicas: Aforo y capacidad de carga de las pasturas; sistema silvopastoril (Qué es), componentes, cómo se implementa, beneficios ecosistémicos; elaboración de planes de manejo agroecológico y BPA y BPG para la reducción de contaminación a fuentes hídricas y recolección y disposición de envases de plaguicidas; elaboración de bocashi y urea orgánica (teórico práctico); aprendizaje de la implementación de abonos verdes; proceso adecuado para la renovación de praderas, donde se explica el proceso con intersiembra y el adecuado manejo de semillas para el aumento de la cobertura del suelo. | C42: =IF(COUNTIFS($B$11:$B$79,B42)=0,"",COUNTIFS($B$11:$B$79,B42)) -> #VALUE! | D42: PROFESIONAL AGROECOSISTEMAS, INGENIERO FORESTAL O INGENIERO AGRÓNOMO | E42: P | L42: 1.5 | P42: 1.5 | T42: 1.5 | X42: 1.5 | AB42: 1.5 | AF42: 1.5 | AJ42: 1.5 | AN42: 1.5 | AR42: 1.5 | CL42: =SUM(F42:CK42) -> 13.5 | CM42: Informe de las jornadas pedagógicas realizadas con la comunidad, detallando los temas tratados, y los resultados obtenidos en las implementaciones realizadas.
B43: Coordinar la implementación de sistemas de cosecha de agua. | C43: =IF(COUNTIFS($B$11:$B$79,B43)=0,"",COUNTIFS($B$11:$B$79,B43)) -> 1 | D43: PROFESIONAL AGROECOSISTEMAS, INGENIERO FORESTAL O INGENIERO AGRÓNOMO | E43: P | H43: 0.5 | I43: 0.5 | J43: 0.5 | K43: 0.5 | L43: 0.5 | M43: 0.5 | N43: 0.5 | O43: 0.5 | P43: 0.5 | Q43: 0.5 | R43: 0.5 | S43: 0.5 | T43: 0.5 | U43: 0.5 | V43: 0.5 | W43: 0.5 | CL43: =SUM(F43:CK43) -> 8 | CM43: Documento con la evidecnia de la implementación de los sistemas de cosecha de agua mediante tanques Zamorano, en los predios priorizados.
...

Sheet FACTOR PRESTACIONAL
B3: 1 | F3: 2 | J3: 3 | N3: 4 | R3: 5 | V3: 6 | Z3: 7 | AD3: 8 | AH3: 9 | AL3: 10 | AP3: 11 | AT3: 12 | AX3: 13 | BB3: 14 | BF3: 15 | BJ3: 16 | BN3: 17 | BR3: 18
B6: SALARIO | D6: =+'RECURSO HUMANO'!F9 -> 8946068 | F6: SALARIO | H6: =+'RECURSO HUMANO'!F10 -> 6553517 | J6: SALARIO | L6: =+'RECURSO HUMANO'!F11 -> 6553517 | N6: SALARIO | P6: =+'RECURSO HUMANO'!F12 -> 2600604 | R6: SALARIO | T6: =+'RECURSO HUMANO'!F13 -> 8946068 | V6: SALARIO | X6: =+'RECURSO HUMANO'!F14 -> 8946068 | Z6: SALARIO | AB6: =+'RECURSO HUMANO'!F15 -> 5409251 | AD6: SALARIO | AF6: =+'RECURSO HUMANO'!F16 -> 6553517 | AH6: SALARIO | AJ6: =+'RECURSO HUMANO'!#REF! -> #REF! | AL6: SALARIO | AN6: =+'RECURSO HUMANO'!#REF! -> #REF! | AP6: SALARIO | AR6: =+'RECURSO HUMANO'!#REF! -> #REF! | AT6: SALARIO | AV6: =+'RECURSO HUMANO'!#REF! -> #REF! | AX6: SALARIO | AZ6: =+'RECURSO HUMANO'!#REF! -> #REF! | BB6: SALARIO | BD6: =+'RECURSO HUMANO'!#REF! -> #REF! | BF6: SALARIO | BH6: =+'RECURSO HUMANO'!#REF! -> #REF! | BJ6: SALARIO | BL6: =+'RECURSO HUMANO'!#REF! -> #REF! | BN6: SALARIO | BP6: =+'RECURSO HUMANO'!#REF! -> #REF! | BR6: SALARIO | BT6: =+'RECURSO HUMANO'!#REF! -> #REF!
B7: SMMLV | C7: ='INFO GENERAL'!$H$10 -> 1300000 | D7: =D6/C7 -> 6.8815908 | F7: SMMLV | G7: ='INFO GENERAL'!$H$10 -> 1300000 | H7: =H6/G7 -> 5.0411669 | J7: SMMLV | K7: ='INFO GENERAL'!$H$10 -> 1300000 | L7: =L6/K7 -> 5.0411669 | N7: SMMLV | O7: ='INFO GENERAL'!$H$10 -> 1300000 | P7: =P6/O7 -> 2.0004646 | R7: SMMLV | S7: ='INFO GENERAL'!$H$10 -> 1300000 | T7: =T6/S7 -> 6.8815908 | V7: SMMLV | W7: ='INFO GENERAL'!$H$10 -> 1300000 | X7: =X6/W7 -> 6.8815908 | Z7: SMMLV | AA7: ='INFO GENERAL'!$H$10 -> 1300000 | AB7: =AB6/AA7 -> 4.1609623 | AD7: SMMLV | AE7: ='INFO GENERAL'!$H$10 -> 1300000 | AF7: =AF6/AE7 -> 5.0411669 | AH7: SMMLV | AI7: ='INFO GENERAL'!$H$10 -> 1300000 | AJ7: =AJ6/AI7 -> #REF! | AL7: SMMLV | AM7: ='INFO GENERAL'!$H$10 -> 1300000 | AN7: =AN6/AM7 -> #REF! | AP7: SMMLV | AQ7: ='INFO GENERAL'!$H$10 -> 1300000 | AR7: =AR6/AQ7 -> #REF! | AT7: SMMLV | AU7: ='INFO GENERAL'!$H$10 -> 1300000 | AV7: =AV6/AU7 -> #REF! | AX7: SMMLV | AY7: ='INFO GENERAL'!$H$10 -> 1300000 | AZ7: =AZ6/AY7 -> #REF! | BB7: SMMLV | BC7: ='INFO GENERAL'!$H$10 -> 1300000 | BD7: =BD6/BC7 -> #REF! | BF7: SMMLV | BG7: ='INFO GENERAL'!$H$10 -> 1300000 | BH7: =BH6/BG7 -> #REF! | BJ7: SMMLV | BK7: ='INFO GENERAL'!$H$10 -> 1300000 | BL7: =BL6/BK7 -> #REF! | BN7: SMMLV | BO7: ='INFO GENERAL'!$H$10 -> 1300000 | BP7: =BP6/BO7 -> #REF! | BR7: SMMLV | BS7: ='INFO GENERAL'!$H$10 -> 1300000 | BT7: =BT6/BS7 -> #REF!
B8: Subsidio de trasporte | C8: 162000 | D8: =IF($D$7<2,C8,0) -> 0 | F8: Subsidio de trasporte | G8: 162000 | H8: =IF(H7<2,G8,0) -> 0 | J8: Subsidio de trasporte | K8: 162000 | L8: =IF(L7<2,K8,0) -> 0 | N8: Subsidio de trasporte | O8: 162000 | P8: =IF(P7<2,O8,0) -> 0 | R8: Subsidio de trasporte | S8: 162000 | T8: =IF(T7<2,S8,0) -> 0 | V8: Subsidio de trasporte | W8: 162000 | X8: =IF(X7<2,W8,0) -> 0 | Z8: Subsidio de trasporte | AA8: 162000 | AB8: =IF(AB7<2,AA8,0) -> 0 | AD8: Subsidio de trasporte | AE8: 162000 | AF8: =IF(AF7<2,AE8,0) -> 0 | AH8: Subsidio de trasporte | AI8: 162000 | AJ8: =IF(AJ7<2,AI8,0) -> #REF! | AL8: Subsidio de trasporte | AM8: 162000 | AN8: =IF(AN7<2,AM8,0) -> #REF! | AP8: Subsidio de trasporte | AQ8: 162000 | AR8: =IF(AR7<2,AQ8,0) -> #REF! | AT8: Subsidio de trasporte | AU8: 162000 | AV8: =IF(AV7<2,AU8,0) -> #REF! | AX8: Subsidio de trasporte | AY8: 162000 | AZ8: =IF(AZ7<2,AY8,0) -> #REF! | BB8: Subsidio de trasporte | BC8: 162000 | BD8: =IF(BD7<2,BC8,0) -> #REF! | BF8: Subsidio de trasporte | BG8: 162000 | BH8: =IF(BH7<2,BG8,0) -> #REF! | BJ8: Subsidio de trasporte | BK8: 162000 | BL8: =IF(BL7<2,BK8,0) -> #REF! | BN8: Subsidio de trasporte | BO8: 162000 | BP8: =IF(BP7<2,BO8,0) -> #REF! | BR8: Subsidio de trasporte | BS8: 162000 | BT8: =IF(BT7<2,BS8,0) -> #REF!
B9: Total mensual | D9: =D6+D8 -> 8946068 | F9: Total mensual | H9: =H6+H8 -> 6553517 | J9: Total mensual | L9: =L6+L8 -> 6553517 | N9: Total mensual | P9: =P6+P8 -> 2600604 | R9: Total mensual | T9: =T6+T8 -> 8946068 | V9: Total mensual | X9: =X6+X8 -> 8946068 | Z9: Total mensual | AB9: =AB6+AB8 -> 5409251 | AD9: Total mensual | AF9: =AF6+AF8 -> 6553517 | AH9: Total mensual | AJ9: =AJ6+AJ8 -> #REF! | AL9: Total mensual | AN9: =AN6+AN8 -> #REF! | AP9: Total mensual | AR9: =AR6+AR8 -> #REF! | AT9: Total mensual | AV9: =AV6+AV8 -> #REF! | AX9: Total mensual | AZ9: =AZ6+AZ8 -> #REF! | BB9: Total mensual | BD9: =BD6+BD8 -> #REF! | BF9: Total mensual | BH9: =BH6+BH8 -> #REF! | BJ9: Total mensual | BL9: =BL6+BL8 -> #REF! | BN9: Total mensual | BP9: =BP6+BP8 -> #REF! | BR9: Total mensual | BT9: =BT6+BT8 -> #REF!
B10: Anual (A/30X360) | D10: =D6*C14 -> 107352816 | F10: Anual (A/30X360) | H10: =H6*G14 -> 78642204 | J10: Anual (A/30X360) | L10: =L6*K14 -> 78642204 | N10: Anual (A/30X360) | P10: =P6*O14 -> 31207248 | R10: Anual (A/30X360) | T10: =T6*S14 -> 107352816 | V10: Anual (A/30X360) | X10: =X6*W14 -> 107352816 | Z10: Anual (A/30X360) | AB10: =AB6*AA14 -> 64911012 | AD10: Anual (A/30X360) | AF10: =AF6*AE14 -> 78642204 | AH10: Anual (A/30X360) | AJ10: =AJ6*AI14 -> #REF! | AL10: Anual (A/30X360) | AN10: =AN6*AM14 -> #REF! | AP10: Anual (A/30X360) | AR10: =AR6*AQ14 -> #REF! | AT10: Anual (A/30X360) | AV10: =AV6*AU14 -> #REF! | AX10: Anual (A/30X360) | AZ10: =AZ6*AY14 -> #REF! | BB10: Anual (A/30X360) | BD10: =BD6*BC14 -> #REF! | BF10: Anual (A/30X360) | BH10: =BH6*BG14 -> #REF! | BJ10: Anual (A/30X360) | BL10: =BL6*BK14 -> #REF! | BN10: Anual (A/30X360) | BP10: =BP6*BO14 -> #REF! | BR10: Anual (A/30X360) | BT10: =BT6*BS14 -> #REF!
B11: Anual con subsidio de trasporte | D11: =D9*C15 -> 107352816 | F11: Anual con subsidio de trasporte | H11: =H9*G15 -> 78642204 | J11: Anual con subsidio de trasporte | L11: =L9*K15 -> 78642204 | N11: Anual con subsidio de trasporte | P11: =P9*O15 -> 31207248 | R11: Anual con subsidio de trasporte | T11: =T9*S15 -> 107352816 | V11: Anual con subsidio de trasporte | X11: =X9*W15 -> 107352816 | Z11: Anual con subsidio de trasporte | AB11: =AB9*AA15 -> 64911012 | AD11: Anual con subsidio de trasporte | AF11: =AF9*AE15 -> 78642204 | AH11: Anual con subsidio de trasporte | AJ11: =AJ9*AI15 -> #REF! | AL11: Anual con subsidio de trasporte | AN11: =AN9*AM15 -> #REF! | AP11: Anual con subsidio de trasporte | AR11: =AR9*AQ15 -> #REF! | AT11: Anual con subsidio de trasporte | AV11: =AV9*AU15 -> #REF! | AX11: Anual con subsidio de trasporte | AZ11: =AZ9*AY15 -> #REF! | BB11: Anual con subsidio de trasporte | BD11: =BD9*BC15 -> #REF! | BF11: Anual con subsidio de trasporte | BH11: =BH9*BG15 -> #REF! | BJ11: Anual con subsidio de trasporte | BL11: =BL9*BK15 -> #REF! | BN11: Anual con subsidio de trasporte | BP11: =BP9*BO15 -> #REF! | BR11: Anual con subsidio de trasporte | BT11: =BT9*BS15 -> #REF!
B12: Subsidio trasporte anual | D12: =D8*C15 -> 0 | F12: Subsidio trasporte anual | H12: =H8*G15 -> 0 | J12: Subsidio trasporte anual | L12: =L8*K15 -> 0 | N12: Subsidio trasporte anual | P12: =P8*O15 -> 0 | R12: Subsidio trasporte anual | T12: =T8*S15 -> 0 | V12: Subsidio trasporte anual | X12: =X8*W15 -> 0 | Z12: Subsidio trasporte anual | AB12: =AB8*AA15 -> 0 | AD12: Subsidio trasporte anual | AF12: =AF8*AE15 -> 0 | AH12: Subsidio trasporte anual | AJ12: =AJ8*AI15 -> #REF! | AL12: Subsidio trasporte anual | AN12: =AN8*AM15 -> #REF! | AP12: Subsidio trasporte anual | AR12: =AR8*AQ15 -> #REF! | AT12: Subsidio trasporte anual | AV12: =AV8*AU15 -> #REF! | AX12: Subsidio trasporte anual | AZ12: =AZ8*AY15 -> #REF! | BB12: Subsidio trasporte anual | BD12: =BD8*BC15 -> #REF! | BF12: Subsidio trasporte anual | BH12: =BH8*BG15 -> #REF! | BJ12: Subsidio trasporte anual | BL12: =BL8*BK15 -> #REF! | BN12: Subsidio trasporte anual | BP12: =BP8*BO15 -> #REF! | BR12: Subsidio trasporte anual | BT12: =BT8*BS15 -> #REF!
B13: SALARIO NOMINAL | F13: SALARIO NOMINAL | J13: SALARIO NOMINAL | N13: SALARIO NOMINAL | R13: SALARIO NOMINAL | V13: SALARIO NOMINAL | Z13: SALARIO NOMINAL | AD13: SALARIO NOMINAL | AH13: SALARIO NOMINAL | AL13: SALARIO NOMINAL | AP13: SALARIO NOMINAL | AT13: SALARIO NOMINAL | AX13: SALARIO NOMINAL | BB13: SALARIO NOMINAL | BF13: SALARIO NOMINAL | BJ13: SALARIO NOMINAL | BN13: SALARIO NOMINAL | BR13: SALARIO NOMINAL
B14: Salario anual | C14: 12 | F14: Salario anual | G14: 12 | J14: Salario anual | K14: 12 | N14: Salario anual | O14: 12 | R14: Salario anual | S14: 12 | V14: Salario anual | W14: 12 | Z14: Salario anual | AA14: 12 | AD14: Salario anual | AE14: 12 | AH14: Salario anual | AI14: 12 | AL14: Salario anual | AM14: 12 | AP14: Salario anual | AQ14: 12 | AT14: Salario anual | AU14: 12 | AX14: Salario anual | AY14: 12 | BB14: Salario anual | BC14: 12 | BF14: Salario anual | BG14: 12 | BJ14: Salario anual | BK14: 12 | BN14: Salario anual | BO14: 12 | BR14: Salario anual | BS14: 12
B15: Subsidio trasporte anual | C15: 12 | F15: Subsidio trasporte anual | G15: 12 | J15: Subsidio trasporte anual | K15: 12 | N15: Subsidio trasporte anual | O15: 12 | R15: Subsidio trasporte anual | S15: 12 | V15: Subsidio trasporte anual | W15: 12 | Z15: Subsidio trasporte anual | AA15: 12 | AD15: Subsidio trasporte anual | AE15: 12 | AH15: Subsidio trasporte anual | AI15: 12 | AL15: Subsidio trasporte anual | AM15: 12 | AP15: Subsidio trasporte anual | AQ15: 12 | AT15: Subsidio trasporte anual | AU15: 12 | AX15: Subsidio trasporte anual | AY15: 12 | BB15: Subsidio trasporte anual | BC15: 12 | BF15: Subsidio trasporte anual | BG15: 12 | BJ15: Subsidio trasporte anual | BK15: 12 | BN15: Subsidio trasporte anual | BO15: 12 | BR15: Subsidio trasporte anual | BS15: 12
B16: PRESTACIONES | F16: PRESTACIONES | J16: PRESTACIONES | N16: PRESTACIONES | R16: PRESTACIONES | V16: PRESTACIONES | Z16: PRESTACIONES | AD16: PRESTACIONES | AH16: PRESTACIONES | AL16: PRESTACIONES | AP16: PRESTACIONES | AT16: PRESTACIONES | AX16: PRESTACIONES | BB16: PRESTACIONES | BF16: PRESTACIONES | BJ16: PRESTACIONES | BN16: PRESTACIONES | BR16: PRESTACIONES
B17: Cesantias anual E36/365 | C17: 1 | D17: =D9 -> 8946068 | F17: Cesantias anual E36/365 | G17: 1 | H17: =H9 -> 6553517 | J17: Cesantias anual E36/365 | K17: 1 | L17: =L9 -> 6553517 | N17: Cesantias anual E36/365 | O17: 1 | P17: =P9 -> 2600604 | R17: Cesantias anual E36/365 | S17: 1 | T17: =T9 -> 8946068 | V17: Cesantias anual E36/365 | W17: 1 | X17: =X9 -> 8946068 | Z17: Cesantias anual E36/365 | AA17: 1 | AB17: =AB9 -> 5409251 | AD17: Cesantias anual E36/365 | AE17: 1 | AF17: =AF9 -> 6553517 | AH17: Cesantias anual E36/365 | AI17: 1 | AJ17: =AJ9 -> #REF! | AL17: Cesantias anual E36/365 | AM17: 1 | AN17: =AN9 -> #REF! | AP17: Cesantias anual E36/365 | AQ17: 1 | AR17: =AR9 -> #REF! | AT17: Cesantias anual E36/365 | AU17: 1 | AV17: =AV9 -> #REF! | AX17: Cesantias anual E36/365 | AY17: 1 | AZ17: =AZ9 -> #REF! | BB17: Cesantias anual E36/365 | BC17: 1 | BD17: =BD9 -> #REF! | BF17: Cesantias anual E36/365 | BG17: 1 | BH17: =BH9 -> #REF! | BJ17: Cesantias anual E36/365 | BK17: 1 | BL17: =BL9 -> #REF! | BN17: Cesantias anual E36/365 | BO17: 1 | BP17: =BP9 -> #REF! | BR17: Cesantias anual E36/365 | BS17: 1 | BT17: =BT9 -> #REF!
B18: Intereses cesantias 12% | C18: 0.12 | D18: =D9*C18 -> 1073528.2 | F18: Intereses cesantias 12% | G18: 0.12 | H18: =H9*G18 -> 786422.04 | J18: Intereses cesantias 12% | K18: 0.12 | L18: =L9*K18 -> 786422.04 | N18: Intereses cesantias 12% | O18: 0.12 | P18: =P9*O18 -> 312072.48 | R18: Intereses cesantias 12% | S18: 0.12 | T18: =T9*S18 -> 1073528.2 | V18: Intereses cesantias 12% | W18: 0.12 | X18: =X9*W18 -> 1073528.2 | Z18: Intereses cesantias 12% | AA18: 0.12 | AB18: =AB9*AA18 -> 649110.12 | AD18: Intereses cesantias 12% | AE18: 0.12 | AF18: =AF9*AE18 -> 786422.04 | AH18: Intereses cesantias 12% | AI18: 0.12 | AJ18: =AJ9*AI18 -> #REF! | AL18: Intereses cesantias 12% | AM18: 0.12 | AN18: =AN9*AM18 -> #REF! | AP18: Intereses cesantias 12% | AQ18: 0.12 | AR18: =AR9*AQ18 -> #REF! | AT18: Intereses cesantias 12% | AU18: 0.12 | AV18: =AV9*AU18 -> #REF! | AX18: Intereses cesantias 12% | AY18: 0.12 | AZ18: =AZ9*AY18 -> #REF! | BB18: Intereses cesantias 12% | BC18: 0.12 | BD18: =BD9*BC18 -> #REF! | BF18: Intereses cesantias 12% | BG18: 0.12 | BH18: =BH9*BG18 -> #REF! | BJ18: Intereses cesantias 12% | BK18: 0.12 | BL18: =BL9*BK18 -> #REF! | BN18: Intereses cesantias 12% | BO18: 0.12 | BP18: =BP9*BO18 -> #REF! | BR18: Intereses cesantias 12% | BS18: 0.12 | BT18: =BT9*BS18 -> #REF!
B19: Vacaciones -15 dias A 0.50% | C19: 0.5 | D19: =D9*C19 -> 4473034 | F19: Vacaciones -15 dias A 0.50% | G19: 0.5 | H19: =H9*G19 -> 3276758.5 | J19: Vacaciones -15 dias A 0.50% | K19: 0.5 | L19: =L9*K19 -> 3276758.5 | N19: Vacaciones -15 dias A 0.50% | O19: 0.5 | P19: =P9*O19 -> 1300302 | R19: Vacaciones -15 dias A 0.50% | S19: 0.5 | T19: =T9*S19 -> 4473034 | V19: Vacaciones -15 dias A 0.50% | W19: 0.5 | X19: =X9*W19 -> 4473034 | Z19: Vacaciones -15 dias A 0.50% | AA19: 0.5 | AB19: =AB9*AA19 -> 2704625.5 | AD19: Vacaciones -15 dias A 0.50% | AE19: 0.5 | AF19: =AF9*AE19 -> 3276758.5 | AH19: Vacaciones -15 dias A 0.50% | AI19: 0.5 | AJ19: =AJ9*AI19 -> #REF! | AL19: Vacaciones -15 dias A 0.50% | AM19: 0.5 | AN19: =AN9*AM19 -> #REF! | AP19: Vacaciones -15 dias A 0.50% | AQ19: 0.5 | AR19: =AR9*AQ19 -> #REF! | AT19: Vacaciones -15 dias A 0.50% | AU19: 0.5 | AV19: =AV9*AU19 -> #REF! | AX19: Vacaciones -15 dias A 0.50% | AY19: 0.5 | AZ19: =AZ9*AY19 -> #REF! | BB19: Vacaciones -15 dias A 0.50% | BC19: 0.5 | BD19: =BD9*BC19 -> #REF! | BF19: Vacaciones -15 dias A 0.50% | BG19: 0.5 | BH19: =BH9*BG19 -> #REF! | BJ19: Vacaciones -15 dias A 0.50% | BK19: 0.5 | BL19: =BL9*BK19 -> #REF! | BN19: Vacaciones -15 dias A 0.50% | BO19: 0.5 | BP19: =BP9*BO19 -> #REF! | BR19: Vacaciones -15 dias A 0.50% | BS19: 0.5 | BT19: =BT9*BS19 -> #REF!
B20: Prima-30 dias C 100% | C20: 1 | D20: =D9 -> 8946068 | F20: Prima-30 dias C 100% | G20: 1 | H20: =H9 -> 6553517 | J20: Prima-30 dias C 100% | K20: 1 | L20: =L9 -> 6553517 | N20: Prima-30 dias C 100% | O20: 1 | P20: =P9 -> 2600604 | R20: Prima-30 dias C 100% | S20: 1 | T20: =T9 -> 8946068 | V20: Prima-30 dias C 100% | W20: 1 | X20: =X9 -> 8946068 | Z20: Prima-30 dias C 100% | AA20: 1 | AB20: =AB9 -> 5409251 | AD20: Prima-30 dias C 100% | AE20: 1 | AF20: =AF9 -> 6553517 | AH20: Prima-30 dias C 100% | AI20: 1 | AJ20: =AJ9 -> #REF! | AL20: Prima-30 dias C 100% | AM20: 1 | AN20: =AN9 -> #REF! | AP20: Prima-30 dias C 100% | AQ20: 1 | AR20: =AR9 -> #REF! | AT20: Prima-30 dias C 100% | AU20: 1 | AV20: =AV9 -> #REF! | AX20: Prima-30 dias C 100% | AY20: 1 | AZ20: =AZ9 -> #REF! | BB20: Prima-30 dias C 100% | BC20: 1 | BD20: =BD9 -> #REF! | BF20: Prima-30 dias C 100% | BG20: 1 | BH20: =BH9 -> #REF! | BJ20: Prima-30 dias C 100% | BK20: 1 | BL20: =BL9 -> #REF! | BN20: Prima-30 dias C 100% | BO20: 1 | BP20: =BP9 -> #REF! | BR20: Prima-30 dias C 100% | BS20: 1 | BT20: =BT9 -> #REF!
B21: Otros costos | F21: Otros costos | J21: Otros costos | N21: Otros costos | R21: Otros costos | V21: Otros costos | Z21: Otros costos | AD21: Otros costos | AH21: Otros costos | AL21: Otros costos | AP21: Otros costos | AT21: Otros costos | AX21: Otros costos | BB21: Otros costos | BF21: Otros costos | BJ21: Otros costos | BN21: Otros costos | BR21: Otros costos
B22: Dotación | C22: 0,2153 CADA 4 MESES | D22: =IF(D7<2,ROUNDDOWN('INFO GENERAL'!PLAZO/4,0)*(C7*0.2153),0) -> 0 | F22: Dotación | G22: 0,2153 CADA 4 MESES | H22: =IF(H7<2,ROUNDDOWN('INFO GENERAL'!PLAZO/4,0)*(G7*0.2153),0) -> 0 | J22: Dotación | K22: 0,2153 CADA 4 MESES | L22: =IF(L7<2,ROUNDDOWN('INFO GENERAL'!PLAZO/4,0)*(K7*0.2153),0) -> 0 | N22: Dotación | O22: 0,2153 CADA 4 MESES | P22: =IF(P7<2,ROUNDDOWN('INFO GENERAL'!PLAZO/4,0)*(O7*0.2153),0) -> 0 | R22: Dotación | S22: 0,2153 CADA 4 MESES | T22: =IF(T7<2,ROUNDDOWN('INFO GENERAL'!PLAZO/4,0)*(S7*0.2153),0) -> 0 | V22: Dotación | W22: 0,2153 CADA 4 MESES | X22: =IF(X7<2,ROUNDDOWN('INFO GENERAL'!PLAZO/4,0)*(W7*0.2153),0) -> 0 | Z22: Dotación | AA22: 0,2153 CADA 4 MESES | AB22: =IF(AB7<2,ROUNDDOWN('INFO GENERAL'!PLAZO/4,0)*(AA7*0.2153),0) -> 0 | AD22: Dotación | AE22: 0,2153 CADA 4 MESES | AF22: =IF(AF7<2,ROUNDDOWN('INFO GENERAL'!PLAZO/4,0)*(AE7*0.2153),0) -> 0 | AH22: Dotación | AI22: 0,2153 CADA 4 MESES | AJ22: =IF(AJ7<2,ROUNDDOWN('INFO GENERAL'!PLAZO/4,0)*(AI7*0.2153),0) -> #REF! | AL22: Dotación | AM22: 0,2153 CADA 4 MESES | AN22: =IF(AN7<2,ROUNDDOWN('INFO GENERAL'!PLAZO/4,0)*(AM7*0.2153),0) -> #REF! | AP22: Dotación | AQ22: 0,2153 CADA 4 MESES | AR22: =IF(AR7<2,ROUNDDOWN('INFO GENERAL'!PLAZO/4,0)*(AQ7*0.2153),0) -> #REF! | AT22: Dotación | AU22: 0,2153 CADA 4 MESES | AV22: =IF(AV7<2,ROUNDDOWN('INFO GENERAL'!PLAZO/4,0)*(AU7*0.2153),0) -> #REF! | AX22: Dotación | AY22: 0,2153 CADA 4 MESES | AZ22: =IF(AZ7<2,ROUNDDOWN('INFO GENERAL'!PLAZO/4,0)*(AY7*0.2153),0) -> #REF! | BB22: Dotación | BC22: 0,2153 CADA 4 MESES | BD22: =IF(BD7<2,ROUNDDOWN('INFO GENERAL'!PLAZO/4,0)*(BC7*0.2153),0) -> #REF! | BF22: Dotación | BG22: 0,2153 CADA 4 MESES | BH22: =IF(BH7<2,ROUNDDOWN('INFO GENERAL'!PLAZO/4,0)*(BG7*0.2153),0) -> #REF! | BJ22: Dotación | BK22: 0,2153 CADA 4 MESES | BL22: =IF(BL7<2,ROUNDDOWN('INFO GENERAL'!PLAZO/4,0)*(BK7*0.2153),0) -> #REF! | BN22: Dotación | BO22: 0,2153 CADA 4 MESES | BP22: =IF(BP7<2,ROUNDDOWN('INFO GENERAL'!PLAZO/4,0)*(BO7*0.2153),0) -> #REF! | BR22: Dotación | BS22: 0,2153 CADA 4 MESES | BT22: =IF(BT7<2,ROUNDDOWN('INFO GENERAL'!PLAZO/4,0)*(BS7*0.2153),0) -> #REF!
B23: Seguridad Social | F23: Seguridad Social | J23: Seguridad Social | N23: Seguridad Social | R23: Seguridad Social | V23: Seguridad Social | Z23: Seguridad Social | AD23: Seguridad Social | AH23: Seguridad Social | AL23: Seguridad Social | AP23: Seguridad Social | AT23: Seguridad Social | AX23: Seguridad Social | BB23: Seguridad Social | BF23: Seguridad Social | BJ23: Seguridad Social | BN23: Seguridad Social | BR23: Seguridad Social
B24: Pensiones | C24: 0.16 | D24: =D11*C24 -> 17176451 | F24: Pensiones | G24: 0.16 | H24: =H11*G24 -> 12582753 | J24: Pensiones | K24: 0.16 | L24: =L11*K24 -> 12582753 | N24: Pensiones | O24: 0.16 | P24: =P11*O24 -> 4993159.7 | R24: Pensiones | S24: 0.16 | T24: =T11*S24 -> 17176451 | V24: Pensiones | W24: 0.16 | X24: =X11*W24 -> 17176451 | Z24: Pensiones | AA24: 0.16 | AB24: =AB11*AA24 -> 10385762 | AD24: Pensiones | AE24: 0.16 | AF24: =AF11*AE24 -> 12582753 | AH24: Pensiones | AI24: 0.16 | AJ24: =AJ11*AI24 -> #REF! | AL24: Pensiones | AM24: 0.16 | AN24: =AN11*AM24 -> #REF! | AP24: Pensiones | AQ24: 0.16 | AR24: =AR11*AQ24 -> #REF! | AT24: Pensiones | AU24: 0.16 | AV24: =AV11*AU24 -> #REF! | AX24: Pensiones | AY24: 0.16 | AZ24: =AZ11*AY24 -> #REF! | BB24: Pensiones | BC24: 0.16 | BD24: =BD11*BC24 -> #REF! | BF24: Pensiones | BG24: 0.16 | BH24: =BH11*BG24 -> #REF! | BJ24: Pensiones | BK24: 0.16 | BL24: =BL11*BK24 -> #REF! | BN24: Pensiones | BO24: 0.16 | BP24: =BP11*BO24 -> #REF! | BR24: Pensiones | BS24: 0.16 | BT24: =BT11*BS24 -> #REF!
B25: Salud | C25: 0.125 | D25: =D11*C25 -> 13419102 | F25: Salud | G25: 0.125 | H25: =H11*G25 -> 9830275.5 | J25: Salud | K25: 0.125 | L25: =L11*K25 -> 9830275.5 | N25: Salud | O25: 0.125 | P25: =P11*O25 -> 3900906 | R25: Salud | S25: 0.125 | T25: =T11*S25 -> 13419102 | V25: Salud | W25: 0.125 | X25: =X11*W25 -> 13419102 | Z25: Salud | AA25: 0.125 | AB25: =AB11*AA25 -> 8113876.5 | AD25: Salud | AE25: 0.125 | AF25: =AF11*AE25 -> 9830275.5 | AH25: Salud | AI25: 0.125 | AJ25: =AJ11*AI25 -> #REF! | AL25: Salud | AM25: 0.125 | AN25: =AN11*AM25 -> #REF! | AP25: Salud | AQ25: 0.125 | AR25: =AR11*AQ25 -> #REF! | AT25: Salud | AU25: 0.125 | AV25: =AV11*AU25 -> #REF! | AX25: Salud | AY25: 0.125 | AZ25: =AZ11*AY25 -> #REF! | BB25: Salud | BC25: 0.125 | BD25: =BD11*BC25 -> #REF! | BF25: Salud | BG25: 0.125 | BH25: =BH11*BG25 -> #REF! | BJ25: Salud | BK25: 0.125 | BL25: =BL11*BK25 -> #REF! | BN25: Salud | BO25: 0.125 | BP25: =BP11*BO25 -> #REF! | BR25: Salud | BS25: 0.125 | BT25: =BT11*BS25 -> #REF!
B26: Riesgos Profesionales | C26: 0.069 | D26: =D11*C26 -> 7407344.3 | F26: Riesgos Profesionales | G26: 0.069 | H26: =H11*G26 -> 5426312.1 | J26: Riesgos Profesionales | K26: 0.069 | L26: =L11*K26 -> 5426312.1 | N26: Riesgos Profesionales | O26: 0.069 | P26: =P11*O26 -> 2153300.1 | R26: Riesgos Profesionales | S26: 0.069 | T26: =T11*S26 -> 7407344.3 | V26: Riesgos Profesionales | W26: 0.069 | X26: =X11*W26 -> 7407344.3 | Z26: Riesgos Profesionales | AA26: 0.069 | AB26: =AB11*AA26 -> 4478859.8 | AD26: Riesgos Profesionales | AE26: 0.069 | AF26: =AF11*AE26 -> 5426312.1 | AH26: Riesgos Profesionales | AI26: 0.069 | AJ26: =AJ11*AI26 -> #REF! | AL26: Riesgos Profesionales | AM26: 0.069 | AN26: =AN11*AM26 -> #REF! | AP26: Riesgos Profesionales | AQ26: 0.069 | AR26: =AR11*AQ26 -> #REF! | AT26: Riesgos Profesionales | AU26: 0.069 | AV26: =AV11*AU26 -> #REF! | AX26: Riesgos Profesionales | AY26: 0.069 | AZ26: =AZ11*AY26 -> #REF! | BB26: Riesgos Profesionales | BC26: 0.069 | BD26: =BD11*BC26 -> #REF! | BF26: Riesgos Profesionales | BG26: 0.069 | BH26: =BH11*BG26 -> #REF! | BJ26: Riesgos Profesionales | BK26: 0.069 | BL26: =BL11*BK26 -> #REF! | BN26: Riesgos Profesionales | BO26: 0.069 | BP26: =BP11*BO26 -> #REF! | BR26: Riesgos Profesionales | BS26: 0.069 | BT26: =BT11*BS26 -> #REF!
B27: Aportes | F27: Aportes | J27: Aportes | N27: Aportes | R27: Aportes | V27: Aportes | Z27: Aportes | AD27: Aportes | AH27: Aportes | AL27: Aportes | AP27: Aportes | AT27: Aportes | AX27: Aportes | BB27: Aportes | BF27: Aportes | BJ27: Aportes | BN27: Aportes | BR27: Aportes
B28: FIC Fondo Nacional de Formación Profesional de la Industria de la Construcción | C28: 0.0025 | D28: =D6*C28 -> 22365.17 | F28: FIC Fondo Nacional de Formación Profesional de la Industria de la Construcción | G28: 0.0025 | H28: =H6*G28 -> 16383.792 | J28: FIC Fondo Nacional de Formación Profesional de la Industria de la Construcción | K28: 0.0025 | L28: =L6*K28 -> 16383.792 | N28: FIC Fondo Nacional de Formación Profesional de la Industria de la Construcción | O28: 0.0025 | P28: =P6*O28 -> 6501.51 | R28: FIC Fondo Nacional de Formación Profesional de la Industria de la Construcción | S28: 0.0025 | T28: =T6*S28 -> 22365.17 | V28: FIC Fondo Nacional de Formación Profesional de la Industria de la Construcción | W28: 0.0025 | X28: =X6*W28 -> 22365.17 | Z28: FIC Fondo Nacional de Formación Profesional de la Industria de la Construcción | AA28: 0.0025 | AB28: =AB6*AA28 -> 13523.128 | AD28: FIC Fondo Nacional de Formación Profesional de la Industria de la Construcción | AE28: 0.0025 | AF28: =AF6*AE28 -> 16383.792 | AH28: FIC Fondo Nacional de Formación Profesional de la Industria de la Construcción | AI28: 0.0025 | AJ28: =AJ6*AI28 -> #REF! | AL28: FIC Fondo Nacional de Formación Profesional de la Industria de la Construcción | AM28: 0.0025 | AN28: =AN6*AM28 -> #REF! | AP28: FIC Fondo Nacional de Formación Profesional de la Industria de la Construcción | AQ28: 0.0025 | AR28: =AR6*AQ28 -> #REF! | AT28: FIC Fondo Nacional de Formación Profesional de la Industria de la Construcción | AU28: 0.0025 | AV28: =AV6*AU28 -> #REF! | AX28: FIC Fondo Nacional de Formación Profesional de la Industria de la Construcción | AY28: 0.0025 | AZ28: =AZ6*AY28 -> #REF! | BB28: FIC Fondo Nacional de Formación Profesional de la Industria de la Construcción | BC28: 0.0025 | BD28: =BD6*BC28 -> #REF! | BF28: FIC Fondo Nacional de Formación Profesional de la Industria de la Construcción | BG28: 0.0025 | BH28: =BH6*BG28 -> #REF! | BJ28: FIC Fondo Nacional de Formación Profesional de la Industria de la Construcción | BK28: 0.0025 | BL28: =BL6*BK28 -> #REF! | BN28: FIC Fondo Nacional de Formación Profesional de la Industria de la Construcción | BO28: 0.0025 | BP28: =BP6*BO28 -> #REF! | BR28: FIC Fondo Nacional de Formación Profesional de la Industria de la Construcción | BS28: 0.0025 | BT28: =BT6*BS28 -> #REF!
B29: Otros aportes | F29: Otros aportes | J29: Otros aportes | N29: Otros aportes | R29: Otros aportes | V29: Otros aportes | Z29: Otros aportes | AD29: Otros aportes | AH29: Otros aportes | AL29: Otros aportes | AP29: Otros aportes | AT29: Otros aportes | AX29: Otros aportes | BB29: Otros aportes | BF29: Otros aportes | BJ29: Otros aportes | BN29: Otros aportes | BR29: Otros aportes
B30: Caja de compensacion Familiar D | C30: 0.04 | D30: =D10*C30 -> 4294112.6 | F30: Caja de compensacion Familiar D | G30: 0.04 | H30: =H10*G30 -> 3145688.2 | J30: Caja de compensacion Familiar D | K30: 0.04 | L30: =L10*K30 -> 3145688.2 | N30: Caja de compensacion Familiar D | O30: 0.04 | P30: =P10*O30 -> 1248289.9 | R30: Caja de compensacion Familiar D | S30: 0.04 | T30: =T10*S30 -> 4294112.6 | V30: Caja de compensacion Familiar D | W30: 0.04 | X30: =X10*W30 -> 4294112.6 | Z30: Caja de compensacion Familiar D | AA30: 0.04 | AB30: =AB10*AA30 -> 2596440.5 | AD30: Caja de compensacion Familiar D | AE30: 0.04 | AF30: =AF10*AE30 -> 3145688.2 | AH30: Caja de compensacion Familiar D | AI30: 0.04 | AJ30: =AJ10*AI30 -> #REF! | AL30: Caja de compensacion Familiar D | AM30: 0.04 | AN30: =AN10*AM30 -> #REF! | AP30: Caja de compensacion Familiar D | AQ30: 0.04 | AR30: =AR10*AQ30 -> #REF! | AT30: Caja de compensacion Familiar D | AU30: 0.04 | AV30: =AV10*AU30 -> #REF! | AX30: Caja de compensacion Familiar D | AY30: 0.04 | AZ30: =AZ10*AY30 -> #REF! | BB30: Caja de compensacion Familiar D | BC30: 0.04 | BD30: =BD10*BC30 -> #REF! | BF30: Caja de compensacion Familiar D | BG30: 0.04 | BH30: =BH10*BG30 -> #REF! | BJ30: Caja de compensacion Familiar D | BK30: 0.04 | BL30: =BL10*BK30 -> #REF! | BN30: Caja de compensacion Familiar D | BO30: 0.04 | BP30: =BP10*BO30 -> #REF! | BR30: Caja de compensacion Familiar D | BS30: 0.04 | BT30: =BT10*BS30 -> #REF!
B31: SENA | C31: 0.02 | D31: =D10*C31 -> 2147056.3 | F31: SENA | G31: 0.02 | H31: =H10*G31 -> 1572844.1 | J31: SENA | K31: 0.02 | L31: =L10*K31 -> 1572844.1 | N31: SENA | O31: 0.02 | P31: =P10*O31 -> 624144.96 | R31: SENA | S31: 0.02 | T31: =T10*S31 -> 2147056.3 | V31: SENA | W31: 0.02 | X31: =X10*W31 -> 2147056.3 | Z31: SENA | AA31: 0.02 | AB31: =AB10*AA31 -> 1298220.2 | AD31: SENA | AE31: 0.02 | AF31: =AF10*AE31 -> 1572844.1 | AH31: SENA | AI31: 0.02 | AJ31: =AJ10*AI31 -> #REF! | AL31: SENA | AM31: 0.02 | AN31: =AN10*AM31 -> #REF! | AP31: SENA | AQ31: 0.02 | AR31: =AR10*AQ31 -> #REF! | AT31: SENA | AU31: 0.02 | AV31: =AV10*AU31 -> #REF! | AX31: SENA | AY31: 0.02 | AZ31: =AZ10*AY31 -> #REF! | BB31: SENA | BC31: 0.02 | BD31: =BD10*BC31 -> #REF! | BF31: SENA | BG31: 0.02 | BH31: =BH10*BG31 -> #REF! | BJ31: SENA | BK31: 0.02 | BL31: =BL10*BK31 -> #REF! | BN31: SENA | BO31: 0.02 | BP31: =BP10*BO31 -> #REF! | BR31: SENA | BS31: 0.02 | BT31: =BT10*BS31 -> #REF!
B32: ICBF | C32: 0.03 | D32: =D10*C32 -> 3220584.5 | F32: ICBF | G32: 0.03 | H32: =H10*G32 -> 2359266.1 | J32: ICBF | K32: 0.03 | L32: =L10*K32 -> 2359266.1 | N32: ICBF | O32: 0.03 | P32: =P10*O32 -> 936217.44 | R32: ICBF | S32: 0.03 | T32: =T10*S32 -> 3220584.5 | V32: ICBF | W32: 0.03 | X32: =X10*W32 -> 3220584.5 | Z32: ICBF | AA32: 0.03 | AB32: =AB10*AA32 -> 1947330.4 | AD32: ICBF | AE32: 0.03 | AF32: =AF10*AE32 -> 2359266.1 | AH32: ICBF | AI32: 0.03 | AJ32: =AJ10*AI32 -> #REF! | AL32: ICBF | AM32: 0.03 | AN32: =AN10*AM32 -> #REF! | AP32: ICBF | AQ32: 0.03 | AR32: =AR10*AQ32 -> #REF! | AT32: ICBF | AU32: 0.03 | AV32: =AV10*AU32 -> #REF! | AX32: ICBF | AY32: 0.03 | AZ32: =AZ10*AY32 -> #REF! | BB32: ICBF | BC32: 0.03 | BD32: =BD10*BC32 -> #REF! | BF32: ICBF | BG32: 0.03 | BH32: =BH10*BG32 -> #REF! | BJ32: ICBF | BK32: 0.03 | BL32: =BL10*BK32 -> #REF! | BN32: ICBF | BO32: 0.03 | BP32: =BP10*BO32 -> #REF! | BR32: ICBF | BS32: 0.03 | BT32: =BT10*BS32 -> #REF!
B34: VALOR REAL DEL SALARIO | D34: =SUM(D17:D32)+D10+D12 -> 1.7847853e+08 | F34: VALOR REAL DEL SALARIO | H34: =SUM(H17:H32)+H10+H12 -> 1.3074594e+08 | J34: VALOR REAL DEL SALARIO | L34: =SUM(L17:L32)+L10+L12 -> 1.3074594e+08 | N34: VALOR REAL DEL SALARIO | P34: =SUM(P17:P32)+P10+P12 -> 51883350 | R34: VALOR REAL DEL SALARIO | T34: =SUM(T17:T32)+T10+T12 -> 1.7847853e+08 | V34: VALOR REAL DEL SALARIO | X34: =SUM(X17:X32)+X10+X12 -> 1.7847853e+08 | Z34: VALOR REAL DEL SALARIO | AB34: =SUM(AB17:AB32)+AB10+AB12 -> 1.0791726e+08 | AD34: VALOR REAL DEL SALARIO | AF34: =SUM(AF17:AF32)+AF10+AF12 -> 1.3074594e+08 | AH34: VALOR REAL DEL SALARIO | AJ34: =SUM(AJ17:AJ32)+AJ10+AJ12 -> #REF! | AL34: VALOR REAL DEL SALARIO | AN34: =SUM(AN17:AN32)+AN10+AN12 -> #REF! | AP34: VALOR REAL DEL SALARIO | AR34: =SUM(AR17:AR32)+AR10+AR12 -> #REF! | AT34: VALOR REAL DEL SALARIO | AV34: =SUM(AV17:AV32)+AV10+AV12 -> #REF! | AX34: VALOR REAL DEL SALARIO | AZ34: =SUM(AZ17:AZ32)+AZ10+AZ12 -> #REF! | BB34: VALOR REAL DEL SALARIO | BD34: =SUM(BD17:BD32)+BD10+BD12 -> #REF! | BF34: VALOR REAL DEL SALARIO | BH34: =SUM(BH17:BH32)+BH10+BH12 -> #REF! | BJ34: VALOR REAL DEL SALARIO | BL34: =SUM(BL17:BL32)+BL10+BL12 -> #REF! | BN34: VALOR REAL DEL SALARIO | BP34: =SUM(BP17:BP32)+BP10+BP12 -> #REF! | BR34: VALOR REAL DEL SALARIO | BT34: =SUM(BT17:BT32)+BT10+BT12 -> #REF!
