Workbook

Sheet F.P.
B2: FACTOR MULTIPLICADOR
E4: PORCENTAJE PARCIAL (%) | F4: PORCENTAJE TOTAL (%)
B5: A. | C5: SALARIO BÁSICO | F5: 100
B7: B. | C7: PRESTACIONES SOCIALES (F1) | F7: =SUM(E9:E19) -> 71.84
B9: 1. | C9: Cesantías | D9: %A | E9: 8.33
B10: 2. | C10: Vacaciones | D10: %A | E10: 4.17
B11: 1. | C11: Prima Anual | D11: %A | E11: 8.33
B12: 2. | C12: Seguridad Social - Salud | D12: %A | E12: 12.5
B13: 1. | C13: Seguridad Social - Pensión | D13: %A | E13: 16
B14: 2. | C14: Aportes SENA | D14: %A | E14: 2
B15: 1. | C15: Caja de Compensación | D15: %A | E15: 4
B16: 2. | C16: I.C.B.F. | D16: %A | E16: 3
B17: 1. | C17: A.R.L. (Seguro de Vida) | D17: %A | E17: 6.96
B18: 2. | C18: Prestaciones Extralegales | D18: %A | E18: ='ANEXO 1'!$E$5 -> 4.55
B19: 1. | C19: Otros | D19: %A | E19: 2
B21: C. | C21: ADMINISTRACIÓN Y GASTOS DIRECTOS (F2) | F21: =SUM(E23:E28) -> 20.53
B23: 1. | C23: Gastos Generales de Operación | D23: %A+B | E23: ='ANEXO 1'!$E$12 -> 2.1
B24: 2. | C24: Personal Admón. (Salarios, Prest. Sociales) | D24: %A+B | E24: 4.78
B25: 3. | C25: Dotación, Operación y Mantenimiento | D25: %A+B | E25: ='ANEXO 1'!$E$16 -> 1.82
B26: 4. | C26: Gastos Directos no reembolsables | D26: %A+B | E26: 1.31
B27: 5. | C27: Fungibles | D27: %A+B | E27: ='ANEXO 1'!$E$18 -> 7.02
B28: 6. | C28: Otros | D28: %A+B | E28: ='ANEXO 1'!$E$24 -> 3.5
B30: D. | C30: HONORARIOS (F3) | F30: 4
C32: FACTOR MULTIPLICADOR (Ver Anexo 2) | F32: (A+B+C+D)
C33: FACTOR MULTIPLICADOR | F33: =(1+F7/100)*(1+F21/100)*(1+F30/100) -> 2.154035

Sheet ANEXO 1
B2: ANEXO No. 1
D4: PORCENTAJE PARCIAL (%) | E4: PORCENTAJE TOTAL (%)
B5: B.8. | C5: PRESTACIONES EXTRALEGALES | E5: =SUM(D7:D10) -> 4.55
C7: Ajustes Cesantías por Antigüedad | D7: 1.88
C8: Intereses sobre Censantías | D8: 1.12
C9: Indemnizaciones | D9: 1.1
C10: Médicos, Medicamentos, Bonificaciones, Overoles, etc.. | D10: 0.45
B12: C.1. | C12: GASTOS GENERALES DE OPERACIÓN | E12: =D14 -> 2.1
C14: Servicios públicos, gastos financieros, legales y bancarios, avisos y propaganda, biblioteca, impuestos de industria y comercio, pólizas y depreciaciones | D14: 2.1
B16: C.3. | C16: DOTACIÓN, OPERACIÓN Y MANTENIMIENTO, SOSTENIMIENTO DE OFICINAS, EQUIPOS, MUEBLES Y ENSERES | E16: 1.82
B18: C.5. | C18: FUNGIBLES | E18: =D20+D21+D22 -> 7.02
C20: Útiles y papelería, cafetería | D20: 1.92
C21: Desinfección, prevención | D21: 2.1
C22: Bioseguridad (Covid 19) | D22: 3
B24: C.6. | C24: OTROS | E24: =D26 -> 3.5
C26: Gastos de viajes, gastos de transporte, gastos de representación, donaciones, reproducción de planos, promociones | D26: 3.5

Sheet ANEXO 2
B2: ANEXO No. 2
B4: A | C4: = | D4: Salarios | E4: A
B5: B | C5: = | D5: Prestaciones Sociales | E5: AF1
B6: A + B | C6: = | E6: A(1 + F1)
B7: C | C7: = | E7: F2A(1 + F1)
B8: A + B + C | C8: = | E8: A(A + F1)(1 + F2)
B9: D | C9: = | D9: Honorarios (A + B + C) F3 | E9: A(1 + F1)(1 + F2) F3
B10: Suma Total | C10: = | D10: (A + B + C + D) | E10: A(1 + F1)(1 + F2)(1 + F3)
B11: Factor Multiplicador | C11: = | E11: (1 + F1)(1 + F2)(1 + F3)
E12: (1 + F1)(1 + F2)(1 + F3)
B13: Factor Multiplicador | C13: = | E13: =(1+'F.P.'!F7/100)*(1+'F.P.'!F21/100)*(1+'F.P.'!F30/100) -> 2.154035

Sheet PO-INTERVENTORIA
B2: MUNICIPIO DE TENJO (CUND.)
B3: CONCURSO PUBLICO DE MERITOS
B4: INTERVENTORIA TÉCNICA, ADMINISTRATIVA, JURÍDICA, FINANCIERA, SOCIAL, AMBIENTAL Y SISO PARA LOS ESTUDIOS, DISEÑOS, PRE-CONSTRUCCIÓN (LICENCIAS, PERMISOS, AUTORIZACIONES, PLANES, OTROS) Y CONSTRUCCION DE LA AMPLIACIÓN Y MEJORAMIENTO DEL COLISEO CUBIERTO EN EL CASCO URBANO PRINCIPAL DEL MUNICIPIO DE TENJO – CUNDINAMARCA, (VIGENCIAS FUTURAS).
B5: PRESUPUESTO OFICIAL
B6: FORMULARIO: RELACION DE COSTOS | E6: TIEMPO (# MESES) = | H6: 21
B7: DESCRIPCION | C7: CANTIDAD | D7: OCUPACION MES (%) | E7: HONORARIOS MES | F7: F.M. | G7: No. MESES | H7: COSTO MENSUAL | I7: VALORES
D8: H-MES | I8: TOTALES
B9: 1. PERSONAL PROFESIONAL
B10: DIRECTOR DE INTERVENTORIA | C10: 1 | D10: 0.3 | E10: 9500000 | F10: ='F.P.'!F33 -> 2.154035 | G10: =$H$6 -> 21 | H10: =C10*(D10*E10*F10*G10) -> 1.28919e+08
B11: INGENIERO RESIDENTE DE INTERVENTORÍA | C11: 1 | D11: 1 | E11: 4300000 | F11: =$F$10 -> 2.154035 | G11: =$H$6 -> 21 | H11: =C11*(D11*E11*F11*G11) -> 1.9450936e+08
B12: ASESOR ESTRUCTURAL | C12: 1 | D12: 0.25 | E12: 8600000 | F12: =$F$10 -> 2.154035 | G12: =$H$6 -> 21 | H12: =C12*(D12*E12*F12*G12) -> 97254681
B13: ASESOR ELECTRICISTA | C13: 1 | D13: 0.25 | E13: 6800000 | F13: =$F$10 -> 2.154035 | G13: =$H$6 -> 21 | H13: =C13*(D13*E13*F13*G13) -> 76899050
B14: ASESOR HIDRAULICO | C14: 1 | D14: 0.15 | E14: 6800000 | F14: =$F$10 -> 2.154035 | G14: =$H$6 -> 21 | H14: =C14*(D14*E14*F14*G14) -> 46139430
B15: PROFESIONAL AMBIENTAL | C15: 1 | D15: 0.15 | E15: 5850000 | F15: =$F$10 -> 2.154035 | G15: =$H$6 -> 21 | H15: =C15*(D15*E15*F15*G15) -> 39693480
B16: ARQUITECTO RESIDENTE | C16: 1 | D16: 0.5 | E16: 4800000 | F16: =$F$10 -> 2.154035 | G16: =$H$6 -> 21 | H16: =C16*(D16*E16*F16*G16) -> 1.0856337e+08
B17: ASESOR ARQUITECTONICO | C17: 1 | D17: 0.15 | E17: 8020000 | F17: =$F$10 -> 2.154035 | G17: =$H$6 -> 21 | H17: =C17*(D17*E17*F17*G17) -> 54417387
B18: TOPOGRAFO | C18: 1 | D18: 0.3 | E18: 3800000 | F18: =$F$10 -> 2.154035 | G18: =$H$6 -> 21 | H18: =C18*(D18*E18*F18*G18) -> 51567598
B19: PROFESIONAL SOCIAL | C19: 1 | D19: 0.5 | E19: 3800000 | F19: =$F$10 -> 2.154035 | G19: =$H$6 -> 21 | H19: =C19*(D19*E19*F19*G19) -> 85945997
B20: PROFESONAL EN SST | C20: 1 | D20: 1 | E20: 3800000 | F20: =$F$10 -> 2.154035 | G20: =$H$6 -> 21 | H20: =C20*(D20*E20*F20*G20) -> 1.7189199e+08
I21: =SUM(H10:H20) -> 1.0558013e+09
B23: 2. PERSONAL TECNICO, AUXILIAR Y PLANILLA
B24: AUXILIARES DE ADMINISTRACION | C24: 1 | D24: 0.5 | E24: 1546000 | F24: =$F$10 -> 2.154035 | G24: =$H$6 -> 21 | H24: =C24*(D24*E24*F24*G24) -> 34966450
B25: SECRETARIA (tipo 2) | C25: 1 | D25: 0.5 | E25: 1445500 | F25: =$F$10 -> 2.154035 | G25: =$H$6 -> 21 | H25: =C25*(D25*E25*F25*G25) -> 32693405
I26: =SUM(H24:H25) -> 67659856
B28: TOTAL COSTO DE PERSONAL | I28: =SUM(+I21+I26) -> 1.1234612e+09
B29: DESCRIPCION | D29: % PARTICIPACION | E29: COSTO MES | G29: MESES | H29: COSTO MENSUAL
B30: 3. OTROS
B31: PRESENTACION DE INFORMES | C31: 1 | D31: 1 | E31: 322750 | G31: =$H$6 -> 21 | H31: =C31*(D31*E31*G31) -> 6777750
B32: IMPRESIÓN DE PLANOS | C32: 1 | D32: 1 | E32: 240000 | G32: =$H$6 -> 21 | H32: =C32*(D32*E32*G32) -> 5040000
I33: =SUM(H31:H32) -> 11817750
B34: 4. COSTOS DIRECTOS
B35: ARRIENDO OFICINA | C35: 1 | D35: 1 | E35: 707336 | G35: =$H$6 -> 21 | H35: =C35*(D35*E35*G35) -> 14854056
B36: ALQUILER EQUIPO DE TOPOGRAFIA | C36: 1 | D36: 0.3 | E36: 3708995 | G36: =$H$6 -> 21 | H36: =C36*(D36*E36*G36) -> 23366668
B37: SERVICIO DE MENSAJERIA( Incluye moto, combustible, mantenimiento y motorista) | C37: 1 | D37: 0.25 | E37: 1150000 | G37: =$H$6 -> 21 | H37: =C37*(D37*E37*G37) -> 6037500
B38: COMUNICACIONES | C38: 1 | D38: 1 | E38: 205000 | G38: =$H$6 -> 21 | H38: =C38*(D38*E38*G38) -> 4305000
B39: Alquiler de equipo de computo, portatiles, equipos para oficina, escaner y fax | C39: 1 | D39: 0.5 | E39: 566575 | G39: =$H$6 -> 21 | H39: =C39*(D39*E39*G39) -> 5949037.5
B40: Alquiler de Camioneta tipo 4x4, 2000 cc. | C40: 1 | D40: 0.3 | E40: 4580000 | G40: =$H$6 -> 21 | H40: =C40*(D40*E40*G40) -> 28854000
B41: Alquiler mobiliario de oficina y archivo | C41: 1 | D41: 1 | E41: 450000 | G41: =$H$6 -> 21 | H41: =C41*(D41*E41*G41) -> 9450000
I42: =SUM(H35:H41) -> 92816262
B43: SUB-TOTAL COSTOS DIRECTOS Y DE PERSONAL | I43: =ROUND((I28+I33+I42),0) -> 1228095210
...

Sheet OE-INTERVENTORIA
B2: MUNICIPIO DE TENJO (CUND.)
B3: CONCURSO PUBLICO DE MERITOS
B4: INTERVENTORIA TÉCNICA, ADMINISTRATIVA, JURÍDICA, FINANCIERA, SOCIAL, AMBIENTAL Y SISO PARA LOS ESTUDIOS, DISEÑOS, PRE-CONSTRUCCIÓN (LICENCIAS, PERMISOS, AUTORIZACIONES, PLANES, OTROS) Y CONSTRUCCION DE LA AMPLIACIÓN Y MEJORAMIENTO DEL COLISEO CUBIERTO EN EL CASCO URBANO PRINCIPAL DEL MUNICIPIO DE TENJO – CUNDINAMARCA, (VIGENCIAS FUTURAS).
B5: PRESUPUESTO OFICIAL
B6: FORMULARIO: RELACION DE COSTOS | E6: TIEMPO (# MESES) = | H6: 21
B7: DESCRIPCION | C7: CANTIDAD | D7: OCUPACION MES (%) | E7: HONORARIOS MES | F7: F.M. | G7: No. MESES | H7: COSTO MENSUAL | I7: VALORES
D8: H-MES | I8: TOTALES
B9: 1. PERSONAL PROFESIONAL
B10: DIRECTOR DE INTERVENTORIA | C10: 1 | D10: 0.3 | F10: ='F.P.'!F33 -> 2.154035 | G10: =$H$6 -> 21 | H10: =C10*(D10*E10*F10*G10) -> 0
B11: INGENIERO RESIDENTE DE INTERVENTORÍA | C11: 1 | D11: 1 | F11: =$F$10 -> 2.154035 | G11: =$H$6 -> 21 | H11: =C11*(D11*E11*F11*G11) -> 0
B12: ASESOR ESTRUCTURAL | C12: 1 | D12: 0.25 | F12: =$F$10 -> 2.154035 | G12: =$H$6 -> 21 | H12: =C12*(D12*E12*F12*G12) -> 0
B13: ASESOR ELECTRICISTA | C13: 1 | D13: 0.25 | F13: =$F$10 -> 2.154035 | G13: =$H$6 -> 21 | H13: =C13*(D13*E13*F13*G13) -> 0
B14: ASESOR HIDRAULICO | C14: 1 | D14: 0.15 | F14: =$F$10 -> 2.154035 | G14: =$H$6 -> 21 | H14: =C14*(D14*E14*F14*G14) -> 0
B15: PROFESIONAL AMBIENTAL | C15: 1 | D15: 0.15 | F15: =$F$10 -> 2.154035 | G15: =$H$6 -> 21 | H15: =C15*(D15*E15*F15*G15) -> 0
B16: ARQUITECTO RESIDENTE | C16: 1 | D16: 0.5 | F16: =$F$10 -> 2.154035 | G16: =$H$6 -> 21 | H16: =C16*(D16*E16*F16*G16) -> 0
B17: ASESOR ARQUITECTONICO | C17: 1 | D17: 0.15 | F17: =$F$10 -> 2.154035 | G17: =$H$6 -> 21 | H17: =C17*(D17*E17*F17*G17) -> 0
B18: TOPOGRAFO | C18: 1 | D18: 0.3 | F18: =$F$10 -> 2.154035 | G18: =$H$6 -> 21 | H18: =C18*(D18*E18*F18*G18) -> 0
B19: PROFESIONAL SOCIAL | C19: 1 | D19: 0.5 | F19: =$F$10 -> 2.154035 | G19: =$H$6 -> 21 | H19: =C19*(D19*E19*F19*G19) -> 0
B20: PROFESONAL EN SST | C20: 1 | D20: 1 | F20: =$F$10 -> 2.154035 | G20: =$H$6 -> 21 | H20: =C20*(D20*E20*F20*G20) -> 0
I21: =SUM(H10:H20) -> 0
B23: 2. PERSONAL TECNICO, AUXILIAR Y PLANILLA
B24: AUXILIARES DE ADMINISTRACION | C24: 1 | D24: 0.5 | F24: =$F$10 -> 2.154035 | G24: =$H$6 -> 21 | H24: =C24*(D24*E24*F24*G24) -> 0
B25: SECRETARIA (tipo 2) | C25: 1 | D25: 0.5 | F25: =$F$10 -> 2.154035 | G25: =$H$6 -> 21 | H25: =C25*(D25*E25*F25*G25) -> 0
I26: =SUM(H24:H25) -> 0
B28: TOTAL COSTO DE PERSONAL | I28: =SUM(+I21+I26) -> 0
B29: DESCRIPCION | D29: % PARTICIPACION | E29: COSTO MES | G29: MESES | H29: COSTO MENSUAL
B30: 3. OTROS
B31: PRESENTACION DE INFORMES | C31: 1 | D31: 1 | G31: =$H$6 -> 21 | H31: =C31*(D31*E31*G31) -> 0
B32: IMPRESIÓN DE PLANOS | C32: 1 | D32: 1 | G32: =$H$6 -> 21 | H32: =C32*(D32*E32*G32) -> 0
I33: =SUM(H31:H32) -> 0
B34: 4. COSTOS DIRECTOS
B35: ARRIENDO OFICINA | C35: 1 | D35: 1 | G35: =$H$6 -> 21 | H35: =C35*(D35*E35*G35) -> 0
B36: ALQUILER EQUIPO DE TOPOGRAFIA | C36: 1 | D36: 0.3 | G36: =$H$6 -> 21 | H36: =C36*(D36*E36*G36) -> 0
B37: SERVICIO DE MENSAJERIA( Incluye moto, combustible, mantenimiento y motorista) | C37: 1 | D37: 0.25 | G37: =$H$6 -> 21 | H37: =C37*(D37*E37*G37) -> 0
B38: COMUNICACIONES | C38: 1 | D38: 1 | G38: =$H$6 -> 21 | H38: =C38*(D38*E38*G38) -> 0
B39: Alquiler de equipo de computo, portatiles, equipos para oficina, escaner y fax | C39: 1 | D39: 0.5 | G39: =$H$6 -> 21 | H39: =C39*(D39*E39*G39) -> 0
B40: Alquiler de Camioneta tipo 4x4, 2000 cc. | C40: 1 | D40: 0.3 | G40: =$H$6 -> 21 | H40: =C40*(D40*E40*G40) -> 0
B41: Alquiler mobiliario de oficina y archivo | C41: 1 | D41: 1 | G41: =$H$6 -> 21 | H41: =C41*(D41*E41*G41) -> 0
I42: =SUM(H35:H41) -> 0
B43: SUB-TOTAL COSTOS DIRECTOS Y DE PERSONAL | I43: =ROUND((I28+I33+I42),0) -> 0
...
