Workbook
Name \0: #REF!
Name \00: #REF!
Name \a: #REF!
Name \AA: [1]LIQUIDACION!#REF!
Name \b: [2]STRSUMM0!#REF!
Name \bb: [2]STRSUMM0!#REF!
Name \E: #REF!
Name \EE: #REF!
Name \eliminar: [3]RESUM96!#REF!
Name \eliminar1: [3]RESUM96!#REF!
Name \G: #REF!
Name \k: '[4]7422CW00'!#REF!
Name \l: [5]STRSUMM0!#REF!
Name \M: #REF!
Name \ñ: '[6]7422CW00'!#REF!
Name \P: #REF!
Name \q: #REF!
Name \R: #REF!
Name \s: #REF!
Name \V: #REF!
Name \X: [0]!ERR
Name \Z: [0]!ERR
Name ________________EST1: #REF!
Name ________________EST10: #REF!
Name ________________EST11: #REF!
Name ________________EST12: #REF!
Name ________________EST13: #REF!
Name ________________EST14: #REF!
Name ________________EST15: #REF!
Name ________________EST16: #REF!
Name ________________EST17: #REF!
Name ________________EST18: #REF!
Name ________________EST19: #REF!
Name ________________EST2: #REF!
Name ________________EST3: #REF!
Name ________________EST4: #REF!
Name ________________EST5: #REF!
Name ________________EST6: #REF!
Name ________________EST7: #REF!
Name ________________EST8: #REF!
Name ________________EST9: #REF!
Name ________________EXC1: #REF!
Name ________________EXC10: #REF!
Name ________________EXC11: #REF!
Name ________________EXC12: #REF!
Name ________________EXC2: #REF!
Name ________________EXC3: #REF!
Name ________________EXC4: #REF!
Name ________________EXC5: #REF!
Name ________________EXC6: #REF!
Name ________________EXC7: #REF!
Name ________________EXC8: #REF!
Name ________________EXC9: #REF!
Name _______________EST1: #REF!
Name _______________EST10: #REF!
Name _______________EST11: #REF!
Name _______________EST12: #REF!
Name _______________EST13: #REF!
Name _______________EST14: #REF!
Name _______________EST15: #REF!

Sheet EM
A1: ESTUDIO DE MERCADO OBJETO:
A2: Objeto: “DESARROLLAR LAS ACTIVIDADES RECREO DEPORTIVAS Y LOGÍSTICAS QUE SE REQUIERAN PARA LA REALIZACIÓN DEL PROGRAMA TUNJUELITO CROSS HIT GAMES 2024 EN EL MARCO DEL PROYECTO 2037 DENOMINADO POR EL BIENESTAR RECREO DEPORTIVO DE TUNJUELITO”.
A3: NOMBRE DEL PROYECTO: 2037 - Por el bienestar recreo-deportivo de Tunjuelito.
A4: ITEM | B4: ITEM | C4: DETALLE CONCEPTO | D4: Unidad de Medida | E4: Cot. 01 IVA Incluido | F4: Empresa Cotizante 01 | G4: Cot. 02 IVA Incluido | I4: Cot. 03 IVA Incluido | K4: No. de Cotizaciones | L4: MEDIANA | M4: DESVIACIÓN ESTANDAR | N4: VALOR PROMEDIO UNITARIO IVA INCLUIDO (VIGENCIA 2022) | O4: VALOR UNITARIO IVA INCLUIDO (VIGENCIA 2023) (REDONDEADO AL MÚLTIPLO DE 50 MÁS CERCANO SUPERIOR) | P4: CANTIDAD | Q4: VALOR TOTAL CON IVA
H5: Empresa Cotizante 02 | J5: Empresa Cotizante 03
B6: ACTIVIDADES
A7: 1 | B7: Kit | C7: Kit de despinche: Llave Allen de 2/2,5/3 / 4 / 5 / 6mm Llave de caja de 8 / 9 / 10mm 8 / 10 / 15mm Llave sólida Destornillador de estrella Destornillador recto Tecla de radio 14G Bomba A Una llave inglesa Palanca x2 Parche - bicicleta autoadhesivo, lija de agua y pegante para parches Material: acero superior. Top duro. Peso: 750g Tamaño: Juego de Herramientas Portátil de 21,5X9X5,5 cm | D7: Unid | E7: 49980 | F7: PROPARTES | G7: 59900 | H7: HOMECENTER | I7: 59900 | J7: T&V CICLISMO | K7: =+COUNT(E7,G7,I7) -> 3 | L7: =+MEDIAN(E7,G7,I7) -> 59900 | M7: =+STDEVA(E7,G7,I7) -> 5727.3147 | N7: =+AVERAGE(E7,G7,I7) -> 56593.333 | O7: =_xlfn.CEILING.MATH(N7,50,FALSE) -> 56600 | P7: 210 | Q7: =O7*P7 -> 11886000
A8: 2 | B8: Termo Térmico | C8: Termo térmico personalizado con 2 logos tipos (colores variados) Que puede mantener la tempera caliente o fría Sellado hermético mediante ajuste firme de la tapa Tamaño aproximado de 22.5 cm de alto y 6.5 cm de diámetro con un peso aproximado de 270g Capacidad total de 500 ml. | D8: Unid | E8: =37000*1.19 -> 44030 | F8: ZOOM | G8: =39300*1.19 -> 46767 | H8: M PUBLICIDAD | I8: =28000*1.19 -> 33320 | J8: MULTI COPIAS SHARP | K8: =+COUNT(E8,G8,I8) -> 3 | L8: =+MEDIAN(E8,G8,I8) -> 44030 | M8: =+STDEVA(E8,G8,I8) -> 7106.5355 | N8: =+AVERAGE(E8,G8,I8) -> 41372.333 | O8: =_xlfn.CEILING.MATH(N8,50,FALSE) -> 41400 | P8: 210 | Q8: =O8*P8 -> 8694000
A9: 3 | B9: Gorra tipo safari Safari | C9: Gorra tipo Safari con protección de cuello desmontable Ala ancha con cuello desmontable Diseño unisex Plegable y fácil de transportar Colores surtidos tallas surtidas Material: Ripstop Camuflado Cordón ajustable al cuello o barbilla | D9: Unid | E9: 23900 | F9: VB VELBROS | G9: 24900 | H9: FALABELLA | I9: 24900 | J9: ÉXITO | K9: =+COUNT(E9,G9,I9) -> 3 | L9: =+MEDIAN(E9,G9,I9) -> 24900 | M9: =+STDEVA(E9,G9,I9) -> 577.35027 | N9: =+AVERAGE(E9,G9,I9) -> 24566.667 | O9: =_xlfn.CEILING.MATH(N9,50,FALSE) -> 24600 | P9: 250 | Q9: =O9*P9 -> 6150000
A10: 4 | B10: Camisetas | C10: Camiseta colores surtidos cuello redondo 100% algodón con un estampado tamaño carta en la espalda y 3 logos institucionales (2 al frente tamaño bolsillo y 1 en la espalda parte inferior rectangular) a un solo color (rojo, azul, negro, verde, naranja) | D10: Unid | E10: =28000*1.19 -> 33320 | F10: SENI | G10: 35000 | H10: vintage sas | I10: 38000 | J10: xixa | K10: =+COUNT(E10,G10,I10) -> 3 | L10: =+MEDIAN(E10,G10,I10) -> 35000 | M10: =+STDEVA(E10,G10,I10) -> 2370.8226 | N10: =+AVERAGE(E10,G10,I10) -> 35440 | O10: =_xlfn.CEILING.MATH(N10,50,FALSE) -> 35450 | P10: 250 | Q10: =O10*P10 -> 8862500
A11: 5 | B11: Canguro | C11: Canguro con 2 compartimientos Bolsillo interior 1 Colore surtidos con correa ajustable en Nailon en tela resistente | D11: Unid | E11: 58000 | F11: DECATHLON | G11: 58900 | H11: TOTTO | I11: 54300 | J11: PATICUEROS | K11: =+COUNT(E11,G11,I11) -> 3 | L11: =+MEDIAN(E11,G11,I11) -> 58000 | M11: =+STDEVA(E11,G11,I11) -> 2437.8953 | N11: =+AVERAGE(E11,G11,I11) -> 57066.667 | O11: =_xlfn.CEILING.MATH(N11,50,FALSE) -> 57100 | P11: 200 | Q11: =O11*P11 -> 11420000
A12: 6 | B12: Caja de sobres de Bloqueadores | C12: cajas de 12 Sobre de protector solar de 100 resistente al agua y al sudor sobres de 10 ML | D12: Unid | E12: 42000 | F12: LOPIDO | G12: 38900 | H12: MIS VITAMINAS | I12: 39900 | J12: TU DROGUERIA | K12: =+COUNT(E12,G12,I12) -> 3 | L12: =+MEDIAN(E12,G12,I12) -> 39900 | M12: =+STDEVA(E12,G12,I12) -> 1582.1926 | N12: =+AVERAGE(E12,G12,I12) -> 40266.667 | O12: =_xlfn.CEILING.MATH(N12,50,FALSE) -> 40300 | P12: 20 | Q12: =O12*P12 -> 806000
A13: 7 | B13: Hidratación | C13: Botellones de agua de 20 litros | D13: Unid | E13: 11672 | F13: JUMBO | G13: 14000 | H13: OLIMPICA | I13: 13900 | J13: MERCA CENTRO | K13: =+COUNT(E13,G13,I13) -> 3 | L13: =+MEDIAN(E13,G13,I13) -> 13900 | M13: =+STDEVA(E13,G13,I13) -> 1316.154 | N13: =+AVERAGE(E13,G13,I13) -> 13190.667 | O13: =_xlfn.CEILING.MATH(N13,50,FALSE) -> 13200 | P13: 40 | Q13: =O13*P13 -> 528000
A14: 8 | B14: refrigerios | C14: Un sólido: Un pastel de pollo o sándwich, jugo o avena en la caja, fruta (manzana, pera, durazno, banano, mandarina) y dulce de chocolate. Que cumpla con las normas de Bioseguridad - Empacado en bolsa de papel | D14: Unid | E14: 9500 | F14: MAQUIEVENTOS | G14: 11000 | H14: HACIENDA EL REFUGIO | I14: 12000 | J14: ICOMER | K14: =+COUNT(E14,G14,I14) -> 3 | L14: =+MEDIAN(E14,G14,I14) -> 11000 | M14: =+STDEVA(E14,G14,I14) -> 1258.3057 | N14: =+AVERAGE(E14,G14,I14) -> 10833.333 | O14: =_xlfn.CEILING.MATH(N14,50,FALSE) -> 10850 | P14: 460 | Q14: =O14*P14 -> 4991000
A15: 9 | B15: Sonido | C15: parlante 8” pulgadas, activa inalámbrica, de batería recargable, con cable de carga, entrada de audio, radio FM, entrada de micrófono, conexión TWS, Bluetooth, control remoto, Entrada de USB y Micro SD, pantalla digital, reproductor de MP3, 8.000 W (PMPO), dimensiones (Largo*Ancho*Alto) = 24*21*39cm aproximadamente con diadema | D15: Unid | E15: 280900 | F15: MUY VACANO | G15: 282900 | H15: FALABELLA | I15: 329900 | J15: PROSOUND | K15: =+COUNT(E15,G15,I15) -> 3 | L15: =+MEDIAN(E15,G15,I15) -> 282900 | M15: =+STDEVA(E15,G15,I15) -> 27730.849 | N15: =+AVERAGE(E15,G15,I15) -> 297900 | O15: =_xlfn.CEILING.MATH(N15,50,FALSE) -> 297900 | P15: 2 | Q15: =O15*P15 -> 595800
A16: 10 | B16: Diadema | C16: Micrófono Diadema Alámbrico Para Amplificador De Voz /clase. | D16: Unid | E16: 141900 | F16: MUSIC BOX | G16: 142990 | H16: PROSOUND | I16: 145000 | J16: SONO MARCAS | K16: =+COUNT(E16,G16,I16) -> 3 | L16: =+MEDIAN(E16,G16,I16) -> 142990 | M16: =+STDEVA(E16,G16,I16) -> 1572.5881 | N16: =+AVERAGE(E16,G16,I16) -> 143296.67 | O16: =_xlfn.CEILING.MATH(N16,50,FALSE) -> 143300 | P16: 2 | Q16: =O16*P16 -> 286600
A17: 11 | B17: Numeración | C17: Numeración de carrera en tela cómoda color blanco, números estampados Tamaño: 18 x 15 cms. Perforados en 4 esquinas. Con 1 logo tipo | D17: Unid | E17: 18000 | F17: AGENCIA DE DISEÑO | G17: 18000 | H17: MULTI COPIAS | K17: =+COUNT(E17,G17,I17) -> 2 | L17: =+MEDIAN(E17,G17,I17) -> 18000 | M17: =+STDEVA(E17,G17,I17) -> 0 | N17: =+AVERAGE(E17,G17,I17) -> 18000 | O17: =_xlfn.CEILING.MATH(N17,50,FALSE) -> 18000 | P17: 200 | Q17: =O17*P17 -> 3600000
A18: 12 | B18: Bolsas de basura | C18: Rollo de bolsas de basura de 90*120 por 10 unidades re alta resistencia | D18: Unid | E18: 11790 | F18: MEGATIENDAS | G18: 12600 | H18: ILKO | I18: 8790 | J18: ESTRA | K18: =+COUNT(E18,G18,I18) -> 3 | L18: =+MEDIAN(E18,G18,I18) -> 11790 | M18: =+STDEVA(E18,G18,I18) -> 2007.1622 | N18: =+AVERAGE(E18,G18,I18) -> 11060 | O18: =_xlfn.CEILING.MATH(N18,50,FALSE) -> 11100 | P18: 40 | Q18: =O18*P18 -> 444000
A19: 13 | B19: Guantes | C19: Par guantes Industriales De Trabajo Material: tela, goma Antideslizante. | D19: Unid | E19: 11200 | F19: FERRESOL | G19: 12870 | H19: FULL MINERIA | I19: 18000 | J19: EPP CARTAGENA | K19: =+COUNT(E19,G19,I19) -> 3 | L19: =+MEDIAN(E19,G19,I19) -> 12870 | M19: =+STDEVA(E19,G19,I19) -> 3543.6751 | N19: =+AVERAGE(E19,G19,I19) -> 14023.333 | O19: =_xlfn.CEILING.MATH(N19,50,FALSE) -> 14050 | P19: 200 | Q19: =O19*P19 -> 2810000
A20: 14 | B20: Pinzas de recolección | C20: Clip Largo De Recolección De Basura Plegable Multifuncional material en platico o aluminio | D20: Unid | E20: 28900 | F20: FALABELLA | G20: 39900 | H20: GRUPO COMERCIAL | I20: 55512 | J20: SHOPEE | K20: =+COUNT(E20,G20,I20) -> 3 | L20: =+MEDIAN(E20,G20,I20) -> 39900 | M20: =+STDEVA(E20,G20,I20) -> 13372.441 | N20: =+AVERAGE(E20,G20,I20) -> 41437.333 | O20: =_xlfn.CEILING.MATH(N20,50,FALSE) -> 41450 | P20: 95 | Q20: =O20*P20 -> 3937750
A21: 15 | B21: Canchas mini tejo | C21: Alquiler Canchas de mini tejo en plastilina con sus respectivos tejos y mechas | D21: Unid | E21: =53000*1.19 -> 63070 | F21: AKIRENTO | G21: =70000*1.19 -> 83300 | H21: TEJO & RANA | I21: =75000*1.19 -> 89250 | J21: FARAON EVENTOS | K21: =+COUNT(E21,G21,I21) -> 3 | L21: =+MEDIAN(E21,G21,I21) -> 83300 | M21: =+STDEVA(E21,G21,I21) -> 13723.749 | N21: =+AVERAGE(E21,G21,I21) -> 78540 | O21: =_xlfn.CEILING.MATH(N21,50,FALSE) -> 78550 | P21: 10 | Q21: =O21*P21 -> 785500
A22: 16 | B22: Boliranas | C22: Alquiler Juegos de Boliranas con sus respectivas esferas y tableros electrónicos | D22: Unid | E22: =100000*1.19 -> 119000 | F22: AKIRENTO | G22: =180000*1.19 -> 214200 | H22: ALTO IMPACTO | I22: 200000 | J22: xixa | K22: =+COUNT(E22,G22,I22) -> 3 | L22: =+MEDIAN(E22,G22,I22) -> 200000 | M22: =+STDEVA(E22,G22,I22) -> 51357.7 | N22: =+AVERAGE(E22,G22,I22) -> 177733.33 | O22: =_xlfn.CEILING.MATH(N22,50,FALSE) -> 177750 | P22: 10 | Q22: =O22*P22 -> 1777500
A23: 17 | B23: mechas | C23: Paquete de mechas en forma triangular | D23: Unid | E23: 22000 | F23: JUEGOS TACHO | G23: 28000 | H23: MUNDO COLOMBIA | K23: =+COUNT(E23,G23,I23) -> 2 | L23: =+MEDIAN(E23,G23,I23) -> 25000 | M23: =+STDEVA(E23,G23,I23) -> 4242.6407 | N23: =+AVERAGE(E23,G23,I23) -> 25000 | O23: =_xlfn.CEILING.MATH(N23,50,FALSE) -> 25000 | P23: 10 | Q23: =O23*P23 -> 250000
A24: 18 | B24: Plastilina | C24: Plastilina industrial para canchas de tejo color azul | D24: Unid 1 KL | E24: 15000 | F24: PANAFARGO | G24: 14580 | H24: AL CARRITO | I24: 16900 | J24: MARIN PAPELERIA | K24: =+COUNT(E24,G24,I24) -> 3 | L24: =+MEDIAN(E24,G24,I24) -> 15000 | M24: =+STDEVA(E24,G24,I24) -> 1236.1769 | N24: =+AVERAGE(E24,G24,I24) -> 15493.333 | O24: =_xlfn.CEILING.MATH(N24,50,FALSE) -> 15500 | P24: 10 | Q24: =O24*P24 -> 155000
A25: 19 | B25: Almuerzos | C25: Una proteína (Carne de res, pollo o carne de cerdo), un principio (Lenteja, Frijol o pasta), ensalada, porción de arroz y papa. Jugo (Mora, limonada maracuyá) Postre (Gelatina, natilla o torta) | D25: Unid | E25: 25000 | F25: RESTAURANTE LA DANZA DEL CHIVO | G25: 20000 | H25: RESTAURANTE Y PESCADERIA MAR Y TIERRA | I25: 21420 | J25: melin sas | K25: =+COUNT(E25,G25,I25) -> 3 | L25: =+MEDIAN(E25,G25,I25) -> 21420 | M25: =+STDEVA(E25,G25,I25) -> 2576.5869 | N25: =+AVERAGE(E25,G25,I25) -> 22140 | O25: =_xlfn.CEILING.MATH(N25,50,FALSE) -> 22150 | P25: 460 | Q25: =O25*P25 -> 10189000
A26: 20 | B26: Piscina | C26: Centro felicidad CEFE –Piscina recreativa para actividad (Esta se paga de acuerdo al PAE del IDRD) | D26: Jornada carril | E26: 291200 | F26: PAE - IDRD | K26: =+COUNT(E26,G26,I26) -> 1 | L26: =+MEDIAN(E26,G26,I26) -> 291200 | M26: =+STDEVA(E26,G26,I26) -> #DIV/0! | N26: =+AVERAGE(E26,G26,I26) -> 291200 | O26: =_xlfn.CEILING.MATH(N26,50,FALSE) -> 291200 | P26: 8 | Q26: =O26*P26 -> 2329600
A27: 21 | B27: Gorros de baño | C27: Gorros para piscina elaborado 100% en silicona -Talla Universal -Tamaño Aprox.: Empaque: 20 x 12 x 1 cm. -Peso Aprox.: Empaque: 64 g. -Gorro con textura suave. -Excelente estiramiento, flexibilidad y durabilidad. Gorro de baño de alta calidad diseñado para cubrir el cabello y las orejas de agua. -Material durable y resistente al cloro ut | D27: Unid | E27: 14950 | F27: SPEEDO | G27: 14000 | H27: DECATHLON | I27: 14900 | J27: FALABELLA | K27: =+COUNT(E27,G27,I27) -> 3 | L27: =+MEDIAN(E27,G27,I27) -> 14900 | M27: =+STDEVA(E27,G27,I27) -> 534.63383 | N27: =+AVERAGE(E27,G27,I27) -> 14616.667 | O27: =_xlfn.CEILING.MATH(N27,50,FALSE) -> 14650 | P27: 200 | Q27: =O27*P27 -> 2930000
A28: 22 | B28: Colchonetas | C28: Alquiler de colchonetas medidas 2 m. x 1 m. x 8 cm. material de espuma forradas en tela. | D28: Unid | E28: =40000*1.19 -> 47600 | F28: SAN FRANCISCO DE ASIS | G28: =45000*1.19 -> 53550 | H28: FUNDACION PALMA VERDE | K28: =+COUNT(E28,G28,I28) -> 2 | L28: =+MEDIAN(E28,G28,I28) -> 50575 | M28: =+STDEVA(E28,G28,I28) -> 4207.2853 | N28: =+AVERAGE(E28,G28,I28) -> 50575 | O28: =_xlfn.CEILING.MATH(N28,50,FALSE) -> 50600 | P28: 50 | Q28: =O28*P28 -> 2530000
A29: 23 | B29: Rompecabezas | C29: Rompecabezas de 16 piezas en cartón con el diseño entregado por el área de prensa de la alcaldía local | D29: Unid | E29: 24000 | F29: MORA PERSONALIZADOS | G29: 25000 | H29: IMPRESS.COM | I29: 28000 | J29: REGALOS CREATIVOS | K29: =+COUNT(E29,G29,I29) -> 3 | L29: =+MEDIAN(E29,G29,I29) -> 25000 | M29: =+STDEVA(E29,G29,I29) -> 2081.666 | N29: =+AVERAGE(E29,G29,I29) -> 25666.667 | O29: =_xlfn.CEILING.MATH(N29,50,FALSE) -> 25700 | P29: 20 | Q29: =O29*P29 -> 514000
A30: 24 | B30: Rompecabezas | C30: Rompecabezas de 500 fichas en cartón con alusión a paisajes, ciudades, naturaleza y cultura | D30: Unid | E30: 59990 | F30: ÉXITO | G30: 62930 | H30: TOYNG | I30: 54900 | J30: LOS 3 ELEFANTES | K30: =+COUNT(E30,G30,I30) -> 3 | L30: =+MEDIAN(E30,G30,I30) -> 59990 | M30: =+STDEVA(E30,G30,I30) -> 4062.6879 | N30: =+AVERAGE(E30,G30,I30) -> 59273.333 | O30: =_xlfn.CEILING.MATH(N30,50,FALSE) -> 59300 | P30: 16 | Q30: =O30*P30 -> 948800
A31: 25 | B31: Fichas | C31: Fichas plastificadas de 10 cm x 13.7 cm con ilustración y párrafo indicado (párrafo entre 8 y 10 reglones) | D31: Unid | E31: 29000 | F31: TINTIN TOYS PELUCHE Y JUGUETES | G31: 22000 | H31: CENTRO DE COPIADO VIVIANA | K31: =+COUNT(E31,G31,I31) -> 2 | L31: =+MEDIAN(E31,G31,I31) -> 25500 | M31: =+STDEVA(E31,G31,I31) -> 4949.7475 | N31: =+AVERAGE(E31,G31,I31) -> 25500 | O31: =_xlfn.CEILING.MATH(N31,50,FALSE) -> 25500 | P31: 64 | Q31: =O31*P31 -> 1632000
A32: 26 | B32: Patineta Eléctrica | C32: Scooter eléctrica de 350W, velocidad máxima de 35 KM/h, autonomía de 35 km, batería de Litio Ion 13.5Ah, con cargador | D32: Unid | E32: 1750000 | F32: MOVILIDAD JAGER | G32: 1799000 | H32: VILPI BIKE | I32: 1790000 | J32: GO GREEN | K32: =+COUNT(E32,G32,I32) -> 3 | L32: =+MEDIAN(E32,G32,I32) -> 1790000 | M32: =+STDEVA(E32,G32,I32) -> 26083.2 | N32: =+AVERAGE(E32,G32,I32) -> 1779666.7 | O32: =_xlfn.CEILING.MATH(N32,50,FALSE) -> 1779700 | P32: 3 | Q32: =O32*P32 -> 5339100
A33: 27 | B33: Bicicleta todo terreno | C33: Bicicleta todo terreno. tamaño de marco M, Marco: fabricada con un marco de acero inoxidable, con pintura YS Code, Tenedor: Acero 28.6 * 25.4* con Bloqueo de Suspensión, rin 29", Llantas: en caucho 29" x 2.125, Pedales: Plásticos con Reflectivos Medida 9/16", Frenos: Frenos de Disco en Aluminio Llanta delantera y trasera, Pacha: de 6 velocidades, Velocidades 14-28T Index. | D33: Unid | E33: 779900 | F33: OLIMPICA | G33: 769900 | H33: HOME SALE | I33: 749900 | J33: FALABELLA | K33: =+COUNT(E33,G33,I33) -> 3 | L33: =+MEDIAN(E33,G33,I33) -> 769900 | M33: =+STDEVA(E33,G33,I33) -> 15275.252 | N33: =+AVERAGE(E33,G33,I33) -> 766566.67 | O33: =_xlfn.CEILING.MATH(N33,50,FALSE) -> 766600 | P33: 3 | Q33: =O33*P33 -> 2299800
A34: 21 | B34: Piscina | C34: Centro felicidad CEFE –Piscina recreativa para actividad (Esta se paga de acuerdo al PAE del IDRD) | D34: Cariil | K34: =COUNT(E34:I34) -> 0 | N34: =IFERROR(AVERAGE($E34:$H34),0) -> 0 | O34: =_xlfn.CEILING.MATH(N34,50,FALSE) -> 0 | Q34: =O34*P34 -> 0
D35: TOTAL | Q35: =SUM(Q7:Q34) -> 96691950
A36: TALENTO HUMANO
A37: 28 | B37: Coordinador general | C37: Licenciado en educación física y/o profesional en cultura física y/o Administración Deportiva y/o ciencias del deporte y/o áreas afines a la pedagogía del deporte y/o la Educación Física. El postulado debe acreditar Experiencia profesional mínima (23) meses debidamente certificados de los cuales debe acreditar experiencia específica en la coordinación de mínimo dos (2) proyectos en eventos deportivos y/o recreativos. (1 persona por 3 meses) (Ítem No Ofertable) | D37: Mes | K37: =COUNT(E37:I37) -> 0 | N37: =IFERROR(AVERAGE($E37:$H37),0) -> 0 | O37: =_xlfn.CEILING.MATH(N37,50,FALSE) -> 0 | P37: 2 | Q37: =O37*P37 -> 0
A38: 29 | B38: Monitores | C38: Tecnólogo, técnico y/o estudiante con aprobación mínima del cincuenta por ciento (50%) del pensum universitario áreas afines a la pedagogía del deporte y/o la Educación Física. El postulado debe acreditar experiencia laboral mínima de doce (12) meses debidamente certificados De los cuales seis (6) meses deben ser en experiencia laboral específica en acompañamiento de proyectos recreativos y/o deportivos. (2 personas, cada una de ella por 3 meses) (Ítem No Ofertable) | D38: Mes | K38: =COUNT(E38:I38) -> 0 | N38: =IFERROR(AVERAGE($E38:$H38),0) -> 0 | O38: =_xlfn.CEILING.MATH(N38,50,FALSE) -> 0 | P38: 4 | Q38: =O38*P38 -> 0
A39: 30 | B39: Logístico | C39: Estudios de educación básica primaria o título bachiller. El postulado debe acreditar experiencia mínima de seis (6) meses debidamente certificados. (Treinta personas, solo por los días de las jornadas (2 días)) (Ítem No Ofertable) | D39: Jornada | K39: =COUNT(E39:I39) -> 0 | N39: =IFERROR(AVERAGE($E39:$H39),0) -> 0 | O39: =_xlfn.CEILING.MATH(N39,50,FALSE) -> 0 | Q39: =O39*P39 -> 0
A40: 31 | B40: Guia Turistico | C40: Título de formación técnica o tecnológica o acreditación u aprobación del 50% o más de un plan de estudios de una carrera profesional que sea a fin del objetivo a contratar 36 meses de experiencia aboral de los cuales 6 meses de experiencia en temas de guía turístico (Ítem No Ofertable) | D40: Jornada | K40: =COUNT(E40:I40) -> 0 | N40: =IFERROR(AVERAGE($E40:$H40),0) -> 0 | O40: =_xlfn.CEILING.MATH(N40,50,FALSE) -> 0 | Q40: =O40*P40 -> 0
...

Sheet PONDERACIÓN 
C2: OBJETO: DESARROLLAR LAS ACTIVIDADES RECREO DEPORTIVAS Y LOGÍSTICAS QUE SE REQUIERAN PARA LA REALIZACIÓN DE LA INICIATIVA FESTIVAL RECREODEPORTIVO - TUNJO FESTIVAL EN EL MARCO DEL PROYECTO 2037 DENOMINADO POR EL BIENESTAR RECREO DEPORTIVO DE TUNJUELITO
S4: ACEPTADA
S5: RECHAZADA
S6: NO HABILITADA
C10: FECHA DE REFERENCIA | D10: 45628 | E10: TRM | F10: 4419.59 | G10: DIGITOS TRM | H10: =+ROUND(ABS(F10-TRUNC(F10)),2) -> 0.59 | J10: FDLT-SAMC 334 - 2024
B11: =+'PONDERACIÓN '!#REF! -> #REF! | C11: =+'PONDERACIÓN '!#REF! -> #REF! | D11: =+'PONDERACIÓN '!#REF! -> #REF! | E11: =+'PONDERACIÓN '!#REF! -> #REF! | G11: =+'PONDERACIÓN '!#REF! -> #REF! | H11: =+'PONDERACIÓN '!#REF! -> #REF! | I11: =+'PONDERACIÓN '!#REF! -> #REF! | J11: FONDO DE DESARROLLO LOCAL DE TUNJUELITO
C12: FECHA DE EVALUACION
C14: METODO DE EVALUACIÓN | D14: MEDIA GEOMETRICA CON PPTO
C17: MEDIA GEOMETRICA CON PPTO | H17: =+GEOMEAN(H27:H34) -> 1.3100911e+08
C18: PRESUPUESTO | H18: =+EM!Q62 -> 133711950
C20: PUNTAJE MÁXIMO | H20: 50
C26: PROPUESTA | D26: NIT | E26: EMPRESA | F26: VALOR PROPUESTA A | G26: REQUERIR PAB | H26: TOTAL PROPUESTA | K26: ESTADO | L26: PUNTAJE
C27: =+OFERENTES!B5 -> 4 | D27: =+OFERENTES!D5 -> 0 | E27: =+OFERENTES!C5 -> FUNCITEG | F27: =+'FORMATO 1'!AG37 -> 131040950 | G27: =+VLOOKUP(E27,'PRECIOS BAJOS'!$B$4:$D$9,3,FALSE) -> OK | H27: =+IF(K27=$K$35,F27," ") -> 131040950 | J27: =+IF(K27=$K$35,ABS($H$17-H27)," ") -> 31838.477 | K27: ACEPTADA | L27: 50
C28: =+OFERENTES!B7 -> 6 | D28: =+OFERENTES!D7 -> 0 | E28: =+OFERENTES!C7 -> FUNDACIÓN OTRO ROLLO SOCIAL | F28: =+'FORMATO 1'!AO37 -> 130218250 | G28: =+VLOOKUP(E28,'PRECIOS BAJOS'!$B$4:$D$9,3,FALSE) -> OK | H28: =+IF(K28=$K$35,F28," ") -> 130218250 | J28: =+IF(K28=$K$35,ABS($H$17-H28)," ") -> 790861.52 | K28: ACEPTADA | L28: 45
C29: =+OFERENTES!B4 -> 3 | D29: =+OFERENTES!D4 -> 0 | E29: =+OFERENTES!C4 -> CONSULTORES Y ASESORES TIC | F29: =+'FORMATO 1'!AC37 -> 129167508 | G29: =+VLOOKUP(E29,'PRECIOS BAJOS'!$B$4:$D$9,3,FALSE) -> OK | H29: =+IF(K29=$K$35,F29," ") -> 129167508 | J29: =+IF(K29=$K$35,ABS($H$17-H29)," ") -> 1841603.5 | K29: ACEPTADA | L29: 40
C30: =+OFERENTES!B3 -> 2 | D30: =+OFERENTES!D3 -> 0 | E30: =+OFERENTES!C3 -> ASOCOA | F30: =+'FORMATO 1'!Y37 -> 128302877 | G30: =+VLOOKUP(E30,'PRECIOS BAJOS'!$B$4:$D$9,3,FALSE) -> OK | H30: =+IF(K30=$K$35,F30," ") -> 128302877 | J30: =+IF(K30=$K$35,ABS($H$17-H30)," ") -> 2706234.5 | K30: ACEPTADA
C31: =+OFERENTES!B6 -> 5 | D31: =+OFERENTES!D6 -> 0 | E31: =+OFERENTES!C6 -> FUNDACIÓN G3 | F31: =+'FORMATO 1'!AK37 -> 126385672 | G31: =+VLOOKUP(E31,'PRECIOS BAJOS'!$B$4:$D$9,3,FALSE) -> 0 | H31: =+IF(K31=$K$35,F31," ") | J31: =+IF(K31=$K$35,ABS($H$17-H31)," ") | K31: RECHAZADA
C32: =+OFERENTES!B2 -> 1 | D32: =+OFERENTES!D2 -> 0 | E32: =+OFERENTES!C2 -> ASOCIACIÓN DE HOGARES SI A LA VIDA | H32: =+IF(K32=$K$35,F32," ") | J32: =+IF(K32=$K$35,ABS($H$17-H32)," ") | K32: RECHAZADA
E33: PPTO 1 | F33: =+H18 -> 133711950 | H33: =+F33 -> 133711950
E34: PPTO 2 | F34: =+H18 -> 133711950 | H34: =+F34 -> 133711950
K35: ACEPTADA
C39: =+IF(#REF!=TRUE,(#REF!+1)," ") -> #REF!
B40: OBSERVACIONES: 1. Se rechaza proponente Asociación Hogares si a la Vida no presentó formato de propuesta por lo que "4.8.11. Cuando las propuestas presenten situaciones, circunstancias, características o elementos que impidan su comparación objetiva con las demás propuestas" 2. Se rechaza proponente Fundación G3, por modificar items no ofertables 28-32, incurriendo en causal " Cuando los oferentes incluyan condicionamientos diferentes o las actividades ofrecidas no se ajusten a todas y cada una de las actividades, condiciones y especificaciones técnicas descritas en el presente pliego de condiciones.
C49: DAVID ANDRÉS SÁNCHEZ BOGOTÁ
C50: CONTRATISTA

Sheet OFERENTES
B2: 1 | C2: ASOCIACIÓN DE HOGARES SI A LA VIDA
B3: 2 | C3: ASOCOA
B4: 3 | C4: CONSULTORES Y ASESORES TIC
B5: 4 | C5: FUNCITEG
B6: 5 | C6: FUNDACIÓN G3
B7: 6 | C7: FUNDACIÓN OTRO ROLLO SOCIAL

Sheet PRECIOS BAJOS
A1: Position | B1: proveedor | C1: VALOR PROPUESTA LOTE 1 | D1: REQUERIR | E1: JUSTIFICACION
F3: CANTIDAD DE PROPUESTAS | G3: =+COUNTIF(C2:C17,">0") -> 4
A4: =+'PONDERACIÓN '!C27 -> 4 | B4: =+'PONDERACIÓN '!E27 -> FUNCITEG | C4: =+'PONDERACIÓN '!F27 -> 131040950 | D4: =+IF(C4<$G$10,"REQUERIR","OK") -> OK | F4: PROMEDIO | G4: =+AVERAGE(C2:C18) -> 1.296824e+08
A5: =+'PONDERACIÓN '!C28 -> 6 | B5: =+'PONDERACIÓN '!E28 -> FUNDACIÓN OTRO ROLLO SOCIAL | C5: =+'PONDERACIÓN '!F28 -> 130218250 | D5: =+IF(C5<$G$10,"REQUERIR","OK") -> OK | F5: DESVIACION ESTANDAR | G5: =+_xlfn.STDEV.P(C2:C17) -> 1036941.5
A6: =+'PONDERACIÓN '!C29 -> 3 | B6: =+'PONDERACIÓN '!E29 -> CONSULTORES Y ASESORES TIC | C6: =+'PONDERACIÓN '!F29 -> 129167508 | D6: =+IF(C6<$G$10,"REQUERIR","OK") -> OK | F6: MEDIANA | G6: =+MEDIAN(C2:C18) -> 129692879
A7: =+'PONDERACIÓN '!C30 -> 2 | B7: =+'PONDERACIÓN '!E30 -> ASOCOA | C7: =+'PONDERACIÓN '!F30 -> 128302877 | D7: =+IF(C7<$G$10,"REQUERIR","OK") -> OK | F7: PRESUPUESTO OFICIAL | G7: =+'PONDERACIÓN '!H18 -> 133711950
A8: =+'PONDERACIÓN '!C31 -> 5 | B8: =+'PONDERACIÓN '!E31 -> FUNDACIÓN G3 | F8: PORCENTAJE | G8: 0.2
A9: =+'PONDERACIÓN '!C32 -> 1 | B9: =+'PONDERACIÓN '!E32 -> ASOCIACIÓN DE HOGARES SI A LA VIDA | F9: MINIMO ACEPTABLE | G9: =+G6-G5 -> 1.2865594e+08
F10: MINIMO ACEPTABLE < 5 proponentes | G10: =+G7*(1-G8) -> 106969560

Sheet FORMATO 1
A1: ESTUDIO DE MERCADO OBJETO:
A2: Objeto: “DESARROLLAR LAS ACTIVIDADES RECREO DEPORTIVAS Y LOGÍSTICAS QUE SE REQUIERAN PARA LA REALIZACIÓN DEL PROGRAMA TUNJUELITO CROSS HIT GAMES 2024 EN EL MARCO DEL PROYECTO 2037 DENOMINADO POR EL BIENESTAR RECREO DEPORTIVO DE TUNJUELITO”. | S2: 1 | T2: =+VLOOKUP('FORMATO 1'!S2,OFERENTES!$B$2:$D$15,2,FALSE) -> ASOCIACIÓN DE HOGARES SI A LA VIDA | U2: =+VLOOKUP('FORMATO 1'!S2,OFERENTES!$B$2:$D$15,3,FALSE) -> 0 | W2: =+S2+1 -> 2 | X2: =+VLOOKUP('FORMATO 1'!W2,OFERENTES!$B$2:$D$15,2,FALSE) -> ASOCOA | Y2: =+VLOOKUP('FORMATO 1'!W2,OFERENTES!$B$2:$D$15,3,FALSE) -> 0 | AA2: =+W2+1 -> 3 | AB2: =+VLOOKUP('FORMATO 1'!AA2,OFERENTES!$B$2:$D$15,2,FALSE) -> CONSULTORES Y ASESORES TIC | AC2: =+VLOOKUP('FORMATO 1'!AA2,OFERENTES!$B$2:$D$15,3,FALSE) -> 0 | AE2: =+AA2+1 -> 4 | AF2: =+VLOOKUP('FORMATO 1'!AE2,OFERENTES!$B$2:$D$15,2,FALSE) -> FUNCITEG | AG2: =+VLOOKUP('FORMATO 1'!AE2,OFERENTES!$B$2:$D$15,3,FALSE) -> 0 | AI2: =+AE2+1 -> 5 | AJ2: =+VLOOKUP('FORMATO 1'!AI2,OFERENTES!$B$2:$D$15,2,FALSE) -> FUNDACIÓN G3 | AK2: =+VLOOKUP('FORMATO 1'!AI2,OFERENTES!$B$2:$D$15,3,FALSE) -> 0 | AM2: =+AI2+1 -> 6 | AN2: =+VLOOKUP('FORMATO 1'!AM2,OFERENTES!$B$2:$D$15,2,FALSE) -> FUNDACIÓN OTRO ROLLO SOCIAL | AO2: =+VLOOKUP('FORMATO 1'!AM2,OFERENTES!$B$2:$D$15,3,FALSE) -> 0
A3: ITEM | B3: ITEM | C3: DETALLE CONCEPTO | D3: Unidad de Medida | E3: Cot. 01 IVA Incluido | F3: Empresa Cotizante 01 | G3: Cot. 02 IVA Incluido | I3: Cot. 03 IVA Incluido | K3: No. de Cotizaciones | L3: MEDIANA | M3: DESVIACIÓN ESTANDAR | N3: VALOR PROMEDIO UNITARIO IVA INCLUIDO (VIGENCIA 2022) | O3: VALOR UNITARIO IVA INCLUIDO (VIGENCIA 2023) (REDONDEADO AL MÚLTIPLO DE 50 MÁS CERCANO SUPERIOR) | P3: CANTIDAD | Q3: VALOR TOTAL CON IVA | S3: Valor unitario incluido IVA (Si aplica) | T3: Valor unitario incluido IVA (Si aplica) (REDONDEADO | U3: Valor total incluido IVA (Si aplica) | V3: VALIDACIÓN | W3: Valor unitario incluido IVA (Si aplica) | X3: Valor unitario incluido IVA (Si aplica) (REDONDEADO | Y3: Valor total incluido IVA (Si aplica) | Z3: VALIDACIÓN | AA3: Valor unitario incluido IVA (Si aplica) | AB3: Valor unitario incluido IVA (Si aplica) (REDONDEADO | AC3: Valor total incluido IVA (Si aplica) | AD3: VALIDACIÓN | AE3: Valor unitario incluido IVA (Si aplica) | AF3: Valor unitario incluido IVA (Si aplica) (REDONDEADO | AG3: Valor total incluido IVA (Si aplica) | AH3: VALIDACIÓN | AI3: Valor unitario incluido IVA (Si aplica) | AJ3: Valor unitario incluido IVA (Si aplica) (REDONDEADO | AK3: Valor total incluido IVA (Si aplica) | AL3: VALIDACIÓN | AM3: Valor unitario incluido IVA (Si aplica) | AN3: Valor unitario incluido IVA (Si aplica) (REDONDEADO | AO3: Valor total incluido IVA (Si aplica) | AP3: VALIDACIÓN
H4: Empresa Cotizante 02 | J4: Empresa Cotizante 03
A5: 1 | B5: Kit | C5: Kit de despinche: Llave Allen de 2/2,5/3 / 4 / 5 / 6mm Llave de caja de 8 / 9 / 10mm 8 / 10 / 15mm Llave sólida Destornillador de estrella Destornillador recto Tecla de radio 14G Bomba A Una llave inglesa Palanca x2 Parche - bicicleta autoadhesivo, lija de agua y pegante para parches Material: acero superior. Top duro. Peso: 750g Tamaño: Juego de Herramientas Portátil de 21,5X9X5,5 cm | D5: Unid | E5: 49980 | F5: PROPARTES | G5: 59900 | H5: HOMECENTER | I5: 59900 | J5: T&V CICLISMO | K5: =+COUNT(E5,G5,I5) -> 3 | L5: =+MEDIAN(E5,G5,I5) -> 59900 | M5: =+STDEVA(E5,G5,I5) -> 5727.3147 | N5: =+AVERAGE(E5,G5,I5) -> 56593.333 | O5: =_xlfn.CEILING.MATH(N5,50,FALSE) -> 56600 | P5: 210 | Q5: =O5*P5 -> 11886000 | T5: =+ROUND(S5,0) -> 0 | U5: =+T5*$P5 -> 0 | V5: =+IF(OR(T5>$O5,T5=0,U5>$Q5),"RECHAZADO","ACEPTADA") -> RECHAZADO | W5: 53431 | X5: =+ROUND(W5,0) -> 53431 | Y5: =+X5*$P5 -> 11220510 | Z5: =+IF(OR(X5>$O5,X5=0,Y5>$Q5),"RECHAZADO","ACEPTADA") -> ACEPTADA | AA5: 53940 | AB5: =+ROUND(AA5,0) -> 53940 | AC5: =+AB5*$P5 -> 11327400 | AD5: =+IF(OR(AB5>$O5,AB5=0,AC5>$Q5),"RECHAZADO","ACEPTADA") -> ACEPTADA | AE5: 56600 | AF5: =+ROUND(AE5,0) -> 56600 | AG5: =+AF5*$P5 -> 11886000 | AH5: =+IF(OR(AF5>$O5,AF5=0,AG5>$Q5),"RECHAZADO","ACEPTADA") -> ACEPTADA | AI5: 53550 | AJ5: =+ROUND(AI5,0) -> 53550 | AK5: =+AJ5*$P5 -> 11245500 | AL5: =+IF(OR(AJ5>$O5,AJ5=0,AK5>$Q5),"RECHAZADO","ACEPTADA") -> ACEPTADA | AM5: 55000 | AN5: =+ROUND(AM5,0) -> 55000 | AO5: =+AN5*$P5 -> 11550000 | AP5: =+IF(OR(AN5>$O5,AN5=0,AO5>$Q5),"RECHAZADO","ACEPTADA") -> ACEPTADA
A6: 2 | B6: Termo Térmico | C6: Termo térmico personalizado con 2 logos tipos (colores variados) Que puede mantener la tempera caliente o fría Sellado hermético mediante ajuste firme de la tapa Tamaño aproximado de 22.5 cm de alto y 6.5 cm de diámetro con un peso aproximado de 270g Capacidad total de 500 ml. | D6: Unid | E6: =37000*1.19 -> 44030 | F6: ZOOM | G6: =39300*1.19 -> 46767 | H6: M PUBLICIDAD | I6: =28000*1.19 -> 33320 | J6: MULTI COPIAS SHARP | K6: =+COUNT(E6,G6,I6) -> 3 | L6: =+MEDIAN(E6,G6,I6) -> 44030 | M6: =+STDEVA(E6,G6,I6) -> 7106.5355 | N6: =+AVERAGE(E6,G6,I6) -> 41372.333 | O6: =_xlfn.CEILING.MATH(N6,50,FALSE) -> 41400 | P6: 210 | Q6: =O6*P6 -> 8694000 | T6: =+ROUND(S6,0) -> 0 | U6: =+T6*$P6 -> 0 | V6: =+IF(OR(T6>$O6,T6=0,U6>$Q6),"RECHAZADO","ACEPTADA") -> RECHAZADO | W6: 39032 | X6: =+ROUND(W6,0) -> 39032 | Y6: =+X6*$P6 -> 8196720 | Z6: =+IF(OR(X6>$O6,X6=0,Y6>$Q6),"RECHAZADO","ACEPTADA") -> ACEPTADA | AA6: 39454 | AB6: =+ROUND(AA6,0) -> 39454 | AC6: =+AB6*$P6 -> 8285340 | AD6: =+IF(OR(AB6>$O6,AB6=0,AC6>$Q6),"RECHAZADO","ACEPTADA") -> ACEPTADA | AE6: 41400 | AF6: =+ROUND(AE6,0) -> 41400 | AG6: =+AF6*$P6 -> 8694000 | AH6: =+IF(OR(AF6>$O6,AF6=0,AG6>$Q6),"RECHAZADO","ACEPTADA") -> ACEPTADA | AI6: 38675 | AJ6: =+ROUND(AI6,0) -> 38675 | AK6: =+AJ6*$P6 -> 8121750 | AL6: =+IF(OR(AJ6>$O6,AJ6=0,AK6>$Q6),"RECHAZADO","ACEPTADA") -> ACEPTADA | AM6: 38000 | AN6: =+ROUND(AM6,0) -> 38000 | AO6: =+AN6*$P6 -> 7980000 | AP6: =+IF(OR(AN6>$O6,AN6=0,AO6>$Q6),"RECHAZADO","ACEPTADA") -> ACEPTADA
A7: 3 | B7: Gorra tipo safari Safari | C7: Gorra tipo Safari con protección de cuello desmontable Ala ancha con cuello desmontable Diseño unisex Plegable y fácil de transportar Colores surtidos tallas surtidas Material: Ripstop Camuflado Cordón ajustable al cuello o barbilla | D7: Unid | E7: 23900 | F7: VB VELBROS | G7: 24900 | H7: FALABELLA | I7: 24900 | J7: ÉXITO | K7: =+COUNT(E7,G7,I7) -> 3 | L7: =+MEDIAN(E7,G7,I7) -> 24900 | M7: =+STDEVA(E7,G7,I7) -> 577.35027 | N7: =+AVERAGE(E7,G7,I7) -> 24566.667 | O7: =_xlfn.CEILING.MATH(N7,50,FALSE) -> 24600 | P7: 250 | Q7: =O7*P7 -> 6150000 | T7: =+ROUND(S7,0) -> 0 | U7: =+T7*$P7 -> 0 | V7: =+IF(OR(T7>$O7,T7=0,U7>$Q7),"RECHAZADO","ACEPTADA") -> RECHAZADO | W7: 23205 | X7: =+ROUND(W7,0) -> 23205 | Y7: =+X7*$P7 -> 5801250 | Z7: =+IF(OR(X7>$O7,X7=0,Y7>$Q7),"RECHAZADO","ACEPTADA") -> ACEPTADA | AA7: 23444 | AB7: =+ROUND(AA7,0) -> 23444 | AC7: =+AB7*$P7 -> 5861000 | AD7: =+IF(OR(AB7>$O7,AB7=0,AC7>$Q7),"RECHAZADO","ACEPTADA") -> ACEPTADA | AE7: 24600 | AF7: =+ROUND(AE7,0) -> 24600 | AG7: =+AF7*$P7 -> 6150000 | AH7: =+IF(OR(AF7>$O7,AF7=0,AG7>$Q7),"RECHAZADO","ACEPTADA") -> ACEPTADA | AI7: 23800 | AJ7: =+ROUND(AI7,0) -> 23800 | AK7: =+AJ7*$P7 -> 5950000 | AL7: =+IF(OR(AJ7>$O7,AJ7=0,AK7>$Q7),"RECHAZADO","ACEPTADA") -> ACEPTADA | AM7: 23500 | AN7: =+ROUND(AM7,0) -> 23500 | AO7: =+AN7*$P7 -> 5875000 | AP7: =+IF(OR(AN7>$O7,AN7=0,AO7>$Q7),"RECHAZADO","ACEPTADA") -> ACEPTADA
A8: 4 | B8: Camisetas | C8: Camiseta colores surtidos cuello redondo 100% algodón con un estampado tamaño carta en la espalda y 3 logos institucionales (2 al frente tamaño bolsillo y 1 en la espalda parte inferior rectangular) a un solo color (rojo, azul, negro, verde, naranja) | D8: Unid | E8: =28000*1.19 -> 33320 | F8: SENI | G8: 35000 | H8: vintage sas | I8: 38000 | J8: xixa | K8: =+COUNT(E8,G8,I8) -> 3 | L8: =+MEDIAN(E8,G8,I8) -> 35000 | M8: =+STDEVA(E8,G8,I8) -> 2370.8226 | N8: =+AVERAGE(E8,G8,I8) -> 35440 | O8: =_xlfn.CEILING.MATH(N8,50,FALSE) -> 35450 | P8: 250 | Q8: =O8*P8 -> 8862500 | T8: =+ROUND(S8,0) -> 0 | U8: =+T8*$P8 -> 0 | V8: =+IF(OR(T8>$O8,T8=0,U8>$Q8),"RECHAZADO","ACEPTADA") -> RECHAZADO | W8: 33439 | X8: =+ROUND(W8,0) -> 33439 | Y8: =+X8*$P8 -> 8359750 | Z8: =+IF(OR(X8>$O8,X8=0,Y8>$Q8),"RECHAZADO","ACEPTADA") -> ACEPTADA | AA8: 33784 | AB8: =+ROUND(AA8,0) -> 33784 | AC8: =+AB8*$P8 -> 8446000 | AD8: =+IF(OR(AB8>$O8,AB8=0,AC8>$Q8),"RECHAZADO","ACEPTADA") -> ACEPTADA | AE8: 35450 | AF8: =+ROUND(AE8,0) -> 35450 | AG8: =+AF8*$P8 -> 8862500 | AH8: =+IF(OR(AF8>$O8,AF8=0,AG8>$Q8),"RECHAZADO","ACEPTADA") -> ACEPTADA | AI8: 33915 | AJ8: =+ROUND(AI8,0) -> 33915 | AK8: =+AJ8*$P8 -> 8478750 | AL8: =+IF(OR(AJ8>$O8,AJ8=0,AK8>$Q8),"RECHAZADO","ACEPTADA") -> ACEPTADA | AM8: 34500 | AN8: =+ROUND(AM8,0) -> 34500 | AO8: =+AN8*$P8 -> 8625000 | AP8: =+IF(OR(AN8>$O8,AN8=0,AO8>$Q8),"RECHAZADO","ACEPTADA") -> ACEPTADA
A9: 5 | B9: Canguro | C9: Canguro con 2 compartimientos Bolsillo interior 1 Colore surtidos con correa ajustable en Nailon en tela resistente | D9: Unid | E9: 58000 | F9: DECATHLON | G9: 58900 | H9: TOTTO | I9: 54300 | J9: PATICUEROS | K9: =+COUNT(E9,G9,I9) -> 3 | L9: =+MEDIAN(E9,G9,I9) -> 58000 | M9: =+STDEVA(E9,G9,I9) -> 2437.8953 | N9: =+AVERAGE(E9,G9,I9) -> 57066.667 | O9: =_xlfn.CEILING.MATH(N9,50,FALSE) -> 57100 | P9: 200 | Q9: =O9*P9 -> 11420000 | T9: =+ROUND(S9,0) -> 0 | U9: =+T9*$P9 -> 0 | V9: =+IF(OR(T9>$O9,T9=0,U9>$Q9),"RECHAZADO","ACEPTADA") -> RECHAZADO | W9: 53907 | X9: =+ROUND(W9,0) -> 53907 | Y9: =+X9*$P9 -> 10781400 | Z9: =+IF(OR(X9>$O9,X9=0,Y9>$Q9),"RECHAZADO","ACEPTADA") -> ACEPTADA | AA9: 54416 | AB9: =+ROUND(AA9,0) -> 54416 | AC9: =+AB9*$P9 -> 10883200 | AD9: =+IF(OR(AB9>$O9,AB9=0,AC9>$Q9),"RECHAZADO","ACEPTADA") -> ACEPTADA | AE9: 51000 | AF9: =+ROUND(AE9,0) -> 51000 | AG9: =+AF9*$P9 -> 10200000 | AH9: =+IF(OR(AF9>$O9,AF9=0,AG9>$Q9),"RECHAZADO","ACEPTADA") -> ACEPTADA | AI9: 53550 | AJ9: =+ROUND(AI9,0) -> 53550 | AK9: =+AJ9*$P9 -> 10710000 | AL9: =+IF(OR(AJ9>$O9,AJ9=0,AK9>$Q9),"RECHAZADO","ACEPTADA") -> ACEPTADA | AM9: 55000 | AN9: =+ROUND(AM9,0) -> 55000 | AO9: =+AN9*$P9 -> 11000000 | AP9: =+IF(OR(AN9>$O9,AN9=0,AO9>$Q9),"RECHAZADO","ACEPTADA") -> ACEPTADA
A10: 6 | B10: Caja de sobres de Bloqueadores | C10: cajas de 12 Sobre de protector solar de 100 resistente al agua y al sudor sobres de 10 ML | D10: Unid | E10: 42000 | F10: LOPIDO | G10: 38900 | H10: MIS VITAMINAS | I10: 39900 | J10: TU DROGUERIA | K10: =+COUNT(E10,G10,I10) -> 3 | L10: =+MEDIAN(E10,G10,I10) -> 39900 | M10: =+STDEVA(E10,G10,I10) -> 1582.1926 | N10: =+AVERAGE(E10,G10,I10) -> 40266.667 | O10: =_xlfn.CEILING.MATH(N10,50,FALSE) -> 40300 | P10: 20 | Q10: =O10*P10 -> 806000 | T10: =+ROUND(S10,0) -> 0 | U10: =+T10*$P10 -> 0 | V10: =+IF(OR(T10>$O10,T10=0,U10>$Q10),"RECHAZADO","ACEPTADA") -> RECHAZADO | W10: 38080 | X10: =+ROUND(W10,0) -> 38080 | Y10: =+X10*$P10 -> 761600 | Z10: =+IF(OR(X10>$O10,X10=0,Y10>$Q10),"RECHAZADO","ACEPTADA") -> ACEPTADA | AA10: 38406 | AB10: =+ROUND(AA10,0) -> 38406 | AC10: =+AB10*$P10 -> 768120 | AD10: =+IF(OR(AB10>$O10,AB10=0,AC10>$Q10),"RECHAZADO","ACEPTADA") -> ACEPTADA | AE10: 40300 | AF10: =+ROUND(AE10,0) -> 40300 | AG10: =+AF10*$P10 -> 806000 | AH10: =+IF(OR(AF10>$O10,AF10=0,AG10>$Q10),"RECHAZADO","ACEPTADA") -> ACEPTADA | AI10: 40222 | AJ10: =+ROUND(AI10,0) -> 40222 | AK10: =+AJ10*$P10 -> 804440 | AL10: =+IF(OR(AJ10>$O10,AJ10=0,AK10>$Q10),"RECHAZADO","ACEPTADA") -> ACEPTADA | AM10: 39270 | AN10: =+ROUND(AM10,0) -> 39270 | AO10: =+AN10*$P10 -> 785400 | AP10: =+IF(OR(AN10>$O10,AN10=0,AO10>$Q10),"RECHAZADO","ACEPTADA") -> ACEPTADA
A11: 7 | B11: Hidratación | C11: Botellones de agua de 20 litros | D11: Unid | E11: 11672 | F11: JUMBO | G11: 14000 | H11: OLIMPICA | I11: 13900 | J11: MERCA CENTRO | K11: =+COUNT(E11,G11,I11) -> 3 | L11: =+MEDIAN(E11,G11,I11) -> 13900 | M11: =+STDEVA(E11,G11,I11) -> 1316.154 | N11: =+AVERAGE(E11,G11,I11) -> 13190.667 | O11: =_xlfn.CEILING.MATH(N11,50,FALSE) -> 13200 | P11: 40 | Q11: =O11*P11 -> 528000 | T11: =+ROUND(S11,0) -> 0 | U11: =+T11*$P11 -> 0 | V11: =+IF(OR(T11>$O11,T11=0,U11>$Q11),"RECHAZADO","ACEPTADA") -> RECHAZADO | W11: 12495 | X11: =+ROUND(W11,0) -> 12495 | Y11: =+X11*$P11 -> 499800 | Z11: =+IF(OR(X11>$O11,X11=0,Y11>$Q11),"RECHAZADO","ACEPTADA") -> ACEPTADA | AA11: 12580 | AB11: =+ROUND(AA11,0) -> 12580 | AC11: =+AB11*$P11 -> 503200 | AD11: =+IF(OR(AB11>$O11,AB11=0,AC11>$Q11),"RECHAZADO","ACEPTADA") -> ACEPTADA | AE11: 13200 | AF11: =+ROUND(AE11,0) -> 13200 | AG11: =+AF11*$P11 -> 528000 | AH11: =+IF(OR(AF11>$O11,AF11=0,AG11>$Q11),"RECHAZADO","ACEPTADA") -> ACEPTADA | AI11: 13090 | AJ11: =+ROUND(AI11,0) -> 13090 | AK11: =+AJ11*$P11 -> 523600 | AL11: =+IF(OR(AJ11>$O11,AJ11=0,AK11>$Q11),"RECHAZADO","ACEPTADA") -> ACEPTADA | AM11: 13090 | AN11: =+ROUND(AM11,0) -> 13090 | AO11: =+AN11*$P11 -> 523600 | AP11: =+IF(OR(AN11>$O11,AN11=0,AO11>$Q11),"RECHAZADO","ACEPTADA") -> ACEPTADA
A12: 8 | B12: refrigerios | C12: Un sólido: Un pastel de pollo o sándwich, jugo o avena en la caja, fruta (manzana, pera, durazno, banano, mandarina) y dulce de chocolate. Que cumpla con las normas de Bioseguridad - Empacado en bolsa de papel | D12: Unid | E12: 9500 | F12: MAQUIEVENTOS | G12: 11000 | H12: HACIENDA EL REFUGIO | I12: 12000 | J12: ICOMER | K12: =+COUNT(E12,G12,I12) -> 3 | L12: =+MEDIAN(E12,G12,I12) -> 11000 | M12: =+STDEVA(E12,G12,I12) -> 1258.3057 | N12: =+AVERAGE(E12,G12,I12) -> 10833.333 | O12: =_xlfn.CEILING.MATH(N12,50,FALSE) -> 10850 | P12: 460 | Q12: =O12*P12 -> 4991000 | T12: =+ROUND(S12,0) -> 0 | U12: =+T12*$P12 -> 0 | V12: =+IF(OR(T12>$O12,T12=0,U12>$Q12),"RECHAZADO","ACEPTADA") -> RECHAZADO | W12: 10234 | X12: =+ROUND(W12,0) -> 10234 | Y12: =+X12*$P12 -> 4707640 | Z12: =+IF(OR(X12>$O12,X12=0,Y12>$Q12),"RECHAZADO","ACEPTADA") -> ACEPTADA | AA12: 10340 | AB12: =+ROUND(AA12,0) -> 10340 | AC12: =+AB12*$P12 -> 4756400 | AD12: =+IF(OR(AB12>$O12,AB12=0,AC12>$Q12),"RECHAZADO","ACEPTADA") -> ACEPTADA | AE12: 9000 | AF12: =+ROUND(AE12,0) -> 9000 | AG12: =+AF12*$P12 -> 4140000 | AH12: =+IF(OR(AF12>$O12,AF12=0,AG12>$Q12),"RECHAZADO","ACEPTADA") -> ACEPTADA | AI12: 10710 | AJ12: =+ROUND(AI12,0) -> 10710 | AK12: =+AJ12*$P12 -> 4926600 | AL12: =+IF(OR(AJ12>$O12,AJ12=0,AK12>$Q12),"RECHAZADO","ACEPTADA") -> ACEPTADA | AM12: 10700 | AN12: =+ROUND(AM12,0) -> 10700 | AO12: =+AN12*$P12 -> 4922000 | AP12: =+IF(OR(AN12>$O12,AN12=0,AO12>$Q12),"RECHAZADO","ACEPTADA") -> ACEPTADA
A13: 9 | B13: Sonido | C13: parlante 8” pulgadas, activa inalámbrica, de batería recargable, con cable de carga, entrada de audio, radio FM, entrada de micrófono, conexión TWS, Bluetooth, control remoto, Entrada de USB y Micro SD, pantalla digital, reproductor de MP3, 8.000 W (PMPO), dimensiones (Largo*Ancho*Alto) = 24*21*39cm aproximadamente con diadema | D13: Unid | E13: 280900 | F13: MUY VACANO | G13: 282900 | H13: FALABELLA | I13: 329900 | J13: PROSOUND | K13: =+COUNT(E13,G13,I13) -> 3 | L13: =+MEDIAN(E13,G13,I13) -> 282900 | M13: =+STDEVA(E13,G13,I13) -> 27730.849 | N13: =+AVERAGE(E13,G13,I13) -> 297900 | O13: =_xlfn.CEILING.MATH(N13,50,FALSE) -> 297900 | P13: 2 | Q13: =O13*P13 -> 595800 | T13: =+ROUND(S13,0) -> 0 | U13: =+T13*$P13 -> 0 | V13: =+IF(OR(T13>$O13,T13=0,U13>$Q13),"RECHAZADO","ACEPTADA") -> RECHAZADO | W13: 281316 | X13: =+ROUND(W13,0) -> 281316 | Y13: =+X13*$P13 -> 562632 | Z13: =+IF(OR(X13>$O13,X13=0,Y13>$Q13),"RECHAZADO","ACEPTADA") -> ACEPTADA | AA13: 283899 | AB13: =+ROUND(AA13,0) -> 283899 | AC13: =+AB13*$P13 -> 567798 | AD13: =+IF(OR(AB13>$O13,AB13=0,AC13>$Q13),"RECHAZADO","ACEPTADA") -> ACEPTADA | AE13: 297900 | AF13: =+ROUND(AE13,0) -> 297900 | AG13: =+AF13*$P13 -> 595800 | AH13: =+IF(OR(AF13>$O13,AF13=0,AG13>$Q13),"RECHAZADO","ACEPTADA") -> ACEPTADA | AI13: 297857 | AJ13: =+ROUND(AI13,0) -> 297857 | AK13: =+AJ13*$P13 -> 595714 | AL13: =+IF(OR(AJ13>$O13,AJ13=0,AK13>$Q13),"RECHAZADO","ACEPTADA") -> ACEPTADA | AM13: 285600 | AN13: =+ROUND(AM13,0) -> 285600 | AO13: =+AN13*$P13 -> 571200 | AP13: =+IF(OR(AN13>$O13,AN13=0,AO13>$Q13),"RECHAZADO","ACEPTADA") -> ACEPTADA
A14: 10 | B14: Diadema | C14: Micrófono Diadema Alámbrico Para Amplificador De Voz /clase. | D14: Unid | E14: 141900 | F14: MUSIC BOX | G14: 142990 | H14: PROSOUND | I14: 145000 | J14: SONO MARCAS | K14: =+COUNT(E14,G14,I14) -> 3 | L14: =+MEDIAN(E14,G14,I14) -> 142990 | M14: =+STDEVA(E14,G14,I14) -> 1572.5881 | N14: =+AVERAGE(E14,G14,I14) -> 143296.67 | O14: =_xlfn.CEILING.MATH(N14,50,FALSE) -> 143300 | P14: 2 | Q14: =O14*P14 -> 286600 | T14: =+ROUND(S14,0) -> 0 | U14: =+T14*$P14 -> 0 | V14: =+IF(OR(T14>$O14,T14=0,U14>$Q14),"RECHAZADO","ACEPTADA") -> RECHAZADO | W14: 135303 | X14: =+ROUND(W14,0) -> 135303 | Y14: =+X14*$P14 -> 270606 | Z14: =+IF(OR(X14>$O14,X14=0,Y14>$Q14),"RECHAZADO","ACEPTADA") -> ACEPTADA | AA14: 136565 | AB14: =+ROUND(AA14,0) -> 136565 | AC14: =+AB14*$P14 -> 273130 | AD14: =+IF(OR(AB14>$O14,AB14=0,AC14>$Q14),"RECHAZADO","ACEPTADA") -> ACEPTADA | AE14: 143300 | AF14: =+ROUND(AE14,0) -> 143300 | AG14: =+AF14*$P14 -> 286600 | AH14: =+IF(OR(AF14>$O14,AF14=0,AG14>$Q14),"RECHAZADO","ACEPTADA") -> ACEPTADA | AI14: 143276 | AJ14: =+ROUND(AI14,0) -> 143276 | AK14: =+AJ14*$P14 -> 286552 | AL14: =+IF(OR(AJ14>$O14,AJ14=0,AK14>$Q14),"RECHAZADO","ACEPTADA") -> ACEPTADA | AM14: 136000 | AN14: =+ROUND(AM14,0) -> 136000 | AO14: =+AN14*$P14 -> 272000 | AP14: =+IF(OR(AN14>$O14,AN14=0,AO14>$Q14),"RECHAZADO","ACEPTADA") -> ACEPTADA
A15: 11 | B15: Numeración | C15: Numeración de carrera en tela cómoda color blanco, números estampados Tamaño: 18 x 15 cms. Perforados en 4 esquinas. Con 1 logo tipo | D15: Unid | E15: 18000 | F15: AGENCIA DE DISEÑO | G15: 18000 | H15: MULTI COPIAS | K15: =+COUNT(E15,G15,I15) -> 2 | L15: =+MEDIAN(E15,G15,I15) -> 18000 | M15: =+STDEVA(E15,G15,I15) -> 0 | N15: =+AVERAGE(E15,G15,I15) -> 18000 | O15: =_xlfn.CEILING.MATH(N15,50,FALSE) -> 18000 | P15: 200 | Q15: =O15*P15 -> 3600000 | T15: =+ROUND(S15,0) -> 0 | U15: =+T15*$P15 -> 0 | V15: =+IF(OR(T15>$O15,T15=0,U15>$Q15),"RECHAZADO","ACEPTADA") -> RECHAZADO | W15: 17017 | X15: =+ROUND(W15,0) -> 17017 | Y15: =+X15*$P15 -> 3403400 | Z15: =+IF(OR(X15>$O15,X15=0,Y15>$Q15),"RECHAZADO","ACEPTADA") -> ACEPTADA | AA15: 17154 | AB15: =+ROUND(AA15,0) -> 17154 | AC15: =+AB15*$P15 -> 3430800 | AD15: =+IF(OR(AB15>$O15,AB15=0,AC15>$Q15),"RECHAZADO","ACEPTADA") -> ACEPTADA | AE15: 15000 | AF15: =+ROUND(AE15,0) -> 15000 | AG15: =+AF15*$P15 -> 3000000 | AH15: =+IF(OR(AF15>$O15,AF15=0,AG15>$Q15),"RECHAZADO","ACEPTADA") -> ACEPTADA | AI15: 17969 | AJ15: =+ROUND(AI15,0) -> 17969 | AK15: =+AJ15*$P15 -> 3593800 | AL15: =+IF(OR(AJ15>$O15,AJ15=0,AK15>$Q15),"RECHAZADO","ACEPTADA") -> ACEPTADA | AM15: 17500 | AN15: =+ROUND(AM15,0) -> 17500 | AO15: =+AN15*$P15 -> 3500000 | AP15: =+IF(OR(AN15>$O15,AN15=0,AO15>$Q15),"RECHAZADO","ACEPTADA") -> ACEPTADA
A16: 12 | B16: Bolsas de basura | C16: Rollo de bolsas de basura de 90*120 por 10 unidades re alta resistencia | D16: Unid | E16: 11790 | F16: MEGATIENDAS | G16: 12600 | H16: ILKO | I16: 8790 | J16: ESTRA | K16: =+COUNT(E16,G16,I16) -> 3 | L16: =+MEDIAN(E16,G16,I16) -> 11790 | M16: =+STDEVA(E16,G16,I16) -> 2007.1622 | N16: =+AVERAGE(E16,G16,I16) -> 11060 | O16: =_xlfn.CEILING.MATH(N16,50,FALSE) -> 11100 | P16: 40 | Q16: =O16*P16 -> 444000 | T16: =+ROUND(S16,0) -> 0 | U16: =+T16*$P16 -> 0 | V16: =+IF(OR(T16>$O16,T16=0,U16>$Q16),"RECHAZADO","ACEPTADA") -> RECHAZADO | W16: 10472 | X16: =+ROUND(W16,0) -> 10472 | Y16: =+X16*$P16 -> 418880 | Z16: =+IF(OR(X16>$O16,X16=0,Y16>$Q16),"RECHAZADO","ACEPTADA") -> ACEPTADA | AA16: 10578 | AB16: =+ROUND(AA16,0) -> 10578 | AC16: =+AB16*$P16 -> 423120 | AD16: =+IF(OR(AB16>$O16,AB16=0,AC16>$Q16),"RECHAZADO","ACEPTADA") -> ACEPTADA | AE16: 11100 | AF16: =+ROUND(AE16,0) -> 11100 | AG16: =+AF16*$P16 -> 444000 | AH16: =+IF(OR(AF16>$O16,AF16=0,AG16>$Q16),"RECHAZADO","ACEPTADA") -> ACEPTADA | AI16: 11067 | AJ16: =+ROUND(AI16,0) -> 11067 | AK16: =+AJ16*$P16 -> 442680 | AL16: =+IF(OR(AJ16>$O16,AJ16=0,AK16>$Q16),"RECHAZADO","ACEPTADA") -> ACEPTADA | AM16: 10600 | AN16: =+ROUND(AM16,0) -> 10600 | AO16: =+AN16*$P16 -> 424000 | AP16: =+IF(OR(AN16>$O16,AN16=0,AO16>$Q16),"RECHAZADO","ACEPTADA") -> ACEPTADA
A17: 13 | B17: Guantes | C17: Par guantes Industriales De Trabajo Material: tela, goma Antideslizante. | D17: Unid | E17: 11200 | F17: FERRESOL | G17: 12870 | H17: FULL MINERIA | I17: 18000 | J17: EPP CARTAGENA | K17: =+COUNT(E17,G17,I17) -> 3 | L17: =+MEDIAN(E17,G17,I17) -> 12870 | M17: =+STDEVA(E17,G17,I17) -> 3543.6751 | N17: =+AVERAGE(E17,G17,I17) -> 14023.333 | O17: =_xlfn.CEILING.MATH(N17,50,FALSE) -> 14050 | P17: 200 | Q17: =O17*P17 -> 2810000 | T17: =+ROUND(S17,0) -> 0 | U17: =+T17*$P17 -> 0 | V17: =+IF(OR(T17>$O17,T17=0,U17>$Q17),"RECHAZADO","ACEPTADA") -> RECHAZADO | W17: 13328 | X17: =+ROUND(W17,0) -> 13328 | Y17: =+X17*$P17 -> 2665600 | Z17: =+IF(OR(X17>$O17,X17=0,Y17>$Q17),"RECHAZADO","ACEPTADA") -> ACEPTADA | AA17: 13390 | AB17: =+ROUND(AA17,0) -> 13390 | AC17: =+AB17*$P17 -> 2678000 | AD17: =+IF(OR(AB17>$O17,AB17=0,AC17>$Q17),"RECHAZADO","ACEPTADA") -> ACEPTADA | AE17: 14050 | AF17: =+ROUND(AE17,0) -> 14050 | AG17: =+AF17*$P17 -> 2810000 | AH17: =+IF(OR(AF17>$O17,AF17=0,AG17>$Q17),"RECHAZADO","ACEPTADA") -> ACEPTADA | AI17: 13685 | AJ17: =+ROUND(AI17,0) -> 13685 | AK17: =+AJ17*$P17 -> 2737000 | AL17: =+IF(OR(AJ17>$O17,AJ17=0,AK17>$Q17),"RECHAZADO","ACEPTADA") -> ACEPTADA | AM17: 13000 | AN17: =+ROUND(AM17,0) -> 13000 | AO17: =+AN17*$P17 -> 2600000 | AP17: =+IF(OR(AN17>$O17,AN17=0,AO17>$Q17),"RECHAZADO","ACEPTADA") -> ACEPTADA
A18: 14 | B18: Pinzas de recolección | C18: Clip Largo De Recolección De Basura Plegable Multifuncional material en platico o aluminio | D18: Unid | E18: 28900 | F18: FALABELLA | G18: 39900 | H18: GRUPO COMERCIAL | I18: 55512 | J18: SHOPEE | K18: =+COUNT(E18,G18,I18) -> 3 | L18: =+MEDIAN(E18,G18,I18) -> 39900 | M18: =+STDEVA(E18,G18,I18) -> 13372.441 | N18: =+AVERAGE(E18,G18,I18) -> 41437.333 | O18: =_xlfn.CEILING.MATH(N18,50,FALSE) -> 41450 | P18: 95 | Q18: =O18*P18 -> 3937750 | T18: =+ROUND(S18,0) -> 0 | U18: =+T18*$P18 -> 0 | V18: =+IF(OR(T18>$O18,T18=0,U18>$Q18),"RECHAZADO","ACEPTADA") -> RECHAZADO | W18: 39151 | X18: =+ROUND(W18,0) -> 39151 | Y18: =+X18*$P18 -> 3719345 | Z18: =+IF(OR(X18>$O18,X18=0,Y18>$Q18),"RECHAZADO","ACEPTADA") -> ACEPTADA | AA18: 39502 | AB18: =+ROUND(AA18,0) -> 39502 | AC18: =+AB18*$P18 -> 3752690 | AD18: =+IF(OR(AB18>$O18,AB18=0,AC18>$Q18),"RECHAZADO","ACEPTADA") -> ACEPTADA | AE18: 41450 | AF18: =+ROUND(AE18,0) -> 41450 | AG18: =+AF18*$P18 -> 3937750 | AH18: =+IF(OR(AF18>$O18,AF18=0,AG18>$Q18),"RECHAZADO","ACEPTADA") -> ACEPTADA | AI18: 41412 | AJ18: =+ROUND(AI18,0) -> 41412 | AK18: =+AJ18*$P18 -> 3934140 | AL18: =+IF(OR(AJ18>$O18,AJ18=0,AK18>$Q18),"RECHAZADO","ACEPTADA") -> ACEPTADA | AM18: 40450 | AN18: =+ROUND(AM18,0) -> 40450 | AO18: =+AN18*$P18 -> 3842750 | AP18: =+IF(OR(AN18>$O18,AN18=0,AO18>$Q18),"RECHAZADO","ACEPTADA") -> ACEPTADA
A19: 15 | B19: Canchas mini tejo | C19: Alquiler Canchas de mini tejo en plastilina con sus respectivos tejos y mechas | D19: Unid | E19: =53000*1.19 -> 63070 | F19: AKIRENTO | G19: =70000*1.19 -> 83300 | H19: TEJO & RANA | I19: =75000*1.19 -> 89250 | J19: FARAON EVENTOS | K19: =+COUNT(E19,G19,I19) -> 3 | L19: =+MEDIAN(E19,G19,I19) -> 83300 | M19: =+STDEVA(E19,G19,I19) -> 13723.749 | N19: =+AVERAGE(E19,G19,I19) -> 78540 | O19: =_xlfn.CEILING.MATH(N19,50,FALSE) -> 78550 | P19: 10 | Q19: =O19*P19 -> 785500 | T19: =+ROUND(S19,0) -> 0 | U19: =+T19*$P19 -> 0 | V19: =+IF(OR(T19>$O19,T19=0,U19>$Q19),"RECHAZADO","ACEPTADA") -> RECHAZADO | W19: 74137 | X19: =+ROUND(W19,0) -> 74137 | Y19: =+X19*$P19 -> 741370 | Z19: =+IF(OR(X19>$O19,X19=0,Y19>$Q19),"RECHAZADO","ACEPTADA") -> ACEPTADA | AA19: 74858 | AB19: =+ROUND(AA19,0) -> 74858 | AC19: =+AB19*$P19 -> 748580 | AD19: =+IF(OR(AB19>$O19,AB19=0,AC19>$Q19),"RECHAZADO","ACEPTADA") -> ACEPTADA | AE19: 78550 | AF19: =+ROUND(AE19,0) -> 78550 | AG19: =+AF19*$P19 -> 785500 | AH19: =+IF(OR(AF19>$O19,AF19=0,AG19>$Q19),"RECHAZADO","ACEPTADA") -> ACEPTADA | AI19: 78540 | AJ19: =+ROUND(AI19,0) -> 78540 | AK19: =+AJ19*$P19 -> 785400 | AL19: =+IF(OR(AJ19>$O19,AJ19=0,AK19>$Q19),"RECHAZADO","ACEPTADA") -> ACEPTADA | AM19: 74970 | AN19: =+ROUND(AM19,0) -> 74970 | AO19: =+AN19*$P19 -> 749700 | AP19: =+IF(OR(AN19>$O19,AN19=0,AO19>$Q19),"RECHAZADO","ACEPTADA") -> ACEPTADA
A20: 16 | B20: Boliranas | C20: Alquiler Juegos de Boliranas con sus respectivas esferas y tableros electrónicos | D20: Unid | E20: =100000*1.19 -> 119000 | F20: AKIRENTO | G20: =180000*1.19 -> 214200 | H20: ALTO IMPACTO | I20: 200000 | J20: xixa | K20: =+COUNT(E20,G20,I20) -> 3 | L20: =+MEDIAN(E20,G20,I20) -> 200000 | M20: =+STDEVA(E20,G20,I20) -> 51357.7 | N20: =+AVERAGE(E20,G20,I20) -> 177733.33 | O20: =_xlfn.CEILING.MATH(N20,50,FALSE) -> 177750 | P20: 10 | Q20: =O20*P20 -> 1777500 | T20: =+ROUND(S20,0) -> 0 | U20: =+T20*$P20 -> 0 | V20: =+IF(OR(T20>$O20,T20=0,U20>$Q20),"RECHAZADO","ACEPTADA") -> RECHAZADO | W20: 167909 | X20: =+ROUND(W20,0) -> 167909 | Y20: =+X20*$P20 -> 1679090 | Z20: =+IF(OR(X20>$O20,X20=0,Y20>$Q20),"RECHAZADO","ACEPTADA") -> ACEPTADA | AA20: 169396 | AB20: =+ROUND(AA20,0) -> 169396 | AC20: =+AB20*$P20 -> 1693960 | AD20: =+IF(OR(AB20>$O20,AB20=0,AC20>$Q20),"RECHAZADO","ACEPTADA") -> ACEPTADA | AE20: 177750 | AF20: =+ROUND(AE20,0) -> 177750 | AG20: =+AF20*$P20 -> 1777500 | AH20: =+IF(OR(AF20>$O20,AF20=0,AG20>$Q20),"RECHAZADO","ACEPTADA") -> ACEPTADA | AI20: 172550 | AJ20: =+ROUND(AI20,0) -> 172550 | AK20: =+AJ20*$P20 -> 1725500 | AL20: =+IF(OR(AJ20>$O20,AJ20=0,AK20>$Q20),"RECHAZADO","ACEPTADA") -> ACEPTADA | AM20: 166600 | AN20: =+ROUND(AM20,0) -> 166600 | AO20: =+AN20*$P20 -> 1666000 | AP20: =+IF(OR(AN20>$O20,AN20=0,AO20>$Q20),"RECHAZADO","ACEPTADA") -> ACEPTADA
A21: 17 | B21: mechas | C21: Paquete de mechas en forma triangular | D21: Unid | E21: 22000 | F21: JUEGOS TACHO | G21: 28000 | H21: MUNDO COLOMBIA | K21: =+COUNT(E21,G21,I21) -> 2 | L21: =+MEDIAN(E21,G21,I21) -> 25000 | M21: =+STDEVA(E21,G21,I21) -> 4242.6407 | N21: =+AVERAGE(E21,G21,I21) -> 25000 | O21: =_xlfn.CEILING.MATH(N21,50,FALSE) -> 25000 | P21: 10 | Q21: =O21*P21 -> 250000 | T21: =+ROUND(S21,0) -> 0 | U21: =+T21*$P21 -> 0 | V21: =+IF(OR(T21>$O21,T21=0,U21>$Q21),"RECHAZADO","ACEPTADA") -> RECHAZADO | W21: 23562 | X21: =+ROUND(W21,0) -> 23562 | Y21: =+X21*$P21 -> 235620 | Z21: =+IF(OR(X21>$O21,X21=0,Y21>$Q21),"RECHAZADO","ACEPTADA") -> ACEPTADA | AA21: 23825 | AB21: =+ROUND(AA21,0) -> 23825 | AC21: =+AB21*$P21 -> 238250 | AD21: =+IF(OR(AB21>$O21,AB21=0,AC21>$Q21),"RECHAZADO","ACEPTADA") -> ACEPTADA | AE21: 25000 | AF21: =+ROUND(AE21,0) -> 25000 | AG21: =+AF21*$P21 -> 250000 | AH21: =+IF(OR(AF21>$O21,AF21=0,AG21>$Q21),"RECHAZADO","ACEPTADA") -> ACEPTADA | AI21: 24990 | AJ21: =+ROUND(AI21,0) -> 24990 | AK21: =+AJ21*$P21 -> 249900 | AL21: =+IF(OR(AJ21>$O21,AJ21=0,AK21>$Q21),"RECHAZADO","ACEPTADA") -> ACEPTADA | AM21: 23800 | AN21: =+ROUND(AM21,0) -> 23800 | AO21: =+AN21*$P21 -> 238000 | AP21: =+IF(OR(AN21>$O21,AN21=0,AO21>$Q21),"RECHAZADO","ACEPTADA") -> ACEPTADA
A22: 18 | B22: Plastilina | C22: Plastilina industrial para canchas de tejo color azul | D22: Unid 1 KL | E22: 15000 | F22: PANAFARGO | G22: 14580 | H22: AL CARRITO | I22: 16900 | J22: MARIN PAPELERIA | K22: =+COUNT(E22,G22,I22) -> 3 | L22: =+MEDIAN(E22,G22,I22) -> 15000 | M22: =+STDEVA(E22,G22,I22) -> 1236.1769 | N22: =+AVERAGE(E22,G22,I22) -> 15493.333 | O22: =_xlfn.CEILING.MATH(N22,50,FALSE) -> 15500 | P22: 10 | Q22: =O22*P22 -> 155000 | T22: =+ROUND(S22,0) -> 0 | U22: =+T22*$P22 -> 0 | V22: =+IF(OR(T22>$O22,T22=0,U22>$Q22),"RECHAZADO","ACEPTADA") -> RECHAZADO | W22: 14637 | X22: =+ROUND(W22,0) -> 14637 | Y22: =+X22*$P22 -> 146370 | Z22: =+IF(OR(X22>$O22,X22=0,Y22>$Q22),"RECHAZADO","ACEPTADA") -> ACEPTADA | AA22: 14772 | AB22: =+ROUND(AA22,0) -> 14772 | AC22: =+AB22*$P22 -> 147720 | AD22: =+IF(OR(AB22>$O22,AB22=0,AC22>$Q22),"RECHAZADO","ACEPTADA") -> ACEPTADA | AE22: 15500 | AF22: =+ROUND(AE22,0) -> 15500 | AG22: =+AF22*$P22 -> 155000 | AH22: =+IF(OR(AF22>$O22,AF22=0,AG22>$Q22),"RECHAZADO","ACEPTADA") -> ACEPTADA | AI22: 15470 | AJ22: =+ROUND(AI22,0) -> 15470 | AK22: =+AJ22*$P22 -> 154700 | AL22: =+IF(OR(AJ22>$O22,AJ22=0,AK22>$Q22),"RECHAZADO","ACEPTADA") -> ACEPTADA | AM22: 14180 | AN22: =+ROUND(AM22,0) -> 14180 | AO22: =+AN22*$P22 -> 141800 | AP22: =+IF(OR(AN22>$O22,AN22=0,AO22>$Q22),"RECHAZADO","ACEPTADA") -> ACEPTADA
A23: 19 | B23: Almuerzos | C23: Una proteína (Carne de res, pollo o carne de cerdo), un principio (Lenteja, Frijol o pasta), ensalada, porción de arroz y papa. Jugo (Mora, limonada maracuyá) Postre (Gelatina, natilla o torta) | D23: Unid | E23: 25000 | F23: RESTAURANTE LA DANZA DEL CHIVO | G23: 20000 | H23: RESTAURANTE Y PESCADERIA MAR Y TIERRA | I23: 21420 | J23: melin sas | K23: =+COUNT(E23,G23,I23) -> 3 | L23: =+MEDIAN(E23,G23,I23) -> 21420 | M23: =+STDEVA(E23,G23,I23) -> 2576.5869 | N23: =+AVERAGE(E23,G23,I23) -> 22140 | O23: =_xlfn.CEILING.MATH(N23,50,FALSE) -> 22150 | P23: 460 | Q23: =O23*P23 -> 10189000 | T23: =+ROUND(S23,0) -> 0 | U23: =+T23*$P23 -> 0 | V23: =+IF(OR(T23>$O23,T23=0,U23>$Q23),"RECHAZADO","ACEPTADA") -> RECHAZADO | W23: 20944 | X23: =+ROUND(W23,0) -> 20944 | Y23: =+X23*$P23 -> 9634240 | Z23: =+IF(OR(X23>$O23,X23=0,Y23>$Q23),"RECHAZADO","ACEPTADA") -> ACEPTADA | AA23: 21109 | AB23: =+ROUND(AA23,0) -> 21109 | AC23: =+AB23*$P23 -> 9710140 | AD23: =+IF(OR(AB23>$O23,AB23=0,AC23>$Q23),"RECHAZADO","ACEPTADA") -> ACEPTADA | AE23: 22150 | AF23: =+ROUND(AE23,0) -> 22150 | AG23: =+AF23*$P23 -> 10189000 | AH23: =+IF(OR(AF23>$O23,AF23=0,AG23>$Q23),"RECHAZADO","ACEPTADA") -> ACEPTADA | AI23: 22015 | AJ23: =+ROUND(AI23,0) -> 22015 | AK23: =+AJ23*$P23 -> 10126900 | AL23: =+IF(OR(AJ23>$O23,AJ23=0,AK23>$Q23),"RECHAZADO","ACEPTADA") -> ACEPTADA | AM23: 21600 | AN23: =+ROUND(AM23,0) -> 21600 | AO23: =+AN23*$P23 -> 9936000 | AP23: =+IF(OR(AN23>$O23,AN23=0,AO23>$Q23),"RECHAZADO","ACEPTADA") -> ACEPTADA
A24: 20 | B24: Piscina | C24: Centro felicidad CEFE –Piscina recreativa para actividad (Esta se paga de acuerdo al PAE del IDRD) | D24: Jornada carril | E24: 291200 | F24: PAE - IDRD | K24: =+COUNT(E24,G24,I24) -> 1 | L24: =+MEDIAN(E24,G24,I24) -> 291200 | M24: =+STDEVA(E24,G24,I24) -> #DIV/0! | N24: =+AVERAGE(E24,G24,I24) -> 291200 | O24: =_xlfn.CEILING.MATH(N24,50,FALSE) -> 291200 | P24: 8 | Q24: =O24*P24 -> 2329600 | T24: =+ROUND(S24,0) -> 0 | U24: =+T24*$P24 -> 0 | V24: =+IF(OR(T24>$O24,T24=0,U24>$Q24),"RECHAZADO","ACEPTADA") -> RECHAZADO | W24: 275009 | X24: =+ROUND(W24,0) -> 275009 | Y24: =+X24*$P24 -> 2200072 | Z24: =+IF(OR(X24>$O24,X24=0,Y24>$Q24),"RECHAZADO","ACEPTADA") -> ACEPTADA | AA24: 277514 | AB24: =+ROUND(AA24,0) -> 277514 | AC24: =+AB24*$P24 -> 2220112 | AD24: =+IF(OR(AB24>$O24,AB24=0,AC24>$Q24),"RECHAZADO","ACEPTADA") -> ACEPTADA | AE24: 291200 | AF24: =+ROUND(AE24,0) -> 291200 | AG24: =+AF24*$P24 -> 2329600 | AH24: =+IF(OR(AF24>$O24,AF24=0,AG24>$Q24),"RECHAZADO","ACEPTADA") -> ACEPTADA | AI24: 291200 | AJ24: =+ROUND(AI24,0) -> 291200 | AK24: =+AJ24*$P24 -> 2329600 | AL24: =+IF(OR(AJ24>$O24,AJ24=0,AK24>$Q24),"RECHAZADO","ACEPTADA") -> ACEPTADA | AM24: 285600 | AN24: =+ROUND(AM24,0) -> 285600 | AO24: =+AN24*$P24 -> 2284800 | AP24: =+IF(OR(AN24>$O24,AN24=0,AO24>$Q24),"RECHAZADO","ACEPTADA") -> ACEPTADA
A25: 21 | B25: Gorros de baño | C25: Gorros para piscina elaborado 100% en silicona -Talla Universal -Tamaño Aprox.: Empaque: 20 x 12 x 1 cm. -Peso Aprox.: Empaque: 64 g. -Gorro con textura suave. -Excelente estiramiento, flexibilidad y durabilidad. Gorro de baño de alta calidad diseñado para cubrir el cabello y las orejas de agua. -Material durable y resistente al cloro ut | D25: Unid | E25: 14950 | F25: SPEEDO | G25: 14000 | H25: DECATHLON | I25: 14900 | J25: FALABELLA | K25: =+COUNT(E25,G25,I25) -> 3 | L25: =+MEDIAN(E25,G25,I25) -> 14900 | M25: =+STDEVA(E25,G25,I25) -> 534.63383 | N25: =+AVERAGE(E25,G25,I25) -> 14616.667 | O25: =_xlfn.CEILING.MATH(N25,50,FALSE) -> 14650 | P25: 200 | Q25: =O25*P25 -> 2930000 | T25: =+ROUND(S25,0) -> 0 | U25: =+T25*$P25 -> 0 | V25: =+IF(OR(T25>$O25,T25=0,U25>$Q25),"RECHAZADO","ACEPTADA") -> RECHAZADO | W25: 13804 | X25: =+ROUND(W25,0) -> 13804 | Y25: =+X25*$P25 -> 2760800 | Z25: =+IF(OR(X25>$O25,X25=0,Y25>$Q25),"RECHAZADO","ACEPTADA") -> ACEPTADA | AA25: 13961 | AB25: =+ROUND(AA25,0) -> 13961 | AC25: =+AB25*$P25 -> 2792200 | AD25: =+IF(OR(AB25>$O25,AB25=0,AC25>$Q25),"RECHAZADO","ACEPTADA") -> ACEPTADA | AE25: 14650 | AF25: =+ROUND(AE25,0) -> 14650 | AG25: =+AF25*$P25 -> 2930000 | AH25: =+IF(OR(AF25>$O25,AF25=0,AG25>$Q25),"RECHAZADO","ACEPTADA") -> ACEPTADA | AI25: 14280 | AJ25: =+ROUND(AI25,0) -> 14280 | AK25: =+AJ25*$P25 -> 2856000 | AL25: =+IF(OR(AJ25>$O25,AJ25=0,AK25>$Q25),"RECHAZADO","ACEPTADA") -> ACEPTADA | AM25: 14150 | AN25: =+ROUND(AM25,0) -> 14150 | AO25: =+AN25*$P25 -> 2830000 | AP25: =+IF(OR(AN25>$O25,AN25=0,AO25>$Q25),"RECHAZADO","ACEPTADA") -> ACEPTADA
A26: 22 | B26: Colchonetas | C26: Alquiler de colchonetas medidas 2 m. x 1 m. x 8 cm. material de espuma forradas en tela. | D26: Unid | E26: =40000*1.19 -> 47600 | F26: SAN FRANCISCO DE ASIS | G26: =45000*1.19 -> 53550 | H26: FUNDACION PALMA VERDE | K26: =+COUNT(E26,G26,I26) -> 2 | L26: =+MEDIAN(E26,G26,I26) -> 50575 | M26: =+STDEVA(E26,G26,I26) -> 4207.2853 | N26: =+AVERAGE(E26,G26,I26) -> 50575 | O26: =_xlfn.CEILING.MATH(N26,50,FALSE) -> 50600 | P26: 50 | Q26: =O26*P26 -> 2530000 | T26: =+ROUND(S26,0) -> 0 | U26: =+T26*$P26 -> 0 | V26: =+IF(OR(T26>$O26,T26=0,U26>$Q26),"RECHAZADO","ACEPTADA") -> RECHAZADO | W26: 47719 | X26: =+ROUND(W26,0) -> 47719 | Y26: =+X26*$P26 -> 2385950 | Z26: =+IF(OR(X26>$O26,X26=0,Y26>$Q26),"RECHAZADO","ACEPTADA") -> ACEPTADA | AA26: 48222 | AB26: =+ROUND(AA26,0) -> 48222 | AC26: =+AB26*$P26 -> 2411100 | AD26: =+IF(OR(AB26>$O26,AB26=0,AC26>$Q26),"RECHAZADO","ACEPTADA") -> ACEPTADA | AE26: 50600 | AF26: =+ROUND(AE26,0) -> 50600 | AG26: =+AF26*$P26 -> 2530000 | AH26: =+IF(OR(AF26>$O26,AF26=0,AG26>$Q26),"RECHAZADO","ACEPTADA") -> ACEPTADA | AI26: 50575 | AJ26: =+ROUND(AI26,0) -> 50575 | AK26: =+AJ26*$P26 -> 2528750 | AL26: =+IF(OR(AJ26>$O26,AJ26=0,AK26>$Q26),"RECHAZADO","ACEPTADA") -> ACEPTADA | AM26: 50100 | AN26: =+ROUND(AM26,0) -> 50100 | AO26: =+AN26*$P26 -> 2505000 | AP26: =+IF(OR(AN26>$O26,AN26=0,AO26>$Q26),"RECHAZADO","ACEPTADA") -> ACEPTADA
