Workbook
Name _______________EST1: #REF!
Name _______________EST1: #REF!
Name _______________EST10: #REF!
Name _______________EST10: #REF!
Name _______________EST11: #REF!
Name _______________EST11: #REF!
Name _______________EST12: #REF!
Name _______________EST12: #REF!
Name _______________EST13: #REF!
Name _______________EST13: #REF!
Name _______________EST14: #REF!
Name _______________EST14: #REF!
Name _______________EST15: #REF!
Name _______________EST15: #REF!
Name _______________EST16: #REF!
Name _______________EST16: #REF!
Name _______________EST17: #REF!
Name _______________EST17: #REF!
Name _______________EST18: #REF!
Name _______________EST18: #REF!
Name _______________EST19: #REF!
Name _______________EST19: #REF!
Name _______________EST2: #REF!
Name _______________EST2: #REF!
Name _______________EST3: #REF!
Name _______________EST3: #REF!
Name _______________EST4: #REF!
Name _______________EST4: #REF!
Name _______________EST5: #REF!
Name _______________EST5: #REF!
Name _______________EST6: #REF!
Name _______________EST6: #REF!
Name _______________EST7: #REF!
Name _______________EST7: #REF!
Name _______________EST8: #REF!
Name _______________EST8: #REF!
Name _______________EST9: #REF!
Name _______________EST9: #REF!
Name _______________EXC1: #REF!
Name _______________EXC1: #REF!
Name _______________EXC10: #REF!
Name _______________EXC10: #REF!
Name _______________EXC11: #REF!
Name _______________EXC11: #REF!
Name _______________EXC12: #REF!
Name _______________EXC12: #REF!
Name _______________EXC2: #REF!
Name _______________EXC2: #REF!
Name _______________EXC3: #REF!
Name _______________EXC3: #REF!
Name _______________EXC4: #REF!
Name _______________EXC4: #REF!
Name _______________EXC5: #REF!
Name _______________EXC5: #REF!
Name _______________EXC6: #REF!
Name _______________EXC6: #REF!
Name _______________EXC7: #REF!
Name _______________EXC7: #REF!
Name _______________EXC8: #REF!
Name _______________EXC8: #REF!

Sheet Factor Multiplicador
A1: DESCRIPCIÓN | B1: PARCIAL | C1: TOTAL
A2: HONORARIOS PROFESIONALES | B2: 1 | C2: 1
A3: ADMINISTRACIÓN Y GASTOS GENERALES
A4: Oficina, administración y servicios públicos | B4: 0.02
A5: Personal no facturado | B5: 0.02
A6: Relaciones públicas y gestión comercial | B6: 0.02
A7: Gastos varios de movilización y complementarios | B7: 0.005
A8: Gastos de comunicaciones | B8: 0.005
A9: Gastos de representación | B9: 0.01
A10: Programas y licencias | B10: 0.02
A11: SUBTOTAL ADMINISTRACIÓN | C11: =+SUM(B4:B10) -> 0.1
A13: Retefuente honorarios | B13: 0.06
A14: Estampilla Pro-Adulto mayor | B14: 0.02
A15: Rete ICA | B15: 0.00866
A16: Estampilla Pro-Cultura | B16: 0.005
A17: Estampilla 50 Años Universidad Pedagógica | B17: 0.005
A18: Estampilla Pro-Universidad Distrital | B18: 0.011
A19: Póliza de Calidad | B19: 0.01
A20: Póliza de Cumplimiento | B20: 0.02
A21: Póliza de salarios y prestaciones sociales | B21: 0.015
A22: SUBTOTAL PERFECCIONAMIENTO | C22: =+SUM(B13:B21) -> 0.15466
A23: SUMATORIA | C23: =+C22+C11+C2 -> 1.25466
A24: UTILIDAD | C24: 0.12
A25: TOTAL FACTOR MULTIPLICADOR - PORCENTUAL | C25: =+C24+C23 -> 1.37466
A26: FACTOR MULTIPLICADOR | C26: =+C25 -> 1.37466

Sheet Productos
B2: PRODUCTO | C2: ENTREGABLES | D2: PORCENTAJE DEL VALOR DEL CONTRATO | E2: PLAZO DE ENTREGA
B3: Presentación y aprobación por parte de la Interventoría del Informe 1: | C3: Documento de aprobación de la interventoría | D3: 0.3 | E3: 1.5 meses
B4: Generalidades del Proyecto | C4: Documento de Generalidades del Proyecto
B5: Estudios Preliminares. | C5: Estudio topográfico
C6: Estudio geotécnico
C7: Estudio climatológico- temperatura – precipitación, vientos.
C8: Estudio hidrogeológico
C9: Estudio geológico
C10: Estudio de crecimiento poblacional
C11: Estudio de generación, composición y proyección de residuos sólidos.
C12: Determinación de la capacidad y vida útil
C13: Estudio de generación de lixiviados
C14: Estudio de generación de gases.
C15: Estudios de amenaza, vulnerabilidad y riesgos.
C16: Estudio Prospección Arqueológica
C17: Identificación del área de potencial minero extractivo
B19: Presentación y aprobación por parte de la Interventoría del Informe 2: | D19: 0.35 | E19: 3.5 meses
B20: Diseño- cálculos,
B21: Especificaciones Técnicas de Construcción.
B22: Presentación y aprobación por parte de la Interventoría del Informe 3: | D22: 0.25 | E22: 4 meses
B23: Cantidades de obra para las fases de construcción y operación por año.
B24: Presupuesto y Análisis de Precios Unitarios – APU
B25: Reglamento Técnico-operativo:
B26: Manual de operación y mantenimiento:
B27: Cronograma de actividades y Plan de trabajo
B28: Informe Final consolidado – Estudios y diseños definitivos incluye planos y demás documentos requerido.
B29: Elaboración de los documentos precontractuales- propuesta de socialización y pliego de condiciones, acorde con las obligaciones específicas del contratista.
B30: A recibo a satisfacción por parte el Interventoría y la Unidad y contra liquidación del contrato de consultoría. | D30: 0.1
B31: QUE ENTREGABLES HACEN PARTE DE LOS PRELIMARES
B33: ¿PAGARIAMOS ALREDEDOR DE 450 MILLONES DE PESOS POR GENERALIDADES Y PRELIMINARES?
B35: POR FAVOR REVISAR
B36: SE DEBEN ESTABLECER HITOS DE PAGO
B38: ¿PAGARIAMOS MAS DE 500 MILLONES EJEMPLO: ¿POR EL CALCULO ESTRUCTURAL?
B40: SE DEBE REVISAR AL DETALLE Y ESTABLECER HITOS ESPECIFICOS QUE ESTEN RELACIONADOS CON LOS ENTREGABLES DEL ANEXO TECNICO.
B41: ESTO NO APLICA, EL CONSULTOR NO ESTRUCTURA PLIEGOS.

Sheet Tarifas de Personal
A1: CATEGORÍA | B1: NIVEL | C1: FORMACIÓN ACADÉMICA | D1: EXPERIENCIA | E1: TOPE DE HONORARIOS EN SMMLV | F1: TOPE MÁXIMO 2024
A2: 1 | B2: Auxiliar Operativo | C2: Sin título de formación | D2: Sin experiencial laboral | E2: 1.5 | F2: =+E2*1300000 -> 1950000
A3: 2 | B3: Auxiliar Operativo | C3: Sin título de formación | D3: Doce (12) meses o más de experiencia laboral | E3: 1.8 | F3: =+E3*1300000 -> 2340000
A4: 3 | B4: Asistencial | C4: Título de educación básica secundaria | D4: Doce (12) meses o más de experiencia laboral | E4: 2 | F4: =+E4*1300000 -> 2600000
A5: 4 | B5: Asistencial | C5: Título de bachiller en cualquier modalidad | D5: Sin experiencial laboral | E5: 2.3 | F5: =+E5*1300000 -> 2990000
A6: 5 | B6: Asistencial | C6: Título de bachiller en cualquier modalidad | D6: De uno (1) a treinta y seis (36) meses de experiencia laboral | E6: 2.5 | F6: =+E6*1300000 -> 3250000
A7: 6 | B7: Asistencial | C7: Título de bachiller en cualquier modalidad | D7: Treinta y siete (37) meses o más de experiencia laboral | E7: 3 | F7: =+E7*1300000 -> 3900000
A8: 7 | B8: Técnico | C8: Título de formación técnica, tecnológica o dos (2) años de educación superior profesional | D8: Sin experiencial laboral | E8: 3.3 | F8: =+E8*1300000 -> 4290000
A9: 8 | B9: Técnico | C9: Título de formación técnica, tecnológica o dos (2) años de educación superior profesional | D9: De uno (1) a treinta y seis (36) meses de experiencia laboral | E9: 3.5 | F9: =+E9*1300000 -> 4550000
A10: 9 | B10: Técnico | C10: Título de formación técnica, tecnológica o dos (2) años de educación superior profesional | D10: Treinta y siete (37) meses o más de experiencia laboral | E10: 4.5 | F10: =+E10*1300000 -> 5850000
A11: 10 | B11: Profesional | C11: Título profesional | D11: Sin experiencial profesional | E11: 5 | F11: =+E11*1300000 -> 6500000
A12: 11 | B12: Profesional | C12: Título profesional | D12: De uno (1) a veinticuatro (24) meses de experiencia profesional | E12: 5.5 | F12: =+E12*1300000 -> 7150000
A13: 12 | B13: Profesional | C13: Título profesional | D13: De veinticinco (25) a cuarenta y ocho (48) meses de experiencia profesional | E13: 6 | F13: =+E13*1300000 -> 7800000
... A21: 20 | B21: Profesional | C21: Título profesional y título de posgrado | D21: De noventa y siete (97) a ciento ocho (108) meses de experiencia profesional y mínimo el 50% de experiencia profesional relacionada | E21: 14 | F21: =+E21*1300000 -> 18200000
A22: 21 | B22: Profesional | C22: Título profesional y título de posgrado | D22: Ciento nueve (109) o más meses de experiencia profesional y mínimo el 50% de experiencia profesional relacionada | E22: Desde 15 en adelante | F22: =15*1300000 -> 19500000
D24: Resolución 611 del 22 de noviembre de 2021 - UAESP

Sheet Personal
A1: ='Economica (OFERENTES)'!$B$2 -> UNIDAD ADMINISTRATIVA ESPECIAL DE SERVICIOS PÚBLICOS - UAESP
A2: ='Economica (OFERENTES)'!$B$3 -> DIRECCIÓN GENERAL
A3: ='Economica (OFERENTES)'!$B$4 -> SUBDIRECCIÓN DE APROVECHAMIENTO
A5: ='Economica (OFERENTES)'!#REF! -> #REF! | B5: ='Economica (OFERENTES)'!B7 -> ESTUDIOS Y DISEÑOS PARA LA CONSTRUCCIÓN DE UNA ESTACIÓN DE CLASIFICACIÓN Y APROVECHAMIENTO DE RESIDUOS SÓLIDOS, DE TIPO MULTIMATERIAL Y DE CARÁCTER PÚBLICO, EN LA CIUDAD DE BOGOTÁ D.C.
A8: PRESUPUESTO TOTAL (IVA INCLUIDO): | D8: =Q66 -> #N/A
A10: DURACION (meses): | D10: =+'Economica (OFERENTES)'!C18 -> 0 | H10: TIEMPO TOTAL DE EJECUCION DE LA CONSULTORIA
H11: PLANEAR | I11: EJECUTAR | M11: CERRAR | Q11: ='Economica (OFERENTES)'!#REF! -> #REF!
A12: ETAPA DE LA CONSULTORÍA | B12: PRODUCTO A REALIZAR | D12: PERSONAL NECESARIO ESPECIALISTA, PROFESIONAL O DE APOYO, PARA ESTUDIOS Y DISEÑOS/ DESCRIPCION | E12: CANTIDAD | F12: CATEGORÍA / UNID | G12: Vr. H/MES $ SEGÚN CATEGORIA / TARIFA | H12: MES 1 | I12: MES 2 | J12: MES 3 | K12: MES 4 | L12: MES 5 | M12: MES 6 | N12: TOTAL DEDICACIÓN HOMBRES ETAPA ESTUDIOS Y DISEÑOS | O12: ($) SUBTOTAL PERSONAL PROYECTO ETAPA ESTUDIOS Y DISEÑOS | P12: FACTOR MULTIPLICADOR | Q12: COSTO ($) TOTAL HOMBRES (INCLUYE F.M)
C14: DIRECTOR | D14: Director de Consultoría | E14: 1 | F14: 4 | G14: =LOOKUP(F14,'Tarifas de Personal'!$B$2:$B404,'Tarifas de Personal'!$C$2:$C$9) -> #N/A | H14: 0.6 | I14: 0.6 | J14: 0.6 | K14: 0.6 | L14: 0.6 | M14: 0.6 | N14: =E14*SUM(H14:M14) -> 3.6 | O14: =ROUND(G14*N14,0) -> #N/A | P14: =Factor_Multiplicador -> 0 | Q14: =ROUND(O14*P14,0) -> #N/A
C15: DIRECTOR | D15: Coordinador de Consultoría | E15: 1 | F15: 6 | G15: =LOOKUP(F15,'Tarifas de Personal'!$B$2:$B405,'Tarifas de Personal'!$C$2:$C$9) -> #N/A | H15: 0.5 | I15: =+H15 -> 0.5 | J15: =+H15 -> 0.5 | K15: =+H15 -> 0.5 | L15: =+H15 -> 0.5 | M15: =+I15 -> 0.5 | N15: =E15*SUM(H15:M15) -> 3 | O15: =ROUND(G15*N15,0) -> #N/A | P15: =Factor_Multiplicador -> 0 | Q15: =ROUND(O15*P15,0) -> #N/A
C16: ABOGADO | D16: Profesional en Derecho y Especialista en Derecho Ambiental | E16: 1 | F16: 4 | G16: =LOOKUP(F16,'Tarifas de Personal'!$B$2:$B406,'Tarifas de Personal'!$C$2:$C$9) -> #N/A | H16: 0.25 | I16: =+H16 -> 0.25 | J16: =+H16 -> 0.25 | K16: =+H16 -> 0.25 | L16: =+H16 -> 0.25 | M16: =+I16 -> 0.25 | N16: =E16*SUM(H16:M16) -> 1.5 | O16: =ROUND(G16*N16,0) -> #N/A | P16: =Factor_Multiplicador -> 0 | Q16: =ROUND(O16*P16,0) -> #N/A
C17: ARQUITECTONICO | D17: Arquitecto | E17: 1 | F17: 4 | G17: =LOOKUP(F17,'Tarifas de Personal'!$B$2:$B407,'Tarifas de Personal'!$C$2:$C$9) -> #N/A | H17: 0.5 | I17: =+H17 -> 0.5 | J17: =+H17 -> 0.5 | K17: =+H17 -> 0.5 | L17: =+H17 -> 0.5 | M17: =+I17 -> 0.5 | N17: =E17*SUM(H17:M17) -> 3 | O17: =ROUND(G17*N17,0) -> #N/A | P17: =Factor_Multiplicador -> 0 | Q17: =ROUND(O17*P17,0) -> #N/A
C18: ARQUEOLOGIA - ANTROPOLOGOGIA | D18: Arqueólogo/Antropólogo certificado por ICAHN | E18: 1 | F18: 6 | G18: =LOOKUP(F18,'Tarifas de Personal'!$B$2:$B408,'Tarifas de Personal'!$C$2:$C$9) -> #N/A | H18: 0.25 | I18: =+H18 -> 0.25 | J18: =+H18 -> 0.25 | K18: =+H18 -> 0.25 | L18: =+H18 -> 0.25 | M18: =+I18 -> 0.25 | N18: =E18*SUM(H18:M18) -> 1.5 | O18: =ROUND(G18*N18,0) -> #N/A | P18: =Factor_Multiplicador -> 0 | Q18: =ROUND(O18*P18,0) -> #N/A
C19: FINANCIERO | D19: Profesional en area Financiera y Especialista en Modelos Financieros o Modelos Tarifarios | E19: 1 | F19: 4 | G19: =LOOKUP(F19,'Tarifas de Personal'!$B$2:$B409,'Tarifas de Personal'!$C$2:$C$9) -> #N/A | H19: 0.5 | I19: 0.25 | J19: 0.25 | K19: 0.25 | L19: =+K19 -> 0.25 | M19: =+L19 -> 0.25 | N19: =E19*SUM(H19:M19) -> 1.75 | O19: =ROUND(G19*N19,0) -> #N/A | P19: =Factor_Multiplicador -> 0 | Q19: =ROUND(O19*P19,0) -> #N/A
C20: GEOGRAFIA | D20: Profesional en Geografía y Especialista en Sistemas de Información Geográfica | E20: 1 | F20: 4 | G20: =LOOKUP(F20,'Tarifas de Personal'!$B$2:$B410,'Tarifas de Personal'!$C$2:$C$9) -> #N/A | H20: 0.25 | I20: =+H20 -> 0.25 | J20: =+H20 -> 0.25 | K20: =+H20 -> 0.25 | L20: 0.1 | M20: =+L20 -> 0.1 | N20: =E20*SUM(H20:M20) -> 1.2 | O20: =ROUND(G20*N20,0) -> #N/A | P20: =Factor_Multiplicador -> 0 | Q20: =ROUND(O20*P20,0) -> #N/A
C21: GEOTECNIA | D21: Profesional en Geología | E21: 1 | F21: 4 | G21: =LOOKUP(F21,'Tarifas de Personal'!$B$2:$B411,'Tarifas de Personal'!$C$2:$C$9) -> #N/A | H21: 1 | I21: 1 | J21: 0.5 | K21: 0.25 | L21: =+K21 -> 0.25 | M21: =+K21 -> 0.25 | N21: =E21*SUM(H21:M21) -> 3.25 | O21: =ROUND(G21*N21,0) -> #N/A | P21: =Factor_Multiplicador -> 0 | Q21: =ROUND(O21*P21,0) -> #N/A
C22: GEOTECNIA | D22: Especialista en Geotecnia | E22: 1 | F22: 4 | G22: =LOOKUP(F22,'Tarifas de Personal'!$B$2:$B412,'Tarifas de Personal'!$C$2:$C$9) -> #N/A | H22: 1 | I22: 1 | J22: 0.5 | K22: 0.25 | L22: =+K22 -> 0.25 | M22: =+L22 -> 0.25 | N22: =E22*SUM(H22:M22) -> 3.25 | O22: =ROUND(G22*N22,0) -> #N/A | P22: =Factor_Multiplicador -> 0 | Q22: =ROUND(O22*P22,0) -> #N/A
C23: GESTION AMBIENTAL | D23: Profesional Ambiental y Especialista en Estudios de Impacto Ambiental | E23: 1 | F23: 4 | G23: =LOOKUP(F23,'Tarifas de Personal'!$B$2:$B413,'Tarifas de Personal'!$C$2:$C$9) -> #N/A | H23: 0.5 | I23: 0.5 | J23: 0.5 | K23: 0.5 | L23: 0.5 | M23: =+L23 -> 0.5 | N23: =E23*SUM(H23:M23) -> 3 | O23: =ROUND(G23*N23,0) -> #N/A | P23: =Factor_Multiplicador -> 0 | Q23: =ROUND(O23*P23,0) -> #N/A
C24: GESTION AMBIENTAL | D24: Profesional Ambiental y Especialista Seguridad y Salud en el Trabajo | E24: 1 | F24: 4 | G24: =LOOKUP(F24,'Tarifas de Personal'!$B$2:$B414,'Tarifas de Personal'!$C$2:$C$9) -> #N/A | H24: 0.1 | I24: =+H24 -> 0.1 | J24: =+H24 -> 0.1 | K24: =+H24 -> 0.1 | L24: =+H24 -> 0.1 | M24: =+I24 -> 0.1 | N24: =E24*SUM(H24:M24) -> 0.6 | O24: =ROUND(G24*N24,0) -> #N/A | P24: =Factor_Multiplicador -> 0 | Q24: =ROUND(O24*P24,0) -> #N/A
C25: GESTION AMBIENTAL | D25: Profesional Ambiental o Ingeniería Sanitaria y Especialista en Gestión del Riesgo | E25: 1 | F25: 4 | G25: =LOOKUP(F25,'Tarifas de Personal'!$B$2:$B415,'Tarifas de Personal'!$C$2:$C$9) -> #N/A | H25: 0.25 | I25: =+H25 -> 0.25 | J25: =+H25 -> 0.25 | K25: =+H25 -> 0.25 | L25: =+H25 -> 0.25 | M25: =+I25 -> 0.25 | N25: =E25*SUM(H25:M25) -> 1.5 | O25: =ROUND(G25*N25,0) -> #N/A | P25: =Factor_Multiplicador -> 0 | Q25: =ROUND(O25*P25,0) -> #N/A
C26: GESTION SOCIAL | D26: Profesional Social | E26: 2 | F26: 4 | G26: =LOOKUP(F26,'Tarifas de Personal'!$B$2:$B416,'Tarifas de Personal'!$C$2:$C$9) -> #N/A | H26: 0.25 | I26: =+H26 -> 0.25 | J26: =+H26 -> 0.25 | K26: =+H26 -> 0.25 | L26: =+H26 -> 0.25 | M26: =+I26 -> 0.25 | N26: =E26*SUM(H26:M26) -> 3 | O26: =ROUND(G26*N26,0) -> #N/A | P26: =Factor_Multiplicador -> 0 | Q26: =ROUND(O26*P26,0) -> #N/A
C27: INGENIERIA CIVIL | D27: Profesional en Ingeniería Civil y Especialista en Diseño de Estructuras | E27: 1 | F27: 4 | G27: =LOOKUP(F27,'Tarifas de Personal'!$B$2:$B417,'Tarifas de Personal'!$C$2:$C$9) -> #N/A | H27: 0.5 | I27: =+H27 -> 0.5 | J27: =+H27 -> 0.5 | K27: =+H27 -> 0.5 | L27: =+H27 -> 0.5 | M27: =+I27 -> 0.5 | N27: =E27*SUM(H27:M27) -> 3 | O27: =ROUND(G27*N27,0) -> #N/A | P27: =Factor_Multiplicador -> 0 | Q27: =ROUND(O27*P27,0) -> #N/A
C28: INGENIERIA CIVIL | D28: Profesional en Ingeniería Civil y Especialista en Costos, Presupuestos y programaciones | E28: 1 | F28: 4 | G28: =LOOKUP(F28,'Tarifas de Personal'!$B$2:$B418,'Tarifas de Personal'!$C$2:$C$9) -> #N/A | H28: 0 | I28: =+H28 -> 0 | J28: =+H28 -> 0 | K28: 0.25 | L28: 0.25 | M28: =+L28 -> 0.25 | N28: =E28*SUM(H28:M28) -> 0.75 | O28: =ROUND(G28*N28,0) -> #N/A | P28: =Factor_Multiplicador -> 0 | Q28: =ROUND(O28*P28,0) -> #N/A
C29: INGENIERIA ELECTRICA | D29: Profesional en Ingeniería Eléctrica | E29: 1 | F29: 5 | G29: =LOOKUP(F29,'Tarifas de Personal'!$B$2:$B419,'Tarifas de Personal'!$C$2:$C$9) -> #N/A | H29: 0.1 | I29: 0.2 | J29: =+I29 -> 0.2 | K29: =+J29 -> 0.2 | L29: =+K29 -> 0.2 | M29: =+L29 -> 0.2 | N29: =E29*SUM(H29:M29) -> 1.1 | O29: =ROUND(G29*N29,0) -> #N/A | P29: =Factor_Multiplicador -> 0 | Q29: =ROUND(O29*P29,0) -> #N/A
C30: INGENIERIA SANITARIA | D30: Profesional en Ingeniería Sanitaria (Redes Hidrosanitarias) | E30: 1 | F30: 5 | G30: =LOOKUP(F30,'Tarifas de Personal'!$B$2:$B420,'Tarifas de Personal'!$C$2:$C$9) -> #N/A | H30: 0.1 | I30: 0.2 | J30: =+I30 -> 0.2 | K30: =+J30 -> 0.2 | L30: =+K30 -> 0.2 | M30: =+L30 -> 0.2 | N30: =E30*SUM(H30:M30) -> 1.1 | O30: =ROUND(G30*N30,0) -> #N/A | P30: =Factor_Multiplicador -> 0 | Q30: =ROUND(O30*P30,0) -> #N/A
C31: INGENIERIA SANITARIA | D31: Profesional en Ingeniería Sanitaria y Especialista en Calidad del Aire | E31: 1 | F31: 4 | G31: =LOOKUP(F31,'Tarifas de Personal'!$B$2:$B421,'Tarifas de Personal'!$C$2:$C$9) -> #N/A | H31: 0.25 | I31: =+H31 -> 0.25 | J31: =+H31 -> 0.25 | K31: =+H31 -> 0.25 | L31: =+H31 -> 0.25 | M31: =+I31 -> 0.25 | N31: =E31*SUM(H31:M31) -> 1.5 | O31: =ROUND(G31*N31,0) -> #N/A | P31: =Factor_Multiplicador -> 0 | Q31: =ROUND(O31*P31,0) -> #N/A
C32: INGENIERIA QUIMICA | D32: Profesional en Ingeniería Quimica y Especialista en Residuos Solidos y Liquidos | E32: 1 | F32: 4 | G32: =LOOKUP(F32,'Tarifas de Personal'!$B$2:$B422,'Tarifas de Personal'!$C$2:$C$9) -> #N/A | H32: 0.25 | I32: 0.25 | J32: =+H32 -> 0.25 | K32: =+H32 -> 0.25 | L32: =+H32 -> 0.25 | M32: =+I32 -> 0.25 | N32: =E32*SUM(H32:M32) -> 1.5 | O32: =ROUND(G32*N32,0) -> #N/A | P32: =Factor_Multiplicador -> 0 | Q32: =ROUND(O32*P32,0) -> #N/A
C33: TRANSITO Y TRANSPORTE | D33: Profesional en Ingenieria de Vias y Transporte Y Especialista en Transito y Transporte | E33: 1 | F33: 4 | G33: =LOOKUP(F33,'Tarifas de Personal'!$B$2:$B423,'Tarifas de Personal'!$C$2:$C$9) -> #N/A | H33: 0.25 | I33: =+H33 -> 0.25 | J33: =+H33 -> 0.25 | K33: =+H33 -> 0.25 | L33: =+H33 -> 0.25 | M33: =+I33 -> 0.25 | N33: =E33*SUM(H33:M33) -> 1.5 | O33: =ROUND(G33*N33,0) -> #N/A | P33: =Factor_Multiplicador -> 0 | Q33: =ROUND(O33*P33,0) -> #N/A
C34: PROFESIONALES AUXILIARES | D34: Profesional en Arquitectura | E34: 1 | F34: 8 | G34: =LOOKUP(F34,'Tarifas de Personal'!$B$2:$B424,'Tarifas de Personal'!$C$2:$C$9) -> #N/A | H34: 0.5 | I34: =+H34 -> 0.5 | J34: =+H34 -> 0.5 | K34: =+H34 -> 0.5 | L34: =+H34 -> 0.5 | M34: =+I34 -> 0.5 | N34: =E34*SUM(H34:M34) -> 3 | O34: =ROUND(G34*N34,0) -> #N/A | P34: =Factor_Multiplicador -> 0 | Q34: =ROUND(O34*P34,0) -> #N/A
C35: PROFESIONALES AUXILIARES | D35: Profesional en Ingeniería Civil | E35: 1 | F35: 8 | G35: =LOOKUP(F35,'Tarifas de Personal'!$B$2:$B425,'Tarifas de Personal'!$C$2:$C$9) -> #N/A | H35: 0.5 | I35: =+H35 -> 0.5 | J35: =+H35 -> 0.5 | K35: =+H35 -> 0.5 | L35: =+H35 -> 0.5 | M35: =+I35 -> 0.5 | N35: =E35*SUM(H35:M35) -> 3 | O35: =ROUND(G35*N35,0) -> #N/A | P35: =Factor_Multiplicador -> 0 | Q35: =ROUND(O35*P35,0) -> #N/A
C36: PROFESIONALES AUXILIARES | D36: Profesional en Ingeniería Ambiental | E36: 1 | F36: 8 | G36: =LOOKUP(F36,'Tarifas de Personal'!$B$2:$B426,'Tarifas de Personal'!$C$2:$C$9) -> #N/A | H36: 0.5 | I36: =+H36 -> 0.5 | J36: =+H36 -> 0.5 | K36: =+H36 -> 0.5 | L36: =+H36 -> 0.5 | M36: =+I36 -> 0.5 | N36: =E36*SUM(H36:M36) -> 3 | O36: =ROUND(G36*N36,0) -> #N/A | P36: =Factor_Multiplicador -> 0 | Q36: =ROUND(O36*P36,0) -> #N/A
C37: AUXILIAR TECNICO | D37: TARIFA MES - PERSONAL TÉCNICO - OPERADOR EQUIPO PERFORACIÓN | E37: 1 | G37: =+'Tarifas de Personal'!C17 -> Título profesional y título de posgrado | H37: 0.5 | I37: =+H37 -> 0.5 | J37: 0.25 | K37: =+J37 -> 0.25 | L37: 0 | M37: 0 | N37: =E37*SUM(H37:M37) -> 1.5 | O37: =ROUND(G37*N37,0) -> #VALUE! | P37: =Factor_Multiplicador -> 0 | Q37: =ROUND(O37*P37,0) -> #VALUE!
C38: AUXILIAR TECNICO | D38: TARIFA MES - PERSONAL TÉCNICO - LABORATORISTA AUXILIAR | E38: 2 | G38: =+'Tarifas de Personal'!C16 -> Título profesional y título de posgrado | H38: 0.5 | I38: =+H38 -> 0.5 | J38: 0.25 | K38: =+J38 -> 0.25 | L38: =+J38 -> 0.25 | M38: =+K38 -> 0.25 | N38: =E38*SUM(H38:M38) -> 4 | O38: =ROUND(G38*N38,0) -> #VALUE! | P38: =Factor_Multiplicador -> 0 | Q38: =ROUND(O38*P38,0) -> #VALUE!
C39: AUXILIAR TECNICO | D39: TARIFA MES - PERSONAL TÉCNICO - DIBUJANTE 1 | E39: 2 | G39: =+'Tarifas de Personal'!C12 -> Título profesional | H39: 0.5 | I39: 0.5 | J39: 1 | K39: =+J39 -> 1 | L39: =+J39 -> 1 | M39: =+K39 -> 1 | N39: =E39*SUM(H39:M39) -> 10 | O39: =ROUND(G39*N39,0) -> #VALUE! | P39: =Factor_Multiplicador -> 0 | Q39: =ROUND(O39*P39,0) -> #VALUE!
C40: COMISION DE TOPOGRAFIA | D40: =+'Tarifas de Personal'!#REF! -> #REF! | E40: 2 | G40: =+'Tarifas de Personal'!C14 -> Título profesional | H40: 1 | I40: 1 | J40: 0.5 | K40: 0 | L40: =+K40 -> 0 | M40: =+K40 -> 0 | N40: =E40*SUM(H40:M40) -> 5 | O40: =ROUND(G40*N40,0) -> #VALUE! | P40: =Factor_Multiplicador -> 0 | Q40: =ROUND(O40*P40,0) -> #VALUE!
C41: COMISION DE TOPOGRAFIA | D41: =+'Tarifas de Personal'!#REF! -> #REF! | E41: 2 | G41: =+'Tarifas de Personal'!C25 -> 0 | H41: 1 | I41: 1 | J41: =+J40 -> 0.5 | K41: 0 | L41: =+K41 -> 0 | M41: =+L41 -> 0 | N41: =E41*SUM(H41:M41) -> 5 | O41: =ROUND(G41*N41,0) -> 0 | P41: =Factor_Multiplicador -> 0 | Q41: =ROUND(O41*P41,0) -> 0
C42: OTRO PERSONAL | D42: =+'Tarifas de Personal'!#REF! -> #REF! | E42: 3 | G42: =+'Tarifas de Personal'!C26 -> 0 | H42: 1 | I42: =+H42 -> 1 | J42: =+H42 -> 1 | K42: =+H42 -> 1 | L42: =+H42 -> 1 | M42: =+I42 -> 1 | N42: =E42*SUM(H42:M42) -> 18 | O42: =ROUND(G42*N42,0) -> 0 | P42: =Factor_Multiplicador -> 0 | Q42: =ROUND(O42*P42,0) -> 0
C43: OTRO PERSONAL | D43: =+'Tarifas de Personal'!#REF! -> #REF! | E43: 2 | G43: =+'Tarifas de Personal'!C31 -> 0 | H43: 0.5 | I43: =+H43 -> 0.5 | J43: =+H43 -> 0.5 | K43: =+H43 -> 0.5 | L43: =+H43 -> 0.5 | M43: =+I43 -> 0.5 | N43: =E43*SUM(H43:M43) -> 6 | O43: =ROUND(G43*N43,0) -> 0 | P43: =Factor_Multiplicador -> 0 | Q43: =ROUND(O43*P43,0) -> 0
D44: SUBTOTAL 1 | Q44: =SUM(Q14:Q43) -> #N/A
D46: COSTOS OPERACIONALES
...

Sheet A) Costo del Personal
B1: ='Economica (OFERENTES)'!$B$2 -> UNIDAD ADMINISTRATIVA ESPECIAL DE SERVICIOS PÚBLICOS - UAESP
B2: ='Economica (OFERENTES)'!$B$3 -> DIRECCIÓN GENERAL
B3: ='Economica (OFERENTES)'!$B$4 -> SUBDIRECCIÓN DE APROVECHAMIENTO
B4: PRESUPUESTO DE COSTOS DEL PERSONAL REQUERIDO
B5: OBJETO DEL CONCURSO | E5: ESTUDIOS Y DISEÑOS PARA LA CONSTRUCCIÓN DE UNA ESTACIÓN DE CLASIFICACIÓN Y APROVECHAMIENTO DE RESIDUOS SÓLIDOS, DE TIPO MULTIMATERIAL Y DE CARÁCTER PÚBLICO, EN LA CIUDAD DE BOGOTÁ D.C.
B7: PERFILES Y COSTOS DEL PERSONAL REQUERIDO | R7: =ROUND(SUM(S11:S18),0) -> 156689246
B8: PERFILES Y CARACTERÍSTICAS | F8: CRONOGRAMA DE VINCULACIÓN
F9: CONSULTORIA | J9: NUMERO DE MESES | K9: CANTIDAD | L9: ETAPA CONSULTORÍA | N9: TOTAL
B10: ID | C10: ROL | D10: CARGO | E10: PROFESIÓN | F10: MES 1 | G10: MES 2 | H10: MES 3 | I10: MES 4 | L10: % PROMEDIO DE DEDICACIÓN | M10: DEDICACIÓN EN MESES | N10: % PROMEDIO DE DEDICACIÓN | O10: DEDICACIÓN EN MESES | P10: Vr. MES $ SEGÚN TARIFA DE PERSONAL | Q10: SUB TOTAL PERSONAL | R10: FACTOR MULTIPLICADOR | S10: COSTO TOTAL
B11: 1 | C11: Director | D11: Director de la Consultoría | E11: Profesión: Ingeniero Civil, o Arquitecto con tarjeta profesional vigente. Experiencia general de mínimo 10 años. Título de posgrado: En Gerencia y/o Dirección y/o Gestión y/o Administración de proyectos. | F11: 0.1 | G11: 0.1 | H11: 0.1 | I11: 0.5 | J11: =COUNT(F11:I11) -> 4 | K11: 1 | L11: =M11/COUNT(F11:I11) -> 0.2 | M11: =SUM(F11:I11) -> 0.8 | N11: =O11/COUNT(F11:I11) -> 0.2 | O11: =SUM(F11:I11) -> 0.8 | P11: =+'Tarifas de Personal'!F22*0.8 -> 15600000 | Q11: =O11*P11*K11 -> 12480000 | R11: =+'Factor Multiplicador'!$C$26 -> 1.37466 | S11: =ROUND(Q11*R11,0) -> 17155757
B12: =1+B11 -> 2 | C12: Especialista Estructural | D12: Especialista en Estructuras | E12: Profesión: Ingeniero Civil con tarjeta profesional vigente. Experiencia general de mínimo 10 años. Título de posgrado: En Estructuras. | F12: 0.25 | G12: 0.75 | H12: 0.75 | I12: 0 | J12: 3 | K12: 1 | L12: =M12/COUNT(F12:I12) -> 0.4375 | M12: =SUM(F12:I12) -> 1.75 | N12: =O12/COUNT(F12:I12) -> 0.4375 | O12: =SUM(F12:I12) -> 1.75 | P12: =+'Tarifas de Personal'!F22*0.8 -> 15600000 | Q12: =O12*P12*K12 -> 27300000 | R12: =+'Factor Multiplicador'!$C$26 -> 1.37466 | S12: =ROUND(Q12*R12,0) -> 37528218
B13: =1+B12 -> 3 | C13: Hidráulico | D13: Especialista en Redes Hidrosanitarias | E13: Profesión: Ingeniero Civil con tarjeta profesional vigente. Experiencia general de mínimo 5 años. Título de posgrado: En redes hidrosanitarias | F13: 0 | G13: 0.25 | H13: 0.25 | I13: 0 | J13: 2 | K13: 1 | L13: =M13/COUNT(F13:I13) -> 0.125 | M13: =SUM(F13:I13) -> 0.5 | N13: =O13/COUNT(F13:I13) -> 0.125 | O13: =SUM(F13:I13) -> 0.5 | P13: =+'Tarifas de Personal'!F20*0.8 -> 12064000 | Q13: =O13*P13*K13 -> 6032000 | R13: =+'Factor Multiplicador'!$C$26 -> 1.37466 | S13: =ROUND(Q13*R13,0) -> 8291949
B14: =1+B13 -> 4 | C14: Ingeniero Eléctrico | D14: Especialista en Redes Eléctricas | E14: Profesión: Ingeniero Electrico con tarjeta profesional vigente. Experiencia general de mínimo 5 años. Título de posgrado: En redes eléctricas | F14: 0 | G14: 0 | H14: 0.25 | I14: 0.25 | J14: 3 | K14: 1 | L14: =M14/COUNT(F14:I14) -> 0.125 | M14: =SUM(F14:I14) -> 0.5 | N14: =O14/COUNT(F14:I14) -> 0.125 | O14: =SUM(F14:I14) -> 0.5 | P14: =+'Tarifas de Personal'!F19*0.8 -> 10400000 | Q14: =O14*P14*K14 -> 5200000 | R14: =+'Factor Multiplicador'!$C$26 -> 1.37466 | S14: =ROUND(Q14*R14,0) -> 7148232
B15: =1+B14 -> 5 | C15: Arquitectónico | D15: Arquitecto | E15: Profesión: Arquitecto con tarjeta profesional vigente. Experiencia general de mínimo 10 años. | F15: 0.3 | G15: 0.75 | H15: 0.75 | I15: 0.3 | J15: =COUNT(F15:I15) -> 4 | K15: 1 | L15: =M15/COUNT(F15:I15) -> 0.525 | M15: =SUM(F15:I15) -> 2.1 | N15: =O15/COUNT(F15:I15) -> 0.525 | O15: =SUM(F15:I15) -> 2.1 | P15: =+'Tarifas de Personal'!F15*0.8 -> 7800000 | Q15: =O15*P15*K15 -> 16380000 | R15: =+'Factor Multiplicador'!$C$26 -> 1.37466 | S15: =ROUND(Q15*R15,0) -> 22516931
B16: =1+B15 -> 6 | C16: Ingeniero Industrial | D16: Profesional en Ingeniería de Procesos | E16: Profesión: Ingeniero Industrial con tarjeta profesional vigente. Experiencia general de mínimo 5 años. Título de posgrado: Ingeniería de procesos y/o ingeniería de proyectos y/o industrial y/o similares. | F16: 0 | G16: 0.25 | H16: 0.5 | I16: 0.5 | J16: 1 | K16: 1 | L16: =M16/COUNT(F16:I16) -> 0.3125 | M16: =SUM(F16:I16) -> 1.25 | N16: =O16/COUNT(F16:I16) -> 0.3125 | O16: =SUM(F16:I16) -> 1.25 | P16: =+'Tarifas de Personal'!F19*0.8 -> 10400000 | Q16: =O16*P16*K16 -> 13000000 | R16: =+'Factor Multiplicador'!$C$26 -> 1.37466 | S16: =ROUND(Q16*R16,0) -> 17870580
B17: =1+B16 -> 7 | C17: Costos y Presupuesto | D17: Profesional en Costos y Presupuesto | E17: Profesión: Ingeniero Civil o Arquitecto con tarjeta profesional vigente. Experiencia general de mínimo 5 años. Título de posgrado: Evaluación de Proyectos o Gerencia de Proyectos o Gerencia de construcciones o Gerencia de costos y presupuestos o similares. | F17: 0 | G17: 0.25 | H17: 0.75 | I17: 0.25 | J17: 3 | K17: 1 | L17: =M17/COUNT(F17:I17) -> 0.3125 | M17: =SUM(F17:I17) -> 1.25 | N17: =O17/COUNT(F17:I17) -> 0.3125 | O17: =SUM(F17:I17) -> 1.25 | P17: =+'Tarifas de Personal'!F19*0.8 -> 10400000 | Q17: =O17*P17*K17 -> 13000000 | R17: =+'Factor Multiplicador'!$C$26 -> 1.37466 | S17: =ROUND(Q17*R17,0) -> 17870580
B18: =1+B17 -> 8 | C18: Dibujante | D18: Personal Técnico | E18: Dibujante o delineador | F18: 0 | G18: 1 | H18: 1 | I18: 1 | J18: =COUNT(F18:I18) -> 4 | K18: 2 | L18: =M18/COUNT(F18:I18) -> 0.75 | M18: =SUM(F18:I18) -> 3 | N18: =O18/COUNT(F18:I18) -> 0.75 | O18: =SUM(F18:I18) -> 3 | P18: =+'Tarifas de Personal'!F8*0.8 -> 3432000 | Q18: =O18*P18*K18 -> 20592000 | R18: =+'Factor Multiplicador'!$C$26 -> 1.37466 | S18: =ROUND(Q18*R18,0) -> 28306999
O20: COSTO DEL PERSONAL REQUERIDO | S20: =R7 -> 156689246

Sheet B) Costos Operativos
B1: ='Economica (OFERENTES)'!$B$2 -> UNIDAD ADMINISTRATIVA ESPECIAL DE SERVICIOS PÚBLICOS - UAESP
B2: ='Economica (OFERENTES)'!$B$3 -> DIRECCIÓN GENERAL
B3: ='Economica (OFERENTES)'!$B$4 -> SUBDIRECCIÓN DE APROVECHAMIENTO
B4: PRESUPUESTO DE COSTOS OPERACIONALES
B5: OBJETO DEL CONCURSO | C5: ESTUDIOS Y DISEÑOS PARA LA CONSTRUCCIÓN DE UNA ESTACIÓN DE CLASIFICACIÓN Y APROVECHAMIENTO DE RESIDUOS SÓLIDOS, DE TIPO MULTIMATERIAL Y DE CARÁCTER PÚBLICO, EN LA CIUDAD DE BOGOTÁ D.C.
B7: CALCULO DE COSTOS OPERACIONALES
B9: ALQUILER EQUIPO, SUMINISTROS Y OTROS ELEMENTOS | C9: CANTIDAD | D9: UNIDAD | E9: COSTO UNITARIO ($) | F9: MES 1 | G9: MES 2 | H9: MES 3 | I9: MES 4 | J9: CANTIDAD POR LOS 4 MESES | K9: ($) SUBTOTAL | L9: FACTOR MULTIPLICADOR | M9: COSTO ($) TOTAL - OPERACIONALES (INCLUYE F.M)
B10: COSTO DE REPRODUCCIÓN DE PLANOS TAMAÑO PLIEGO | C10: 40 | D10: UN | E10: 11900 | F10: 0.2 | G10: 0.15 | H10: 0.15 | I10: 0.5 | J10: 40 | K10: =J10*E10 -> 476000 | L10: =+'Factor Multiplicador'!C26 -> 1.37466 | M10: =ROUND(K10*L10,0) -> 654338
B11: TARIFA MES - EDICIÓN DE INFORME MENSUAL DE CONSULTORÍA. Incluye 4 tapas plastificadas tamaño carta color blanco, con 6 tornillos, hojas de papel bond tamaño carta 75 gramos, 170 folios | C11: 1 | D11: UN/MES | E11: 239000 | F11: 1 | G11: 1 | H11: 1 | I11: 1 | J11: =SUM(F11:I11) -> 4 | K11: =J11*E11 -> 956000 | L11: =+'Factor Multiplicador'!C26 -> 1.37466 | M11: =ROUND(K11*L11,0) -> 1314175
B12: SUBTOTAL 2 | M12: =SUM(M10:M11) -> 1968513

Sheet C) Costo de EPP Y SISO
A1: ='Economica (OFERENTES)'!$B$2 -> UNIDAD ADMINISTRATIVA ESPECIAL DE SERVICIOS PÚBLICOS - UAESP
A2: ='Economica (OFERENTES)'!$B$3 -> DIRECCIÓN GENERAL
A3: ='Economica (OFERENTES)'!$B$4 -> SUBDIRECCIÓN DE APROVECHAMIENTO
A4: PRESUPUESTO SISTEMA DE GESTIÓN AMBIENTAL, SEGURIDAD Y SALUD EN EL TRABAJO
A5: OBJETO DEL CONCURSO | D5: ESTUDIOS Y DISEÑOS PARA LA CONSTRUCCIÓN DE UNA ESTACIÓN DE CLASIFICACIÓN Y APROVECHAMIENTO DE RESIDUOS SÓLIDOS, DE TIPO MULTIMATERIAL Y DE CARÁCTER PÚBLICO, EN LA CIUDAD DE BOGOTÁ D.C.
A7: SISTEMA DE GESTIÓN AMBIENTAL, SEGURIDAD Y SALUD EN EL TRABAJO
A9: ÍTEMS | F9: UN. | G9: CANTIDAD | I9: VALOR UNITARIO (INCLUYE IVA) | L9: VALOR TOTAL
B10: SEGURIDAD Y SALUD EN EL TRABAJO
A11: 1.01 | B11: BOTA DE CAUCHO, CINTA AMARILLA, PUNTERA Y PLANTILLA EN ACERO | F11: PAR | G11: 8 | I11: 130000 | L11: =+ROUND(G11*I11,0) -> 1040000
A12: 1.04 | B12: MASCARILLA DESECHABLE CONTRA POLVOS Y PARTICULAS NO TOXICAS | F12: UN | G12: 8 | I12: 4379 | L12: =+ROUND(G12*I12,0) -> 35032
A13: 1.05 | B13: CASCO DE SEGURIDAD DIELECTRICO | F13: UN | G13: 8 | I13: 24000 | L13: =+ROUND(G13*I13,0) -> 192000
A14: 1.06 | B14: BARBUQUEJO EN REATA CON MENTONERA CON TRES APOYOS PARA CASCO | F14: UN | G14: =+G12 -> 8 | I14: 6000 | L14: =+ROUND(G14*I14,0) -> 48000
A15: 1.07 | B15: GAFAS DE SEGURIDAD | F15: UN | G15: =+G13 -> 8 | I15: 7735 | L15: =+ROUND(G15*I15,0) -> 61880
B16: EXÁMENES OCUPACIONALES
A17: 1.11 | B17: EXÁMEN MÉDICO OCUPACIONAL DE INGRESO O RETIRO | F17: UN | G17: 16 | I17: 30000 | L17: =+ROUND(G17*I17,0) -> 480000
A18: 1.12 | B18: EXAMEN DE AUDIOMETRÍA DE INGRESO O EGRESO | F18: UN | G18: =+G17 -> 16 | I18: 25000 | L18: =+ROUND(G18*I18,0) -> 400000
A19: 1.13 | B19: EXAMEN DE OPTOMETRÍA DE INGRESO O EGRESO | F19: UN | G19: =+G17 -> 16 | I19: 25600 | L19: =+ROUND(G19*I19,0) -> 409600
A20: 1.14 | B20: EXAMEN DE ESPIROMETRÍA DE INGRESO O EGRESO | F20: UN | G20: =+G17 -> 16 | I20: 30000 | L20: =+ROUND(G20*I20,0) -> 480000
F21: SUBTOTAL DEL PROGRAMA | L21: =SUM(L11:M20) -> 3146512
F23: TOTAL COSTOS ESTIMADOS SEGURIDAD Y SALUD EN EL TRABAJO | L23: =+L21 -> 3146512

Sheet Economica (OFERENTES)
B2: UNIDAD ADMINISTRATIVA ESPECIAL DE SERVICIOS PÚBLICOS - UAESP
B3: DIRECCIÓN GENERAL
B4: SUBDIRECCIÓN DE APROVECHAMIENTO
B5: PRESUPUESTO PARA ESTUDIOS Y DISEÑOS
B7: ESTUDIOS Y DISEÑOS PARA LA CONSTRUCCIÓN DE UNA ESTACIÓN DE CLASIFICACIÓN Y APROVECHAMIENTO DE RESIDUOS SÓLIDOS, DE TIPO MULTIMATERIAL Y DE CARÁCTER PÚBLICO, EN LA CIUDAD DE BOGOTÁ D.C.
B9: MODALIDAD DE PROYECTO | C9: CONCURSO DE MÉRITOS ABIERTO
B11: COSTO POR COMPONENTES | C11: % COSTO | D11: MONTOS
B12: VALOR BASE DE COSTO DE PERSONAL (A) | D12: {='A) Costo del Personal'!R7:S7} -> 156689246 | E12: 0
B13: VALOR BASE DE COSTOS OPERACIONALES (B)
B14: VALOR BASE DE ELEMENTOS PARA SALUD Y SEGURIDAD EN EL TRABAJO (C). | D14: {='C) Costo de EPP Y SISO'!L21:M21} -> 3146512 | E14: 0
B15: VALOR BÁSICO PARA ESTUDIOS Y DISEÑOS
B16: VALOR DEL IVA PARA ESTUDIOS Y DISEÑOS
B18: TOTAL ESTUDIOS Y DISEÑOS INCLUIDO IVA
