Workbook
Name contratación: 'IDENTIFICACION Y ANALISIS'!$B$39:$B$45
Name ejecución: 'IDENTIFICACION Y ANALISIS'!$B$47:$B$62
Name OPCIONES: 'ASIGNACION Y TRATAMIENTO'!$B$39:$B$41
Name planeación: 'IDENTIFICACION Y ANALISIS'!$B$19:$B$29
Name selección: 'IDENTIFICACION Y ANALISIS'!$B$31:$B$37

Sheet CONTEXTO
C1: MATRIZ DE RIESGOS EN CONTRATACIÓN | F1: Código: GCO-GCI-F164 Versión: 02 Vigencia: 01 de diciembre de 2022 Caso HOLA: 280117
B5: ESTABLECER EL CONTEXTO
B6: El punto inicial es identificar el contexto en el cual interactúa la Entidad Estatal para conocer el ambiente social, económico y político, e identificar (i) sus propios Riesgos; (ii) los Riesgos comunes a sus Procesos de Contratación; y (iii) los Riesgos del Proceso de Contratación en particular. (Aplica igual para contratos interadministrativos) En este paso la Entidad Estatal debe identificar los aspectos que se mencionan a continuación y los posibles efectos adversos que estos pueden generar.
B7: Objeto del Proceso de Contratación: “PRESTAR LOS SERVICIOS PROFESIONALES PARA PROMOVER EL FORTALECIMIENTO DE LA ALIANZA ESCUELA, FAMILIA Y COMUNIDAD, EN EL MARCO DEL PROYECTO DE INVERSIÓN 1957 "CONSTRUYENDO NUESTRA INFANCIA LOCAL" DE LA LOCALIDAD DE SUBA”
B8: Partícipes del Proceso de Contratación: Agentes externos (Organismos de control, veedurías ciudadanas), agentes internos (supervisores, funcionarios y demás usuarios).
B9: Ciudadanía que se beneficia del Proceso de Contratación: Agentes internos (funcionarios, pasantes) y externos (contratistas, visitantes y usuarios externos en general)
B10: Capacidad de la Entidad Estatal entendida como la disponibilidad de recursos y conocimientos para el Proceso de Contratación: La disponibilidad de la Entidad de sus recursos y el conocimiento de su equipo humano se refleja en los diferentes funcionarios que participarán en las diversas etapas del proceso de selección: participan las áreas que requieren los procesos de contratación (Etapa de Estudios previos), el área de Contratos de la Secretaría General (Etapa contractual), los evaluadores designados, idóneos y con experiencia en el tema.
B11: Suficiencia del presupuesto oficial del Proceso de Contratación: De acuerdo al Plan de contratación para la vigencia (indique el año XXX), se estimaron los recursos necesarios para el desarrollo del proceso de la contratación, el cual tendrá el soporte presupuestal suficiente para su desarrollo.
B12: Condiciones geográficas y de acceso del lugar en el cual se debe cumplir el objeto del Proceso de Contratación: El suministro, obra o servicio se prestará principalmente en las Sedes de la Entidad, o en el lugar indicado en los estudios previos del proceso.
B13: Entorno socio ambiental: Si aplican
B14: Condiciones políticas: Si aplican
B15: Factores ambientales: El contratista debe manejar normas ambientales para el destino final de algunos repuestos que se retiran cuando se hace mantenimiento correctivo al sistema.
B16: Sector del objeto del Proceso de Contratación y su mercado: Todos los clientes (entidades privadas, Estatales y Gubernamentales), alrededor en todo el Territorio Nacional Colombiano y el exterior, quienes solicitan equipos y servicios de seguridad y control de acceso, con niveles elevados de flujo peatonal.
... B18: Experiencia propia y de otras Entidades Estatales en Procesos de Contratación del mismo tipo: -Explicar brevemente la experiencia de la Entidad en el tipo de contratación que se va a adelantar-, A manera de ejemplo se deja el siguiente texto que aplicaría en el caso de la contratación de los seguros: " La Entidad contrata anualmente el programa de seguros necesario para su funcionamiento, por lo cual es un proceso que ha sido adelantado de manera permanente; así las cosas se cuenta con la experiencia adquirida en el adelantamiento de este tipo de procesos que ha sido la necesaria para prevenir circunstancias inesperadas y lograr el cumplimiento de los fines de la contratación".

Sheet IDENTIFICACION Y ANALISIS
C2: MATRIZ DE RIESGOS DE CONTRATACIÓN | F2: Código: GCO-GCI-F164 Versión: 02 Vigencia: 01 de diciembre de 2022 Caso HOLA: 280117
B6: DEFINICIONES
B7: RIESGO: evento que puede generar efectos adversos y de distinta magnitud en el logro de los objetivos del Proceso de Contratación o en la ejecución de un contrato
B8: RIESGOS PREVISIBLES: Son los posibles hechos o circunstancias que por la naturaleza del contrato y de la actividad a ejecutar es factible su ocurrencia.
B9: ETAPA DE PLANEACIÓN: Está comprendida entre la elaboración del Plan Anual de Adquisiciones y la fecha en la cual decide continuar o no con el Proceso de Contratación
B10: ETAPA DE SELECCIÓN: Está comprendida entre el acto de Apertura del Proceso de Contratación y la Adjudicación o la declaración de desierto del Proceso de Contratación
B11: ETAPA DE CONTRATACIÓN: Una vez adjudicado el contrato objeto del Proceso de Contratación, inicia la etapa de contratación en la cual se debe cumplir con el cronograma previsto para la celebración del contrato, el registro presupuestal, la publicación en el SECOP y el cumplimiento de los requisitos para el perfeccionamiento, ejecución y pago.
B12: ETAPA DE EJECUCIÓN: Inicia una vez cumplidos los requisitos previstos para iniciar la ejecución del contrato respectivo y termina con el vencimiento del plazo del contrato o la fecha de liquidación si hay lugar a ella.
B13: RIESGO GENERAL: Es un riesgo de todos los procesos de contratación adelantados por la Entidad Estatal, por lo cual está presente en toda su actividad contractual.
B14: RIEGO ESPECIFICO: Es un riesgo propio del proceso de contratación objeto de análisis.
B15: INSTRUCCIONES PARA LA IDENTIFICACIÓN, ANALISIS, EVALUACIÓN , ASIGNACIÓN Y TRATAMIENTO DE RIESGOS EN LA CONTRATACIÓN
B16: 1) Identifique los riesgos previsibles que le apliquen al objeto contractual que se adelante; En caso de identificar otro riesgo inclúyalo en la proforma e informe al Área de Contratos de la Secretaría General para que sea actualizada en el SIG.
C17: ETAPAS | D17: CLASE | E17: FUENTE | F17: TIPO
C18: PLANEACIÓN
B19: Inadecuada escogencia de la modalidad de contratación | D19: Especifico | E19: Interno | F19: Operacionales
B20: Requisitos habilitantes inapropiados para el proceso de selección | D20: Especifico | E20: Interno | F20: Operacionales
B21: Inadecuado análisis económico estimativo del valor del contrato | D21: Especifico | E21: Interno | F21: Economicos
B22: Inadecuada descripción del bien o servicio requerido | D22: Especifico | E22: Interno | F22: Operacionales
B23: Inadecuada elaboración de estudios y diseños | D23: Especifico | E23: Interno | F23: Operacionales
B24: Requisitos habilitantes que impidan la selección objetiva | D24: Especifico | E24: Interno | F24: Operacionales
B25: Falta de profundidad en el estudio de sector no identificandose claramente aspectos de oferta y demanda | D25: Especifico | E25: Interno | F25: Economicos
B26: Ausencia de fundamentación de la justificación y conveniencia de la contratación | D26: Especifico | E26: Interno | F26: Operacionales
B27: Inadecuada identificación de las condiciones contractuales | D27: Especifico | E27: Interno | F27: Operacionales
B28: No aprobación o demoras en la expedición vigencias futuras | D28: Especifico | E28: Interno | F28: Operacionales
B29: Apertura de procesos sin disponibilidad presupuestal | D29: Especifico | E29: Interno | F29: Operacionales
C30: SELECCIÓN
B31: Inadecuada evaluación de las ofertas y/o verificación de requisitos habilitantes | D31: General | E31: Interno | F31: Operacionales
B32: Inadecuado manejo administrativo del proceso contractual | D32: General | E32: Interno | F32: Operacionales
B33: Falta de claridad en la elaboración de los actos administrativos | D33: General | E33: Interno | F33: Operacionales
B34: Contestación inoportuna a todas las observaciones formuladas a los documentos de la contratación | D34: General | E34: Interno | F34: Operacionales
B35: No publicación de la documentación del proceso de selección en el SECOP | D35: General | E35: Interno | F35: Operacionales
B36: Confabulacion de los proponentes (Colusión) | D36: General | E36: Interno | F36: Operacionales
B37: Selección de ofertas con precios artificialmente bajos. | D37: General | E37: Interno | F37: Operacionales
C38: CONTRATACIÓN
B39: Riesgo de que no se firme el contrato. | D39: Especifico | E39: Interno | F39: Operacionales
B40: Falta de constitución o constitución tardía de la garantía única. Aceptación de garantías que no se ajustan a lo contemplado en el contrato | D40: Especifico | E40: Interno | F40: Operacionales
B41: Falta de solicitud o solicitud tardía del registro presupuestal | D41: Especifico | E41: Interno | F41: Operacionales
B42: Suspensión Del contrato por causas de fuerza mayor | D42: Especifico | E42: Interno | F42: Operacionales
B43: Que los servicios no cuenten con las características técnicas solicitadas, y calidad de los elementos de acuerdo con lo estipulado. | D43: Especifico | E43: Interno | F43: Operacionales
B44: Incumplimiento de la entrega de elementos para el desarrollo de las actividades en las fechas estipuladas conforme a la ley y a la invitación pública. | D44: Especifico | E44: Interno | F44: Operacionales
...

Sheet EVALUACION
D1: MATRIZ DE RIESGOS DE CONTRATACIÓN | K1: Código: GCO-GCI-F164 Versión: 02 Vigencia: 01 de diciembre de 2022 Caso HOLA: 280117
B5: Objeto Contractual: “PRESTAR LOS SERVICIOS PROFESIONALES PARA PROMOVER EL FORTALECIMIENTO DE LA ALIANZA ESCUELA, FAMILIA Y COMUNIDAD, EN EL MARCO DEL PROYECTO DE INVERSIÓN 1957 "CONSTRUYENDO NUESTRA INFANCIA LOCAL" DE LA LOCALIDAD DE SUBA”
B6: INSTRUCCIONES PARA LA IDENTIFICACIÓN, ANALISIS, EVALUACIÓN , ASIGNACIÓN Y TRATAMIENTO DE RIESGOS EN LA CONTRATACIÓN
B7: 1) Seleccione el tipo de calificación (Cualitativa ó Monetaria)
B8: 2) Seleccione la(s) etapas y los riesgos que aplican al objeto contractual
B9: 3) Asigne la probabilidad de ocurrencia del riesgo, de conformidad con la tabla de probabilidad
B10: 4) Asigne el impacto que generaría la materialización del riesgo, de conformidad con la tabla de impacto
B11: 5) Al realizar las anteriores actividades se obtendrá la calificación total y la valoración del riesgo (prioridad) , traslde al formato evaluación con controles, los que tengan un nivel de criticidad diferente a bajo.
B12: 6) Continúe en la hoja de evaluación de controles
B14: CALIFICACIÓN | H14: Cualitativa
B15: ETAPA | C15: Descripción (Que puede pasar y, cómo puede ocurrir) | H15: Consecuencias de la ocurrencia del evento | I15: Probabilidad de Ocurrencia | J15: Impacto | K15: Calificación Total | L15: Prioridad
B16: PLANEACIÓN | C16: Inadecuada descripción del bien o servicio requerido | H16: ▪Atrasos en la entrega del servicio, ▪Incumplimiento del contrato, ▪Indemnizacion por daños y perjuicios causados al contratante▪Posibles acciones legales | I16: 1 | J16: 4 | K16: =+I16+J16 -> 5 | L16: =IF(K16<=4,"BAJO",IF(K16=5,"MEDIO",IF(K16=6,"ALTO",IF(K16=7,"ALTO","EXTREMO")))) -> MEDIO
B17: CONTRATACIÓN | C17: Riesgo de que no se firme el contrato. | H17: ▪No satisfacer la necesidad de la entidad. ▪Mala ejecución del objeto contratado ▪incumplimiento de las condiciones estipuladas en el contrato ▪ Afectación en la gestión de la entidad | I17: 1 | J17: 3 | K17: =+I17+J17 -> 4 | L17: =IF(K17<=4,"BAJO",IF(K17=5,"MEDIO",IF(K17=6,"ALTO",IF(K17=7,"ALTO","EXTREMO")))) -> BAJO
B18: CONTRATACIÓN | C18: Suspensión Del contrato por causas de fuerza mayor | H18: ▪ Suspensión de las actividades programadas y de los productos finales. | I18: 1 | J18: 4 | K18: =+I18+J18 -> 5 | L18: =IF(K18<=4,"BAJO",IF(K18=5,"MEDIO",IF(K18=6,"ALTO",IF(K18=7,"ALTO","EXTREMO")))) -> MEDIO
B19: EJECUCIÓN | C19: Eventos naturales tales como lluvias, inundaciones y sequias entre otros | H19: ▪Dificultades en la ejecución de actividades en territorio ▪ Incumplimiento del objeto o de las obligaciones contractuales. ▪ Incumplimiento de la metas propuestas por la entidad. ▪Indemnizacion por daños y perjuicios causados al contratante ▪Posibles acciones legales | I19: 2 | J19: 4 | K19: =+I19+J19 -> 6 | L19: =IF(K19<=4,"BAJO",IF(K19=5,"MEDIO",IF(K19=6,"ALTO",IF(K19=7,"ALTO","EXTREMO")))) -> ALTO
B20: EJECUCIÓN | C20: Incumplimiento del contratista total o parcial de las actividades relacionadas del contrato | H20: Perjuicios a la Entidad, Demora en el cumplimiento del plan de trabajo. Desequilibrio económico del contrato por la fluctuación de la Tasa Representantiva del Mercado | I20: 2 | J20: 4 | K20: =+I20+J20 -> 6 | L20: =IF(K20<=4,"BAJO",IF(K20=5,"MEDIO",IF(K20=6,"ALTO",IF(K20=7,"ALTO","EXTREMO")))) -> ALTO
B21: EJECUCIÓN | C21: Dificultades en la ejecución del objeto debido a pandemias mundiales | H21: Falta de oportunidad en la instalación de los elementos deportivos | I21: 2 | J21: 3 | K21: =+I21+J21 -> 5 | L21: =IF(K21<=4,"BAJO",IF(K21=5,"MEDIO",IF(K21=6,"ALTO",IF(K21=7,"ALTO","EXTREMO")))) -> MEDIO
B22: EJECUCIÓN | C22: Riesgo variación normativa, derivados de cambios regulatorios o reglamentarios que afecten el contrato. | H22: Está asociado a la imposición de nuevas normas de la entidad, distritales, nacionales e internacionales que puedan afectar la ejecución del contrato | I22: 2 | J22: 3 | K22: =+I22+J22 -> 5 | L22: =IF(K22<=4,"BAJO",IF(K22=5,"MEDIO",IF(K22=6,"ALTO",IF(K22=7,"ALTO","EXTREMO")))) -> MEDIO
B24: Probabilidad | C24: Catagoria | E24: Valoración | G24: Impacto | H24: Categoria | I24: Valoración
C25: Raro (puede ocurrir excepcionalmente) | E25: 1 | H25: Insignificante | I25: 1
C26: Improbable (puede ocurrir ocasionalmente) | E26: 2 | H26: Menor | I26: 2
C27: Posible (puede ocurrir en cualquier momento futuro) | E27: 3 | H27: Moderado | I27: 3
C28: Probable (probablemente va a ocurrir) | E28: 4 | H28: Mayor | I28: 4
C29: Casi cierto (ocurre en la mayoria de circunstancias) | E29: 5 | H29: Catastrófico | I29: 5
C31: Valoración del Riesgo
C32: Calificación Cualitativa | F32: Obstruye la ejecución del contrato de manera intrascendente. | G32: Dificulta la ejecución del contrato de manera baja, aplicando medidas mínimas se pueden lograr el objeto contractual | H32: Afecta la ejecución del contrato sin alterar el beneficio para las partes | I32: Obstruye la ejecución del contrato sustancialmente pero aun así permite la consecución del objeto contractual | K32: Perturba la ejecución del contrato de manera grave imposibilitando la consecución del objeto contractual.
C33: Calificación Monetaria | F33: Los sobrecostos no representan más del uno por ciento (1%) del valor del contrato. | G33: Los sobrecostos no representan más del cinco por ciento (5%) del valor del contrato. | H33: Genera un impacto sobre el valor del contrato entre el cinco (5%) y el quince por ciento (15%). | I33: Incrementa el valor del contrato entre el quince (15%) y el treinta por ciento (30%). | K33: Impacto sobre el valor del contrato en más del treinta por ciento (30%).
C34: Categoría | E34: Valoración | F34: Insignificante | G34: Menor | H34: Moderado | I34: Mayor | K34: Catastrófico
F35: 1 | G35: 2 | H35: 3 | I35: 4 | K35: 5
C36: Raro (puede ocurrir excepcionalmente) | E36: 1 | F36: 2 | G36: 3 | H36: 4 | I36: 5 | K36: 6
C37: Improbable (puede ocurrir ocasionalmente) | E37: 2 | F37: 3 | G37: 4 | H37: 5 | I37: 6 | K37: 7
C38: Posible (puede ocurrir en cualquier momento futuro) | E38: 3 | F38: 4 | G38: 5 | H38: 6 | I38: 7 | K38: 8
C39: Probable (probablemente va a ocurrir) | E39: 4 | F39: 5 | G39: 6 | H39: 7 | I39: 8 | K39: 9
C40: Casi cierto (ocurre en la mayoria de circunstancias) | E40: 5 | F40: 6 | G40: 7 | H40: 8 | I40: 9 | K40: 10
G42: Categoria del Riesgo
G43: Valoración del Riesgo | H43: Categoría
G44: 8, 9 y 10 | H44: Riesgo extremo
G45: 6 y 7 | H45: Riesgo alto
G46: 5 | H46: Riesgo medio
G47: 2, 3 y 4 | H47: Riesgo bajo
...

Sheet EVALUACION CON CONTROLES
D2: MATRIZ DE RIESGOS DE CONTRATACIÓN | P2: Código: GCO-GCI-F164 Versión: 02 Vigencia: 01 de diciembre de 2022 Caso HOLA: 280117
A6: =+EVALUACION!B5 -> Objeto Contractual: “PRESTAR LOS SERVICIOS PROFESIONALES PARA PROMOVER EL FORTALECIMIENTO DE LA ALIANZA ESCUELA, FAMILIA Y COMUNIDAD, EN EL MARCO DEL PROYECTO DE INVERSIÓN 1957 "CONSTRUYENDO NUESTRA INFANCIA LOCAL" DE LA LOCALIDAD DE SUBA”
A7: INSTRUCCIONES PARA LA IDENTIFICACIÓN, ANALISIS, EVALUACIÓN , ASIGNACIÓN Y TRATAMIENTO DE RIESGOS EN LA CONTRATACIÓN
A8: 1) Describa el tratamiento/controles a ser implementados
A9: 2) Teniendo en cuenta el tratamiento descrito, asigne la probabilidad de ocurrencia del riesgo, de conformidad con la tabla de probabilidad
A10: 3) Teniendo en cuenta el tratamiento descrito, asigne el impacto que generaría la materialización del riesgo, de conformidad con la tabla de impacto
A11: 4) Al realizar las anteriores actividades se obtendrá la calificación total y la valoración del riesgo (prioridad)
A12: 5) Diligencie la información de las démas columnas
A13: 7) Continúe en la hoja de asignación y tratamiento
A15: ETAPA | B15: Descripción (Que puede pasar y, cómo puede ocurrir) | F15: Tratamiento/Controles a ser implementados | H15: Probabilidad de Ocurrencia | I15: Impacto | J15: Calificación Total | K15: Prioridad | L15: ¿Afecta el equilibrio económico del contrato? | M15: Persona responsable por implementar el tratamiento | N15: Fecha estimada en que se inicia el tratamiento | O15: Fecha estimada en que se completa el tratamiento | P15: ¿Cómo se realiza el monitoreo? | Q15: Periodicidad ¿Cuándo?
A16: =+EVALUACION!B16 -> PLANEACIÓN | B16: =+EVALUACION!C16 -> Inadecuada descripción del bien o servicio requerido | F16: Se se llega detectar que se tuvo fallas o impresisciones en la formulación del anexo técnico y demas documentos del contrato, se deberá dar un alcance al tema objeto de revisión durante le primer comité técnico y hacer exigible algunos ajustes o precisiones en el plan de trabajo que elabore el contratista. | H16: 2 | I16: =+EVALUACION!J16 -> 4 | J16: =+H16+I16 -> 6 | K16: =IF(J16<=4,"BAJO",IF(J16=5,"MEDIO",IF(J16=6,"ALTO",IF(J16=7,"ALTO","EXTREMO")))) -> ALTO | L16: SI | M16: tecnico y formulador | N16: Etapa de revisión de documentos de la formulación del proceso contractual | O16: Etapa de revisión de documentos de la formulación del proceso contractual | P16: Revisión de documentos de la formulación del proceso contractual | Q16: Etapa de revisión de documentos de la formulación del proceso contractual
A17: =+EVALUACION!B17 -> CONTRATACIÓN | B17: =+EVALUACION!C17 -> Riesgo de que no se firme el contrato. | F17: Exigir condiciones organizacionales de recurso humano y técnico, experiencia, capacidad financiera entre otros, para que se presenten personas naturales y juridicas capaces de cumplir con el objeto de contrato. | H17: =+EVALUACION!I17 -> 1 | I17: =+EVALUACION!J17 -> 3 | J17: =+H17+I17 -> 4 | K17: =IF(J17<=4,"BAJO",IF(J17=5,"MEDIO",IF(J17=6,"ALTO",IF(J17=7,"ALTO","EXTREMO")))) -> BAJO | L17: SI | M17: Supervisor del Contrato, Contratista | N17: Al momento de la entrega de la dotación de elementos deportivos el supervisor verificará que cumplan con los tiempos estipulados. | O17: Entrega de la dotación de elementos deportivos | P17: El supervisor fijará fechas de entrega de las dotaciones deportivas | Q17: Permanente
A18: =+EVALUACION!B18 -> CONTRATACIÓN | B18: =+EVALUACION!C18 -> Suspensión Del contrato por causas de fuerza mayor | F18: El FDL no asumirá la responsabilidad de los perjuicios que se puedan causar al contratista por la suspensión del contrato, sí median causas justas | H18: =+EVALUACION!I18 -> 1 | I18: =+EVALUACION!J18 -> 4 | J18: =+H18+I18 -> 5 | K18: =IF(J18<=4,"BAJO",IF(J18=5,"MEDIO",IF(J18=6,"ALTO",IF(J18=7,"ALTO","EXTREMO")))) -> MEDIO | L18: NO | M18: Supervisión del contrato | N18: A partir de la firma de acta de inicio | O18: Hasta la terminación del contrato | P18: Verificación de las situaciones externas. | Q18: Permanente
A19: =+EVALUACION!B19 -> EJECUCIÓN | B19: =+EVALUACION!C19 -> Eventos naturales tales como lluvias, inundaciones y sequias entre otros | H19: =+EVALUACION!I19 -> 2 | I19: =+EVALUACION!J19 -> 4 | J19: =+H19+I19 -> 6 | K19: =IF(J19<=4,"BAJO",IF(J19=5,"MEDIO",IF(J19=6,"ALTO",IF(J19=7,"ALTO","EXTREMO")))) -> ALTO | L19: SI | M19: Area de gestión FDL | N19: En la etapa de Ejecución | O19: Hasta la terminación del contrato | P19: Verificación de las situaciones externas. | Q19: Permanente
A20: =+EVALUACION!B20 -> EJECUCIÓN | B20: =+EVALUACION!C20 -> Incumplimiento del contratista total o parcial de las actividades relacionadas del contrato | F20: Seguimiento a la ejecución. Verificación constante del valor de la TRM, durante la ejecución del contrato | H20: =+EVALUACION!I20 -> 2 | I20: =+EVALUACION!J20 -> 4 | J20: =+H20+I20 -> 6 | K20: =IF(J20<=4,"BAJO",IF(J20=5,"MEDIO",IF(J20=6,"ALTO",IF(J20=7,"ALTO","EXTREMO")))) -> ALTO | L20: SI | M20: Contratista y Supervisor del Contrato | N20: En la etapa de Ejecución | O20: Hasta la terminación del contrato | P20: Reuniones periódicas para verificar el cronograma de trabajo y la variación de la TRM | Q20: Permanente
A21: =+EVALUACION!B21 -> EJECUCIÓN | B21: =+EVALUACION!C21 -> Dificultades en la ejecución del objeto debido a pandemias mundiales | F21: Seguimiento permanente a las disposiciones y/o regulaciones normativas | H21: =+EVALUACION!I21 -> 2 | I21: =+EVALUACION!J21 -> 3 | J21: =+H21+I21 -> 5 | K21: =IF(J21<=4,"BAJO",IF(J21=5,"MEDIO",IF(J21=6,"ALTO",IF(J21=7,"ALTO","EXTREMO")))) -> MEDIO | L21: SI | M21: Supervisión del contrato | N21: A partir de la firma de acta de inicio | O21: Hasta la terminación del contrato | P21: Verificación de las situaciones externas. | Q21: Permanente
A22: =+EVALUACION!B22 -> EJECUCIÓN | B22: Riesgo variación normativa, derivados de cambios regulatorios o reglamentarios que afecten el contrato. | F22: Está asociado a la imposición de nuevas normas de la entidad, distritales, nacionales e internacionales que puedan afectar la ejecución del contrato | H22: =+EVALUACION!I22 -> 2 | I22: =+EVALUACION!J22 -> 3 | J22: =+H22+I22 -> 5 | K22: =IF(J22<=4,"BAJO",IF(J22=5,"MEDIO",IF(J22=6,"ALTO",IF(J22=7,"ALTO","EXTREMO")))) -> MEDIO | L22: SI | M22: Supervisión del contrato | N22: A partir de la firma de acta de inicio | O22: Hasta la terminación del contrato | P22: Verificación de las situaciones externas. | Q22: Permanente
B23: Categoria del Riesgo | G23: Impacto del Riesgo
A24: Probabilidad | B24: Catagoria | E24: Valoración | G24: Categoria | I24: Valoración | M24: Categoria del Riesgo
B25: Raro (puede ocurrir excepcionalmente) | E25: 1 | G25: Insignificante | I25: 1 | M25: Valoración del Riesgo | O25: Categoría
B26: Improbable (puede ocurrir ocasionalmente) | E26: 2 | G26: Menor | I26: 2 | M26: 8, 9 y 10 | O26: Riesgo extremo
B27: Posible (puede ocurrir en cualquier momento futuro) | E27: 3 | G27: Moderado | I27: 3 | M27: 6 y 7 | O27: Riesgo alto
B28: Probable (probablemente va a ocurrir) | E28: 4 | G28: Mayor | I28: 4 | M28: 5 | O28: Riesgo medio
B29: Casi cierto (ocurre en la mayoria de circunstancias) | E29: 5 | G29: Catastrófico | I29: 5 | M29: 2, 3 y 4 | O29: Riesgo bajo
B31: Valoración del Riesgo
B32: Calificación Cualitativa | F32: Obstruye la ejecución del contrato de manera intrascendente. | H32: Dificulta la ejecución del contrato de manera baja, aplicando medidas mínimas se pueden lograr el objeto contractual | K32: Afecta la ejecución del contrato sin alterar el beneficio para las partes | M32: Obstruye la ejecución del contrato sustancialmente pero aun así permite la consecución del objeto contractual | O32: Perturba la ejecución del contrato de manera grave imposibilitando la consecución del objeto contractual.
B33: Calificación Monetaria | F33: Los sobrecostos no representan más del uno por ciento (1%) del valor del contrato. | H33: Los sobrecostos no representan más del cinco por ciento (5%) del valor del contrato. | K33: Genera un impacto sobre el valor del contrato entre el cinco (5%) y el quince por ciento (15%). | M33: Incrementa el valor del contrato entre el quince (15%) y el treinta por ciento (30%). | O33: Impacto sobre el valor del contrato en más del treinta por ciento (30%).
B34: Catagoria | E34: Valoración | F34: Insignificante | H34: Menor | K34: Moderado | M34: Mayor | O34: Catastrófico
F35: 1 | H35: 2 | K35: 3 | M35: 4 | O35: 5
B36: Raro (puede ocurrir excepcionalmente) | E36: 1 | F36: 2 | H36: 3 | K36: 4 | M36: 5 | O36: 6
B37: Improbable (puede ocurrir ocasionalmente) | E37: 2 | F37: 3 | H37: 4 | K37: 5 | M37: 6 | O37: 7
B38: Posible (puede ocurrir en cualquier momento futuro) | E38: 3 | F38: 4 | H38: 5 | K38: 6 | M38: 7 | O38: 8
B39: Probable (probablemente va a ocurrir) | E39: 4 | F39: 5 | H39: 6 | K39: 7 | M39: 8 | O39: 9
B40: Casi cierto (ocurre en la mayoria de circunstancias) | E40: 5 | F40: 6 | H40: 7 | K40: 8 | M40: 9 | O40: 10

Sheet ASIGNACION Y TRATAMIENTO
D2: MATRIZ DE RIESGOS DE CONTRATACIÓN | W2: Código: GCO-GCI-F164 Versión: 02 Vigencia: 01 de diciembre de 2022 Caso HOLA: 280117
B6: OBJETO: “PRESTAR LOS SERVICIOS PROFESIONALES PARA PROMOVER EL FORTALECIMIENTO DE LA ALIANZA ESCUELA, FAMILIA Y COMUNIDAD, EN EL MARCO DEL PROYECTO DE INVERSIÓN 1957 "CONSTRUYENDO NUESTRA INFANCIA LOCAL" DE LA LOCALIDAD DE SUBA”
B7: IDENTIFICACIÓN, ANALISIS, EVALUACIÓN , ASIGNACIÓN Y TRATAMIENTO DE RIESGOS EN LA CONTRATACIÓN
B8: Esta matriz es un documento anexo del Estudio Previo
B10: No | C10: Descripción (Que puede pasar y, cómo puede ocurrir) | D10: Etapa | E10: Clase | F10: Fuente | G10: Consecuencias de la ocurrencia del evento | H10: Probabilidad | I10: Impacto | J10: Calificación total | K10: Prioridad | L10: ¿A quien se le asigna? | M10: % | N10: Tratamiento/Controles a ser implementados | O10: Probabilidad | P10: Impacto | Q10: Calificación total | R10: Prioridad | S10: ¿Afecta el equilibrio económico del contrato? | T10: Persona responsable por implementar el tratamiento | U10: Fecha estimada en que se inicia el tratamiento | V10: Fecha estimada en que se completa el tratamiento | W10: ¿Cómo se realiza el monitoreo | X10: Periodicidad ¿Cuándo?
B11: 1 | C11: Inadecuada descripción del bien o servicio requerido | D11: =+'EVALUACION CON CONTROLES'!A16 -> PLANEACIÓN | E11: ='IDENTIFICACION Y ANALISIS'!D43 -> Especifico | F11: ='IDENTIFICACION Y ANALISIS'!E43 -> Interno | G11: =EVALUACION!H16 -> ▪Atrasos en la entrega del servicio, ▪Incumplimiento del contrato, ▪Indemnizacion por daños y perjuicios causados al contratante▪Posibles acciones legales | H11: =+EVALUACION!I16 -> 1 | I11: =+EVALUACION!J16 -> 4 | J11: =+EVALUACION!K16 -> 5 | K11: =+EVALUACION!L16 -> MEDIO | L11: MEDIO | M11: CONTRATISTA 100% | N11: =+'EVALUACION CON CONTROLES'!F16 -> Se se llega detectar que se tuvo fallas o impresisciones en la formulación del anexo técnico y demas documentos del contrato, se deberá dar un alcance al tema objeto de revisión durante le primer comité técnico y hacer exigible algunos ajustes o precisiones en el plan de trabajo que elabore el contratista. | O11: =+'EVALUACION CON CONTROLES'!H16 -> 2 | P11: =+'EVALUACION CON CONTROLES'!I16 -> 4 | Q11: =+'EVALUACION CON CONTROLES'!J16 -> 6 | R11: =+'EVALUACION CON CONTROLES'!K16 -> ALTO | S11: =+'EVALUACION CON CONTROLES'!L16 -> SI | T11: =+'EVALUACION CON CONTROLES'!M16 -> tecnico y formulador | U11: =+'EVALUACION CON CONTROLES'!N16 -> Etapa de revisión de documentos de la formulación del proceso contractual | V11: =+'EVALUACION CON CONTROLES'!O16 -> Etapa de revisión de documentos de la formulación del proceso contractual | ... X11: =+'EVALUACION CON CONTROLES'!Q16 -> Etapa de revisión de documentos de la formulación del proceso contractual
B12: 2 | C12: Incumplimiento de la entrega de elementos para el desarrollo de las actividades en las fechas estipuladas conforme a la ley y a la invitación pública. | D12: =+'EVALUACION CON CONTROLES'!A17 -> CONTRATACIÓN | E12: ='IDENTIFICACION Y ANALISIS'!D44 -> Especifico | F12: ='IDENTIFICACION Y ANALISIS'!E44 -> Interno | G12: =+EVALUACION!H17 -> ▪No satisfacer la necesidad de la entidad. ▪Mala ejecución del objeto contratado ▪incumplimiento de las condiciones estipuladas en el contrato ▪ Afectación en la gestión de la entidad | H12: =+EVALUACION!I17 -> 1 | I12: =+EVALUACION!J17 -> 3 | J12: =+EVALUACION!K17 -> 4 | K12: =+EVALUACION!L17 -> BAJO | L12: MEDIO | M12: CONTRATISTA 100% | N12: =+'EVALUACION CON CONTROLES'!F17 -> Exigir condiciones organizacionales de recurso humano y técnico, experiencia, capacidad financiera entre otros, para que se presenten personas naturales y juridicas capaces de cumplir con el objeto de contrato. | O12: =+'EVALUACION CON CONTROLES'!H17 -> 1 | P12: =+'EVALUACION CON CONTROLES'!I17 -> 3 | Q12: =+'EVALUACION CON CONTROLES'!J17 -> 4 | R12: =+'EVALUACION CON CONTROLES'!K17 -> BAJO | S12: =+'EVALUACION CON CONTROLES'!L17 -> SI | T12: =+'EVALUACION CON CONTROLES'!M17 -> Supervisor del Contrato, Contratista | U12: =+'EVALUACION CON CONTROLES'!N17 -> Al momento de la entrega de la dotación de elementos deportivos el supervisor verificará que cumplan con los tiempos estipulados. | V12: =+'EVALUACION CON CONTROLES'!O17 -> Entrega de la dotación de elementos deportivos | ... X12: =+'EVALUACION CON CONTROLES'!Q17 -> Permanente
B13: 3 | C13: Suspensión del contrato por causas de fuerza mayor, caso fortuito o pandemias | D13: =+'EVALUACION CON CONTROLES'!A18 -> CONTRATACIÓN | E13: ='IDENTIFICACION Y ANALISIS'!D42 -> Especifico | F13: ='IDENTIFICACION Y ANALISIS'!E45 -> Interno | G13: =+EVALUACION!H18 -> ▪ Suspensión de las actividades programadas y de los productos finales. | H13: =+EVALUACION!I18 -> 1 | I13: =+EVALUACION!J18 -> 4 | J13: =+EVALUACION!K18 -> 5 | K13: =+EVALUACION!L18 -> MEDIO | L13: MEDIO | M13: CONTRATISTA 100% | N13: =+'EVALUACION CON CONTROLES'!F18 -> El FDL no asumirá la responsabilidad de los perjuicios que se puedan causar al contratista por la suspensión del contrato, sí median causas justas | O13: =+'EVALUACION CON CONTROLES'!H18 -> 1 | P13: =+'EVALUACION CON CONTROLES'!I18 -> 4 | Q13: =+'EVALUACION CON CONTROLES'!J18 -> 5 | R13: =+'EVALUACION CON CONTROLES'!K18 -> MEDIO | S13: =+'EVALUACION CON CONTROLES'!L18 -> NO | T13: =+'EVALUACION CON CONTROLES'!M18 -> Supervisión del contrato | U13: =+'EVALUACION CON CONTROLES'!N18 -> A partir de la firma de acta de inicio | V13: =+'EVALUACION CON CONTROLES'!O18 -> Hasta la terminación del contrato | ... X13: =+'EVALUACION CON CONTROLES'!Q18 -> Permanente
B14: 4 | C14: Incumplimiento del contratista total o parcial de las actividades relacionadas del contrato | D14: =+'EVALUACION CON CONTROLES'!A20 -> EJECUCIÓN | E14: ='IDENTIFICACION Y ANALISIS'!D52 -> General | F14: ='IDENTIFICACION Y ANALISIS'!E52 -> Externo | G14: =+EVALUACION!H20 -> Perjuicios a la Entidad, Demora en el cumplimiento del plan de trabajo. Desequilibrio económico del contrato por la fluctuación de la Tasa Representantiva del Mercado | H14: =+EVALUACION!I20 -> 2 | I14: =+EVALUACION!J20 -> 4 | J14: =+EVALUACION!K20 -> 6 | K14: =+EVALUACION!L20 -> ALTO | L14: ALTO | M14: CONTRATISTA 100% | N14: =+'EVALUACION CON CONTROLES'!F20 -> Seguimiento a la ejecución. Verificación constante del valor de la TRM, durante la ejecución del contrato | O14: =+'EVALUACION CON CONTROLES'!H20 -> 2 | P14: =+'EVALUACION CON CONTROLES'!I20 -> 4 | Q14: =+'EVALUACION CON CONTROLES'!J20 -> 6 | R14: =+'EVALUACION CON CONTROLES'!K20 -> ALTO | S14: =+'EVALUACION CON CONTROLES'!L20 -> SI | T14: =+'EVALUACION CON CONTROLES'!M20 -> Contratista y Supervisor del Contrato | U14: =+'EVALUACION CON CONTROLES'!N20 -> En la etapa de Ejecución | V14: =+'EVALUACION CON CONTROLES'!O20 -> Hasta la terminación del contrato | ... X14: =+'EVALUACION CON CONTROLES'!Q20 -> Permanente
B15: 5 | C15: Riesgo variación normativa, derivados de cambios regulatorios o reglamentarios que afecten el contrato. | D15: =+'EVALUACION CON CONTROLES'!A21 -> EJECUCIÓN | E15: ='IDENTIFICACION Y ANALISIS'!D50 -> General | F15: ='IDENTIFICACION Y ANALISIS'!E50 -> Externo | G15: =+EVALUACION!H21 -> Falta de oportunidad en la instalación de los elementos deportivos | H15: =+EVALUACION!I21 -> 2 | I15: =+EVALUACION!J21 -> 3 | J15: =+EVALUACION!K21 -> 5 | K15: =+EVALUACION!L21 -> MEDIO | L15: MEDIO | M15: CONTRATISTA 50% / ENTIDAD 50% | N15: =+'EVALUACION CON CONTROLES'!F21 -> Seguimiento permanente a las disposiciones y/o regulaciones normativas | O15: =+'EVALUACION CON CONTROLES'!H21 -> 2 | P15: =+'EVALUACION CON CONTROLES'!I21 -> 3 | Q15: =+'EVALUACION CON CONTROLES'!J21 -> 5 | R15: =+'EVALUACION CON CONTROLES'!K21 -> MEDIO | S15: =+'EVALUACION CON CONTROLES'!L21 -> SI | T15: =+'EVALUACION CON CONTROLES'!M21 -> Supervisión del contrato | U15: =+'EVALUACION CON CONTROLES'!N21 -> A partir de la firma de acta de inicio | V15: =+'EVALUACION CON CONTROLES'!O21 -> Hasta la terminación del contrato | ... X15: =+'EVALUACION CON CONTROLES'!Q21 -> Permanente
B16: 6 | C16: Eventos naturales tales como lluvias, inundaciones y sequias entre otros | D16: =+'EVALUACION CON CONTROLES'!A22 -> EJECUCIÓN | E16: ='IDENTIFICACION Y ANALISIS'!D51 -> General | F16: ='IDENTIFICACION Y ANALISIS'!E51 -> Externo | G16: ▪Dificultades en la ejecución de actividades en territorio ▪ Incumplimiento del objeto o de las obligaciones contractuales. ▪ Incumplimiento de la metas propuestas por la entidad. ▪Indemnizacion por daños y perjuicios causados al contratante ▪Posibles acciones legales | H16: =+EVALUACION!I19 -> 2 | I16: =+EVALUACION!J19 -> 4 | J16: =+EVALUACION!K19 -> 6 | K16: =+EVALUACION!L22 -> MEDIO | L16: MEDIO | M16: CONTRATISTA 50% / ENTIDAD 50% | N16: El supervisor del contrato o el apoyo a la supervisión y el contratista deberan realizar seguimiento del cronograma estipulado y verificar en medios de comunicación y fuentes oficiales de situaciones de orden público, climáticas o externas que afecten el servicio a proveer y de ser necesario realizar los ajustes necesarios para que no se afecten el cumpliiento del contrato. | O16: =+'EVALUACION CON CONTROLES'!H19 -> 2 | P16: =+'EVALUACION CON CONTROLES'!I19 -> 4 | Q16: =+'EVALUACION CON CONTROLES'!J19 -> 6 | R16: =+'EVALUACION CON CONTROLES'!K22 -> MEDIO | S16: ='[1]EVALUACION CON CONTROLES'!M21 -> Si | T16: ='[1]EVALUACION CON CONTROLES'!N21 -> Supervisión del contrato | U16: ='[1]EVALUACION CON CONTROLES'!O21 -> A partir de la reanudación contrato | V16: ='[1]EVALUACION CON CONTROLES'!P21 -> Hasta la terminación del contrato | W16: ='[1]EVALUACION CON CONTROLES'!Q21 -> Verificación de las situaciones externas. | X16: ='[1]EVALUACION CON CONTROLES'!R21 -> Permanente
B17: 7 | C17: Faltantes o deficiencia en los soportes fisicos y magneticos que soportan la adecuada ejecución de las actividades CARTOGRAFIANDO – ANDO, EXPLORANANDO - ANDO, CONCIERTO CANTICUENTOS Y POEMARIO AL NATURAL, DESDE EL JUEGO SOMOS MEMORIA, MI TIERRA SABE - MIS ABUELOS ME LEGAN, LOS TITERES LO SABEN, AVENTURÁNDONOS A RECORRER LOS PASOS DE MIS MAYORES POR SUBA MI LOCALIDAd, PADRES Y MADRES EN SÍNTONÍA, HUERTOPIA, BRIGADISTAS SALVAVIDAS DE MASCOTAS SERES SINTIENTES, PACHA MAMA - TE PINTURAMOS, ¿Y DE LA TIERRITA Y EL MAICITO QUÉ? Y SOMOS LO QUE COMEMOS. | D17: EJECUCIÓN | E17: ='IDENTIFICACION Y ANALISIS'!D51 -> General | F17: ='IDENTIFICACION Y ANALISIS'!E51 -> Externo | G17: a. Dudas en la efectividad de la entrega de elementos que conforman los kits. B. Insatisfacción del FDLS de soportes presentados para verificacón de la entrega de los elementos | H17: 2 | I17: 3 | J17: 5 | K17: MEDIO | L17: MEDIO | M17: CONTRATISTA 50% / ENTIDAD 50% | N17: REDUCIR LA PROBABILIDAD DE OCURRENCIA Solicitando de manera periodica- de acuerdo a cronograma de entrega revisión fisica de la documetación que respalda la entrega de los elementos que conforman los kits y/o elementos establecidos para el componente | O17: 2 | P17: 3 | Q17: 5 | R17: MEDIO | S17: SI | T17: Supervisión del Contrato Contratista | U17: A partir de la firma de acta de inicio | V17: Hasta la terminación del contrato | W17: Verificación de las situaciones externas. | X17: Permanente
B18: 8 | C18: Baja participación de la comunidad educativa y no se cumpla la oferta de acuerdo al anexo tecnico | D18: EJECUCIÓN | E18: ='IDENTIFICACION Y ANALISIS'!D52 -> General | F18: ='IDENTIFICACION Y ANALISIS'!E52 -> Externo | G18: Retraso en los cronogramas establecidos, prórrogas en el plazo de ejecución. | H18: 2 | I18: 3 | J18: 5 | K18: MEDIO | L18: MEDIO | M18: CONTRATISTA 50% / ENTIDAD 50% | N18: El operador deberá garantizar la convocatoria y socializacion del proyecto ante la comunidad | O18: 2 | P18: 3 | Q18: 5 | R18: MEDIO | S18: SI | T18: Supervisión del contrato | U18: A partir de la firma de acta de inicio | V18: Hasta la terminación del contrato | W18: Verificación de las situaciones externas. | X18: Permanente
F19: Categoria | J19: Impacto del Riesgo
E20: Probabilidad | F20: Catagoria | G20: Valoración | J20: Categoria | L20: Valoración
F21: Raro (puede ocurrir excepcionalmente) | G21: 1 | J21: Insignificante | L21: 1
F22: Improbable (puede ocurrir ocasionalmente) | G22: 2 | J22: Menor | L22: 2
F23: Posible (puede ocurrir en cualquier momento futuro) | G23: 3 | J23: Moderado | L23: 3
F24: Probable (probablemente va a ocurrir) | G24: 4 | J24: Mayor | L24: 4
F25: Casi cierto (ocurre en la mayoria de circunstancias) | G25: 5 | J25: Catastrófico | L25: 5
D27: Valoración del Riesgo
D28: Catagoria | E28: Valoración | F28: Insignificante | H28: Menor | J28: Moderado | K28: Mayor | L28: Catastrófico | P28: Categoria del Riesgo
F29: 1 | H29: 2 | J29: 3 | K29: 4 | L29: 5 | P29: Valoración del Riesgo | S29: Categoría
D30: Raro (puede ocurrir excepcionalmente) | E30: 1 | F30: 2 | H30: 3 | J30: 4 | K30: 5 | L30: 6 | P30: 8, 9 y 10 | S30: Riesgo extremo
D31: Improbable (puede ocurrir ocasionalmente) | E31: 2 | F31: 3 | H31: 4 | J31: 5 | K31: 6 | L31: 7 | P31: 6 y 7 | S31: Riesgo alto
D32: Posible (puede ocurrir en cualquier momento futuro) | E32: 3 | F32: 4 | H32: 5 | J32: 6 | K32: 7 | L32: 8 | P32: 5 | S32: Riesgo medio
D33: Probable (probablemente va a ocurrir) | E33: 4 | F33: 5 | H33: 6 | J33: 7 | K33: 8 | L33: 9 | P33: 2, 3 y 4 | S33: Riesgo bajo
D34: Casi cierto (ocurre en la mayoria de circunstancias) | E34: 5 | F34: 6 | H34: 7 | J34: 8 | K34: 9 | L34: 10
B39: CONTRATISTA
B40: SDG
B41: CONTRATISTA Y SDG
