Workbook

Sheet PLAN FINANCIERO
A1: MUNICIPIO DE XXXXX | F1: =$A$1 -> MUNICIPIO DE XXXXX
A2: =PRESUP!A4 -> PROYECTO "OPTIMIZACION DEL ACUEDUCTO RURAL DEL BARRIO CEFERINO EN ZONA RURAL DEL MUNICIPIO DE HELICONIA-ANTIOQUIA" | F2: .
B3: DEPARTAMENTO S.G.P | C3: MUNICIPIO S.G.P | D3: TOTAL
A4: OBRA FISICA
A5: ="A = " & ($D$5/$D$4)*100 & "%" -> #DIV/0! | F5: 105861524
A6: I = 12% | F6: 909106938
A7: U = 5% | F7: 754274718
A8: Subtotal Obras | B8: =SUM(B4:B7) -> 0 | C8: =SUM(C4:C7) -> 0 | D8: =SUM(D4:D7) -> 0 | F8: =+F6-F7 -> 154832220
A9: SUMINISTROS | F9: =+F7/F6 -> 0.82968756
A10: ="A = " & ($D$5/$D$4)*100 & "%" -> #DIV/0! | F10: =+F8/F6 -> 0.17031244
A11: Subtotal Suministros | D11: =+D9+D10 -> 0
A12: PROTOCOLO BIOS
A13: TOTAL INVERSIÓN | B13: =ROUNDUP(B8+B11+B12,0) -> 0 | C13: =C8+C11+C12 -> 0 | D13: =ROUNDUP(D8+D11+D12,0) -> 0 | F13: 0.7 | G13: Depto
A14: OTROS | F14: 0.3 | G14: Municipio
A15: ="Interventoría Obra física ("&ROUND(PRESUP!I10*100,2)&"%)" -> #DIV/0! | F15: 0 | G15: OTRO
A16: ="Interventoría Suministros ("&IF(PRESUP!#REF!=0,0,ROUND(PRESUP!#REF!*100,2))&"%)" -> #REF! | D16: =+PRESUP!I12 -> 0
A17: Seguimiento MVCT (Valor Nación *0,02)/0,98
A18: Subtotal Otros | B18: =+B15+B16+B17 -> 0 | C18: =+C15+C16+C17 -> 0 | D18: =+D15+D16+D17 -> 0
A19: PLAN FINANCIERO TOTAL | B19: =+B13+B18 -> 0 | C19: =+C13+C18 -> 0 | D19: =+D13+D18 -> 0
B20: =+B19/$D$19 -> #DIV/0! | C20: =+C19/$D$19 -> #DIV/0!

Sheet PRESUP
A1: DEPARTAMENTO DE ANTIOQUIA
A2: GERENCIA DE SERVICIOS PUBLICOS
A3: CONCURSO DE MERITOS No.
A4: PROYECTO "OPTIMIZACION DEL ACUEDUCTO RURAL DEL BARRIO CEFERINO EN ZONA RURAL DEL MUNICIPIO DE HELICONIA-ANTIOQUIA"
A5: PRESUPUESTO OFICIAL
A6: ITEM | B6: DESCRIPCIÓN | C6: UNIDAD | D6: CANTIDAD | E6: SUELDO O TARIFA MENSUAL | F6: DEDICACIÓN MENSUAL (%) | G6: DURACIÓN (meses) | H6: VALOR PARCIAL ($)
A7: A | B7: COSTOS DIRECTOS DE PERSONAL
A8: 1 | B8: Personal Profesional: | M8: Subtotal Obras | N8: =+'PLAN FINANCIERO'!D8 -> 0 | O8: =+N8*0.08 -> 0 | P8: =+O8/N8 -> #DIV/0!
A9: 1.1 | B9: Director de Interventoria | C9: Persona | D9: 1 | E9: 5859315 | F9: 0.5 | G9: 4.5 | H9: =+E9*F9*G9*D9 -> 13183459 | I9: =ROUNDUP(SUM(H9:H13)*G16+H18+H32+H34,0) -> 185330668 | J9: =+I9-I12 -> 185330668 | M9: Subtotal Suministros | N9: =+'PLAN FINANCIERO'!D11 -> 0 | O9: =+N9*0.02 -> 0 | P9: =+O9/N9 -> #DIV/0!
A10: 1.2 | B10: Residente de interventoria | C10: Persona | D10: 1 | E10: 4773757 | F10: 1 | G10: =G9 -> 4.5 | H10: =+E10*F10*G10*D10 -> 21481906 | I10: =J9/N8 -> #DIV/0! | M10: TOTAL INVERSIÓN | N10: =+N9+N8 -> 0 | O10: =+O9+O8 -> 0
A11: 1.3 | B11: Tecnólogo social de interventoría | C11: Persona | D11: 1 | E11: 3124968 | F11: 1 | G11: =G10 -> 4.5 | H11: =+E11*F11*G11*D11 -> 14062356
A12: 1.4 | B12: Tecnólogo ambiental de interventoría | C12: Persona | D12: 1 | E12: 3124968 | F12: 1 | G12: =G11 -> 4.5 | H12: =+E12*F12*G12*D12 -> 14062356 | I12: =+O9 -> 0 | N12: =+H34 -> 28613184 | O12: =+O10-N12 -> -28613184
I14: =+#REF!*100 -> #REF! | M14: 3030356461
B15: SUBTOTAL COSTOS DE PERSONAL | H15: =SUM(H9:H13) -> 62790077 | M15: 4.7737714e+08
B16: Factor Multiplicador (FM) | G16: 1.97 | J16: 600000
B17: COSTOS DE PERSONAL CON FM | H17: =ROUND(((H15)*G16),0) -> 123696452 | J17: =(5*J16*G9)+(J16*0.05*G9) -> 13635000
A18: 2 | B18: Gastos AUXILIO DE LOCALIZACIÓN | H18: =H19+H20 -> 17257500
A19: 2.1 | B19: Auxilio de localización para el Director y Residente de interventoría. Se reconoceran de manera proporcional a la permanecia en obra respecto de su porcentaje de dedicación. | C19: Estimado | E19: =+FM!J34 -> 2091600 | H19: =+E19*$G$9 -> 9412200
A20: 2.2 | B20: Auxilio de localización para el Social, Ambiental,Teconologo SST y Auxiliares de Residencia. Se reconoceran de manera proporcional a la permanencia en obra respecto de su porcentaje de dedicación. El residente deberá cumplir con la premanencia mínima de 22 días en la obra, en caso contrario se pagará proporcional a su permanencia | C20: Estimado | E20: =+FM!K34 -> 1743400 | H20: =+E20*$G$9 -> 7845300 | M20: =+H35-O9 -> 185330668
B21: TOTAL COSTOS DIRECTOS DE PERSONAL (A) | H21: =H18+H17 -> 140953952
A22: B | B22: OTROS COSTOS DIRECTOS
A23: 3 | B23: Gastos de Transporte, Alquiler de equipos y Otros:
A24: 3.1 | B24: Fotocopias, edicion informes, registros fotográficos entre otros | C24: Unidad | D24: 1 | E24: 120000 | G24: =+G9 -> 4.5 | H24: =D24*E24*G24 -> 540000
A25: 3.2 | B25: Motos. Alquiler modelo 2017 o superior - tarifa de alquiler | C25: Unidad | D25: 2 | E25: 350000 | G25: =+G10 -> 4.5 | H25: =D25*E25*G25 -> 3150000
A26: 3.3 | B26: Comunicaciones (Celular, Internet) mensual | C26: Unidad | D26: 1 | E26: 200000 | G26: =+G9 -> 4.5 | H26: =D26*E26*G26 -> 900000
A27: 3.4 | B27: Tarifa alquiler de equipo de oficina para uso del proyecto: 1 equipo de cómputo, muebles y enseres de oficina | C27: Unidad | D27: 1 | E27: 500000 | G27: =+G9 -> 4.5 | H27: =D27*E27*G27 -> 2250000
A28: 3.5 | B28: Alquiler Impresora oficina (Una sola vez) | C28: Unidad | D28: 1 | E28: 300000 | G28: 1 | H28: =+D28*E28 -> 300000
A29: 3.6 | B29: Oficina de campo (alqulier y pago de servicios públicos) | C29: Unidad | D29: 1 | E29: 1400000 | G29: =+G9 -> 4.5 | H29: =+D29*E29*G29 -> 6300000
A30: 4 | B30: Estudios y ensayos (Densidades, Granulometría, Límites de consistencia, Proctor modificado, pruebas de infiltración, pruebas de estanqueidad, Resistencia a la Compresión del concreto, Ensayo de absorción para cámaras prefabricadas, según la necesidad | C30: Estimado | D30: 1 | E30: =+LABORATORIOS!F9 -> 2323530.7 | H30: =+E30*D30 -> 2323530.7
B32: SUBTOTAL OTROS COSTOS DIRECTOS (B) | H32: =ROUND(SUM(H24:H30),2) -> 15763531
B33: VALOR BÁSICO (A + B) | H33: =ROUND(H21+H32,2) -> 1.5671748e+08
B34: IVA (NO INCLUYE GRAVÁMENES) (19%) | H34: =ROUND((((H15*FM!F43)+H18+H32)*0.19),2) -> 28613184
B35: VALOR TOTAL DE LA INTERVENTORÍA | H35: =ROUNDUP((SUM(H33:H34)),0) -> 185330668 | I35: 185330688
A37: OBSERVACIONES:
A38: 1. Para la determinación de las tarifas unitarias correspondientes a "OTROS COSTOS DIRECTOS", se entiende que el oferente incluyó todas las variables que inciden en su cálculo y además el porcentaje de honorarios que haya establecido dentro de su Factor Multiplicador.
A39: 2. Los costos de personal se reembolsarán según la dedicación efectiva que hubiere tenido en la ejecución de los trabajos.
A40: 3. El valor a pagar en el ítem "Gastos implementacion protocolos Bioseguridad" será acordado previamentre entre las partes, a saber: Interventor y Supervisor. En todo caso solo se reconocerá hasta el valor establecido en la unidad "Estimado". Se pagará contra factura.
A41: 4. El valor a pagar en el item "Ensayos de laboratorio" incluirá el porcentaje de honorarios establecido dentro de su factor multiplicador, los costos de transporte y demás gastos necesarios para el cumplimiento de las especificaciones solicitadas, así como el estudio de mercado correspondiente a las tarifas unitarias que se estén estudiando, Dicho valor (ensayo) será acordado previamentre entre las partes, a saber: Interventor y Supervisor. En todo caso solo se reconocerá hasta el valor establecido en la unidad "Estimado". Las coprobaciones técnicas serán previamente aprobadas por el Director de Agua Potable y Saneamiento Básico y se pagará contra factura
A42: 5. Los demás valores subrayados, corresponden a montos estimados con los cuales se atenderán las actividades correspondientes, las cuales se reembolsarán según su costo real, previa presentación de la factura por parte del supervisor. En todo caso solo se reconocerá hasta el valor establecido en el presente formulario y no podrá ser modificado en el formulario propuesto.
A43: 6. Los auxilios de localización está dado para el cabal cumplimiento del contrato y no hacen parte del factor prestacional y salarial contemplado en el presente contrato
...

Sheet Hoja4
B1: DESCRIPCIÓN | C1: TOPE DE RECONOCIMIENTO | D1: VALOR ESTABLECIDO MENSUAL HASTA S.M.M.L.V | E1: % DE RECONOCIMIENTO EN EL FACTOR | F1: UTILIZADO EN EL CÁLCULO | G1: Observaciones
B2: Costos oficina (arrendamiento,administración y servicios púlbicos, mantenimiento de oficinas, aseo, vigilancia, seguros de robo e incendio, alquiler (o depreciación) y mantenimiento de vehículos de administración y gerencia, asociaciones profesionales, documentación técnica, revistas, representación y promoción, preparación y edición de propuestas, gastos de viaje, gastos de representación) | C2: HASTA 3 SMMLV | D2: 3 | F2: =+D2*E2 -> 0 | G2: Se debe tener en cuenta que este tope es mensual y se paga por la duración del proyecto. Porcentaje reconocido se estima de acuerdo a requerimiento de oficina central para la obra, tamaño de la empresa, entre otros (entre el 20% y el 50%)
B3: Papelería de la oficina del consultor para uso del proyecto (cafetería y otros gastos funcionamiento | C3: Calculable | D3: 0.25 | F3: =+D3*E3 -> 0 | G3: Porcentaje reconocido: __. Porcentaje reconocido se estima de acuerdo a requerimiento de oficina central para la obra, tamaño de la empresa, entre otros (entre el 20% y el 50%)
B4: Muebles y equipos de oficina, pago programas, sistematización y actualización tecnológica, rack. | C4: Calculable | D4: =IFERROR(I35/$G$12/$G$76,0) -> 0 | F4: =+D4*E4 -> 0 | G4: Se define el valor a reconocer y se calcula según la tabla adjunta. Se asume depreciación de 18 meses y un porcentaje de uso que se estima de acuerdo a requerimiento de oficina central para la obra, tamaño de la empresa, entre otros (entre el 20% y el 50%)
B5: Personal administrativo, técnico y no técnico, no facturable, entrenamiento de personal, capacitación y actualización técnica (cursos, seminarios, congresos). | C5: Calculable | D5: =IFERROR(I50/$G$12/$I$11,0) -> 0 | F5: =+D5*E5 -> 0 | G5: Se debe definir el tipo de personal que se va a reconocer y se calcula. Se estima de acuerdo a requerimiento de oficina central para la obra, tamaño de la empresa, entre otros (entre el 20% y el 50%)
B6: Asesoría contable, tributaria (revisoría fiscal) y médica | C6: HASTA 3 SMMLV | D6: 0.5 | F6: =+D6*E6 -> 0 | G6: Se cancela un solo valor por todo el proyecto. Porcentaje reconocido: 30%
G12: Depreciación
B13: Nota: Estos valores de equipos de oficina para uso del proyeto, es un reconocimiento a los equipos de la empresa como tal, más no los equipos que estan en la obradirectamente. | G13: 18 | H13: meses
B14: Equipo de oficina central
B15: Descripción / Detalle | C15: Unidad | D15: Cantidad | E15: % de Dedicación | F15: valor antes de IVA | G15: IVA | H15: Plazo (Meses) | I15: Valor Total
B16: Alquiler computador portatil + Base + Refrigerante + Teclado | D16: 10 | E16: 1 | F16: 11954 | G16: =+F16*0.19 -> 2271.26 | H16: =+$I$11 -> 0 | I16: =+D16*(E16)*(F16)*H16 -> 0
B17: Sofware ofimatica | D17: 10 | E17: 1 | F17: 2710 | G17: =+F17*0.19 -> 514.9 | H17: =+$I$11 -> 0 | I17: =+D17*(E17)*(F17)*H17 -> 0
B18: Impresora Láser | D18: 1 | E18: 1 | F18: 25318 | G18: =+F18*0.19 -> 4810.42 | H18: =+$I$11 -> 0 | I18: =+D18*(E18)*(F18)*H18 -> 0
B19: Quemador de CD y DVD | D19: 1 | E19: 1 | F19: 4996 | G19: =+F19*0.19 -> 949.24 | H19: =+$I$11 -> 0 | I19: =+D19*(E19)*(F19)*H19 -> 0
B20: Video Beam | D20: 2 | E20: 1 | F20: 101271 | G20: =+F20*0.19 -> 19241.49 | H20: =+$I$11 -> 0 | I20: =+D20*(E20)*(F20)*H20 -> 0
B21: Cámara digital | D21: 2 | E21: 1 | F21: 22693 | G21: =+F21*0.19 -> 4311.67 | H21: =+$I$11 -> 0 | I21: =+D21*(E21)*(F21)*H21 -> 0
B22: Archivador de Escritorio Metálico | D22: 2 | E22: 1 | F22: 22354 | G22: =+F22*0.19 -> 4247.26 | H22: =+$I$11 -> 0 | I22: =+D22*(E22)*(F22)*H22 -> 0
B23: Locker Metálico 2 X 3 | D23: 1 | E23: 1 | F23: 26054 | G23: =+F23*0.19 -> 4950.26 | H23: =+$I$11 -> 0 | I23: =+D23*(E23)*(F23)*H23 -> 0
B24: Archivador vertical metálico 4 gavetas | D24: 1 | E24: 1 | F24: 27491 | G24: =+F24*0.19 -> 5223.29 | H24: =+$I$11 -> 0 | I24: =+D24*(E24)*(F24)*H24 -> 0
B25: Estante con Puertas | D25: 1 | E25: 1 | F25: 41945 | G25: =+F25*0.19 -> 7969.55 | H25: =+$I$11 -> 0 | I25: =+D25*(E25)*(F25)*H25 -> 0
B26: Biblioteca Doble | D26: 1 | E26: 1 | F26: 38104 | G26: =+F26*0.19 -> 7239.76 | H26: =+$I$11 -> 0 | I26: =+D26*(E26)*(F26)*H26 -> 0
B27: Puestos de Trabajo | D27: 10 | E27: 1 | F27: 220155 | G27: =+F27*0.19 -> 41829.45 | H27: =+$I$11 -> 0 | I27: =+D27*(E27)*(F27)*H27 -> 0
... B34: Tablero en Corcho y Marco en Aluminio | D34: 2 | E34: 1 | F34: 20212 | G34: =+F34*0.19 -> 3840.28 | H34: =+$I$11 -> 0 | I34: =+D34*(E34)*(F34)*H34 -> 0
B35: Total | G35: Se debe borrar | I35: =SUM(I16:I34) -> 0
B38: Personal administrativo, técnico y no técnico, no facturable
B39: Descricpión | C39: Nivel Riesgo ARL | D39: Cantidad | E39: % de Dedicación | F39: Salario | G39: F.P | H39: Plazo (Meses) | I39: Valor Total
B40: Secretaria | C40: I | D40: 1 | E40: 0.15 | F40: 1271936 | G40: 1.56 | H40: =+$I$11 -> 0 | I40: =+IFERROR(D40*E40*F40*G40*H40,"") -> 0
B41: Mensajero | C41: III | D41: 1 | E41: 0.25 | F41: 999378 | G41: 1.58 | H41: =+$I$11 -> 0 | I41: =+IFERROR(D41*E41*F41*G41*H41,"") -> 0
B42: Gerente de la empresa | C42: I | D42: 1 | E42: 0.02 | F42: 7631619 | G42: 1.38 | H42: =+$I$11 -> 0 | I42: =+IFERROR(D42*E42*F42*G42*H42,"") -> 0
B43: Contador | C43: I | D43: 1 | E43: 0.05 | F43: 4179220 | G43: 1.38 | H43: =+$I$11 -> 0 | I43: =+IFERROR(D43*E43*F43*G43*H43,"") -> 0
B44: Revisor fiscal | C44: I | D44: 1 | E44: 0.05 | F44: 4179220 | G44: 1.38 | H44: =+$I$11 -> 0 | I44: =+IFERROR(D44*E44*F44*G44*H44,"") -> 0
B45: Profesional de licitaciones | C45: I | D45: 1 | E45: 0.08 | F45: 3634104 | G45: 1.38 | H45: =+$I$11 -> 0 | I45: =+IFERROR(D45*E45*F45*G45*H45,"") -> 0
B46: Abogado | C46: I | D46: 1 | E46: 0.05 | F46: 4179220 | G46: 1.38 | H46: =+$I$11 -> 0 | I46: =+IFERROR(D46*E46*F46*G46*H46,"") -> 0
B47: Profesional Ambiental | C47: I | D47: 1 | E47: 0.05 | F47: 4179220 | G47: 1.38 | H47: =+$I$11 -> 0 | I47: =+IFERROR(D47*E47*F47*G47*H47,"") -> 0
B48: Profesional social | C48: I | D48: 1 | E48: 0.05 | F48: 4179220 | G48: 1.38 | H48: =+$I$11 -> 0 | I48: =+IFERROR(D48*E48*F48*G48*H48,"") -> 0
B49: Auxiliar administrativo | C49: I | D49: 1 | E49: 0.15 | F49: 1271936 | G49: 1.49 | H49: =+$I$11 -> 0 | I49: =+IFERROR(D49*E49*F49*G49*H49,"") -> 0
B50: Total | I50: =SUM(I40:I49) -> 0

Sheet FACTOR PRESTACIONAL
A1: CALCULO DEL FACTOR PRESTACIONAL PERSONAL OPERATIVO Y ADMINISTRATIVO
A2: VALOR REAL DEL SALARIO 2021 - AFECTACIÓN PRESTACIONAL ANUAL
A4: Salario minimo vigente | B4: 908526 | C4: 2021
A5: Subsidio de transporte | B5: 106454 | C5: 2021
C6: AFECTACIÓN PRESTACIONAL ANUAL
C7: PERSONAL OPERATIVO - APU | Q7: PERSONAL ADMINISTRATIVO - AIU Y OTROS
C8: Ayudante raso / Liguero / Cadenero 2 | E8: Ayudante entendido / Ayudante electricista / Operario de equipo liviano / Vigía en salud | G8: Jardinero | I8: Oficial / Oficial Electricista / Oficial minero / Oficial demoliciones / Oficial Mvto Tierra / Oficial Impermeabilizaciones / Oficial para llenos de filtros / Oficial para pisos varios / Oficial Pintura / Oficial Refuerzo / Oficial Urbanismo / Operario de inyección / Operario de perforación / Rastrillero / Cadenero 1 | K8: Técnico de laboratorio | M8: Operario especializado | O8: Topógrafo | Q8: Básico sin experiencia - administrativo | S8: Auxiliar (H) | U8: Técnico 1 | W8: Técnico 2 | Y8: Técnico 3 | AA8: Tecnólogo 1 | AC8: Tecnólogo 2 - Tecnologo (a) de obras civiles, Tecnologo ambiental, Tecnologo (a) SST, Tecnologo (a) área social | AE8: Tecnólogo 3 - Tecnologo (a) de obras civiles, Tecnologo ambiental, Tecnologo (a) SST, Tecnologo (a) área social | AG8: Profesional Pregrado 1 - Profesional Residente SST y Profesional del Área Social y los correspondientes para Interventoría | AI8: Profesional Pregrado 2 - Profesional Residente ambiental, Profesional Residente SST y Profesional del Área Social y los correspondientes para Interventoría | AK8: Profesional Pregrado 3 - Profesional Residente de obra y Profesional Residente de Interventoría | AM8: Profesional Especialista Director 1 - Profesional Director de Obra y Profesional Director de Interventoría | AO8: Profesional Especialista Director 2 - Profesional Director de Obra y Profesional Director de Interventoría | AQ8: Profesional Especialista Director General
A9: Vr. Sueldo día | C9: =ROUND(C10*$B$4*12/360,0) -> 30284 | E9: =ROUND(E10*$B$4*12/360,0) -> 39369 | G9: =ROUND(G10*$B$4*12/360,0) -> 45426 | I9: =ROUND(I10*$B$4*12/360,0) -> 60568 | K9: =ROUND(K10*$B$4*12/360,0) -> 79042 | M9: =ROUND(M10*$B$4*12/360,0) -> 114777 | O9: =ROUND(O10*$B$4*12/360,0) -> 141427 | Q9: =ROUND(Q10*$B$4*12/360,0) -> 33313 | S9: =ROUND(S10*$B$4*12/360,0) -> 42398 | U9: =ROUND(U10*$B$4*12/360,0) -> 54512 | W9: =ROUND(W10*$B$4*12/360,0) -> 69654 | Y9: =ROUND(Y10*$B$4*12/360,0) -> 81767 | AA9: =ROUND(AA10*$B$4*12/360,0) -> 81767 | AC9: =ROUND(AC10*$B$4*12/360,0) -> 84796 | AE9: =ROUND(AE10*$B$4*12/360,0) -> 90853 | AG9: =ROUND(AG10*$B$4*12/360,0) -> 121137 | AI9: =ROUND(AI10*$B$4*12/360,0) -> 139307 | AK9: =ROUND(AK10*$B$4*12/360,0) -> 166563 | AM9: =ROUND(AM10*$B$4*12/360,0) -> 181705 | AO9: =ROUND(AO10*$B$4*12/360,0) -> 202904 | AQ9: =ROUND(AQ10*$B$4*12/360,0) -> 254387
C10: 1 | D10: SMMLV | E10: 1.3 | F10: SMMLV | G10: 1.5 | H10: SMMLV | I10: 2 | J10: SMMLV | K10: 2.61 | L10: SMMLV | M10: 3.79 | N10: SMMLV | O10: 4.67 | P10: SMMLV | Q10: 1.1 | R10: SMMLV | S10: 1.4 | T10: SMMLV | U10: 1.8 | V10: SMMLV | W10: 2.3 | X10: SMMLV | Y10: 2.7 | Z10: SMMLV | AA10: 2.7 | AB10: SMMLV | AC10: 2.8 | AD10: SMMLV | AE10: 3 | AF10: SMMLV | AG10: 4 | AH10: SMMLV | AI10: 4.6 | AJ10: SMMLV | AK10: 5.5 | AL10: SMMLV | AM10: 6 | AN10: SMMLV | AO10: 6.7 | AP10: SMMLV | AQ10: 8.4 | AR10: SMMLV
A11: SALARIO | D11: % | F11: % | H11: % | J11: % | L11: % | N11: % | P11: % | R11: % | T11: % | V11: % | X11: % | Z11: % | AB11: % | AD11: % | AF11: % | AH11: % | AJ11: % | AL11: % | AN11: % | AP11: % | AR11: %
A12: Mensual | C12: =$B$4*C10 -> 908526 | E12: =$B$4*E10 -> 1181083.8 | G12: =$B$4*G10 -> 1362789 | I12: =$B$4*I10 -> 1817052 | K12: =$B$4*K10 -> 2371252.9 | M12: =$B$4*M10 -> 3443313.5 | O12: =$B$4*O10 -> 4242816.4 | Q12: =$B$4*Q10 -> 999378.6 | S12: =$B$4*S10 -> 1271936.4 | U12: =$B$4*U10 -> 1635346.8 | W12: =$B$4*W10 -> 2089609.8 | Y12: =$B$4*Y10 -> 2453020.2 | AA12: =$B$4*AA10 -> 2453020.2 | AC12: =$B$4*AC10 -> 2543872.8 | AE12: =$B$4*AE10 -> 2725578 | AG12: =$B$4*AG10 -> 3634104 | AI12: =$B$4*AI10 -> 4179219.6 | AK12: =$B$4*AK10 -> 4996893 | AM12: =$B$4*AM10 -> 5451156 | AO12: =$B$4*AO10 -> 6087124.2 | AQ12: =$B$4*AQ10 -> 7631618.4
A13: Subsidio de transporte | C13: =IF(C8="",0,IF(C10<=2,$B$5,0)) -> 106454 | E13: =IF(E8="",0,IF(E10<=2,$B$5,0)) -> 106454 | G13: =IF(G8="",0,IF(G10<=2,$B$5,0)) -> 106454 | I13: =IF(I8="",0,IF(I10<=2,$B$5,0)) -> 106454 | K13: =IF(K8="",0,IF(K10<=2,$B$5,0)) -> 0 | M13: =IF(M8="",0,IF(M10<=2,$B$5,0)) -> 0 | O13: =IF(O8="",0,IF(O10<=2,$B$5,0)) -> 0 | Q13: =IF(Q8="",0,IF(Q10<=2,$B$5,0)) -> 106454 | S13: =IF(S8="",0,IF(S10<=2,$B$5,0)) -> 106454 | U13: =IF(U8="",0,IF(U10<=2,$B$5,0)) -> 106454 | W13: =IF(W8="",0,IF(W10<=2,$B$5,0)) -> 0 | Y13: =IF(Y8="",0,IF(Y10<=2,$B$5,0)) -> 0 | AA13: =IF(AA8="",0,IF(AA10<=2,$B$5,0)) -> 0 | AC13: =IF(AC8="",0,IF(AC10<=2,$B$5,0)) -> 0 | AE13: =IF(AE8="",0,IF(AE10<=2,$B$5,0)) -> 0 | AG13: =IF(AG8="",0,IF(AG10<=2,$B$5,0)) -> 0 | AI13: =IF(AI8="",0,IF(AI10<=2,$B$5,0)) -> 0 | AK13: =IF(AK8="",0,IF(AK10<=2,$B$5,0)) -> 0 | AM13: =IF(AM8="",0,IF(AM10<=2,$B$5,0)) -> 0 | AO13: =IF(AO8="",0,IF(AO10<=2,$B$5,0)) -> 0 | AQ13: =IF(AQ8="",0,IF(AQ10<=2,$B$5,0)) -> 0
A14: Total mensual | C14: =C12+C13 -> 1014980 | E14: =E12+E13 -> 1287537.8 | G14: =G12+G13 -> 1469243 | I14: =I12+I13 -> 1923506 | K14: =K12+K13 -> 2371252.9 | M14: =M12+M13 -> 3443313.5 | O14: =O12+O13 -> 4242816.4 | Q14: =Q12+Q13 -> 1105832.6 | S14: =S12+S13 -> 1378390.4 | U14: =U12+U13 -> 1741800.8 | W14: =W12+W13 -> 2089609.8 | Y14: =Y12+Y13 -> 2453020.2 | AA14: =AA12+AA13 -> 2453020.2 | AC14: =AC12+AC13 -> 2543872.8 | AE14: =AE12+AE13 -> 2725578 | AG14: =AG12+AG13 -> 3634104 | AI14: =AI12+AI13 -> 4179219.6 | AK14: =AK12+AK13 -> 4996893 | AM14: =AM12+AM13 -> 5451156 | AO14: =AO12+AO13 -> 6087124.2 | AQ14: =AQ12+AQ13 -> 7631618.4
A15: JORNAL | C15: =C14/30 -> 33832.667 | E15: =E14/30 -> 42917.927 | G15: =G14/30 -> 48974.767 | I15: =I14/30 -> 64116.867 | K15: =K14/30 -> 79041.762 | M15: =M14/30 -> 114777.12 | O15: =O14/30 -> 141427.21 | Q15: =Q14/30 -> 36861.087 | S15: =S14/30 -> 45946.347 | U15: =U14/30 -> 58060.027 | W15: =W14/30 -> 69653.66 | Y15: =Y14/30 -> 81767.34 | AA15: =AA14/30 -> 81767.34 | AC15: =AC14/30 -> 84795.76 | AE15: =AE14/30 -> 90852.6 | AG15: =AG14/30 -> 121136.8 | AI15: =AI14/30 -> 139307.32 | AK15: =AK14/30 -> 166563.1 | AM15: =AM14/30 -> 181705.2 | AO15: =AO14/30 -> 202904.14 | AQ15: =AQ14/30 -> 254387.28
A16: Total anual (A/30*360) | B16: =ROUND(360/360*12,2) -> 12 | C16: =C12*$B$16 -> 10902312 | D16: 1 | E16: =E12*$B$16 -> 14173006 | F16: 1 | G16: =G12*$B$16 -> 16353468 | H16: 1 | I16: =I12*$B$16 -> 21804624 | J16: 1 | K16: =K12*$B$16 -> 28455034 | L16: 1 | M16: =M12*$B$16 -> 41319762 | N16: 1 | O16: =O12*$B$16 -> 50913797 | P16: 1 | Q16: =Q12*$B$16 -> 11992543 | R16: 1 | S16: =S12*$B$16 -> 15263237 | T16: 1 | U16: =U12*$B$16 -> 19624162 | V16: 1 | W16: =W12*$B$16 -> 25075318 | X16: 1 | Y16: =Y12*$B$16 -> 29436242 | Z16: 1 | AA16: =AA12*$B$16 -> 29436242 | AB16: 1 | AC16: =AC12*$B$16 -> 30526474 | AD16: 1 | AE16: =AE12*$B$16 -> 32706936 | AF16: 1 | AG16: =AG12*$B$16 -> 43609248 | AH16: 1 | AI16: =AI12*$B$16 -> 50150635 | AJ16: 1 | AK16: =AK12*$B$16 -> 59962716 | AL16: 1 | AM16: =AM12*$B$16 -> 65413872 | AN16: 1 | AO16: =AO12*$B$16 -> 73045490 | AP16: 1 | AQ16: =AQ12*$B$16 -> 91579421 | AR16: 1
A17: Subsidio de transporte anual | B17: =ROUND(360/360*12,2) -> 12 | C17: =C13*$B$17 -> 1277448 | D17: =+C17/C16 -> 0.11717221 | E17: =E13*$B$17 -> 1277448 | F17: =+E17/E16 -> 0.09013247 | G17: =G13*$B$17 -> 1277448 | H17: =+G17/G16 -> 0.078114807 | I17: =I13*$B$17 -> 1277448 | J17: =+I17/I16 -> 0.058586105 | K17: =K13*$B$17 -> 0 | L17: =+K17/K16 -> 0 | M17: =M13*$B$17 -> 0 | N17: =+M17/M16 -> 0 | O17: =O13*$B$17 -> 0 | P17: =+O17/O16 -> 0 | Q17: =Q13*$B$17 -> 1277448 | R17: =+Q17/Q16 -> 0.10652019 | S17: =S13*$B$17 -> 1277448 | T17: =+S17/S16 -> 0.083694436 | U17: =U13*$B$17 -> 1277448 | V17: =+U17/U16 -> 0.065095673 | W17: =W13*$B$17 -> 0 | X17: =+W17/W16 -> 0 | Y17: =Y13*$B$17 -> 0 | Z17: =+Y17/Y16 -> 0 | AA17: =AA13*$B$17 -> 0 | AB17: =+AA17/AA16 -> 0 | AC17: =AC13*$B$17 -> 0 | AD17: =+AC17/AC16 -> 0 | AE17: =AE13*$B$17 -> 0 | AF17: =+AE17/AE16 -> 0 | AG17: =AG13*$B$17 -> 0 | AH17: =+AG17/AG16 -> 0 | AI17: =AI13*$B$17 -> 0 | AJ17: =+AI17/AI16 -> 0 | AK17: =AK13*$B$17 -> 0 | AL17: =+AK17/AK16 -> 0 | AM17: =AM13*$B$17 -> 0 | AN17: =+AM17/AM16 -> 0 | AO17: =AO13*$B$17 -> 0 | AP17: =+AO17/AO16 -> 0 | AQ17: =AQ13*$B$17 -> 0 | AR17: =+AQ17/AQ16 -> 0
A18: Salario anual con sub. de transporte | C18: =C16+C17 -> 12179760 | E18: =E16+E17 -> 15450454 | G18: =G16+G17 -> 17630916 | I18: =I16+I17 -> 23082072 | K18: =K16+K17 -> 28455034 | M18: =M16+M17 -> 41319762 | O18: =O16+O17 -> 50913797 | Q18: =Q16+Q17 -> 13269991 | S18: =S16+S17 -> 16540685 | U18: =U16+U17 -> 20901610 | W18: =W16+W17 -> 25075318 | Y18: =Y16+Y17 -> 29436242 | AA18: =AA16+AA17 -> 29436242 | AC18: =AC16+AC17 -> 30526474 | AE18: =AE16+AE17 -> 32706936 | AG18: =AG16+AG17 -> 43609248 | AI18: =AI16+AI17 -> 50150635 | AK18: =AK16+AK17 -> 59962716 | AM18: =AM16+AM17 -> 65413872 | AO18: =AO16+AO17 -> 73045490 | AQ18: =AQ16+AQ17 -> 91579421
A19: SALARIO NOMINAL (365 días)
A20: Salario anual
A21: Subsidio de transporte
A22: PRESTACIONES SOCIALES | D22: % | F22: % | H22: % | J22: % | L22: % | N22: % | P22: % | R22: % | T22: % | V22: % | X22: % | Z22: % | AB22: % | AD22: % | AF22: % | AH22: % | AJ22: % | AL22: % | AN22: % | AP22: % | AR22: %
A23: Cesantias anuales | B23: 0.0833 | C23: =+$B$23*C18 -> 1014574 | D23: =C23/$C$18 -> 0.0833 | E23: =+$B$23*E18 -> 1287022.8 | F23: =E23/E$18 -> 0.0833 | G23: =+$B$23*G18 -> 1468655.3 | H23: =G23/G$18 -> 0.0833 | I23: =+$B$23*I18 -> 1922736.6 | J23: =I23/I$18 -> 0.0833 | K23: =+$B$23*K18 -> 2370304.4 | L23: =K23/$K$16 -> 0.0833 | M23: =+$B$23*M18 -> 3441936.2 | N23: =M23/M$18 -> 0.0833 | O23: =+$B$23*O18 -> 4241119.3 | P23: =O23/O$18 -> 0.0833 | Q23: =+$B$23*Q18 -> 1105390.3 | R23: =Q23/Q$18 -> 0.0833 | S23: =+$B$23*S18 -> 1377839 | T23: =S23/S$18 -> 0.0833 | U23: =+$B$23*U18 -> 1741104.1 | V23: =U23/U$18 -> 0.0833 | W23: =+$B$23*W18 -> 2088774 | X23: =W23/W$18 -> 0.0833 | Y23: =+$B$23*Y18 -> 2452039 | Z23: =Y23/Y$18 -> 0.0833 | AA23: =+$B$23*AA18 -> 2452039 | AB23: =AA23/AA$18 -> 0.0833 | AC23: =+$B$23*AC18 -> 2542855.3 | AD23: =AC23/AC$18 -> 0.0833 | AE23: =+$B$23*AE18 -> 2724487.8 | AF23: =AE23/AE$18 -> 0.0833 | AG23: =+$B$23*AG18 -> 3632650.4 | AH23: =AG23/AG$18 -> 0.0833 | AI23: =+$B$23*AI18 -> 4177547.9 | AJ23: =AI23/AI$18 -> 0.0833 | AK23: =+$B$23*AK18 -> 4994894.2 | AL23: =AK23/AK$18 -> 0.0833 | AM23: =+$B$23*AM18 -> 5448975.5 | AN23: =AM23/AM$18 -> 0.0833 | AO23: =+$B$23*AO18 -> 6084689.4 | AP23: =AO23/AO$18 -> 0.0833 | AQ23: =+$B$23*AQ18 -> 7628565.8 | AR23: =AQ23/AQ$18 -> 0.0833
A24: Interes sobre cesantia | B24: 0.12 | C24: =+C23*$B$24 -> 121748.88 | D24: =C24/$C$16 -> 0.011167253 | E24: =+E23*$B$24 -> 154442.73 | F24: =E24/$E$16 -> 0.010896964 | G24: =+G23*$B$24 -> 176238.64 | H24: =G24/$G$16 -> 0.010776836 | I24: =+I23*$B$24 -> 230728.39 | J24: =I24/$I$16 -> 0.010581627 | K24: =+K23*$B$24 -> 284436.52 | L24: =K24/$K$16 -> 0.009996 | M24: =+M23*$B$24 -> 413032.35 | N24: =M24/$M$16 -> 0.009996 | O24: =+O23*$B$24 -> 508934.32 | P24: =O24/$O$16 -> 0.009996 | Q24: =+Q23*$B$24 -> 132646.83 | R24: =Q24/Q16 -> 0.011060776 | S24: =+S23*$B$24 -> 165340.69 | T24: =S24/S16 -> 0.01083261 | U24: =+U23*$B$24 -> 208932.49 | V24: =U24/U16 -> 0.010646696 | W24: =+W23*$B$24 -> 250652.87 | X24: =W24/W16 -> 0.009996 | Y24: =+Y23*$B$24 -> 294244.68 | Z24: =Y24/Y16 -> 0.009996 | AA24: =+AA23*$B$24 -> 294244.68 | AB24: =AA24/AA16 -> 0.009996 | AC24: =+AC23*$B$24 -> 305142.63 | AD24: =AC24/AC16 -> 0.009996 | AE24: =+AE23*$B$24 -> 326938.53 | AF24: =AE24/AE16 -> 0.009996 | AG24: =+AG23*$B$24 -> 435918.04 | AH24: =AG24/AG16 -> 0.009996 | AI24: =+AI23*$B$24 -> 501305.75 | AJ24: =AI24/AI16 -> 0.009996 | AK24: =+AK23*$B$24 -> 599387.31 | AL24: =AK24/AK16 -> 0.009996 | AM24: =+AM23*$B$24 -> 653877.06 | AN24: =AM24/AM16 -> 0.009996 | AO24: =+AO23*$B$24 -> 730162.72 | AP24: =AO24/AO16 -> 0.009996 | AQ24: =+AQ23*$B$24 -> 915427.89 | AR24: =AQ24/AQ16 -> 0.009996
A25: Prima - 30 días | B25: 1 | C25: =+$B$25*C12 -> 908526 | D25: =C25/$C$16 -> 0.083333333 | E25: =+$B$25*E12 -> 1181083.8 | F25: =E25/$E$16 -> 0.083333333 | G25: =+$B$25*G12 -> 1362789 | H25: =G25/$G$16 -> 0.083333333 | I25: =+$B$25*I12 -> 1817052 | J25: =I25/$I$16 -> 0.083333333 | K25: =+$B$25*K12 -> 2371252.9 | L25: =K25/$K$16 -> 0.083333333 | M25: =+$B$25*M12 -> 3443313.5 | N25: =M25/$M$16 -> 0.083333333 | O25: =+$B$25*O12 -> 4242816.4 | P25: =O25/$O$16 -> 0.083333333 | Q25: =+$B$25*Q12 -> 999378.6 | R25: =Q25/Q16 -> 0.083333333 | S25: =+$B$25*S12 -> 1271936.4 | T25: =S25/S16 -> 0.083333333 | U25: =+$B$25*U12 -> 1635346.8 | V25: =U25/U16 -> 0.083333333 | W25: =+$B$25*W12 -> 2089609.8 | X25: =W25/W16 -> 0.083333333 | Y25: =+$B$25*Y12 -> 2453020.2 | Z25: =Y25/Y16 -> 0.083333333 | AA25: =+$B$25*AA12 -> 2453020.2 | AB25: =AA25/AA16 -> 0.083333333 | AC25: =+$B$25*AC12 -> 2543872.8 | AD25: =AC25/AC16 -> 0.083333333 | AE25: =+$B$25*AE12 -> 2725578 | AF25: =AE25/AE16 -> 0.083333333 | AG25: =+$B$25*AG12 -> 3634104 | AH25: =AG25/AG16 -> 0.083333333 | AI25: =+$B$25*AI12 -> 4179219.6 | AJ25: =AI25/AI16 -> 0.083333333 | AK25: =+$B$25*AK12 -> 4996893 | AL25: =AK25/AK16 -> 0.083333333 | AM25: =+$B$25*AM12 -> 5451156 | AN25: =AM25/AM16 -> 0.083333333 | AO25: =+$B$25*AO12 -> 6087124.2 | AP25: =AO25/AO16 -> 0.083333333 | AQ25: =+$B$25*AQ12 -> 7631618.4 | AR25: =AQ25/AQ16 -> 0.083333333
A26: Vacaciones - 15 días | B26: 0.5 | C26: =+C12*$B$26 -> 454263 | D26: =C26/$C$16 -> 0.041666667 | E26: =+E12*$B$26 -> 590541.9 | F26: =E26/$E$16 -> 0.041666667 | G26: =+G12*$B$26 -> 681394.5 | H26: =G26/$G$16 -> 0.041666667 | I26: =+I12*$B$26 -> 908526 | J26: =I26/$I$16 -> 0.041666667 | K26: =+K12*$B$26 -> 1185626.4 | L26: =K26/$K$16 -> 0.041666667 | M26: =+M12*$B$26 -> 1721656.8 | N26: =M26/$M$16 -> 0.041666667 | O26: =+O12*$B$26 -> 2121408.2 | P26: =O26/$O$16 -> 0.041666667 | Q26: =+Q12*$B$26 -> 499689.3 | R26: =Q26/Q16 -> 0.041666667 | S26: =+S12*$B$26 -> 635968.2 | T26: =S26/S16 -> 0.041666667 | U26: =+U12*$B$26 -> 817673.4 | V26: =U26/U16 -> 0.041666667 | W26: =+W12*$B$26 -> 1044804.9 | X26: =W26/W16 -> 0.041666667 | Y26: =+Y12*$B$26 -> 1226510.1 | Z26: =Y26/Y16 -> 0.041666667 | AA26: =+AA12*$B$26 -> 1226510.1 | AB26: =AA26/AA16 -> 0.041666667 | AC26: =+AC12*$B$26 -> 1271936.4 | AD26: =AC26/AC16 -> 0.041666667 | AE26: =+AE12*$B$26 -> 1362789 | AF26: =AE26/AE16 -> 0.041666667 | AG26: =+AG12*$B$26 -> 1817052 | AH26: =AG26/AG16 -> 0.041666667 | AI26: =+AI12*$B$26 -> 2089609.8 | AJ26: =AI26/AI16 -> 0.041666667 | AK26: =+AK12*$B$26 -> 2498446.5 | AL26: =AK26/AK16 -> 0.041666667 | AM26: =+AM12*$B$26 -> 2725578 | AN26: =AM26/AM16 -> 0.041666667 | AO26: =+AO12*$B$26 -> 3043562.1 | AP26: =AO26/AO16 -> 0.041666667 | AQ26: =+AQ12*$B$26 -> 3815809.2 | AR26: =AQ26/AQ16 -> 0.041666667
A27: SUBTOTAL PRESTACIONES SOCIALES | C27: =SUM(C23:C26) -> 2499111.9 | E27: =SUM(E23:E26) -> 3213091.2 | G27: =SUM(G23:G26) -> 3689077.4 | I27: =SUM(I23:I26) -> 4879043 | K27: =SUM(K23:K26) -> 6211620.2 | M27: =SUM(M23:M26) -> 9019938.9 | O27: =SUM(O23:O26) -> 11114278 | Q27: =SUM(Q23:Q26) -> 2737105 | S27: =SUM(S23:S26) -> 3451084.3 | U27: =SUM(U23:U26) -> 4403056.8 | W27: =SUM(W23:W26) -> 5473841.5 | Y27: =SUM(Y23:Y26) -> 6425814 | AA27: =SUM(AA23:AA26) -> 6425814 | AC27: =SUM(AC23:AC26) -> 6663807.1 | AE27: =SUM(AE23:AE26) -> 7139793.3 | AG27: =SUM(AG23:AG26) -> 9519724.4 | AI27: =SUM(AI23:AI26) -> 10947683 | AK27: =SUM(AK23:AK26) -> 13089621 | AM27: =SUM(AM23:AM26) -> 14279587 | AO27: =SUM(AO23:AO26) -> 15945538 | AQ27: =SUM(AQ23:AQ26) -> 19991421
A28: SEGURIDAD SOCIAL | D28: % | F28: % | H28: % | J28: % | L28: % | N28: % | P28: % | R28: % | T28: % | V28: % | X28: % | Z28: % | AB28: % | AD28: % | AF28: % | AH28: % | AJ28: % | AL28: % | AN28: % | AP28: % | AR28: %
A29: Pensiones | B29: 0.12 | C29: =+$B$29*C16 -> 1308277.4 | D29: =C29/$C$16 -> 0.12 | E29: =+$B$29*E16 -> 1700760.7 | F29: =E29/$E$16 -> 0.12 | G29: =+$B$29*G16 -> 1962416.2 | H29: =G29/$G$16 -> 0.12 | I29: =+$B$29*I16 -> 2616554.9 | J29: =I29/$I$16 -> 0.12 | K29: =+$B$29*K16 -> 3414604.1 | L29: =K29/$K$16 -> 0.12 | M29: =+$B$29*M16 -> 4958371.5 | N29: =M29/$M$16 -> 0.12 | O29: =+$B$29*O16 -> 6109655.6 | P29: =O29/$O$16 -> 0.12 | Q29: =+$B$29*Q16 -> 1439105.2 | R29: =Q29/Q16 -> 0.12 | S29: =+$B$29*S16 -> 1831588.4 | T29: =S29/S16 -> 0.12 | U29: =+$B$29*U16 -> 2354899.4 | V29: =U29/U16 -> 0.12 | W29: =+$B$29*W16 -> 3009038.1 | X29: =W29/W16 -> 0.12 | Y29: =+$B$29*Y16 -> 3532349.1 | Z29: =Y29/Y16 -> 0.12 | AA29: =+$B$29*AA16 -> 3532349.1 | AB29: =AA29/AA16 -> 0.12 | AC29: =+$B$29*AC16 -> 3663176.8 | AD29: =AC29/AC16 -> 0.12 | AE29: =+$B$29*AE16 -> 3924832.3 | AF29: =AE29/AE16 -> 0.12 | AG29: =+$B$29*AG16 -> 5233109.8 | AH29: =AG29/AG16 -> 0.12 | AI29: =+$B$29*AI16 -> 6018076.2 | AJ29: =AI29/AI16 -> 0.12 | AK29: =+$B$29*AK16 -> 7195525.9 | AL29: =AK29/AK16 -> 0.12 | AM29: =+$B$29*AM16 -> 7849664.6 | AN29: =AM29/AM16 -> 0.12 | AO29: =+$B$29*AO16 -> 8765458.8 | AP29: =AO29/AO16 -> 0.12 | AQ29: =+$B$29*AQ16 -> 10989530 | AR29: =AQ29/AQ16 -> 0.12
A30: Salud (Afectado por la reforma tributaria) | B30: 0.085 | C30: =+$B$30*C$16 -> 926696.52 | D30: =C30/C$16 -> 0.085 | E30: =+$B$30*E$16 -> 1204705.5 | F30: =E30/E$16 -> 0.085 | G30: =+$B$30*G$16 -> 1390044.8 | H30: =G30/G$16 -> 0.085 | I30: =+$B$30*I$16 -> 1853393 | J30: =I30/I$16 -> 0.085 | K30: =+$B$30*K$16 -> 2418677.9 | L30: =K30/K$16 -> 0.085 | M30: =+$B$30*M$16 -> 3512179.8 | N30: =M30/M$16 -> 0.085 | O30: =+$B$30*O$16 -> 4327672.7 | P30: =O30/O$16 -> 0.085 | Q30: =+$B$30*Q$16 -> 1019366.2 | R30: =Q30/Q$16 -> 0.085 | S30: =+$B$30*S$16 -> 1297375.1 | T30: =S30/S$16 -> 0.085 | U30: =+$B$30*U$16 -> 1668053.7 | V30: =U30/U$16 -> 0.085 | W30: =+$B$30*W$16 -> 2131402 | X30: =W30/W$16 -> 0.085 | Y30: =+$B$30*Y$16 -> 2502080.6 | Z30: =Y30/Y$16 -> 0.085 | AA30: =+$B$30*AA$16 -> 2502080.6 | AB30: =AA30/AA$16 -> 0.085 | AC30: =+$B$30*AC$16 -> 2594750.3 | AD30: =AC30/AC$16 -> 0.085 | AE30: =+$B$30*AE$16 -> 2780089.6 | AF30: =AE30/AE$16 -> 0.085 | AG30: =+$B$30*AG$16 -> 3706786.1 | AH30: =AG30/AG$16 -> 0.085 | AI30: =+$B$30*AI$16 -> 4262804 | AJ30: =AI30/AI$16 -> 0.085 | AK30: =+$B$30*AK$16 -> 5096830.9 | AL30: =AK30/AK$16 -> 0.085 | AM30: =+$B$30*AM$16 -> 5560179.1 | AN30: =AM30/AM$16 -> 0.085 | AO30: =+$B$30*AO$16 -> 6208866.7 | AP30: =AO30/AO$16 -> 0.085 | AQ30: =+$B$30*AQ$16 -> 7784250.8 | AR30: =AQ30/AQ$16 -> 0.085 | AS30: De acuerdo al artículo 114-1 del Estatuto Tributario
A31: Riesgos Laborales (ARL) | B31: 0.0696 | C31: =+$B$31*C16 -> 758800.92 | D31: =C31/$C$16 -> 0.0696 | E31: =+$B$31*E16 -> 986441.19 | F31: =E31/$E$16 -> 0.0696 | G31: =+$B$31*G16 -> 1138201.4 | H31: =G31/$G$16 -> 0.0696 | I31: =+$B$31*I16 -> 1517601.8 | J31: =I31/$I$16 -> 0.0696 | K31: =+$B$31*K16 -> 1980470.4 | L31: =K31/$K$16 -> 0.0696 | M31: =+$B$31*M16 -> 2875855.5 | N31: =M31/$M$16 -> 0.0696 | O31: =+$B$31*O16 -> 3543600.3 | P31: =O31/$O$16 -> 0.0696 | Q31: =+$B$31*Q16 -> 834681.01 | R31: =Q31/Q16 -> 0.0696 | S31: =+$B$31*S16 -> 1062321.3 | T31: =S31/S16 -> 0.0696 | U31: =+$B$31*U16 -> 1365841.6 | V31: =U31/U16 -> 0.0696 | W31: =+$B$31*W16 -> 1745242.1 | X31: =W31/W16 -> 0.0696 | Y31: =+$B$31*Y16 -> 2048762.5 | Z31: =Y31/Y16 -> 0.0696 | AA31: =+$B$31*AA16 -> 2048762.5 | AB31: =AA31/AA16 -> 0.0696 | AC31: =+$B$31*AC16 -> 2124642.6 | AD31: =AC31/AC16 -> 0.0696 | AE31: =+$B$31*AE16 -> 2276402.7 | AF31: =AE31/AE16 -> 0.0696 | AG31: =+$B$31*AG16 -> 3035203.7 | AH31: =AG31/AG16 -> 0.0696 | AI31: =+$B$31*AI16 -> 3490484.2 | AJ31: =AI31/AI16 -> 0.0696 | AK31: =+$B$31*AK16 -> 4173405 | AL31: =AK31/AK16 -> 0.0696 | AM31: =+$B$31*AM16 -> 4552805.5 | AN31: =AM31/AM16 -> 0.0696 | AO31: =+$B$31*AO16 -> 5083966.1 | AP31: =AO31/AO16 -> 0.0696 | AQ31: =+$B$31*AQ16 -> 6373927.7 | AR31: =AQ31/AQ16 -> 0.0696
A32: SUBTOTAL SEGURIDAD SOCIAL | C32: =SUM(C29:C31) -> 2993774.9 | E32: =SUM(E29:E31) -> 3891907.3 | G32: =SUM(G29:G31) -> 4490662.3 | I32: =SUM(I29:I31) -> 5987549.8 | K32: =SUM(K29:K31) -> 7813752.4 | M32: =SUM(M29:M31) -> 11346407 | O32: =SUM(O29:O31) -> 13980929 | Q32: =SUM(Q29:Q31) -> 3293152.4 | S32: =SUM(S29:S31) -> 4191284.8 | U32: =SUM(U29:U31) -> 5388794.8 | W32: =SUM(W29:W31) -> 6885682.2 | Y32: =SUM(Y29:Y31) -> 8083192.2 | AA32: =SUM(AA29:AA31) -> 8083192.2 | AC32: =SUM(AC29:AC31) -> 8382569.7 | AE32: =SUM(AE29:AE31) -> 8981324.6 | AG32: =SUM(AG29:AG31) -> 11975100 | AI32: =SUM(AI29:AI31) -> 13771364 | AK32: =SUM(AK29:AK31) -> 16465762 | AM32: =SUM(AM29:AM31) -> 17962649 | AO32: =SUM(AO29:AO31) -> 20058292 | AQ32: =SUM(AQ29:AQ31) -> 25147709
A33: APORTES PARAFISCALES | D33: % | F33: % | H33: % | J33: % | L33: % | N33: % | P33: % | R33: % | T33: % | V33: % | X33: % | Z33: % | AB33: % | AD33: % | AF33: % | AH33: % | AJ33: % | AL33: % | AN33: % | AP33: % | AR33: %
A34: SENA (Afectado por la reforma tributaria) - asumido por el CREE | B34: 0.02 | C34: =+$B$34*C$16 -> 218046.24 | D34: =C34/C$16 -> 0.02 | E34: =+$B$34*E$16 -> 283460.11 | F34: =E34/E$16 -> 0.02 | G34: =+$B$34*G$16 -> 327069.36 | H34: =G34/G$16 -> 0.02 | I34: =+$B$34*I$16 -> 436092.48 | J34: =I34/I$16 -> 0.02 | K34: =+$B$34*K$16 -> 569100.69 | L34: =K34/K$16 -> 0.02 | M34: =+$B$34*M$16 -> 826395.25 | N34: =M34/M$16 -> 0.02 | O34: =+$B$34*O$16 -> 1018275.9 | P34: =O34/O$16 -> 0.02 | Q34: =+$B$34*Q$16 -> 239850.86 | R34: =Q34/Q$16 -> 0.02 | S34: =+$B$34*S$16 -> 305264.74 | T34: =S34/S$16 -> 0.02 | U34: =+$B$34*U$16 -> 392483.23 | V34: =U34/U$16 -> 0.02 | W34: =+$B$34*W$16 -> 501506.35 | X34: =W34/W$16 -> 0.02 | Y34: =+$B$34*Y$16 -> 588724.85 | Z34: =Y34/Y$16 -> 0.02 | AA34: =+$B$34*AA$16 -> 588724.85 | AB34: =AA34/AA$16 -> 0.02 | AC34: =+$B$34*AC$16 -> 610529.47 | AD34: =AC34/AC$16 -> 0.02 | AE34: =+$B$34*AE$16 -> 654138.72 | AF34: =AE34/AE$16 -> 0.02 | AG34: =+$B$34*AG$16 -> 872184.96 | AH34: =AG34/AG$16 -> 0.02 | AI34: =+$B$34*AI$16 -> 1003012.7 | AJ34: =AI34/AI$16 -> 0.02 | AK34: =+$B$34*AK$16 -> 1199254.3 | AL34: =AK34/AK$16 -> 0.02 | AM34: =+$B$34*AM$16 -> 1308277.4 | AN34: =AM34/AM$16 -> 0.02 | AO34: =+$B$34*AO$16 -> 1460909.8 | AP34: =AO34/AO$16 -> 0.02 | AQ34: =+$B$34*AQ$16 -> 1831588.4 | AR34: =AQ34/AQ$16 -> 0.02 | AS34: De acuerdo al artículo 114-1 del Estatuto Tributario
A35: ICBF (Afectado por la reforma tributaria) - asumido por el CREE | B35: 0.03 | C35: =+$B$35*C$16 -> 327069.36 | D35: =C35/C$16 -> 0.03 | E35: =+$B$35*E$16 -> 425190.17 | F35: =E35/E$16 -> 0.03 | G35: =+$B$35*G$16 -> 490604.04 | H35: =G35/G$16 -> 0.03 | I35: =+$B$35*I$16 -> 654138.72 | J35: =I35/I$16 -> 0.03 | K35: =+$B$35*K$16 -> 853651.03 | L35: =K35/K$16 -> 0.03 | M35: =+$B$35*M$16 -> 1239592.9 | N35: =M35/M$16 -> 0.03 | O35: =+$B$35*O$16 -> 1527413.9 | P35: =O35/O$16 -> 0.03 | Q35: =+$B$35*Q$16 -> 359776.3 | R35: =Q35/Q$16 -> 0.03 | S35: =+$B$35*S$16 -> 457897.1 | T35: =S35/S$16 -> 0.03 | U35: =+$B$35*U$16 -> 588724.85 | V35: =U35/U$16 -> 0.03 | W35: =+$B$35*W$16 -> 752259.53 | X35: =W35/W$16 -> 0.03 | Y35: =+$B$35*Y$16 -> 883087.27 | Z35: =Y35/Y$16 -> 0.03 | AA35: =+$B$35*AA$16 -> 883087.27 | AB35: =AA35/AA$16 -> 0.03 | AC35: =+$B$35*AC$16 -> 915794.21 | AD35: =AC35/AC$16 -> 0.03 | AE35: =+$B$35*AE$16 -> 981208.08 | AF35: =AE35/AE$16 -> 0.03 | AG35: =+$B$35*AG$16 -> 1308277.4 | AH35: =AG35/AG$16 -> 0.03 | AI35: =+$B$35*AI$16 -> 1504519.1 | AJ35: =AI35/AI$16 -> 0.03 | AK35: =+$B$35*AK$16 -> 1798881.5 | AL35: =AK35/AK$16 -> 0.03 | AM35: =+$B$35*AM$16 -> 1962416.2 | AN35: =AM35/AM$16 -> 0.03 | AO35: =+$B$35*AO$16 -> 2191364.7 | AP35: =AO35/AO$16 -> 0.03 | AQ35: =+$B$35*AQ$16 -> 2747382.6 | AR35: =AQ35/AQ$16 -> 0.03 | AS35: De acuerdo al artículo 114-1 del Estatuto Tributario
A36: Caja de compensación familiar | B36: 0.04 | C36: =$B$36*C16 -> 436092.48 | D36: =C36/$C$16 -> 0.04 | E36: =$B$36*E16 -> 566920.22 | F36: =E36/$E$16 -> 0.04 | G36: =$B$36*G16 -> 654138.72 | H36: =G36/$G$16 -> 0.04 | I36: =$B$36*I16 -> 872184.96 | J36: =I36/$I$16 -> 0.04 | K36: =$B$36*K16 -> 1138201.4 | L36: =K36/$K$16 -> 0.04 | M36: =$B$36*M16 -> 1652790.5 | N36: =M36/$M$16 -> 0.04 | O36: =$B$36*O16 -> 2036551.9 | P36: =O36/$O$16 -> 0.04 | Q36: =$B$36*Q16 -> 479701.73 | R36: =Q36/Q16 -> 0.04 | S36: =$B$36*S16 -> 610529.47 | T36: =S36/S16 -> 0.04 | U36: =$B$36*U16 -> 784966.46 | V36: =U36/U16 -> 0.04 | W36: =$B$36*W16 -> 1003012.7 | X36: =W36/W16 -> 0.04 | Y36: =$B$36*Y16 -> 1177449.7 | Z36: =Y36/Y16 -> 0.04 | AA36: =$B$36*AA16 -> 1177449.7 | AB36: =AA36/AA16 -> 0.04 | AC36: =$B$36*AC16 -> 1221058.9 | AD36: =AC36/AC16 -> 0.04 | AE36: =$B$36*AE16 -> 1308277.4 | AF36: =AE36/AE16 -> 0.04 | AG36: =$B$36*AG16 -> 1744369.9 | AH36: =AG36/AG16 -> 0.04 | AI36: =$B$36*AI16 -> 2006025.4 | AJ36: =AI36/AI16 -> 0.04 | AK36: =$B$36*AK16 -> 2398508.6 | AL36: =AK36/AK16 -> 0.04 | AM36: =$B$36*AM16 -> 2616554.9 | AN36: =AM36/AM16 -> 0.04 | AO36: =$B$36*AO16 -> 2921819.6 | AP36: =AO36/AO16 -> 0.04 | AQ36: =$B$36*AQ16 -> 3663176.8 | AR36: =AQ36/AQ16 -> 0.04
A37: FIC (Fondo Nacional de Formación Profesional de la Industria de la Construcción) | B37: 12 | C37: =$B$37/40*$B$4 -> 272557.8 | D37: =C37/$C$16 -> 0.025 | E37: =$B$37/40*$B$4 -> 272557.8 | F37: =E37/$E$16 -> 0.019230769 | G37: =$B$37/40*$B$4 -> 272557.8 | H37: =G37/$G$16 -> 0.016666667 | I37: =$B$37/40*$B$4 -> 272557.8 | J37: =I37/$I$16 -> 0.0125 | K37: =$B$37/40*$B$4 -> 272557.8 | L37: =K37/$K$16 -> 0.0095785441 | M37: =$B$37/40*$B$4 -> 272557.8 | N37: =M37/$M$16 -> 0.0065963061 | O37: =$B$37/40*$B$4 -> 272557.8 | P37: =O37/$O$16 -> 0.0053533191 | Q37: =$B$37/40*$B$4 -> 272557.8 | R37: =Q37/Q16 -> 0.022727273 | S37: =$B$37/40*$B$4 -> 272557.8 | T37: =S37/S16 -> 0.017857143 | U37: =$B$37/40*$B$4 -> 272557.8 | V37: =U37/U16 -> 0.013888889 | W37: =$B$37/40*$B$4 -> 272557.8 | X37: =W37/W16 -> 0.010869565 | Y37: =$B$37/40*$B$4 -> 272557.8 | Z37: =Y37/Y16 -> 0.0092592593 | AA37: =$B$37/40*$B$4 -> 272557.8 | AB37: =AA37/AA16 -> 0.0092592593 | AC37: =$B$37/40*$B$4 -> 272557.8 | AD37: =AC37/AC16 -> 0.0089285714 | AE37: =$B$37/40*$B$4 -> 272557.8 | AF37: =AE37/AE16 -> 0.0083333333 | AG37: =$B$37/40*$B$4 -> 272557.8 | AH37: =AG37/AG16 -> 0.00625 | AI37: =$B$37/40*$B$4 -> 272557.8 | AJ37: =AI37/AI16 -> 0.0054347826 | AK37: =$B$37/40*$B$4 -> 272557.8 | AL37: =AK37/AK16 -> 0.0045454545 | AM37: =$B$37/40*$B$4 -> 272557.8 | AN37: =AM37/AM16 -> 0.0041666667 | AO37: =$B$37/40*$B$4 -> 272557.8 | AP37: =AO37/AO16 -> 0.0037313433 | AQ37: =$B$37/40*$B$4 -> 272557.8 | AR37: =AQ37/AQ16 -> 0.0029761905
A38: SUBTOTAL PARAFISCALES | C38: =SUM(C34:C37) -> 1253765.9 | E38: =SUM(E34:E37) -> 1548128.3 | G38: =SUM(G34:G37) -> 1744369.9 | I38: =SUM(I34:I37) -> 2234974 | K38: =SUM(K34:K37) -> 2833510.9 | M38: =SUM(M34:M37) -> 3991336.4 | O38: =SUM(O34:O37) -> 4854799.5 | Q38: =SUM(Q34:Q37) -> 1351886.7 | S38: =SUM(S34:S37) -> 1646249.1 | U38: =SUM(U34:U37) -> 2038732.3 | W38: =SUM(W34:W37) -> 2529336.4 | Y38: =SUM(Y34:Y37) -> 2921819.6 | AA38: =SUM(AA34:AA37) -> 2921819.6 | AC38: =SUM(AC34:AC37) -> 3019940.4 | AE38: =SUM(AE34:AE37) -> 3216182 | AG38: =SUM(AG34:AG37) -> 4197390.1 | AI38: =SUM(AI34:AI37) -> 4786115 | AK38: =SUM(AK34:AK37) -> 5669202.2 | AM38: =SUM(AM34:AM37) -> 6159806.3 | AO38: =SUM(AO34:AO37) -> 6846651.9 | AQ38: =SUM(AQ34:AQ37) -> 8514705.7
A39: DOTACIÓN | D39: % | F39: % | H39: % | J39: % | L39: % | N39: % | P39: % | R39: % | T39: % | V39: % | X39: % | Z39: % | AB39: % | AD39: % | AF39: % | AH39: % | AJ39: % | AL39: % | AN39: % | AP39: % | AR39: %
A40: Dotación | C40: =367500 -> 367500 | D40: =C40/$C$16 -> 0.033708446 | E40: =+$C$40 -> 367500 | F40: =E40/$E$16 -> 0.025929574 | G40: =+$C$40 -> 367500 | H40: =G40/$G$16 -> 0.022472298 | I40: =+$C$40 -> 367500 | J40: =I40/$I$16 -> 0.016854223 | K40: 0 | L40: =K40/$K$16 -> 0 | M40: 0 | N40: =M40/$M$16 -> 0 | O40: 0 | P40: =O40/$O$16 -> 0 | Q40: 0 | R40: =Q40/Q16 -> 0 | S40: 1 | T40: =S40/S16 -> 6.5516903e-08 | U40: 2 | V40: =U40/U16 -> 1.0191518e-07 | W40: 3 | X40: =W40/W16 -> 1.1963956e-07 | Y40: 4 | Z40: =Y40/Y16 -> 1.3588691e-07 | AA40: 5 | AB40: =AA40/AA16 -> 1.6985864e-07 | AC40: 6 | AD40: =AC40/AC16 -> 1.9655071e-07 | AE40: 7 | AF40: =AE40/AE16 -> 2.1402188e-07 | AG40: 8 | AH40: =AG40/AG16 -> 1.8344733e-07 | AI40: 9 | AJ40: =AI40/AI16 -> 1.7945934e-07 | AK40: 10 | AL40: =AK40/AK16 -> 1.667703e-07 | AM40: 11 | AN40: =AM40/AM16 -> 1.6816005e-07 | AO40: 12 | AP40: =AO40/AO16 -> 1.6428119e-07 | AQ40: 13 | AR40: =AQ40/AQ16 -> 1.4195329e-07
A41: Implementos de Seguridad | C41: =294000*1.0295 -> 302673 | D41: =C41/$C$16 -> 0.027762276 | E41: =+$C$41 -> 302673 | F41: =E41/$E$16 -> 0.021355597 | G41: =+$C$41 -> 302673 | H41: =G41/$G$16 -> 0.018508184 | I41: =+$C$41 -> 302673 | J41: =I41/$I$16 -> 0.013881138 | K41: =+$C$41 -> 302673 | L41: =K41/$K$16 -> 0.010636888 | M41: =+$C$41 -> 302673 | N41: =M41/$M$16 -> 0.0073251389 | O41: =+$C$41 -> 302673 | P41: =O41/$O$16 -> 0.005944813 | Q41: =+$C$41 -> 302673 | R41: =Q41/Q16 -> 0.025238433 | S41: =+$C$41 -> 302673 | T41: =S41/S16 -> 0.019830197 | U41: =+$C$41 -> 302673 | V41: =U41/U16 -> 0.015423487 | W41: =+$C$41 -> 302673 | X41: =W41/W16 -> 0.012070555 | Y41: =+$C$41 -> 302673 | Z41: =Y41/Y16 -> 0.010282325 | AA41: =+$C$41 -> 302673 | AB41: =AA41/AA16 -> 0.010282325 | AC41: =+$C$41 -> 302673 | AD41: =AC41/AC16 -> 0.0099150987 | AE41: =+$C$41 -> 302673 | AF41: =AE41/AE16 -> 0.0092540922 | AG41: =+$C$41 -> 302673 | AH41: =AG41/AG16 -> 0.0069405691 | AI41: =+$C$41 -> 302673 | AJ41: =AI41/AI16 -> 0.0060352775 | AK41: =+$C$41 -> 302673 | AL41: =AK41/AK16 -> 0.0050476866 | AM41: =+$C$41 -> 302673 | AN41: =AM41/AM16 -> 0.0046270461 | AO41: =+$C$41 -> 302673 | AP41: =AO41/AO16 -> 0.0041436234 | AQ41: =+$C$41 -> 302673 | AR41: =AQ41/AQ16 -> 0.0033050329
...

Sheet FM
A1: GOBERNACIÓN DE ANTIOQUIA
A2: SECRETARÍA DE INFRAESTRUCTURA FÍSICA
A3: =+PRESUP!A3:H3 -> CONCURSO DE MERITOS No.
A4: =+PRESUP!A4:H4 -> PROYECTO "OPTIMIZACION DEL ACUEDUCTO RURAL DEL BARRIO CEFERINO EN ZONA RURAL DEL MUNICIPIO DE HELICONIA-ANTIOQUIA" | E4: ESTIMATIVOS PERSONAL NO FACTURABLE
A5: FACTOR MULTIPLICADOR OFICIAL | E5: PERSONAL | F5: CANTIDAD | G5: SALARIOS | H5: FACTOR PRESTACIONAL:EPS, AFP, PARAFISCALES | I5: ARL | J5: TOTAL FACTOR PRESTACIONAL | K5: SALARIO CON FACTOR PRESTACIONAL | M5: Decreto 1607 de 20002 Niveles de Riesgo
A6: 1 | B6: Salario Básico | C6: 1 | E6: Gerente General | F6: 1 | G6: 7500000 | H6: =+C10+C11+C12+C13+C14+C15+C16+C17+C18 -> 0.5136 | I6: 0.00522 | J6: =+H6+I6 -> 0.51882 | K6: =+G6*(1+J6)*F6 -> 11391150
B7: Subtotal 1 | C7: =+C6 -> 1 | E7: Director Tecnico | G7: 6500000 | H7: =51.36%-5%-8.5% -> 0.3786 | I7: 0.0696 | J7: =+H7+I7 -> 0.4482 | K7: =+G7*(1+J7)*F7 -> 0 | M7: NIVEL DE RIESGO | N7: % COTIZACIÓN
E8: Director Admon-Financiero | G8: =+G7 -> 6500000 | H8: =51.36%-5%-8.5% -> 0.3786 | I8: 0.00522 | J8: =+H8+I8 -> 0.38382 | K8: =+G8*(1+J8)*F8 -> 0 | M8: Riesgo I | N8: 0.522% | O8: Oficina
A9: 2 | B9: Prestaciones Sociales | E9: Coordinadores | G9: 6000000 | H9: =51.36%-5%-8.5% -> 0.3786 | I9: 0.0696 | J9: =+H9+I9 -> 0.4482 | K9: =+G9*(1+J9)*F9 -> 0 | M9: Riesgo II | N9: 0.01044
B10: Prima anual | C10: 0.0833 | E10: Secretaria | F10: 1 | G10: 2500000 | H10: =51.36%-5%-8.5% -> 0.3786 | I10: 0.00522 | J10: =+H10+I10 -> 0.38382 | K10: =+G10*(1+J10)*F10 -> 3459550 | M10: Riesgo III | N10: 0.02436
B11: Cesantía anual | C11: 0.0833 | E11: Mensajero | F11: 1 | G11: 1300000 | H11: =51.36%-5%-8.5% -> 0.3786 | I11: 0.0435 | J11: =+H11+I11 -> 0.4221 | K11: =+G11*(1+J11)*F11 -> 1848730 | M11: Riesgo IV | N11: 0.0435
B12: Interés a las cesantías | C12: 0.01 | E12: Auxiliares Admon | F12: 1 | G12: =+G10 -> 2500000 | H12: =51.36%-5%-8.5% -> 0.3786 | I12: 0.00522 | J12: =+H12+I12 -> 0.38382 | K12: =+G12*(1+J12)*F12 -> 3459550 | M12: Riesgo V | N12: 0.0696 | O12: En obra
B13: Vacaciones anuales | C13: 0.042 | E13: Contador | F13: 1 | G13: 4500000 | H13: =51.36%-5%-8.5% -> 0.3786 | I13: 0.00522 | J13: =+H13+I13 -> 0.38382 | K13: =+G13*(1+J13)*F13 -> 6227190
B14: EPS | C14: 0.085 | E14: Revisor Fiscal | F14: 1 | G14: 6000000 | H14: =51.36%-5%-8.5% -> 0.3786 | I14: 0.00522 | J14: =+H14+I14 -> 0.38382 | K14: =+G14*(1+J14)*F14 -> 8302920 | M14: V todo lo que sea para entrar a obra asi sea exporadico
B15: Pensiones (AFP) | C15: 0.12 | E15: Abogado | F15: 1 | G15: 8700000 | H15: =51.36%-5%-8.5% -> 0.3786 | I15: 0.00522 | J15: =+H15+I15 -> 0.38382 | K15: =+G15*(1+J15)*F15 -> 12039234 | M15: Director adm tiene oficinas dentro de obra si, si no no
B16: Subsidio familiar | C16: 0.04 | E16: SUBTOTAL NOMINA MENSUAL PERSONAL DE EMPRESA NO FACTURABLE EN LA OBRA | K16: =SUM(K6:K15) -> 46728324 | M16: Conductor riesgo iV por traslados
B17: Sena | C17: 0.02 | E17: TOTAL DE CONTRATOS DE LA EMPRESA EN EL MOMENTO DEL PROYECTO | K17: 35
B18: ICBF | C18: 0.03 | E18: % CORRESPONDIENTE AL PROYECTO | K18: 0.03
B19: ARP 6,96 % NORMAL | C19: 0.0696 | E19: TOTAL NOMINA DE PERSONAL NO FACTURABLE CORRESPONDIENTE AL PROYECTO | K19: =K18*K16 -> 1401849.7
B20: Subtotal 2 | C20: =SUM(C10:C19) -> 0.5832
A22: 3 | B22: Costos Indirectos | E22: DESCRIPCION | F22: % DE INCIDENCIA | G22: SUBTOTAL BASADOS EN S.M.M.L.V | I22: NOMINA SIN FM | J22: =PRESUP!H15 -> 62790077
B23: =+E23 -> Costos oficina central (arrendamiento oficina central, administración y servicios públicos) | C23: =G23/$J$22 -> 0.025083581 | E23: Costos oficina central (arrendamiento oficina central, administración y servicios públicos) | F23: 0.35 | G23: =F23*J25*J24 -> 1575000 | I23: VR TOTAL CTTO | J23: =+PRESUP!I35 -> 185330688
B24: Papelería de la oficina del consultor para uso del proyecto | C24: =G24/$J$22 -> 0.02866695 | E24: Papelería de la oficina del consultor para uso del proyecto ( cafetería y otros gastos funcionamiento | F24: 0.4 | G24: =F24*J25*J24 -> 1800000 | I24: PLAZO | J24: =+PRESUP!G9 -> 4.5
B25: Personal Administrativo y técnico no facturable | C25: =G25/$J$22 -> 0.040186756 | E25: Personal Administrativo y técnico no facturable | F25: 0.4 | G25: =+K19*J24*F25 -> 2523329.5 | I25: S.M.M.L.V 2022 | J25: 1000000
B26: Pólizas | C26: =G26/$J$22 -> 0.012095112 | E26: Pólizas | F26: 1 | G26: =+POLIZAS!H16 -> 759453 | I26: VR CTTO ANTES IVA | J26: =PRESUP!H33 -> 1.5671748e+08
B27: Subtotal 3 | C27: =SUM(C23:C26) -> 0.1060324
A29: 4 | B29: Costos Gravamenes
B31: Impuesto del 4/1000 (50%) | C31: =(G31/$J$22)/2 -> 0.0024958957 | E31: Impuesto del 4/1000 (50%) | F31: =4/1000*0.5 -> 0.002 | G31: =$J$26*F31 -> 313434.97 | I31: Auxilio de localización | J31: Director y Residente | K31: Social y otros
B32: Estampila Pro Adulto Mayor | C32: 0.04 | E32: Estampilla Procultura | F32: 0.02 | G32: =$J$26*F32 -> 3134349.7 | I32: Transporte | J32: =+J36*J24*2 -> 315000 | K32: =4*2*K36 -> 280000
B33: Estampillla Ppro Cultura | C33: 0.02 | E33: Estampilla para el Bienestar del Adulto Mayor | F33: 0.04 | G33: =$J$26*F33 -> 6268699.3 | I33: Viáticos | J33: =+J37*6 -> 1776600 | K33: =+K37*6 -> 1463400
B34: Estampilla Pro Hospital | C34: 0.01 | E34: Estampilla Pro Hospitalaria (1%) | F34: 0 | G34: =$J$26*F34 -> 0 | J34: =+J33+J32 -> 2091600 | K34: =+K33+K32 -> 1743400 | M34: 162600
B35: Estampilla Pro Deportes | C35: 0.025 | E35: Estampilla Politécnico Colombiano Jaime Isaza Cadavid 4/1000 | F35: 0 | G35: =$J$26*F35 -> 0 | M35: 197400
E36: Estampilla Prodesarrollo Institución Educativa de Envigado 4/1000 | F36: 0 | G36: =$J$26*F36 -> 0 | I36: Viaje en flota | J36: 35000 | K36: 35000
E37: Estampilla Prodeportes | F37: 0.02 | G37: =$J$26*F37 -> 3134349.7 | I37: Viáticos día | J37: =+Viáticos!F8 -> 296100 | K37: 243900
B38: Subtotal 4 | C38: =SUM(C30:C36) -> 0.097495896 | E38: SUBTOTAL GRAVAMENES | F38: =SUM(F31:F37) -> 0.082 | G38: =SUM(G31:G37) -> 12850834
A40: 5 | B40: Honorarios ó Utilidad (10% de (1+2+3+4)) | C40: =(C7+C20+C27+C38)*0.1 -> 0.17867283
B42: Subtotal 1+2+3+4+5 | C42: =ROUND(SUM(C40+C20+C38+C27+C7),4) -> 1.9654
B43: Factor Multiplicador ajustado a dos cifras decimales | C43: =ROUND((C42),2) -> 1.97 | E43: FM SIN ESTAMPILLAS | F43: =ROUND(C43-C38,8) -> 1.8725041
B45: Elaboró:
B48: Alexander Arango
...

Sheet POLIZAS
A1: CÁLCULO DEL VALOR DE LAS PRIMAS DE LOS SEGUROS
A2: =+PRESUP!A4 -> PROYECTO "OPTIMIZACION DEL ACUEDUCTO RURAL DEL BARRIO CEFERINO EN ZONA RURAL DEL MUNICIPIO DE HELICONIA-ANTIOQUIA"
A4: Costo total (CT): | B4: =PRESUP!$I$35 -> 185330688
A5: Plazo contractual en meses (PC): | B5: =+FM!J24 -> 4.5
A6: Anticipo / costo total | B6: 0
A8: Tipo de garantía | B8: Valor asegurado | E8: Vigencia | G8: Prima
B9: Porcentaje | C9: De | D9: Valor | E9: Según pliego | F9: Meses | G9: Tasa anual | H9: Valor total para el proyecto
A10: Cumplimiento | B10: 0.2 | C10: CT | D10: =+$B$4*B10 -> 37066138 | E10: PC + 6 m | F10: =+B5+6 -> 10.5 | G10: 0.002 | H10: =+D10*F10*G10/12 -> 64865.741 | I10: PORCENTAJES A ASEGURAR Y VIGENCIA DE ACUERDO A LO DEFINIDO EN LOS ESTUDIOS PREVIOS Y OTROS DOCUMENTOS CONTRACTUALES. (Vigencias sugeridas)
A11: Salarios y prestaciones sociales | B11: 0.2 | C11: CT | D11: =+$B$4*B11 -> 37066138 | E11: PC + 36 m | F11: =+B5+36 -> 40.5 | G11: 0.0015 | H11: =+D11*F11*G11/12 -> 187647.32
A12: Calidad en el Servicio | B12: 0.2 | C12: CT | D12: =+$B$4*B12 -> 37066138 | E12: 60 m | F12: 60 | G12: 0.002 | H12: =+D12*F12*G12/12 -> 370661.38
B13: MONTO - 1082 EN SMMLV | C13: VR SMMLV | D13: VALOR ASEGURADO | E13: VIGENCIA MESES | G13: PRIMA
A14: RESPONSABILIDAD CIVIL EXTRACONTRACTUAL | B14: =IF(B4=0,"",IF(J16<1500,200,IF(I26<2500,300,IF(I26<5000,400,IF(I26<10000,500,IF(I26>10000,0.05)))))) -> 200 | C14: 908526 | D14: =IFERROR(IF(B14<200,B14*C1,C14*B14),0) -> 181705200 | E14: =+B5 -> 4.5 | G14: 0.002 | H14: =G14*(E14/12)*D14 -> 136278.9 | I14: Verificar si aplica o no
A16: VALOR TOTAL DE LAS PRIMAS | H16: =ROUND(SUM(H10:H15),0) -> 759453 | J16: =ROUND(B4/C14,0) -> 204
F18: Valor para el FM | H18: 0 | J18: 1. Doscientos (200) SMMLV para contratos cuyo valor sea inferior o igual a mil quinientos (1.500) SMMLV.
J19: 2. Trescientos (300) SMMLV para contratos cuyo valor sea superior a mil quinientos (1.500) SMMLV e inferior o igual a dos mil quinientos (2.500) SMMLV.
J20: 3. Cuatrocientos (400) SMMLV para contratos cuyo valor sea superior a dos mil quinientos (2.500) SMMLV e inferior o igual a cinco mil (5.000) SMMLV.
J21: 4. Quinientos (500) SMMLV para contratos cuyo valor sea superior a cinco mil (5.000) SMMLV e inferior o igual a diez mil (10.000) SMMLV.
J22: 5. El cinco por ciento (5%) del valor del contrato cuando este sea superior a diez mil (10.000) SMMLV, caso en el cual el valor asegurado debe ser máximo setenta y cinco mil (75.000) SMMLV.
J23: La vigencia de esta garantía deberá ser igual al período de ejecución del contrato.

Sheet LABORATORIOS
A1: ENSAYO | B1: N° MUESTRAS | C1: VALOR DE ENSAYO | D1: VALOR + IVA | E1: VALOR DE TRANSPORTES | F1: TOTAL
A2: Granulometría (NTC 77:2007 y NTC 78:1995) | B2: 1 | C2: 49078 | D2: =+C2*B2*1.19 -> 58402.82 | E2: 10000 | F2: =+D2+E2 -> 68402.82
A3: Diseño de mezcla con dos agregados (incluye ensayos) | B3: 0 | C3: 519930 | D3: =+C3*B3*1.19 -> 0 | E3: 10000 | F3: =+D3+E3 -> 10000
A4: Resistencia a la compresión cilindros de 6” (NTC 673:2010 | B4: 8 | C4: =6254 -> 6254 | D4: =+C4*B4*1.19 -> 59538.08 | E4: 8000 | F4: =+D4+E4 -> 67538.08
A5: Densidad (cono y arena) (NTC 1667:2002) | B5: 8 | C5: =42930 -> 42930 | D5: =+C5*B5*1.19 -> 408693.6 | E5: 0 | F5: =+D5+E5 -> 408693.6
A6: Diseño suelo-cemento (incluye todos los ensayos) | B6: 0 | C6: 636000 | D6: =+C6*B6*1.19 -> 0 | E6: 0 | F6: =+D6+E6 -> 0
A7: Límites: líquido y plástico (NTC 4630:1999 - INV 125 - INV 126) | B7: 8 | C7: =53848 -> 53848 | D7: =+C7*B7*1.19 -> 512632.96 | E7: 10000 | F7: =+D7+E7 -> 522632.96
A8: Proctor modificado (INV E-142) | B8: 8 | C8: 130910 | D8: =+C8*B8*1.19 -> 1246263.2 | E8: 0 | F8: =+D8+E8 -> 1246263.2
E9: SUBTOTAL | F9: =SUM(F2:F8) -> 2323530.7

Sheet Viáticos
A1: BASE DE LIQUIDACIÓN - DADA EN RANGOS SALARIALES | E1: TARIFA GENERAL POR DÍA EN PESOS | F1: TARIFA POR DÍA EN PESOS DEFINA PARA TODOS LOS MUNICIPIOS DE URABA, BAJO CAUCA, NORDESTE Y MAGADALENA MEDIO | G1: TARIFA POR DÍA EN PESOS DEFINIDA PARA MUNICIPIOS SITUADOS A MENOS DE 60 kms. DESDE MEDELLÍN
A2: DESDE | B2: $ - | C2: HASTA | D2: $ 1.197.166 | E2: $ 75.600 | F2: 97200 | G2: 64800
A3: DESDE | B3: $ 1.197.167 | C3: HASTA | D3: $ 1.881.232 | E3: $ 103.600 | F3: 133200 | G3: 88800
A4: DESDE | B4: $ 1.881.233 | C4: HASTA | D4: $ 2.512.112 | E4: $ 126.000 | F4: 162000 | G4: 108000
A5: DESDE | B5: $ 2.512.113 | C5: HASTA | D5: $ 3.186.275 | E5: $ 146.300 | F5: 188100 | G5: 125400
A6: DESDE | B6: $ 3.186.276 | C6: HASTA | D6: $ 3.848.087 | E6: $ 168.000 | F6: 216000 | G6: 144000
A7: DESDE | B7: $ 3.848.088 | C7: HASTA | D7: $ 5.803.498 | E7: $ 189.700 | F7: 243900 | G7: 162600
A8: DESDE | B8: $ 5.803.499 | C8: HASTA | D8: $ 8.111.292 | E8: $ 230.300 | F8: 296100 | G8: 197400
A9: DESDE | B9: $ 8.111.293 | C9: HASTA | D9: $ 9.631.033 | E9: $ 277.550 | F9: 384300 | G9: 234850
A10: DESDE | B10: $ 9.631.034 | C10: HASTA | D10: $ 11.856.160 | E10: $ 360.750 | F10: 499500 | G10: 305250
A11: DESDE | B11: $ 11.856.162 | C11: HASTA | D11: $ 14.336.370 | E11: $ 436.150 | F11: 603900 | G11: 369050
A12: DESDE | B12: $ 14.336.371 | C12: HASTA | D12: EN ADELANTE | E12: $ 513.500 | F12: 711000 | G12: 434500

Sheet PAC
A1: PRESUPUESTO OFICIAL | D1: =+PRESUP!H35 -> 185330668
A3: ANTICIPO | B3: 0.25 | D3: =+D1*B3 -> 46332667 | E3: =+D1/5 -> 37066134 | F3: =+E3/2 -> 18533067
A5: MES | B5: VALOR ACTA | C5: AMORTIZACION | D5: NETO A PAGAR
A6: 1 | B6: =+$D$1/5 -> 37066134 | C6: =+B6*0.25 -> 9266533.4 | D6: =+B6-C6 -> 27799600
A7: 2 | B7: =+$D$1/5 -> 37066134 | C7: =+B7*0.25 -> 9266533.4 | D7: =+B7-C7 -> 27799600
A8: 3 | B8: =+$D$1/5 -> 37066134 | C8: =+B8*0.25 -> 9266533.4 | D8: =+B8-C8 -> 27799600
A9: 4 | B9: =+$D$1/5 -> 37066134 | C9: =+B9*0.25 -> 9266533.4 | D9: =+B9-C9 -> 27799600
A10: 5 | B10: =+$D$1/5 -> 37066134 | C10: =+B10*0.25 -> 9266533.4 | D10: =+B10-C10 -> 27799600
B11: =SUM(B6:B10) -> 185330668 | C11: =SUM(C6:C10) -> 46332667 | D11: =SUM(D6:D10) -> 138998001
