Workbook

Sheet PROPONENTES  
C1: VERIFICACIÓN FINANCIERA Y CAPACIDAD ORGANIZACIONAL | K1: Código: GCO-GCI-F107 Versión: 03 Vigencia: 21 de diciembre de 2022 Caso HOLA: 282943
B6: OBJETO: “CONTRATAR LA PRESTACIÓN DE SERVICIOS PARA LA IMPLEMENTACIÓN DE ACCIONES DE PROMOCIÓN Y PREVENCIÓN EN SALUD A TRAVÉS DE ACTIVIDADES COMPLEMENTARIAS Y ALTERNATIVAS EN LA LOCALIDAD DE BARRIOS UNIDOS PARA LA VIGENCIA 2024”
B7: CONCEPTO | C7: FUNDACION SOCIAL VIVE COLOMBIA NIT: 830095614-0 | D7: PROYECTOS & CONSULTORIAS R C S A S NIT: 900279352-0 | E7: FUNDACION FORO CIVICO ESCUELA DE DEMOCRACIA, DERECHOS HUMANOS Y PARTICIPACION CIUDADANA NIT: 830044030-1 | F7: FUNDACION PARA EL DESARROLLO SOCIOCULTURAL, DEPORTIVO, COMUNITARIO, AGROPECUARIO Y/O AMBIENTAL - FUNDESCO NIT: 830133329-1 | G7: CORPORACION PARA EL DESARROLLO SOCIAL Y EL BIENESTAR FAMILIAR NIT: 900151981-2 | H7: SEN SOCIAL SAS NIT: 901708191-7 | I7: UT CODEPORTES | J7: FUNDACION STAR COP HUMANITY CUYA SIGLA ES S C H NIT: 900270491-5 | K7: I.P.S. ETNICA PUBLIK SALUD S.A.S. NIT: 900.592.310 | M7: Datos para validación financiera
C8: 1 | D8: 2 | E8: =D8+1 -> 3 | F8: =E8+1 -> 4 | G8: A | H8: B | I8: 5 | J8: =I8+1 -> 6 | K8: =J8+1 -> 7
B9: BALANCE GENERAL CON CORTE A 31 DE DICIEMBRE DEL AÑO: 2023 | C9: 31-DIC.-2023 RUP | D9: 31-DIC.-2023 RUP | E9: 31-DIC.-2023 RUP | F9: 31-DIC.-2023 RUP | G9: 31-DIC.-2023 RUP | H9: 31-DIC.-2023 RUP | J9: 31-DIC.-2023 RUP | K9: 31-DIC.-2023 RUP
B10: PRESENTACIÓN DE RUP VIGENTE | C10: =IF(C69<=$B$70,"VIGENTE","NO VIGENTE") -> VIGENTE | D10: =IF(D69<=$B$70,"VIGENTE","NO VIGENTE") -> VIGENTE | E10: =IF(E69<=$B$70,"VIGENTE","NO VIGENTE") -> VIGENTE | F10: =IF(F69<=$B$70,"VIGENTE","NO VIGENTE") -> VIGENTE | G10: =IF(G69<=$B$70,"VIGENTE","NO VIGENTE") -> VIGENTE | H10: =IF(H69<=$B$70,"VIGENTE","NO VIGENTE") -> VIGENTE | I10: =IF(I69<=$B$70,"VIGENTE","NO VIGENTE") -> VIGENTE | J10: =IF(J69<=$B$70,"VIGENTE","NO VIGENTE") -> VIGENTE | K10: =IF(K69<=$B$70,"VIGENTE","NO VIGENTE") -> VIGENTE
B11: INFORMACION TOMADA DEL RUP VIGENTE | C11: 1 | D11: 1 | E11: 1 | F11: 1 | G11: 0.8 | H11: 0.2 | I11: =SUM(G11:H11) -> 1 | J11: 1 | K11: 1
B12: ACTIVO CORRIENTE | C12: 2095286317 | D12: 4566143947 | E12: 987366515 | F12: 7609843000 | G12: 3436401772 | H12: 157690007 | I12: =(G12*G$11)+(H12*H$11) -> 2.7806594e+09 | J12: 2954245000 | K12: 1796642947
B13: PASIVO CORRIENTE | C13: 322544344 | D13: 458157129 | E13: 114371000 | F13: 545194000 | G13: 801381918 | H13: 22460809 | I13: =(G13*G$11)+(H13*H$11) -> 6.455977e+08 | J13: 1450140000 | K13: 0
B14: ACTIVO TOTAL | C14: 2607727901 | D14: 4566143947 | E14: 1604054315 | F14: 7774643000 | G14: 3587774305 | H14: 157690007 | I14: =(G14*G$11)+(H14*H$11) -> 2.9017574e+09 | J14: 3051457000 | K14: 2001087844
B15: PASIVO TOTAL | C15: 881044344 | D15: 458157129 | E15: 114371000 | F15: 658033000 | G15: 1643903769 | H15: 22460809 | I15: =(G15*G$11)+(H15*H$11) -> 1319615177 | J15: 1450140000 | K15: 0
B16: PATRIMONIO | C16: 1726683557 | D16: 4107986818 | E16: 1489683315 | F16: 7116610000 | G16: 1943870536 | H16: 135229198 | I16: =(G16*G$11)+(H16*H$11) -> 1.5821423e+09 | J16: 1601317000 | K16: 2001087844
B17: Activo total-Pasivo total-Patrimonio | C17: =+C14-C15-C16 -> 0 | D17: =+D14-D15-D16 -> 0 | E17: =+E14-E15-E16 -> 0 | F17: =+F14-F15-F16 -> 0 | G17: =+G14-G15-G16 -> 0 | H17: =+H14-H15-H16 -> 0 | I17: =+I14-I15-I16 -> 0 | J17: =+J14-J15-J16 -> 0 | K17: =+K14-K15-K16 -> 0
B18: UTILIDAD OPERACIONAL | C18: 627551069 | D18: 626282693 | E18: 1247405900 | F18: 3942646000 | G18: 2254805027 | H18: 56332243 | I18: =(G18*G$11)+(H18*H$11) -> 1.8151105e+09 | J18: 983299000 | K18: 1041885886
B19: GASTOS DE INTERESES | C19: 33562934 | D19: 5383570 | E19: 5413000 | F19: 0 | G19: 255526004 | H19: 4000 | I19: =(G19*G$11)+(H19*H$11) -> 2.044216e+08 | J19: 0 | K19: 0
B20: Rentabilidad del Patrimonio = Utilidad Operacional / Patrimonio | C20: =+C18/C16 -> 0.36344301 | D20: =+D18/D16 -> 0.15245489 | E20: =+E18/E16 -> 0.83736314 | F20: =+F18/F16 -> 0.55400619 | G20: =+G18/G16 -> 1.1599564 | H20: =+H18/H16 -> 0.41656864 | I20: =+I18/I16 -> 1.1472486 | J20: =+J18/J16 -> 0.61405643 | K20: =+K18/K16 -> 0.52065974
B21: Rentabilidad del Activo = Utilidad Operacional / Activo Total | C21: =+C18/C14 -> 0.24065052 | D21: =+D18/D14 -> 0.1371579 | E21: =+E18/E14 -> 0.77765814 | F21: =+F18/F14 -> 0.50711602 | G21: =+G18/G14 -> 0.62846903 | H21: =+H18/H14 -> 0.35723407 | I21: =+I18/I14 -> 0.62552109 | J21: =+J18/J14 -> 0.32223918 | K21: =+K18/K14 -> 0.52065974 | M21: MiPyME | N21: No MiPyME (Gran Empresa)
B22: VALOR DEL PRESUPUESTO OFICIAL | C22: =IF(C11=1,$M$22,"") -> 1207000000 | D22: =IF(D11=1,$M$22,"") -> 1207000000 | E22: =IF(E11=1,$M$22,"") -> 1207000000 | F22: =IF(F11=1,$M$22,"") -> 1207000000 | G22: =IF(G11=1,$M$22,"") | H22: =IF(H11=1,$M$22,"") | I22: =IF(I11=1,$M$22,"") -> 1207000000 | J22: =IF(J11=1,$M$22,"") -> 1207000000 | K22: =IF(K11=1,$M$22,"") -> 1207000000 | M22: 1207000000 | N22: =M22 -> 1207000000
B23: CRITERIO DE VERIFICACIÓN FINANCIERA | M23: FDLBU-LP-005-2024 (120805)
B24: HÁBIL
B25: NO HÁBIL
B26: CRITERIO DE VERIFICACIÓN FINANCIERA
B27: =CONCATENATE("Índice de Liquidez: Mayor o Igual a ",M27," veces.") -> Índice de Liquidez: Mayor o Igual a 1,32 veces. | C27: =IF(C71="MiPyME",IF(C28>=$M$27,$B$24,$B$25),IF(C28>=$N$27,$B$24,$B$25)) -> HÁBIL | D27: =IF(D71="MiPyME",IF(D28>=$M$27,$B$24,$B$25),IF(D28>=$N$27,$B$24,$B$25)) -> HÁBIL | E27: =IF(E71="MiPyME",IF(E28>=$M$27,$B$24,$B$25),IF(E28>=$N$27,$B$24,$B$25)) -> HÁBIL | F27: =IF(F71="MiPyME",IF(F28>=$M$27,$B$24,$B$25),IF(F28>=$N$27,$B$24,$B$25)) -> HÁBIL | G27: - | H27: - | I27: =IF(I71="MiPyME",IF(I28>=$M$27,$B$24,$B$25),IF(I28>=$N$27,$B$24,$B$25)) -> HÁBIL | J27: =IF(J71="MiPyME",IF(J28>=$M$27,$B$24,$B$25),IF(J28>=$N$27,$B$24,$B$25)) -> HÁBIL | K27: HABIL | M27: 1.32 | N27: =M27 -> 1.32
B28: Activo corriente / Pasivo corriente | C28: =C12/C13 -> 6.4961186 | D28: =D12/D13 -> 9.9663274 | E28: =E12/E13 -> 8.6330146 | F28: =F12/F13 -> 13.958046 | G28: - | H28: - | I28: =I12/I13 -> 4.3071086 | J28: =J12/J13 -> 2.0372136 | K28: Indeterminado
B29: =CONCATENATE("Endeudamiento total: Menor o Igual a ",TEXT(M29,"#0%")) -> Endeudamiento total: Menor o Igual a 61% | C29: =IF(C71="MiPyME",IF(C30<=$M$29,$B$24,$B$25),IF(C30<=$N$29,$B$24,$B$25)) -> HÁBIL | D29: =IF(D71="MiPyME",IF(D30<=$M$29,$B$24,$B$25),IF(D30<=$N$29,$B$24,$B$25)) -> HÁBIL | E29: =IF(E71="MiPyME",IF(E30<=$M$29,$B$24,$B$25),IF(E30<=$N$29,$B$24,$B$25)) -> HÁBIL | F29: =IF(F71="MiPyME",IF(F30<=$M$29,$B$24,$B$25),IF(F30<=$N$29,$B$24,$B$25)) -> HÁBIL | G29: - | H29: - | I29: =IF(I71="MiPyME",IF(I30<=$M$29,$B$24,$B$25),IF(I30<=$N$29,$B$24,$B$25)) -> HÁBIL | J29: =IF(J71="MiPyME",IF(J30<=$M$29,$B$24,$B$25),IF(J30<=$N$29,$B$24,$B$25)) -> HÁBIL | K29: =IF(K71="MiPyME",IF(K30<=$M$29,$B$24,$B$25),IF(K30<=$N$29,$B$24,$B$25)) -> HÁBIL | M29: 0.61 | N29: =M29 -> 0.61
B30: (Pasivo total / Activo total)*100 | C30: =C15/C14 -> 0.337859 | D30: =D15/D14 -> 0.10033786 | E30: =E15/E14 -> 0.071301202 | F30: =F15/F14 -> 0.084638356 | G30: - | H30: - | I30: =I15/I14 -> 0.45476412 | J30: =J15/J14 -> 0.47522872 | K30: =K15/K14 -> 0
B31: =CONCATENATE("Razón de Cobertura de Intereses Mayor o Igual a ",M31," veces o Indeterminado") -> Razón de Cobertura de Intereses Mayor o Igual a 1,8 veces o Indeterminado | C31: =IF(C71="MiPyME",IF(AND(C32="Indeterminado",C18<=0),$B$25,IF(C32>=$M$31,$B$24,$B$25)),IF(AND(C32="Indeterminado",C18<=0),$B$25,IF(C32>=$N$31,$B$24,$B$25))) -> HÁBIL | D31: =IF(D71="MiPyME",IF(AND(D32="Indeterminado",D18<=0),$B$25,IF(D32>=$M$31,$B$24,$B$25)),IF(AND(D32="Indeterminado",D18<=0),$B$25,IF(D32>=$N$31,$B$24,$B$25))) -> HÁBIL | E31: =IF(E71="MiPyME",IF(AND(E32="Indeterminado",E18<=0),$B$25,IF(E32>=$M$31,$B$24,$B$25)),IF(AND(E32="Indeterminado",E18<=0),$B$25,IF(E32>=$N$31,$B$24,$B$25))) -> HÁBIL | F31: =IF(F71="MiPyME",IF(AND(F32="Indeterminado",F18<=0),$B$25,IF(F32>=$M$31,$B$24,$B$25)),IF(AND(F32="Indeterminado",F18<=0),$B$25,IF(F32>=$N$31,$B$24,$B$25))) -> HÁBIL | G31: - | H31: - | I31: =IF(I71="MiPyME",IF(AND(I32="Indeterminado",I18<=0),$B$25,IF(I32>=$M$31,$B$24,$B$25)),IF(AND(I32="Indeterminado",I18<=0),$B$25,IF(I32>=$N$31,$B$24,$B$25))) -> HÁBIL | J31: =IF(J71="MiPyME",IF(AND(J32="Indeterminado",J18<=0),$B$25,IF(J32>=$M$31,$B$24,$B$25)),IF(AND(J32="Indeterminado",J18<=0),$B$25,IF(J32>=$N$31,$B$24,$B$25))) -> HÁBIL | K31: =IF(K71="MiPyME",IF(AND(K32="Indeterminado",K18<=0),$B$25,IF(K32>=$M$31,$B$24,$B$25)),IF(AND(K32="Indeterminado",K18<=0),$B$25,IF(K32>=$N$31,$B$24,$B$25))) -> HÁBIL | M31: 1.8 | N31: =M31 -> 1.8
B32: RC= (Utilidad Operacional) / (Gastos de Intereses) | C32: =IFERROR(C18/C19,"Indeterminado") -> 18.697742 | D32: =IFERROR(D18/D19,"Indeterminado") -> 116.33223 | E32: =IFERROR(E18/E19,"Indeterminado") -> 230.44631 | F32: =IFERROR(F18/F19,"Indeterminado") -> Indeterminado | G32: - | H32: - | I32: =IFERROR(I18/I19,"Indeterminado") -> 8.8792498 | J32: =IFERROR(J18/J19,"Indeterminado") -> Indeterminado | K32: =IFERROR(K18/K19,"Indeterminado") -> Indeterminado
B33: =CONCATENATE("CAPITAL DE TRABAJO ≥ A ",TEXT(M33,"#,0#%")," DEL PPTO OFICIAL") -> CAPITAL DE TRABAJO ≥ A 63,0% DEL PPTO OFICIAL | C33: =IF(C71="MiPyME",IF(C34>(C22*$M$33),$B$24,$B$25),IF(C34>(C22*$N$33),$B$24,$B$25)) -> HÁBIL | D33: =IF(D71="MiPyME",IF(D34>(D22*$M$33),$B$24,$B$25),IF(D34>(D22*$N$33),$B$24,$B$25)) -> HÁBIL | E33: =IF(E71="MiPyME",IF(E34>(E22*$M$33),$B$24,$B$25),IF(E34>(E22*$N$33),$B$24,$B$25)) -> HÁBIL | F33: =IF(F71="MiPyME",IF(F34>(F22*$M$33),$B$24,$B$25),IF(F34>(F22*$N$33),$B$24,$B$25)) -> HÁBIL | G33: - | H33: - | I33: =IF(I71="MiPyME",IF(I34>(I22*$M$33),$B$24,$B$25),IF(I34>(I22*$N$33),$B$24,$B$25)) -> HÁBIL | J33: =IF(J71="MiPyME",IF(J34>(J22*$M$33),$B$24,$B$25),IF(J34>(J22*$N$33),$B$24,$B$25)) -> HÁBIL | K33: =IF(K71="MiPyME",IF(K34>(K22*$M$33),$B$24,$B$25),IF(K34>(K22*$N$33),$B$24,$B$25)) -> HÁBIL | M33: 0.63 | N33: =M33 -> 0.63
B34: =CONCATENATE("CT = Activo Corriente - Pasivo Corriente ≥ ",TEXT((M22*M33),"$###.###.###.##0")) -> CT = Activo Corriente - Pasivo Corriente ≥ $760.410.000 | C34: =C12-C13 -> 1772741973 | D34: =D12-D13 -> 4107986818 | E34: =E12-E13 -> 872995515 | F34: =F12-F13 -> 7064649000 | G34: - | H34: - | I34: =I12-I13 -> 2.1350617e+09 | J34: =J12-J13 -> 1504105000 | K34: =K12-K13 -> 1796642947
B35: CRITERIO DE VERIFICACIÓN CAPACIDAD ORGANIZACIONAL
B37: =CONCATENATE("Indicador Rentabilidad del Patrimonio",CHAR(10),"Mayor o Igual a ",TEXT(M37,"#0%")) -> Indicador Rentabilidad del Patrimonio Mayor o Igual a 12% | C37: =IF(C71="MiPyME",IF(C38>=$M$37,$B$24,$B$25),IF(C38>=$N$37,$B$24,$B$25)) -> HÁBIL | D37: =IF(D71="MiPyME",IF(D38>=$M$37,$B$24,$B$25),IF(D38>=$N$37,$B$24,$B$25)) -> HÁBIL | E37: =IF(E71="MiPyME",IF(E38>=$M$37,$B$24,$B$25),IF(E38>=$N$37,$B$24,$B$25)) -> HÁBIL | F37: =IF(F71="MiPyME",IF(F38>=$M$37,$B$24,$B$25),IF(F38>=$N$37,$B$24,$B$25)) -> HÁBIL | G37: - | H37: - | I37: =IF(I71="MiPyME",IF(I38>=$M$37,$B$24,$B$25),IF(I38>=$N$37,$B$24,$B$25)) -> HÁBIL | J37: =IF(J71="MiPyME",IF(J38>=$M$37,$B$24,$B$25),IF(J38>=$N$37,$B$24,$B$25)) -> HÁBIL | K37: =IF(K71="MiPyME",IF(K38>=$M$37,$B$24,$B$25),IF(K38>=$N$37,$B$24,$B$25)) -> HÁBIL | M37: 0.12 | N37: =M37 -> 0.12
B38: RP = (Utilidad Operacional / Patrimonio) | C38: =C18/C16 -> 0.36344301 | D38: =D18/D16 -> 0.15245489 | E38: =E18/E16 -> 0.83736314 | F38: =F18/F16 -> 0.55400619 | G38: - | H38: - | I38: =I18/I16 -> 1.1472486 | J38: =J18/J16 -> 0.61405643 | K38: =K18/K16 -> 0.52065974
B39: =CONCATENATE("Indicador Rentabilidad del Activo",CHAR(10),"Mayor o Igual a ",TEXT(M39,"#0%")) -> Indicador Rentabilidad del Activo Mayor o Igual a 4% | C39: =IF(C71="MiPyME",IF(C40>=$M$39,$B$24,$B$25),IF(C40>=$N$39,$B$24,$B$25)) -> HÁBIL | D39: =IF(D71="MiPyME",IF(D40>=$M$39,$B$24,$B$25),IF(D40>=$N$39,$B$24,$B$25)) -> HÁBIL | E39: =IF(E71="MiPyME",IF(E40>=$M$39,$B$24,$B$25),IF(E40>=$N$39,$B$24,$B$25)) -> HÁBIL | F39: =IF(F71="MiPyME",IF(F40>=$M$39,$B$24,$B$25),IF(F40>=$N$39,$B$24,$B$25)) -> HÁBIL | G39: - | H39: - | I39: =IF(I71="MiPyME",IF(I40>=$M$39,$B$24,$B$25),IF(I40>=$N$39,$B$24,$B$25)) -> HÁBIL | J39: =IF(J71="MiPyME",IF(J40>=$M$39,$B$24,$B$25),IF(J40>=$N$39,$B$24,$B$25)) -> HÁBIL | K39: =IF(K71="MiPyME",IF(K40>=$M$39,$B$24,$B$25),IF(K40>=$N$39,$B$24,$B$25)) -> HÁBIL | M39: 0.04 | N39: =M39 -> 0.04
B40: RA = (Utilidad Operacional / Activo Total) | C40: =C18/C14 -> 0.24065052 | D40: =D18/D14 -> 0.1371579 | E40: =E18/E14 -> 0.77765814 | F40: =F18/F14 -> 0.50711602 | G40: - | H40: - | I40: =I18/I14 -> 0.62552109 | J40: =J18/J14 -> 0.32223918 | K40: =K18/K14 -> 0.52065974
B41: CUMPLIMIENTO REQUISITOS HABLITANTES | C41: =+IF(COUNTIF(C27:C40,"NO HÁBIL")>=1,"NO HABILITADO","HABILITADO") -> HABILITADO | D41: =+IF(COUNTIF(D27:D40,"NO HÁBIL")>=1,"NO HABILITADO","HABILITADO") -> HABILITADO | E41: =+IF(COUNTIF(E27:E40,"NO HÁBIL")>=1,"NO HABILITADO","HABILITADO") -> HABILITADO | F41: =+IF(COUNTIF(F27:F40,"NO HÁBIL")>=1,"NO HABILITADO","HABILITADO") -> HABILITADO | I41: =+IF(COUNTIF(I27:I40,"NO HÁBIL")>=1,"NO HABILITADO","HABILITADO") -> HABILITADO | J41: =+IF(COUNTIF(J27:J40,"NO HÁBIL")>=1,"NO HABILITADO","HABILITADO") -> HABILITADO | K41: =+IF(COUNTIF(K27:K40,"NO HÁBIL")>=1,"NO HABILITADO","HABILITADO") -> HABILITADO
B43: NOTA: Una vez verificada la Información Financiera presentada por cada uno de los proponentes, se informa que las sociedades arriba descritas, que cumplen con lo solicitado en los pliegos de condiciones
B44: definitivos en cuanto a los Indicadores Financieros requeridos, se encuentran HABILITADAS.
B46: =B68 -> Fecha de cierre del proceso:
B47: =C68 -> 45629
...

Sheet CONSOLIDADO
B1: Alcaldía de Bogotá D.C.
B2: Secretaría Distrital de Gobierno
B3: Alcaldía Local de Barrios Unidos
B5: ='PROPONENTES '!M23 -> FDLBU-LP-005-2024 (120805)
B6: ='PROPONENTES '!B6 -> OBJETO: “CONTRATAR LA PRESTACIÓN DE SERVICIOS PARA LA IMPLEMENTACIÓN DE ACCIONES DE PROMOCIÓN Y PREVENCIÓN EN SALUD A TRAVÉS DE ACTIVIDADES COMPLEMENTARIAS Y ALTERNATIVAS EN LA LOCALIDAD DE BARRIOS UNIDOS PARA LA VIGENCIA 2024”
B7: Presupuesto Oficial del Proceso | C7: ='PROPONENTES '!M22 -> 1207000000
B8: Fecha corte Información Financiera | C8: 45291
B9: Fecha cierre del proceso de selección | C9: ='PROPONENTES '!C68 -> 45629
B10: VERIFICACIóN DE LOS INDICADORES | I10: RUP | J10: RESULTADO FINANCIERO | K10: OBERVACIONES
B11: NOMBRE DEL PROPONENTE | C11: Índice de liquidez | D11: Índice de endeudamiento | E11: Razón de Cobertura de intereses | F11: Capital de trabajo | G11: Rentabilidad del patrimonio | H11: Rentabilidad del activo | I11: VIGENTE; EN FIRME Y 30 DÍAS ANTERIORES
A12: 7 | B12: FUNDACION SOCIAL VIVE COLOMBIA | C12: CUMPLE | D12: CUMPLE | E12: CUMPLE | F12: CUMPLE | G12: CUMPLE | H12: CUMPLE | I12: VIGENTE | J12: HABILITADO
A13: =A12+1 -> 8 | B13: PROYECTOS & CONSULTORIAS R C S A S | C13: CUMPLE | D13: CUMPLE | E13: CUMPLE | F13: CUMPLE | G13: CUMPLE | H13: CUMPLE | I13: CUMPLE | J13: HABILITADO
A14: =A13+1 -> 9 | B14: FUNDACION FORO CIVICO ESCUELA DE DEMOCRACIA, DERECHOS HUMANOS Y PARTICIPACION CIUDADANA | C14: CUMPLE | D14: CUMPLE | E14: CUMPLE | F14: CUMPLE | G14: CUMPLE | H14: CUMPLE | I14: VIGENTE | J14: HABILITADO
A15: =A14+1 -> 10 | B15: FUNDACION PARA EL DESARROLLO SOCIOCULTURAL, DEPORTIVO, COMUNITARIO, AGROPECUARIO Y/O AMBIENTAL - FUNDESCO | C15: CUMPLE | D15: CUMPLE | E15: CUMPLE | F15: CUMPLE | G15: CUMPLE | H15: CUMPLE | I15: VIGENTE | J15: HABILITADO
A16: =A15+1 -> 11 | B16: UT CODEPORTES | C16: CUMPLE | D16: CUMPLE | E16: CUMPLE | F16: CUMPLE | G16: CUMPLE | H16: CUMPLE | I16: VIGENTE | J16: HABILITADO
A17: =A16+1 -> 12 | B17: FUNDACION STAR COP HUMANITY CUYA SIGLA ES S C H | C17: CUMPLE | D17: CUMPLE | E17: CUMPLE | F17: CUMPLE | G17: CUMPLE | H17: CUMPLE | I17: VIGENTE | J17: HABILITADO
A18: 20 | B18: I.P.S. ETNICA PUBLIK SALUD S.A.S. | C18: CUMPLE | D18: CUMPLE | E18: CUMPLE | F18: CUMPLE | G18: CUMPLE | H18: CUMPLE | I18: VIGENTE | J18: HABILITADO
A20: * Se realiza la Evaluación Financiera y Organizacional de acuerdo a lo establecido con el pliego de condiciones definitivo del proceso; la evaluación es puesta a disposición de la Oficina de Contratación y Despacho para que se continúe con el proceso de evaluación.
B22: =IF('PROPONENTES '!B53="",'PROPONENTES '!B50,'PROPONENTES '!C62) -> 45630
E25: Faydy Magally Patiño Gomez
E26: Profesional Área de Contratación - FDL Barrios Unidos
E27: Comité Evaluador Financiero
