Workbook
Name _________AFC1: #REF!
Name _________AFC3: #REF!
Name _________AFC5: #REF!
Name _________BGC1: #REF!
Name _________BGC3: #REF!
Name _________BGC5: #REF!
Name _________CAC1: #REF!
Name _________CAC3: #REF!
Name _________CAC5: #REF!
Name _________PJ50: #REF!
Name _________PJ50: #REF!
Name _________PJ50: #REF!
Name _________SBC1: #REF!
Name _________SBC3: #REF!
Name _________SBC5: #REF!
Name ________AFC1: #REF!
Name ________AFC3: #REF!
Name ________AFC5: #REF!
Name ________BGC1: #REF!
Name ________BGC3: #REF!
Name ________BGC5: #REF!
Name ________CAC1: #REF!
Name ________CAC3: #REF!
Name ________CAC5: #REF!
Name ________MA2: #REF!
Name ________MA2: #REF!
Name ________MA2: #REF!
Name ________PJ50: #REF!
Name ________PJ50: #REF!
Name ________PJ50: #REF!
Name ________SBC1: #REF!
Name ________SBC3: #REF!
Name ________SBC5: #REF!
Name _______AFC1: #REF!
Name _______AFC3: #REF!
Name _______AFC5: #REF!
Name _______BGC1: #REF!
Name _______BGC3: #REF!
Name _______BGC5: #REF!
Name _______CAC1: #REF!
Name _______CAC3: #REF!
Name _______CAC5: #REF!
Name _______MA2: #REF!
Name _______MA2: #REF!
Name _______MA2: #REF!
Name _______PJ50: #REF!
Name _______PJ50: #REF!
Name _______PJ50: #REF!
Name _______SBC1: #REF!
Name _______SBC3: #REF!
Name _______SBC5: #REF!
Name ______AFC1: #REF!
Name ______AFC3: #REF!
Name ______AFC5: #REF!
Name ______BGC1: #REF!
Name ______BGC3: #REF!
Name ______BGC5: #REF!
Name ______CAC1: #REF!
Name ______CAC3: #REF!
Name ______CAC5: #REF!

Sheet PROPUESTA ECONOMICA
C3: Formulario 1 - Propuesta económica - Licitación de obra pública de infraestructura social
C4: Código | D4: CCE-EICP-FM-116 | E4: Versión | F4: 1
C5: FORMULARIO 1
C6: PROPUESTA ECONÓMICA
C7: [La Entidad puede utilizar este Formulario de presentación de Propuesta Económica de forma detallada, sin perjuicio que la Entidad pueda modificarlo o establecer la presentación de la oferta económica con un Formulario distinto al indicado.] [Los Proponentes emplearán el Formulario establecido por la Entidad para determinar su propuesta económica conforme al Formulario 1 - Presupuesto Oficial publicado por la Entidad]
C9: Cuando el Proceso de Contratación es estructurado por Precios Unitarios, la Entidad debe aplicar las notas 1, 2 y 3 del presente formato y las casillas de "Descripción", "Porcentaje" de la Administración, Imprevisto, Utilidad y total A.I.U. resaltadas en color amarillo.
C11: Nº | D11: ÍTEM DE PAGO | E11: ESPECIFICACIONES | G11: DESCRIPCIÓN | H11: UND. | I11: CANTIDAD | J11: VALOR UNITARIO | K11: VALOR TOTAL
E12: GENERAL | F12: PARTICULAR | P12: x | Q12: x | R12: xx | S12: x | T12: x | U12: x | V12: xx
D13: 01 | G13: PRELIMINARES
D14: 01-002 | G14: Evacuación de aguas en tanques y fosos | H14: m3 | I14: 362 | J14: =+'POE Cesar Conto'!AA14 -> 1444 | K14: =ROUND(I14*J14,0) -> 522728
D15: 01-003 | G15: Suministro e instalación de polisombra negra para protección vertical a colindantes contracaidas de elementos durante la intervención | H15: m2 | I15: 128 | J15: =+'POE Cesar Conto'!AA15 -> 12428 | K15: =ROUND(I15*J15,0) -> 1590784
D16: 01-006 | G16: Aseo general previo al inicio de la obra, incluye fumigación preliminar tanto de pisos como de muros, incluye retiro de vegetación parásita. | H16: m2 | I16: 3209 | J16: =+'POE Cesar Conto'!AA16 -> 15040 | K16: =ROUND(I16*J16,0) -> 48263360
D17: 01-007 | G17: Mantenimiento de equipos de presión y puesta en marcha | H17: gl | I17: 1 | J17: =+'POE Cesar Conto'!AA17 -> 10241082 | K17: =ROUND(I17*J17,0) -> 10241082
D18: 01-009 | G18: Mantenimiento de equipos eléctricos y pruebas | H18: u | I18: 1 | J18: =+'POE Cesar Conto'!AA18 -> 5120541 | K18: =ROUND(I18*J18,0) -> 5120541
D19: 01-010 | G19: Impermeabilización de fosos de ascensor, plataforma, tanques de agua y RCI en Mortero impermeabilización flexible, bicomponente (Sistema Danosa o equivalente de igual calidad o superior) | H19: m2 | I19: 289 | J19: =+'POE Cesar Conto'!AA19 -> 240624 | K19: =ROUND(I19*J19,0) -> 69540336
D20: 01-012 | G20: Aseo y limpieza de ladrillos y boquelon de fachada incluye hidrofugado | H20: m2 | I20: 1960 | J20: =+'POE Cesar Conto'!AA20 -> 10466 | K20: =ROUND(I20*J20,0) -> 20513360
D21: 01-013 | G21: Mantenimiento estructura metálica existente (vigas, columnas, cerchas, parales, etc), consistente en el retiro de oxido (mediante el sistema que determine el contratista junto con la interventoria, pudiendo ser raspado, chorro a presión de arena, etc) aplicación de anticorrosivo y pintura de acabado (esmalte sintético alquídico a base de aceite en tres (3) capas aplicadas con pistola sobre la totalidad de las caras del elemento) incluye preparación de superficie y diluyente. implementos para trabajos en altura. | H21: m | I21: 2800 | J21: =+'POE Cesar Conto'!AA21 -> 15984 | K21: =ROUND(I21*J21,0) -> 44755200
D22: 01-014 | G22: Mantenimiento canales y bajantes, incluye retiro de material, reparación y sellado, anticorrosivo y pintura. Incluye elementos para trabajo en alturas. | H22: m | I22: 387 | J22: =+'POE Cesar Conto'!AA22 -> 7771 | K22: =ROUND(I22*J22,0) -> 3007377
D23: 01-015 | G23: Reemplazo de tubería PVC 1/2" por tubería EMT 1/2" donde por norma se requiera, incluye desmonte tubería PVC, incluye soportes, regatas, resanes. | H23: m | I23: 500 | J23: =+'POE Cesar Conto'!AA23 -> 32554 | K23: =ROUND(I23*J23,0) -> 16277000
C24: Subtotal | K24: =SUBTOTAL(9,K14:K23) -> 219831768
D25: 02 | G25: DESMONTES Y DEMOLICIONES
D26: 02-001 | G26: Demolición de muros de mampostería en bloque cemento, arcilla, concretos, en el estado actual con su respectivo acabados. (incluye corte perimetral con pulidora de ser requerido y retiro de escombros) Incluye cargue, trasiego interno, transporte y vale a escombrera autorizada por muicipio. | H26: m2 | I26: 63 | J26: =+'POE Cesar Conto'!AA26 -> 23812 | K26: =ROUND(I26*J26,0) -> 1500156
D27: 02-002 | G27: Demolición de nariz en rampa | H27: m | I27: 55 | J27: =+'POE Cesar Conto'!AA27 -> 10942 | K27: =ROUND(I27*J27,0) -> 601810
D28: 02-003 | G28: Demolición de poyo en concreto | H28: m | I28: 7 | J28: =+'POE Cesar Conto'!AA28 -> 10942 | K28: =ROUND(I28*J28,0) -> 76594
D29: 02-004 | G29: Escarificación de todo tipo de pisos (incluye: escaleras, rampas, huellas, descansos, acceso) | H29: m2 | I29: 453 | J29: =+'POE Cesar Conto'!AA29 -> 10484 | K29: =ROUND(I29*J29,0) -> 4749252
D30: 02-006 | G30: Demolición de piso en adoquín de arcilla tipo 26 x 1/4 | H30: m2 | I30: 12 | J30: =+'POE Cesar Conto'!AA30 -> 14284 | K30: =ROUND(I30*J30,0) -> 171408
D31: 02-007 | G31: Desmonte de tramos de escalera metálica, incluye soportes y vigas | H31: m2 | I31: 18 | J31: =+'POE Cesar Conto'!AA31 -> 18149 | K31: =ROUND(I31*J31,0) -> 326682
D32: 02-008 | G32: Desmonte de puertas metálicas (2.44*2,60) | H32: u | I32: 2 | J32: =+'POE Cesar Conto'!AA32 -> 46494 | K32: =ROUND(I32*J32,0) -> 92988
D33: 02-009 | G33: Desmonte de cerramiento provisional (acceso) | H33: m2 | I33: 14 | J33: =+'POE Cesar Conto'!AA33 -> 8058 | K33: =ROUND(I33*J33,0) -> 112812
D34: 02-010 | G34: Desmonte de elementos metálicos - cortasoles (fachada) existentes (con opción de posible reutilización a criterio de la interventoría) | H34: m2 | I34: 697 | J34: =+'POE Cesar Conto'!AA34 -> 18313 | K34: =ROUND(I34*J34,0) -> 12764161
D35: 02-011 | G35: Desmonte y retiro de cubierta existente (conservar para su posterior reutilización de ser necesario), incluye desmonte todos los elemento de estructura de soporte. (cerchas, correas, etc). | H35: m2 | I35: 131 | J35: =+'POE Cesar Conto'!AA35 -> 33596 | K35: =ROUND(I35*J35,0) -> 4401076
D36: 02-014 | G36: Desmonte y retiro de canal en cubierta | H36: m | I36: 33 | J36: =+'POE Cesar Conto'!AA36 -> 11917 | K36: =ROUND(I36*J36,0) -> 393261
D37: 02-015 | G37: Desmonte y retiro de manto de impermeabilización existente | H37: m2 | I37: 72 | J37: =+'POE Cesar Conto'!AA37 -> 12151 | K37: =ROUND(I37*J37,0) -> 874872
... D45: 02-023 | G45: MEJORAMIENTO DEL TERRENO con recebo limpio y bien gradado, compactado al 95% del proctor modificado (Según recomendaciones del Estudio de Suelos.) | H45: m3 | I45: 20 | J45: =+'POE Cesar Conto'!AA45 -> 128485 | K45: =ROUND(I45*J45,0) -> 2569700
C46: Subtotal | K46: =SUBTOTAL(9,K26:K45) -> 58819495
D47: 03 | G47: ESTRUCTURAS EN CONCRETO Y ESTRUCTURA METÁLICA
D48: 03-001 | G48: Dintel en concreto arquitectónico reforzado a la vista f´c.4000 psi dimensiones:0,15 mts x 0,15 mts formaleta lisa para vanos ventana rampa principal. | H48: m | I48: 5 | J48: =+'POE Cesar Conto'!AA48 -> 37300 | K48: =ROUND(I48*J48,0) -> 186500
D49: 03-002 | G49: Columneta en concreto reforzado f´c:3000 psi para confinamiento de muros en mampostería 0,15 mts x 0,12 mts. Para elementos no estructurales existentes. | H49: m | I49: 469 | J49: =+'POE Cesar Conto'!AA49 -> 30326 | K49: =ROUND(I49*J49,0) -> 14222894
D50: 03-003 | G50: Viguetas en concreto reforzado f´c:3000 psi para confinamiento de muros en mampostería 0,15 0,20 mts. Para elementos no estructurales existentes. | H50: m | I50: 190 | J50: =+'POE Cesar Conto'!AA50 -> 33004 | K50: =ROUND(I50*J50,0) -> 6270760
D51: 03-004 | G51: Rampas en concreto f´c: 3000 psi. e=0.10 .Incluye formaleta y todo el equipo requerido para su ejecución. (interiores y exteriores), en cumplimiento con la normatividad de accesibilidad a personas con movilidad reducida (PMR). Incluye acero de refuerzo. | H51: m3 | I51: 2 | J51: =+'POE Cesar Conto'!AA51 -> 853292 | K51: =ROUND(I51*J51,0) -> 1706584
...

Sheet POE Cesar Conto
C3: Formulario 1 - Propuesta económica - Licitación de obra pública de infraestructura social
C4: Código | D4: CCE-EICP-FM-116 | E4: Versión | F4: 1
C6: PRESUPUESTO OFICIAL LICITACION PUBLICA MC-LP-002-2024
C7: [La Entidad puede utilizar este Formulario de detalle del Presupuesto Oficial para determinar las condiciones bajo las cuales los Proponentes analizarán y presentarán su propuesta económica de forma detallada, sin perjuicio que la Entidad pueda modificarlo o establecer la presentación de la oferta económica con un Formulario distinto al indicado.]
C9: Adicionalmente, cuando el Proceso de Contratación es estructurado por Precios Unitarios, la Entidad debe aplicar las notas 1, 2 y 3 del presente Formulario y las casillas de "Descripción", "Porcentaje" de la Administración, Imprevisto, Utilidad y total A.I.U. resaltadas en color amarillo. Tratándose de otras modalidades de precio, la Entidad puede o no configurar los mismos aspectos.
C11: Nº | D11: ÍTEM DE PAGO | E11: ESPECIFICACIONES | G11: DESCRIPCIÓN | H11: UND. | I11: CANTIDAD | J11: VALOR UNITARIO | K11: VALOR TOTAL | AA11: 0.966895
E12: GENERAL | F12: PARTICULAR | O12: x | P12: x | Q12: xx | R12: x | S12: x | T12: x | U12: xx
D13: 01 | G13: PRELIMINARES
D14: 01-002 | G14: Evacuación de aguas en tanques y fosos | H14: m3 | I14: 362 | J14: 1493 | K14: =ROUND(I14*J14,0) -> 540466 | AA14: =+IFERROR(ROUND($AA$11*J14,0),"") -> 1444
D15: 01-003 | G15: Suministro e instalación de polisombra negra para protección vertical a colindantes contracaidas de elementos durante la intervención | H15: m2 | I15: 128 | J15: 12854 | K15: =ROUND(I15*J15,0) -> 1645312 | AA15: =+IFERROR(ROUND($AA$11*J15,0),"") -> 12428
D16: 01-006 | G16: Aseo general previo al inicio de la obra, incluye fumigación preliminar tanto de pisos como de muros, incluye retiro de vegetación parásita. | H16: m2 | I16: 3209 | J16: 15555 | K16: =ROUND(I16*J16,0) -> 49915995 | AA16: =+IFERROR(ROUND($AA$11*J16,0),"") -> 15040
D17: 01-007 | G17: Mantenimiento de equipos de presión y puesta en marcha | H17: gl | I17: 1 | J17: 10591721 | K17: =ROUND(I17*J17,0) -> 10591721 | AA17: =+IFERROR(ROUND($AA$11*J17,0),"") -> 10241082
D18: 01-009 | G18: Mantenimiento de equipos eléctricos y pruebas | H18: u | I18: 1 | J18: 5295860 | K18: =ROUND(I18*J18,0) -> 5295860 | AA18: =+IFERROR(ROUND($AA$11*J18,0),"") -> 5120541
D19: 01-010 | G19: Impermeabilización de fosos de ascensor, plataforma, tanques de agua y RCI en Mortero impermeabilización flexible, bicomponente (Sistema Danosa o equivalente de igual calidad o superior) | H19: m2 | I19: 289 | J19: 248863 | K19: =ROUND(I19*J19,0) -> 71921407 | AA19: =+IFERROR(ROUND($AA$11*J19,0),"") -> 240624
D20: 01-012 | G20: Aseo y limpieza de ladrillos y boquelon de fachada incluye hidrofugado | H20: m2 | I20: 1960 | J20: 10824 | K20: =ROUND(I20*J20,0) -> 21215040 | AA20: =+IFERROR(ROUND($AA$11*J20,0),"") -> 10466
D21: 01-013 | G21: Mantenimiento estructura metálica existente (vigas, columnas, cerchas, parales, etc), consistente en el retiro de oxido (mediante el sistema que determine el contratista junto con la interventoria, pudiendo ser raspado, chorro a presión de arena, etc) aplicación de anticorrosivo y pintura de acabado (esmalte sintético alquídico a base de aceite en tres (3) capas aplicadas con pistola sobre la totalidad de las caras del elemento) incluye preparación de superficie y diluyente. implementos para trabajos en altura. | H21: m | I21: 2800 | J21: 16531 | K21: =ROUND(I21*J21,0) -> 46286800 | AA21: =+IFERROR(ROUND($AA$11*J21,0),"") -> 15984
D22: 01-014 | G22: Mantenimiento canales y bajantes, incluye retiro de material, reparación y sellado, anticorrosivo y pintura. Incluye elementos para trabajo en alturas. | H22: m | I22: 387 | J22: 8037 | K22: =ROUND(I22*J22,0) -> 3110319 | AA22: =+IFERROR(ROUND($AA$11*J22,0),"") -> 7771
D23: 01-015 | G23: Reemplazo de tubería PVC 1/2" por tubería EMT 1/2" donde por norma se requiera, incluye desmonte tubería PVC, incluye soportes, regatas, resanes. | H23: m | I23: 500 | J23: 33669 | K23: =ROUND(I23*J23,0) -> 16834500 | AA23: =+IFERROR(ROUND($AA$11*J23,0),"") -> 32554
C24: Subtotal | K24: =SUBTOTAL(9,K14:K23) -> 227357420 | AA24: =+IFERROR(ROUND($AA$11*J24,0),"") -> 0
D25: 02 | G25: DESMONTES Y DEMOLICIONES | AA25: =+IFERROR(ROUND($AA$11*J25,0),"") -> 0
D26: 02-001 | G26: Demolición de muros de mampostería en bloque cemento, arcilla, concretos, en el estado actual con su respectivo acabados. (incluye corte perimetral con pulidora de ser requerido y retiro de escombros) Incluye cargue, trasiego interno, transporte y vale a escombrera autorizada por muicipio. | H26: m2 | I26: 63 | J26: 24627 | K26: =ROUND(I26*J26,0) -> 1551501 | AA26: =+IFERROR(ROUND($AA$11*J26,0),"") -> 23812
D27: 02-002 | G27: Demolición de nariz en rampa | H27: m | I27: 55 | J27: 11317 | K27: =ROUND(I27*J27,0) -> 622435 | AA27: =+IFERROR(ROUND($AA$11*J27,0),"") -> 10942
D28: 02-003 | G28: Demolición de poyo en concreto | H28: m | I28: 7 | J28: 11317 | K28: =ROUND(I28*J28,0) -> 79219 | AA28: =+IFERROR(ROUND($AA$11*J28,0),"") -> 10942
D29: 02-004 | G29: Escarificación de todo tipo de pisos (incluye: escaleras, rampas, huellas, descansos, acceso) | H29: m2 | I29: 453 | J29: 10843 | K29: =ROUND(I29*J29,0) -> 4911879 | AA29: =+IFERROR(ROUND($AA$11*J29,0),"") -> 10484
D30: 02-006 | G30: Demolición de piso en adoquín de arcilla tipo 26 x 1/4 | H30: m2 | I30: 12 | J30: 14773 | K30: =ROUND(I30*J30,0) -> 177276 | AA30: =+IFERROR(ROUND($AA$11*J30,0),"") -> 14284
D31: 02-007 | G31: Desmonte de tramos de escalera metálica, incluye soportes y vigas | H31: m2 | I31: 18 | J31: 18770 | K31: =ROUND(I31*J31,0) -> 337860 | AA31: =+IFERROR(ROUND($AA$11*J31,0),"") -> 18149
D32: 02-008 | G32: Desmonte de puertas metálicas (2.44*2,60) | H32: u | I32: 2 | J32: 48086 | K32: =ROUND(I32*J32,0) -> 96172 | AA32: =+IFERROR(ROUND($AA$11*J32,0),"") -> 46494
D33: 02-009 | G33: Desmonte de cerramiento provisional (acceso) | H33: m2 | I33: 14 | J33: 8334 | K33: =ROUND(I33*J33,0) -> 116676 | AA33: =+IFERROR(ROUND($AA$11*J33,0),"") -> 8058
D34: 02-010 | G34: Desmonte de elementos metálicos - cortasoles (fachada) existentes (con opción de posible reutilización a criterio de la interventoría) | H34: m2 | I34: 697 | J34: 18940 | K34: =ROUND(I34*J34,0) -> 13201180 | AA34: =+IFERROR(ROUND($AA$11*J34,0),"") -> 18313
D35: 02-011 | G35: Desmonte y retiro de cubierta existente (conservar para su posterior reutilización de ser necesario), incluye desmonte todos los elemento de estructura de soporte. (cerchas, correas, etc). | H35: m2 | I35: 131 | J35: 34746 | K35: =ROUND(I35*J35,0) -> 4551726 | AA35: =+IFERROR(ROUND($AA$11*J35,0),"") -> 33596
D36: 02-014 | G36: Desmonte y retiro de canal en cubierta | H36: m | I36: 33 | J36: 12325 | K36: =ROUND(I36*J36,0) -> 406725 | AA36: =+IFERROR(ROUND($AA$11*J36,0),"") -> 11917
D37: 02-015 | G37: Desmonte y retiro de manto de impermeabilización existente | H37: m2 | I37: 72 | J37: 12567 | K37: =ROUND(I37*J37,0) -> 904824 | AA37: =+IFERROR(ROUND($AA$11*J37,0),"") -> 12151
... D45: 02-023 | G45: MEJORAMIENTO DEL TERRENO con recebo limpio y bien gradado, compactado al 95% del proctor modificado (Según recomendaciones del Estudio de Suelos.) | H45: m3 | I45: 20 | J45: 132884 | K45: =ROUND(I45*J45,0) -> 2657680 | AA45: =+IFERROR(ROUND($AA$11*J45,0),"") -> 128485
C46: Subtotal | K46: =SUBTOTAL(9,K26:K45) -> 60833493 | AA46: =+IFERROR(ROUND($AA$11*J46,0),"") -> 0
D47: 03 | G47: ESTRUCTURAS EN CONCRETO Y ESTRUCTURA METÁLICA | AA47: =+IFERROR(ROUND($AA$11*J47,0),"") -> 0
D48: 03-001 | G48: Dintel en concreto arquitectónico reforzado a la vista f´c.4000 psi dimensiones:0,15 mts x 0,15 mts formaleta lisa para vanos ventana rampa principal. | H48: m | I48: 5 | J48: 38577 | K48: =ROUND(I48*J48,0) -> 192885 | AA48: =+IFERROR(ROUND($AA$11*J48,0),"") -> 37300
D49: 03-002 | G49: Columneta en concreto reforzado f´c:3000 psi para confinamiento de muros en mampostería 0,15 mts x 0,12 mts. Para elementos no estructurales existentes. | H49: m | I49: 469 | J49: 31364 | K49: =ROUND(I49*J49,0) -> 14709716 | AA49: =+IFERROR(ROUND($AA$11*J49,0),"") -> 30326
D50: 03-003 | G50: Viguetas en concreto reforzado f´c:3000 psi para confinamiento de muros en mampostería 0,15 0,20 mts. Para elementos no estructurales existentes. | H50: m | I50: 190 | J50: 34134 | K50: =ROUND(I50*J50,0) -> 6485460 | AA50: =+IFERROR(ROUND($AA$11*J50,0),"") -> 33004
D51: 03-004 | G51: Rampas en concreto f´c: 3000 psi. e=0.10 .Incluye formaleta y todo el equipo requerido para su ejecución. (interiores y exteriores), en cumplimiento con la normatividad de accesibilidad a personas con movilidad reducida (PMR). Incluye acero de refuerzo. | H51: m3 | I51: 2 | J51: 882507 | K51: =ROUND(I51*J51,0) -> 1765014 | AA51: =+IFERROR(ROUND($AA$11*J51,0),"") -> 853292
D52: 03-005 | G52: Placa de contrapiso en concreto f´c: 3000 psi para relleno de piso e=0.15 | H52: m2 | I52: 23 | J52: 117694 | K52: =ROUND(I52*J52,0) -> 2706962 | AA52: =+IFERROR(ROUND($AA$11*J52,0),"") -> 113798
...

Sheet AIU
A1: PRESUPUESTO TERMINACION CONSTRUCCION TEATRO CESAR CONTO FERRER EN LA CIUDAD DE QUIBDÓ DEPARTAMENTO DEL CHOCÓ
A3: ANALISIS DEL AIU
A4: COSTO DIRECTO DEL CONTRATO | G4: 13225429125
A5: IMPUESTOS Y PÓLIZAS | C5: PORCENTAJE | G5: COSTO
A6: Retefuente 2% del valor del contrato sin IVA | C6: 0.01 | G6: =ROUND($G$4*C6,0) -> 132254291
A7: Contribución especial | C7: 0.05 | G7: =ROUND($G$4*C7,0) -> 661271456
A8: Transacciones financieras (4 x 1000) | C8: 0.004 | G8: =ROUND($G$4*C8,0) -> 52901717
A9: Rete ICA 6.9/1000 | C9: 0.0069 | G9: =ROUND($G$4*C9,0) -> 91255461
A10: FIC | C10: 0.0025 | G10: =ROUND($G$4*C10,0) -> 33063573
A11: Estampilla Pro Universidades Públicas (DE IMPUTACIÓN NACIONAL). | C11: 0.02 | G11: =ROUND($G$4*C11,0) -> 264508583
A12: Administración fiducia 1 SMMLV por mes de duración | C12: 7 | F12: =1300000*1.07 -> 1391000 | G12: =ROUND(C12*F12,0) -> 9737000
A13: Pólizas | C13: 0.013 | G13: =ROUND($G$4*C13,0) -> 171930579
A14: PORCENTAJE IMPUESTOS Y OTROS SOBRE CONTRATO | C14: =G14/G4 -> 0.10713623 | G14: =SUM(G6:G13) -> 1416922660
A16: DESCRIPCIÓN | B16: UN | C16: DEDICACION % | D16: Cantidad Y/O Turnos | E16: Plazo (mes) | F16: VALOR BRUTO | G16: VALOR NETO
A17: PERSONAL
A18: DIRECTOR DE OBRA | B18: mes | C18: 1 | D18: 1 | E18: 10 | F18: 9032902 | G18: =ROUND(F18*D18*C18*E18,0) -> 90329020
A19: COORDINADOR DE OBRA | B19: mes | C19: 1 | D19: 1 | E19: =$E$18 -> 10 | F19: 6811171 | G19: =ROUND(F19*D19*C19*E19,0) -> 68111710
A20: RESIDENTE DE OBRA | B20: mes | C20: 1 | D20: 2 | E20: =$E$18 -> 10 | F20: 6811171 | G20: =ROUND(F20*D20*C20*E20,0) -> 136223420
A21: TRABAJADOR SOCIAL | B21: mes | C21: 0.5 | D21: 1 | E21: =$E$18 -> 10 | F21: 6811171 | G21: =ROUND(F21*D21*C21*E21,0) -> 34055855
A22: INGENIERO HIDROSANITARIO Y RCI | B22: mes | C22: 0.75 | D22: 1 | E22: =$E$18 -> 10 | F22: 6811171 | G22: =ROUND(F22*D22*C22*E22,0) -> 51083783
A23: INGENIERO MECANICO HVAC | B23: mes | C23: 0.75 | D23: 1 | E23: =$E$18 -> 10 | F23: 6811171 | G23: =ROUND(F23*D23*C23*E23,0) -> 51083783
A24: INGENIERO ESTRUCTURAL | B24: mes | C24: 0.5 | D24: 1 | E24: =ROUNDUP(($E$18/2),0) -> 5 | F24: 6811171 | G24: =ROUND(F24*D24*C24*E24,0) -> 17027928
A25: INGENIERO ELÉCTRICO | B25: mes | C25: 1 | D25: 1 | E25: =$E$18 -> 10 | F25: 6811171 | G25: =ROUND(F25*D25*C25*E25,0) -> 68111710
A26: INGENIERO ELÉCTRONICO | B26: mes | C26: 0.75 | D26: 1 | E26: =$E$18 -> 10 | F26: 6811171 | G26: =ROUND(F26*D26*C26*E26,0) -> 51083783
A27: ASESOR ACÚSTICO | B27: mes | C27: 0.5 | D27: 1 | E27: =ROUNDUP(($E$18/2),0) -> 5 | F27: 6811171 | G27: =ROUND(F27*D27*C27*E27,0) -> 17027928
A28: ASESOR TEATRAL (MECANICA TEATRAL) | B28: mes | C28: 0.5 | D28: 1 | E28: =ROUNDUP(($E$18/2),0) -> 5 | F28: 6811171 | G28: =ROUND(F28*D28*C28*E28,0) -> 17027928
A29: INSPECTOR DE OBRA | B29: mes | C29: 1 | D29: 2 | E29: =$E$18 -> 10 | F29: 3586350 | G29: =ROUND(F29*D29*C29*E29,0) -> 71727000
A30: PROFESIONAL DE SSTMA | B30: mes | C30: 1 | D30: 2 | E30: =$E$18 -> 10 | F30: 6811171 | G30: =ROUND(F30*D30*C30*E30,0) -> 136223420
A31: DIBUJANTE | B31: mes | C31: 1 | D31: 1 | E31: =$E$18 -> 10 | F31: 3586350 | G31: =ROUND(F31*D31*C31*E31,0) -> 35863500
A32: ALMACENISTA | B32: mes | C32: 1 | D32: 1 | E32: =$E$18 -> 10 | F32: 3586350 | G32: =ROUND(F32*D32*C32*E32,0) -> 35863500
A33: SECRETARIA | B33: mes | C33: 1 | D33: 1 | E33: =$E$18 -> 10 | F33: 3586350 | G33: =ROUND(F33*D33*C33*E33,0) -> 35863500
A34: AYUDANTE PARA SERVICIOS VARIOS Y GENERALES | B34: mes | C34: 1 | D34: 2 | E34: =$E$18 -> 10 | F34: 1871181 | G34: =ROUND(F34*D34*C34*E34,0) -> 37423620
A35: VIGILANCIA ARMADA (3 TURNOS) | B35: mes | C35: 1 | D35: 1 | E35: =$E$18 -> 10 | F35: =(13372560/1.08)*1.11 -> 13744020 | G35: =ROUND(F35*D35*C35*E35,0) -> 137440200
A36: PERSONAL | G36: =SUM(G18:G35) -> 1091571588
A38: DESCRIPCIÓN | B38: UN | C38: CANTIDAD | F38: VALOR BRUTO | G38: VALOR NETO
A39: GASTOS GENERALES
A40: PAPELERÍA, FOTOCOPIAS Y EQUIPOS | B40: mes | C40: =$E$18 -> 10 | F40: 300000 | G40: =ROUND(F40*C40,0) -> 3000000
A41: ADECUACION ESPACIO PARA ALMACÉN, MUEBLES, BAÑOS (INCLUYE RETIRO AL FINALIZAR LA OBRA) | B41: glb | C41: 1 | F41: 2000000 | G41: =ROUND(F41*C41,0) -> 2000000
A42: IMPLEMENTACIÓN PLAN AMBIENTAL Y SST - Elementos de seguridad Industrial, señalizacion y proteccion de zonas de trabajo | B42: mes | C42: =$E$18 -> 10 | F42: 1000000 | G42: =ROUND(F42*C42,0) -> 10000000
A43: ENSAYOS DE LABORATORIO (incluiye pueba de tintas, concretos, aceros, ferroscan) | B43: mes | C43: =$E$18 -> 10 | F43: 1200000 | G43: =ROUND(F43*C43,0) -> 12000000
...

Sheet INDICAR CÓDIGO DEL ITEM DE PAGO
C3: Formulario 1 - Propuesta económica - Licitación de obra pública de infraestructura social
C4: Código | D4: CCE-EICP-FM-116 | E4: Versión | F4: 1
C6: [La Entidad podrá utilizar este Formato para la presentación de los análisis de Precios Unitarios del Contratista en la oportunidad prevista en el numeral 8.1. del Documento Base]
D9: [MINISTERIODE LAS CULTURAS LAS ARTES Y LOS SABERES]
L10: VERSIÓN
D11: [NÚMERO DEL PROCESO]
L12: PÁGINA | M12: 1 | N12: DE | O12: 1
D14: ANÁLISIS DE PRECIOS UNITARIOS
L16: FECHA | M16: DD | N16: MM | O16: AA
C18: ÍTEMS DE LA PROPUESTA ECONÓMICA | I18: ÍTEMS NO PREVISTOS
C22: DATOS ESPECÍFICOS
C24: ÍTEM | D24: DESCRIPCIÓN | M24: UNIDAD | O24: CANTIDAD
C26: I. EQUIPO
C29: DESCRIPCIÓN | H29: MARCA | J29: TIPO | L29: TARIFA/HORA | M29: RENDIMIENTO | O29: Vr. UNITARIO
C33: SUBTOTAL $
C34: II. MATERIALES
C37: DESCRIPCIÓN | K37: UNIDAD | L37: CANTIDAD | M37: PRECIO UNIT. | O37: Vr. UNITARIO
C40: SUBTOTAL $ | O40: 0
C41: III. TRANSPORTES
C44: MATERIAL | J44: VOL. o PESO | K44: DISTANCIA | L44: M3 o Ton/Km | M44: TARIFA | O44: Vr. UNITARIO
C47: SUBTOTAL $
C48: IV. MANO DE OBRA
C51: TRABAJADOR | J51: JORNAL | K51: PRESTACIONES | L51: JORNAL TOTAL | M51: RENDIMIENTO | O51: Vr. UNITARIO
C56: SUBTOTAL $
C58: TOTAL COSTO DIRECTO $
C59: V. COSTOS INDIRECTOS
C62: Descripción | L62: Porcentaje | M62: Valor Total
C63: ADMINISTRACION
C64: IMPREVISTOS
C65: UTILIDAD
C66: SUBTOTAL $
C68: Precio Unitario Total Aproximado al peso $
H70: Firma
H71: Nombre:
H72: Representante legal del Contratista o su apoderado
H73: Matricula:
C75: OBSERVACIONES INTERVENTORÍA
C79: APROBACIÓN POR INTERVENTORÍA
C80: Nota 1: Cuando se trate de análisis de Precios Unitarios correspondientes a ítems de la propuesta económica aprobada, el Interventor aprueba el desglose de los componentes manteniendo el mismo Precio Unitario de cada ítem, cumpliendo con las especificaciones de construcción vigentes para el proyecto.
C82: Nota 2: Cuando se trate de análisis de Precios Unitarios de ítems no previstos, el Interventor aprueba el desglose y Precio Unitario de cada ítem no previsto, exigiendo la aplicación de los costos correspondientes a insumos y tarifas de la propuesta económica inicial cuando estén contemplados, cumpliendo con las especificaciones de construcción vigente para el proyecto.
...
