Workbook
Name \0: #REF!
Name \0: #REF!
Name \0: #REF!
Name \1: #REF!
Name \A: [1]A!$D$9:$D$53
Name \b: #REF!
Name \b: #REF!
Name \b: #REF!
Name \b: #REF!
Name \b: #REF!
Name \c: #REF!
Name \c: #REF!
Name \c: #REF!
Name \d: #REF!
Name \d: #REF!
Name \d: #REF!
Name \e: #REF!
Name \f: #REF!
Name \g: #REF!
Name \h: #REF!
Name \i: #REF!
Name \k: #REF!
Name \LL: #REF!
Name \m: '[2]APU PVC'!#REF!
Name \n: #REF!
Name \n: #REF!
Name \n: #REF!
Name \n: #REF!
Name \n: #REF!
Name \O: #REF!
Name \p: #REF!
Name \PP: #N/A
Name \r: '[2]APU PVC'!#REF!
Name \s: #REF!
Name \s: #REF!
Name \s: #REF!
Name \s: #REF!
Name \s: #REF!
Name \t: '[2]APU PVC'!#REF!
Name \t: '[2]APU PVC'!#REF!
Name \t: '[2]APU PVC'!#REF!
Name \t: '[2]APU PVC'!#REF!
Name \t: '[2]APU PVC'!#REF!
Name \u: #REF!
Name \u: #REF!
Name \u: #REF!
Name \u: #REF!
Name \u: #REF!
Name \w: #N/A
Name \x: #REF!
Name \x: #REF!
Name \x: #REF!
Name \x: #REF!
Name \x: #REF!
Name \y: #REF!
Name \z: #REF!
Name _: #REF!
Name _____________INF1: #REF!
Name ____________INF1: #REF!
Name ___________INF1: #REF!

Sheet Prop. Económica Profesionales
A1: ANEXO 1.
A2: PRESUPUESTO
A3: ESTRUCTURACIÓN Y FORMULACIÓN PARA LA CONSTRUCCIÓN PRIMERA FASE DEL PLAN MAESTRO DE ALCANTARILLADO, INCLUYE EL SISTEMA DE TRATAMIENTO DE AGUAS RESIDUALES DEL CASCO URBANO DEL MUNICIPIO DE ÚTICA
A6: I. COSTOS DE PERSONAL
A7: PERSONAL | B7: UNIDAD | C7: CANT | D7: DEDICACIÓN DÍAS | E7: DEDICACIÓN MENSUAL (%) | F7: DURACION TOTAL (MESES) | G7: SUELDO BASICO MENSUAL (TARIFA) | H7: VALOR TOTAL
A9: 1. PERSONAL PROFESIONAL
A10: Director de Consultoria P2 | B10: H/MES | C10: 1 | D10: =(F10*30)*E10 -> 72 | E10: 0.3 | F10: 8 | H10: =ROUND((G10*F10*E10),0) -> 0
A11: Especialista Hidraulico P4 | B11: H/MES | C11: 1 | D11: =(F11*30)*E11 -> 108 | E11: 0.6 | F11: 6 | H11: =ROUND((G11*F11*E11),0) -> 0
A12: Especialista Hidrólogo P4 | B12: H/MES | C12: 1 | D12: =(F12*30)*E12 -> 18 | E12: 0.3 | F12: 2 | H12: =ROUND((G12*F12*E12),0) -> 0
A13: Especialista en Estructuras P4 | B13: H/MES | C13: 1 | D13: =(F13*30)*E13 -> 36 | E13: 0.4 | F13: 3 | H13: =ROUND((G13*F13*E13),0) -> 0
A14: Especialista en Evaluación de Riesgos y Geotecnia P4 | B14: H/MES | C14: 1 | D14: =(F14*30)*E14 -> 90 | E14: 0.5 | F14: 6 | H14: =ROUND((G14*F14*E14),0) -> 0
A15: Ingeniero Ambiental P5 | B15: H/MES | C15: 1 | D15: =(F15*30)*E15 -> 18 | E15: 0.3 | F15: 2 | H15: =ROUND((G15*F15*E15),0) -> 0
A16: Profesional tecnico en gestion predial P6 | B16: H/MES | C16: 1 | D16: =(F16*30)*E16 -> 24 | E16: 0.2 | F16: 4 | H16: =ROUND((G16*F16*E16),0) -> 0
A17: Profesional jurídico en gestion predial P6 | B17: H/MES | C17: 1 | D17: =(F17*30)*E17 -> 24 | E17: 0.2 | F17: 4 | H17: =ROUND((G17*F17*E17),0) -> 0
A18: Profesional de costos y presupuesto P4 | B18: H/MES | C18: 1 | D18: =(F18*30)*E18 -> 72 | E18: 0.6 | F18: 4 | H18: =ROUND((G18*F18*E18),0) -> 0
A19: Profesional Electrico P5 | B19: H/MES | C19: 1 | D19: =(F19*30)*E19 -> 22.5 | E19: 0.3 | F19: 2.5 | H19: =ROUND((G19*F19*E19),0) -> 0
A20: Profesional Mecanico P5 | B20: H/MES | C20: 1 | D20: =(F20*30)*E20 -> 18 | E20: 0.3 | F20: 2 | H20: =ROUND((G20*F20*E20),0) -> 0
A21: Experto en BIM P5 | B21: H/MES | C21: 1 | D21: =(F21*30)*E21 -> 45 | E21: 0.5 | F21: 3 | H21: =ROUND((G21*F21*E21),0) -> 0
... A28: Especialista en servicios públicos P4 | B28: H/MES | C28: 1 | D28: =(F28*30)*E28 -> 18 | E28: 0.2 | F28: 3 | H28: =ROUND((G28*F28*E28),0) -> 0
A29: SUBTOTAL PERSONAL PROFESIONAL | H29: =SUM(H10:H28) -> 0
A31: 2. PERSONAL TÉCNICO
A32: Dibujante | B32: H/MES | C32: 1 | D32: =(F32*30)*E32 -> 36 | E32: 0.4 | F32: 3 | H32: =ROUND((C32*E32*F32*G32),0) -> 0
A33: SUBTOTAL PERSONAL TÉCNICO | H33: =+H32 -> 0
A35: 3. PERSONAL AUXILIAR TECNICO
A36: Auxiliar de Ingenieria | B36: H/MES | C36: 1 | D36: =(F36*30)*E36 -> 240 | E36: 1 | F36: 8 | H36: =ROUND((G36*F36*E36*C36),0) -> 0
A37: Secretaria | B37: H/MES | C37: 1 | D37: =(F37*30)*E37 -> 24 | E37: 0.1 | F37: 8 | H37: =ROUND((G37*F37*E37*C37),0) -> 0
A38: SUBTOTAL PERSONAL AUXILIAR TÉCNICO | H38: =SUM(H36:H37) -> 0
A40: SUBTOTAL PERSONAL | H40: =+H33+H29+H38 -> 0
A41: FM
A42: TOTAL PERSONAL | H42: =ROUND((H40*E41),0) -> 0
A44: II. COSTOS POR GASTOS REEMBOLSABLES
A45: DESCRIPCIÓN | B45: UNIDAD | E45: CANTIDAD | G45: TARIFA | H45: VALOR TOTAL
A46: II.1. TRAZADO TOPOGRAFÍA
A47: Trazado topográfico, (redes, estructuras y demás zonas requeridas para la ejecucción de los estudios y diseños), incluye batimetría de cuerpos de agua. | B47: km (RECONOCIMIENTO POR REEMBOLSO) | E47: 20 | H47: =ROUND((E47*G47),0) -> 0
A48: SUBTOTAL TOPOGRAFIA | H48: =SUM(H46:H47) -> 0
A50: II.2. ESTUDIOS DE GEOTECNIA
A51: Ensayos para estudios de suelos y estabilidad de taludes (incluye toma y transporte) | B51: GBL (RECONOCIMIENTO POR REEMBOLSO) | E51: 1 | H51: =ROUND((E51*G51),0) -> 0
A52: SUBTOTAL GEOTECNIA | H52: =SUM(H51) -> 0
A54: II.3. COMPRA DE INFORMACION
A55: Datos De Estaciones Meteorológicas del IDEAM, planos IGAC y otros | B55: GBL (RECONOCIMIENTO POR REEMBOLSO) | E55: 1 | H55: =ROUND((E55*G55),0) -> 0
...

Sheet PPTO PROF ALC UTICÁ 
A1: ANEXO 1.
A2: PRESUPUESTO
A3: ESTRUCTURACIÓN Y FORMULACIÓN PARA LA CONSTRUCCIÓN PRIMERA FASE DEL PLAN MAESTRO DE ALCANTARILLADO, INCLUYE EL SISTEMA DE TRATAMIENTO DE AGUAS RESIDUALES DEL CASCO URBANO DEL MUNICIPIO DE ÚTICA | O3: Plazo Total: 8 meses (Ejecución 6 y viabilidad 2)
I5: 2 MESES | K5: 4 MESES | M5: 2 MESES
A6: I. COSTOS DE PERSONAL | I6: PRODUCTO 1 | K6: PRODUCTOS 2 Y 3 | M6: VIABILIDAD
A7: PERSONAL | B7: UNIDAD | C7: CANT | D7: DEDICACIÓN DÍAS | E7: DEDICACIÓN MENSUAL (%) | F7: DURACION TOTAL (MESES) | G7: SUELDO BASICO MENSUAL (TARIFA) | H7: VALOR TOTAL | I7: DURACIÓN | J7: VALOR PRODUCTO | K7: DURACIÓN | L7: VALOR PRODUCTO | M7: DURACIÓN | N7: VALOR PRODUCTO | O7: TOTAL
A9: 1. PERSONAL PROFESIONAL
A10: Director de Consultoria P2 | B10: H/MES | C10: 1 | D10: =(F10*30)*E10 -> 72 | E10: 0.3 | F10: 8 | G10: 9670000 | H10: =ROUND((G10*F10*E10),0) -> 23208000 | I10: 3 | J10: =ROUND((I10*G10*E10),0) -> 8703000 | K10: 4 | L10: =ROUND((K10*G10*E10),0) -> 11604000 | M10: =F10-(I10+K10) -> 1 | N10: =ROUND((G10*E10*M10),0) -> 2901000 | O10: =I10+K10+M10 -> 8 | P10: =+IF(F10=O10,"ok","rev") -> ok | Q10: =+F10-O10 -> 0 | R10: =+J10+L10+N10 -> 23208000 | S10: =+H10-R10 -> 0
A11: Especialista Hidraulico P4 | B11: H/MES | C11: 1 | D11: =(F11*30)*E11 -> 108 | E11: 0.6 | F11: 6 | G11: 6951000 | H11: =ROUND((G11*F11*E11),0) -> 25023600 | I11: 2 | J11: =ROUND((I11*G11*E11),0) -> 8341200 | K11: 3.5 | L11: =ROUND((K11*G11*E11),0) -> 14597100 | M11: =F11-(I11+K11) -> 0.5 | N11: =ROUND((G11*E11*M11),0) -> 2085300 | O11: =I11+K11+M11 -> 6 | P11: =+IF(F11=O11,"ok","rev") -> ok | Q11: =+F11-O11 -> 0 | R11: =+J11+L11+N11 -> 25023600 | S11: =+H11-R11 -> 0
A12: Especialista Hidrólogo P4 | B12: H/MES | C12: 1 | D12: =(F12*30)*E12 -> 18 | E12: 0.3 | F12: 2 | G12: 6951000 | H12: =ROUND((G12*F12*E12),0) -> 4170600 | I12: 0.5 | J12: =ROUND((I12*G12*E12),0) -> 1042650 | K12: 1 | L12: =ROUND((K12*G12*E12),0) -> 2085300 | M12: =F12-(I12+K12) -> 0.5 | N12: =ROUND((G12*E12*M12),0) -> 1042650 | O12: =I12+K12+M12 -> 2 | P12: =+IF(F12=O12,"ok","rev") -> ok | Q12: =+F12-O12 -> 0 | R12: =+J12+L12+N12 -> 4170600 | S12: =+H12-R12 -> 0
A13: Especialista en Estructuras P4 | B13: H/MES | C13: 1 | D13: =(F13*30)*E13 -> 36 | E13: 0.4 | F13: 3 | G13: 6951000 | H13: =ROUND((G13*F13*E13),0) -> 8341200 | I13: 1 | J13: =ROUND((I13*G13*E13),0) -> 2780400 | K13: 1.5 | L13: =ROUND((K13*G13*E13),0) -> 4170600 | M13: =F13-(I13+K13) -> 0.5 | N13: =ROUND((G13*E13*M13),0) -> 1390200 | O13: =I13+K13+M13 -> 3 | P13: =+IF(F13=O13,"ok","rev") -> ok | Q13: =+F13-O13 -> 0 | R13: =+J13+L13+N13 -> 8341200 | S13: =+H13-R13 -> 0
A14: Especialista en Evaluación de Riesgos y Geotecnia P4 | B14: H/MES | C14: 1 | D14: =(F14*30)*E14 -> 90 | E14: 0.5 | F14: 6 | G14: 6951000 | H14: =ROUND((G14*F14*E14),0) -> 20853000 | I14: 2 | J14: =ROUND((I14*G14*E14),0) -> 6951000 | K14: 3 | L14: =ROUND((K14*G14*E14),0) -> 10426500 | M14: 1 | N14: =ROUND((G14*E14*M14),0) -> 3475500 | O14: =I14+K14+M14 -> 6 | P14: =+IF(F14=O14,"ok","rev") -> ok | Q14: =+F14-O14 -> 0 | R14: =+J14+L14+N14 -> 20853000 | S14: =+H14-R14 -> 0
A15: Ingeniero Ambiental P5 | B15: H/MES | C15: 1 | D15: =(F15*30)*E15 -> 18 | E15: 0.3 | F15: 2 | G15: 6268000 | H15: =ROUND((G15*F15*E15),0) -> 3760800 | I15: 1 | J15: =ROUND((I15*G15*E15),0) -> 1880400 | K15: 1 | L15: =ROUND((K15*G15*E15),0) -> 1880400 | M15: =F15-(I15+K15) -> 0 | N15: =ROUND((G15*E15*M15),0) -> 0 | O15: =I15+K15+M15 -> 2 | P15: =+IF(F15=O15,"ok","rev") -> ok | Q15: =+F15-O15 -> 0 | R15: =+J15+L15+N15 -> 3760800 | S15: =+H15-R15 -> 0
A16: Profesional tecnico en gestion predial P6 | B16: H/MES | C16: 1 | D16: =(F16*30)*E16 -> 24 | E16: 0.2 | F16: 4 | G16: 5589000 | H16: =ROUND((G16*F16*E16),0) -> 4471200 | I16: 2 | J16: =ROUND((I16*G16*E16),0) -> 2235600 | K16: 2 | L16: =ROUND((K16*G16*E16),0) -> 2235600 | M16: =F16-(I16+K16) -> 0 | N16: =ROUND((G16*E16*M16),0) -> 0 | O16: =I16+K16+M16 -> 4 | P16: =+IF(F16=O16,"ok","rev") -> ok | Q16: =+F16-O16 -> 0 | R16: =+J16+L16+N16 -> 4471200 | S16: =+H16-R16 -> 0
A17: Profesional jurídico en gestion predial P6 | B17: H/MES | C17: 1 | D17: =(F17*30)*E17 -> 24 | E17: 0.2 | F17: 4 | G17: 5589000 | H17: =ROUND((G17*F17*E17),0) -> 4471200 | I17: 2 | J17: =ROUND((I17*G17*E17),0) -> 2235600 | K17: 2 | L17: =ROUND((K17*G17*E17),0) -> 2235600 | M17: =F17-(I17+K17) -> 0 | N17: =ROUND((G17*E17*M17),0) -> 0 | O17: =I17+K17+M17 -> 4 | P17: =+IF(F17=O17,"ok","rev") -> ok | Q17: =+F17-O17 -> 0 | R17: =+J17+L17+N17 -> 4471200 | S17: =+H17-R17 -> 0
A18: Profesional de costos y presupuesto P4 | B18: H/MES | C18: 1 | D18: =(F18*30)*E18 -> 72 | E18: 0.6 | F18: 4 | G18: 6951000 | H18: =ROUND((G18*F18*E18),0) -> 16682400 | I18: 0.5 | J18: =ROUND((I18*G18*E18),0) -> 2085300 | K18: 2.5 | L18: =ROUND((K18*G18*E18),0) -> 10426500 | M18: =F18-(I18+K18) -> 1 | N18: =ROUND((G18*E18*M18),0) -> 4170600 | O18: =I18+K18+M18 -> 4 | P18: =+IF(F18=O18,"ok","rev") -> ok | Q18: =+F18-O18 -> 0 | R18: =+J18+L18+N18 -> 16682400 | S18: =+H18-R18 -> 0
A19: Profesional Electrico P5 | B19: H/MES | C19: 1 | D19: =(F19*30)*E19 -> 22.5 | E19: 0.3 | F19: 2.5 | G19: 6268000 | H19: =ROUND((G19*F19*E19),0) -> 4701000 | I19: 1 | J19: =ROUND((I19*G19*E19),0) -> 1880400 | K19: 1.5 | L19: =ROUND((K19*G19*E19),0) -> 2820600 | M19: =F19-(I19+K19) -> 0 | N19: =ROUND((G19*E19*M19),0) -> 0 | O19: =I19+K19+M19 -> 2.5 | P19: =+IF(F19=O19,"ok","rev") -> ok | Q19: =+F19-O19 -> 0 | R19: =+J19+L19+N19 -> 4701000 | S19: =+H19-R19 -> 0
A20: Profesional Mecanico P5 | B20: H/MES | C20: 1 | D20: =(F20*30)*E20 -> 18 | E20: 0.3 | F20: 2 | G20: 6268000 | H20: =ROUND((G20*F20*E20),0) -> 3760800 | I20: 0.75 | J20: =ROUND((I20*G20*E20),0) -> 1410300 | K20: 1.25 | L20: =ROUND((K20*G20*E20),0) -> 2350500 | M20: =F20-(I20+K20) -> 0 | N20: =ROUND((G20*E20*M20),0) -> 0 | O20: =I20+K20+M20 -> 2 | P20: =+IF(F20=O20,"ok","rev") -> ok | Q20: =+F20-O20 -> 0 | R20: =+J20+L20+N20 -> 3760800 | S20: =+H20-R20 -> 0
A21: Experto en BIM P5 | B21: H/MES | C21: 1 | D21: =(F21*30)*E21 -> 45 | E21: 0.5 | F21: 3 | G21: 6268000 | H21: =ROUND((G21*F21*E21),0) -> 9402000 | I21: 1 | J21: =ROUND((I21*G21*E21),0) -> 3134000 | K21: 1.5 | L21: =ROUND((K21*G21*E21),0) -> 4701000 | M21: =F21-(I21+K21) -> 0.5 | N21: =ROUND((G21*E21*M21),0) -> 1567000 | O21: =I21+K21+M21 -> 3 | P21: =+IF(F21=O21,"ok","rev") -> ok | Q21: =+F21-O21 -> 0 | R21: =+J21+L21+N21 -> 9402000 | S21: =+H21-R21 -> 0
A22: Especialista en diseño de plantas P4 | B22: H/MES | C22: 1 | D22: =(F22*30)*E22 -> 36 | E22: 0.3 | F22: 4 | G22: 6951000 | H22: =ROUND((G22*F22*E22),0) -> 8341200 | I22: 0.5 | J22: =ROUND((I22*G22*E22),0) -> 1042650 | K22: 3 | L22: =ROUND((K22*G22*E22),0) -> 6255900 | M22: =F22-(I22+K22) -> 0.5 | N22: =ROUND((G22*E22*M22),0) -> 1042650 | O22: =I22+K22+M22 -> 4 | P22: =+IF(F22=O22,"ok","rev") -> ok | Q22: =+F22-O22 -> 0 | R22: =+J22+L22+N22 -> 8341200 | S22: =+H22-R22 -> 0
A23: Especialista en sistema de informacion geografica SIG P6 | B23: H/MES | C23: 1 | D23: =(F23*30)*E23 -> 18 | E23: 0.3 | F23: 2 | G23: 5589000 | H23: =ROUND((G23*F23*E23),0) -> 3353400 | I23: 1 | J23: =ROUND((I23*G23*E23),0) -> 1676700 | K23: 1 | L23: =ROUND((K23*G23*E23),0) -> 1676700 | M23: =F23-(I23+K23) -> 0 | N23: =ROUND((G23*E23*M23),0) -> 0 | O23: =I23+K23+M23 -> 2 | P23: =+IF(F23=O23,"ok","rev") -> ok | Q23: =+F23-O23 -> 0 | R23: =+J23+L23+N23 -> 3353400 | S23: =+H23-R23 -> 0
A24: Profesional SST P6 | B24: H/MES | C24: 1 | D24: =(F24*30)*E24 -> 15.75 | E24: 0.35 | F24: 1.5 | G24: 5589000 | H24: =ROUND((G24*F24*E24),0) -> 2934225 | I24: 0.5 | J24: =ROUND((I24*G24*E24),0) -> 978075 | K24: 1 | L24: =ROUND((K24*G24*E24),0) -> 1956150 | M24: =F24-(I24+K24) -> 0 | N24: =ROUND((G24*E24*M24),0) -> 0 | O24: =I24+K24+M24 -> 1.5 | P24: =+IF(F24=O24,"ok","rev") -> ok | Q24: =+F24-O24 -> 0 | R24: =+J24+L24+N24 -> 2934225 | S24: =+H24-R24 -> 0
A25: Profesional social P6 | B25: H/MES | C25: 1 | D25: =(F25*30)*E25 -> 54 | E25: 0.3 | F25: 6 | G25: 5589000 | H25: =ROUND((G25*F25*E25),0) -> 10060200 | I25: 2 | J25: =ROUND((I25*G25*E25),0) -> 3353400 | K25: 4 | L25: =ROUND((K25*G25*E25),0) -> 6706800 | M25: =F25-(I25+K25) -> 0 | N25: =ROUND((G25*E25*M25),0) -> 0 | O25: =I25+K25+M25 -> 6 | P25: =+IF(F25=O25,"ok","rev") -> ok | Q25: =+F25-O25 -> 0 | R25: =+J25+L25+N25 -> 10060200 | S25: =+H25-R25 -> 0
A26: Ingeniero forestal P7 | B26: H/MES | C26: 1 | D26: =(F26*30)*E26 -> 15 | E26: 0.5 | F26: 1 | G26: 4225000 | H26: =ROUND((G26*F26*E26),0) -> 2112500 | I26: 0.5 | J26: =ROUND((I26*G26*E26),0) -> 1056250 | K26: 0.5 | L26: =ROUND((K26*G26*E26),0) -> 1056250 | M26: =F26-(I26+K26) -> 0 | N26: =ROUND((G26*E26*M26),0) -> 0 | O26: =I26+K26+M26 -> 1 | P26: =+IF(F26=O26,"ok","rev") -> ok | Q26: =+F26-O26 -> 0 | R26: =+J26+L26+N26 -> 2112500 | S26: =+H26-R26 -> 0
... A28: Especialista en servicios públicos P4 | B28: H/MES | C28: 1 | D28: =(F28*30)*E28 -> 18 | E28: 0.2 | F28: 3 | G28: 5589000 | H28: =ROUND((G28*F28*E28),0) -> 3353400 | I28: 1.5 | J28: =ROUND((I28*G28*E28),0) -> 1676700 | K28: 1.5 | L28: =ROUND((K28*G28*E28),0) -> 1676700 | M28: =F28-(I28+K28) -> 0 | N28: =ROUND((G28*E28*M28),0) -> 0 | O28: =I28+K28+M28 -> 3 | P28: =+IF(F28=O28,"ok","rev") -> ok | Q28: =+F28-O28 -> 0 | R28: =+J28+L28+N28 -> 3353400 | S28: =+H28-R28 -> 0
A29: SUBTOTAL PERSONAL PROFESIONAL | H29: =SUM(H10:H28) -> 162476225 | J29: =SUM(J10:J28) -> 54201375 | L29: =SUM(L10:L28) -> 90599950 | N29: =SUM(N10:N28) -> 17674900 | R29: =+J29+L29+N29 -> 162476225 | S29: =+H29-R29 -> 0
A31: 2. PERSONAL TÉCNICO
A32: Dibujante | B32: H/MES | C32: 1 | D32: =(F32*30)*E32 -> 36 | E32: 0.4 | F32: 3 | G32: 1964000 | H32: =ROUND((C32*E32*F32*G32),0) -> 2356800 | I32: 2 | J32: =ROUND((I32*G32*E32),0) -> 1571200 | K32: 1 | L32: =ROUND((K32*G32*E32),0) -> 785600 | M32: =F32-(I32+K32) -> 0 | N32: =ROUND((G32*E32*M32),0) -> 0 | O32: =I32+K32+M32 -> 3 | P32: =+IF(F32=O32,"ok","rev") -> ok | Q32: =+F32-O32 -> 0 | R32: =+J32+L32+N32 -> 2356800 | S32: =+H32-R32 -> 0
A33: SUBTOTAL PERSONAL TÉCNICO | H33: =+H32 -> 2356800 | J33: =SUM(J32) -> 1571200 | L33: =SUM(L32) -> 785600 | N33: =SUM(N32) -> 0
A35: 3. PERSONAL AUXILIAR TECNICO
A36: Auxiliar de Ingenieria | B36: H/MES | C36: 1 | D36: =(F36*30)*E36 -> 240 | E36: 1 | F36: 8 | G36: 2635000 | H36: =ROUND((G36*F36*E36*C36),0) -> 21080000 | I36: 4 | J36: =ROUND((I36*G36*E36),0) -> 10540000 | K36: 4 | L36: =ROUND((K36*G36*E36),0) -> 10540000 | M36: =F36-(I36+K36) -> 0 | N36: =ROUND((G36*E36*M36),0) -> 0 | O36: =I36+K36+M36 -> 8 | P36: =+IF(F36=O36,"ok","rev") -> ok | Q36: =+F36-O36 -> 0 | R36: =+J36+L36+N36 -> 21080000 | S36: =+H36-R36 -> 0
A37: Secretaria | B37: H/MES | C37: 1 | D37: =(F37*30)*E37 -> 24 | E37: 0.1 | F37: 8 | G37: 1483000 | H37: =ROUND((G37*F37*E37*C37),0) -> 1186400 | I37: 4 | J37: =ROUND((I37*G37*E37),0) -> 593200 | K37: 4 | L37: =ROUND((K37*G37*E37),0) -> 593200 | M37: =F37-(I37+K37) -> 0 | N37: =ROUND((G37*E37*M37),0) -> 0 | O37: =I37+K37+M37 -> 8 | P37: =+IF(F37=O37,"ok","rev") -> ok | Q37: =+F37-O37 -> 0 | R37: =+J37+L37+N37 -> 1186400 | S37: =+H37-R37 -> 0
A38: SUBTOTAL PERSONAL AUXILIAR TÉCNICO | H38: =SUM(H36:H37) -> 22266400 | J38: =SUM(J36:J37) -> 11133200 | L38: =SUM(L36:L37) -> 11133200 | N38: =SUM(N36:N37) -> 0
V39: Factor multiplicador Resolución 043 de 2013, según topes del valor de la consultoria
A40: SUBTOTAL PERSONAL | H40: =+H33+H29+H38 -> 187099425 | J40: =+J33+J29+J38 -> 66905775 | L40: =+L33+L29+L38 -> 102518750 | N40: =+N33+N29+N38 -> 17674900
A41: FM | E41: 2.2
A42: TOTAL PERSONAL | H42: =ROUND((H40*E41),0) -> 411618735 | J42: =+(J40*E41) -> 147192705 | L42: =+L40*E41 -> 2.2554125e+08 | N42: =+N40*E41 -> 38884780
A44: II. COSTOS POR GASTOS REEMBOLSABLES
A45: DESCRIPCIÓN | B45: UNIDAD | E45: CANTIDAD | G45: TARIFA | H45: VALOR TOTAL
A46: II.1. TRAZADO TOPOGRAFÍA
...

Sheet Presupuesto Oficial
A1: ANEXO No. 6 PRESUPUESTO DE LA CONSULTORÍA POR PRODUCTOS
A2: ESTRUCTURACIÓN Y FORMULACIÓN PARA LA CONSTRUCCIÓN PRIMERA FASE DEL PLAN MAESTRO DE ALCANTARILLADO, INCLUYE EL SISTEMA DE TRATAMIENTO DE AGUAS RESIDUALES DEL CASCO URBANO DEL MUNICIPIO DE ÚTICA
A5: I. PRODUCTOS
A6: DESCRIPCIÓN | D6: UNIDAD | F6: CANTIDAD | H6: VALOR TOTAL
A7: Producto 1: DIAGNÓSTICO Y ALTERNATIVAS | D7: UND | F7: 1 | H7: =+'PPTO PROF ALC UTICÁ '!J42 -> 147192705
A8: Productos 2 Y 3: INFORME RESUMEN Y DOCUMENTOS REQUISITO PARA LA ENTIDAD VIABILIZADORA | D8: UND | F8: 1 | H8: =+'PPTO PROF ALC UTICÁ '!L42 -> 2.2554125e+08
A9: Producto 4: CONCEPTO TÉCNICO Y/O VIABILIDAD DEL PROYECTO. | D9: UND | F9: 1 | H9: =+'PPTO PROF ALC UTICÁ '!N42 -> 38884780
A10: TOTAL PRODUCTOS | H10: =SUM(H7:H9) -> 411618735
A12: II. COSTOS POR GASTOS REEMBOLSABLES
A13: DESCRIPCIÓN | B13: UNIDAD | E13: CANTIDAD | G13: TARIFA | H13: VALOR TOTAL
A14: II.1. TRAZADO TOPOGRAFÍA
A15: Trazado topográfico, (redes, estructuras y demás zonas requeridas para la ejecucción de los estudios y diseños), incluye batimetría de cuerpos de agua. | B15: km (RECONOCIMIENTO POR REEMBOLSO) | E15: 20 | G15: 2869618.5 | H15: =ROUND((E15*G15),0) -> 57392370
A16: SUBTOTAL TOPOGRAFIA | H16: =SUM(H14:H15) -> 57392370
A18: II.2. ESTUDIOS DE GEOTECNIA
A19: Ensayos para estudios de suelos y estabilidad de taludes (incluye toma y transporte) | B19: GBL (RECONOCIMIENTO POR REEMBOLSO) | E19: 1 | G19: 84248000 | H19: =ROUND((E19*G19),0) -> 84248000
A20: SUBTOTAL GEOTECNIA | H20: =SUM(H19) -> 84248000
A22: II.3. COMPRA DE INFORMACION
A23: Datos De Estaciones Meteorológicas del IDEAM, planos IGAC y otros | B23: GBL (RECONOCIMIENTO POR REEMBOLSO) | E23: 1 | G23: 3000000 | H23: =ROUND((E23*G23),0) -> 3000000
A24: SUBTOTAL INFORMACION | H24: =H23 -> 3000000
A26: II.4. CARACTERIZACION DE AGUA - PUNTO DE VERTIMIENTO
A27: Caracterizaciones en fuente de agua superficial (Incluyendo parámetros hidrobiológicos) Caracterización del punto de vertimiento y descargas Ensayos con trazadores (En caso de requerirse) *Se contempla campaña de validación y de calibración | B27: GBL (RECONOCIMIENTO POR REEMBOLSO) | E27: 1 | G27: 15000000 | H27: =ROUND((E27*G27),0) -> 15000000
A28: SUBTOTAL CARACTERIZACION DE AGUA | H28: =H27 -> 15000000
A30: II.5. ESTUDIOS ELECTRICOS
A31: Estudio de resistividad del suelo | B31: GBL (RECONOCIMIENTO POR REEMBOLSO) | E31: 1 | G31: 1200000 | H31: =ROUND((E31*G31),0) -> 1200000
A32: SUBTOTAL ESTUDIOS ELECTRICOS | H32: =+H31 -> 1200000
A33: TOTAL COSTOS POR GASTOS REEMBOLSABLES | H33: =+H16+H20+H24+H28+H32 -> 160840370
A35: III. OTROS COSTOS
A36: III.1. VEHÍCULO
A37: DESCRIPCIÓN | B37: UNIDAD | D37: Tiempo (meses) | E37: CANTIDAD | G37: TARIFA | H37: VALOR TOTAL
A38: Campero, Pick - Up, Camioneta, Camión o similar < 2000 c.c. | B38: UND | D38: 4 | E38: 1 | G38: 7327000 | H38: =E38*G38*D38 -> 29308000
A39: III.2. VALIDACION CATASTRO
A40: DESCRIPCIÓN | B40: UNIDAD | E40: CANTIDAD | G40: TARIFA | H40: VALOR TOTAL
A41: Validación Catastro de redes de alcantarillado | B41: GLB | E41: 1 | G41: 9233300.2 | H41: =ROUND((E41*G41),0) -> 9233300
A42: TOTAL OTROS COSTOS | H42: =+H38+H41 -> 38541300
A44: SUBTOTAL COSTOS POR PRODUCTO | H44: =+H10 -> 411618735
A45: SUBTOTAL COSTOS POR GASTOS REEMBOLSABLES | H45: =+H33 -> 160840370
A46: SUBTOTAL OTROS COSTOS | H46: =+H42 -> 38541300
A48: VALOR CONSULTORIA | H48: =+H44+H45+H46 -> 611000405
A49: IVA (19%) | H49: =ROUND(H48*19%,0) -> 116090077
A50: VALOR TOTAL CONSULTORIA | H50: =+H49+H48 -> 727090482
...

Sheet Propuesta Economica Productos
A2: FORMATO No.8 PROPUESTA ECONÓMICA
A3: ESTRUCTURACIÓN Y FORMULACIÓN PARA LA CONSTRUCCIÓN PRIMERA FASE DEL PLAN MAESTRO DE ALCANTARILLADO, INCLUYE EL SISTEMA DE TRATAMIENTO DE AGUAS RESIDUALES DEL CASCO URBANO DEL MUNICIPIO DE ÚTICA
A6: I. PRODUCTOS
A7: DESCRIPCIÓN | D7: UNIDAD | F7: CANTIDAD | H7: VALOR TOTAL
A8: Producto 1: DIAGNÓSTICO Y ALTERNATIVAS | D8: UND | F8: 1
A9: Productos 2 Y 3: INFORME RESUMEN Y DOCUMENTOS REQUISITO PARA LA ENTIDAD VIABILIZADORA | D9: UND | F9: 1
A10: Producto 4: CONCEPTO TÉCNICO Y/O VIABILIDAD DEL PROYECTO. | D10: UND | F10: 1
A11: TOTAL PRODUCTOS | H11: =SUM(H8:H10) -> 0
A13: II. COSTOS POR GASTOS REEMBOLSABLES
A14: DESCRIPCIÓN | B14: UNIDAD | E14: CANTIDAD | G14: TARIFA | H14: VALOR TOTAL
A15: II.1. TRAZADO TOPOGRAFÍA
A16: Trazado topográfico, (redes, estructuras y demás zonas requeridas para la ejecucción de los estudios y diseños), incluye batimetría de cuerpos de agua. | B16: km (RECONOCIMIENTO POR REEMBOLSO) | E16: 20 | H16: =ROUND((E16*G16),0) -> 0
A17: SUBTOTAL TOPOGRAFIA | H17: =SUM(H15:H16) -> 0
A19: II.2. ESTUDIOS DE GEOTECNIA
A20: Ensayos para estudios de suelos y estabilidad de taludes (incluye toma y transporte) | B20: GBL (RECONOCIMIENTO POR REEMBOLSO) | E20: 1 | H20: =ROUND((E20*G20),0) -> 0
A21: SUBTOTAL GEOTECNIA | H21: =SUM(H20) -> 0
A23: II.3. COMPRA DE INFORMACION
A24: Datos De Estaciones Meteorológicas del IDEAM, planos IGAC y otros | B24: GBL (RECONOCIMIENTO POR REEMBOLSO) | E24: 1 | H24: =ROUND((E24*G24),0) -> 0
A25: SUBTOTAL INFORMACION | H25: =H24 -> 0
A27: II.4. CARACTERIZACION DE AGUA - PUNTO DE VERTIMIENTO
A28: Caracterizaciones en fuente de agua superficial (Incluyendo parámetros hidrobiológicos) Caracterización del punto de vertimiento y descargas Ensayos con trazadores (En caso de requerirse) *Se contempla campaña de validación y de calibración | B28: GBL (RECONOCIMIENTO POR REEMBOLSO) | E28: 1 | H28: =ROUND((E28*G28),0) -> 0
A29: SUBTOTAL CARACTERIZACION DE AGUA | H29: =H28 -> 0
A31: II.5. ESTUDIOS ELECTRICOS
A32: Estudio de resistividad del suelo | B32: GBL (RECONOCIMIENTO POR REEMBOLSO) | E32: 1 | H32: =ROUND((E32*G32),0) -> 0
A33: SUBTOTAL ESTUDIOS ELECTRICOS | H33: =+H32 -> 0
A34: TOTAL COSTOS POR GASTOS REEMBOLSABLES | H34: =+H17+H21+H25+H29+H33 -> 0
A36: III. OTROS COSTOS
A37: III.1. VEHÍCULO
A38: DESCRIPCIÓN | B38: UNIDAD | D38: Tiempo (meses) | E38: CANTIDAD | G38: TARIFA | H38: VALOR TOTAL
A39: Campero, Pick - Up, Camioneta, Camión o similar < 2000 c.c. | B39: UND | D39: 4 | E39: 1 | H39: =E39*G39*D39 -> 0
A40: III.2. VALIDACION CATASTRO
A41: DESCRIPCIÓN | B41: UNIDAD | E41: CANTIDAD | G41: TARIFA | H41: VALOR TOTAL
A42: Validación Catastro de redes de alcantarillado | B42: GLB | E42: 1 | H42: =ROUND((E42*G42),0) -> 0
A43: TOTAL OTROS COSTOS | H43: =+H39+H42 -> 0
A45: SUBTOTAL COSTOS POR PRODUCTO | H45: =+H11 -> 0
A46: SUBTOTAL COSTOS POR GASTOS REEMBOLSABLES | H46: =+H34 -> 0
A47: SUBTOTAL OTROS COSTOS | H47: =+H43 -> 0
A49: VALOR CONSULTORIA | H49: =+H45+H46+H47 -> 0
A50: IVA (19%) | H50: =ROUND(H49*19%,0) -> 0
A51: VALOR TOTAL CONSULTORIA | H51: =+H50+H49 -> 0

Sheet plan de pagos
B4: Pago parcial | C4: CON iva | D4: ret 10% | E4: Pago neto
A5: 1er pago | B5: =('Presupuesto Oficial'!H7+'Presupuesto Oficial'!H38*0.5+'Presupuesto Oficial'!H41) -> 171080005 | C5: =+B5+(B5*19%) -> 2.0358521e+08 | D5: =+C5*0.1 -> 20358521 | E5: =+C5-D5 -> 1.8322669e+08 | H5: producto 1 + validación catastro de redes + 50% del vehículo | I5: =+'Presupuesto Oficial'!H7+'Presupuesto Oficial'!H41+'Presupuesto Oficial'!H38*0.5 -> 171080005 | K5: =+I5/I20 -> 0.27999982 | L5: +REEMBOLSABLES
A6: 2do pago | B6: =+('Presupuesto Oficial'!H8)+'Presupuesto Oficial'!H38*0.5 -> 2.4019525e+08 | C6: =+B6+(B6*19%) -> 2.8583235e+08 | D6: =+C6*0.1 -> 28583235 | E6: =+C6-D6 -> 2.5724911e+08 | H6: producto 2 + producto 3 + 50% del vehículo | I6: =+'Presupuesto Oficial'!H8+'Presupuesto Oficial'!H38*0.5 -> 2.4019525e+08 | K6: =+I6/I20 -> 0.39311799
A7: 3er pago | B7: =+'Presupuesto Oficial'!H9 -> 38884780 | C7: =+B7+(B7*19%) -> 46272888 | D7: =+C7*0.1 -> 4627288.8 | E7: =+C7-D7 -> 41645599 | H7: producto 4 | I7: =+'Presupuesto Oficial'!H9 -> 38884780 | K7: =+I7/I20 -> 0.063641169
A8: reembolsables | B8: =+'Presupuesto Oficial'!H33 -> 160840370 | C8: =+B8+(B8*19%) -> 1.9140004e+08 | D8: =+C8*0.1 -> 19140004 | E8: =+C8-D8 -> 1.7226004e+08 | I8: =SUM(I5:I7) -> 450160035 | K8: =SUM(K5:K7) -> 0.73675898
A9: Liquidación | B9: =SUM(B5:B8) -> 611000405 | C9: =SUM(C5:C8) -> 7.2709048e+08 | D9: =SUM(D5:D8) -> 72709048 | E9: =+D9 -> 72709048
H10: Reembolsables | I10: =+'Presupuesto Oficial'!H16 -> 57392370
E11: =+SUM(E5:E9) -> 7.2709048e+08 | I11: =+'Presupuesto Oficial'!H20 -> 84248000
I12: =+'Presupuesto Oficial'!H24 -> 3000000
I13: =+'Presupuesto Oficial'!H28 -> 15000000
I14: =+'Presupuesto Oficial'!H32 -> 1200000
I15: =SUM(I10:I14) -> 160840370 | K15: =+I15/I20 -> 0.26324102
H17: Vehículo
H18: Validación catastro de redes
I19: =SUM(I17:I18) -> 0
I20: =+I8+I15+I19 -> 611000405
I22: =+I20*1.19 -> 7.2709048e+08
