Workbook

Sheet LEO MAZARO
B2: LEO MAZARO
B4: FORMULARIO DE CANTIDADES Y PRESUPUESTO DE OBRA
B5: ÍTEM | C5: DESCRIPCIÓN | D5: UNIDAD | E5: CANTIDAD | F5: VR UNITARIO | G5: VR PARCIAL
B6: 1 | C6: EXCAVACION | G6: =SUM(G7:G8) -> 1036342
B7: 1.01 | C7: Excavación en tierra seca h= 0-2 m | D7: m3 | E7: ='G_Obra '!J8 -> 5.03 | F7: ='Costos_Directos '!E18 -> 38905 | G7: =ROUND(E7*F7, 0) -> 195692
B8: 1.02 | C8: Nivelación terreno con material del sitio | D8: m2 | E8: ='G_Obra '!J15 -> 170 | F8: ='Costos_Directos '!E30 -> 4945 | G8: =ROUND(E8*F8, 0) -> 840650
B10: 2 | C10: ESTRUCTURAS EN CONCRETO | G10: =SUM(G11:G12) -> 5529380
B11: 2.01 | C11: Banca en concreto prefabricada | D11: Un | E11: 3 | F11: ='Costos_Directos '!E48 -> 1826800 | G11: =ROUND(E11*F11, 0) -> 5480400
B12: 2.02 | C12: Desmonte y retiro de llantas | D12: Un | E12: ='G_Obra '!J29 -> 5 | F12: ='Costos_Directos '!E62 -> 9796 | G12: =ROUND(E12*F12, 0) -> 48980
B14: 3 | C14: JARDINERAS EN ADOBE REVOCADO Y PINTURA | G14: =SUM(G15:G19) -> 7362212
B15: 3.01 | C15: Muro en ladrillo rayado e= 10 cm | D15: m2 | E15: 56 | F15: ='Costos_Directos '!E85 -> 70691 | G15: =ROUND(E15*F15, 0) -> 3958696
B16: 3.02 | C16: Pañete muro exterior (incl. filos y dilataciones) | D16: m2 | E16: 28 | F16: ='Costos_Directos '!E104 -> 39573 | G16: =ROUND(E16*F16, 0) -> 1108044
B17: 3.03 | C17: Pintura exterior en Koraza | D17: m2 | E17: 29.2 | F17: ='Costos_Directos '!E126 -> 36660 | G17: =ROUND(E17*F17, 0) -> 1070472
B18: 3.04 | C18: sumnistro y siembra de flores | D18: Un | E18: 100 | F18: ='Costos_Directos '!E146 -> 7500 | G18: =ROUND(E18*F18, 0) -> 750000
B19: 3.05 | C19: sumnistro y siembra de guayacan 1,50 | D19: Un | E19: ='G_Obra '!J69 -> 5 | F19: ='Costos_Directos '!E166 -> 95000 | G19: =ROUND(E19*F19, 0) -> 475000
B21: 4 | C21: URBANISMO Y ZONAS VERDES | G21: =SUM(G22:G26) -> 21113226
B22: 4.01 | C22: Basurero para mascotas, incluye bolsas DISPE | D22: Un | E22: ='G_Obra '!J76 -> 1 | F22: ='Costos_Directos '!E186 -> 3314042 | G22: =ROUND(E22*F22, 0) -> 3314042
B23: 4.02 | C23: Relleno en triturado de 3/4" | D23: m3 | E23: ='G_Obra '!J83 -> 0.66 | F23: ='Costos_Directos '!E201 -> 144086 | G23: =ROUND(E23*F23, 0) -> 95097
B24: 4.03 | C24: Geotextil no tejido 1600 | D24: m2 | E24: ='G_Obra '!J90 -> 11.06 | F24: ='Costos_Directos '!E219 -> 7943 | G24: =ROUND(E24*F24, 0) -> 87850
B25: 4.04 | C25: Tapete sintetico en fibra artificial de polietileno fibrilado incluye todo lo necesario para su correcta instalacion y funcionamiento | D25: m2 | E25: ='G_Obra '!J97 -> 61.5 | F25: ='Costos_Directos '!E245 -> 254638 | G25: =ROUND(E25*F25, 0) -> 15660237
B26: 4.05 | C26: Pintura para parque infantil | D26: un | E26: ='G_Obra '!J104 -> 1 | F26: ='Costos_Directos '!E266 -> 1956000 | G26: =ROUND(E26*F26, 0) -> 1956000
C28: TOTAL COSTOS DIRECTOS = | G28: =SUM(G6:G27)/2 -> 35041160
C29: ADMINISTRACIÓN (25%) = | G29: =ROUND(G28*25/100, 0) -> 8760290
C30: UTILIDAD (5%) = | G30: =ROUND(G28*5/100, 0) -> 1752058
C31: VALOR TOTAL = | G31: =SUM(G28:G30) -> 45553508
C32: HONORARIOS EMDUCE 5% | G32: =G31*0.05 -> 2277675.4
C33: IVA HONORARIOS | G33: =G32*0.19 -> 432758.33
C34: TOTAL DEL PROYECTO | G34: =G31+G32+G33 -> 48263942

Sheet Costos_Directos 
A3: ANÁLISIS DE PRECIOS UNITARIOS
A4: 1.01 Excavación en tierra seca h= 0-2 m | E4: UNIDAD: m3
A5: DESCRIPCIÓN | B5: UNIDAD | C5: CANT/ REND | D5: PRECIO UNITARIO | E5: VR PARCIAL
A6: MATERIALES:
A7: =Insumos!B16 -> CINTA DE SEÑALIZACIÓN a=7 cm | B7: =Insumos!C16 -> m | C7: 1 | D7: =Insumos!D16 -> 174 | E7: =ROUND(C7*D7, 2) -> 174
A8: POSTE DE SEÑALIZACIÓN EN MADERA PINTADO + MUERTO EN CONCRETO | B8: Un | C8: 0.05 | D8: =Subproductos!E386 -> 22381 | E8: =ROUND(C8*D8, 2) -> 1119.05
A9: ENTIBADO DISCONTINUO EN MADERA | B9: m2 | C9: 0.2 | D9: =Subproductos!E326 -> 19422 | E9: =ROUND(C9*D9, 2) -> 3884.4
D10: Subtotal = | E10: =SUM(E7:E9) -> 5177.45
A11: EQUIPO y HERRAMIENTAS:
A12: CARRETA BUGGIE, PALA, ZAPAPICO | B12: Un | C12: 0.0012 | D12: =Subproductos!E34 -> 408368 | E12: =ROUND(C12*D12, 2) -> 490.04
D13: Subtotal = | E13: =SUM(E12:E12) -> 490.04
A14: MANO de OBRA:
A15: CUADRILLA 1 OF + 2 AY | B15: Día | C15: 0.1204 | D15: =Subproductos!E244 -> 276056 | E15: =ROUND(C15*D15, 2) -> 33237.14
D16: Subtotal = | E16: =SUM(E15:E15) -> 33237.14
D18: VR COSTO DIRECTO = | E18: =ROUND(SUM(E6:E16)/2, 0) -> 38905
A21: 1.02 Nivelación terreno con material del sitio | E21: UNIDAD: m2
A22: DESCRIPCIÓN | B22: UNIDAD | C22: CANT/ REND | D22: PRECIO UNITARIO | E22: VR PARCIAL
A23: EQUIPO y HERRAMIENTAS:
A24: CARRETA BUGGIE, PALA, ZAPAPICO | B24: Un | C24: 0.0003 | D24: =Subproductos!E34 -> 408368 | E24: =ROUND(C24*D24, 2) -> 122.51
D25: Subtotal = | E25: =SUM(E24:E24) -> 122.51
A26: MANO de OBRA:
A27: CUADRILLA 1 OF + 4 AY | B27: Día | C27: 0.011 | D27: =Subproductos!E264 -> 438446 | E27: =ROUND(C27*D27, 2) -> 4822.91
D28: Subtotal = | E28: =SUM(E27:E27) -> 4822.91
D30: VR COSTO DIRECTO = | E30: =ROUND(SUM(E23:E28)/2, 0) -> 4945
A33: 2.01 Banca en concreto prefabricada | E33: UNIDAD: Un
A34: DESCRIPCIÓN | B34: UNIDAD | C34: CANT/ REND | D34: PRECIO UNITARIO | E34: VR PARCIAL
A35: MATERIALES:
A36: =Insumos!B40 -> BANCA EN CONCRETO PREFABRICADA | B36: =Insumos!C40 -> Un | C36: 1 | D36: =Insumos!D40 -> 1775000 | E36: =ROUND(C36*D36, 2) -> 1775000
D37: Subtotal = | E37: =SUM(E36:E36) -> 1775000
A38: EQUIPO y HERRAMIENTAS:
A39: HERRAMIENTA MENOR % | B39: %MO | C39: 2 | D39: =E46 -> 30593.18 | E39: =ROUND(C39*D39/100, 2) -> 611.86
D40: Subtotal = | E40: =SUM(E39:E39) -> 611.86
A41: TRANSPORTES:
A42: =Insumos!B89 -> CAMIÓN PLATAFORMA 10 Ton | B42: =Insumos!C89 -> Hr | C42: 0.2 | D42: =Insumos!D89 -> 102975 | E42: =ROUND(C42*D42, 2) -> 20595
D43: Subtotal = | E43: =SUM(E42:E42) -> 20595
A44: MANO de OBRA:
A45: CUADRILLA 1 OF + 1 AY | B45: Día | C45: 0.157 | D45: =Subproductos!E234 -> 194861 | E45: =ROUND(C45*D45, 2) -> 30593.18
D46: Subtotal = | E46: =SUM(E45:E45) -> 30593.18
D48: VR COSTO DIRECTO = | E48: =ROUND(SUM(E35:E46)/2, 0) -> 1826800
A51: 2.02 Desmonte y retiro de llantas | E51: UNIDAD: Un
...

Sheet Subproductos
A3: ANÁLISIS DE PRECIOS UNITARIOS - SUBPRODUCTOS
A4: ANDAMIO TUBULAR CON TIJERA 1.50x1.50 m | E4: UNIDAD: Día
A5: DESCRIPCIÓN | B5: UNIDAD | C5: CANT/ REND | D5: PRECIO UNITARIO | E5: VR PARCIAL
A6: EQUIPO y HERRAMIENTAS:
A7: =Insumos!B73 -> MARCO ANDAMIO DE TIJERA 1.50x1.50 m | B7: =Insumos!C73 -> Día | C7: 2 | D7: =Insumos!D73 -> 657 | E7: =ROUND(C7*D7, 2) -> 1314
A8: =Insumos!B87 -> TIJERA DE ANDAMIO | B8: =Insumos!C87 -> Día | C8: 2 | D8: =Insumos!D87 -> 175 | E8: =ROUND(C8*D8, 2) -> 350
A9: =Insumos!B82 -> PLATAFORMA METÁLICA PARA ANDAMIO | B9: =Insumos!C82 -> Día | C9: 1 | D9: =Insumos!D82 -> 3163 | E9: =ROUND(C9*D9, 2) -> 3163
D10: Subtotal = | E10: =SUM(E7:E9) -> 4827
D12: VR UNITARIO = | E12: =ROUND(SUM(E6:E10)/2, 0) -> 4827
A15: CARRETA BUGGIE, PALA, BALDES | E15: UNIDAD: Un
A16: DESCRIPCIÓN | B16: UNIDAD | C16: CANT/ REND | D16: PRECIO UNITARIO | E16: VR PARCIAL
A17: EQUIPO y HERRAMIENTAS:
A18: =Insumos!B55 -> CARRETA LLANTA NEUMÁTICA | B18: =Insumos!C55 -> Un | C18: 1 | D18: =Insumos!D55 -> 313308 | E18: =ROUND(C18*D18, 2) -> 313308
A19: =Insumos!B79 -> PALA REDONDA CON CABO | B19: =Insumos!C79 -> Un | C19: 1 | D19: =Insumos!D79 -> 34845 | E19: =ROUND(C19*D19, 2) -> 34845
A20: =Insumos!B47 -> BALDE CONSTRUCCIÓN | B20: =Insumos!C47 -> Un | C20: 2 | D20: =Insumos!D47 -> 6265 | E20: =ROUND(C20*D20, 2) -> 12530
D21: Subtotal = | E21: =SUM(E18:E20) -> 360683
D23: VR UNITARIO = | E23: =ROUND(SUM(E17:E21)/2, 0) -> 360683
A26: CARRETA BUGGIE, PALA, ZAPAPICO | E26: UNIDAD: Un
A27: DESCRIPCIÓN | B27: UNIDAD | C27: CANT/ REND | D27: PRECIO UNITARIO | E27: VR PARCIAL
A28: EQUIPO y HERRAMIENTAS:
A29: =Insumos!B55 -> CARRETA LLANTA NEUMÁTICA | B29: =Insumos!C55 -> Un | C29: 1 | D29: =Insumos!D55 -> 313308 | E29: =ROUND(C29*D29, 2) -> 313308
A30: =Insumos!B79 -> PALA REDONDA CON CABO | B30: =Insumos!C79 -> Un | C30: 1 | D30: =Insumos!D79 -> 34845 | E30: =ROUND(C30*D30, 2) -> 34845
A31: =Insumos!B88 -> ZAPAPICO | B31: =Insumos!C88 -> Un | C31: 1 | D31: =Insumos!D88 -> 60215 | E31: =ROUND(C31*D31, 2) -> 60215
D32: Subtotal = | E32: =SUM(E29:E31) -> 408368
D34: VR UNITARIO = | E34: =ROUND(SUM(E28:E32)/2, 0) -> 408368
A37: HERRAMIENTAS PARA ALBAÑIL | E37: UNIDAD: Un
A38: DESCRIPCIÓN | B38: UNIDAD | C38: CANT/ REND | D38: PRECIO UNITARIO | E38: VR PARCIAL
A39: EQUIPO y HERRAMIENTAS:
A40: =Insumos!B45 -> ALMADANA 4 lb | B40: =Insumos!C45 -> Un | C40: 1 | D40: =Insumos!D45 -> 49789 | E40: =ROUND(C40*D40, 2) -> 49789
A41: =Insumos!B56 -> CINCEL 3/4" ACERO TEMPLADO | B41: =Insumos!C56 -> Un | C41: 1 | D41: =Insumos!D56 -> 30778 | E41: =ROUND(C41*D41, 2) -> 30778
A42: =Insumos!B80 -> PALUSTRE | B42: =Insumos!C80 -> Un | C42: 1 | D42: =Insumos!D80 -> 14352 | E42: =ROUND(C42*D42, 2) -> 14352
A43: =Insumos!B57 -> CINTA MÉTRICA x 5 m | B43: =Insumos!C57 -> Un | C43: 1 | D43: =Insumos!D57 -> 19547 | E43: =ROUND(C43*D43, 2) -> 19547
A44: =Insumos!B77 -> NIVEL DE BURBUJA | B44: =Insumos!C77 -> Un | C44: 1 | D44: =Insumos!D77 -> 45275 | E44: =ROUND(C44*D44, 2) -> 45275
A45: =Insumos!B70 -> MANGUERA DE NIVEL x 10 m | B45: =Insumos!C70 -> Un | C45: 1 | D45: =Insumos!D70 -> 5037 | E45: =ROUND(C45*D45, 2) -> 5037
A46: =Insumos!B83 -> PLOMADA | B46: =Insumos!C83 -> Un | C46: 1 | D46: =Insumos!D83 -> 19048 | E46: =ROUND(C46*D46, 2) -> 19048
A47: =Insumos!B74 -> MARCO SEGUETA FIJO | B47: =Insumos!C74 -> Un | C47: 1 | D47: =Insumos!D74 -> 30470 | E47: =ROUND(C47*D47, 2) -> 30470
A48: =Insumos!B86 -> SERRUCHO | B48: =Insumos!C86 -> Un | C48: 1 | D48: =Insumos!D86 -> 38288 | E48: =ROUND(C48*D48, 2) -> 38288
A49: =Insumos!B75 -> MARTILLO | B49: =Insumos!C75 -> Un | C49: 1 | D49: =Insumos!D75 -> 35658 | E49: =ROUND(C49*D49, 2) -> 35658
A50: =Insumos!B68 -> LIMA PLANA PARA USO GENERAL CON MANGO 8" | B50: =Insumos!C68 -> Un | C50: 1 | D50: =Insumos!D68 -> 22886 | E50: =ROUND(C50*D50, 2) -> 22886
D51: Subtotal = | E51: =SUM(E40:E50) -> 311128
...

Sheet Insumos
A3: MATERIALES, EQUIPO y HERRAMIENTAS, JORNALES
B4: DESCRIPCIÓN | C4: UNIDAD | D4: PRECIO UNITARIO
B5: ACPM | C5: Gal | D5: 9700
B6: AGUA | C6: Lt | D6: 70
B7: ARENA | C7: m3 | D7: 99404
B8: BLOQUE CEMENTO ½ 10x20x20 cm | C8: Un | D8: 1867
B9: BLOQUE CEMENTO 10x20x40 cm | C9: Un | D9: 3114
B10: BOLSAS PLÁSTICAS | C10: Un | D10: 2500
B11: BOTAS DE SEGURIDAD | C11: Par | D11: 95658
B12: CAMISA DE TRABAJO | C12: Un | D12: 23485
B13: CASCO DE SEGURIDAD | C13: Un | D13: 36743
B14: CEMENTO GRIS | C14: Kg | D14: 699
B15: CHALECO REFLECTIVO | C15: Un | D15: 30353
B16: CINTA DE SEÑALIZACIÓN a=7 cm | C16: m | D16: 174
... B97: TARIFA ESCOMBRERA AUTORIZADA | C97: m3 | D97: 4343

Sheet G_Obra 
A3: GENERADORES DE OBRA
A4: 1.01 Excavación en tierra seca h= 0-2 m | I4: UNIDAD: m3
A5: OBSERVACIONES | B5: NIVEL | C5: EJE | D5: TRAMO | E5: TIPO | F5: LARGO | G5: ANCHO | H5: ALTO | I5: PIEZAS | J5: CANTIDAD
I6: 5.03 | J6: =I6 -> 5.03
I8: TOTAL = | J8: =ROUND(SUM(J6:J6),2) -> 5.03
A11: 1.02 Nivelación terreno con material del sitio | I11: UNIDAD: m2
A12: OBSERVACIONES | B12: NIVEL | C12: EJE | D12: TRAMO | E12: TIPO | F12: LARGO | G12: ANCHO | H12: ALTO | I12: PIEZAS | J12: CANTIDAD
I13: 170 | J13: =I13 -> 170
I15: TOTAL = | J15: =ROUND(SUM(J13:J13),2) -> 170
A18: 2.01 Banca en concreto prefabricada | I18: UNIDAD: Un
A19: OBSERVACIONES | B19: NIVEL | C19: EJE | D19: TRAMO | E19: TIPO | F19: LARGO | G19: ANCHO | H19: ALTO | I19: PIEZAS | J19: CANTIDAD
I20: 4 | J20: =I20 -> 4
I22: TOTAL = | J22: =ROUND(SUM(J20:J20),2) -> 4
A25: 2.02 Desmonte y retiro de llantas | I25: UNIDAD: Un
A26: OBSERVACIONES | B26: NIVEL | C26: EJE | D26: TRAMO | E26: TIPO | F26: LARGO | G26: ANCHO | H26: ALTO | I26: PIEZAS | J26: CANTIDAD
I27: 5 | J27: =I27 -> 5
I29: TOTAL = | J29: =ROUND(SUM(J27:J27),2) -> 5
A32: 3.01 Muro en ladrillo rayado e= 10 cm | I32: UNIDAD: m2
A33: OBSERVACIONES | B33: NIVEL | C33: EJE | D33: TRAMO | E33: TIPO | F33: LARGO | G33: ANCHO | H33: ALTO | I33: PIEZAS | J33: CANTIDAD
F34: 19 | H34: 0.6 | J34: =ROUND(F34*H34,2) -> 11.4
F35: 17 | H35: 0.6 | J35: =ROUND(F35*H35,2) -> 10.2
I37: TOTAL = | J37: =ROUND(SUM(J34:J35),2) -> 21.6
A40: 3.02 Pañete muro exterior (incl. filos y dilataciones) | I40: UNIDAD: m2
A41: OBSERVACIONES | B41: NIVEL | C41: EJE | D41: TRAMO | E41: TIPO | F41: LARGO | G41: ANCHO | H41: ALTO | I41: PIEZAS | J41: CANTIDAD
F42: 19 | J42: =ROUND(F42,2) -> 19
F43: 17 | J43: =ROUND(F43,2) -> 17
F44: 36 | G44: 0.2 | J44: =ROUND(F44*G44,2) -> 7.2
I46: TOTAL = | J46: =ROUND(SUM(J42:J44),2) -> 43.2
A49: 3.03 Pintura exterior en Koraza | I49: UNIDAD: m2
A50: OBSERVACIONES | B50: NIVEL | C50: EJE | D50: TRAMO | E50: TIPO | F50: LARGO | G50: ANCHO | H50: ALTO | I50: PIEZAS | J50: CANTIDAD
F51: 19 | J51: =ROUND(F51,2) -> 19
F52: 17 | J52: =ROUND(F52,2) -> 17
F53: 36 | G53: 0.2 | J53: =ROUND(F53*G53,2) -> 7.2
I55: TOTAL = | J55: =ROUND(SUM(J51:J53),2) -> 43.2
A58: 3.04 sumnistro y siembra de flores | I58: UNIDAD: Un
A59: OBSERVACIONES | B59: NIVEL | C59: EJE | D59: TRAMO | E59: TIPO | F59: LARGO | G59: ANCHO | H59: ALTO | I59: PIEZAS | J59: CANTIDAD
I60: 120 | J60: =I60 -> 120
I62: TOTAL = | J62: =ROUND(SUM(J60:J60),2) -> 120
A65: 3.05 sumnistro y siembra de guayacan 1,50 | I65: UNIDAD: Un
A66: OBSERVACIONES | B66: NIVEL | C66: EJE | D66: TRAMO | E66: TIPO | F66: LARGO | G66: ANCHO | H66: ALTO | I66: PIEZAS | J66: CANTIDAD
...

Sheet SAN CAYETANO
B1: SAN CAYETANO
B3: FORMULARIO DE CANTIDADES Y PRESUPUESTO DE OBRA
B4: ÍTEM | C4: DESCRIPCIÓN | D4: UNIDAD | E4: CANTIDAD | F4: VR UNITARIO | G4: VR PARCIAL
B5: 1 | C5: MEJORAMIENTO PARQUE SAN CAYETANO | G5: =SUM(G6:G6) -> 212478
B6: 1.01 | C6: Reparacion de Bolardo en concreto | D6: Un | E6: ='G_Obra (2)'!J8 -> 3 | F6: ='Costos_Directos (2)'!E21 -> 70826 | G6: =ROUND(E6*F6, 0) -> 212478
B8: 2 | C8: TAPETE SINTETICO | G8: =SUM(G9:G12) -> 18213667
B9: 2.01 | C9: Excavación en tierra seca h= 0-2 m | D9: m3 | E9: ='G_Obra (2)'!J15 -> 12 | F9: ='Costos_Directos (2)'!E37 -> 35020 | G9: =ROUND(E9*F9, 0) -> 420240
B10: 2.02 | C10: Cargue manual y retiro de tierra | D10: m3 | E10: ='G_Obra (2)'!J22 -> 15.6 | F10: ='Costos_Directos (2)'!E56 -> 52253 | G10: =ROUND(E10*F10, 0) -> 815147
B11: 2.03 | C11: Tapete sintetico en fibra artificial de polietileno fibrilado incluye todo lo necesario para su correcta instalacion y funcionamiento | D11: m2 | E11: ='G_Obra (2)'!J29 -> 60 | F11: ='Costos_Directos (2)'!E82 -> 254638 | G11: =ROUND(E11*F11, 0) -> 15278280
B12: 2.05 | C12: Pintura parque infantil | D12: un | E12: ='G_Obra (2)'!J36 -> 1 | F12: ='Costos_Directos (2)'!E103 -> 1700000 | G12: =ROUND(E12*F12, 0) -> 1700000
B14: 3 | C14: MANTENIMIENTO PERGOLA | G14: =SUM(G15:G17) -> 3308862
B15: 3.01 | C15: Desmonte de estructura en madera cielo raso y teja | D15: m2 | E15: ='G_Obra (2)'!J43 -> 30 | F15: ='Costos_Directos (2)'!E118 -> 21650 | G15: =ROUND(E15*F15, 0) -> 649500
B16: 3.02 | C16: Teja ajover traslucida | D16: m2 | E16: ='G_Obra (2)'!J50 -> 30 | F16: ='Costos_Directos (2)'!E138 -> 74051 | G16: =ROUND(E16*F16, 0) -> 2221530
C17: Cargue manual y retiro de escombros en volqueta | D17: m3 | E17: 8 | F17: 54729 | G17: =ROUND(E17*F17, 0) -> 437832
B19: 4 | C19: MANTENIMIENTO DE URBANISMO Y ZONAS VERDES | G19: =SUM(G20:G27) -> 15728587
B20: 4.02 | C20: Pintura con esmalte para bancas de madera y metal | D20: un | E20: 10 | F20: 227000 | G20: =ROUND(E20*F20, 0) -> 2270000
C21: Pintura bancas largas de madera | D21: un | E21: 3 | F21: 318000 | G21: =ROUND(E21*F21, 0) -> 954000
B22: 4.03 | C22: sumnistro y siembra de flores | D22: Un | E22: 180 | F22: 7500 | G22: =ROUND(E22*F22, 0) -> 1350000
B23: 4.04 | C23: sumnistro y siembra de guayacan 1,50 | D23: Un | E23: 3 | F23: 95000 | G23: =ROUND(E23*F23, 0) -> 285000
B24: 4.05 | C24: Pintura de condones de jardinera | D24: m | E24: 300 | F24: 18000 | G24: =ROUND(E24*F24, 0) -> 5400000
B25: 4.06 | C25: Pintura de postes en gris basalto | D25: Un | E25: 6 | F25: 75000 | G25: =ROUND(E25*F25, 0) -> 450000
B26: 4.07 | C26: Basurero para mascotas, incluye bolsas | D26: Un | E26: 1 | F26: 3314042 | G26: =ROUND(E26*F26, 0) -> 3314042
B27: 4.08 | C27: Valla informativa instalada | D27: un | E27: 5 | F27: 341109 | G27: =ROUND(E27*F27, 0) -> 1705545
C29: TOTAL COSTOS DIRECTOS = | G29: =SUM(G5:G28)/2 -> 37463594
C30: ADMINISTRACIÓN (25%) = | G30: =ROUND(G29*25/100, 0) -> 9365899
C31: UTILIDAD (5%) = | G31: =ROUND(G29*5/100, 0) -> 1873180
C32: VALOR TOTAL = | G32: =SUM(G29:G31) -> 48702673
C33: HONORARIOS EMDUCE 5% | G33: =G32*0.05 -> 2435133.6
C34: IVA HONORARIOS | G34: =G33*0.19 -> 462675.39
C35: TOTAL DEL PROYECTO | G35: =G32+G33+G34 -> 51600482

Sheet Costos_Directos (2)
A3: ANÁLISIS DE PRECIOS UNITARIOS
A4: 1.01 Reparacion de Bolardo en concreto | E4: UNIDAD: Un
A5: DESCRIPCIÓN | B5: UNIDAD | C5: CANT/ REND | D5: PRECIO UNITARIO | E5: VR PARCIAL
A6: MATERIALES:
A7: CONCRETO 17.2 MPa | B7: m3 | C7: 0.06 | D7: ='Subproductos (2)'!E296 -> 459410 | E7: =ROUND(C7*D7, 2) -> 27564.6
D8: Subtotal = | E8: =SUM(E7:E7) -> 27564.6
A9: EQUIPO y HERRAMIENTAS:
A10: ='Insumos (2)'!B44 -> BALDE CONSTRUCCIÓN | B10: ='Insumos (2)'!C44 -> Un | C10: 0.0019 | D10: ='Insumos (2)'!D44 -> 6265 | E10: =ROUND(C10*D10, 2) -> 11.9
A11: ='Insumos (2)'!B74 -> PALUSTRE | B11: ='Insumos (2)'!C74 -> Un | C11: 0.0019 | D11: ='Insumos (2)'!D74 -> 14352 | E11: =ROUND(C11*D11, 2) -> 27.27
A12: HERRAMIENTA MENOR % | B12: %MO | C12: 2 | D12: =E19 -> 36536.44 | E12: =ROUND(C12*D12/100, 2) -> 730.73
D13: Subtotal = | E13: =SUM(E10:E12) -> 769.9
A14: TRANSPORTES:
A15: ='Insumos (2)'!B83 -> CAMIÓN 350 | B15: ='Insumos (2)'!C83 -> Hr | C15: 0.1 | D15: ='Insumos (2)'!D83 -> 59549 | E15: =ROUND(C15*D15, 2) -> 5954.9
D16: Subtotal = | E16: =SUM(E15:E15) -> 5954.9
A17: MANO de OBRA:
A18: CUADRILLA 1 OF + 1 AY | B18: Día | C18: 0.1875 | D18: ='Subproductos (2)'!E234 -> 194861 | E18: =ROUND(C18*D18, 2) -> 36536.44
D19: Subtotal = | E19: =SUM(E18:E18) -> 36536.44
D21: VR COSTO DIRECTO = | E21: =ROUND(SUM(E6:E19)/2, 0) -> 70826
A24: 2.01 Excavación en tierra seca h= 0-2 m | E24: UNIDAD: m3
A25: DESCRIPCIÓN | B25: UNIDAD | C25: CANT/ REND | D25: PRECIO UNITARIO | E25: VR PARCIAL
A26: MATERIALES:
A27: ='Insumos (2)'!B14 -> CINTA DE SEÑALIZACIÓN a=7 cm | B27: ='Insumos (2)'!C14 -> m | C27: 1 | D27: ='Insumos (2)'!D14 -> 174 | E27: =ROUND(C27*D27, 2) -> 174
A28: POSTE DE SEÑALIZACIÓN EN MADERA PINTADO + MUERTO EN CONCRETO | B28: Un | C28: 0.05 | D28: ='Subproductos (2)'!E336 -> 22381 | E28: =ROUND(C28*D28, 2) -> 1119.05
D29: Subtotal = | E29: =SUM(E27:E28) -> 1293.05
A30: EQUIPO y HERRAMIENTAS:
A31: CARRETA BUGGIE, PALA, ZAPAPICO | B31: Un | C31: 0.0012 | D31: ='Subproductos (2)'!E34 -> 408368 | E31: =ROUND(C31*D31, 2) -> 490.04
D32: Subtotal = | E32: =SUM(E31:E31) -> 490.04
A33: MANO de OBRA:
A34: CUADRILLA 1 OF + 2 AY | B34: Día | C34: 0.1204 | D34: ='Subproductos (2)'!E244 -> 276056 | E34: =ROUND(C34*D34, 2) -> 33237.14
D35: Subtotal = | E35: =SUM(E34:E34) -> 33237.14
D37: VR COSTO DIRECTO = | E37: =ROUND(SUM(E26:E35)/2, 0) -> 35020
A40: 2.02 Cargue manual y retiro de tierra | E40: UNIDAD: m3
A41: DESCRIPCIÓN | B41: UNIDAD | C41: CANT/ REND | D41: PRECIO UNITARIO | E41: VR PARCIAL
A42: EQUIPO y HERRAMIENTAS:
A43: ='Insumos (2)'!B73 -> PALA REDONDA CON CABO | B43: ='Insumos (2)'!C73 -> Un | C43: 0.0009 | D43: ='Insumos (2)'!D73 -> 34845 | E43: =ROUND(C43*D43, 2) -> 31.36
A44: ='Insumos (2)'!B56 -> CONO PVC CON CINTA REFLECTIVA | B44: ='Insumos (2)'!C56 -> Un | C44: 0.0004 | D44: ='Insumos (2)'!D56 -> 66996 | E44: =ROUND(C44*D44, 2) -> 26.8
D45: Subtotal = | E45: =SUM(E43:E44) -> 58.16
A46: TRANSPORTES:
A47: ='Insumos (2)'!B85 -> VOLQUETA 7 m3 | B47: ='Insumos (2)'!C85 -> Hr | C47: 0.4708 | D47: ='Insumos (2)'!D85 -> 86532 | E47: =ROUND(C47*D47, 2) -> 40739.27
D48: Subtotal = | E48: =SUM(E47:E47) -> 40739.27
...

Sheet Subproductos (2)
A3: ANÁLISIS DE PRECIOS UNITARIOS - SUBPRODUCTOS
A4: ANDAMIO TUBULAR CON TIJERA 1.50x1.50 m | E4: UNIDAD: Día
A5: DESCRIPCIÓN | B5: UNIDAD | C5: CANT/ REND | D5: PRECIO UNITARIO | E5: VR PARCIAL
A6: EQUIPO y HERRAMIENTAS:
A7: ='Insumos (2)'!B66 -> MARCO ANDAMIO DE TIJERA 1.50x1.50 m | B7: ='Insumos (2)'!C66 -> Día | C7: 2 | D7: ='Insumos (2)'!D66 -> 657 | E7: =ROUND(C7*D7, 2) -> 1314
A8: ='Insumos (2)'!B81 -> TIJERA DE ANDAMIO | B8: ='Insumos (2)'!C81 -> Día | C8: 2 | D8: ='Insumos (2)'!D81 -> 175 | E8: =ROUND(C8*D8, 2) -> 350
A9: ='Insumos (2)'!B76 -> PLATAFORMA METÁLICA PARA ANDAMIO | B9: ='Insumos (2)'!C76 -> Día | C9: 1 | D9: ='Insumos (2)'!D76 -> 3163 | E9: =ROUND(C9*D9, 2) -> 3163
D10: Subtotal = | E10: =SUM(E7:E9) -> 4827
D12: VR UNITARIO = | E12: =ROUND(SUM(E6:E10)/2, 0) -> 4827
A15: CARRETA BUGGIE, PALA, BALDES | E15: UNIDAD: Un
A16: DESCRIPCIÓN | B16: UNIDAD | C16: CANT/ REND | D16: PRECIO UNITARIO | E16: VR PARCIAL
A17: EQUIPO y HERRAMIENTAS:
A18: ='Insumos (2)'!B50 -> CARRETA LLANTA NEUMÁTICA | B18: ='Insumos (2)'!C50 -> Un | C18: 1 | D18: ='Insumos (2)'!D50 -> 313308 | E18: =ROUND(C18*D18, 2) -> 313308
A19: ='Insumos (2)'!B73 -> PALA REDONDA CON CABO | B19: ='Insumos (2)'!C73 -> Un | C19: 1 | D19: ='Insumos (2)'!D73 -> 34845 | E19: =ROUND(C19*D19, 2) -> 34845
A20: ='Insumos (2)'!B44 -> BALDE CONSTRUCCIÓN | B20: ='Insumos (2)'!C44 -> Un | C20: 2 | D20: ='Insumos (2)'!D44 -> 6265 | E20: =ROUND(C20*D20, 2) -> 12530
D21: Subtotal = | E21: =SUM(E18:E20) -> 360683
D23: VR UNITARIO = | E23: =ROUND(SUM(E17:E21)/2, 0) -> 360683
A26: CARRETA BUGGIE, PALA, ZAPAPICO | E26: UNIDAD: Un
A27: DESCRIPCIÓN | B27: UNIDAD | C27: CANT/ REND | D27: PRECIO UNITARIO | E27: VR PARCIAL
A28: EQUIPO y HERRAMIENTAS:
A29: ='Insumos (2)'!B50 -> CARRETA LLANTA NEUMÁTICA | B29: ='Insumos (2)'!C50 -> Un | C29: 1 | D29: ='Insumos (2)'!D50 -> 313308 | E29: =ROUND(C29*D29, 2) -> 313308
A30: ='Insumos (2)'!B73 -> PALA REDONDA CON CABO | B30: ='Insumos (2)'!C73 -> Un | C30: 1 | D30: ='Insumos (2)'!D73 -> 34845 | E30: =ROUND(C30*D30, 2) -> 34845
A31: ='Insumos (2)'!B82 -> ZAPAPICO | B31: ='Insumos (2)'!C82 -> Un | C31: 1 | D31: ='Insumos (2)'!D82 -> 60215 | E31: =ROUND(C31*D31, 2) -> 60215
D32: Subtotal = | E32: =SUM(E29:E31) -> 408368
D34: VR UNITARIO = | E34: =ROUND(SUM(E28:E32)/2, 0) -> 408368
A37: HERRAMIENTAS PARA ALBAÑIL | E37: UNIDAD: Un
A38: DESCRIPCIÓN | B38: UNIDAD | C38: CANT/ REND | D38: PRECIO UNITARIO | E38: VR PARCIAL
A39: EQUIPO y HERRAMIENTAS:
A40: ='Insumos (2)'!B42 -> ALMADANA 4 lb | B40: ='Insumos (2)'!C42 -> Un | C40: 1 | D40: ='Insumos (2)'!D42 -> 49789 | E40: =ROUND(C40*D40, 2) -> 49789
A41: ='Insumos (2)'!B51 -> CINCEL 3/4" ACERO TEMPLADO | B41: ='Insumos (2)'!C51 -> Un | C41: 1 | D41: ='Insumos (2)'!D51 -> 30778 | E41: =ROUND(C41*D41, 2) -> 30778
A42: ='Insumos (2)'!B74 -> PALUSTRE | B42: ='Insumos (2)'!C74 -> Un | C42: 1 | D42: ='Insumos (2)'!D74 -> 14352 | E42: =ROUND(C42*D42, 2) -> 14352
A43: ='Insumos (2)'!B52 -> CINTA MÉTRICA x 5 m | B43: ='Insumos (2)'!C52 -> Un | C43: 1 | D43: ='Insumos (2)'!D52 -> 19547 | E43: =ROUND(C43*D43, 2) -> 19547
A44: ='Insumos (2)'!B71 -> NIVEL DE BURBUJA | B44: ='Insumos (2)'!C71 -> Un | C44: 1 | D44: ='Insumos (2)'!D71 -> 45275 | E44: =ROUND(C44*D44, 2) -> 45275
A45: ='Insumos (2)'!B63 -> MANGUERA DE NIVEL x 10 m | B45: ='Insumos (2)'!C63 -> Un | C45: 1 | D45: ='Insumos (2)'!D63 -> 5037 | E45: =ROUND(C45*D45, 2) -> 5037
A46: ='Insumos (2)'!B77 -> PLOMADA | B46: ='Insumos (2)'!C77 -> Un | C46: 1 | D46: ='Insumos (2)'!D77 -> 19048 | E46: =ROUND(C46*D46, 2) -> 19048
A47: ='Insumos (2)'!B67 -> MARCO SEGUETA FIJO | B47: ='Insumos (2)'!C67 -> Un | C47: 1 | D47: ='Insumos (2)'!D67 -> 30470 | E47: =ROUND(C47*D47, 2) -> 30470
A48: ='Insumos (2)'!B79 -> SERRUCHO | B48: ='Insumos (2)'!C79 -> Un | C48: 1 | D48: ='Insumos (2)'!D79 -> 38288 | E48: =ROUND(C48*D48, 2) -> 38288
A49: ='Insumos (2)'!B68 -> MARTILLO | B49: ='Insumos (2)'!C68 -> Un | C49: 1 | D49: ='Insumos (2)'!D68 -> 35658 | E49: =ROUND(C49*D49, 2) -> 35658
A50: ='Insumos (2)'!B61 -> LIMA PLANA PARA USO GENERAL CON MANGO 8" | B50: ='Insumos (2)'!C61 -> Un | C50: 1 | D50: ='Insumos (2)'!D61 -> 22886 | E50: =ROUND(C50*D50, 2) -> 22886
D51: Subtotal = | E51: =SUM(E40:E50) -> 311128
...

Sheet Insumos (2)
A3: MATERIALES, EQUIPO y HERRAMIENTAS, JORNALES
B4: DESCRIPCIÓN | C4: UNIDAD | D4: PRECIO UNITARIO
B5: ACPM | C5: Gal | D5: 9700
B6: AGUA | C6: Lt | D6: 70
B7: ARENA | C7: m3 | D7: 99404
B8: BOLSAS PLÁSTICAS | C8: Un | D8: 2500
B9: BOTAS DE SEGURIDAD | C9: Par | D9: 95658
B10: CAMISA DE TRABAJO | C10: Un | D10: 23485
B11: CASCO DE SEGURIDAD | C11: Un | D11: 36743
B12: CEMENTO GRIS | C12: Kg | D12: 699
B13: CHALECO REFLECTIVO | C13: Un | D13: 30353
B14: CINTA DE SEÑALIZACIÓN a=7 cm | C14: m | D14: 174
B15: DISOLVENTE | C15: Gal | D15: 55979
B16: GAFAS DE SEGURIDAD | C16: Un | D16: 7439
... B91: TARIFA ESCOMBRERA AUTORIZADA | C91: m3 | D91: 4343

Sheet G_Obra (2)
A3: GENERADORES DE OBRA
A4: 1.01 Reparacion de Bolardo en concreto | I4: UNIDAD: Un
A5: OBSERVACIONES | B5: NIVEL | C5: EJE | D5: TRAMO | E5: TIPO | F5: LARGO | G5: ANCHO | H5: ALTO | I5: PIEZAS | J5: CANTIDAD
I6: 3 | J6: =I6 -> 3
I8: TOTAL = | J8: =ROUND(SUM(J6:J6),2) -> 3
A11: 2.01 Excavación en tierra seca h= 0-2 m | I11: UNIDAD: m3
A12: OBSERVACIONES | B12: NIVEL | C12: EJE | D12: TRAMO | E12: TIPO | F12: LARGO | G12: ANCHO | H12: ALTO | I12: PIEZAS | J12: CANTIDAD
F13: 60 | G13: 0.2 | J13: =ROUND(F13*G13,2) -> 12
I15: TOTAL = | J15: =ROUND(SUM(J13:J13),2) -> 12
A18: 2.02 Cargue manual y retiro de tierra | I18: UNIDAD: m3
A19: OBSERVACIONES | B19: NIVEL | C19: EJE | D19: TRAMO | E19: TIPO | F19: LARGO | G19: ANCHO | H19: ALTO | I19: PIEZAS | J19: CANTIDAD
G20: 12 | H20: 1.3 | J20: =ROUND(G20*H20,2) -> 15.6
I22: TOTAL = | J22: =ROUND(SUM(J20:J20),2) -> 15.6
A25: 2.03 Tapete sintetico en fibra artificial de polietileno fibrilado incluye todo lo necesario para su correcta instalacion y funcionamiento | I25: UNIDAD: m2
A26: OBSERVACIONES | B26: NIVEL | C26: EJE | D26: TRAMO | E26: TIPO | F26: LARGO | G26: ANCHO | H26: ALTO | I26: PIEZAS | J26: CANTIDAD
I27: 60 | J27: =I27 -> 60
I29: TOTAL = | J29: =ROUND(SUM(J27:J27),2) -> 60
A32: 2.05 Pintura parque infantil | I32: UNIDAD: un
A33: OBSERVACIONES | B33: NIVEL | C33: EJE | D33: TRAMO | E33: TIPO | F33: LARGO | G33: ANCHO | H33: ALTO | I33: PIEZAS | J33: CANTIDAD
I34: 1 | J34: =I34 -> 1
I36: TOTAL = | J36: =ROUND(SUM(J34:J34),2) -> 1
A39: 3.01 Desmonte de estructura en madera cielo raso y teja | I39: UNIDAD: m2
A40: OBSERVACIONES | B40: NIVEL | C40: EJE | D40: TRAMO | E40: TIPO | F40: LARGO | G40: ANCHO | H40: ALTO | I40: PIEZAS | J40: CANTIDAD
I41: 30 | J41: =I41 -> 30
I43: TOTAL = | J43: =ROUND(SUM(J41:J41),2) -> 30
A46: 3.02 Teja ajover traslucida | I46: UNIDAD: m2
A47: OBSERVACIONES | B47: NIVEL | C47: EJE | D47: TRAMO | E47: TIPO | F47: LARGO | G47: ANCHO | H47: ALTO | I47: PIEZAS | J47: CANTIDAD
I48: 30 | J48: =I48 -> 30
I50: TOTAL = | J50: =ROUND(SUM(J48:J48),2) -> 30
A53: Cargue manual y retiro de escombros en volqueta | I53: UNIDAD: m3
A54: OBSERVACIONES | B54: NIVEL | C54: EJE | D54: TRAMO | E54: TIPO | F54: LARGO | G54: ANCHO | H54: ALTO | I54: PIEZAS | J54: CANTIDAD
I55: 8 | J55: =I55 -> 8
I57: TOTAL = | J57: =ROUND(SUM(J55:J55),2) -> 8
A60: 4.02 Pintura con esmalte para bancas de madera y metal | I60: UNIDAD: un
A61: OBSERVACIONES | B61: NIVEL | C61: EJE | D61: TRAMO | E61: TIPO | F61: LARGO | G61: ANCHO | H61: ALTO | I61: PIEZAS | J61: CANTIDAD
I62: 10 | J62: =I62 -> 10
I64: TOTAL = | J64: =ROUND(SUM(J62:J62),2) -> 10
A67: Pintura bancas largas de madera | I67: UNIDAD: un
A68: OBSERVACIONES | B68: NIVEL | C68: EJE | D68: TRAMO | E68: TIPO | F68: LARGO | G68: ANCHO | H68: ALTO | I68: PIEZAS | J68: CANTIDAD
I69: 3 | J69: =I69 -> 3
...

Sheet VILLAS DE LA CRUZ
B1: VILLAS DE LA CRUZ
B3: FORMULARIO DE CANTIDADES Y PRESUPUESTO DE OBRA
B4: ÍTEM | C4: DESCRIPCIÓN | D4: UNIDAD | E4: CANTIDAD | F4: VR UNITARIO | G4: VR PARCIAL
B5: 1 | C5: EXCAVACION | G5: =SUM(G6:G6) -> 186123
B6: 1.01 | C6: Excavación en tierra seca h= 0-2 m incluye cargue y retiro | D6: m3 | E6: ='G_Obra (3)'!J8 -> 2.1 | F6: ='Costos_Directos (3)'!E18 -> 88630 | G6: =ROUND(E6*F6, 0) -> 186123
B8: 2 | C8: DEMOLICIÓN | G8: =SUM(G9:G10) -> 672036
B9: 2.01 | C9: Demolición manual de andén en concreto | D9: m2 | E9: ='G_Obra (3)'!J15 -> 30 | F9: ='Costos_Directos (3)'!E31 -> 15104 | G9: =ROUND(E9*F9, 0) -> 453120
B10: 2.02 | C10: Cargue manual y retiro de escombros en volqueta | D10: m3 | E10: ='G_Obra (3)'!J22 -> 4 | F10: ='Costos_Directos (3)'!E50 -> 54729 | G10: =ROUND(E10*F10, 0) -> 218916
B12: 3 | C12: ESTRUCTURAS EN CONCRETO | G12: =SUM(G13:G17) -> 10342249
B13: 3.01 | C13: Banca en concreto prefabricada L= 1.40 m | D13: Un | E13: ='G_Obra (3)'!J29 -> 2 | F13: ='Costos_Directos (3)'!E68 -> 1826800 | G13: =ROUND(E13*F13, 0) -> 3653600
B14: 3.02 | C14: Base granular tipo Invías | D14: m3 | E14: 6.1406599 | F14: ='Costos_Directos (3)'!E93 -> 240243 | G14: =ROUND(E14*F14, 0) -> 1475251
B15: 3.03 | C15: Andén en concreto de 20.7 MPa e= 0.10 m | D15: m2 | E15: ='G_Obra (3)'!J43 -> 30 | F15: ='Costos_Directos (3)'!E113 -> 70758 | G15: =ROUND(E15*F15, 0) -> 2122740
B16: 3.04 | C16: Solado en concreto de 17.2 MPa | D16: m3 | E16: ='G_Obra (3)'!J50 -> 0.32 | F16: ='Costos_Directos (3)'!E129 -> 560430 | G16: =ROUND(E16*F16, 0) -> 179338
B17: 3.05 | C17: Bordillo prefabricado en concreto | D17: m | E17: ='G_Obra (3)'!J57 -> 30 | F17: ='Costos_Directos (3)'!E150 -> 97044 | G17: =ROUND(E17*F17, 0) -> 2911320
B19: 4 | C19: JARDINERAS EN ADOBE REVOCADO Y PINTURA | G19: =SUM(G20:G24) -> 4689911
B20: 4.01 | C20: Muro en ladrillo rayado e= 10 cm | D20: m2 | E20: ='G_Obra (3)'!J65 -> 25.2 | F20: ='Costos_Directos (3)'!E173 -> 70614 | G20: =ROUND(E20*F20, 0) -> 1779473
B21: 4.02 | C21: Pañete muro exterior (incl. filos y dilataciones) | D21: m2 | E21: ='G_Obra (3)'!J73 -> 29.2 | F21: ='Costos_Directos (3)'!E192 -> 39573 | G21: =ROUND(E21*F21, 0) -> 1155532
B22: 4.03 | C22: Pintura exterior en Koraza | D22: m2 | E22: ='G_Obra (3)'!J80 -> 29.2 | F22: ='Costos_Directos (3)'!E214 -> 36555 | G22: =ROUND(E22*F22, 0) -> 1067406
B23: 4.04 | C23: sumnistro y siembra de flores | D23: Un | E23: 79 | F23: ='Costos_Directos (3)'!E234 -> 7500 | G23: =ROUND(E23*F23, 0) -> 592500
B24: 4.05 | C24: sumnistro y siembra de guayacan 1,50 | D24: Un | E24: ='G_Obra (3)'!J94 -> 1 | F24: ='Costos_Directos (3)'!E254 -> 95000 | G24: =ROUND(E24*F24, 0) -> 95000
B26: 5 | C26: PINTURA DE LOSA | G26: =SUM(G27:G29) -> 11253525
B27: 5.01 | C27: Pintura epóxica en pisos de canchas | D27: m2 | E27: ='G_Obra (3)'!J101 -> 447 | F27: ='Costos_Directos (3)'!E281 -> 62000
B28: 5.02 | C28: pintura de flores y golosa | D28: m2 | E28: ='G_Obra (3)'!J108 -> 75 | F28: ='Costos_Directos (3)'!E303 -> 115647 | G28: =ROUND(E28*F28, 0) -> 8673525
B29: 5.03 | C29: Pintura para parque infantil | D29: m2 | E29: ='G_Obra (3)'!J115 -> 1 | F29: ='Costos_Directos (3)'!E324 -> 2580000 | G29: =ROUND(E29*F29, 0) -> 2580000
B31: 6 | C31: OBRAS VARIAS | G31: =SUM(G32:G32) -> 3363242
B32: 6.01 | C32: Basurero para mascotas, incluye bolsas | D32: Un | E32: ='G_Obra (3)'!J122 -> 1 | F32: ='Costos_Directos (3)'!E344 -> 3363242 | G32: =ROUND(E32*F32, 0) -> 3363242
C34: TOTAL COSTOS DIRECTOS = | G34: =SUM(G5:G33)/2 -> 30507086
C35: ADMINISTRACIÓN (25%) = | G35: =ROUND(G34*25/100, 0) -> 7626772
C36: UTILIDAD (5%) = | G36: =ROUND(G34*5/100, 0) -> 1525354
C37: VALOR TOTAL = | G37: =SUM(G34:G36) -> 39659212
C38: HONORARIOS EMDUCE 5% | G38: =G37*0.05 -> 1982960.6
C39: IVA HONORARIOS | G39: =G38*0.19 -> 376762.51
C40: TOTAL DEL PROYECTO | G40: =G37+G38+G39 -> 42018935

Sheet Costos_Directos (3)
A3: ANÁLISIS DE PRECIOS UNITARIOS
A4: 1.01 Excavación en tierra seca h= 0-2 m incluye cargue y retiro | E4: UNIDAD: m3
A5: DESCRIPCIÓN | B5: UNIDAD | C5: CANT/ REND | D5: PRECIO UNITARIO | E5: VR PARCIAL
A6: MATERIALES:
A7: ='Insumos (3)'!B20 -> CINTA DE SEÑALIZACIÓN a=7 cm | B7: ='Insumos (3)'!C20 -> m | C7: 1 | D7: ='Insumos (3)'!D20 -> 174 | E7: =ROUND(C7*D7, 2) -> 174
A8: POSTE DE SEÑALIZACIÓN EN MADERA PINTADO + MUERTO EN CONCRETO | B8: Un | D8: ='Subproductos (3)'!E412 -> 22381 | E8: =ROUND(C8*D8, 2) -> 0
D9: Subtotal = | E9: =SUM(E7:E8) -> 174
A10: EQUIPO y HERRAMIENTAS:
A11: CARRETA BUGGIE, PALA, ZAPAPICO | B11: Un | C11: 0.0012 | D11: ='Subproductos (3)'!E34 -> 408368 | E11: =ROUND(C11*D11, 2) -> 490.04
A12: RETIRO DE MATERIAL SOBRANTE CARGUE MANUAL | B12: m3 | C12: 1 | D12: ='Subproductos (3)'!E431 -> 54729 | E12: =ROUND(C12*D12, 2) -> 54729
D13: Subtotal = | E13: =SUM(E11:E12) -> 55219.04
A14: MANO de OBRA:
A15: CUADRILLA 1 OF + 2 AY | B15: Día | C15: 0.1204 | D15: ='Subproductos (3)'!E244 -> 276056 | E15: =ROUND(C15*D15, 2) -> 33237.14
D16: Subtotal = | E16: =SUM(E15:E15) -> 33237.14
D18: VR COSTO DIRECTO = | E18: =ROUND(SUM(E6:E16)/2, 0) -> 88630
A21: 2.01 Demolición manual de andén en concreto | E21: UNIDAD: m2
A22: DESCRIPCIÓN | B22: UNIDAD | C22: CANT/ REND | D22: PRECIO UNITARIO | E22: VR PARCIAL
A23: EQUIPO y HERRAMIENTAS:
A24: ='Insumos (3)'!B50 -> ALMADANA 18 lb | B24: ='Insumos (3)'!C50 -> Un | C24: 0.0018 | D24: ='Insumos (3)'!D50 -> 118955 | E24: =ROUND(C24*D24, 2) -> 214.12
A25: ='Insumos (3)'!B55 -> BARRA AGRÍCOLA | B25: ='Insumos (3)'!C55 -> Un | C25: 0.0018 | D25: ='Insumos (3)'!D55 -> 107425 | E25: =ROUND(C25*D25, 2) -> 193.37
D26: Subtotal = | E26: =SUM(E24:E25) -> 407.49
A27: MANO de OBRA:
A28: CUADRILLA 2 Ay | B28: Día | C28: 0.0905 | D28: ='Subproductos (3)'!E273 -> 162390 | E28: =ROUND(C28*D28, 2) -> 14696.3
D29: Subtotal = | E29: =SUM(E28:E28) -> 14696.3
D31: VR COSTO DIRECTO = | E31: =ROUND(SUM(E23:E29)/2, 0) -> 15104
A34: 2.02 Cargue manual y retiro de escombros en volqueta | E34: UNIDAD: m3
A35: DESCRIPCIÓN | B35: UNIDAD | C35: CANT/ REND | D35: PRECIO UNITARIO | E35: VR PARCIAL
A36: EQUIPO y HERRAMIENTAS:
A37: ='Insumos (3)'!B87 -> PALA REDONDA CON CABO | B37: ='Insumos (3)'!C87 -> Un | C37: 0.0012 | D37: ='Insumos (3)'!D87 -> 34845 | E37: =ROUND(C37*D37, 2) -> 41.81
A38: ='Insumos (3)'!B67 -> CONO PVC CON CINTA REFLECTIVA | B38: ='Insumos (3)'!C67 -> Un | C38: 0.0006 | D38: ='Insumos (3)'!D67 -> 66996 | E38: =ROUND(C38*D38, 2) -> 40.2
D39: Subtotal = | E39: =SUM(E37:E38) -> 82.01
A40: TRANSPORTES:
A41: ='Insumos (3)'!B102 -> VOLQUETA 7 m3 | B41: ='Insumos (3)'!C102 -> Hr | C41: 0.4708 | D41: ='Insumos (3)'!D102 -> 86532 | E41: =ROUND(C41*D41, 2) -> 40739.27
D42: Subtotal = | E42: =SUM(E41:E41) -> 40739.27
A43: MANO de OBRA:
A44: CUADRILLA 2 Ay | B44: Día | C44: 0.0589 | D44: ='Subproductos (3)'!E273 -> 162390 | E44: =ROUND(C44*D44, 2) -> 9564.77
D45: Subtotal = | E45: =SUM(E44:E44) -> 9564.77
A46: OTROS:
A47: ='Insumos (3)'!B109 -> TARIFA ESCOMBRERA AUTORIZADA | B47: ='Insumos (3)'!C109 -> m3 | C47: 1 | D47: ='Insumos (3)'!D109 -> 4343 | E47: =ROUND(C47*D47, 2) -> 4343
D48: Subtotal = | E48: =SUM(E47:E47) -> 4343
...

Sheet Subproductos (3)
A3: ANÁLISIS DE PRECIOS UNITARIOS - SUBPRODUCTOS
A4: ANDAMIO TUBULAR CON TIJERA 1.50x1.50 m | E4: UNIDAD: Día
A5: DESCRIPCIÓN | B5: UNIDAD | C5: CANT/ REND | D5: PRECIO UNITARIO | E5: VR PARCIAL
A6: EQUIPO y HERRAMIENTAS:
A7: ='Insumos (3)'!B80 -> MARCO ANDAMIO DE TIJERA 1.50x1.50 m | B7: ='Insumos (3)'!C80 -> Día | C7: 2 | D7: ='Insumos (3)'!D80 -> 657 | E7: =ROUND(C7*D7, 2) -> 1314
A8: ='Insumos (3)'!B97 -> TIJERA DE ANDAMIO | B8: ='Insumos (3)'!C97 -> Día | D8: ='Insumos (3)'!D97 -> 175 | E8: =ROUND(C8*D8, 2) -> 0
A9: ='Insumos (3)'!B90 -> PLATAFORMA METÁLICA PARA ANDAMIO | B9: ='Insumos (3)'!C90 -> Día | C9: 1 | D9: ='Insumos (3)'!D90 -> 3163 | E9: =ROUND(C9*D9, 2) -> 3163
D10: Subtotal = | E10: =SUM(E7:E9) -> 4477
D12: VR UNITARIO = | E12: =ROUND(SUM(E6:E10)/2, 0) -> 4477
A15: CARRETA BUGGIE, PALA, BALDES | E15: UNIDAD: Un
A16: DESCRIPCIÓN | B16: UNIDAD | C16: CANT/ REND | D16: PRECIO UNITARIO | E16: VR PARCIAL
A17: EQUIPO y HERRAMIENTAS:
A18: ='Insumos (3)'!B60 -> CARRETA LLANTA NEUMÁTICA | B18: ='Insumos (3)'!C60 -> Un | C18: 1 | D18: ='Insumos (3)'!D60 -> 313308 | E18: =ROUND(C18*D18, 2) -> 313308
A19: ='Insumos (3)'!B87 -> PALA REDONDA CON CABO | B19: ='Insumos (3)'!C87 -> Un | C19: 1 | D19: ='Insumos (3)'!D87 -> 34845 | E19: =ROUND(C19*D19, 2) -> 34845
A20: ='Insumos (3)'!B53 -> BALDE CONSTRUCCIÓN | B20: ='Insumos (3)'!C53 -> Un | C20: 2 | D20: ='Insumos (3)'!D53 -> 6265 | E20: =ROUND(C20*D20, 2) -> 12530
D21: Subtotal = | E21: =SUM(E18:E20) -> 360683
D23: VR UNITARIO = | E23: =ROUND(SUM(E17:E21)/2, 0) -> 360683
A26: CARRETA BUGGIE, PALA, ZAPAPICO | E26: UNIDAD: Un
A27: DESCRIPCIÓN | B27: UNIDAD | C27: CANT/ REND | D27: PRECIO UNITARIO | E27: VR PARCIAL
A28: EQUIPO y HERRAMIENTAS:
A29: ='Insumos (3)'!B60 -> CARRETA LLANTA NEUMÁTICA | B29: ='Insumos (3)'!C60 -> Un | C29: 1 | D29: ='Insumos (3)'!D60 -> 313308 | E29: =ROUND(C29*D29, 2) -> 313308
A30: ='Insumos (3)'!B87 -> PALA REDONDA CON CABO | B30: ='Insumos (3)'!C87 -> Un | C30: 1 | D30: ='Insumos (3)'!D87 -> 34845 | E30: =ROUND(C30*D30, 2) -> 34845
A31: ='Insumos (3)'!B98 -> ZAPAPICO | B31: ='Insumos (3)'!C98 -> Un | C31: 1 | D31: ='Insumos (3)'!D98 -> 60215 | E31: =ROUND(C31*D31, 2) -> 60215
D32: Subtotal = | E32: =SUM(E29:E31) -> 408368
D34: VR UNITARIO = | E34: =ROUND(SUM(E28:E32)/2, 0) -> 408368
A37: HERRAMIENTAS PARA ALBAÑIL | E37: UNIDAD: Un
A38: DESCRIPCIÓN | B38: UNIDAD | C38: CANT/ REND | D38: PRECIO UNITARIO | E38: VR PARCIAL
A39: EQUIPO y HERRAMIENTAS:
A40: ='Insumos (3)'!B51 -> ALMADANA 4 lb | B40: ='Insumos (3)'!C51 -> Un | C40: 1 | D40: ='Insumos (3)'!D51 -> 49789 | E40: =ROUND(C40*D40, 2) -> 49789
A41: ='Insumos (3)'!B62 -> CINCEL 3/4" ACERO TEMPLADO | B41: ='Insumos (3)'!C62 -> Un | C41: 1 | D41: ='Insumos (3)'!D62 -> 30778 | E41: =ROUND(C41*D41, 2) -> 30778
A42: ='Insumos (3)'!B88 -> PALUSTRE | B42: ='Insumos (3)'!C88 -> Un | C42: 1 | D42: ='Insumos (3)'!D88 -> 14352 | E42: =ROUND(C42*D42, 2) -> 14352
A43: ='Insumos (3)'!B63 -> CINTA MÉTRICA x 5 m | B43: ='Insumos (3)'!C63 -> Un | C43: 1 | D43: ='Insumos (3)'!D63 -> 19547 | E43: =ROUND(C43*D43, 2) -> 19547
A44: ='Insumos (3)'!B85 -> NIVEL DE BURBUJA | B44: ='Insumos (3)'!C85 -> Un | C44: 1 | D44: ='Insumos (3)'!D85 -> 45275 | E44: =ROUND(C44*D44, 2) -> 45275
A45: ='Insumos (3)'!B77 -> MANGUERA DE NIVEL x 10 m | B45: ='Insumos (3)'!C77 -> Un | C45: 1 | D45: ='Insumos (3)'!D77 -> 5037 | E45: =ROUND(C45*D45, 2) -> 5037
A46: ='Insumos (3)'!B91 -> PLOMADA | B46: ='Insumos (3)'!C91 -> Un | C46: 1 | D46: ='Insumos (3)'!D91 -> 19048 | E46: =ROUND(C46*D46, 2) -> 19048
A47: ='Insumos (3)'!B81 -> MARCO SEGUETA FIJO | B47: ='Insumos (3)'!C81 -> Un | C47: 1 | D47: ='Insumos (3)'!D81 -> 30470 | E47: =ROUND(C47*D47, 2) -> 30470
A48: ='Insumos (3)'!B95 -> SERRUCHO | B48: ='Insumos (3)'!C95 -> Un | C48: 1 | D48: ='Insumos (3)'!D95 -> 38288 | E48: =ROUND(C48*D48, 2) -> 38288
A49: ='Insumos (3)'!B82 -> MARTILLO | B49: ='Insumos (3)'!C82 -> Un | C49: 1 | D49: ='Insumos (3)'!D82 -> 35658 | E49: =ROUND(C49*D49, 2) -> 35658
A50: ='Insumos (3)'!B75 -> LIMA PLANA PARA USO GENERAL CON MANGO 8" | B50: ='Insumos (3)'!C75 -> Un | C50: 1 | D50: ='Insumos (3)'!D75 -> 22886 | E50: =ROUND(C50*D50, 2) -> 22886
D51: Subtotal = | E51: =SUM(E40:E50) -> 311128
...

Sheet Insumos (3)
A3: MATERIALES, EQUIPO y HERRAMIENTAS, JORNALES
B4: DESCRIPCIÓN | C4: UNIDAD | D4: PRECIO UNITARIO
B5: ÁCIDO MURIÁTICO | C5: Gal | D5: 18168
B6: ACPM | C6: Gal | D6: 9700
B7: AGUA | C7: Lt | D7: 70
B8: ARENA | D8: 99404
B9: BASE GRANULAR | C9: m3 | D9: 130484
B10: BLOQUE CEMENTO ½ 10x20x20 cm | C10: Un | D10: 1867
B11: BLOQUE CEMENTO 10x20x40 cm | C11: Un | D11: 3114
B12: BOLSAS PLÁSTICAS | C12: Un | D12: 2800
B13: BORDILLO PREFABRICADO 80x20x35 | C13: Un | D13: 55105
B14: BOTAS DE SEGURIDAD | C14: Par | D14: 95658
B15: CAMISA DE TRABAJO | C15: Un | D15: 23485
B16: CASCO DE SEGURIDAD | C16: Un | D16: 36743
B17: CEMENTO GRIS | C17: Kg | D17: 699
B18: CHALECO REFLECTIVO | C18: Un | D18: 30353
B19: CINTA DE ENMASCARAR 1" | C19: m | D19: 179
B20: CINTA DE SEÑALIZACIÓN a=7 cm | C20: m | D20: 174
... B109: TARIFA ESCOMBRERA AUTORIZADA | C109: m3 | D109: 4343

Sheet G_Obra (3)
A3: GENERADORES DE OBRA
A4: 1.01 Excavación en tierra seca h= 0-2 m incluye cargue y retiro | I4: UNIDAD: m3
A5: OBSERVACIONES | B5: NIVEL | C5: EJE | D5: TRAMO | E5: TIPO | F5: LARGO | G5: ANCHO | H5: ALTO | I5: PIEZAS | J5: CANTIDAD
I6: 2.1 | J6: =I6 -> 2.1
I8: TOTAL = | J8: =ROUND(SUM(J6:J6),2) -> 2.1
A11: 2.01 Demolición manual de andén en concreto | I11: UNIDAD: m2
A12: OBSERVACIONES | B12: NIVEL | C12: EJE | D12: TRAMO | E12: TIPO | F12: LARGO | G12: ANCHO | H12: ALTO | I12: PIEZAS | J12: CANTIDAD
I13: 30 | J13: =I13 -> 30
I15: TOTAL = | J15: =ROUND(SUM(J13:J13),2) -> 30
A18: 2.02 Cargue manual y retiro de escombros en volqueta | I18: UNIDAD: m3
A19: OBSERVACIONES | B19: NIVEL | C19: EJE | D19: TRAMO | E19: TIPO | F19: LARGO | G19: ANCHO | H19: ALTO | I19: PIEZAS | J19: CANTIDAD
I20: 4 | J20: =I20 -> 4
I22: TOTAL = | J22: =ROUND(SUM(J20:J20),2) -> 4
A25: 3.01 Banca en concreto prefabricada L= 1.40 m | I25: UNIDAD: Un
A26: OBSERVACIONES | B26: NIVEL | C26: EJE | D26: TRAMO | E26: TIPO | F26: LARGO | G26: ANCHO | H26: ALTO | I26: PIEZAS | J26: CANTIDAD
I27: 2 | J27: =I27 -> 2
I29: TOTAL = | J29: =ROUND(SUM(J27:J27),2) -> 2
A32: 3.02 Base granular tipo Invías | I32: UNIDAD: m3
A33: OBSERVACIONES | B33: NIVEL | C33: EJE | D33: TRAMO | E33: TIPO | F33: LARGO | G33: ANCHO | H33: ALTO | I33: PIEZAS | J33: CANTIDAD
I34: 6 | J34: =I34 -> 6
I36: TOTAL = | J36: =ROUND(SUM(J34:J34),2) -> 6
A39: 3.03 Andén en concreto de 20.7 MPa e= 0.10 m | I39: UNIDAD: m2
A40: OBSERVACIONES | B40: NIVEL | C40: EJE | D40: TRAMO | E40: TIPO | F40: LARGO | G40: ANCHO | H40: ALTO | I40: PIEZAS | J40: CANTIDAD
I41: 30 | J41: =I41 -> 30
I43: TOTAL = | J43: =ROUND(SUM(J41:J41),2) -> 30
A46: 3.04 Solado en concreto de 17.2 MPa | I46: UNIDAD: m3
A47: OBSERVACIONES | B47: NIVEL | C47: EJE | D47: TRAMO | E47: TIPO | F47: LARGO | G47: ANCHO | H47: ALTO | I47: PIEZAS | J47: CANTIDAD
G48: 42 | H48: 0.05 | I48: 0.15 | J48: =ROUND(G48*H48*I48,2) -> 0.32
I50: TOTAL = | J50: =ROUND(SUM(J48:J48),2) -> 0.32
A53: 3.05 Bordillo prefabricado en concreto | I53: UNIDAD: m
A54: OBSERVACIONES | B54: NIVEL | C54: EJE | D54: TRAMO | E54: TIPO | F54: LARGO | G54: ANCHO | H54: ALTO | I54: PIEZAS | J54: CANTIDAD
F55: 30 | J55: =F55 -> 30
I57: TOTAL = | J57: =ROUND(SUM(J55:J55),2) -> 30
A60: 4.01 Muro en ladrillo rayado e= 10 cm | I60: UNIDAD: m2
A61: OBSERVACIONES | B61: NIVEL | C61: EJE | D61: TRAMO | E61: TIPO | F61: LARGO | G61: ANCHO | H61: ALTO | I61: PIEZAS | J61: CANTIDAD
F62: 20 | H62: 0.6 | J62: =ROUND(F62*H62,2) -> 12
F63: 22 | H63: 0.6 | J63: =ROUND(F63*H63,2) -> 13.2
I65: TOTAL = | J65: =ROUND(SUM(J62:J63),2) -> 25.2
A68: 4.02 Pañete muro exterior (incl. filos y dilataciones) | I68: UNIDAD: m2
A69: OBSERVACIONES | B69: NIVEL | C69: EJE | D69: TRAMO | E69: TIPO | F69: LARGO | G69: ANCHO | H69: ALTO | I69: PIEZAS | J69: CANTIDAD
...

Sheet CALLE 16 
B1: CALLE 16
B3: FORMULARIO DE CANTIDADES Y PRESUPUESTO DE OBRA
B4: ÍTEM | C4: DESCRIPCIÓN | D4: UNIDAD | E4: CANTIDAD | F4: VR UNITARIO | G4: VR PARCIAL
B5: 1 | C5: EXCAVACION | G5: =SUM(G6:G7) -> 2378120
B6: 1.01 | C6: Excavación en tierra seca h= 0-2 m | D6: m3 | E6: ='G_Obra (4)'!J8 -> 23.1 | F6: ='Costos_Directos (4)'!E17 -> 35020 | G6: =ROUND(E6*F6, 0) -> 808962
B7: 1.02 | C7: Cargue manual y retiro de tierra | D7: m3 | E7: ='G_Obra (4)'!J15 -> 30.03 | F7: ='Costos_Directos (4)'!E36 -> 52253 | G7: =ROUND(E7*F7, 0) -> 1569158
B9: 2 | C9: ESTRUCTURAS EN CONCRETO | G9: =SUM(G10:G15) -> 27981823
B10: 2.01 | C10: Banca en concreto prefabricada | D10: Un | E10: ='G_Obra (4)'!J22 -> 3 | F10: ='Costos_Directos (4)'!E54 -> 1826800 | G10: =ROUND(E10*F10, 0) -> 5480400
B11: 2.02 | C11: Base granular tipo Invías | D11: m3 | E11: 11.477847 | F11: ='Costos_Directos (4)'!E79 -> 240243 | G11: =ROUND(E11*F11, 0) -> 2757472
B12: 2.03 | C12: Andén en concreto de 20.7 MPa e= 0.10 m | D12: m2 | E12: ='G_Obra (4)'!J36 -> 115.5 | F12: ='Costos_Directos (4)'!E98 -> 86866 | G12: =ROUND(E12*F12, 0) -> 10033023
B13: 2.04 | C13: Bordillo prefabricado en concreto | D13: m | E13: ='G_Obra (4)'!J43 -> 77 | F13: ='Costos_Directos (4)'!E119 -> 97044 | G13: =ROUND(E13*F13, 0) -> 7472388
B14: 2.05 | C14: Loseta táctil guía 6x20x20 cm | D14: m | E14: ='G_Obra (4)'!J50 -> 77 | F14: ='Costos_Directos (4)'!E140 -> 24334 | G14: =ROUND(E14*F14, 0) -> 1873718
B15: 2.06 | C15: Loseta táctil alerta 6x20x20 cm | D15: m2 | E15: ='G_Obra (4)'!J57 -> 2.4 | F15: ='Costos_Directos (4)'!E161 -> 152009 | G15: =ROUND(E15*F15, 0) -> 364822
B17: 3 | C17: JARDINERAS EN ADOBE REVOCADO Y PINTURA | G17: =SUM(G18:G19) -> 1110000
B18: 3.01 | C18: sumnistro y siembra de flores | D18: Un | E18: 110 | F18: ='Costos_Directos (4)'!E181 -> 7500 | G18: =ROUND(E18*F18, 0) -> 825000
B19: 3.02 | C19: sumnistro y siembra de guayacan 1,50 | D19: Un | E19: ='G_Obra (4)'!J71 -> 3 | F19: ='Costos_Directos (4)'!E201 -> 95000 | G19: =ROUND(E19*F19, 0) -> 285000
B21: 4 | C21: OBRAS VARIAS | G21: =SUM(G22:G22) -> 3363242
B22: 4.01 | C22: Basurero para mascotas, incluye bolsas | D22: Un | E22: ='G_Obra (4)'!J78 -> 1 | F22: ='Costos_Directos (4)'!E221 -> 3363242 | G22: =ROUND(E22*F22, 0) -> 3363242
C24: TOTAL COSTOS DIRECTOS = | G24: =SUM(G5:G23)/2 -> 34833185
C25: ADMINISTRACIÓN (25%) = | G25: =ROUND(G24*25/100, 0) -> 8708296
C26: UTILIDAD (5%) = | G26: =ROUND(G24*5/100, 0) -> 1741659
C27: VALOR TOTAL = | G27: =SUM(G24:G26) -> 45283140
C28: HONORARIOS EMDUCE 5% | G28: =G27*0.05 -> 2264157
C29: IVA HONORARIOS | G29: =G28*0.19 -> 430189.83
C30: TOTAL DEL PROYECTO | G30: =G27+G28+G29 -> 47977487

Sheet Costos_Directos (4)
A3: ANÁLISIS DE PRECIOS UNITARIOS
A4: 1.01 Excavación en tierra seca h= 0-2 m | E4: UNIDAD: m3
A5: DESCRIPCIÓN | B5: UNIDAD | C5: CANT/ REND | D5: PRECIO UNITARIO | E5: VR PARCIAL
A6: MATERIALES:
A7: ='Insumos (4)'!B16 -> CINTA DE SEÑALIZACIÓN a=7 cm | B7: ='Insumos (4)'!C16 -> m | C7: 1 | D7: ='Insumos (4)'!D16 -> 174 | E7: =ROUND(C7*D7, 2) -> 174
A8: POSTE DE SEÑALIZACIÓN EN MADERA PINTADO + MUERTO EN CONCRETO | B8: Un | C8: 0.05 | D8: ='Subproductos (4)'!E298 -> 22381 | E8: =ROUND(C8*D8, 2) -> 1119.05
D9: Subtotal = | E9: =SUM(E7:E8) -> 1293.05
A10: EQUIPO y HERRAMIENTAS:
A11: CARRETA BUGGIE, PALA, ZAPAPICO | B11: Un | C11: 0.0012 | D11: ='Subproductos (4)'!E23 -> 408368 | E11: =ROUND(C11*D11, 2) -> 490.04
D12: Subtotal = | E12: =SUM(E11:E11) -> 490.04
A13: MANO de OBRA:
A14: CUADRILLA 1 OF + 2 AY | B14: Día | C14: 0.1204 | D14: ='Subproductos (4)'!E153 -> 276056 | E14: =ROUND(C14*D14, 2) -> 33237.14
D15: Subtotal = | E15: =SUM(E14:E14) -> 33237.14
D17: VR COSTO DIRECTO = | E17: =ROUND(SUM(E6:E15)/2, 0) -> 35020
A20: 1.02 Cargue manual y retiro de tierra | E20: UNIDAD: m3
A21: DESCRIPCIÓN | B21: UNIDAD | C21: CANT/ REND | D21: PRECIO UNITARIO | E21: VR PARCIAL
A22: EQUIPO y HERRAMIENTAS:
A23: ='Insumos (4)'!B59 -> PALA REDONDA CON CABO | B23: ='Insumos (4)'!C59 -> Un | C23: 0.0009 | D23: ='Insumos (4)'!D59 -> 34845 | E23: =ROUND(C23*D23, 2) -> 31.36
A24: ='Insumos (4)'!B48 -> CONO PVC CON CINTA REFLECTIVA | B24: ='Insumos (4)'!C48 -> Un | C24: 0.0004 | D24: ='Insumos (4)'!D48 -> 66996 | E24: =ROUND(C24*D24, 2) -> 26.8
D25: Subtotal = | E25: =SUM(E23:E24) -> 58.16
A26: TRANSPORTES:
A27: ='Insumos (4)'!B70 -> VOLQUETA 7 m3 | B27: ='Insumos (4)'!C70 -> Hr | C27: 0.4708 | D27: ='Insumos (4)'!D70 -> 86532 | E27: =ROUND(C27*D27, 2) -> 40739.27
D28: Subtotal = | E28: =SUM(E27:E27) -> 40739.27
A29: MANO de OBRA:
A30: CUADRILLA 2 Ay | B30: Día | C30: 0.0438 | D30: ='Subproductos (4)'!E182 -> 162390 | E30: =ROUND(C30*D30, 2) -> 7112.68
D31: Subtotal = | E31: =SUM(E30:E30) -> 7112.68
A32: OTROS:
A33: ='Insumos (4)'!B75 -> TARIFA ESCOMBRERA AUTORIZADA | B33: ='Insumos (4)'!C75 -> m3 | C33: 1 | D33: ='Insumos (4)'!D75 -> 4343 | E33: =ROUND(C33*D33, 2) -> 4343
D34: Subtotal = | E34: =SUM(E33:E33) -> 4343
D36: VR COSTO DIRECTO = | E36: =ROUND(SUM(E22:E34)/2, 0) -> 52253
A39: 2.01 Banca en concreto prefabricada | E39: UNIDAD: Un
A40: DESCRIPCIÓN | B40: UNIDAD | C40: CANT/ REND | D40: PRECIO UNITARIO | E40: VR PARCIAL
A41: MATERIALES:
A42: ='Insumos (4)'!B35 -> BANCA EN CONCRETO PREFABRICADA | B42: ='Insumos (4)'!C35 -> Un | C42: 1 | D42: ='Insumos (4)'!D35 -> 1775000 | E42: =ROUND(C42*D42, 2) -> 1775000
D43: Subtotal = | E43: =SUM(E42:E42) -> 1775000
A44: EQUIPO y HERRAMIENTAS:
A45: HERRAMIENTA MENOR % | B45: %MO | C45: 2 | D45: =E52 -> 30593.18 | E45: =ROUND(C45*D45/100, 2) -> 611.86
D46: Subtotal = | E46: =SUM(E45:E45) -> 611.86
A47: TRANSPORTES:
A48: ='Insumos (4)'!B68 -> CAMIÓN PLATAFORMA 10 Ton | B48: ='Insumos (4)'!C68 -> Hr | C48: 0.2 | D48: ='Insumos (4)'!D68 -> 102975 | E48: =ROUND(C48*D48, 2) -> 20595
...

Sheet Subproductos (4)
A3: ANÁLISIS DE PRECIOS UNITARIOS - SUBPRODUCTOS
A4: CARRETA BUGGIE, PALA, BALDES | E4: UNIDAD: Un
A5: DESCRIPCIÓN | B5: UNIDAD | C5: CANT/ REND | D5: PRECIO UNITARIO | E5: VR PARCIAL
A6: EQUIPO y HERRAMIENTAS:
A7: ='Insumos (4)'!B42 -> CARRETA LLANTA NEUMÁTICA | B7: ='Insumos (4)'!C42 -> Un | C7: 1 | D7: ='Insumos (4)'!D42 -> 313308 | E7: =ROUND(C7*D7, 2) -> 313308
A8: ='Insumos (4)'!B59 -> PALA REDONDA CON CABO | B8: ='Insumos (4)'!C59 -> Un | C8: 1 | D8: ='Insumos (4)'!D59 -> 34845 | E8: =ROUND(C8*D8, 2) -> 34845
A9: ='Insumos (4)'!B39 -> BALDE CONSTRUCCIÓN | B9: ='Insumos (4)'!C39 -> Un | C9: 2 | D9: ='Insumos (4)'!D39 -> 6265 | E9: =ROUND(C9*D9, 2) -> 12530
D10: Subtotal = | E10: =SUM(E7:E9) -> 360683
D12: VR UNITARIO = | E12: =ROUND(SUM(E6:E10)/2, 0) -> 360683
A15: CARRETA BUGGIE, PALA, ZAPAPICO | E15: UNIDAD: Un
A16: DESCRIPCIÓN | B16: UNIDAD | C16: CANT/ REND | D16: PRECIO UNITARIO | E16: VR PARCIAL
A17: EQUIPO y HERRAMIENTAS:
A18: ='Insumos (4)'!B42 -> CARRETA LLANTA NEUMÁTICA | B18: ='Insumos (4)'!C42 -> Un | C18: 1 | D18: ='Insumos (4)'!D42 -> 313308 | E18: =ROUND(C18*D18, 2) -> 313308
A19: ='Insumos (4)'!B59 -> PALA REDONDA CON CABO | B19: ='Insumos (4)'!C59 -> Un | C19: 1 | D19: ='Insumos (4)'!D59 -> 34845 | E19: =ROUND(C19*D19, 2) -> 34845
A20: ='Insumos (4)'!B66 -> ZAPAPICO | B20: ='Insumos (4)'!C66 -> Un | C20: 1 | D20: ='Insumos (4)'!D66 -> 60215 | E20: =ROUND(C20*D20, 2) -> 60215
D21: Subtotal = | E21: =SUM(E18:E20) -> 408368
D23: VR UNITARIO = | E23: =ROUND(SUM(E17:E21)/2, 0) -> 408368
A26: HERRAMIENTAS PARA ALBAÑIL | E26: UNIDAD: Un
A27: DESCRIPCIÓN | B27: UNIDAD | C27: CANT/ REND | D27: PRECIO UNITARIO | E27: VR PARCIAL
A28: EQUIPO y HERRAMIENTAS:
A29: ='Insumos (4)'!B38 -> ALMADANA 4 lb | B29: ='Insumos (4)'!C38 -> Un | C29: 1 | D29: ='Insumos (4)'!D38 -> 49789 | E29: =ROUND(C29*D29, 2) -> 49789
A30: ='Insumos (4)'!B44 -> CINCEL 3/4" ACERO TEMPLADO | B30: ='Insumos (4)'!C44 -> Un | C30: 1 | D30: ='Insumos (4)'!D44 -> 30778 | E30: =ROUND(C30*D30, 2) -> 30778
A31: ='Insumos (4)'!B60 -> PALUSTRE | B31: ='Insumos (4)'!C60 -> Un | C31: 1 | D31: ='Insumos (4)'!D60 -> 14352 | E31: =ROUND(C31*D31, 2) -> 14352
A32: ='Insumos (4)'!B45 -> CINTA MÉTRICA x 5 m | B32: ='Insumos (4)'!C45 -> Un | C32: 1 | D32: ='Insumos (4)'!D45 -> 19547 | E32: =ROUND(C32*D32, 2) -> 19547
A33: ='Insumos (4)'!B57 -> NIVEL DE BURBUJA | B33: ='Insumos (4)'!C57 -> Un | C33: 1 | D33: ='Insumos (4)'!D57 -> 45275 | E33: =ROUND(C33*D33, 2) -> 45275
A34: ='Insumos (4)'!B52 -> MANGUERA DE NIVEL x 10 m | B34: ='Insumos (4)'!C52 -> Un | C34: 1 | D34: ='Insumos (4)'!D52 -> 5037 | E34: =ROUND(C34*D34, 2) -> 5037
A35: ='Insumos (4)'!B61 -> PLOMADA | B35: ='Insumos (4)'!C61 -> Un | C35: 1 | D35: ='Insumos (4)'!D61 -> 19048 | E35: =ROUND(C35*D35, 2) -> 19048
A36: ='Insumos (4)'!B54 -> MARCO SEGUETA FIJO | B36: ='Insumos (4)'!C54 -> Un | C36: 1 | D36: ='Insumos (4)'!D54 -> 30470 | E36: =ROUND(C36*D36, 2) -> 30470
A37: ='Insumos (4)'!B64 -> SERRUCHO | B37: ='Insumos (4)'!C64 -> Un | C37: 1 | D37: ='Insumos (4)'!D64 -> 38288 | E37: =ROUND(C37*D37, 2) -> 38288
A38: ='Insumos (4)'!B55 -> MARTILLO | B38: ='Insumos (4)'!C55 -> Un | C38: 1 | D38: ='Insumos (4)'!D55 -> 35658 | E38: =ROUND(C38*D38, 2) -> 35658
A39: ='Insumos (4)'!B51 -> LIMA PLANA PARA USO GENERAL CON MANGO 8" | B39: ='Insumos (4)'!C51 -> Un | C39: 1 | D39: ='Insumos (4)'!D51 -> 22886 | E39: =ROUND(C39*D39, 2) -> 22886
D40: Subtotal = | E40: =SUM(E29:E39) -> 311128
D42: VR UNITARIO = | E42: =ROUND(SUM(E28:E40)/2, 0) -> 311128
A45: DOTACIÓN LABORAL | E45: UNIDAD: Un
A46: DESCRIPCIÓN | B46: UNIDAD | C46: CANT/ REND | D46: PRECIO UNITARIO | E46: VR PARCIAL
A47: VESTIDO:
A48: ='Insumos (4)'!B26 -> PANTALÓN DE TRABAJO | B48: ='Insumos (4)'!C26 -> Un | C48: 1 | D48: ='Insumos (4)'!D26 -> 54013 | E48: =ROUND(C48*D48, 2) -> 54013
A49: ='Insumos (4)'!B12 -> CAMISA DE TRABAJO | B49: ='Insumos (4)'!C12 -> Un | C49: 1 | D49: ='Insumos (4)'!D12 -> 23485 | E49: =ROUND(C49*D49, 2) -> 23485
D50: Subtotal = | E50: =SUM(E48:E49) -> 77498
A51: ZAPATOS:
...

Sheet Insumos (4)
A3: MATERIALES, EQUIPO y HERRAMIENTAS, JORNALES
B4: DESCRIPCIÓN | C4: UNIDAD | D4: PRECIO UNITARIO
B5: ACPM | C5: Gal | D5: 9700
B6: AGUA | C6: Lt | D6: 70
B7: ARENA | C7: m3 | D7: 99404
B8: BASE GRANULAR | C8: m3 | D8: 130484
B9: BOLSAS PLÁSTICAS | C9: Un | D9: 2800
B10: BORDILLO PREFABRICADO 80x20x35 | C10: Un | D10: 55105
B11: BOTAS DE SEGURIDAD | C11: Par | D11: 95658
B12: CAMISA DE TRABAJO | C12: Un | D12: 23485
B13: CASCO DE SEGURIDAD | C13: Un | D13: 36743
B14: CEMENTO GRIS | C14: Kg | D14: 699
B15: CHALECO REFLECTIVO | C15: Un | D15: 30353
B16: CINTA DE SEÑALIZACIÓN a=7 cm | C16: m | D16: 174
... B75: TARIFA ESCOMBRERA AUTORIZADA | C75: m3 | D75: 4343

Sheet G_Obra (4)
A3: GENERADORES DE OBRA
A4: 1.01 Excavación en tierra seca h= 0-2 m | I4: UNIDAD: m3
A5: OBSERVACIONES | B5: NIVEL | C5: EJE | D5: TRAMO | E5: TIPO | F5: LARGO | G5: ANCHO | H5: ALTO | I5: PIEZAS | J5: CANTIDAD
I6: 23.1 | J6: =I6 -> 23.1
I8: TOTAL = | J8: =ROUND(SUM(J6:J6),2) -> 23.1
A11: 1.02 Cargue manual y retiro de tierra | I11: UNIDAD: m3
A12: OBSERVACIONES | B12: NIVEL | C12: EJE | D12: TRAMO | E12: TIPO | F12: LARGO | G12: ANCHO | H12: ALTO | I12: PIEZAS | J12: CANTIDAD
I13: 30.03 | J13: =I13 -> 30.03
I15: TOTAL = | J15: =ROUND(SUM(J13:J13),2) -> 30.03
A18: 2.01 Banca en concreto prefabricada | I18: UNIDAD: Un
A19: OBSERVACIONES | B19: NIVEL | C19: EJE | D19: TRAMO | E19: TIPO | F19: LARGO | G19: ANCHO | H19: ALTO | I19: PIEZAS | J19: CANTIDAD
I20: 3 | J20: =I20 -> 3
I22: TOTAL = | J22: =ROUND(SUM(J20:J20),2) -> 3
A25: 2.02 Base granular tipo Invías | I25: UNIDAD: m3
A26: OBSERVACIONES | B26: NIVEL | C26: EJE | D26: TRAMO | E26: TIPO | F26: LARGO | G26: ANCHO | H26: ALTO | I26: PIEZAS | J26: CANTIDAD
I27: 11.5 | J27: =I27 -> 11.5
I29: TOTAL = | J29: =ROUND(SUM(J27:J27),2) -> 11.5
A32: 2.03 Andén en concreto de 20.7 MPa e= 0.10 m | I32: UNIDAD: m2
A33: OBSERVACIONES | B33: NIVEL | C33: EJE | D33: TRAMO | E33: TIPO | F33: LARGO | G33: ANCHO | H33: ALTO | I33: PIEZAS | J33: CANTIDAD
I34: 115.5 | J34: =I34 -> 115.5
I36: TOTAL = | J36: =ROUND(SUM(J34:J34),2) -> 115.5
A39: 2.04 Bordillo prefabricado en concreto | I39: UNIDAD: m
A40: OBSERVACIONES | B40: NIVEL | C40: EJE | D40: TRAMO | E40: TIPO | F40: LARGO | G40: ANCHO | H40: ALTO | I40: PIEZAS | J40: CANTIDAD
F41: 77 | J41: =F41 -> 77
I43: TOTAL = | J43: =ROUND(SUM(J41:J41),2) -> 77
A46: 2.05 Loseta táctil guía 6x20x20 cm | I46: UNIDAD: m
A47: OBSERVACIONES | B47: NIVEL | C47: EJE | D47: TRAMO | E47: TIPO | F47: LARGO | G47: ANCHO | H47: ALTO | I47: PIEZAS | J47: CANTIDAD
F48: 77 | J48: =F48 -> 77
I50: TOTAL = | J50: =ROUND(SUM(J48:J48),2) -> 77
A53: 2.06 Loseta táctil alerta 6x20x20 cm | I53: UNIDAD: m2
A54: OBSERVACIONES | B54: NIVEL | C54: EJE | D54: TRAMO | E54: TIPO | F54: LARGO | G54: ANCHO | H54: ALTO | I54: PIEZAS | J54: CANTIDAD
I55: 2.4 | J55: =I55 -> 2.4
I57: TOTAL = | J57: =ROUND(SUM(J55:J55),2) -> 2.4
A60: 3.01 sumnistro y siembra de flores | I60: UNIDAD: Un
A61: OBSERVACIONES | B61: NIVEL | C61: EJE | D61: TRAMO | E61: TIPO | F61: LARGO | G61: ANCHO | H61: ALTO | I61: PIEZAS | J61: CANTIDAD
I62: 300 | J62: =I62 -> 300
I64: TOTAL = | J64: =ROUND(SUM(J62:J62),2) -> 300
A67: 3.02 sumnistro y siembra de guayacan 1,50 | I67: UNIDAD: Un
A68: OBSERVACIONES | B68: NIVEL | C68: EJE | D68: TRAMO | E68: TIPO | F68: LARGO | G68: ANCHO | H68: ALTO | I68: PIEZAS | J68: CANTIDAD
I69: 3 | J69: =I69 -> 3
...

Sheet Administracion
A2: LA CEJA DEL TAMBO
A3: COSTOS DE ADMINISTRACIÓN
A4: ÍTEM | B4: DESCRIPCIÓN | C4: UNIDAD | D4: CANTIDAD | E4: VR UNITARIO | F4: VR PARCIAL | G4: VALOR 6 PARQUES | H4: RENDIMIENTO REAL 6 PARQUES | I4: VALOR REAL 6 PARQUES | J4: RENDIMINETO REAL POR PARQUE | K4: VALOR REAL POR PARQUE | L4: COMPARATIVA POR PARQUE
A5: 1 | B5: PERSONAL CONTRATACION DIRECTA | F5: =SUM(F6:F8) -> 6675000 | G5: =F5*6 -> 40050000 | I5: =SUM(I6:I8) -> 18700000 | K5: =I5/6 -> 3116666.7 | L5: =K5/F5 -> 0.46691635
A6: 1.01 | B6: INGENIERO DIRECTOR DE OBRA (Incl. prestaciones) | C6: Mes | D6: 0.25 | E6: 4700000 | F6: =+D6*E6 -> 1175000 | G6: =F6*6 -> 7050000 | H6: 1 | I6: =H6*E6 -> 4700000 | J6: =H6/6 -> 0.16666667 | K6: =J6*E6 -> 783333.33 | L6: =K6/F6 -> 0.66666667
A7: 1.02 | B7: INGENIERO RESIDENTE (Incl. prestaciones) | C7: Mes | D7: 1 | E7: 3000000 | F7: =+D7*E7 -> 3000000 | G7: =F7*6 -> 18000000 | H7: 3 | I7: =H7*E7 -> 9000000 | J7: =H7/6 -> 0.5 | K7: =J7*E7 -> 1500000 | L7: =K7/F7 -> 0.5
A8: 1.03 | B8: TECNÓLOGO SISO (Incl. prestaciones) | C8: Mes | D8: 1 | E8: 2500000 | F8: =+D8*E8 -> 2500000 | G8: =F8*6 -> 15000000 | H8: 2 | I8: =H8*E8 -> 5000000 | J8: =H8/6 -> 0.33333333 | K8: =J8*E8 -> 833333.33 | L8: =K8/F8 -> 0.33333333
G9: =F9*6 -> 0 | I9: 0 | K9: =J9*E9 -> 0
A10: 2 | B10: GASTOS DE DESPLAZAMIENTO PERSONAL PROFESIONAL T TECNICO | F10: =SUM(F11) -> 0 | G10: =F10*6 -> 0 | I10: =SUM(I11) -> 0 | K10: =I10/6 -> 0
A11: 2.01 | B11: Transporte terrestre para personal profesional y técnico | C11: Mes | D11: 0 | F11: =+D11*E11 -> 0 | G11: =F11*6 -> 0 | H11: 0 | I11: 0 | J11: =H11/6 -> 0 | K11: =J11*E11 -> 0
G12: =F12*6 -> 0 | I12: 0 | K12: =J12*E12 -> 0
A13: 3 | B13: INTALACIONES PROVISIONALES | F13: =SUM(F14:F16) -> 600000 | G13: =F13*6 -> 3600000 | I13: =SUM(I14:I16) -> 1200000 | K13: =I13/6 -> 200000 | L13: =K13/F13 -> 0.33333333
A14: 3.01 | B14: Bodega de almacenamiento cemento, patio de materiales de playa, planta de mezclas, acopio acero y demás adecuaciones provisionales para el perfecto funcionamiento de la obra | C14: Mes | D14: 0 | F14: =+D14*E14 -> 0 | G14: =F14*6 -> 0 | H14: 0 | I14: =H14*E14 -> 0 | J14: =H14/6 -> 0 | K14: =J14*E14 -> 0
A15: 3.02 | B15: Almacén de materiales, oficinas (incluye redes de servicios públicos y demás estructuras y servicios para su perfecto funcionamiento) | C15: Mes | D15: 1 | E15: 500000 | F15: =+D15*E15 -> 500000 | G15: =F15*6 -> 3000000 | H15: 2 | I15: =H15*E15 -> 1000000 | J15: =H15/6 -> 0.33333333 | K15: =J15*E15 -> 166666.67 | L15: =K15/F15 -> 0.33333333
A16: 3.03 | B16: Servicios públicos y provisionales | C16: Mes | D16: 1 | E16: 100000 | F16: =+D16*E16 -> 100000 | G16: =F16*6 -> 600000 | H16: 2 | I16: =H16*E16 -> 200000 | J16: =H16/6 -> 0.33333333 | K16: =J16*E16 -> 33333.333 | L16: =K16/F16 -> 0.33333333
G17: =F17*6 -> 0 | I17: =H17*E17 -> 0 | K17: =J17*E17 -> 0
A18: 4 | B18: PAPELERIA Y EQUIPOS DE OFICINA | F18: =SUM(F19:F19) -> 150000 | G18: =F18*6 -> 900000 | I18: =SUM(I19:I19) -> 150000 | K18: =I18/6 -> 25000 | L18: =K18/F18 -> 0.16666667
A19: 4.01 | B19: Alquiler de equipo de oficina, incluye muebles y enseres, computador, impresora, fax | C19: Mes | D19: 1 | E19: 150000 | F19: =+D19*E19 -> 150000 | G19: =F19*6 -> 900000 | H19: 1 | I19: =H19*E19 -> 150000 | J19: =H19/6 -> 0.16666667 | K19: =J19*E19 -> 25000 | L19: =K19/F19 -> 0.16666667
G20: =F20*6 -> 0 | I20: =H20*E20 -> 0 | K20: =J20*E20 -> 0
A21: 5 | B21: LABORATORIO | F21: =SUM(F22) -> 0 | G21: =F21*6 -> 0 | I21: =SUM(I22) -> 0 | K21: =I21/6 -> 0
A22: 5.01 | B22: Ensayos de laboratorio (incluye diseño de mezclas para concreto, fallo de cilindros de concreto, ensayo de proctor modificado, toma de densidades de campo, ensayos de resistencia al acero de refuerzo y estructuras metálicas) | C22: Mes | D22: 0 | F22: =+D22*E22 -> 0 | G22: =F22*6 -> 0 | H22: 0 | I22: =H22*E22 -> 0 | J22: =H22/6 -> 0 | K22: =J22*E22 -> 0
G23: =F23*6 -> 0 | I23: =H23*E23 -> 0 | K23: =J23*E23 -> 0
