Workbook
Name PRINT_AREA_MI: #N/A
Name PRINT_TITLES_MI: #N/A

Sheet LISTAS
A1: listas
B3: SI
B4: NO

Sheet CONDICIONES GENERALES
C3: OBJETO: “REALIZAR EL SEGUIMIENTO A LA ESTABILIDAD Y CALIDAD DE LAS OBRAS DE INFRAESTRUCTURA EJECUTADAS CON RECURSOS DE LA ALCALDIA LOCAL DE PUENTE ARANDA QUE CUENTAN CON PÓLIZAS DE ESTABILIDAD VIGENTES, EN CUMPLIMIENTO DEL NUMERAL 4°, ARTÍCULO 4° DE LA LEY 80 DE 1993” | N3: Cada contrato debe cumplir con alguno de estos códigos 81102600-84111600-92101800-95111500-95111600-95121700-95121900
C5: Experiencia en contratos, que incluyan actividades de las siguientes dos(2) opciones: | O5: PLAZO EJEC. | P5: 6 MESES
C6: EXPERIENCIA GENERAL | O6: PRESUPUESTO | P6: 208629929
C7: 1. INTERVENTORÍA PARA OBRAS DE INFRAESTRUCTURA 2. CONTRATOS PARA LA REVISIÓN O DIAGNÓSTICO DE ESTABILIDAD O CALIDAD DE OBRAS DE INFRAESTRUCTURA
C8: Nota1: Al menos uno de los contratos presentados deberá contener en su objeto el desarrollo de interventoría para obras de infraestructura. Nota 2. Los contratos del numeral 2 para que sean válidos, deberán referirse en su objeto a revisiones periódicas de la estabilidad y calidad de las obras a que se refiere el artículo 4º, numeral 4º, de la Ley 80 de 1993, es decir revisiones periódicas y posteriores a la liquidación de los contratos con el fin de revisar la calidad o estabilidad de las obras. No serán válidos contratos que se refieran a la revisión de estabilidad de taludes o algún otro elemento natural ya que estos no son obras de infraestructura sino elementos naturales no construidos. Tampoco se aceptarán contratos de prestación de servicios ya que está labor es un servicio técnico y, por lo tanto, debe contratarse por concurso de méritos y dar como resultado un contrato de consultoría. Tampoco se valdrán contratos cuyo objeto sea parcialmente la revisión de estabilidad de obras ya que no sería factible que se calculara cuál sería el valor de sólo esta labor técnica.
C10: EXPERIENCIA ESPECÍFICA
C11: 1. Al menos uno de los contratos presentados deberá contener en su objeto el desarrollo de interventoría para obras de infraestructura.
C13: NÚMERO DE CONTRATOS: MINIMO 1 MAXIMO 6 : Si el proponente acredita cumplir con los criterios para considerarse emprendimiento y empresa de mujeres y microempresa, de acuerdo a los criterios de los artículos Artículo 2.2.1.2.4.2.14 a 2.2.1.2.4.2.18 del Decreto 1082 de 2015, adicionados por el artículo 3 del Decreto 1860 del 24 de diciembre de 2021
C14: MINIMO 1 MAXIMO 4: Si el proponente acredita cumplir con los criterios para considerarse emprendimiento y empresa de mujeres o microempresa, de acuerdo a los criterios de los artículos Artículo 2.2.1.2.4.2.14 a 2.2.1.2.4.2.18 del Decreto 1082 de 2015, adicionados por el artículo 3 del Decreto 1860 del 24 de diciembre de 2021. MINIMO 1 MAXIMO 2: Si el proponente no acredita cumplir con los criterios para considerarse emprendimiento y empresa de mujeres ni microempresa, de acuerdo a los criterios de los artículos Artículo 2.2.1.2.4.2.14 a 2.2.1.2.4.2.18 del Decreto 1082 de 2015, adicionados por el artículo 3 del Decreto 1860 del 24 de diciembre de 2021
C15: CONDICIÓN 1: La experiencia a la que se refiere este numeral podrá ser validada mediantelos documentos establecidos en este documento señalados en el numeral 5.1.4.1.6
C16: CONDICIÓN 2: Los contratos aportados para efectos de acreditación de la experiencia requerida deben estar clasificados en alguno de los siguientes códigos. 81102600-84111600-92101800-95111500-95111600-95121700-95121900
C18: CONDICIÓN 4: I. Para el caso de Consorcios o Uniones Temporales, se tendrá en cuenta la experiencia sumada de sus integrantes. conforme a las siguientes reglas: En todo caso uno de los integrantes deberá tener una participación igual o superior al 50% en el Consorcio o Unión Temporal que se conforme. Cada uno de los integrantes deberá acreditar: a) experiencia en SMMLV igual o mayor al 20% del presupuesto oficial respectivo en SMMLV con los contratos que éste integrante aporte y b) una participación igual o superior al 20% en el consorcio o unión temporal que se conforme. El integrante que tenga el mayor porcentaje de participación (igual o superior al 50%) deberá acreditar mínimo el 50% de experiencia referida al presupuesto oficial y en caso de Unión Temporal deberá estar incluido como ejecutor de las actividades para las cuales presentó la experiencia solicitada. Sin embargo, sólo uno de los integrantes podrá no aportar experiencia, para lo cual deberá tener un máximo de diez por ciento (10%) de participación
C19: Q. Teniendo en cuenta que la experiencia es ponderable los documentos que la soportan no deben dar lugar a interpretaciones, deben ser claros, ya que no son susceptibles de subsanación, ni aclaración ni adición y por lo tanto si estos no cumplen la oferta será RECHAZADA.
C20: CONDICIÓN 5: H. Cuando el contrato que se aporte para la experiencia haya sido ejecutado por un Consorcio o por una Unión Temporal, y dos (2) o más de sus integrantes conformen un Proponente Plural para participar en el presente proceso, dicho contrato se entenderá aportado como un (1) solo contrato y se tendrá en cuenta para el aporte de la experiencia la sumatoria de los porcentajes de los integrantes del Consorcio o de la Unión Temporal que ejecutaron el contrato y que están participando en el Proceso de Contratación, siempre y cuando en el “Formato 3 – Experiencia” se indique qué integrantes y porcentajes de participación se ofrecen como experiencia.
C26: EXPERIENCIA DEL PROPONENTE
... C43: En observancia al Decreto 1860 de 2021 que reglamenta la Ley 2069 de 2020, se otorgará un puntaje adicional de hasta el cero punto veinticinco por ciento (0.25%) del valor total de los puntos establecidos en los pliegos de condiciones, es decir 0.25 puntos a los proponentes que acrediten las siguientes clasificaciones empresariales de acuerdo a los criterios de clasificación empresarial definidos en el artículo 2.2.1.13.2.2 del Decreto 1074 de 2015

Sheet LISTA DE OFERENTES
A1: FONDO DE DESARROLLO LOCAL DE PUENTE ARANDA
A2: FDLPA-CMA-025-2024
A3: No. | B3: NOMBRE DEL OFERENTE | C3: REPRESENTANTE LEGAL | E3: TIPO DE OFERENTE | F3: OFERENTE PLURAL
F4: Número de Integrantes | G4: INTEGRANTE 1 | I4: INTEGRANTE 2
C5: NOMBRE COMPLETO | D5: C.C. | G5: Nombre Completo | H5: % Participación | I5: Nombre Completo | J5: % Participación
A6: 1 | B6: SOLUCIONES PARA LA INGENIERÍA S.A.S. | C6: Iván Augusto Barreto Esquivel | D6: 79688270 | E6: Persona Juridica
A7: 2 | B7: AHLA SHUGL INTERNATIONAL SAS | C7: NAYDU LISBETH LOPEZ OROZCO | D7: 52792687 | E7: Persona Juridica
A8: 3 | B8: CONSORCIO APIN 2024. | C8: Edwin Alexander Palacios Vargas | D8: 7183596 | E8: Consorcio | F8: 2 | G8: Iconproyectos SAS | H8: 0.5 | I8: App Control Ingeniería SAS | J8: 0.5 | Q8: Persona Natural
Q9: Persona Juridica
Q10: Consorcio
A372: =+'LISTA DE OFERENTES'!'LISTA DE OFERENTES'!B35

Sheet EVALUACION TÉC
A1: FONDO DE DESARROLLO LOCAL DE PUENTE ARANDA
A2: FDLPA-CMA-025-2025
A3: REQUISITOS HABILITANTES TÉCNICOS | Q3: CUMPLE
Q4: NO CUMPLE
A8: 1 | E8: =+VLOOKUP(A8,'LISTA DE OFERENTES'!$A$6:$B$8,2,TRUE) -> SOLUCIONES PARA LA INGENIERÍA S.A.S.
A9: NÚMERO DE CONTRATOS PRESENTADOS | B9: =COUNTIF(M16:M20,"CUMPLE") -> 4 | C9: PRESUPUESTO OFICIAL EN SMMLV | D9: =+$E$63 -> 160.48456
A10: VALOR MÍNIMO A CERTIFICAR | C10: 1 | D10: =+D9*C10 -> 160.48456
A11: TERMINO DE EJECUCION EXIGIDO | C11: 45638
A12: TOTAL SALARIOS MINIMOS ACREDITADOS | C12: =+IF(H21>=D10,"CUMPLE","NO CUMPLE") -> CUMPLE
A13: CONDICIONES DE EXPERIENCIA | I13: CONDICION N°. 1 (VER TABLA AL FINAL DE LA HOJA) | J13: CONDICION N°. 2 (VER TABLA AL FINAL DE LA HOJA) | K13: CONDICION N°. 4 (VER TABLA AL FINAL DE LA HOJA) | M13: ACTIVIDAD PRINCIPAL EXPERIENCIA GENERAL: 1. INTERVENTORIA OBRAS INFRA. Ó 2. CONTRATOS DE REVISION DE ESTABILIDAD DE OBRA | N13: ACTIVIDAD ESPECÍFICA PRIMERA: MIN 1 CONTRATO DEMOSTRAR EN SU OBJETO INTERVENTORIA A OBRAS DE INFRAESTRUCTURA | O13: Observación y respuesta a observaciones
A14: Objeto del Contrato | B14: Entidad Contratante | D14: Valor Contrato | E14: Año de ejecución aportado | F14: Valor del Contrato en SMMLV | G14: Participación UT/CONSORCIO | H14: Participación en SMMLV | I14: Fecha de terminación del contrato aportado | J14: CODIGO UNSPSC SEGMENTOS 81102600-84111600-92101800-95111500-95111600-95121700-95121900 | K14: PROPONENTE QUE APORTA EL 50% SMMLV (80,24) | L14: Valor aportado
A15: =+'LISTA DE OFERENTES'!B6 -> SOLUCIONES PARA LA INGENIERÍA S.A.S. | K15: =+A15 -> SOLUCIONES PARA LA INGENIERÍA S.A.S.
A16: INTERVENTORÍA TÉCNICA, ADMINISTRATIVA, FINANCIERA Y AMBIENTAL PARA (i) RECONSTRUCCIÓN INFRAESTRUCTURA VIAL Y CONSTRUCCIÓN RED ALCANTARILLADO PLUVIAL, CALLE 14 ENTRE CARRERA 5a Y VIA PIEDEMONTE INTERSECCIÓN UBAMUX, Y CONSTRUCCIÓN INFRAESTRUCTURA VIAL CALLE 16 ENTRE CARRERAS 2ª Y Sª, (ii) CONSTRUCCIÓN INFRAESTRUCTURA VIAL CALLE 7a. A ENTRE CARRERAS 2a. Y 2B (PROYECTADA), REPARCHEO INTEGRAL VÍAS URBANAS, (iii) CONSTRUCCIÓN DE LA INFRAESTRUCTURA VIAL SECTOR EL RESBALÓN - K0+206, VEREDA PARCELAS, MUNICIPIO DE COTA (CUNDINAMARCA) - CONVENIO No. 335 GOBERNACIÓN DE CUNDINAMARCA, MUNICIPIO DE COTA CUNDINAMARCA | B16: ALCALDÍA DE COTA | D16: 443928845 | E16: 2013 | F16: =D16/(VLOOKUP(E16,$D$88:$E$121,2,FALSE)) -> 753.05996 | G16: 0.5 | H16: =G16*F16 -> 376.52998 | I16: 45173 | J16: CUMPLE | L16: =IF(M16="CUMPLE",H16,"0") -> 376.52998 | M16: CUMPLE | N16: CUMPLE
A17: INTERVENTORÍA TÉCNICA, ADMINISTRATIVA, FINANCIERA, JURIDICA, AMBIENTAL Y SOCIAL DEL PROYECTO, CUYO OBJETO ES "REALIZAR LAS ACTIVIDADES A MONTO AGOTABLE PARA LA CONSERVACIÓN DE LA MALLA VÍAL RURAL LOCAL DE USME DE LA CIUDAD DE BOGOTÁ D.C." | B17: FONDO DE DESARROLLO LOCAL DE USME | D17: 669811162 | E17: 2019 | F17: =D17/(VLOOKUP(E17,$D$88:$E$121,2,FALSE)) -> 808.83736 | G17: 1 | H17: =G17*F17 -> 808.83736 | I17: 43797 | J17: CUMPLE | L17: =IF(M17="CUMPLE",H17,"0") -> 808.83736 | M17: CUMPLE | N17: CUMPLE
A18: REALIZAR LA INTERVENTORÍA TÉCNICA, ADMINISTRATIVA, LEGAL, FINANCIERA, SOCIAL, AMBIENTAL Y DE SEGURIDAD Y SALUD EN EL TRABAJO (SST), DEL CONTRATO DE OBRA PÚBLICA QUE TIENE POR OBJETO: “CONTRATAR LAS OBRAS Y ACTIVIDADES PARA LA CONSERVACION DE LA MALLA VIAL Y ESPACIO PUBLICO DE LA LOCALIDAD DE RAFAEL URIBE URIBE A PRECIOS UNITARIOS FIJOS Y MONTO AGOTABLE” DERIVADO DEL PROCESO DE LA LICITACION PUBLICA No. FDLRUU-LP-196-2018 | B18: FONDO DE DESARROLLO LOCAL DE RAFAEL URIBE URIBE | D18: 1.0803027e+09 | E18: 2020 | F18: =D18/(VLOOKUP(E18,$D$88:$E$121,2,FALSE)) -> 1230.6892 | G18: 0.8 | H18: =G18*F18 -> 984.55137 | I18: 44078 | J18: CUMPLE | L18: =IF(M18="CUMPLE",H18,"0") -> 984.55137 | M18: CUMPLE | N18: CUMPLE
A19: NTERVENTORÍA A LA EJECUCIÓN DE LAS ACTIVIDADES Y OBRAS REQUERIDAS PARA LA CONSERVACIÓN DE LA MALLA VIAL ARTERIAL NO TRONCAL, EN LA CIUDAD DE BOGOTÁ, D.C. – GRUPO 4”.”. | B19: INSTITUTO DE DESARROLLO URBANO - IDU | D19: 2714489288 | E19: 2022 | F19: =D19/(VLOOKUP(E19,$D$88:$E$121,2,FALSE)) -> 2714.4893 | G19: 0.5 | H19: =G19*F19 -> 1357.2446 | I19: 44740 | J19: CUMPLE | L19: =IF(M19="CUMPLE",H19,"0") -> 1357.2446 | M19: CUMPLE | N19: CUMPLE
A21: TOTALES | H21: =+SUMIF(M16:M20,"cumple",H16:H20) -> 3527.1634 | I21: PROMEDIO CONTRATOS VALIDOS APORTADOS | L21: =+SUM(L16:L19) -> 3527.1634 | O21: CUMPLE
A23: 2 | E23: =+VLOOKUP(A23,'LISTA DE OFERENTES'!$A$6:$B$8,2,TRUE) -> AHLA SHUGL INTERNATIONAL SAS
A24: NÚMERO DE CONTRATOS PRESENTADOS | B24: =COUNTIF(M31:M36,"CUMPLE") -> 4 | C24: PRESUPUESTO OFICIAL EN SMMLV | D24: =+$E$63 -> 160.48456
A25: VALOR MÍNIMO A CERTIFICAR | C25: 1 | D25: =+D24*C25 -> 160.48456
A26: TERMINO DE EJECUCION EXIGIDO | C26: 45638
A27: TOTAL SALARIOS MINIMOS ACREDITADOS | C27: =+IF(H37>=D25,"CUMPLE","NO CUMPLE") -> NO CUMPLE
A28: CONDICIONES DE EXPERIENCIA | I28: CONDICION N°. 1 (VER TABLA AL FINAL DE LA HOJA) | J28: CONDICION N°. 2 (VER TABLA AL FINAL DE LA HOJA) | K28: CONDICION N°. 4 (VER TABLA AL FINAL DE LA HOJA) | M28: ACTIVIDAD PRINCIPAL EXPERIENCIA GENERAL: 1. INTERVENTORIA OBRAS INFRA. Ó 2. CONTRATOS DE REVISION DE ESTABILIDAD DE OBRA | N28: ACTIVIDAD ESPECÍFICA PRIMERA: MIN 1 CONTRATO DEMOSTRAR EN SU OBJETO INTERVENTORIA A OBRAS DE INFRAESTRUCTURA | O28: Observación y respuesta a observaciones
A29: Objeto del Contrato | B29: Entidad Contratante | D29: Valor Contrato | E29: Año de ejecución aportado | F29: Valor del Contrato en SMMLV | G29: Participación UT/CONSORCIO | H29: Participación en SMMLV | I29: Fecha de terminación del contrato aportado | J29: CODIGO UNSPSC SEGMENTOS 81102600-84111600-92101800-95111500-95111600-95121700-95121900 | K29: PROPONENTE QUE APORTA EL 50% SMMLV (80,24) | L29: Valor aportado
A30: =+'LISTA DE OFERENTES'!B7 -> AHLA SHUGL INTERNATIONAL SAS | K30: =+A30 -> AHLA SHUGL INTERNATIONAL SAS
A31: INTERVENTORÍA TÉCNICA, VIGILANCIA ADMINISTRATIVA, AMBIENTAL FINANCIERA, CONTABLE Y JURÍDICA PARA CONTRATO CUYO OBJETO ES: CONSTRUCCION DE ANDENES, MANTENIMIENTO Y PAVIMENTACIÓN DE LA CARRERA 4 DESDE LA CALLE 7 HASTA EL CONJUNTO RESIDENCIAL TERRAZAS DE CAJICÁ Y LAS VÍAS INTERNAS DEL BARRIO LA ESPERANZA DEL MUNICIPIO DE CAJICÁ DEPARTAMENTO DE CUNDINAMARCA | B31: ALCALDIA MUNICIPIO DE CAJICA | D31: 182070000 | E31: 2019 | F31: =D31/(VLOOKUP(E31,$D$88:$E$121,2,FALSE)) -> 219.8605 | G31: 0.4 | H31: =G31*F31 -> 87.944201 | I31: 43785 | J31: CUMPLE | L31: =IF(M31="CUMPLE",H31,"0") -> 87.944201 | M31: CUMPLE | N31: CUMPLE
A32: Concurso de méritos para escoger un consultor que verifique la estabilidad y calidad de las obras de infraestructura ejecutadas con recursos del fondo de desarrollo local de san cristobal y que cuenten con póliza de estabilidad vigente” | B32: FONDO DE DESARROLLO LOCAL DE SAN CRISTOBAL | D32: 290000000 | E32: 2017 | F32: =D32/(VLOOKUP(E32,$D$88:$E$121,2,FALSE)) -> 393.10467 | G32: 1 | H32: =G32*F32 -> 393.10467 | I32: 42823 | J32: CUMPLE | L32: =IF(M32="CUMPLE",H32,"0") -> 393.10467 | M32: CUMPLE | N32: CUMPLE
A33: EXPERIENCIA ADICIONAL | L33: =+SUM(L31:L32) -> 481.04887
A34: Interventoría técnica, administrativa, financiera, contable, jurídica, social, ambiental y siso para el contrato de diagnóstico y mejoramiento preventivo y rutinario del subsistema vial local y espacio público de la localidad de Fontibón, Bogotá D.C., durante el plazo de ejecución, del contrato de obra que resulte del proceso licitatorio no. fdlf-lp-027-2014 o el que haga sus veces, que tiene por objeto “contratar por el sistema de precios unitarios fijos sin formula de ajuste, el | B34: FONDO DE DESARROLLO LOCAL DE FONTIBON | D34: 466200000 | E34: 2016 | F34: =D34/(VLOOKUP(E34,$D$88:$E$121,2,FALSE)) -> 676.18626 | G34: 0.5 | H34: =G34*F34 -> 338.09313 | I34: 42514 | J34: CUMPLE | L34: =IF(M34="CUMPLE",H34,"0") -> 338.09313 | M34: CUMPLE | N34: CUMPLE
A35: “Realizar el seguimiento a la estabilidad de las obras realizadas con recursos de la alcaldía local de ciudad bolívar que cuentan con pólizas de estabilidad vigentes en cumplimiento del numeral 4º del artículo 4º de ley 80 de 1993”. | B35: FONDO DE DESARROLLO LOCAL DE CIUDAD BOLIVAR | D35: 259733094 | E35: 2017 | F35: =D35/(VLOOKUP(E35,$D$88:$E$121,2,FALSE)) -> 352.07687 | G35: 0.25 | H35: =G35*F35 -> 88.019218 | I35: 42993 | J35: CUMPLE | L35: =IF(M35="CUMPLE",H35,"0") -> 88.019218 | M35: CUMPLE | N35: CUMPLE
A37: TOTALES | I37: PROMEDIO CONTRATOS VALIDOS APORTADOS | L37: =+SUM(L34:L35) -> 426.11235 | O37: CUMPLE
A39: 3 | E39: =+VLOOKUP(A39,'LISTA DE OFERENTES'!$A$6:$B$8,2,TRUE) -> CONSORCIO APIN 2024.
A40: NÚMERO DE CONTRATOS PRESENTADOS | B40: =COUNTIF(M47:M56,"CUMPLE") -> 3 | C40: PRESUPUESTO OFICIAL EN SMMLV | D40: =+$E$63 -> 160.48456
A41: VALOR MÍNIMO A CERTIFICAR | C41: 1 | D41: =+D40*C41 -> 160.48456
A42: TERMINO DE EJECUCION EXIGIDO | C42: 45638
A43: TOTAL SALARIOS MINIMOS ACREDITADOS | C43: =+IF(H57>=D41,"CUMPLE","NO CUMPLE") -> NO CUMPLE
A44: CONDICIONES DE EXPERIENCIA | I44: CONDICION N°. 1 (VER TABLA AL FINAL DE LA HOJA) | J44: CONDICION N°. 2 (VER TABLA AL FINAL DE LA HOJA) | K44: CONDICION N°. 4 (VER TABLA AL FINAL DE LA HOJA) | M44: ACTIVIDAD PRINCIPAL EXPERIENCIA GENERAL: 1. INTERVENTORIA OBRAS INFRA. Ó 2. CONTRATOS DE REVISION DE ESTABILIDAD DE OBRA | N44: ACTIVIDAD ESPECÍFICA PRIMERA: MIN 1 CONTRATO DEMOSTRAR EN SU OBJETO INTERVENTORIA A OBRAS DE INFRAESTRUCTURA | O44: Observación y respuesta a observaciones
A45: Objeto del Contrato | B45: Entidad Contratante | D45: Valor Contrato | E45: Año de ejecución aportado | F45: Valor del Contrato en SMMLV | G45: Participación UT/CONSORCIO | H45: Participación en SMMLV | I45: Fecha de terminación del contrato aportado | J45: CODIGO UNSPSC SEGMENTOS 81102600-84111600-92101800-95111500-95111600-95121700-95121900 | K45: PROPONENTE QUE APORTA EL 50% SMMLV (80,24) | L45: Valor aportado
A46: =+'LISTA DE OFERENTES'!G8 -> Iconproyectos SAS | K46: =+A51 -> App Control Ingeniería SAS
A47: Prestacion de servicios profesionales como ingneniero especialista en geotecnia vial y pavimentos contrato interadministrativo No. 394 de 2011: Obras de atencion de sitios criticos via la shell arbelaez-san bernardo , en el departamento de cundinamarca | B47: Universidad Nacional de Colombia | D47: 10400000 | E47: 2012 | F47: =D47/(VLOOKUP(E47,$D$88:$E$121,2,FALSE)) -> 18.351862 | G47: 1 | H47: =G47*F47 -> 18.351862 | I47: 41022 | J47: CUMPLE | L47: =IF(M47="CUMPLE",H47,"0") -> 0 | M47: NO CUMPLE | N47: NO CUMPLE | O47: La certificacion no hace referencia a: 1. La Nota 1 del numeral 4.4 REQUISITOS TÉCNICOS HABILITANTES del subcaptiulo INFORMACIÓN SOBRE LA EXPERIENCIA PONDERABLE DEL PROPONENTE. Pagina 26 del documento PLIEGO DE CONDICIONES DEFINITIVO FDLPA-CMA-025-2024 2.La Nota 2 ubicada en la referencia anterior, dice asi "... Tampoco se aceptarán contratos de prestación de servicios ya que está labor es un servicio técnico y, por lo tanto, debe contratarse por concurso de méritos y dar como resultado un contrato de consultoría. Revisando los certificados expuestos por el integrante ICONPROYECTOS SAS, en los mismos contiene en sus objetos prestacion de servicios profesionales.
...

Sheet F. PONDERABLES
A1: FONDO DE DESARROLLO LOCAL DE PUENTE ARANDA
A2: FDLPA-CMA-025-2025
A3: FACTORES PONDERABLES
A8: PROPONENTES | C8: FACTOR 1.- PONDERACION POR PORCENTAJES QUE REPRESENTAN LAS Σ DE LOS VALORES EN SMMLV DE LOS CONTRATOS DE EXPERIENCIA VALIDOS (73,5 PTS) | D8: FACTOR 2.- CANTIDAD DE SMMLV QUE REPRESENTAN EL PROMEDIO DE LOS CONTRATOS VALIDOS PARA ACREDITAR EXPERIENCIA (5 PTS) | E8: EXPERIENCIA ADICIONAL DEL PERSONAL CLAVE ( 10 PTS) | F8: PUNTAJE ADICIONAL PERSONAL CON DISCAPACIDAD (1 PT) | G8: PROTECCION A LA INDUSTRIA NACIONAL (10 PTS) | H8: EMPRENDIMIENTO DE MUJERES (0,25 PTS) | I8: MY PIME (0,25PTS) | J8: PUNTAJE TOTAL | K8: OBSERVACIONES
A9: 1 | B9: =+'LISTA DE OFERENTES'!B6 -> SOLUCIONES PARA LA INGENIERÍA S.A.S. | C9: 0 | D9: 0 | E9: 10 | F9: 1 | G9: 10 | H9: 0.25 | I9: 0.25 | J9: =+SUM(D9:I9) -> 21.5
A10: 2 | B10: =+'LISTA DE OFERENTES'!B7 -> AHLA SHUGL INTERNATIONAL SAS | C10: 73.5 | D10: 5 | E10: 10 | F10: 1 | G10: 10 | H10: 0.25 | I10: 0.25 | J10: =+SUM(C10:I10) -> 100
A11: 3 | B11: =+'LISTA DE OFERENTES'!B8 -> CONSORCIO APIN 2024. | C11: 0 | D11: 0 | E11: 10 | F11: 1 | G11: 10 | H11: 0.25 | I11: 0.25 | J11: =+SUM(D11:I11) -> 21.5

Sheet RESUMEN CALIFICACION FINAL
A1: FONDO DE DESARROLLO LOCAL DE PUENTE ARANDA
A2: FDLPA-CMA-025-2025
A3: RESUMEN DE CALIFICACION REQUISITOS HABILITANTES
A4: =+'CONDICIONES GENERALES'!C3 -> OBJETO: “REALIZAR EL SEGUIMIENTO A LA ESTABILIDAD Y CALIDAD DE LAS OBRAS DE INFRAESTRUCTURA EJECUTADAS CON RECURSOS DE LA ALCALDIA LOCAL DE PUENTE ARANDA QUE CUENTAN CON PÓLIZAS DE ESTABILIDAD VIGENTES, EN CUMPLIMIENTO DEL NUMERAL 4°, ARTÍCULO 4° DE LA LEY 80 DE 1993”
A6: No. | B6: Nombre de Oferente : | C6: INDICES FINANCIEROS | D6: CAPACIDAD JURIDICA | E6: EVALUACION TECNICA | F6: CUMPLE / NO CUMPLE
A7: 1 | B7: =+'LISTA DE OFERENTES'!B6 -> SOLUCIONES PARA LA INGENIERÍA S.A.S. | C7: CUMPLE | D7: HABILITADO | E7: CUMPLE | F7: HABILITADO
A8: 2 | B8: =+'LISTA DE OFERENTES'!B7 -> AHLA SHUGL INTERNATIONAL SAS | C8: CUMPLE | D8: HABILITADO | E8: CUMPLE | F8: HABILITADO
A9: 3 | B9: =+'LISTA DE OFERENTES'!B8 -> CONSORCIO APIN 2024. | C9: N/A | D9: NO HABILITADO | E9: NO CUMPLE | F9: SUBSANAR

Sheet PUNTAJE EXPERIENCIA
A1: FONDO DE DESARROLLO LOCAL DE PUENTE ARANDA
A2: FDLPA-CMA-025-2025
A3: 4.1 FORMA DE VERIFICACIÓN Y ASIGNACIÓN DE PUNTAJE POR LA EXPERIENCIA DEL PROPONENTE
A5: TRM DEL_____________
A7: No. | B7: FACTORES PONDERABLES / PUNTAJE FINAL
A8: =+'LISTA DE OFERENTES'!A6 -> 1 | B8: =+'LISTA DE OFERENTES'!B6 -> SOLUCIONES PARA LA INGENIERÍA S.A.S.
A9: =+'LISTA DE OFERENTES'!A7 -> 2 | B9: =+'LISTA DE OFERENTES'!B7 -> AHLA SHUGL INTERNATIONAL SAS
A10: =+'LISTA DE OFERENTES'!A8 -> 3 | B10: =+'LISTA DE OFERENTES'!B8 -> CONSORCIO APIN 2024.
