Workbook

Sheet Proponentes
A1: Imagen | B1: INFORME DE EVALUACIÓN TÉCNICA
B2: STM- LICITACIÓN PÚBLICA Nº STM-LP-286-2024
B3: OBJETO:IMPLEMENTAR INTERVENCIONES EN INFRAESTRUCTURA VIAL PARA MEJORAR LAS CONDICIONES DE SEGURIDAD VIAL Y MITIGAR RIESGOS EN PUNTOS CRÍTICOS PRIORIZADOS A CARGO DEL DEPARTAMENTO DE CUNDINAMARCA”
B5: EVALUACIÓN TECNICA LICITACIÓN PÚBLICA No. :
A7: PRESUPUESTO OFICIAL: | B7: 4000000000 | C7: VALOR DEL SMMLV DEL AÑO 2023: | D7: 1300000
A8: LOTE: | B8: 1 | C8: VALOR PRESUPUESTO OFICIAL EN SMMLV: | D8: =B7/D7 -> 3076.9231
A10: ITEM | B10: NOMBRE PROPONENTE | C10: NIT | D10: CÓDIGO
A11: 1 | B11: Unión Temporal Elite 2024 | D11: P1
A12: 2 | B12: Consorcio Señalizar GP | D12: P2
A13: 3 | B13: CREA SAS | D13: P3
A14: 4 | B14: UT Cundinamarca Segura | D14: P4
A15: 5 | B15: PINTUVIAL SAS | C15: 900.011.073-1 | D15: P5
A16: 6 | B16: SEGURIDAD Y SERVICIOS SEÑALIZACIÓN S.A. | C16: 802.017.424 - 3 | D16: P6
A17: 7 | B17: SOCINTER S.A. | C17: 860.530.652.6 | D17: P7
A18: 8 | B18: UT TRACKVIAL | D18: P8
A19: 9 | B19: CONSORCIO VIAL COMPROT 2024 | D19: P9
A20: 10 | B20: FREESTONE CONSTRUCCIONES S.A.S. | C20: 900.147.262-1 | D20: P10
A21: 11 | B21: NSP DE COLOMBIA S.A.S. | D21: P11
A22: 12 | B22: INGENIEROS CIVILES EN TRAFICO, TRANSPORTE Y VIAS - ICOVIAS S.A.S. | C22: 830.128.149-0 | D22: P12
A23: 13 | B23: JAVIER FERNANDO BASTIDAS CAMPAÑA | C23: 87711553 | D23: P13
A24: 14 | B24: CONSORCIO MS. | D24: P14
A25: 15 | B25: CONSORCIO WIGV SEÑALIZADORES | D25: P15
A26: 16 | B26: CONSORCIO SUPER AC2R 2024 | D26: P16
A27: 17 | B27: CONSORCIO VIAL CUNDINAMARCA 286 | D27: P17
A28: 18 | B28: UNIÓN TEMPORAL VSDM | D28: P18
A29: 19 | B29: CONSORCIO SEGURIVIAL SM | D29: P19
A30: 20 | B30: UNIÓN TEMPORAL INSEAN CUNDINAMARCA 2024 | D30: P20
A31: 21 | B31: CONSORCIO CUNDINAMARCA VIAL. | D31: P21
A32: 22 | B32: CONSORCIO INGENIO VIAL | D32: P22
A33: 23 | B33: CONSORCIO SEGUVIAL 2RI | D33: P23
A34: 24 | B34: SEÑAL VÍAS SAS | D34: P24
A35: 25 | B35: CONSORCIO GEPAV-TPD. | D35: P25
A36: 26 | B36: CONSORCIO SANTIAGO | D36: P26
A37: 27 | D37: P27
A38: 28 | D38: P28
A39: 29 | D39: P29
A40: 30 | D40: P30

Sheet Eva. Técnica
A1: #VALUE! | C1: INFORME DE EVALUACIÓN TÉCNICA
C2: STM- LICITACIÓN PÚBLICA Nº STM-LP-286-2024
C3: OBJETO:IMPLEMENTAR INTERVENCIONES EN INFRAESTRUCTURA VIAL PARA MEJORAR LAS CONDICIONES DE SEGURIDAD VIAL Y MITIGAR RIESGOS EN PUNTOS CRÍTICOS PRIORIZADOS A CARGO DEL DEPARTAMENTO DE CUNDINAMARCA”
C5: EVALUACIÓN TECNICA LICITACIÓN PÚBLICA No. :
A7: PRESUPUESTO OFICIAL: | G7: 4000000000 | J7: VALOR DEL SMMLV DEL AÑO 2023: | L7: 1300000
A8: LOTE: | G8: 1 | J8: VALOR PRESUPUESTO OFICIAL EN SMMLV: | L8: =G7/L7 -> 3076.9231
M9: Lote 1 y 2 | N9: Lote 1 y 2 | O9: Lote 1 y 2 | P9: Lote 1 y 2 | Q9: Lote 1 y 2 | R9: Lote 1 y 2 | S9: Lote 1 y 2 | T9: Lote 1 y 2 | U9: Lote 1 y 2 | V9: Lote 1 y 2 | W9: Lote 1 y 2 | X9: Lote 1 y 2 | Y9: LOTE 1 - 2 | Z9: LOTE 1 - 2 | AA9: LOTE 1 - 2 | AB9: LOTE 1 - 2 | AC9: LOTE 1 - 2 | AD9: LOTE 1 - 2 | AE9: LOTE 1 - 2 | AF9: LOTE 1 - 2 | AG9: LOTE 1 - 2 | AH9: LOTE 1 - 2 | AI9: LOTE 1 - 2 | AJ9: LOTE 1 - 2 | AK9: LOTE 1 - 2
A10: ITEM | B10: CRITERIO A EVALUAR | L10: P1 | M10: P2 | N10: P3 | O10: P4 | P10: P5 | Q10: P6 | R10: P7 | S10: P8 | T10: P9 | U10: P10 | V10: P11 | W10: P12 | X10: P13 | Y10: P14 | Z10: P15 | AA10: P16 | AB10: P17 | AC10: P18 | AD10: P19 | AE10: P20 | AF10: P21 | AG10: P22 | AH10: P23 | AI10: P24 | AJ10: P25 | AK10: P26 | AL10: P27 | AM10: P28 | AN10: P29 | AO10: P30
A11: 3.5. | B11: EXPERIENCIA | L11: =Proponentes!B11 -> Unión Temporal Elite 2024 | M11: =Proponentes!B12 -> Consorcio Señalizar GP | N11: =Proponentes!B13 -> CREA SAS | O11: =Proponentes!B14 -> UT Cundinamarca Segura | P11: =Proponentes!B15 -> PINTUVIAL SAS | Q11: =Proponentes!B16 -> SEGURIDAD Y SERVICIOS SEÑALIZACIÓN S.A. | R11: =Proponentes!B17 -> SOCINTER S.A. | S11: =Proponentes!B18 -> UT TRACKVIAL | T11: =Proponentes!B19 -> CONSORCIO VIAL COMPROT 2024 | U11: =Proponentes!B20 -> FREESTONE CONSTRUCCIONES S.A.S. | V11: =Proponentes!B21 -> NSP DE COLOMBIA S.A.S. | W11: =Proponentes!B22 -> INGENIEROS CIVILES EN TRAFICO, TRANSPORTE Y VIAS - ICOVIAS S.A.S. | X11: =Proponentes!B23 -> JAVIER FERNANDO BASTIDAS CAMPAÑA | Y11: 14 | Z11: CONSORCIO WIGV SEÑALIZADORES | AA11: CONSORCIO SUPER AC2R 2024 | AB11: CONSORCIO VIAL CUNDINAMARCA 286 | AC11: 18 | AD11: CONSORCIO SEGURIVIAL SM | AE11: UNIÓN TEMPORAL INSEAN CUNDINAMARCA 2024 | AF11: CONSORCIO CUNDINAMARCA VIAL. | AG11: CONSORCIO INGENIO VIAL | AH11: CONSORCIO SEGUVIAL 2RI | AI11: SEÑAL VÍAS SAS | AJ11: CONSORCIO GEPAV-TPD. | AK11: CONSORCIO SANTIAGO | AL11: =Proponentes!B37 -> 0 | AM11: =Proponentes!B38 -> 0 | AN11: =Proponentes!B39 -> 0 | AO11: =Proponentes!B40 -> 0
A12: 3.5.2 | B12: CARACTERÍSTICAS DE LOS CONTRATOS PRESENTADOS PARA ACREDITAR LA EXPERIENCIA EXIGIDA Los contratos para acreditar la experiencia exigida deberán cumplir las siguientes características: | L12: CUMPLE - NO CUMPLE - N/A | M12: CUMPLE - NO CUMPLE - N/A | N12: CUMPLE - NO CUMPLE - N/A | O12: CUMPLE - NO CUMPLE - N/A | P12: CUMPLE - NO CUMPLE - N/A | Q12: CUMPLE - NO CUMPLE - N/A | R12: CUMPLE - NO CUMPLE - N/A | S12: CUMPLE - NO CUMPLE - N/A | T12: CUMPLE - NO CUMPLE - N/A | U12: CUMPLE - NO CUMPLE - N/A | V12: CUMPLE - NO CUMPLE - N/A | W12: CUMPLE - NO CUMPLE - N/A | X12: CUMPLE - NO CUMPLE - N/A | Y12: CUMPLE - NO CUMPLE - N/A | Z12: CUMPLE - NO CUMPLE - N/A | AA12: CUMPLE - NO CUMPLE - N/A | AB12: CUMPLE - NO CUMPLE - N/A | AC12: CUMPLE - NO CUMPLE - N/A | AD12: CUMPLE - NO CUMPLE - N/A | AE12: CUMPLE - NO CUMPLE - N/A | AF12: CUMPLE - NO CUMPLE - N/A | AG12: CUMPLE - NO CUMPLE - N/A | AH12: CUMPLE - NO CUMPLE - N/A | AI12: CUMPLE - NO CUMPLE - N/A | AJ12: CUMPLE - NO CUMPLE - N/A | AK12: CUMPLE - NO CUMPLE - N/A | AL12: CUMPLE - NO CUMPLE - N/A | AM12: CUMPLE - NO CUMPLE - N/A | AN12: CUMPLE - NO CUMPLE - N/A | AO12: CUMPLE - NO CUMPLE - N/A
A13: A | B13: Para el presente proceso en sus dos Lotes, los oferentes deben acreditar experiencia que hayan contenido la ejecución de: 6.17. PROYECTOS DE SEÑALIZACIÓN Y/O DEMARCACIÓN DE ESPACIO PÚBLICO ASOCIADO A LA INFRAESTRUCTURA DE TRANSPORTE General: Proyectos que correspondan o hayan contenido actividades de: Señalización vertical u horizontal o demarcación de vías primarias o secundarias o aeropistas o urbanas o espacio público asociado a una infraestructura de transporte. NOTA: En caso de requerirse la intervención de la estructura de pavimento deberá combinarse con la experiencia respectiva. Específica: Por lo menos uno (1) de los contratos válidos aportados como experiencia general debe acreditar en el componente de señalización o demarcación un valor igual o superior al 60% del presupuesto de esta actividad o componente. | L13: CUMPLE | M13: CUMPLE | N13: CUMPLE | O13: CUMPLE | P13: CUMPLE | Q13: CUMPLE | R13: CUMPLE | S13: CUMPLE | T13: CUMPLE | U13: CUMPLE | V13: CUMPLE | W13: CUMPLE | X13: CUMPLE | Y13: CUMPLE | Z13: CUMPLE | AA13: CUMPLE | AB13: CUMPLE | AC13: CUMPLE | AD13: CUMPLE | AE13: CUMPLE | AF13: CUMPLE | AG13: CUMPLE | AH13: CUMPLE | AI13: CUMPLE | AJ13: CUMPLE | AK13: CUMPLE | AL13: 27 | AM13: 28 | AN13: 29 | AO13: 30
A14: B | B14: Estar relacionados en el Formato 3 – Experiencia con el número consecutivo del contrato en el RUP. Los Proponentes Plurales deben indicar qué integrante aporta cada uno de los contratos señalados en el Formato 3 – Experiencia. Este documento debe presentarlo el Proponente Plural y no sus integrantes. El Si el Proponente no diligencia el Formato 3 – Experiencia, la Entidad pedirá su subsanación en los términos del numeral 1.6. En caso de que el oferente no subsane se tendrán en cuenta para la evaluación los cinco (5) contratos de mayor valor aportados. Con estos la Entidad verificará la acreditación de los requisitos de experiencia general y específica solicitados para la actividad principal, al igual que los requeridos para la actividad secundaria en atención a las combinaciones de experiencia aplicables y la experiencia exigida respecto de los bienes o servicios adicionales a la obra pública de infraestructura de transporte, en caso de que aplique. Tratándose de Proponentes que acrediten la calidad de Mipyme o emprendimientos y empresas de mujeres con domicilio en el territorio nacional, se tendrán en cuenta como máximo los seis (6) contratos aportados de mayor valor. En caso de que el Proponente pruebe la calidad de Mipyme y de emprendimiento y empresa de mujer con domicilio en el territorio nacional de manera conjunta, se valdrán como máximo los siete (7) contratos aportados de mayor valor. El Formato 3 – Experiencia deberá aportarse diligenciado en formato Excel. | L14: CUMPLE | M14: CUMPLE | N14: CUMPLE | O14: CUMPLE | P14: CUMPLE | Q14: CUMPLE | R14: CUMPLE | S14: CUMPLE | T14: CUMPLE | U14: CUMPLE | V14: CUMPLE | W14: CUMPLE | X14: CUMPLE | Y14: CUMPLE | Z14: CUMPLE | AA14: CUMPLE | AB14: CUMPLE | AC14: CUMPLE | AD14: CUMPLE | AE14: CUMPLE | AF14: CUMPLE | AG14: CUMPLE | AH14: CUMPLE | AI14: CUMPLE | AJ14: CUMPLE | AK14: CUMPLE | AL14: 27 | AM14: 28 | AN14: 29 | AO14: 30
A15: C | B15: El Proponente podrá acreditar la experiencia solicitada con mínimo uno (1) y máximo cinco (5) contratos, los cuales serán evaluados teniendo en cuenta la tabla del numeral 3.5.8 del Pliego de Condiciones, así como el contenido de la Matriz 1 – Experiencia. En los procesos estructurados por lotes o por grupos, el Proponente podrá aportar mínimo uno (1) y máximo cinco (5) contratos para cada uno de los Lotes o podrá allegar los mismos para todos los Lotes. El Proponente persona natural o jurídica que acredite la calidad de Mipyme o de emprendimiento y empresa de mujer con domicilio en el territorio nacional de conformidad con lo previsto en el artículo 2.2.1.13.2.2 del Decreto 1074 de 2015 y los artículos 2.2.1.2.4.2.4. y 2.2.1.2.4.2.14 del Decreto 1082 de 2015, o las normas que los modifiquen, sustituyan o complementen, podrá probar la experiencia solicitada con un (1) contrato adicional a los cinco (5) inicialmente previstos, para un máximo de seis (6) contratos. Para el caso de Proponentes Plurales bastará con que uno de sus integrantes tenga una participación igual o superior al diez por ciento (10 %) en el Consorcio o en la Unión Temporal y acredite la calidad de Mipyme o emprendimiento y empresa de mujer de conformidad con lo previsto en el artículo 2.2.1.13.2.2 del Decreto 1074 de 2015 y los artículos 2.2.1.2.4.2.4. y 2.2.1.2.4.2.14 del Decreto 1082 de 2015, o las normas que los modifiquen, sustituyan o complementen, para probar la experiencia solicitada con un (1) contrato adicional a los cinco (5) inicialmente contemplados, para un máximo de seis (6) contratos. Para acreditar la condición de Mipyme, el Proponente entregará copia del certificado del Registro Único de Proponentes, el cual deberá encontrarse vigente y en firme al momento de su presentación. Por su parte, la condición de emprendimientos y/o empresas de mujeres se probará mediante el diligenciamiento del Formato 12 – Acreditación de emprendimientos y empresas de mujeres, el cual deberá aportarse con la documentación requerida en el artículo 2.2.1.2.4.2.14 del Decreto 1082 de 2015, o la norma que lo modifique, complemente o sustituya. Para los efectos de este literal entiéndase por experiencia solicitada la general y la específica requerida en la actividad principal, al igual que la exigida para la actividad secundaria en atención a las combinaciones de experiencia aplicables y la experiencia adicional respecto de los bienes y servicios ajenos a la obra pública de infraestructura de transporte. | L15: CUMPLE | M15: CUMPLE | N15: CUMPLE | O15: CUMPLE | P15: CUMPLE | Q15: CUMPLE | R15: CUMPLE | S15: CUMPLE | T15: CUMPLE | U15: CUMPLE | V15: CUMPLE | W15: CUMPLE | X15: CUMPLE | Y15: CUMP´LE | Z15: CUMPLE | AA15: CUMPLE | AB15: CUMPLE | AC15: CUMPLE | AD15: CUMPLE | AE15: CUMPLE | AF15: CUMPLE | AG15: CUMPLE | AH15: CUMPLE | AI15: CUMPLE | AJ15: CUMPLE | AK15: CUMPLE | AL15: 27 | AM15: 28 | AN15: 29 | AO15: 30
A16: D | B16: Deben haber terminado antes de la fecha de cierre del presente proceso de contratación. | L16: CUMPLE | M16: CUMPLE | N16: CUMPLE | O16: CUMPLE | P16: CUMPLE | Q16: CUMPLE | R16: CUMPLE | S16: CUMPLE | T16: CUMPLE | U16: CUMPLE | V16: CUMPLE | W16: CUMPLE | X16: CUMPLE | Y16: CUMPLE | Z16: CUMPLE | AA16: CUMPLE | AB16: CUMPLE | AC16: CUMPLE | AD16: CUMPLE | AE16: CUMPLE | AF16: CUMPLE | AG16: CUMPLE | AH16: CUMPLE | AI16: CUMPLE | AJ16: CUMPLE | AK16: CUMPLE | AL16: 27 | AM16: 28 | AN16: 29 | AO16: 30
A17: E | B17: Para los contratos que sean aportados por personas jurídicas que no cuentan con más de tres (3) años de constituidas, que pretendan acreditar la experiencia de sus socios, accionistas o constituyentes, de conformidad con la posibilidad establecida en el numeral 2.5 del artículo 2.2.1.1.1.5.2. del Decreto 1082 de 2015, además del RUP deben adjuntar un documento suscrito por el representante legal y el revisor fiscal o contador público (según corresponda) donde se indique la conformación de la persona jurídica. La Entidad tendrá en cuenta la experiencia de los accionistas, socios o constituyentes de las sociedades con menos de tres (3) años de constituidas. Pasado este tiempo, la sociedad conservará esta experiencia, tal y como haya quedado registrada en el RUP. De acuerdo con el inciso anterior, en los casos en que se presente un Proponente Plural conformado por una persona jurídica, en conjunto con sus socios, accionistas o constituyentes y se alleguen contratos en los que estos le hayan transferido experiencia a aquella, solo podrán ser acreditados como experiencia en el Proceso de Contratación por uno de los integrantes, de manera tal que al Proponente Plural solo podrá avalársele una misma experiencia una sola vez. | L17: N/A | M17: N/A | N17: N/A | O17: N/A | P17: N/A | Q17: N/A | R17: N/A | S17: N/A | T17: N/A | U17: N/A | V17: N/A | W17: N/A | X17: N/A | Y17: CUMPLE | Z17: N/A | AA17: N/A | AB17: N/A | AC17: N/A | AD17: N/A | AE17: N/A | AF17: NA | AG17: N/A | AH17: N/A | AI17: N/A | AJ17: N/A | AK17: N/A | AL17: 27 | AM17: 28 | AN17: 29 | AO17: 30
A18: F | B18: La experiencia a la que se refiere este numeral podrá ser validada mediante los documentos establecidos en el pliego de condiciones señalados en el numeral 3.5.6. | L18: N/A | M18: N/A | N18: N/A | O18: N/A | P18: N/A | Q18: N/A | R18: N/A | S18: N/A | T18: N/A | U18: N/A | V18: N/A | W18: N/A | X18: N/A | Y18: N/A | Z18: N/A | AA18: N/A | AB18: N/A | AC18: N/A | AD18: N/A | AE18: N/A | AF18: N/A | AG18: N/A | AH18: N/A | AI18: N/A | AJ18: N/A | AK18: N/A | AL18: 27 | AM18: 28 | AN18: 29 | AO18: 30
A19: G | B19: Para proyectos de infraestructura vial que se hayan realizado fuera del territorio nacional, se consideran “Carreteras primarias” aquellas que sean certificadas por la entidad contratante mediante alguno de los documentos válidos establecidos en el numeral 3.5.6 del pliego de condiciones, siempre que se indique que el ancho de calzada es mayor o igual a siete (7.0) metros, y/o que se acrediten tres o más carriles vehiculares por calzada. | L19: N/A | M19: N/A | N19: N/A | O19: N/A | P19: N/A | Q19: N/A | R19: N/A | S19: N/A | T19: N/A | U19: N/A | V19: N/A | W19: N/A | X19: N/A | Y19: N/A | Z19: N/A | AA19: N/A | AB19: N/A | AC19: N/A | AD19: N/A | AE19: N/A | AF19: NA | AG19: N/A | AH19: N/A | AI19: N/A | AJ19: N/A | AK19: N/A | AL19: 27 | AM19: 28 | AN19: 29 | AO19: 30
A20: H | B20: Cuando el objeto contractual incluya bienes o servicios ajenos a la obra pública de infraestructura de transporte y de manera excepcional se requiere incluir experiencia adicional para evaluar la idoneidad respecto de dichos bienes o servicios, la Entidad verificará si estos están incorporados en otros Documentos Tipo. En este caso, la Entidad observará las reglas de combinación de experiencia definidas en el literal A) de este numeral y, por tanto, la Entidad no podrá definir requisitos de experiencia distintos a los determinados por esta Agencia. En todo caso, si el objeto contractual contempla bienes o servicios ajenos que no están regulados en los Documentos Tipo, la Entidad Estatal aplicará los parámetros del artículo 4 de la Resolución 240 de 2020. Conforme con esta disposición, la Entidad no puede requerir experiencia adicional que incluya volúmenes o cantidades de obra específica expresada en SMMLV. La Entidad tampoco puede exigir experiencia general o específica adicional a la señalada en la Matriz 1 – Experiencia relacionada con Planes de Manejo Ambiental, Planes de Manejo de Tránsito o el Plan de Adaptación de la Guía Ambiental, porque no son bienes o servicios ajenos a la obra pública de infraestructura de transporte | L20: N/A | M20: N/A | N20: N/A | O20: N/A | P20: N/A | Q20: N/A | R20: N/A | S20: N/A | T20: N/A | U20: N/A | V20: N/A | W20: N/A | X20: N/A | Y20: N/A | Z20: N/A | AA20: N/A | AB20: N/A | AC20: N/A | AD20: N/A | AE20: N/A | AF20: NA | AG20: N/A | AH20: N/A | AI20: N/A | AJ20: N/A | AK20: N/A | AL20: 27 | AM20: 28 | AN20: 29 | AO20: 30
A21: 3.5.3. | B21: CONSIDERACIONES PARA LA VALIDEZ DE LA EXPERIENCIA REQUERIDA La Entidad Estatal tendrá en cuenta los siguientes aspectos para analizar la experiencia acreditada y que la misma sea válida como experiencia requerida: | L21: CUMPLE - NO CUMPLE - N/A | M21: CUMPLE - NO CUMPLE - N/A | N21: CUMPLE - NO CUMPLE - N/A | O21: CUMPLE - NO CUMPLE - N/A | P21: CUMPLE - NO CUMPLE - N/A | Q21: CUMPLE - NO CUMPLE - N/A | R21: CUMPLE - NO CUMPLE - N/A | S21: CUMPLE - NO CUMPLE - N/A | T21: CUMPLE - NO CUMPLE - N/A | U21: CUMPLE - NO CUMPLE - N/A | V21: CUMPLE - NO CUMPLE - N/A | W21: CUMPLE - NO CUMPLE - N/A | X21: CUMPLE - NO CUMPLE - N/A | Y21: CUMPLE - NO CUMPLE - N/A | Z21: CUMPLE - NO CUMPLE - N/A | AA21: CUMPLE - NO CUMPLE - N/A | AB21: CUMPLE - NO CUMPLE - N/A | AC21: CUMPLE - NO CUMPLE - N/A | AD21: CUMPLE - NO CUMPLE - N/A | AE21: CUMPLE - NO CUMPLE - N/A | AF21: CUMPLE - NO CUMPLE - N/A | AG21: CUMPLE - NO CUMPLE - N/A | AH21: CUMPLE - NO CUMPLE - N/A | AI21: CUMPLE - NO CUMPLE - N/A | AJ21: CUMPLE - NO CUMPLE - N/A | AK21: CUMPLE - NO CUMPLE - N/A | AL21: CUMPLE - NO CUMPLE - N/A | AM21: CUMPLE - NO CUMPLE - N/A | AN21: CUMPLE - NO CUMPLE - N/A | AO21: CUMPLE - NO CUMPLE - N/A
A22: A | B22: En el Clasificador de Bienes y Servicios, el segmento correspondiente para la clasificación de la experiencia es el segmento 72. Como el proceso de contratación está relacionado con las actividades de “semaforización y/o señalización vertical” previstas en la “Matriz 1 – Experiencia”, también se incluyen los segmentos 46, 73 u 81. | L22: CUMPLE | M22: CUMPLE | N22: CUMPLE | O22: CUMPLE | P22: CUMPLE | Q22: CUMPLE | R22: CUMPLE | S22: CUMPLE | T22: CUMPLE | U22: CUMPLE | V22: CUMPLE | W22: CUMPLE | X22: CUMPLE | Y22: CUMPLE | Z22: CUMPLE | AA22: CUMPE | AB22: CUMPLE | AC22: CUMPLE | AD22: CUMPLE | AE22: CUMPLE | AF22: CUMPLE | AG22: CUMPLE | AH22: CUMPLE | AI22: CUMPLE | AJ22: CUMPLE | AK22: CUMPLE | AL22: 0 | AM22: 0 | AN22: 0 | AO22: 0
A23: B | B23: La entidad contratante únicamente podrá exigir para la verificación de la experiencia los contratos celebrados por el interesado, identificados con el Clasificador de Bienes y Servicios hasta el tercer nivel. | L23: N/A | M23: N/A | N23: N/A | O23: N/A | P23: N/A | Q23: N/A | R23: N/A | S23: N/A | T23: N/A | U23: N/A | V23: N/A | W23: N/A | X23: N/A | Y23: N/A | Z23: N/A | AA23: N/A | AB23: N/A | AC23: CUMPLE | AD23: CUMPLE | AE23: N/A | AF23: N/A | AG23: N/A | AH23: N/A | AI23: N/A | AJ23: N/A | AK23: N/A | AL23: 0 | AM23: 0 | AN23: 0 | AO23: 0
A24: C | B24: Si el Proponente relaciona o anexa más de cinco (5) contratos en el Formato 3 - Experiencia, para efectos de evaluar la experiencia se tendrá en cuenta como máximo los cinco (5) contratos aportados de mayor valor. Tratándose de Proponentes que acrediten la calidad de Mipyme o emprendimiento y empresa de mujer con domicilio en el territorio nacional, se tendrá en cuenta como máximo los seis (6) contratos aportados de mayor valor. | L24: N/A | M24: N/A | N24: N/A | O24: N/A | P24: N/A | Q24: N/A | R24: N/A | S24: N/A | T24: N/A | U24: N/A | V24: N/A | W24: N/A | X24: N/A | Y24: N/A | Z24: N/A | AA24: N/A | AB24: N/A | AC24: N/A | AD24: N/A | AE24: N/A | AF24: N/A | AG24: N/A | AH24: N/A | AI24: N/A | AJ24: N/A | AK24: N/A | AL24: 0 | AM24: 0 | AN24: 0 | AO24: 0
A25: D | B25: Tratándose de Proponentes Plurales se tendrá en cuenta lo siguiente: i) uno de los integrantes debe aportar como mínimo el cincuenta por ciento (50 %) de la experiencia solicitada; ii) los demás integrantes deben acreditar al menos el cinco por ciento (5 %) de la experiencia solicitada; y iii) sin perjuicio de lo anterior, solo uno (1) de los integrantes, si así lo considera pertinente, podrá no acreditar experiencia. En este último caso, el porcentaje de participación del integrante que no aporta experiencia en la estructura plural no podrá superar el diez por ciento (10 %). Estos porcentajes que acreditarán los integrantes del Proponente Plural se podrán cumplir con contratos válidos que acrediten cualquier requisito de experiencia solicitada en el pliego de condiciones, y se calcularán sobre el “valor mínimo a certificar (como % del Presupuesto Oficial de obra expresado en SMMLV)” de conformidad con el numeral 3.5.8. Independientemente de él o los integrantes del Proponente Plural que aporten contratos para acreditar la experiencia, estos se tendrán en cuenta para calcular el “número de contratos con los cuales el Proponente cumple la experiencia acreditada" de que trata el numeral citado. En armonía con lo anterior, para cumplir el requisito previsto en este literal no se solicitará la acreditación de longitudes, magnitudes, volúmenes o porcentajes requeridos en la experiencia específica, sino que bastará con acreditar los SMMLV. Es importante aclarar que este proceso ofertado por Lotes tendrá en cuenta que los porcentajes de experiencia se calcularán sobre el "valor mínimo a certificar (como % del Presupuesto Oficial de obra expresado en SMMLV)” de conformidad con el numeral 3.5.8., esto es, en relación con el valor del Presupuesto Oficial establecido para cada Lote. | L25: CUMPLE | M25: CUMPLE | N25: N/A | O25: CUMPLE | P25: CUMPLE | Q25: CUMPLE | R25: CUMPLE | S25: CUMPLE | T25: CUMPLE | U25: CUMPLE | V25: CUMPLE | W25: CUMPLE | X25: CUMPLE | Y25: CUMPLE | Z25: CUMPLE | AA25: CUMPLE | AB25: CUMPLE | AC25: CUMPLE | AD25: CUMPLE | AE25: CUMPLE | AF25: CUMPLE | AG25: CUMPLE | AH25: CUMPLE | AI25: N/A | AJ25: CUMPLE | AK25: CUMPLE | AL25: 0 | AM25: 0 | AN25: 0 | AO25: 0
A26: E | B26: Cuando el contrato que se pretende acreditar como experiencia haya sido ejecutado en consorcio o unión temporal, el porcentaje de participación del integrante será el registrado en el RUP de este o en alguno de los documentos válidos para la acreditación de experiencia en caso de que el integrante no esté obligado a tener RUP. | L26: CUMPLE | M26: CUMPLE | N26: CUMPLE | O26: CUMPLE | P26: CUMPLE | Q26: CUMPLE | R26: CUMPLE | S26: CUMPLE | T26: CUMPLE | U26: CUMPLE | V26: CUMPLE | W26: CUMPLE | X26: CUMPLE | Y26: CUMPLE | Z26: CUMPLE | AA26: CUMPLE | AB26: CUMPLE | AC26: CUMPLE | AD26: CUMPLE | AE26: CUMPLE | AF26: CUMPLE | AG26: CUMPLE | AH26: CUMPLE | AI26: N/A | AJ26: CUMPLE | AK26: CUMPLE | AL26: 0 | AM26: 0 | AN26: 0 | AO26: 0
A27: F | B27: Cuando el contrato que se pretende acreditar como experiencia haya sido ejecutado en consorcio o unión temporal, el valor a considerar será el registrado en el RUP, o documento válido en caso de que el integrante no esté obligado a RUP, para la acreditación de experiencia multiplicada por el porcentaje de participación que tuvo el integrante o los integrantes. | L27: CUMPLE | M27: CUMPLE | N27: CUMPLE | O27: CUMPLE | P27: CUMPLE | Q27: CUMPLE | R27: CUMPLE | S27: CUMPLE | T27: CUMPLE | U27: CUMPLE | V27: CUMPLE | W27: CUMPLE | X27: CUMPLE | Y27: CUMPLE | Z27: CUMPLE | AA27: CUMPLE | AB27: CUMPLE | AC27: CUMPLE | AD27: CUMPLE | AE27: CUMPLE | AF27: CUMPLE | AG27: CUMPLE | AH27: CUMPLE | AI27: N/A | AJ27: CUMPLE | AK27: CUMPLE | AL27: 0 | AM27: 0 | AN27: 0 | AO27: 0
A28: G | B28: Cuando el contrato que se pretende acreditar como experiencia haya sido ejecutado en consorcio, el “% de dimensionamiento (según la longitud o magnitud requerida en el proceso de contratación)” exigido en la Matriz 1 – Experiencia se afectará por el porcentaje de participación que tuvo el integrante o los integrantes. Por su parte, si el contrato fue ejecutado como unión temporal la acreditación del “% de dimensionamiento” se afectará de acuerdo con la distribución de actividades y lo materialmente ejecutado, para lo cual se deberá allegar el documento de conformación de proponente plural que discrimine las actividades a cargo de cada uno de los integrantes o que de los documentos aportados para acreditar la experiencia se pueda determinar qué actividades ejecutó cada uno de los integrantes. En caso de que lo anterior no se logre determinar, la evaluación se realizará de conformidad con lo señalado en el párrafo precedente, respecto a los consorcios. Nota: El “dimensionamiento” de este literal no aplica solamente a vías, sino a cualquier dimensión o magnitud requerida en el proceso de selección para acreditar la experiencia según detalla la Matriz 1 - Experiencia. A modo enunciativo se tiene: longitud o luces libres de puentes vehiculares, metros cúbicos (volúmenes), en procesos de dragados marítimos o fluviales, longitudes de túneles, por mencionar algunos ejemplos. | L28: CUMPLE | M28: CUMPLE | N28: N/A | O28: CUMPLE | P28: CUMPLE | Q28: CUMPLE | R28: CUMPLE | S28: CUMPLE | T28: CUMPLE | U28: CUMPLE | V28: CUMPLE | W28: CUMPLE | X28: CUMPLE | Y28: CUMPLE | Z28: CUMPLE | AA28: CUMPLE | AB28: CUMPLE | AC28: CUMPLE | AD28: CUMPLE | AE28: CUMPLE | AF28: CUMPLE | AG28: CUMPLE | AH28: CUMPLE | AI28: N/A | AJ28: CUMPLE | AK28: CUMPLE | AL28: 0 | AM28: 0 | AN28: 0 | AO28: 0
A29: H | B29: Cuando el contrato que se aporte para la experiencia haya sido ejecutado por un consorcio o unión temporal, y dos (2) o más de sus integrantes conformen un proponente plural para participar en el presente proceso, dicho contrato se entenderá aportado como un (1) solo contrato y se tendrá en cuenta para el aporte de la experiencia la sumatoria de los porcentajes de los integrantes del consorcio o unión temporal que ejecutaron el contrato y que están participando en el presente proceso. | L29: CUMPLE | M29: CUMPLE | N29: N/A | O29: CUMPLE | P29: N/A | Q29: CUMPLE | R29: CUMPLE | S29: CUMPLE | T29: CUMPLE | U29: N/A | V29: CUMPLE - CON OBSERVACIÓN ABAJO | W29: CUMPLE | X29: CUMPLE | Y29: CUMPLE | Z29: CUMPLE | AA29: CUMPLE | AB29: CUMPLE | AC29: CUMPLE | AD29: CUMPLE | AE29: CUMPLE | AF29: CUMPLE | AG29: CUMPLE | AH29: CUMPLE | AI29: N/A | AJ29: CUMPLE | AK29: CUMPLE | AL29: 0 | AM29: 0 | AN29: 0 | AO29: 0
A30: I | B30: Para los proyectos de concesiones viales, únicamente se tendrá en cuenta la experiencia adquirida en la etapa constructiva y/o de intervención de la obra de infraestructura de transporte, lo cual deberá demostrarse con los documentos que la soporten. En consecuencia, no será válida la experiencia obtenida en la etapa de operación, administración y/o mantenimiento de la infraestructura concesionada. Para estos efectos, el oferente deberá acreditar los valores ejecutados expresados en SMMLV de la etapa constructiva y/o de intervención de la obra de infraestructura de transporte, empleando alguno de los documentos válidos establecidos en el numeral 3.5.6 del Pliego de Condiciones. En el evento en que los valores de los documentos aportados se expresen en moneda extranjera, se procederá de conformidad con lo previsto en el literal A del numeral 1.13. Para este caso, la fecha de terminación de la etapa constructiva y/o de intervención de la obra hará las veces de fecha de terminación del contrato. Ahora, para la conversión de dichos valores a SMMLV se seguirá el proceso descrito en el literal B del numeral 1.13, para lo cual se emplearán los valores históricos de SMMLV señalados por el Banco de la República (http://www.banrep.gov.co/es/mercado-laboral/salarios), del año correspondiente a la fecha de terminación de la etapa constructiva y/o de intervención de la obra. En los casos en que el Proponente no cumpla la exigencia antes señalada, la Entidad permitirá la subsanación, en los términos del numeral 1.6 del Pliego de Condiciones, requiriendo al Proponente para que demuestre los valores ejecutados. De no lograrse la discriminación de los valores ejecutados en el marco del respectivo contrato, la Entidad no lo tendrá en cuenta para la evaluación. En caso de que el valor ejecutado que consta en el RUP sea distinto al verificado en el documento aportado por el Proponente, la Entidad Estatal para evaluar el requisito de la experiencia tomará el dato del valor de alguno de los documentos válidos establecidos el numeral 3.5.6 del Pliego de Condiciones. Lo anterior, debido a que estos últimos discriminan el valor ejecutado en la etapa constructiva y/o de intervención de la obra de infraestructura de transporte. | L30: N/A | M30: N/A | N30: CUMPLE | O30: N/A | P30: N/A | Q30: N/A | R30: N/A | S30: N/A | T30: CUMPLE | U30: N/A | V30: N/A | W30: N/A | X30: N/A | Y30: N/A | Z30: CUMPLE | AA30: CUMPLE | AB30: CUMPLE | AC30: CUMPLE | AD30: CUMPLE | AE30: CUMPLE | AF30: CUMPLE | AG30: CUMPLE | AH30: N/A | AI30: N/A | AJ30: N/A | AK30: N/A | AL30: 0 | AM30: 0 | AN30: 0 | AO30: 0
A31: J | B31: El cumplimiento de los requisitos de experiencia que impliquen la acreditación de valores y magnitudes intervenidas deberá evaluarse de acuerdo con lo señalado en la Matriz 1 – Experiencia para la respectiva actividad a contratar. En los contratos aportados como experiencia que contengan actividades ejecutadas ajenas a la obra de infraestructura de transporte, la Entidad Estatal solo tendrá en cuenta los valores y magnitudes ejecutadas relacionadas con este tipo de infraestructura. Para estos efectos, el oferente deberá acreditar los valores y magnitudes intervenidas dentro del respectivo contrato, empleando alguno de los documentos válidos establecidos en el numeral 3.5.6 del Pliego de Condiciones. En todo caso, la Entidad Estatal permitirá la subsanación, en los términos del numeral 1.6 del Pliego de Condiciones, requiriendo al Proponente para que acredite los valores ejecutados y magnitudes intervenidas. De no lograrse la discriminación de los valores y magnitudes ejecutadas en el marco del respectivo contrato, la Entidad Estatal no lo tendrá en cuenta para la evaluación. | L31: CUMPLE | M31: CUMPLE | N31: CUMPLE | O31: CUMPLE | P31: CUMPLE | Q31: CUMPLE | R31: CUMPLE | S31: CUMPLE | T31: CUMPLE | U31: CUMPLE | V31: CUMPLE - CON OBSERVACIÓN ABAJO | W31: CUMPLE | X31: CUMPLE | Y31: CUMPLE | Z31: CUMPLE | AA31: CUMPLE | AB31: CUMPLE | AC31: CUMPLE | AD31: CUMPLE | AE31: CUMPLE | AF31: CUMPLE | AG31: CUMPLE | AH31: CUMPLE | AI31: CUMPLE | AJ31: CUMPLE | AK31: NO CUMPLE | AL31: 0 | AM31: 0 | AN31: 0 | AO31: 0
A32: K | B32: Las auto certificaciones no servirán para acreditar la experiencia requerida, ya que con estas no puede constatarse la ejecución de contratos que deben certificar los terceros que recibieron la obra, bien o servicio. Para la aplicación de esta regla, se entiende por auto certificaciones aquellas expedidas por el mismo Proponente, sus representantes, los integrantes del Proponente Plural o del mismo grupo empresarial para demostrar su propia experiencia. | L32: N/A | M32: NA | N32: N/A | O32: N/A | P32: N/A | Q32: N/A | R32: N/A | S32: N/A | T32: N/A | U32: N/A | V32: N/A | W32: N/A | X32: N/A | Y32: N/A | Z32: N/A | AA32: N/A | AB32: N/A | AC32: N/A | AD32: N/A | AE32: N/A | AF32: N/A | AG32: N/A | AH32: N/A | AI32: N/A | AJ32: N/A | AK32: N/A | AL32: 0 | AM32: 0 | AN32: 0 | AO32: 0
A33: L | B33: Las certificaciones de experiencia expedidas por el interventor de obra no servirán para probar la experiencia requerida. | L33: N/A | M33: NA | N33: N/A | O33: N/A | P33: N/A | Q33: N/A | R33: N/A | S33: N/A | T33: N/A | U33: N/A | V33: N/A | W33: N/A | X33: N/A | Y33: N/A | Z33: N/A | AA33: N/A | AB33: N/A | AC33: N/A | AD33: N/A | AE33: N/A | AF33: N/A | AG33: N/A | AH33: N/A | AI33: N/A | AJ33: N/A | AK33: N/A | AL33: 0 | AM33: 0 | AN33: 0 | AO33: 0
A34: 3.5.4. | B34: CLASIFICACIÓN DE LA EXPERIENCIA EN EL “CLASIFICADOR DE BIENES, OBRAS Y SERVICIOS DE LAS NACIONES UNIDAS” Los contratos aportados para efectos de acreditación de la experiencia requerida deben estar clasificados en alguno de los siguientes códigos: | L34: CUMPLE - NO CUMPLE - N/A | M34: CUMPLE - NO CUMPLE - N/A | N34: CUMPLE - NO CUMPLE - N/A | O34: CUMPLE - NO CUMPLE - N/A | P34: CUMPLE - NO CUMPLE - N/A | Q34: CUMPLE - NO CUMPLE - N/A | R34: CUMPLE - NO CUMPLE - N/A | S34: CUMPLE - NO CUMPLE - N/A | T34: CUMPLE - NO CUMPLE - N/A | U34: CUMPLE - NO CUMPLE - N/A | V34: CUMPLE - NO CUMPLE - N/A | W34: CUMPLE - NO CUMPLE - N/A | X34: CUMPLE - NO CUMPLE - N/A | Y34: CUMPLE - NO CUMPLE - N/A | Z34: CUMPLE - NO CUMPLE - N/A | AA34: CUMPLE - NO CUMPLE - N/A | AB34: CUMPLE - NO CUMPLE - N/A | AC34: CUMPLE - NO CUMPLE - N/A | AD34: CUMPLE - NO CUMPLE - N/A | AE34: CUMPLE - NO CUMPLE - N/A | AF34: CUMPLE - NO CUMPLE - N/A | AG34: CUMPLE - NO CUMPLE - N/A | AH34: CUMPLE - NO CUMPLE - N/A | AI34: CUMPLE - NO CUMPLE - N/A | AJ34: CUMPLE - NO CUMPLE - N/A | AK34: CUMPLE - NO CUMPLE - N/A | AL34: CUMPLE - NO CUMPLE - N/A | AM34: CUMPLE - NO CUMPLE - N/A | AN34: CUMPLE - NO CUMPLE - N/A | AO34: CUMPLE - NO CUMPLE - N/A
B35: #VALUE! | L35: CUMPLE | M35: CUMPLE | N35: CUMPLE | O35: CUMPLE | P35: CUMPLE | Q35: CUMPLE | R35: CUMPLE | S35: CUMPLE | T35: CUMPLE | U35: CUMPLE | V35: CUMPLE | W35: CUMPLE | X35: CUMPLE | Y35: CUMPLE | Z35: CUMPLE | AA35: CUMPLE | AB35: CUMPLE | AC35: CUMPLE | AD35: CUMPLE | AE35: CUMPLE | AF35: CUMPLE | AG35: CUMPLE | AH35: CUMPLE | AI35: CUMPLE | AJ35: CUMPLE | AK35: CUMPLE | AL35: 0 | AM35: 0 | AN35: 0 | AO35: 0
B36: Las personas naturales o jurídicas extranjeras sin domicilio o sucursal en Colombia deberán indicar los códigos de clasificación relacionados con los bienes, obras o servicios ejecutados con alguno de los documentos válidos establecidos en el pliego de condiciones para cada uno de los contratos aportados para la acreditación de la experiencia requerida. En el evento en el que dichos documentos no incluyan los códigos de clasificación, el representante legal del proponente deberá incluirlos en el Formato 3 – Experiencia. | L36: N/A | M36: NA | N36: N/A | O36: N/A | P36: N/A | Q36: N/A | R36: N/A | S36: N/A | T36: N/A | U36: N/A | V36: N/A | W36: N/A | X36: N/A | Y36: N/A | Z36: N/A | AA36: N/A | AB36: N/A | AC36: N/A | AD36: N/A | AE36: N/A | AF36: N/A | AG36: NA | AH36: N/A | AI36: N/A | AJ36: N/A | AK36: N/A | AL36: 0 | AM36: 0 | AN36: 0 | AO36: 0
A37: 3.5.5. | B37: ACREDITACIÓN DE LA EXPERIENCIA REQUERIDA Los proponentes acreditarán para cada uno de los contratos aportados la siguiente información mediante alguno de los documentos señalados en la sección 3.5.6 del pliego de condiciones: | L37: CUMPLE - NO CUMPLE - N/A | M37: CUMPLE - NO CUMPLE - N/A | N37: CUMPLE - NO CUMPLE - N/A | O37: CUMPLE - NO CUMPLE - N/A | P37: CUMPLE - NO CUMPLE - N/A | Q37: CUMPLE - NO CUMPLE - N/A | R37: CUMPLE - NO CUMPLE - N/A | S37: CUMPLE - NO CUMPLE - N/A | T37: CUMPLE - NO CUMPLE - N/A | U37: CUMPLE - NO CUMPLE - N/A | V37: CUMPLE - NO CUMPLE - N/A | W37: CUMPLE - NO CUMPLE - N/A | X37: CUMPLE - NO CUMPLE - N/A | Y37: CUMPLE - NO CUMPLE - N/A | Z37: CUMPLE - NO CUMPLE - N/A | AA37: CUMPLE - NO CUMPLE - N/A | AB37: CUMPLE - NO CUMPLE - N/A | AC37: CUMPLE - NO CUMPLE - N/A | AD37: CUMPLE - NO CUMPLE - N/A | AE37: CUMPLE - NO CUMPLE - N/A | AF37: CUMPLE - NO CUMPLE - N/A | AG37: CUMPLE - NO CUMPLE - N/A | AH37: CUMPLE - NO CUMPLE - N/A | AI37: CUMPLE - NO CUMPLE - N/A | AJ37: CUMPLE - NO CUMPLE - N/A | AK37: CUMPLE - NO CUMPLE - N/A | AL37: CUMPLE - NO CUMPLE - N/A | AM37: CUMPLE - NO CUMPLE - N/A | AN37: CUMPLE - NO CUMPLE - N/A | AO37: CUMPLE - NO CUMPLE - N/A
A38: A | B38: Contratante | L38: CUMPLE | M38: CUMPLE | N38: CUMPLE | O38: CUMPLE | P38: CUMPLE | Q38: CUMPLE | R38: CUMPLE | S38: CUMPLE | T38: CUMPLE | U38: CUMPLE | V38: CUMPLE | W38: CUMPLE | X38: CUMPLE | Y38: CUMPLE | Z38: CUMPLE | AA38: CUMPLE | AB38: CUMPLE | AC38: CUMPLE | AD38: CUMPLE | AE38: CUMPLE | AF38: CUMPLE | AG38: CUMPLE | AH38: CUMPLE | AI38: NO CUMPLE | AJ38: CUMPLE | AK38: CUMPLE | AL38: 0 | AM38: 0 | AN38: 0 | AO38: 0
A39: B | B39: Objeto del contrato | L39: CUMPLE | M39: CUMPLE | N39: CUMPLE | O39: CUMPLE | P39: CUMPLE | Q39: CUMPLE | R39: CUMPLE | S39: CUMPLE | T39: CUMPLE | U39: CUMPLE | V39: CUMPLE | W39: CUMPLE | X39: CUMPLE | Y39: CUMPLE | Z39: CUMPLE | AA39: CUMPLE | AB39: CUMPLE | AC39: CUMPLE | AD39: CUMPLE | AE39: CUMPLE | AF39: CUMPLE | AG39: CUMPLE | AH39: CUMPLE | AI39: NO CUMPLE | AJ39: CUMPLE | AK39: CUMPLE | AL39: 0 | AM39: 0 | AN39: 0 | AO39: 0
A40: C | B40: Principales actividades ejecutadas | L40: CUMPLE | M40: CUMPLE | N40: CUMPLE | O40: CUMPLE | P40: CUMPLE | Q40: CUMPLE | R40: CUMPLE | S40: CUMPLE | T40: CUMPLE | U40: CUMPLE | V40: CUMPLE | W40: CUMPLE | X40: CUMPLE | Y40: CUMPLE | Z40: CUMPLE | AA40: CUMPLE | AB40: CUMPLE | AC40: CUMPLE | AD40: CUMPLE | AE40: CUMPLE | AF40: CUMPLE | AG40: CUMPLE | AH40: CUMPLE | AI40: NO CUMPLE | AJ40: CUMPLE | AK40: CUMPLE | AL40: 0 | AM40: 0 | AN40: 0 | AO40: 0
A41: D | B41: Las longitudes, volúmenes, dimensiones, tipologías y demás condiciones de experiencia establecidas en la Matriz 1 – Experiencia, si aplica. | L41: CUMPLE | M41: CUMPLE | N41: CUMPLE | O41: CUMPLE | P41: CUMPLE | Q41: CUMPLE | R41: CUMPLE | S41: CUMPLE | T41: CUMPLE | U41: CUMPLE | V41: CUMPLE | W41: CUMPLE | X41: CUMPLE | Y41: CUMPLE | Z41: CUMPLE | AA41: CUMPLE | AB41: CUMPLE | AC41: CUMPLE | AD41: CUMPLE | AE41: CUMPLE | AF41: CUMPLE | AG41: CUMPLE | AH41: CUMPLE | AI41: NO CUMPLE | AJ41: CUMPLE | AK41: CUMPLE | AL41: 0 | AM41: 0 | AN41: 0 | AO41: 0
A42: E | B42: La fecha de iniciación de la ejecución del contrato: Esta fecha es diferente a la de suscripción del contrato, a menos que de los documentos del numeral 3.5.6 de forma expresa así se determine. Si en los documentos válidos aportados para la acreditación de experiencia solo se evidencia fecha (mes, año) de suscripción y/o inicio del contrato: se tendrá en cuenta el último día del mes que se encuentre señalado en la certificación. | L42: CUMPLE | M42: CUMPLE | N42: CUMPLE | O42: CUMPLE | P42: CUMPLE | Q42: CUMPLE | R42: CUMPLE | S42: CUMPLE | T42: CUMPLE | U42: CUMPLE | V42: CUMPLE | W42: CUMPLE | X42: CUMPLE | Y42: CUMPLE | Z42: CUMPLE | AA42: CUMPLE | AB42: CUMPLE | AC42: CUMPLE | AD42: CUMPLE | AE42: CUMPLE | AF42: CUMPLE | AG42: CUMPLE | AH42: CUMPLE | AI42: NO CUMPLE | AJ42: CUMPLE | AK42: CUMPLE | AL42: 0 | AM42: 0 | AN42: 0 | AO42: 0
...

Sheet Eva. Puntable
A1: #VALUE! | C1: INFORME DE EVALUACIÓN TÉCNICA
C2: STM- LICITACIÓN PÚBLICA Nº STM-LP-286-2024
C3: OBJETO:IMPLEMENTAR INTERVENCIONES EN INFRAESTRUCTURA VIAL PARA MEJORAR LAS CONDICIONES DE SEGURIDAD VIAL Y MITIGAR RIESGOS EN PUNTOS CRÍTICOS PRIORIZADOS A CARGO DEL DEPARTAMENTO DE CUNDINAMARCA”
C5: EVALUACIÓN TECNICA LICITACIÓN PÚBLICA No. :
A7: PRESUPUESTO OFICIAL: | G7: 4000000000 | J7: VALOR DEL SMMLV DEL AÑO 2023: | L7: 1300000
A8: LOTE: | G8: 1 | J8: VALOR PRESUPUESTO OFICIAL EN SMMLV: | L8: =G7/L7 -> 3076.9231
A10: ITEM | B10: CRITERIO A EVALUAR | L10: P1 | M10: P2 | N10: P3 | O10: P4 | P10: P5 | Q10: P6 | R10: P7 | S10: P8 | T10: P9 | U10: P10 | V10: P11 | W10: P12 | X10: P13 | Y10: P14 | Z10: P15 | AA10: P16 | AB10: P17 | AC10: P18 | AD10: P19 | AE10: P20 | AF10: P21 | AG10: P22 | AH10: P23 | AI10: P24 | AJ10: P25 | AK10: P26 | AL10: P27 | AM10: P28 | AN10: P29 | AO10: P30
L11: {=TRANSPOSE(Proponentes!B11:B40)} -> Unión Temporal Elite 2024 | M11: Consorcio Señalizar GP | N11: CREA SAS | O11: UT Cundinamarca Segura | P11: PINTUVIAL SAS | Q11: SEGURIDAD Y SERVICIOS SEÑALIZACIÓN S.A. | R11: SOCINTER S.A. | S11: UT TRACKVIAL | T11: CONSORCIO VIAL COMPROT 2024 | U11: FREESTONE CONSTRUCCIONES S.A.S. | V11: NSP DE COLOMBIA S.A.S. | W11: INGENIEROS CIVILES EN TRAFICO, TRANSPORTE Y VIAS - ICOVIAS S.A.S. | X11: JAVIER FERNANDO BASTIDAS CAMPAÑA | Y11: CONSORCIO MS. | Z11: CONSORCIO WIGV SEÑALIZADORES | AA11: CONSORCIO SUPER AC2R 2024 | AB11: CONSORCIO VIAL CUNDINAMARCA 286 | AC11: UNIÓN TEMPORAL VSDM | AD11: CONSORCIO SEGURIVIAL SM | AE11: UNIÓN TEMPORAL INSEAN CUNDINAMARCA 2024 | AF11: CONSORCIO CUNDINAMARCA VIAL. | AG11: CONSORCIO INGENIO VIAL | AH11: CONSORCIO SEGUVIAL 2RI | AI11: SEÑAL VÍAS SAS | AJ11: CONSORCIO GEPAV-TPD. | AK11: CONSORCIO SANTIAGO | AL11: 0 | AM11: 0 | AN11: 0 | AO11: 0
A12: 4.1. | B12: PROPUESTA ECONÓMICA | L12: CUMPLE - NO CUMPLE - N/A | M12: CUMPLE - NO CUMPLE - N/A | N12: CUMPLE - NO CUMPLE - N/A | O12: CUMPLE - NO CUMPLE - N/A | P12: CUMPLE - NO CUMPLE - N/A | Q12: CUMPLE - NO CUMPLE - N/A | R12: CUMPLE - NO CUMPLE - N/A | S12: CUMPLE - NO CUMPLE - N/A | T12: CUMPLE - NO CUMPLE - N/A | U12: CUMPLE - NO CUMPLE - N/A | V12: CUMPLE - NO CUMPLE - N/A | W12: CUMPLE - NO CUMPLE - N/A | X12: CUMPLE - NO CUMPLE - N/A | Y12: CUMPLE - NO CUMPLE - N/A | Z12: CUMPLE - NO CUMPLE - N/A | AA12: CUMPLE - NO CUMPLE - N/A | AB12: CUMPLE - NO CUMPLE - N/A | AC12: CUMPLE - NO CUMPLE - N/A | AD12: CUMPLE - NO CUMPLE - N/A | AE12: CUMPLE - NO CUMPLE - N/A | AF12: CUMPLE - NO CUMPLE - N/A | AG12: CUMPLE - NO CUMPLE - N/A | AH12: CUMPLE - NO CUMPLE - N/A | AI12: CUMPLE - NO CUMPLE - N/A | AJ12: CUMPLE - NO CUMPLE - N/A | AK12: CUMPLE - NO CUMPLE - N/A | AL12: CUMPLE - NO CUMPLE - N/A | AM12: CUMPLE - NO CUMPLE - N/A | AN12: CUMPLE - NO CUMPLE - N/A | AO12: CUMPLE - NO CUMPLE - N/A
B13: PRESUPUESTO OFICIAL | K13: 4000000000 | L13: 0 | M13: 0 | N13: 0 | O13: 0 | P13: 0 | Q13: 0 | R13: 0 | S13: 0 | T13: 0 | U13: 0 | V13: 0 | W13: 0 | X13: 0 | Y13: 0 | Z13: 0 | AA13: 0 | AB13: 0 | AC13: 0 | AD13: 0 | AE13: 0 | AF13: 0 | AG13: 0 | AH13: 0 | AI13: 0 | AJ13: 0 | AK13: 0 | AL13: 0 | AM13: 0 | AN13: 0 | AO13: 0
B14: VALOR PROPUESTA
B15: TRM
B16: Para determinar el método de ponderación, la entidad tomará los centavos de la Tasa de Cambio Representativa del Mercado (TRM) | E16: Rango | G16: Número | I16: Método | L16: Puntos Totales | M16: Puntos Totales | N16: Puntos Totales | O16: Puntos Totales | P16: Puntos Totales | Q16: Puntos Totales | R16: Puntos Totales | S16: Puntos Totales | T16: Puntos Totales | U16: Puntos Totales | V16: Puntos Totales | W16: Puntos Totales | X16: Puntos Totales | Y16: Puntos Totales | Z16: Puntos Totales | AA16: Puntos Totales | AB16: Puntos Totales | AC16: Puntos Totales | AD16: Puntos Totales | AE16: Puntos Totales | AF16: Puntos Totales | AG16: Puntos Totales | AH16: Puntos Totales | AI16: Puntos Totales | AJ16: Puntos Totales | AK16: Puntos Totales | AL16: Puntos Totales | AM16: Puntos Totales | AN16: Puntos Totales | AO16: Puntos Totales
E17: De 0.00 a 0.24 | G17: 1 | I17: Mediana con valor absoluto | L17: 0 | M17: 0 | N17: 0 | O17: 0 | P17: 0 | Q17: 0 | R17: 0 | S17: 0 | T17: 0 | U17: 10 | V17: 0 | W17: 0 | X17: 0 | Y17: 0 | Z17: 0 | AA17: 0 | AB17: 0 | AC17: 0 | AD17: 0 | AE17: 0 | AF17: 0 | AG17: 0 | AH17: 0 | AI17: 0 | AJ17: 0 | AK17: 0 | AL17: 0 | AM17: 0 | AN17: 0 | AO17: 0
E18: De 0.25 a 0.49 | G18: 2 | I18: Media geométrica | L18: 0 | M18: 0 | N18: 0 | O18: 0 | P18: 0 | Q18: 0 | R18: 0 | S18: 0 | T18: 0 | U18: 0 | V18: 0 | W18: 0 | X18: 0 | Y18: 0 | Z18: 0 | AA18: 0 | AB18: 0 | AC18: 0 | AD18: 0 | AE18: 0 | AF18: 0 | AG18: 0 | AH18: 0 | AI18: 0 | AJ18: 0 | AK18: 0 | AL18: 0 | AM18: 0 | AN18: 0 | AO18: 0
E19: De 0.50 a 0.74 | G19: 3 | I19: Media aritmética baja | L19: 0 | M19: 0 | N19: 0 | O19: 0 | P19: 0 | Q19: 0 | R19: 0 | S19: 0 | T19: 0 | U19: 0 | V19: 0 | W19: 0 | X19: 0 | Y19: 0 | Z19: 0 | AA19: 0 | AB19: 0 | AC19: 0 | AD19: 0 | AE19: 0 | AF19: 0 | AG19: 0 | AH19: 0 | AI19: 0 | AJ19: 0 | AK19: 0 | AL19: 0 | AM19: 0 | AN19: 0 | AO19: 0
E20: De 0.75 a 0.99 | G20: 4 | I20: Menor valor | L20: 0 | M20: 0 | N20: 0 | O20: 0 | P20: 0 | Q20: 0 | R20: 0 | S20: 0 | T20: 0 | U20: 0 | V20: 0 | W20: 0 | X20: 0 | Y20: 0 | Z20: 0 | AA20: 0 | AB20: 0 | AC20: 0 | AD20: 0 | AE20: 0 | AF20: 0 | AG20: 0 | AH20: 0 | AI20: 0 | AJ20: 0 | AK20: 0 | AL20: 0 | AM20: 0 | AN20: 0 | AO20: 0
B21: TOTAL | L21: =SUM(L17:L20) -> 0 | M21: =SUM(M17:M20) -> 0 | N21: =SUM(N17:N20) -> 0 | O21: =SUM(O17:O20) -> 0 | P21: =SUM(P17:P20) -> 0 | Q21: =SUM(Q17:Q20) -> 0 | R21: =SUM(R17:R20) -> 0 | S21: =SUM(S17:S20) -> 0 | ... AO21: =SUM(AO17:AO20) -> 0
A22: 4.2. | B22: FACTOR DE CALIDAD | L22: Puntos Totales | M22: Puntos Totales | N22: Puntos Totales | O22: Puntos Totales | P22: Puntos Totales | Q22: Puntos Totales | R22: Puntos Totales | S22: Puntos Totales | T22: Puntos Totales | U22: Puntos Totales | V22: Puntos Totales | W22: Puntos Totales | X22: Puntos Totales | Y22: Puntos Totales | Z22: Puntos Totales | AA22: Puntos Totales | AB22: Puntos Totales | AC22: Puntos Totales | AD22: Puntos Totales | AE22: Puntos Totales | AF22: Puntos Totales | AG22: Puntos Totales | AH22: Puntos Totales | AI22: Puntos Totales | AJ22: Puntos Totales | AK22: Puntos Totales | AL22: Puntos Totales | AM22: Puntos Totales | AN22: Puntos Totales | AO22: Puntos Totales
B23: La Entidad asignará el puntaje de factor de calidad como sigue: | E23: CONCEPTO | K23: PUNTAJE
E24: Implementación del programa de gerencia de proyectos | K24: 10 | L24: 10 | M24: 10 | N24: 10 | O24: 10 | P24: 10 | Q24: 10 | R24: 10 | S24: 10 | T24: 10 | U24: 10 | V24: 10 | W24: 10 | X24: 10 | Y24: 10 | Z24: 10 | AA24: 10 | AB24: 10 | AC24: 10 | AD24: 10 | AE24: 10 | AF24: 10 | AG24: 10 | AH24: 10 | AI24: 10 | AJ24: 10 | AK24: 10 | AL24: 0 | AM24: 0 | AN24: 0 | AO24: 0
E25: Presentación de un plan de calidad. | K25: 9 | L25: 9 | M25: 9 | N25: 9 | O25: 9 | P25: 9 | Q25: 9 | R25: 9 | S25: 9 | T25: 9 | U25: 9 | V25: 9 | W25: 9 | X25: 9 | Y25: 9 | Z25: 9 | AA25: 9 | AB25: 9 | AC25: 9 | AD25: 9 | AE25: 9 | AF25: 9 | AG25: 9 | AH25: 9 | AI25: 9 | AJ25: 9 | AK25: 9 | AL25: 0 | AM25: 0 | AN25: 0 | AO25: 0
E26: TOTAL | K26: 19 | L26: =SUM(L24:L25) -> 19 | M26: =SUM(M24:M25) -> 19 | N26: =SUM(N24:N25) -> 19 | O26: =SUM(O24:O25) -> 19 | P26: =SUM(P24:P25) -> 19 | Q26: =SUM(Q24:Q25) -> 19 | R26: =SUM(R24:R25) -> 19 | S26: =SUM(S24:S25) -> 19 | ... AK26: =SUM(AK24:AK25) -> 19 | AL26: 0 | AM26: 0 | AN26: 0 | AO26: 0
A27: 4.3 | B27: APOYO A LA INDUSTRIA NACIONAL | L27: Puntos Totales | M27: Puntos Totales | N27: Puntos Totales | O27: Puntos Totales | P27: Puntos Totales | Q27: Puntos Totales | R27: Puntos Totales | S27: Puntos Totales | T27: Puntos Totales | U27: Puntos Totales | V27: Puntos Totales | W27: Puntos Totales | X27: Puntos Totales | Y27: Puntos Totales | Z27: Puntos Totales | AA27: Puntos Totales | AB27: Puntos Totales | AC27: Puntos Totales | AD27: Puntos Totales | AE27: Puntos Totales | AF27: Puntos Totales | AG27: Puntos Totales | AH27: Puntos Totales | AI27: Puntos Totales | AJ27: Puntos Totales | AK27: Puntos Totales | AL27: Puntos Totales | AM27: Puntos Totales | AN27: Puntos Totales | AO27: Puntos Totales
B28: Los puntajes para estimular a la industria nacional se relacionan en la siguiente tabla: | E28: CONCEPTO | K28: PUNTAJE
E29: Promoción de Servicios Nacionales o con Trato Nacional | K29: 20 | L29: 20 | M29: 20 | N29: 20 | O29: 20 | P29: 20 | Q29: 20 | R29: 20 | S29: 20 | T29: 20 | U29: 20 | V29: 20 | W29: 20 | X29: 20 | Y29: 20 | Z29: 20 | AA29: 20 | AB29: 20 | AC29: 20 | AD29: 20 | AE29: 20 | AF29: 20 | AG29: 20 | AH29: 20 | AI29: 20 | AJ29: 20 | AK29: 20 | AL29: 0 | AM29: 0 | AN29: 0 | AO29: 0
E30: Incorporación de componente nacional en servicios extranjeros | K30: 5 | L30: 0 | M30: 0 | N30: 0 | O30: 0 | P30: 0 | Q30: 0 | R30: 0 | S30: 0 | T30: 0 | U30: 0 | V30: 0 | W30: 0 | X30: 0 | Y30: 0 | Z30: 0 | AA30: 0 | AB30: 0 | AC30: 0 | AD30: 0 | AE30: 0 | AF30: 0 | AG30: 0 | AH30: 0 | AI30: 0 | AJ30: 0 | AK30: 0 | AL30: 0 | AM30: 0 | AN30: 0 | AO30: 0
E31: TOTAL | K31: 25 | L31: =SUM(L29:L30) -> 20 | M31: =SUM(M29:M30) -> 20 | N31: =SUM(N29:N30) -> 20 | O31: =SUM(O29:O30) -> 20 | P31: =SUM(P29:P30) -> 20 | Q31: =SUM(Q29:Q30) -> 20 | R31: =SUM(R29:R30) -> 20 | S31: =SUM(S29:S30) -> 20 | ... AK31: =SUM(AK29:AK30) -> 20 | AL31: 0 | AM31: 0 | AN31: =SUM(AN29:AN30) -> 0 | AO31: 0
A32: 4.4. | B32: VINCULACIÓN DE PERSONAS CON DISCAPACIDAD | J32: PUNTAJE | L32: Puntos Totales | M32: Puntos Totales | N32: Puntos Totales | O32: Puntos Totales | P32: Puntos Totales | Q32: Puntos Totales | R32: Puntos Totales | S32: Puntos Totales | T32: Puntos Totales | U32: Puntos Totales | V32: Puntos Totales | W32: Puntos Totales | X32: Puntos Totales | Y32: Puntos Totales | Z32: Puntos Totales | AA32: Puntos Totales | AB32: Puntos Totales | AC32: Puntos Totales | AD32: Puntos Totales | AE32: Puntos Totales | AF32: Puntos Totales | AG32: Puntos Totales | AH32: Puntos Totales | AI32: Puntos Totales | AJ32: Puntos Totales | AK32: Puntos Totales | AL32: Puntos Totales | AM32: Puntos Totales | AN32: Puntos Totales | AO32: Puntos Totales
B33: La entidad asignará un (1) punto al proponente que acredite el número mínimo de personas con discapacidad de acuerdo con el número total de trabajadores de la planta de su personal en los términos señalados en el artículo 2.2.1.2.4.2.6. del Decreto 1082 de 2015 (adicionado por el Decreto 392 de 2018). | J33: 1 | L33: 1 | M33: 1 | N33: 1 | O33: 1 | P33: 1 | Q33: 1 | R33: 1 | S33: 1 | T33: 1 | U33: 1 | V33: 1 | W33: 1 | X33: 1 | Y33: 1 | Z33: 1 | AA33: 1 | AB33: 1 | AC33: 1 | AD33: 1 | AE33: 1 | AF33: 1 | AG33: 1 | AH33: 1 | AI33: 1 | AJ33: 1 | AK33: 1 | AL33: 0 | AM33: 0 | AN33: 0 | AO33: 0
A34: 4.5. | B34: EMPRENDIMIENTOS Y EMPRESAS DE MUJERES | J34: PUNTAJE | L34: Puntos Totales | M34: Puntos Totales | N34: Puntos Totales | O34: Puntos Totales | P34: Puntos Totales | Q34: Puntos Totales | R34: Puntos Totales | S34: Puntos Totales | T34: Puntos Totales | U34: Puntos Totales | V34: Puntos Totales | W34: Puntos Totales | X34: Puntos Totales | Y34: Puntos Totales | Z34: Puntos Totales | AA34: Puntos Totales | AB34: Puntos Totales | AC34: Puntos Totales | AD34: Puntos Totales | AE34: Puntos Totales | AF34: Puntos Totales | AG34: Puntos Totales | AH34: Puntos Totales | AI34: Puntos Totales | AJ34: Puntos Totales | AK34: Puntos Totales | AL34: Puntos Totales | AM34: Puntos Totales | AN34: Puntos Totales | AO34: Puntos Totales
B35: La Entidad asignará un puntaje de cero punto veinticinco (0.25) puntos al Proponente que acredite la calidad de emprendimientos y empresas de mujeres con domicilio en el territorio nacional de conformidad con lo previsto en el artículo 2.2.1.2.4.2.14. del Decreto 1082 de 2015 o la norma que lo modifique, sustituya o complemente. | J35: 0.25 | L35: 0.25 | M35: 0.25 | N35: 0.25 | O35: 0.25 | P35: 0.25 | Q35: 0.25 | R35: 0.25 | S35: 0.25 | T35: 0.25 | U35: 0.25 | V35: 0.25 | W35: 0.25 | X35: 0 | Y35: 0.25 | Z35: 0.25 | AA35: 0.25 | AB35: 0.25 | AC35: 0.25 | AD35: 0.25 | AE35: 0.25 | AF35: 0.25 | AG35: 0.25 | AH35: 0.25 | AI35: 0.25 | AJ35: 0.25 | AK35: 0.25 | AL35: 0 | AM35: 0 | AN35: 0 | AO35: 0
A36: 4.6. | B36: MIPYME DOMICILIADA EN COLOMBIA | J36: PUNTAJE | L36: Puntos Totales | M36: Puntos Totales | N36: Puntos Totales | O36: Puntos Totales | P36: Puntos Totales | Q36: Puntos Totales | R36: Puntos Totales | S36: Puntos Totales | T36: Puntos Totales | U36: Puntos Totales | V36: Puntos Totales | W36: Puntos Totales | X36: Puntos Totales | Y36: Puntos Totales | Z36: Puntos Totales | AA36: Puntos Totales | AB36: Puntos Totales | AC36: Puntos Totales | AD36: Puntos Totales | AE36: Puntos Totales | AF36: Puntos Totales | AG36: Puntos Totales | AH36: Puntos Totales | AI36: Puntos Totales | AJ36: Puntos Totales | AK36: Puntos Totales | AL36: Puntos Totales | AM36: Puntos Totales | AN36: Puntos Totales | AO36: Puntos Totales
B37: La Entidad otorgará un puntaje de cero punto veinticinco (0.25) puntos al Proponente que acredite la calidad de Mipyme domiciliada en Colombia de conformidad con el artículo 2.2.1.2.4.2.4 del Decreto 1082 de 2015, en concordancia con el parágrafo del artículo 2.2.1.13.2.4 del Decreto 1074 de 2015, o la norma que lo modifique, complemente o sustituya. | J37: 0.25 | L37: 0.25 | M37: 0.25 | N37: 0.25 | O37: 0.25 | P37: 0.25 | Q37: 0.25 | R37: 0.25 | S37: 0.25 | T37: 0.25 | U37: 0.25 | V37: 0.25 | W37: 0.25 | X37: 0.25 | Y37: 0.25 | Z37: 0.25 | AA37: 0.25 | AB37: 0.25 | AC37: 0.25 | AD37: 0.25 | AE37: 0.25 | AF37: 0.25 | AG37: 0.25 | AH37: 0.25 | AI37: 0.25 | AJ37: 0.25 | AK37: 0.25 | AL37: 0 | AM37: 0 | AN37: 0 | AO37: 30
A38: PUNTAJE PARCIAL | L38: =L26+L31+L33+L35+L37 -> 40.5 | M38: =M26+M31+M33+M35+M37 -> 40.5 | N38: =N26+N31+N33+N35+N37 -> 40.5 | O38: =O26+O31+O33+O35+O37 -> 40.5 | P38: =P26+P31+P33+P35+P37 -> 40.5 | Q38: =Q26+Q31+Q33+Q35+Q37 -> 40.5 | R38: =R26+R31+R33+R35+R37 -> 40.5 | S38: =S26+S31+S33+S35+S37 -> 40.5 | ... AO38: =AO26+AO31+AO33+AO35+AO37 -> 30
A39: VERIFICACIÓN OBRAS INCONCLUSAS (-1)
A40: Las Entidades deberán reducir durante la evaluación de las ofertas dos (2) puntos a los Proponentes que se les haya impuesto una o más multas o cláusulas penales durante el último año, contado a partir de la fecha prevista para el cierre del proceso, sin importar la cuantía y sin perjuicio de las demás consecuencias derivadas del incumplimiento. Esta reducción también afectará a los Consorcios y a las Uniones Temporales si alguno de sus integrantes se encuentra en la situación anterior. (-2)
A41: TOTAL PUNTAJE - VERIFICACIÓN OBRAS INCONCLUSAS | L41: =L38-L39-L40 -> 40.5 | M41: =M38-M39-M40 -> 40.5 | N41: =N38-N39-N40 -> 40.5 | O41: =O38-O39-O40 -> 40.5 | P41: =P38-P39-P40 -> 40.5 | Q41: =Q38-Q39-Q40 -> 40.5 | R41: =R38-R39-R40 -> 40.5 | S41: =S38-S39-S40 -> 40.5 | ... AO41: =AO38-AO39-AO40 -> 30
A42: OBSERVACIONES

Sheet Comparativo Precios L1
A1: #VALUE! | C1: INFORME DE EVALUACIÓN TÉCNICA
C2: STM- LICITACIÓN PÚBLICA Nº STM-LP-286-2024
C3: OBJETO:IMPLEMENTAR INTERVENCIONES EN INFRAESTRUCTURA VIAL PARA MEJORAR LAS CONDICIONES DE SEGURIDAD VIAL Y MITIGAR RIESGOS EN PUNTOS CRÍTICOS PRIORIZADOS A CARGO DEL DEPARTAMENTO DE CUNDINAMARCA”
C5: EVALUACIÓN TECNICA LICITACIÓN PÚBLICA No. :
A7: PRESUPUESTO OFICIAL: | G7: 4000000000 | J7: VALOR DEL SMMLV DEL AÑO 2023: | L7: 1300000
A8: LOTE: | G8: 1 | J8: VALOR PRESUPUESTO OFICIAL EN SMMLV: | L8: =G7/L7 -> 3076.9231
A10: ITEM | B10: CRITERIO A EVALUAR | L10: P1 | P10: P2 | T10: P3 | X10: P4 | AB10: P5 | AF10: P6 | AJ10: P7 | AN10: P8 | AR10: P9 | AV10: P10 | AZ10: P11 | BD10: P12 | BH10: P13 | BL10: P14 | BP10: P15 | BT10: P16 | BX10: P17 | CB10: P18 | CF10: P19 | CJ10: P20 | CN10: P21 | CR10: P22 | CV10: P23 | CZ10: P24 | DD10: P25 | DH10: P26 | DL10: P27 | DP10: P28 | DT10: P29 | DX10: P30
L11: =Proponentes!B11 -> Unión Temporal Elite 2024 | P11: =Proponentes!B12 -> Consorcio Señalizar GP | T11: =Proponentes!B13 -> CREA SAS | X11: =Proponentes!B14 -> UT Cundinamarca Segura | AB11: =Proponentes!B15 -> PINTUVIAL SAS | AF11: =Proponentes!B16 -> SEGURIDAD Y SERVICIOS SEÑALIZACIÓN S.A. | AJ11: =Proponentes!B17 -> SOCINTER S.A. | AN11: =Proponentes!B18 -> UT TRACKVIAL | AR11: =Proponentes!B19 -> CONSORCIO VIAL COMPROT 2024 | AV11: =Proponentes!B20 -> FREESTONE CONSTRUCCIONES S.A.S. | AZ11: =Proponentes!B21 -> NSP DE COLOMBIA S.A.S. | BD11: =Proponentes!B22 -> INGENIEROS CIVILES EN TRAFICO, TRANSPORTE Y VIAS - ICOVIAS S.A.S. | BH11: =Proponentes!B23 -> JAVIER FERNANDO BASTIDAS CAMPAÑA | BL11: =Proponentes!B24 -> CONSORCIO MS. | BP11: =Proponentes!B25 -> CONSORCIO WIGV SEÑALIZADORES | BT11: =Proponentes!B26 -> CONSORCIO SUPER AC2R 2024 | BX11: =Proponentes!B27 -> CONSORCIO VIAL CUNDINAMARCA 286 | CB11: =Proponentes!B28 -> UNIÓN TEMPORAL VSDM | CF11: =Proponentes!B29 -> CONSORCIO SEGURIVIAL SM | CJ11: =Proponentes!B30 -> UNIÓN TEMPORAL INSEAN CUNDINAMARCA 2024 | CN11: =Proponentes!B31 -> CONSORCIO CUNDINAMARCA VIAL. | CR11: =Proponentes!B32 -> CONSORCIO INGENIO VIAL | CV11: =Proponentes!B33 -> CONSORCIO SEGUVIAL 2RI | CZ11: =Proponentes!B34 -> SEÑAL VÍAS SAS | DD11: =Proponentes!B35 -> CONSORCIO GEPAV-TPD. | DH11: =Proponentes!B36 -> CONSORCIO SANTIAGO | DL11: =Proponentes!B37 -> 0 | DP11: =Proponentes!B38 -> 0 | DT11: =Proponentes!B39 -> 0 | DX11: =Proponentes!B40 -> 0
B12: PRESUPUESTO OFICIAL | L12: VALOR UNITARIO | M12: AJUSTE AL PESO DEL VALOR UNITARIO | N12: VALOR UNITARIO MAYOR AL P.O | O12: VALOR TOTAL | P12: VALOR UNITARIO | Q12: AJUSTE AL PESO DEL VALOR UNITARIO | R12: VALOR UNITARIO MAYOR AL P.O | S12: VALOR TOTAL | T12: VALOR UNITARIO | U12: AJUSTE AL PESO DEL VALOR UNITARIO | V12: VALOR UNITARIO MAYOR AL P.O | W12: VALOR TOTAL | X12: VALOR UNITARIO | Y12: AJUSTE AL PESO DEL VALOR UNITARIO | Z12: VALOR UNITARIO MAYOR AL P.O | AA12: VALOR TOTAL | AB12: VALOR UNITARIO | AC12: AJUSTE AL PESO DEL VALOR UNITARIO | AD12: VALOR UNITARIO MAYOR AL P.O | AE12: VALOR TOTAL | AF12: VALOR UNITARIO | AG12: AJUSTE AL PESO DEL VALOR UNITARIO | AH12: VALOR UNITARIO MAYOR AL P.O | AI12: VALOR TOTAL | AJ12: VALOR UNITARIO | AK12: AJUSTE AL PESO DEL VALOR UNITARIO | AL12: VALOR UNITARIO MAYOR AL P.O | AM12: VALOR TOTAL | AN12: VALOR UNITARIO | AO12: AJUSTE AL PESO DEL VALOR UNITARIO | AP12: VALOR UNITARIO MAYOR AL P.O | AQ12: VALOR TOTAL | AR12: VALOR UNITARIO | AS12: AJUSTE AL PESO DEL VALOR UNITARIO | AT12: VALOR UNITARIO MAYOR AL P.O | AU12: VALOR TOTAL | AV12: VALOR UNITARIO | AW12: AJUSTE AL PESO DEL VALOR UNITARIO | AX12: VALOR UNITARIO MAYOR AL P.O | AY12: VALOR TOTAL | AZ12: VALOR UNITARIO | BA12: AJUSTE AL PESO DEL VALOR UNITARIO | BB12: VALOR UNITARIO MAYOR AL P.O | BC12: VALOR TOTAL | BD12: VALOR UNITARIO | BE12: AJUSTE AL PESO DEL VALOR UNITARIO | BF12: VALOR UNITARIO MAYOR AL P.O | BG12: VALOR TOTAL | BH12: VALOR UNITARIO | BI12: AJUSTE AL PESO DEL VALOR UNITARIO | BJ12: VALOR UNITARIO MAYOR AL P.O | BK12: VALOR TOTAL | BL12: VALOR UNITARIO | BM12: AJUSTE AL PESO DEL VALOR UNITARIO | BN12: VALOR UNITARIO MAYOR AL P.O | BO12: VALOR TOTAL | BP12: VALOR UNITARIO | BQ12: AJUSTE AL PESO DEL VALOR UNITARIO | BR12: VALOR UNITARIO MAYOR AL P.O | BS12: VALOR TOTAL | BT12: VALOR UNITARIO | BU12: AJUSTE AL PESO DEL VALOR UNITARIO | BV12: VALOR UNITARIO MAYOR AL P.O | BW12: VALOR TOTAL | BX12: VALOR UNITARIO | BY12: AJUSTE AL PESO DEL VALOR UNITARIO | BZ12: VALOR UNITARIO MAYOR AL P.O | CA12: VALOR TOTAL | CB12: VALOR UNITARIO | CC12: AJUSTE AL PESO DEL VALOR UNITARIO | CD12: VALOR UNITARIO MAYOR AL P.O | CE12: VALOR TOTAL | CF12: VALOR UNITARIO | CG12: AJUSTE AL PESO DEL VALOR UNITARIO | CH12: VALOR UNITARIO MAYOR AL P.O | CI12: VALOR TOTAL | CJ12: VALOR UNITARIO | CK12: AJUSTE AL PESO DEL VALOR UNITARIO | CL12: VALOR UNITARIO MAYOR AL P.O | CM12: VALOR TOTAL | CN12: VALOR UNITARIO | CO12: AJUSTE AL PESO DEL VALOR UNITARIO | CP12: VALOR UNITARIO MAYOR AL P.O | CQ12: VALOR TOTAL | CR12: VALOR UNITARIO | CS12: AJUSTE AL PESO DEL VALOR UNITARIO | CT12: VALOR UNITARIO MAYOR AL P.O | CU12: VALOR TOTAL | CV12: VALOR UNITARIO | CW12: AJUSTE AL PESO DEL VALOR UNITARIO | CX12: VALOR UNITARIO MAYOR AL P.O | CY12: VALOR TOTAL | CZ12: VALOR UNITARIO | DA12: AJUSTE AL PESO DEL VALOR UNITARIO | DB12: VALOR UNITARIO MAYOR AL P.O | DC12: VALOR TOTAL | DD12: VALOR UNITARIO | DE12: AJUSTE AL PESO DEL VALOR UNITARIO | DF12: VALOR UNITARIO MAYOR AL P.O | DG12: VALOR TOTAL | DH12: VALOR UNITARIO | DI12: AJUSTE AL PESO DEL VALOR UNITARIO | DJ12: VALOR UNITARIO MAYOR AL P.O | DK12: VALOR TOTAL | DL12: VALOR UNITARIO | DM12: AJUSTE AL PESO DEL VALOR UNITARIO | DN12: VALOR UNITARIO MAYOR AL P.O | DO12: VALOR TOTAL | DP12: VALOR UNITARIO | DQ12: AJUSTE AL PESO DEL VALOR UNITARIO | DR12: VALOR UNITARIO MAYOR AL P.O | DS12: VALOR TOTAL | DT12: VALOR UNITARIO | DU12: AJUSTE AL PESO DEL VALOR UNITARIO | DV12: VALOR UNITARIO MAYOR AL P.O | DW12: VALOR TOTAL | DX12: VALOR UNITARIO | DY12: AJUSTE AL PESO DEL VALOR UNITARIO | DZ12: VALOR UNITARIO MAYOR AL P.O | EA12: VALOR TOTAL
A13: Nº | B13: DESCRIPCIÓN | H13: UND. | I13: CANTIDAD | J13: VALOR UNITARIO | K13: VALOR TOTAL
A14: IMPRIMANTE
