Workbook
Name PRINT_AREA_MI: #N/A
Name PRINT_TITLES_MI: #N/A

Sheet LISTA DE OFERENTES
A1: FONDO DE DESARROLLO LOCAL DE ENGATIVÁ
A2: FDLE-LP-810-2024
A3: No. | B3: NOMBRE | C3: REPRESENTANTE LEGAL | D3: TIPO DE OFERENTE | E3: CONSORCIADO 1 | F3: CONSORCIADO 2 | G3: CONSORCIADO 3 | H3: CONSORCIADO 4
A4: 1 | B4: CONSORCIO OASIS. | C4: NICOLAS ALVAREZ GONZALEZ | D4: CONSORCIO | E4: OBRICON S.A.S - 50 % | F4: TAYFER DE COLOMBIA LTDA - 50%
A5: 2 | B5: CONSTRUCTORA DE INFRAESTRUCTURA COLOMBIANA COINCO S.A.S. | C5: ANGÉLICA MARÍA PINZÓN BARRETO | D5: EMPRESA | E5: CONSTRUCTORA DE INFRAESTRUCTURA COLOMBIANA COINCO S.A.S. - 100%
A6: 3 | B6: CONSORCIO SALONES CR 2024. | C6: NESTOR RAUL GALINDO ROJAS | D6: CONSORCIO | E6: LATORRE ORTIZ INGENIERIA SAS - 10% | F6: PROYECTOS - CR S.A.S BIC - 90%
A7: 4 | B7: CONSORCIO SALONES - ARM- 2024 | C7: VIVIANA ANDREA RODRIGUEZ MUÑOZ | D7: CONSORCIO | E7: EMPRESA DE SERVICIOS PUBLICOS SINERGIA E.S.P. S.A.S -90% | F7: ARM CONSULTORIA Y CONSTRUCCIONES S.A.S - 10%
A8: 5 | B8: C.B.C INGENIERÍA CIVIL Y MANTENIMIENTO SAS | C8: CARLOS MAURICIO BOHÓRQUEZ CAMARGO | D8: EMPRESA | E8: C.B.C INGENIERÍA CIVIL Y MANTENIMIENTO SAS - 100%
A9: 6 | B9: CONSORCIO SALONES ENGATIVA HGR | C9: HELDER GUSTAVO RODRIGUEZ SANTANA | D9: CONSORCIO | E9: HELDER GUSTAVO RODRIGUEZ SANTANA - 80% | F9: GÉNESIS INGENIERÍA Y CONSTRUCCIÓN GIC S.A.S. - 10% | G9: PROYECTOS DISEÑOS INGENIERÍA ARQUITECTURA Y CONSTRUCCIONES LTDA - 10%
A10: 7 | B10: UNION TEMPORAL HCE SALONES COMUNALES | C10: ARIEL GUILLERMO SERRANO CASTILLO | D10: UNION TEMPORAL | E10: HARINSA NAVASFALT INFRAESTRUCTURA S.A.S - 2% | F10: CONSTRUCTORA DE VIVIENDA Y OBRAS CIVILES DE COLOMBIA S.A.S - 50% | G10: EDGAR A. RAMIREZ RIVERO S.A.S. - 48%
A11: 8 | B11: ARMELCO SAS | C11: CARMEN EMILIA LUNA NARANJO | D11: EMPRESA | E11: ARMELCO SAS - 100%
A12: 9 | B12: CONSORCIO SANTA MARTA 03 | C12: WILLIAMS HENRY GUEVARA TORRES | D12: CONSORCIO | E12: CONSTRUCTORA VALHER S.A.S. - 90% | F12: MAGDA HEYNNER UMAÑA TORRES - 10%
A13: 10 | B13: CONSORCIO CONSTRUCTORES DEL OCCIDENTE | C13: LADY MERCEDES AGUIRRE ORTIZ | D13: CONSORCIO | E13: BALER INGENIERIA S.A.S BIC - 90% | F13: ANDRES HERNAN AVELLA NOSSA - 10%
A14: 11 | B14: VISUAR S.A.S | C14: JORGE ARMANDO VINASCO MUÑOZ | D14: EMPRESA | E14: VISUAR S.A.S - 100%
A15: 12 | B15: CONSORCIO MANTENIMIENTO A&S | C15: ANA MILENA GOMEZ SANCHEZ | D15: CONSORCIO | E15: SOLUCIONES CIVILES DEL NORTE S.A.S. - 50% | F15: CONSTRUCCIONES AMG S.A.S - 50%
A16: 13 | B16: CONSORCIO RDB | C16: YEISON FABIÁN CRISTANCHO GÓMEZ | D16: CONSORCIO | E16: RC ARQUITECTOS S.A.S. - 45% | F16: DINGCO CONSTRUCCIONES S.A.S. - 45% | G16: BUSINESS GROUP CG S.A.S. - 10%
A17: 14 | B17: RCC INGENIERÍA Y PROYECTOS S.A.S. | C17: ADRIÁN ALBERTO RAMÍREZ BARROS | D17: EMPRESA | E17: RCC INGENIERÍA Y PROYECTOS S.A.S. - 100%
A18: 15 | B18: CONSORCIO SALCO 13 | C18: FREDY ALEXANDER BARON LOZANO | D18: CONSORCIO | E18: ALTIUM PROYECTOS SAS - 90% | F18: VIGAVI ZOMAC SAS - 10%
A19: 16 | B19: CONSORCIO WAS | C19: SEGUNDISALVO PARDO BARRETO | D19: CONSORCIO | E19: SEGUNDISALVO PARDO BARRETO - 50% | F19: ARQUIMCO SAS - 30% | G19: WNM INGENIEROS SAS - 20%
A20: 17 | B20: CONSORCIO CONSTRUOPUS ENGATIVA | C20: YEISSON JAIR HEREDIA PINILLA | D20: CONSORCIO | E20: OPUS INGENIERIA SAS - 90% | F20: PROINCO AYV INGENIERIA - 10%
A21: 18 | B21: CONSORCIO ZF 1 | C21: KATHERINE RÍOS PORTILLA | D21: CONSORCIO | E21: RIVAL CONSTRUCCIONES E INVERSIONES S.A.S. - 90% | F21: INGEDUCTOS INGENIERÍA ESPECIALIZADA S.A.S. - 10%
A22: 19 | B22: CONSORCIO GMAC | C22: AUGUSTO JOSE GARCIA | D22: CONSORCIO | E22: GMA CONSTRUCCIONES SAS - 60% | F22: COASCON SAS - 40%
A23: 20 | B23: CONSORCIO ISAJU | C23: CARMEN ELISA RODRIGUE | D23: CONSORCIO | E23: DIARQCO CONSTRUCTORES S.A.S - 50% | F23: PB TORRES CONSTRUCCIONES S.A.S - 50%
A24: 21 | B24: CONSORCIO OBRAS CIVILES MEQ | C24: MIGUEL ANGEL QUIÑONES | D24: CONSORCIO | E24: CONSTRUCCIONES E INGENIERIA MQ SAS - 60% | F24: EQUICON INGENIERIA SAS - 40%
A25: 22 | B25: CONSORCIO CONSTRUCTOR AND | C25: CRISTIAN SANCHEZ DIAZ | D25: CONSORCIO | E25: NECONSER SAS - 60% | F25: OBRAS CIVILES INTEGRALES SAS - 40%
A26: 23 | B26: CONSORCIO ENGATIVÁ 2025 | C26: FABIO ANDRES PUENTES | D26: CONSORCIO | E26: DECO INGENIEROS SAS - 30% | F26: INARDI SAS - 30% | G26: CPI GROUP - 40%
A27: 24 | B27: CONSORCIO SANTA LUCIA | C27: OMAR DAVID RODRIGUEZ JAUREGUI | D27: CONSORCIO | E27: CONSTRUCTORA DARJA S.A.S. - 50% | F27: ZION CONSTRUCCIONES S.A.S. - 50%
A28: 25 | B28: CONSORCIO BOGOTÁ GG | C28: VÍCTOR HUGO GONZÁLEZ SANDOVAL | D28: CONSORCIO | E28: G63 INFRAESTRUCTURA Y SERVICIOS S.A.S. - 55% | F28: GIJON S.A.S. - 45%
A29: 26 | B29: CONSORCIO COMUNAL OLG | C29: OLAGUER AGUDELO PRIETO | D29: CONSORCIO | E29: MAGNA CONSTRUCCIONES S.A.S. - 90% | F29: ASDICO LTDA - 10%
A30: 27 | B30: CONSORCIO INTELPOLO Z10 | C30: LAURA FERNANDA RAMIREZ BASTIDAS | D30: CONSORCIO | E30: INTELCA PROYECTOS, SERVICIOS Y TECNOLOGÍA S.A.S (INTELCA PST S.A.S.) - 50% | F30: POLO INGENIERÍA CONSTRUCCIONES (POLOINGSA) - 50%
A31: 28 | B31: IG INGENIEROS Y ARQUITECTOS S.A.S. | C31: IVAN YEZID GALVIS CHACON | D31: EMPRESA | E31: IG INGENIEROS Y ARQUITECTOS S.A.S. - 100%
A32: 29 | B32: PUERTA DEL SOL | C32: NESTOR ALFONSO ORTIZ BELLO | D32: CONSORCIO | E32: LUIS EDUARDO SALDAÑA R - 40% | F32: IHF INGENIERIA Y ASESORIA SAS 10% | G32: NESTOR ALFONSO ORTIZ BELLO - 50%
A33: 30 | B33: CONSORCIO TANGO | C33: JAIRO ARTURO CARDENAS AVELLANEDA | D33: CONSORCIO | E33: JAIRO ARTURO CARDENAS AVELLANEDA - 90% | F33: FIRM SAS - 10%
A34: 31 | B34: CONSORCIO COMUNALES 2025 | C34: JUAN JOSE BONETT PARADA | D34: CONSORCIO | E34: SISTEMAS INDUSTRIALES DE MANTENIMIENTO CONSTRUCCION Y OBRAS CIVILES S.A.S - 70% | F34: INJERR S.A.S - 30%
A35: 32 | B35: UNION TEMPORAL MANTENIMIENTO | C35: RENE ARTURO MONTENEGRO SIEFKEN | D35: UNION TEMPORAL | E35: MLG INGENIERIA SAS - 90% | F35: MARTHA LORENA GARCIA QUIROGA -10%
A36: 33 | B36: CONSORCIO COIDEAR | C36: JESUS DAVID DONCEL GUZMAN | D36: CONSORCIO | E36: IDEAR PROYECTOS S.A.S - 50% | F36: CORPORACION DE INGENIEROS Y ARQUITECTOS - 50%
A37: 34 | B37: CONSTRUCTORA GED S.A.S | C37: DANIELA TRIANA ZAMBRANO | D37: EMPRESA | E37: CONSTRUCTORA GED S.A.S 100%
A38: 35 | B38: CONSORCIO POWER | C38: HARRISON HERNAN LUNA MACA | D38: CONSORCIO | E38: PROJECTING DESIGNING AND BUILDING. LTDA 75% | F38: LOAR INGENIEROS S.A.S 25%
A39: 36 | B39: CONSORCIO GR 2024 | C39: OSCAR HERNANDO GUERRERO PIÑEROS | D39: CONSORCIO | E39: INVERSIONES GUERFOR SAS 80% | F39: RODRIGUEZ BAUTISTA EDIFICAR S.A.S 20%
A40: 37 | B40: CONSORCIO SAN ANTONIO | C40: LEONCIO HERNAN JAUREGUI REINA | D40: CONSORCIO | E40: CONSTRUCCIONES KYOTO S.A.S 90% | F40: COBE CONSTRUCCIONES S.A.S 10%
...

Sheet EVALUACION TÉC
A1: FONDO DE DESARROLLO LOCAL DE ENGATIVÁ
A2: FDLE-LP-810-2024
A3: REQUISITOS HABILITANTES TÉCNICOS | T3: CUMPLE
T4: NO CUMPLE
T5: HABILITADO
T6: NO HABILITADO
A9: 1 | E9: =VLOOKUP(A9,'LISTA DE OFERENTES'!$A$4:$B$84,2,FALSE) -> CONSORCIO OASIS.
A10: NÚMERO DE CONTRATOS PRESENTADOS | B10: 2 | C10: PRESUPUESTO OFICIAL EN SMMLV LICITACIÓN | D10: =+$E$909 -> 3821.2236
A11: VALOR MÍNIMO A CERTIFICAR | C11: =IF(B10<3,0.75,IF(B10<5,1.2,1.5)) -> 0.75 | D11: =$D$909*C11 -> 2865.9177
A12: TERMINO DE EJECUCION EXIGIDO | C12: 45625
A13: TOTAL SALARIOS MINIMOS ACREDITADOS | C13: =+IF(H20>D11,"CUMPLE","NO CUMPLE") -> CUMPLE
A14: CONDICIONES DE EXPERIENCIA | I14: CONDICION N°. 1 (VER TABLA AL FINAL DE LA HOJA) | J14: CONDICION N°. 2 (VER TABLA AL FINAL DE LA HOJA) | K14: CONDICION N°. 4 (VER TABLA AL FINAL DE LA HOJA) | M14: VALIDACIÓN CONDICIONES | N14: VALIDACIÓN EXPERIENCIA GENERAL | O14: EXPERIENCIA ESPECIFICA (1) POR LO MENOS UNO (1) DE LOS CONTRATOS VÁLIDOS APORTADOS COMO EXPERIENCIA GENERAL DEBE CORRESPONDER MÍNIMO AL 50% DEL PRESUPUESTO OFICIAL DEL PRESENTE PROCESO DE SELECCIÓN. | Q14: CONCLUSIÓN ACREDITACIÓN EXPERIENCIA GENERAL Y EXPERIENCIA ESPECIFICA | R14: OBSERVACIONES Y RESPUESTA A LAS OBSERVACIONES
A15: Objeto del Contrato | B15: Entidad Contratante | D15: Valor Contrato | E15: Año de ejecución aportado | F15: Valor del Contrato en SMMLV | G15: Participación UT/CONSORCIO | H15: Participación en SMMLV | I15: Término de ejecución aportado | J15: CODIGO UNSPSC SEGMENTOS 72 (72101500, 72102900, 72103300, 72121100, 72151900, 72152700, 72153600) | L15: Valor aportado
A16: =VLOOKUP(A9,'LISTA DE OFERENTES'!$A$4:$H$84,5,FALSE) -> OBRICON S.A.S - 50 % | K16: =$D$909/2 -> 1910.6118 | M16: CUMPLE | O16: =$D$909*0.5 -> 1910.6118 | Q16: =IF(AND(N20="CUMPLE",O20="CUMPLE"),"CUMPLE","NO CUMPLE") -> CUMPLE
A17: Prestar los servicios de mantenimiento preventivo y correctivo al sistema eléctrico, al sistema hidráulico, incluidos los tanques de almacenamiento; al mobiliario; así como el mantenimiento integras a las instalaciones locativas y las obras de mejora que se requieran, con el suministro personal, equipo, materiales y repuestos, en las instalaciones físicas de la Secretaria Distrital de Hacienda y zonas comunes del Centro Administrativo Distrital CAD y las diferentes sedes. | B17: SECRETARIA DE HACEINDA | D17: 1083308421 | E17: 2022 | F17: =D17/(VLOOKUP(E17,$D$930:$E$963,2,FALSE)) -> 1083.3084 | G17: 0.5 | H17: =G17*F17 -> 541.65421 | I17: 44834 | J17: CUMPLE | L17: =H17 -> 541.65421 | N17: CUMPLE
A18: =VLOOKUP(A9,'LISTA DE OFERENTES'!$A$4:$H$84,6,FALSE) -> TAYFER DE COLOMBIA LTDA - 50%
A19: CONTRATAR BAJO LA MODALIDAD DE PRECIOS UNITARIOS SIN FORMULA DE REAJUSTE LA ADECUACIÓN, REMODELACIÓN Y/O MANTENIMIENTO INTEGRAL, PREVENTIVO Y CORRECTIVO PARA UNAS INSTALACIONES DE LA POLICÍA NACIONAL - DIRECCION DE BIENESTAR SOCIAL. | B19: POLICIA NACIONAL | D19: 9.5718879e+09 | E19: 2016 | F19: =D19/(VLOOKUP(E19,$D$930:$E$963,2,FALSE)) -> 13883.267 | G19: 0.5 | H19: =G19*F19 -> 6941.6335 | I19: 42490 | J19: CUMPLE | L19: =H19 -> 6941.6335 | N19: CUMPLE | P19: =+L19 -> 6941.6335
A20: TOTALES | H20: =SUM(H17:H19) -> 7483.2877 | I20: EXPERIENCIA DEL PROPONENTE | N20: CUMPLE | O20: =IF(P20>O16,"CUMPLE","NO CUMPLE") -> CUMPLE | P20: =SUM(P16:P19) -> 6941.6335 | R20: =+IF(AND(M16="CUMPLE",C13="CUMPLE",Q16="CUMPLE"),"HABILITADO","NO HABILITADO") -> HABILITADO
A22: =1+A9 -> 2 | E22: =VLOOKUP(A22,'LISTA DE OFERENTES'!$A$4:$B$84,2,FALSE) -> CONSTRUCTORA DE INFRAESTRUCTURA COLOMBIANA COINCO S.A.S.
A23: NÚMERO DE CONTRATOS PRESENTADOS | B23: 2 | C23: PRESUPUESTO OFICIAL EN SMMLV LICITACIÓN | D23: =+$E$909 -> 3821.2236
A24: VALOR MÍNIMO A CERTIFICAR | C24: =IF(B23<3,0.75,IF(B23<5,1.2,1.5)) -> 0.75 | D24: =$D$909*C24 -> 2865.9177
A25: TERMINO DE EJECUCION EXIGIDO | C25: 45625
A26: TOTAL SALARIOS MINIMOS ACREDITADOS | C26: =+IF(H32>D24,"CUMPLE","NO CUMPLE") -> CUMPLE
A27: CONDICIONES DE EXPERIENCIA | I27: CONDICION N°. 1 (VER TABLA AL FINAL DE LA HOJA) | J27: CONDICION N°. 2 (VER TABLA AL FINAL DE LA HOJA) | K27: CONDICION N°. 4 (VER TABLA AL FINAL DE LA HOJA) | M27: VALIDACIÓN CONDICIONES | N27: VALIDACIÓN EXPERIENCIA GENERAL | O27: EXPERIENCIA ESPECIFICA (1) POR LO MENOS UNO (1) DE LOS CONTRATOS VÁLIDOS APORTADOS COMO EXPERIENCIA GENERAL DEBE CORRESPONDER MÍNIMO AL 50% DEL PRESUPUESTO OFICIAL DEL PRESENTE PROCESO DE SELECCIÓN. | Q27: CONCLUSIÓN ACREDITACIÓN EXPERIENCIA GENERAL Y EXPERIENCIA ESPECIFICA | R27: OBSERVACIONES Y RESPUESTA A LAS OBSERVACIONES
A28: Objeto del Contrato | B28: Entidad Contratante | D28: Valor Contrato | E28: Año de ejecución aportado | F28: Valor del Contrato en SMMLV | G28: Participación UT/CONSORCIO | H28: Participación en SMMLV | I28: Término de ejecución aportado | J28: CODIGO UNSPSC SEGMENTOS 72 (72101500, 72102900, 72103300, 72121100, 72151900, 72152700, 72153600) | L28: Valor aportado
A29: =VLOOKUP(A22,'LISTA DE OFERENTES'!$A$4:$H$84,5,FALSE) -> CONSTRUCTORA DE INFRAESTRUCTURA COLOMBIANA COINCO S.A.S. - 100% | K29: =$D$909/2 -> 1910.6118 | M29: CUMPLE | O29: =$D$909*0.5 -> 1910.6118 | Q29: CUMPLE
A30: CONTRATAR LA EJECUCIÓN DE LAS OBRAS DE MEJORAMIENTO DE VIVIENDA EN L AMODALIDAD DE HABITABILIDAD DE LOS PROYECTOS ESTRUCTURADOS EN LOS TERRITORIOS PRIORIZADOS POR LA SECRETARIA DISTRITAL DEL HABITAT, GRUPOS 1 Y 2 - 2021 "GRUPO 2" M2 INTERVENIDOS O CONSTRUIDOS: 16.300 M2 | B30: SECRETARIA DISTRITAL DEL HABITAT | D30: 5130409981 | E30: 2022 | F30: =D30/(VLOOKUP(E30,$D$930:$E$963,2,FALSE)) -> 5130.41 | G30: 1 | H30: =G30*F30 -> 5130.41 | I30: 44656 | J30: CUMPLE | L30: =H30 -> 5130.41 | N30: CUMPLE | P30: =+L30 -> 5130.41
A31: EJECUTAR LAS OBRAS DE MEJORAMIENTO DE VIVIENDA EN LA MODALIDAD DE HABITABILIDAD EN LOS TERRITORIOS PRIORIZADOS POR LA SECRETARÍA DISTRITAL DEL HÁBITAT. – LOTE 2 M2 INTERVENIDOS O CONSTRUIDOS: 47.100 M2 | B31: SECRETARIA DISTRITAL DEL HABITAT | D31: 13600000000 | E31: 2020 | F31: 15493.22 | G31: 0.4 | H31: =G31*F31 -> 6197.288 | I31: 44128 | J31: CUMPLE | L31: =H31 -> 6197.288 | N31: CUMPLE | P31: =+L31 -> 6197.288 | R31: SE TOMA EL VALOR DEL CONTRATO EJECUTADO EXPRESADO EN SMMLV: 15.493,22 SEGÚN RUP
A32: TOTALES | H32: =SUM(H30:H31) -> 11327.698 | I32: EXPERIENCIA DEL PROPONENTE | O32: =IF(P32>O29,"CUMPLE","NO CUMPLE") -> CUMPLE | P32: =SUM(P29:P31) -> 11327.698 | R32: =+IF(AND(M29="CUMPLE",C26="CUMPLE",Q29="CUMPLE"),"HABILITADO","NO HABILITADO") -> HABILITADO
A34: =1+A22 -> 3 | E34: =VLOOKUP(A34,'LISTA DE OFERENTES'!$A$4:$B$84,2,FALSE) -> CONSORCIO SALONES CR 2024.
A35: NÚMERO DE CONTRATOS PRESENTADOS | B35: 3 | C35: PRESUPUESTO OFICIAL EN SMMLV LICITACIÓN | D35: =+$E$909 -> 3821.2236
A36: VALOR MÍNIMO A CERTIFICAR | C36: =IF(B35<3,0.75,IF(B35<5,1.2,1.5)) -> 1.2 | D36: =$D$909*C36 -> 4585.4683
A37: TERMINO DE EJECUCION EXIGIDO | C37: 45625
A38: TOTAL SALARIOS MINIMOS ACREDITADOS | C38: =+IF(H46>D36,"CUMPLE","NO CUMPLE") -> CUMPLE
A39: CONDICIONES DE EXPERIENCIA | I39: CONDICION N°. 1 (VER TABLA AL FINAL DE LA HOJA) | J39: CONDICION N°. 2 (VER TABLA AL FINAL DE LA HOJA) | K39: CONDICION N°. 4 (VER TABLA AL FINAL DE LA HOJA) | M39: VALIDACIÓN CONDICIONES | N39: VALIDACIÓN EXPERIENCIA GENERAL | O39: EXPERIENCIA ESPECIFICA (1) POR LO MENOS UNO (1) DE LOS CONTRATOS VÁLIDOS APORTADOS COMO EXPERIENCIA GENERAL DEBE CORRESPONDER MÍNIMO AL 50% DEL PRESUPUESTO OFICIAL DEL PRESENTE PROCESO DE SELECCIÓN. | Q39: CONCLUSIÓN ACREDITACIÓN EXPERIENCIA GENERAL Y EXPERIENCIA ESPECIFICA | R39: OBSERVACIONES Y RESPUESTA A LAS OBSERVACIONES
A40: Objeto del Contrato | B40: Entidad Contratante | D40: Valor Contrato | E40: Año de ejecución aportado | F40: Valor del Contrato en SMMLV | G40: Participación UT/CONSORCIO | H40: Participación en SMMLV | I40: Término de ejecución aportado | J40: CODIGO UNSPSC SEGMENTOS 72 (72101500, 72102900, 72103300, 72121100, 72151900, 72152700, 72153600) | L40: Valor aportado
A41: =VLOOKUP(A34,'LISTA DE OFERENTES'!$A$4:$H$84,5,FALSE) -> LATORRE ORTIZ INGENIERIA SAS - 10% | K41: =$D$909/2 -> 1910.6118 | M41: CUMPLE | O41: =$D$909*0.5 -> 1910.6118 | Q41: =IF(AND(N46="CUMPLE",O46="CUMPLE"),"CUMPLE","NO CUMPLE") -> CUMPLE
A42: =VLOOKUP(A34,'LISTA DE OFERENTES'!$A$4:$H$84,6,FALSE) -> PROYECTOS - CR S.A.S BIC - 90%
A43: CONSTRUCCION PARANINFO CASA DE LA CULTURA MUNICIPAL - MUNICIPIO EL COLEGIO | B43: MUNICIPIO DE EL COLEGIO | D43: 897779631 | E43: 2019 | F43: =D43/(VLOOKUP(E43,$D$930:$E$963,2,FALSE)) -> 1084.123 | G43: 0.5 | H43: =G43*F43 -> 542.06152 | I43: 43677 | J43: CUMPLE | L43: =H43 -> 542.06152 | N43: CUMPLE
A44: CONSTRUCCION Y DOTACION SEDE MEDICINA LEGAL SECCIONAL MAGDALENA SANTAMARTA -PRIMERA ETAPA- | B44: INSTITUTO NACIONAL DE MEDICINA LEGAL Y CIENCIAS FORENSES | D44: 2.3268722e+09 | E44: 2015 | F44: =D44/(VLOOKUP(E44,$D$930:$E$963,2,FALSE)) -> 3611.1929 | G44: 0.6 | H44: =G44*F44 -> 2166.7158 | I44: 42342 | J44: CUMPLE | L44: =H44 -> 2166.7158 | N44: CUMPLE
...

Sheet K RESIDUAL
A1: FONDO DE DESARROLLO LOCAL DE ENGATIVÁ
A2: LICITACION PUBLICA FDLE-LP-810-2024
A3: Verificación Capacidad Residual
A5: 1 | N5: =VLOOKUP(A5,'LISTA DE OFERENTES'!$A$4:$B$70,2,FALSE) -> CONSORCIO OASIS.
A28: 2 | N28: =VLOOKUP(A28,'LISTA DE OFERENTES'!$A$4:$B$70,2,FALSE) -> CONSTRUCTORA DE INFRAESTRUCTURA COLOMBIANA COINCO S.A.S.
A51: 3 | N51: =VLOOKUP(A51,'LISTA DE OFERENTES'!$A$4:$B$70,2,FALSE) -> CONSORCIO SALONES CR 2024.
A74: 4 | N74: =VLOOKUP(A74,'LISTA DE OFERENTES'!$A$4:$B$70,2,FALSE) -> CONSORCIO SALONES - ARM- 2024
A97: 5 | N97: =VLOOKUP(A97,'LISTA DE OFERENTES'!$A$4:$B$70,2,FALSE) -> C.B.C INGENIERÍA CIVIL Y MANTENIMIENTO SAS
A120: 6 | N120: =VLOOKUP(A120,'LISTA DE OFERENTES'!$A$4:$B$70,2,FALSE) -> CONSORCIO SALONES ENGATIVA HGR
A143: 7 | B143: EL OFERENTE EN EL TERMINO DEL TRASLADO DEL INFORME DE EVALUACIÓN PRELIMINAR DE ACUERDO CON EL CRONOGRAMA DEL PROCESO DE SELECCIÓN, NO REALIZO LA SUBSANACIÓN DE LO SOLICITADO EN EL INFORME DE EVALUACIÓN PRELIMINAR PARA CAPACIDAD RESIDUAL, EL CUAL ESTABLECIA QUE: "EL OFERENTE NO CUMPLE LA CAPACIDAD RESIDUAL, DADO QUE LOS CONSORCIADOS CONSTRUCTORA DE VIVIENDA Y OBRAS CIVILES DE COLOMBIA S.A.S. Y HARINSA NAVASFALT INFRAESTRUCTURA S.A.S., NO APORTAN EL ESTADO DE RESULTADOS INTEGRAL DEL AÑO CON MAYOR INGRESO OPERACIONAL DEBIDAMENTE FIRMADO COMO LO ESTABLECE EL PLIEGO DE CONDICIONES EN SU NUMERAL 3.10.2; LITERAL A ""(...) debidamente firmado por el representante legal y el contador bajo cuya responsabilidad se han preparado y por el revisor fiscal o, en caso de no haberlo, por no estar obligado a tenerlo, por contador público independiente (...)"". DE IGUAL FORMA, EL CONSORCIADO CONSTRUCTORA DE VIVIENDA Y OBRAS CIVILES DE COLOMBIA S.A.S., NO APORTA EL DICTAMEN U OPINION DE CONFORMIDAD CON LOS ESTADOS FINANCIEROS TAL COMO LO ESTABLECE EL PLIEGO DE CONDICIONES EN SU NUMERAL 3.10.2.; LITERAL A. CAPACIDAD DE ORGANIZACIÓN; Y ASÍ MISMO, ESTE NO APORTA LOS DOCUMENTOS SOLICITADOS EN EL NUMERAL 3.10.2.; LITERAL II. EN DONDE EL PLIEGO SEÑALA QUE SE DEBE APORTAR LOS SIGUIENTES DOCUMENTOS ""Copia de la tarjeta profesional y certificado de antecedentes disciplinarios vigentes de los contadores públicos, revisores fiscales, contadores independientes (externos), quienes suscribieron los documentos señalados en el presente literal. " SE REQUIERE AL OFERENTE PARA QUE SUBSANE EN EL TERMINO DEL TRASLADO DEL INFORME DE EVALUACIÓN PRELIMINAR" | N143: =VLOOKUP(A143,'LISTA DE OFERENTES'!$A$4:$B$70,2,FALSE) -> UNION TEMPORAL HCE SALONES COMUNALES
A166: 8 | N166: =VLOOKUP(A166,'LISTA DE OFERENTES'!$A$4:$B$70,2,FALSE) -> ARMELCO SAS
A189: 9 | N189: =VLOOKUP(A189,'LISTA DE OFERENTES'!$A$4:$B$70,2,FALSE) -> CONSORCIO SANTA MARTA 03
A212: 10 | N212: =VLOOKUP(A212,'LISTA DE OFERENTES'!$A$4:$B$70,2,FALSE) -> CONSORCIO CONSTRUCTORES DEL OCCIDENTE
A235: 11 | N235: =VLOOKUP(A235,'LISTA DE OFERENTES'!$A$4:$B$70,2,FALSE) -> VISUAR S.A.S
A258: 12 | N258: =VLOOKUP(A258,'LISTA DE OFERENTES'!$A$4:$B$70,2,FALSE) -> CONSORCIO MANTENIMIENTO A&S
A281: 13 | N281: =VLOOKUP(A281,'LISTA DE OFERENTES'!$A$4:$B$70,2,FALSE) -> CONSORCIO RDB
A304: 14 | B304: EL OFERENTE EN EL TERMINO DEL TRASLADO DEL INFORME DE EVALUACIÓN PRELIMINAR DE ACUERDO CON EL CRONOGRAMA DEL PROCESO DE SELECCIÓN, NO REALIZO LA SUBSANACIÓN DE LO SOLICITADO EN EL INFORME DE EVALUACIÓN PRELIMINAR PARA CAPACIDAD RESIDUAL, EL CUAL ESTABLECIA QUE: EL OFERENTE NO CUMPLE LA CAPACIDAD RESIDUAL YA QUE DENTRO DE LOS DOCUEMNTOS PRESENTADOS NO SE EVIDENCIA EL RUP PARA VALIDAR EL INDICE DE LIQUIDEZ. A SU VEZ, NO APORTA EL ESTADO DE RESULTADOS INTEGRAL DEL AÑO CON MAYOR INGRESO OPERACIONAL DEBIDAMENTE FIRMADO COMO LO ESTABLECE EL PLIEGO DE CONDICIONES EN SU NUMERAL 3.10.2; LITERAL A ""(...) debidamente firmado por el representante legal y el contador bajo cuya responsabilidad se han preparado y por el revisor fiscal o, en caso de no haberlo, por no estar obligado a tenerlo, por contador público independiente (...)"". DE IGUAL FORMA EL OFERENTE NO APORTA EL DICTAMEN U OPINION DE CONFORMIDAD CON LOS ESTADOS FINANCIEROS TAL COMO LO ESTABLECE EL PLIEGO DE CONDICIONES EN SU NUMERAL 3.10.2.; LITERAL A. CAPACIDAD DE ORGANIZACIÓN; Y ASÍ MISMO, ESTE NO APORTA LOS DOCUMENTOS SOLICITADOS EN EL NUMERAL 3.10.2.; LITERAL II. EN DONDE EL PLIEGO SEÑALA QUE SE DEBE APORTAR LOS SIGUIENTES DOCUMENTOS ""Copia de la tarjeta profesional y certificado de antecedentes disciplinarios vigentes de los contadores públicos, revisores fiscales, contadores independientes (externos), quienes suscribieron los documentos señalados en el presente literal. " SE REQUIERE AL OFERENTE PARA QUE SUBSANE EN EL TERMINO DEL TRASLADO DEL INFORME DE EVALUACIÓN PRELIMINAR" | N304: =VLOOKUP(A304,'LISTA DE OFERENTES'!$A$4:$B$70,2,FALSE) -> RCC INGENIERÍA Y PROYECTOS S.A.S.
A327: 15 | B327: EL OFERENTE EN EL TERMINO DEL TRASLADO DEL INFORME DE EVALUACIÓN PRELIMINAR DE ACUERDO CON EL CRONOGRAMA DEL PROCESO DE SELECCIÓN, NO REALIZO LA SUBSANACIÓN DE LO SOLICITADO EN EL INFORME DE EVALUACIÓN PRELIMINAR PARA CAPACIDAD RESIDUAL, EL CUAL ESTABLECIA QUE: "EL OFERENTE NO CUMPLE LA CAPACIDAD RESIDUAL, DADO QUE EL CONSORCIADO VIGAVI ZOMAC S.A.S., DENTRO DE LOS DOCUMENTOS APORTADOS EL CERTIFICADO DE ANTECEDENTES DISCIPLINARIO DE LA CONTADORA MARJORIE MOSCOTE EPIEYU NO SE ENCUENTRA VIGENTE AL CIERRE DEL PROCESO DE SELECCIÓN. ADICIONALMENTE, NO SE ESTÁN TOMANDO LOS FORMATOS No. 5 PUBLICADOS POR EL FDLE PARA EL PRESENTE PROCESO DE SELECCIÓN. SE REQUIERE AL OFERENTE PARA QUE SUBSANE EN EL TERMINO DEL TRASLADO DEL INFORME DE EVALUACIÓN PRELIMINAR" | N327: =VLOOKUP(A327,'LISTA DE OFERENTES'!$A$4:$B$70,2,FALSE) -> CONSORCIO SALCO 13
A350: 16 | N350: =VLOOKUP(A350,'LISTA DE OFERENTES'!$A$4:$B$70,2,FALSE) -> CONSORCIO WAS
A373: 17 | N373: =VLOOKUP(A373,'LISTA DE OFERENTES'!$A$4:$B$70,2,FALSE) -> CONSORCIO CONSTRUOPUS ENGATIVA
A396: 18 | N396: =VLOOKUP(A396,'LISTA DE OFERENTES'!$A$4:$B$70,2,FALSE) -> CONSORCIO ZF 1
A419: 19 | N419: =VLOOKUP(A419,'LISTA DE OFERENTES'!$A$4:$B$70,2,FALSE) -> CONSORCIO GMAC
A442: 20 | N442: =VLOOKUP(A442,'LISTA DE OFERENTES'!$A$4:$B$70,2,FALSE) -> CONSORCIO ISAJU
A465: 21 | N465: =VLOOKUP(A465,'LISTA DE OFERENTES'!$A$4:$B$70,2,FALSE) -> CONSORCIO OBRAS CIVILES MEQ
A488: 22 | B488: EL OFERENTE EN EL TERMINO DEL TRASLADO DEL INFORME DE EVALUACIÓN PRELIMINAR DE ACUERDO CON EL CRONOGRAMA DEL PROCESO DE SELECCIÓN, NO REALIZO EN DEBIDA FORMA LA SUBSANACIÓN DE LO SOLICITADO EN EL INFORME DE EVALUACIÓN PRELIMINAR PARA CAPACIDAD RESIDUAL, DADO QUE EN LA DOCUMENTACIÓN REMITIDA SE SIGUE ESTABLECIENDO QUE EL CONSORCIADO NECONSER SAS NO ACREDITO EL ESTADO DE RESULTADOS INTEGRAL DEL AÑO CON MAYOR INGRESO OPERACIONAL DEBIDAMENTE FIRMADO COMO LO ESTABLECE EL PLIEGO DE CONDICIONES EN SU NUMERAL 3.10.2; LITERAL A "(...) debidamente firmado por el representante legal y el contador bajo cuya responsabilidad se han preparado y por el revisor fiscal o, en caso de no haberlo, por no estar obligado a tenerlo, por contador público independiente (...)". DE IGUAL FORMA, EL OFERENTE NO SUBSANO LO REFERIDO CON EL DILIGENCIAMIENTO DE LOS FORMATOS No. 5 PBULICADOS POR EL FDLE PARA EL PRESENTE PROCESO DE SELECCIÓN. POR LO ANTERIOR, EL OFERENTE NO SUBSANO EN DEBIDA FORMA LO SOLICITADO EN EL PLIEGO DE CONDICIONES PRELIMINAR PARA LA CAPACIDAD RESIDUAL. | N488: =VLOOKUP(A488,'LISTA DE OFERENTES'!$A$4:$B$70,2,FALSE) -> CONSORCIO CONSTRUCTOR AND
A511: 23 | N511: =VLOOKUP(A511,'LISTA DE OFERENTES'!$A$4:$B$70,2,FALSE) -> CONSORCIO ENGATIVÁ 2025
A534: 24 | N534: =VLOOKUP(A534,'LISTA DE OFERENTES'!$A$4:$B$70,2,FALSE) -> CONSORCIO SANTA LUCIA
A557: 25 | N557: =VLOOKUP(A557,'LISTA DE OFERENTES'!$A$4:$B$70,2,FALSE) -> CONSORCIO BOGOTÁ GG
A580: 26 | N580: =VLOOKUP(A580,'LISTA DE OFERENTES'!$A$4:$B$70,2,FALSE) -> CONSORCIO COMUNAL OLG
A603: 27 | N603: =VLOOKUP(A603,'LISTA DE OFERENTES'!$A$4:$B$70,2,FALSE) -> CONSORCIO INTELPOLO Z10
A626: 28 | N626: =VLOOKUP(A626,'LISTA DE OFERENTES'!$A$4:$B$70,2,FALSE) -> IG INGENIEROS Y ARQUITECTOS S.A.S.
A649: 29 | N649: =VLOOKUP(A649,'LISTA DE OFERENTES'!$A$4:$B$70,2,FALSE) -> PUERTA DEL SOL
A672: 30 | N672: =VLOOKUP(A672,'LISTA DE OFERENTES'!$A$4:$B$70,2,FALSE) -> CONSORCIO TANGO
A695: 31 | N695: =VLOOKUP(A695,'LISTA DE OFERENTES'!$A$4:$B$70,2,FALSE) -> CONSORCIO COMUNALES 2025
A718: 32 | N718: =VLOOKUP(A718,'LISTA DE OFERENTES'!$A$4:$B$70,2,FALSE) -> UNION TEMPORAL MANTENIMIENTO
A741: 33 | N741: =VLOOKUP(A741,'LISTA DE OFERENTES'!$A$4:$B$70,2,FALSE) -> CONSORCIO COIDEAR
A764: 34 | N764: =VLOOKUP(A764,'LISTA DE OFERENTES'!$A$4:$B$70,2,FALSE) -> CONSTRUCTORA GED S.A.S
A787: 35 | N787: =VLOOKUP(A787,'LISTA DE OFERENTES'!$A$4:$B$70,2,FALSE) -> CONSORCIO POWER
A810: 36 | B810: EL OFERENTE EN EL TERMINO DEL TRASLADO DEL INFORME DE EVALUACIÓN PRELIMINAR DE ACUERDO CON EL CRONOGRAMA DEL PROCESO DE SELECCIÓN, NO REALIZO EN DEBIDA FORMA LA SUBSANACIÓN DE LO SOLICITADO EN EL INFORME DE EVALUACIÓN PRELIMINAR PARA CAPACIDAD RESIDUAL, DADO QUE EN LA DOCUMENTACIÓN REMITIDA SE SIGUE ESTABLECIENDO QUE EL CONSORCIADO RODRIGUEZ BAUTISTA EDIFICAR S.A.S. NO ACREDITA EL ESTADO DE RESULTADOS INTEGRAL DEL AÑO CON MAYOR INGRESO OPERACIONAL DEBIDAMENTE FIRMADO COMO LO ESTABLECE EL PLIEGO DE CONDICIONES EN SU NUMERAL 3.10.2; LITERAL A "(...) debidamente firmado por el representante legal y el contador bajo cuya responsabilidad se han preparado y por el revisor fiscal o, en caso de no haberlo, por no estar obligado a tenerlo, por contador público independiente (...)". POR LO ANTERIOR, EL OFERENTE NO SUBSANO EN DEBIDA FORMA LO SOLICITADO EN EL PLIEGO DE CONDICIONES PRELIMINAR PARA LA CAPACIDAD RESIDUAL. | N810: =VLOOKUP(A810,'LISTA DE OFERENTES'!$A$4:$B$70,2,FALSE) -> CONSORCIO GR 2024
A833: 37 | N833: CONSORCIO SAN ANTONIO
...

Sheet CONDICIONES GENERALES
M3: Cada contrato debe cumplir con alguno de estos códigos (72101500, 72102900, 72103300, 72121100, 72151900, 72152700, 72153600)
C6: OBJETO: REALIZAR A MONTO AGOTABLE Y A PRECIOS UNITARIOS EL MANTENIMIENTO Y/O ADECUACIONES Y/O REPARACIONES LOCATIVAS DE LOS SALONES COMUNALES UBICADOS EN LA LOCALIDAD DE ENGATIVÁ
C8: Experiencia en contratos, que incluyan actividades:
C9: EXPERIENCIA GENERAL
C10: • CONSTRUCCIÓN Y/O TERMINACIÓN Y/O AMPLIACIÓN Y/O RECONSTRUCCIÓN Y/O REMODELACIÓN Y/O REFORZAMIENTO Y/O ADECUACIÓN Y/O REPARACIÓN Y/O MANTENIMIENTO Y/O MEJORAMIENTO Y/O MODIFICACIÓN DE EDIFICACIONES.
C14: EXPERIENCIA ESPECIFICA
C15: POR LO MENOS UNO (1) DE LOS CONTRATOS VÁLIDOS APORTADOS COMO EXPERIENCIA GENERAL DEBE CORRESPONDER MÍNIMO AL 50% DEL PRESUPUESTO OFICIAL DEL PRESENTE PROCESO DE SELECCIÓN.
C16: NÚMERO DE CONTRATOS: C. El Proponente podrá acreditar la experiencia solicitada con mínimo uno (1) y máximo cinco (5) contratos, los cuales serán evaluados teniendo en cuenta la tabla del numeral 3.5.7 del Pliego de Condiciones, así como el contenido establecido en la matriz de experiencia aplicable al proyecto de infraestructura social.
C17: CONDICIÓN 1:D. Deben haber terminado antes de la fecha de cierre del presente procedimiento de selección. Esta fecha corresponde al momento de terminación de la ejecución del Contrato, por lo que no necesariamente coincide con la fecha de entrega y/o recibo final, liquidación o acta final, salvo que de los documentos del numeral 3.5.5 se derive tal información.
C18: CONDICIÓN 2:A. En el Clasificador de Bienes y servicios, el segmento correspondiente para la clasificación de la experiencia es el segmento 72. (72101500, 72102900, 72103300, 72121100, 72151900, 72152700, 72153600)
C19: CONDICIÓN 3: C. Si el Proponente relaciona o anexa más de cinco (5) contratos en el Formato 3 - Experiencia, para efectos de evaluar la experiencia se tendrá en cuenta como máximo los cinco (5) contratos aportados de mayor valor.
C20: CONDICIÓN 4: D. Tratándose de Proponentes Plurales se tendrá en cuenta lo siguiente: i) uno de los integrantes debe aportar como mínimo el cincuenta por ciento (50 %) de la experiencia solicitada; ii) los demás integrantes deben acreditar al menos el cinco por ciento (5 %) de la experiencia solicitada; y iii) sin perjuicio de lo anterior, solo uno (1) de los integrantes, si así lo considera pertinente, podrá no acreditar experiencia. En este último caso, el porcentaje de participación del integrante que no aporta experiencia en la estructura plural no podrá superar el diez por ciento (10 %). Estos porcentajes que acreditarán los integrantes del Proponente Plural se podrán cumplir con contratos válidos que acrediten el requisito de experiencia solicitada en el pliego de condiciones y se calcularán sobre el “valor mínimo a certificar (como % del Presupuesto Oficial de obra expresado en SMMLV)” de conformidad con el numeral 3.5.7. Independientemente de el o los integrantes del Proponente Plural que aporten contratos para acreditar la experiencia, estos se tendrán en cuenta para calcular el “número de contratos con los cuales el Proponente cumple la experiencia acreditada" de que trata el numeral citado. En armonía con lo anterior, para cumplir el requisito previsto en este literal no se solicitará la acreditación de longitudes, magnitudes, volúmenes o porcentajes requeridos en la experiencia específica, sino que bastará con acreditar los SMMLV.
C21: CONDICIÓN 5: F. Cuando el contrato que se pretende adjuntar como experiencia haya sido ejecutado en Consorcio o en Unión Temporal, el valor a considerar será el registrado en el RUP, o documento válido en caso de que el integrante no esté obligado a tener RUP. En estos casos, la experiencia efectivamente acreditada para el procedimiento de selección será la presentada multiplicada por el porcentaje de participación que tuvo el integrante o los integrantes que presentan la oferta.
C22: CONDICIÓN 6: H. Cuando el contrato que se aporte para la experiencia haya sido ejecutado por un Consorcio o una Unión Temporal, y dos (2) o más de sus integrantes conformen un Proponente Plural para participar en el presente proceso, dicho Contrato se entenderá aportado como un (1) solo Contrato y se tendrá en cuenta para el aporte de la experiencia la sumatoria de los porcentajes de los integrantes del Consorcio o de la Unión Temporal que ejecutaron el Contrato y que están participando en el presente Proceso de Contratación.

Sheet RESUMEN EVALUACIÓN
A1: FONDO DE DESARROLLO LOCAL DE ENGATIVÁ
A2: FDLE-LP-810-2024
A3: REALIZAR A MONTO AGOTABLE Y A PRECIOS UNITARIOS EL MANTENIMIENTO Y/O ADECUACIONES Y/O REPARACIONES LOCATIVAS DE LOS SALONES COMUNALES UBICADOS EN LA LOCALIDAD DE ENGATIVÁ
B5: NOMBRE DE OFERENTE | C5: INDICES FINANCIEROS | D5: CAPACIDAD JURIDICA | E5: CAPACIDAD TÉCNICA | F5: CAPACIDAD RESIDUAL | G5: INFORME FINAL | H5: OBSERVACIONES
A6: 1 | B6: =VLOOKUP(A6,'LISTA DE OFERENTES'!$A$4:$B$90,2,FALSE) -> CONSORCIO OASIS. | C6: CUMPLE | D6: CUMPLE | E6: CUMPLE | F6: CUMPLE | G6: =IF(AND(C6="CUMPLE",D6="CUMPLE",E6="CUMPLE",F6="CUMPLE"),"HABILITADO","NO HABILITADO") -> HABILITADO
A7: 2 | B7: =VLOOKUP(A7,'LISTA DE OFERENTES'!$A$4:$B$90,2,FALSE) -> CONSTRUCTORA DE INFRAESTRUCTURA COLOMBIANA COINCO S.A.S. | C7: CUMPLE | D7: CUMPLE | E7: CUMPLE | F7: CUMPLE | G7: =IF(AND(C7="CUMPLE",D7="CUMPLE",E7="CUMPLE",F7="CUMPLE"),"HABILITADO","NO HABILITADO") -> HABILITADO
A8: 3 | B8: =VLOOKUP(A8,'LISTA DE OFERENTES'!$A$4:$B$90,2,FALSE) -> CONSORCIO SALONES CR 2024. | C8: CUMPLE | D8: CUMPLE | E8: CUMPLE | F8: CUMPLE | G8: =IF(AND(C8="CUMPLE",D8="CUMPLE",E8="CUMPLE",F8="CUMPLE"),"HABILITADO","NO HABILITADO") -> HABILITADO
A9: 4 | B9: =VLOOKUP(A9,'LISTA DE OFERENTES'!$A$4:$B$90,2,FALSE) -> CONSORCIO SALONES - ARM- 2024 | C9: CUMPLE | D9: CUMPLE | E9: CUMPLE | F9: CUMPLE | G9: =IF(AND(C9="CUMPLE",D9="CUMPLE",E9="CUMPLE",F9="CUMPLE"),"HABILITADO","NO HABILITADO") -> HABILITADO
A10: 5 | B10: =VLOOKUP(A10,'LISTA DE OFERENTES'!$A$4:$B$90,2,FALSE) -> C.B.C INGENIERÍA CIVIL Y MANTENIMIENTO SAS | C10: CUMPLE | D10: CUMPLE | E10: CUMPLE | F10: CUMPLE | G10: =IF(AND(C10="CUMPLE",D10="CUMPLE",E10="CUMPLE",F10="CUMPLE"),"HABILITADO","NO HABILITADO") -> HABILITADO
A11: 6 | B11: =VLOOKUP(A11,'LISTA DE OFERENTES'!$A$4:$B$90,2,FALSE) -> CONSORCIO SALONES ENGATIVA HGR | C11: CUMPLE | D11: CUMPLE | E11: CUMPLE | F11: CUMPLE | G11: =IF(AND(C11="CUMPLE",D11="CUMPLE",E11="CUMPLE",F11="CUMPLE"),"HABILITADO","NO HABILITADO") -> HABILITADO
A12: 7 | B12: =VLOOKUP(A12,'LISTA DE OFERENTES'!$A$4:$B$90,2,FALSE) -> UNION TEMPORAL HCE SALONES COMUNALES | C12: CUMPLE | D12: CUMPLE | E12: NO CUMPLE | F12: NO CUMPLE | G12: RECHAZADO | H12: EL OFERENTE NO SUBSANO EN DEBIDA FORMA, POR LO TANTO DE ACUERDO A LA CAUSAL DE RECHAZO ESTABLECIDA EN EL PLIEGO DE CONDICIONES EN EL NUMERAL 1.15 LITERAL D "Que el proponente no aclare, subsane o aporte documentos necesarios para cumplir un requisito habilitante o aportándolos no lo haga de forma correcta, en los términos establecidos en la sección 1.6."
A13: 8 | B13: =VLOOKUP(A13,'LISTA DE OFERENTES'!$A$4:$B$90,2,FALSE) -> ARMELCO SAS | C13: CUMPLE | D13: CUMPLE | E13: CUMPLE | F13: CUMPLE | G13: =IF(AND(C13="CUMPLE",D13="CUMPLE",E13="CUMPLE",F13="CUMPLE"),"HABILITADO","NO HABILITADO") -> HABILITADO
A14: 9 | B14: =VLOOKUP(A14,'LISTA DE OFERENTES'!$A$4:$B$90,2,FALSE) -> CONSORCIO SANTA MARTA 03 | C14: CUMPLE | D14: CUMPLE | E14: CUMPLE | F14: CUMPLE | G14: =IF(AND(C14="CUMPLE",D14="CUMPLE",E14="CUMPLE",F14="CUMPLE"),"HABILITADO","NO HABILITADO") -> HABILITADO
A15: 10 | B15: =VLOOKUP(A15,'LISTA DE OFERENTES'!$A$4:$B$90,2,FALSE) -> CONSORCIO CONSTRUCTORES DEL OCCIDENTE | C15: CUMPLE | D15: CUMPLE | E15: CUMPLE | F15: CUMPLE | G15: =IF(AND(C15="CUMPLE",D15="CUMPLE",E15="CUMPLE",F15="CUMPLE"),"HABILITADO","NO HABILITADO") -> HABILITADO
A16: 11 | B16: =VLOOKUP(A16,'LISTA DE OFERENTES'!$A$4:$B$90,2,FALSE) -> VISUAR S.A.S | C16: CUMPLE | D16: CUMPLE | E16: CUMPLE | F16: CUMPLE | G16: =IF(AND(C16="CUMPLE",D16="CUMPLE",E16="CUMPLE",F16="CUMPLE"),"HABILITADO","NO HABILITADO") -> HABILITADO
A17: 12 | B17: =VLOOKUP(A17,'LISTA DE OFERENTES'!$A$4:$B$90,2,FALSE) -> CONSORCIO MANTENIMIENTO A&S | C17: CUMPLE | D17: CUMPLE | E17: CUMPLE | F17: CUMPLE | G17: =IF(AND(C17="CUMPLE",D17="CUMPLE",E17="CUMPLE",F17="CUMPLE"),"HABILITADO","NO HABILITADO") -> HABILITADO
A18: 13 | B18: =VLOOKUP(A18,'LISTA DE OFERENTES'!$A$4:$B$90,2,FALSE) -> CONSORCIO RDB | C18: CUMPLE | D18: CUMPLE | E18: CUMPLE | F18: CUMPLE | G18: =IF(AND(C18="CUMPLE",D18="CUMPLE",E18="CUMPLE",F18="CUMPLE"),"HABILITADO","NO HABILITADO") -> HABILITADO
A19: 14 | B19: =VLOOKUP(A19,'LISTA DE OFERENTES'!$A$4:$B$90,2,FALSE) -> RCC INGENIERÍA Y PROYECTOS S.A.S. | C19: CUMPLE | D19: NO CUMPLE | E19: NO CUMPLE | F19: NO CUMPLE | G19: RECHAZADO | H19: EL OFERENTE NO SUBSANO EN EL TERMINO DEL TRASLADO DEL INFORME PRELIMINAR POR LO TANTO DE ACUERDO A LA CAUSAL DE RECHAZO ESTABLECIDA EN EL PLIEGO DE CONDICIONES EN EL NUMERAL 1.15 LITERAL D "Que el proponente no aclare, subsane o aporte documentos necesarios para cumplir un requisito habilitante o aportándolos no lo haga de forma correcta, en los términos establecidos en la sección 1.6."
A20: 15 | B20: =VLOOKUP(A20,'LISTA DE OFERENTES'!$A$4:$B$90,2,FALSE) -> CONSORCIO SALCO 13 | C20: NO CUMPLE | D20: CUMPLE | E20: NO CUMPLE | F20: NO CUMPLE | G20: RECHAZADO | H20: EL OFERENTE NO SUBSANO EN EL TERMINO DEL TRASLADO DEL INFORME PRELIMINAR POR LO TANTO DE ACUERDO A LA CAUSAL DE RECHAZO ESTABLECIDA EN EL PLIEGO DE CONDICIONES EN EL NUMERAL 1.15 LITERAL D "Que el proponente no aclare, subsane o aporte documentos necesarios para cumplir un requisito habilitante o aportándolos no lo haga de forma correcta, en los términos establecidos en la sección 1.6."
A21: 16 | B21: =VLOOKUP(A21,'LISTA DE OFERENTES'!$A$4:$B$90,2,FALSE) -> CONSORCIO WAS | C21: CUMPLE | D21: CUMPLE | E21: CUMPLE | F21: CUMPLE | G21: =IF(AND(C21="CUMPLE",D21="CUMPLE",E21="CUMPLE",F21="CUMPLE"),"HABILITADO","NO HABILITADO") -> HABILITADO
A22: 17 | B22: =VLOOKUP(A22,'LISTA DE OFERENTES'!$A$4:$B$90,2,FALSE) -> CONSORCIO CONSTRUOPUS ENGATIVA | C22: CUMPLE | D22: CUMPLE | E22: CUMPLE | F22: CUMPLE | G22: =IF(AND(C22="CUMPLE",D22="CUMPLE",E22="CUMPLE",F22="CUMPLE"),"HABILITADO","NO HABILITADO") -> HABILITADO
A23: 18 | B23: =VLOOKUP(A23,'LISTA DE OFERENTES'!$A$4:$B$90,2,FALSE) -> CONSORCIO ZF 1 | C23: CUMPLE | D23: CUMPLE | E23: CUMPLE | F23: CUMPLE | G23: =IF(AND(C23="CUMPLE",D23="CUMPLE",E23="CUMPLE",F23="CUMPLE"),"HABILITADO","NO HABILITADO") -> HABILITADO
A24: 19 | B24: =VLOOKUP(A24,'LISTA DE OFERENTES'!$A$4:$B$90,2,FALSE) -> CONSORCIO GMAC | C24: CUMPLE | D24: CUMPLE | E24: CUMPLE | F24: CUMPLE | G24: =IF(AND(C24="CUMPLE",D24="CUMPLE",E24="CUMPLE",F24="CUMPLE"),"HABILITADO","NO HABILITADO") -> HABILITADO
A25: 20 | B25: =VLOOKUP(A25,'LISTA DE OFERENTES'!$A$4:$B$90,2,FALSE) -> CONSORCIO ISAJU | C25: CUMPLE | D25: CUMPLE | E25: CUMPLE | F25: CUMPLE | G25: =IF(AND(C25="CUMPLE",D25="CUMPLE",E25="CUMPLE",F25="CUMPLE"),"HABILITADO","NO HABILITADO") -> HABILITADO
A26: 21 | B26: =VLOOKUP(A26,'LISTA DE OFERENTES'!$A$4:$B$90,2,FALSE) -> CONSORCIO OBRAS CIVILES MEQ | C26: CUMPLE | D26: CUMPLE | E26: CUMPLE | F26: CUMPLE | G26: =IF(AND(C26="CUMPLE",D26="CUMPLE",E26="CUMPLE",F26="CUMPLE"),"HABILITADO","NO HABILITADO") -> HABILITADO
A27: 22 | B27: =VLOOKUP(A27,'LISTA DE OFERENTES'!$A$4:$B$90,2,FALSE) -> CONSORCIO CONSTRUCTOR AND | C27: CUMPLE | D27: CUMPLE | E27: NO CUMPLE | F27: NO CUMPLE | G27: RECHAZADO | H27: EL OFERENTE NO SUBSANO EN DEBIDA FORMA, POR LO TANTO DE ACUERDO A LA CAUSAL DE RECHAZO ESTABLECIDA EN EL PLIEGO DE CONDICIONES EN EL NUMERAL 1.15 LITERAL D "Que el proponente no aclare, subsane o aporte documentos necesarios para cumplir un requisito habilitante o aportándolos no lo haga de forma correcta, en los términos establecidos en la sección 1.6."
A28: 23 | B28: =VLOOKUP(A28,'LISTA DE OFERENTES'!$A$4:$B$90,2,FALSE) -> CONSORCIO ENGATIVÁ 2025 | C28: CUMPLE | D28: CUMPLE | E28: CUMPLE | F28: CUMPLE | G28: =IF(AND(C28="CUMPLE",D28="CUMPLE",E28="CUMPLE",F28="CUMPLE"),"HABILITADO","NO HABILITADO") -> HABILITADO
A29: 24 | B29: =VLOOKUP(A29,'LISTA DE OFERENTES'!$A$4:$B$90,2,FALSE) -> CONSORCIO SANTA LUCIA | C29: CUMPLE | D29: CUMPLE | E29: CUMPLE | F29: CUMPLE | G29: =IF(AND(C29="CUMPLE",D29="CUMPLE",E29="CUMPLE",F29="CUMPLE"),"HABILITADO","NO HABILITADO") -> HABILITADO
A30: 25 | B30: =VLOOKUP(A30,'LISTA DE OFERENTES'!$A$4:$B$90,2,FALSE) -> CONSORCIO BOGOTÁ GG | C30: CUMPLE | D30: CUMPLE | E30: CUMPLE | F30: CUMPLE | G30: =IF(AND(C30="CUMPLE",D30="CUMPLE",E30="CUMPLE",F30="CUMPLE"),"HABILITADO","NO HABILITADO") -> HABILITADO
A31: 26 | B31: =VLOOKUP(A31,'LISTA DE OFERENTES'!$A$4:$B$90,2,FALSE) -> CONSORCIO COMUNAL OLG | C31: CUMPLE | D31: CUMPLE | E31: CUMPLE | F31: CUMPLE | G31: =IF(AND(C31="CUMPLE",D31="CUMPLE",E31="CUMPLE",F31="CUMPLE"),"HABILITADO","NO HABILITADO") -> HABILITADO
A32: 27 | B32: =VLOOKUP(A32,'LISTA DE OFERENTES'!$A$4:$B$90,2,FALSE) -> CONSORCIO INTELPOLO Z10 | C32: CUMPLE | D32: CUMPLE | E32: CUMPLE | F32: CUMPLE | G32: =IF(AND(C32="CUMPLE",D32="CUMPLE",E32="CUMPLE",F32="CUMPLE"),"HABILITADO","NO HABILITADO") -> HABILITADO
A33: 28 | B33: =VLOOKUP(A33,'LISTA DE OFERENTES'!$A$4:$B$90,2,FALSE) -> IG INGENIEROS Y ARQUITECTOS S.A.S. | C33: CUMPLE | D33: CUMPLE | E33: CUMPLE | F33: CUMPLE | G33: =IF(AND(C33="CUMPLE",D33="CUMPLE",E33="CUMPLE",F33="CUMPLE"),"HABILITADO","NO HABILITADO") -> HABILITADO
A34: 29 | B34: =VLOOKUP(A34,'LISTA DE OFERENTES'!$A$4:$B$90,2,FALSE) -> PUERTA DEL SOL | C34: CUMPLE | D34: CUMPLE | E34: CUMPLE | F34: CUMPLE | G34: =IF(AND(C34="CUMPLE",D34="CUMPLE",E34="CUMPLE",F34="CUMPLE"),"HABILITADO","NO HABILITADO") -> HABILITADO
A35: 30 | B35: =VLOOKUP(A35,'LISTA DE OFERENTES'!$A$4:$B$90,2,FALSE) -> CONSORCIO TANGO | C35: CUMPLE | D35: CUMPLE | E35: CUMPLE | F35: CUMPLE | G35: =IF(AND(C35="CUMPLE",D35="CUMPLE",E35="CUMPLE",F35="CUMPLE"),"HABILITADO","NO HABILITADO") -> HABILITADO
A36: 31 | B36: =VLOOKUP(A36,'LISTA DE OFERENTES'!$A$4:$B$90,2,FALSE) -> CONSORCIO COMUNALES 2025 | C36: CUMPLE | D36: CUMPLE | E36: CUMPLE | F36: CUMPLE | G36: =IF(AND(C36="CUMPLE",D36="CUMPLE",E36="CUMPLE",F36="CUMPLE"),"HABILITADO","NO HABILITADO") -> HABILITADO
A37: 32 | B37: =VLOOKUP(A37,'LISTA DE OFERENTES'!$A$4:$B$90,2,FALSE) -> UNION TEMPORAL MANTENIMIENTO | C37: CUMPLE | D37: CUMPLE | E37: CUMPLE | F37: CUMPLE | G37: =IF(AND(C37="CUMPLE",D37="CUMPLE",E37="CUMPLE",F37="CUMPLE"),"HABILITADO","NO HABILITADO") -> HABILITADO
A38: 33 | B38: =VLOOKUP(A38,'LISTA DE OFERENTES'!$A$4:$B$90,2,FALSE) -> CONSORCIO COIDEAR | C38: CUMPLE | D38: CUMPLE | E38: CUMPLE | F38: CUMPLE | G38: =IF(AND(C38="CUMPLE",D38="CUMPLE",E38="CUMPLE",F38="CUMPLE"),"HABILITADO","NO HABILITADO") -> HABILITADO
A39: 34 | B39: =VLOOKUP(A39,'LISTA DE OFERENTES'!$A$4:$B$90,2,FALSE) -> CONSTRUCTORA GED S.A.S | C39: CUMPLE | D39: CUMPLE | E39: CUMPLE | F39: CUMPLE | G39: =IF(AND(C39="CUMPLE",D39="CUMPLE",E39="CUMPLE",F39="CUMPLE"),"HABILITADO","NO HABILITADO") -> HABILITADO
A40: 35 | B40: =VLOOKUP(A40,'LISTA DE OFERENTES'!$A$4:$B$90,2,FALSE) -> CONSORCIO POWER | C40: CUMPLE | D40: CUMPLE | E40: CUMPLE | F40: CUMPLE | G40: =IF(AND(C40="CUMPLE",D40="CUMPLE",E40="CUMPLE",F40="CUMPLE"),"HABILITADO","NO HABILITADO") -> HABILITADO
A41: 36 | B41: =VLOOKUP(A41,'LISTA DE OFERENTES'!$A$4:$B$90,2,FALSE) -> CONSORCIO GR 2024 | C41: CUMPLE | D41: CUMPLE | E41: CUMPLE | F41: NO CUMPLE | G41: RECHAZADO | H41: EL OFERENTE NO SUBSANO EN EL TERMINO DEL TRASLADO DEL INFORME PRELIMINAR POR LO TANTO DE ACUERDO A LA CAUSAL DE RECHAZO ESTABLECIDA EN EL PLIEGO DE CONDICIONES EN EL NUMERAL 1.15 LITERAL D "Que el proponente no aclare, subsane o aporte documentos necesarios para cumplir un requisito habilitante o aportándolos no lo haga de forma correcta, en los términos establecidos en la sección 1.6."
...

Sheet OBRAS INCONCLUSAS
A1: FONDO DE DESARROLLO LOCAL DE ENGATIVÁ
A2: FDLE-LP-810-2024
A3: REALIZAR A MONTO AGOTABLE Y A PRECIOS UNITARIOS EL MANTENIMIENTO Y/O ADECUACIONES Y/O REPARACIONES LOCATIVAS DE LOS SALONES COMUNALES UBICADOS EN LA LOCALIDAD DE ENGATIVÁ
B5: Nombre de Oferente : | C5: VERIFICACIÓN REGISTRO NACIONAL DE OBRAS INCONCLUSAS
A6: 1 | B6: =VLOOKUP(A6,'LISTA DE OFERENTES'!$A$4:$C$66,2,FALSE) -> CONSORCIO OASIS. | C6: NO REGISTRA OBRAS INCONCLUSAS
A7: 2 | B7: =VLOOKUP(A7,'LISTA DE OFERENTES'!$A$4:$C$66,2,FALSE) -> CONSTRUCTORA DE INFRAESTRUCTURA COLOMBIANA COINCO S.A.S. | C7: NO REGISTRA OBRAS INCONCLUSAS
A8: 3 | B8: =VLOOKUP(A8,'LISTA DE OFERENTES'!$A$4:$C$66,2,FALSE) -> CONSORCIO SALONES CR 2024. | C8: NO REGISTRA OBRAS INCONCLUSAS
A9: 4 | B9: =VLOOKUP(A9,'LISTA DE OFERENTES'!$A$4:$C$66,2,FALSE) -> CONSORCIO SALONES - ARM- 2024 | C9: NO REGISTRA OBRAS INCONCLUSAS
A10: 5 | B10: =VLOOKUP(A10,'LISTA DE OFERENTES'!$A$4:$C$66,2,FALSE) -> C.B.C INGENIERÍA CIVIL Y MANTENIMIENTO SAS | C10: NO REGISTRA OBRAS INCONCLUSAS
A11: 6 | B11: =VLOOKUP(A11,'LISTA DE OFERENTES'!$A$4:$C$66,2,FALSE) -> CONSORCIO SALONES ENGATIVA HGR | C11: NO REGISTRA OBRAS INCONCLUSAS
A12: 7 | B12: =VLOOKUP(A12,'LISTA DE OFERENTES'!$A$4:$C$66,2,FALSE) -> UNION TEMPORAL HCE SALONES COMUNALES | C12: NO REGISTRA OBRAS INCONCLUSAS
A13: 8 | B13: =VLOOKUP(A13,'LISTA DE OFERENTES'!$A$4:$C$66,2,FALSE) -> ARMELCO SAS | C13: NO REGISTRA OBRAS INCONCLUSAS
A14: 9 | B14: =VLOOKUP(A14,'LISTA DE OFERENTES'!$A$4:$C$66,2,FALSE) -> CONSORCIO SANTA MARTA 03 | C14: NO REGISTRA OBRAS INCONCLUSAS
A15: 10 | B15: =VLOOKUP(A15,'LISTA DE OFERENTES'!$A$4:$C$66,2,FALSE) -> CONSORCIO CONSTRUCTORES DEL OCCIDENTE | C15: NO REGISTRA OBRAS INCONCLUSAS
A16: 11 | B16: =VLOOKUP(A16,'LISTA DE OFERENTES'!$A$4:$C$66,2,FALSE) -> VISUAR S.A.S | C16: NO REGISTRA OBRAS INCONCLUSAS
A17: 12 | B17: =VLOOKUP(A17,'LISTA DE OFERENTES'!$A$4:$C$66,2,FALSE) -> CONSORCIO MANTENIMIENTO A&S | C17: NO REGISTRA OBRAS INCONCLUSAS
... A68: 63 | B68: =VLOOKUP(A68,'LISTA DE OFERENTES'!$A$4:$C$66,2,FALSE) -> CONSORCIO SALONES ENGATIVA 2025 | C68: NO REGISTRA OBRAS INCONCLUSAS

Sheet F. PONDERABLES 
A1: FONDO DE DESARROLLO LOCAL DE ENGATIVÁ
A2: LICITACION PUBLICA FDLE-LP-810-2024
A3: FACTORES PONDERABLES
A7: FACTORES PONDERABLES / PUNTAJE FINAL | C7: OFERTA ECONÓMICA (59,5 PUNTOS) | D7: FACTOR DE CALIDAD (19 PUNTOS) | E7: APOYO A LA INDUSTRIAL NACIONAL (20 PUNTOS) | F7: VINCULACIÓN DE PERSONAS CON DISCAPACIDAD (1 PUNTO) | G7: EMPRENDIMIENTOS Y EMPRESAS DE MUJERES (0,25 PUNTOS) | H7: MIPYME (0,25 PUNTOS) | I7: OBRAS INCONCLUSAS (-1 PUNTO) | J7: MULTAS Y SANCIONES (-2 PUNTOS) | K7: PUNTAJE TOTAL | L7: OBSERVACIONES
A8: 1 | B8: =VLOOKUP(A8,'LISTA DE OFERENTES'!$A$4:$B$80,2,FALSE) -> CONSORCIO OASIS. | D8: 19 | E8: 20 | F8: 1 | G8: 0.25 | H8: 0.25 | K8: =+SUM(C8:J8) -> 40.5
A9: 2 | B9: =VLOOKUP(A9,'LISTA DE OFERENTES'!$A$4:$B$80,2,FALSE) -> CONSTRUCTORA DE INFRAESTRUCTURA COLOMBIANA COINCO S.A.S. | D9: 19 | E9: 20 | F9: 1 | G9: 0.25 | H9: 0.25 | K9: =+SUM(C9:J9) -> 40.5
A10: 3 | B10: =VLOOKUP(A10,'LISTA DE OFERENTES'!$A$4:$B$80,2,FALSE) -> CONSORCIO SALONES CR 2024. | D10: 19 | E10: 20 | F10: 1 | G10: 0.25 | H10: 0.25 | K10: =+SUM(C10:J10) -> 40.5
A11: 4 | B11: =VLOOKUP(A11,'LISTA DE OFERENTES'!$A$4:$B$80,2,FALSE) -> CONSORCIO SALONES - ARM- 2024 | D11: 19 | E11: 20 | F11: 1 | G11: 0.25 | H11: 0.25 | K11: =+SUM(C11:J11) -> 40.5
A12: 5 | B12: =VLOOKUP(A12,'LISTA DE OFERENTES'!$A$4:$B$80,2,FALSE) -> C.B.C INGENIERÍA CIVIL Y MANTENIMIENTO SAS | D12: 19 | E12: 20 | F12: 1 | G12: 0.25 | H12: 0.25 | K12: =+SUM(C12:J12) -> 40.5
A13: 6 | B13: =VLOOKUP(A13,'LISTA DE OFERENTES'!$A$4:$B$80,2,FALSE) -> CONSORCIO SALONES ENGATIVA HGR | D13: 19 | E13: 20 | F13: 1 | G13: 0.25 | H13: 0.25 | K13: =+SUM(C13:J13) -> 40.5
A14: 8 | B14: =VLOOKUP(A14,'LISTA DE OFERENTES'!$A$4:$B$80,2,FALSE) -> ARMELCO SAS | D14: 19 | E14: 20 | F14: 1 | G14: 0.25 | H14: 0.25 | K14: =+SUM(C14:J14) -> 40.5
A15: 9 | B15: =VLOOKUP(A15,'LISTA DE OFERENTES'!$A$4:$B$80,2,FALSE) -> CONSORCIO SANTA MARTA 03 | D15: 19 | E15: 20 | F15: 1 | G15: 0.25 | H15: 0.25 | K15: =+SUM(C15:J15) -> 40.5
A16: 10 | B16: =VLOOKUP(A16,'LISTA DE OFERENTES'!$A$4:$B$80,2,FALSE) -> CONSORCIO CONSTRUCTORES DEL OCCIDENTE | D16: 19 | E16: 20 | F16: 1 | G16: 0.25 | H16: 0.25 | K16: =+SUM(C16:J16) -> 40.5
A17: 11 | B17: =VLOOKUP(A17,'LISTA DE OFERENTES'!$A$4:$B$80,2,FALSE) -> VISUAR S.A.S | D17: 19 | E17: 20 | F17: 1 | G17: 0.25 | H17: 0.25 | K17: =+SUM(C17:J17) -> 40.5
A18: 12 | B18: =VLOOKUP(A18,'LISTA DE OFERENTES'!$A$4:$B$80,2,FALSE) -> CONSORCIO MANTENIMIENTO A&S | D18: 19 | E18: 20 | F18: 1 | G18: 0.25 | H18: 0.25 | K18: =+SUM(C18:J18) -> 40.5
A19: 13 | B19: =VLOOKUP(A19,'LISTA DE OFERENTES'!$A$4:$B$80,2,FALSE) -> CONSORCIO RDB | D19: 19 | E19: 0 | F19: 1 | G19: 0.25 | H19: 0.25 | K19: =+SUM(C19:J19) -> 20.5 | L19: NO SE OTORGA EL PUNTAJE POR APOYO A LA INDUSTRIA NACIONAL, DADO QUE EL OFERENTE EN EL FORMATO 9 – PUNTAJE DE INDUSTRIA NACIONAL RELACIONA UN PORCENTAJE DEL 40% PARA VINCULACION DE PERSONAL COLOMBIANO, SIN EMBARGO EL PLIEGO DE CONDICIONES EN SU NUMERAL 4.4.1. ESTABLECE QUE DICHO PORCENTAJE MINIMO TENDRA QUE SER DEL 95%
A20: 16 | B20: =VLOOKUP(A20,'LISTA DE OFERENTES'!$A$4:$B$80,2,FALSE) -> CONSORCIO WAS | D20: 19 | E20: 0 | F20: 1 | G20: 0.25 | H20: 0.25 | K20: =+SUM(C20:J20) -> 20.5 | L20: NO SE OTORGA EL PUNTAJE POR APOYO A LA INDUSTRIA NACIONAL, DADO QUE EL OFERENTE EN EL FORMATO 9 – PUNTAJE DE INDUSTRIA NACIONAL RELACIONA UN PORCENTAJE DEL 40% PARA VINCULACION DE PERSONAL COLOMBIANO, SIN EMBARGO EL PLIEGO DE CONDICIONES EN SU NUMERAL 4.4.1. ESTABLECE QUE DICHO PORCENTAJE MINIMO TENDRA QUE SER DEL 95%
A21: 17 | B21: =VLOOKUP(A21,'LISTA DE OFERENTES'!$A$4:$B$80,2,FALSE) -> CONSORCIO CONSTRUOPUS ENGATIVA | D21: 19 | E21: 20 | F21: 1 | G21: 0.25 | H21: 0.25 | K21: =+SUM(C21:J21) -> 40.5
A22: 18 | B22: =VLOOKUP(A22,'LISTA DE OFERENTES'!$A$4:$B$80,2,FALSE) -> CONSORCIO ZF 1 | D22: 19 | E22: 20 | F22: 1 | G22: 0.25 | H22: 0.25 | K22: =+SUM(C22:J22) -> 40.5
A23: 19 | B23: =VLOOKUP(A23,'LISTA DE OFERENTES'!$A$4:$B$80,2,FALSE) -> CONSORCIO GMAC | D23: 19 | E23: 20 | F23: 1 | G23: 0.25 | H23: 0.25 | K23: =+SUM(C23:J23) -> 40.5
A24: 20 | B24: =VLOOKUP(A24,'LISTA DE OFERENTES'!$A$4:$B$80,2,FALSE) -> CONSORCIO ISAJU | D24: 19 | E24: 20 | F24: 1 | G24: 0.25 | H24: 0.25 | K24: =+SUM(C24:J24) -> 40.5
A25: 21 | B25: =VLOOKUP(A25,'LISTA DE OFERENTES'!$A$4:$B$80,2,FALSE) -> CONSORCIO OBRAS CIVILES MEQ | D25: 19 | E25: 20 | F25: 1 | G25: 0.25 | H25: 0.25 | K25: =+SUM(C25:J25) -> 40.5
A26: 23 | B26: =VLOOKUP(A26,'LISTA DE OFERENTES'!$A$4:$B$80,2,FALSE) -> CONSORCIO ENGATIVÁ 2025 | D26: 19 | E26: 20 | F26: 1 | G26: 0.25 | H26: 0.25 | K26: =+SUM(C26:J26) -> 40.5
A27: 24 | B27: =VLOOKUP(A27,'LISTA DE OFERENTES'!$A$4:$B$80,2,FALSE) -> CONSORCIO SANTA LUCIA | D27: 19 | E27: 20 | F27: 1 | G27: 0.25 | H27: 0.25 | K27: =+SUM(C27:J27) -> 40.5
A28: 25 | B28: =VLOOKUP(A28,'LISTA DE OFERENTES'!$A$4:$B$80,2,FALSE) -> CONSORCIO BOGOTÁ GG | D28: 19 | E28: 20 | F28: 1 | G28: 0.25 | H28: 0.25 | K28: =+SUM(C28:J28) -> 40.5
A29: 26 | B29: =VLOOKUP(A29,'LISTA DE OFERENTES'!$A$4:$B$80,2,FALSE) -> CONSORCIO COMUNAL OLG | D29: 19 | E29: 20 | F29: 1 | G29: 0.25 | H29: 0.25 | K29: =+SUM(C29:J29) -> 40.5
A30: 27 | B30: =VLOOKUP(A30,'LISTA DE OFERENTES'!$A$4:$B$80,2,FALSE) -> CONSORCIO INTELPOLO Z10 | D30: 19 | E30: 20 | F30: 1 | G30: 0.25 | H30: 0.25 | K30: =+SUM(C30:J30) -> 40.5
A31: 28 | B31: =VLOOKUP(A31,'LISTA DE OFERENTES'!$A$4:$B$80,2,FALSE) -> IG INGENIEROS Y ARQUITECTOS S.A.S. | D31: 19 | E31: 20 | F31: 1 | G31: 0.25 | H31: 0.25 | K31: =+SUM(C31:J31) -> 40.5
A32: 29 | B32: =VLOOKUP(A32,'LISTA DE OFERENTES'!$A$4:$B$80,2,FALSE) -> PUERTA DEL SOL | D32: 19 | E32: 20 | F32: 1 | G32: 0.25 | H32: 0.25 | K32: =+SUM(C32:J32) -> 40.5
A33: 30 | B33: =VLOOKUP(A33,'LISTA DE OFERENTES'!$A$4:$B$80,2,FALSE) -> CONSORCIO TANGO | D33: 19 | E33: 20 | F33: 0 | G33: 0.25 | H33: 0.25 | K33: =+SUM(C33:J33) -> 39.5 | L33: NO SE OTORGA EL PUNTAJE POR VINCULACIÓN DE PERSONAS CON DISCAPACIDAD, DADO QUE EL CERTIFICADO DEL MINISTERIO DEL TRABAJO ES DEL 22 DE AGOSTO DE 2023 POR LO CUAL NO SE ENCUENTRA VIGENTE AL CIERRE DEL PROCESO DE SELECCIÓN.
A34: 31 | B34: =VLOOKUP(A34,'LISTA DE OFERENTES'!$A$4:$B$80,2,FALSE) -> CONSORCIO COMUNALES 2025 | D34: 19 | E34: 0 | F34: 1 | G34: 0.25 | H34: 0.25 | K34: =+SUM(C34:J34) -> 20.5 | L34: SE LE ACLARA AL INTERESADO QUE EL DILIGENCIAMIENTO DE LOS FORMATOS CORRESPONDE A RESPONSABILIDAD EXPRESA DE CADA UNO DE LOS OFERENTES, SIENDO ASÍ QUE LOS MISMOS DEBEN ESTAR SUJETOS Y ACORDES A TODO LO SEÑALADO EN EL PLIEGO DE CONDICIONES DEFINITIVO DEL PRESENTE PROCESO DE SELECCIÓN, POR LO CUAL NO SE OTORGA EL PUNTAJE POR APOYO A LA INDUSTRIA NACIONAL, DADO QUE EL OFERENTE EN EL FORMATO 9 – PUNTAJE DE INDUSTRIA NACIONAL RELACIONA UN PORCENTAJE DEL 40% PARA VINCULACION DE PERSONAL COLOMBIANO, SIN EMBARGO EL PLIEGO DE CONDICIONES EN SU NUMERAL 4.4.1. ESTABLECE QUE DICHO PORCENTAJE MINIMO TENDRA QUE SER DEL 95%.
A35: 32 | B35: =VLOOKUP(A35,'LISTA DE OFERENTES'!$A$4:$B$80,2,FALSE) -> UNION TEMPORAL MANTENIMIENTO | D35: 19 | E35: 20 | F35: 1 | G35: 0.25 | H35: 0.25 | K35: =+SUM(C35:J35) -> 40.5
A36: 33 | B36: =VLOOKUP(A36,'LISTA DE OFERENTES'!$A$4:$B$80,2,FALSE) -> CONSORCIO COIDEAR | D36: 19 | E36: 20 | F36: 1 | G36: 0.25 | H36: 0.25 | K36: =+SUM(C36:J36) -> 40.5
A37: 34 | B37: =VLOOKUP(A37,'LISTA DE OFERENTES'!$A$4:$B$80,2,FALSE) -> CONSTRUCTORA GED S.A.S | D37: 19 | E37: 20 | F37: 0 | G37: 0.25 | H37: 0.25 | K37: 39.5
A38: 35 | B38: =VLOOKUP(A38,'LISTA DE OFERENTES'!$A$4:$B$80,2,FALSE) -> CONSORCIO POWER | D38: 19 | E38: 20 | F38: 1 | G38: 0.25 | H38: 0.25 | K38: 40.5
A39: 37 | B39: =VLOOKUP(A39,'LISTA DE OFERENTES'!$A$4:$B$80,2,FALSE) -> CONSORCIO SAN ANTONIO | D39: 19 | E39: 20 | F39: 1 | G39: 0.25 | H39: 0.25 | K39: 40.5
A40: 38 | B40: =VLOOKUP(A40,'LISTA DE OFERENTES'!$A$4:$B$80,2,FALSE) -> CONSORCIO SAN BENITO | D40: 19 | E40: 20 | F40: 0 | G40: 0.25 | H40: 0.25 | K40: 40.5 | L40: NO SE OTORGA EL PUNTAJE POR VINCULACION DE PERSONAS CON DISCAPACIDAD, DADO QUE EL CONSORCIADO LUIS FERNANDO TAMAYO QUE ES QUIEN APORTA DICHO FACTOR PONDERABLE, DENTRO DE LA EVALUACIÓN PRELIMINAR DICHO CONSORCIADO NO CUMPLE CON LO ESTABLECIDO EN EL PLIEGO DE CONDICIONES EN EL NUMERAL 4.5 "Para los Proponentes Plurales, la Entidad tendrá en cuenta la planta de personal del integrante del Proponente Plural que aporte como mínimo el cuarenta por ciento (40 %) de la experiencia requerida para el Proceso de Contratación.", SIENDO ASÍ QUE TAL COMO LO SEÑALA EL PLIEGO DE CONDICIONES EN SU NUMERAL 1.6 "Todos aquellos requisitos de la oferta que afecten la asignación de puntaje, incluyendo los necesarios para acreditar requisitos de desempate, no son subsanables, por lo que los mismos deben ser aportados por los Proponentes desde la presentación de la oferta. No obstante, pueden ser aclarados o ser objeto de explicación." TODO REQUISITO PARA LOS FACTORES PONDERABLES NO ES SUBSANABLE.
A41: 39 | B41: =VLOOKUP(A41,'LISTA DE OFERENTES'!$A$4:$B$80,2,FALSE) -> CONSORCIO URIEL | D41: 19 | E41: 20 | F41: 1 | G41: 0.25 | H41: 0.25 | K41: =+SUM(C41:J41) -> 40.5
A42: 40 | B42: =VLOOKUP(A42,'LISTA DE OFERENTES'!$A$4:$B$80,2,FALSE) -> UNION TEMPORAL PROCIMAB | D42: 19 | E42: 20 | F42: 1 | G42: 0.25 | H42: 0.25 | K42: =+SUM(C42:J42) -> 40.5
A43: 41 | B43: =VLOOKUP(A43,'LISTA DE OFERENTES'!$A$4:$B$80,2,FALSE) -> CONSORCIO SALONES-5G. | D43: 19 | E43: 20 | F43: 1 | G43: 0.25 | H43: 0.25 | K43: =+SUM(C43:J43) -> 40.5
...
