Workbook

Sheet Hoja
A1: Identificacion | B1: Numero Documento | C1: Fecha de Registro | D1: Fecha de pago | E1: Estado | F1: Valor Bruto | G1: Valor Deducciones | H1: Valor Neto | I1: Tipo Beneficiario | J1: Vigencia Presupuestal | K1: Tipo Identificacion | L1: Identificacion | M1: Nombre Razon Social | N1: Medio de Pago | O1: Tipo Cuenta | P1: Numero Cuenta | Q1: Estado Cuenta | R1: Entidad Nit | S1: Entidad Descripcion | T1: Dependencia | U1: Dependencia Descripcion | V1: Rubro | W1: Descripcion | X1: Fuente | Y1: Recurso | Z1: Sit | AA1: Valor Pesos | AB1: Valor Moneda | AC1: Valor Reintegrado Pesos | AD1: Valor Reintegrado Moneda | AE1: Tesoreria Pagadora | AF1: Identificacion Pagaduria | AG1: Cuenta Pagaduria | AH1: Endosada | AI1: Tipo Identificacion | AJ1: Identificacion | AK1: Razon social | AL1: Numero Cuenta | AM1: Concepto Pago | AN1: Solicitud CDP | AO1: CDP | AP1: Compromisos | AQ1: Cuentas por Pagar | AR1: Fecha Cuentas por Pagar | AS1: Obligaciones | AT1: Ordenes de Pago | AU1: Reintegros | AV1: Fecha Doc Soporte Compromiso | AW1: Tipo Doc Soporte Compromiso | AX1: Num Doc Soporte Compromiso | AY1: Objeto del Compromiso | AZ1: SUPERVISOR | BA1: NÙMERO CONTRATO | BB1: Objeto
A2: 1036632753 | B2: 16003424 | C2: 2024-01-29 00:00:00 | D2: 2024-01-31 03:48:14 | E2: Pagada | F2: 1,400,000.00 | G2: 5,600.00 | H2: 1,394,400.00 | I2: Beneficiario final | J2: Actual | K2: Cédula de Ciudadanía | L2: 1036632753 | M2: GARCIA GARCIA ESTEBAN | N2: Abono en cuenta | O2: Ahorro | P2: 91230379373 | Q2: Activa | R2: 890903938 | S2: BANCOLOMBIA S.A. | T2: 940210 | U2: CENTRO DE SERVICIOS Y GESTION EMPRESARIAL - ANTIOQUIA | V2: C-3603-1300-15-20305C-3603025-02 | W2: ADQUIS. DE BYS - SERVICIO DE FORMACIÓN PROFESIONAL INTEGRAL - FORTALECIMIENTO DEL SERVICIO DE FORMACIÓN PROFESIONAL DEL SENA NACIONAL | X2: Nación | Y2: RECURSOS CORRIENTES | Z2: CSF | AA2: 1,400,000.00 | AB2: 0.00 | AC2: 0.00 | AD2: 0.00 | AE2: 13-01-01-DT | AH2: No | AM2: PAGO PRESTACION SERVICIOS MES DE ENERO CTO No, CO1PCCNTR5747211DE GARCIA GARCIA ESTEBAN | AN2: 124 | AO2: 124 | AP2: 624 | AQ2: 0 | AS2: 2224 | AT2: 16003424 | AU2: 0 | AV2: 2024-01-16 00:00:00 | AW2: CONTRATO DE PRESTACION DE SERVICIOS - PROFESIONALES | AX2: CO1.PCCNTR.5747211 | AY2: SERVICIOS PERSONALES - PRESTAR SERVICIOS COMO APOYO EN LA GESTIÓN DE LAS TECNOLOGÍAS DE LA INFORMACIÓN Y LAS COMUNICACIONES DEL CENTRO DE SERVICIOS Y GESTIÓN EMPRESARIAL | AZ2: =VLOOKUP(A2,Hoja1!A1:BM435,45,FALSE) -> JORGE ELEAZAR CHALARCA BEDOYA | BA2: =VLOOKUP(A2,Hoja1!A:BM,7,FALSE) -> 5747211 | BB2: =VLOOKUP(A2,Hoja1!A:BM,10,FALSE) -> SERVICIOS PERSONALES - PRESTAR SERVICIOS COMO APOYO EN LA GESTIÓN DE LAS TECNOLOGÍAS DE LA INFORMACIÓN Y LAS COMUNICACIONES DEL CENTRO DE SERVICIOS Y GESTIÓN EMPRESARIAL
A3: 32299610 | B3: 16003624 | C3: 2024-01-29 00:00:00 | D3: 2024-01-31 03:47:38 | E3: Pagada | F3: 1,477,500.00 | G3: 5,910.00 | H3: 1,471,590.00 | I3: Beneficiario final | J3: Actual | K3: Cédula de Ciudadanía | L3: 32299610 | M3: GARZON CARDONA LEIDI YOHANA | N3: Abono en cuenta | O3: Ahorro | P3: 95800015589 | Q3: Activa | R3: 890903938 | S3: BANCOLOMBIA S.A. | T3: 940210 | U3: CENTRO DE SERVICIOS Y GESTION EMPRESARIAL - ANTIOQUIA | V3: C-3603-1300-15-20305C-3603025-02 | W3: ADQUIS. DE BYS - SERVICIO DE FORMACIÓN PROFESIONAL INTEGRAL - FORTALECIMIENTO DEL SERVICIO DE FORMACIÓN PROFESIONAL DEL SENA NACIONAL | X3: Nación | Y3: RECURSOS CORRIENTES | Z3: CSF | AA3: 1,477,500.00 | AB3: 0.00 | AC3: 0.00 | AD3: 0.00 | AE3: 13-01-01-DT | AH3: No | AM3: PAGO PRESTACION SERVICIOS MES DE ENERO CTO No, CO1PCCNTR5746853DE GARZON CARDONA LEIDI YOHANA | AN3: 124 | AO3: 124 | AP3: 424 | AQ3: 0 | AS3: 2324 | AT3: 16003624 | AU3: 0 | AV3: 2024-01-16 00:00:00 | AW3: CONTRATO DE PRESTACION DE SERVICIOS - PROFESIONALES | AX3: CO1.PCCNTR.5746853 | AY3: SERVICIOS PERSONALES - PRESTAR SERVICIOS PERSONALES PARA APOYAR EN LA GESTIÓN CONTRACTUAL DEL CENTRO DE SERVICIOS Y GESTIÓN EMPRESARIAL | AZ3: =VLOOKUP(A3,Hoja1!A2:BM436,45,FALSE) -> MONICA ALEXANDRA ARROYAVE SALDARRIAGA | BA3: =VLOOKUP(A3,Hoja1!A:BM,7,FALSE) -> 5746853 | BB3: =VLOOKUP(A3,Hoja1!A:BM,10,FALSE) -> SERVICIOS PERSONALES - PRESTAR SERVICIOS PERSONALES PARA APOYAR EN LA GESTIÓN CONTRACTUAL DEL CENTRO DE SERVICIOS Y GESTIÓN EMPRESARIAL
A4: 84084385 | B4: 16003824 | C4: 2024-01-29 00:00:00 | D4: 2024-01-31 03:42:03 | E4: Pagada | F4: 2,773,333.00 | G4: 11,093.00 | H4: 2,762,240.00 | I4: Beneficiario final | J4: Actual | K4: Cédula de Ciudadanía | L4: 84084385 | M4: SOCARRAZ BERTY LUIS AUGUSTO | N4: Abono en cuenta | O4: Ahorro | P4: 95849617126 | Q4: Activa | R4: 890903938 | S4: BANCOLOMBIA S.A. | T4: 940210 | U4: CENTRO DE SERVICIOS Y GESTION EMPRESARIAL - ANTIOQUIA | V4: C-3603-1300-15-20305C-3603025-02 | W4: ADQUIS. DE BYS - SERVICIO DE FORMACIÓN PROFESIONAL INTEGRAL - FORTALECIMIENTO DEL SERVICIO DE FORMACIÓN PROFESIONAL DEL SENA NACIONAL | X4: Nación | Y4: RECURSOS CORRIENTES | Z4: CSF | AA4: 2,773,333.00 | AB4: 0.00 | AC4: 0.00 | AD4: 0.00 | AE4: 13-01-01-DT | AH4: No | AM4: PAGO PRESTACION SERVICIOS MES DE ENERO CTO No, CO1PCCNTR5741551DE SOCARRAZ BERTY LUIS AUGUSTO | AN4: 124 | AO4: 124 | AP4: 124 | AQ4: 0 | AS4: 2424 | AT4: 16003824 | AU4: 0 | AV4: 2024-01-15 00:00:00 | AW4: CONTRATO DE PRESTACION DE SERVICIOS - PROFESIONALES | AX4: CO1.PCCNTR.5741551 | AY4: SERVICIOS PERSONALES - PRESTAR SERVICIOS PROFESIONALES PARA EL SEGUIMIENTO FINANCIERO Y EJECUCIÓN PRESUPUESTAL DEL CENTRO DE SERVICIOS Y GESTIÓN EMPRESARIAL | AZ4: =VLOOKUP(A4,Hoja1!A3:BM437,45,FALSE) -> #N/A | BA4: =VLOOKUP(A4,Hoja1!A:BM,7,FALSE) -> 5741551 | BB4: =VLOOKUP(A4,Hoja1!A:BM,10,FALSE) -> SERVICIOS PERSONALES - PRESTAR SERVICIOS PROFESIONALES PARA EL SEGUIMIENTO FINANCIERO Y EJECUCIÓN PRESUPUESTAL DEL CENTRO DE SERVICIOS Y GESTIÓN EMPRESARIAL
A5: 1017125222 | B5: 16004124 | C5: 2024-01-29 00:00:00 | D5: 2024-01-31 03:43:00 | E5: Pagada | F5: 2,100,000.00 | G5: 8,400.00 | H5: 2,091,600.00 | I5: Beneficiario final | J5: Actual | K5: Cédula de Ciudadanía | L5: 1017125222 | M5: GOMEZ PARRA JOHN ALEJANDRO | N5: Abono en cuenta | O5: Ahorro | P5: 10282359550 | Q5: Activa | R5: 890903938 | S5: BANCOLOMBIA S.A. | T5: 940210 | U5: CENTRO DE SERVICIOS Y GESTION EMPRESARIAL - ANTIOQUIA | V5: C-3603-1300-15-20305C-3603025-02 | W5: ADQUIS. DE BYS - SERVICIO DE FORMACIÓN PROFESIONAL INTEGRAL - FORTALECIMIENTO DEL SERVICIO DE FORMACIÓN PROFESIONAL DEL SENA NACIONAL | X5: Nación | Y5: RECURSOS CORRIENTES | Z5: CSF | AA5: 2,100,000.00 | AB5: 0.00 | AC5: 0.00 | AD5: 0.00 | AE5: 13-01-01-DT | AH5: No | AM5: PAGO PRESTACION SERVICIOS MES DE ENERO CTO No, CO1PCCNTR5754387DE GOMEZ PARRA JOHN ALEJANDRO | AN5: 124 | AO5: 124 | AP5: 1424 | AQ5: 0 | AS5: 2524 | AT5: 16004124 | AU5: 0 | AV5: 2024-01-17 00:00:00 | AW5: CONTRATO DE PRESTACION DE SERVICIOS - PROFESIONALES | AX5: CO1.PCCNTR.5754387 | AY5: SERVICIOS PERSONALES - PRESTAR LOS SERVICIOS PROFESIONALES PARA APOYAR LA FORMULACIÓN, GESTIÓN Y SEGUIMIENTO DE LAS POLÍTICAS, ESTRATEGIAS, PROCESOS, PLANES, PROGRAMAS Y PROYECTOS DEL CENTRO DE FORMACIÓN | AZ5: =VLOOKUP(A5,Hoja1!A4:BM438,45,FALSE) -> MONICA ALEXANDRA ARROYAVE SALDARRIAGA | BA5: =VLOOKUP(A5,Hoja1!A:BM,7,FALSE) -> 5754387 | BB5: =VLOOKUP(A5,Hoja1!A:BM,10,FALSE) -> SERVICIOS PERSONALES - PRESTAR LOS SERVICIOS PROFESIONALES PARA APOYAR LA FORMULACIÓN, GESTIÓN Y SEGUIMIENTO DE LAS POLÍTICAS, ESTRATEGIAS, PROCESOS, PLANES, PROGRAMAS Y PROYECTOS DEL CENTRO DE FORMACIÓN
A6: 1214733169 | B6: 16004424 | C6: 2024-01-29 00:00:00 | D6: 2024-01-31 03:47:21 | E6: Pagada | F6: 1,840,000.00 | G6: 7,360.00 | H6: 1,832,640.00 | I6: Beneficiario final | J6: Actual | K6: Cédula de Ciudadanía | L6: 1214733169 | M6: LOPEZ ROJO YORLEIDYS | N6: Abono en cuenta | O6: Ahorro | P6: 24533037841 | Q6: Activa | R6: 890903938 | S6: BANCOLOMBIA S.A. | T6: 940210 | U6: CENTRO DE SERVICIOS Y GESTION EMPRESARIAL - ANTIOQUIA | V6: C-3603-1300-15-20305C-3603025-02 | W6: ADQUIS. DE BYS - SERVICIO DE FORMACIÓN PROFESIONAL INTEGRAL - FORTALECIMIENTO DEL SERVICIO DE FORMACIÓN PROFESIONAL DEL SENA NACIONAL | X6: Nación | Y6: RECURSOS CORRIENTES | Z6: CSF | AA6: 1,840,000.00 | AB6: 0.00 | AC6: 0.00 | AD6: 0.00 | AE6: 13-01-01-DT | AH6: No | AM6: PAGO PRESTACION SERVICIOS MES DE ENERO CTO No, CO1PCCNTR5741743DE LOPEZ ROJO YORLEIDYS | AN6: 124 | AO6: 124 | AP6: 224 | AQ6: 0 | AS6: 2624 | AT6: 16004424 | AU6: 0 | AV6: 2024-01-15 00:00:00 | AW6: CONTRATO DE PRESTACION DE SERVICIOS - PROFESIONALES | AX6: CO1.PCCNTR.5741743 | AY6: SERVICIOS PERSONALES - PRESTAR SERVICIOS COMO APOYO A LA GESTIÓN ADMINISTRATIVA Y DOCUMENTAL DEL CENTRO DE SERVICIOS Y GESTIÓN EMPRESARIAL | AZ6: =VLOOKUP(A6,Hoja1!A5:BM439,45,FALSE) -> #N/A | BA6: =VLOOKUP(A6,Hoja1!A:BM,7,FALSE) -> 5741743 | BB6: =VLOOKUP(A6,Hoja1!A:BM,10,FALSE) -> SERVICIOS PERSONALES - PRESTAR SERVICIOS COMO APOYO A LA GESTIÓN ADMINISTRATIVA Y DOCUMENTAL DEL CENTRO DE SERVICIOS Y GESTIÓN EMPRESARIAL
A7: 1035225542 | B7: 16004724 | C7: 2024-01-29 00:00:00 | D7: 2024-01-31 03:43:05 | E7: Pagada | F7: 953,333.00 | G7: 3,813.00 | H7: 949,520.00 | I7: Beneficiario final | J7: Actual | K7: Cédula de Ciudadanía | L7: 1035225542 | M7: GAVIRIA MARIN SEBASTIAN | N7: Abono en cuenta | O7: Ahorro | P7: 51155779521 | Q7: Activa | R7: 890903938 | S7: BANCOLOMBIA S.A. | T7: 940228 | U7: CENTRO DE SERVICIOS Y GESTION EMPRESARIAL-CERTIFICACION COMPETENCIAS LABORALES | V7: C-3603-1300-17-20305C-3603005-02 | W7: ADQUIS. DE BYS - SERVICIO DE CERTIFICACIÓN DE DESEMPEÑO LABORAL - FORTALECIMIENTO DE LOS PROCESOS DE GESTIÓN INSTITUCIONAL PARA LA IDENTIFICACIÓN Y CIERRE DE BRECHAS DE CAPITAL HUMANO NACIONAL | X7: Nación | Y7: RECURSOS CORRIENTES | Z7: CSF | AA7: 953,333.00 | AB7: 0.00 | AC7: 0.00 | AD7: 0.00 | AE7: 13-01-01-DT | AH7: No | AM7: PAGO PRESTACION SERVICIOS MES DE ENERO CTO No, CO1PCCNTR5769861DE GAVIRIA MARIN SEBASTIAN | AN7: 624 | AO7: 624 | AP7: 1924 | AQ7: 0 | AS7: 2724 | AT7: 16004724 | AU7: 0 | AV7: 2024-01-19 00:00:00 | AW7: CONTRATO DE PRESTACION DE SERVICIOS - PROFESIONALES | AX7: CO1.PCCNTR.5769861 | AY7: SERVICIS PERSONALES - PRESTAR LOS SERVICIOS PERSONALES DE APOYO A LA GESTIÓN, EN LOS ASPECTOS ADMINISTRATIVOS PARA EL DESARROLLO DE LAS FASES DEL PROCESO GESTIÓN DE EVALUACIÓN Y CERTIFICACIÓN DE COMPETENCIAS LABORALES DEL SENA | AZ7: =VLOOKUP(A7,Hoja1!A6:BM440,45,FALSE) -> LUIS HERNAN OCAMPO HINCAPIE | BA7: =VLOOKUP(A7,Hoja1!A:BM,7,FALSE) -> 5769861 | BB7: =VLOOKUP(A7,Hoja1!A:BM,10,FALSE) -> SERVICIS PERSONALES - PRESTAR LOS SERVICIOS PERSONALES DE APOYO A LA GESTIÓN, EN LOS ASPECTOS ADMINISTRATIVOS PARA EL DESARROLLO DE LAS FASES DEL PROCESO GESTIÓN DE EVALUACIÓN Y CERTIFICACIÓN DE COMPETENCIAS LABORALES DEL SENA
A8: 43747198 | B8: 16005024 | C8: 2024-01-29 00:00:00 | D8: 2024-01-31 03:46:37 | E8: Pagada | F8: 1,866,667.00 | G8: 7,467.00 | H8: 1,859,200.00 | I8: Beneficiario final | J8: Actual | K8: Cédula de Ciudadanía | L8: 43747198 | M8: ARENAS CANO OLGA LUCIA | N8: Abono en cuenta | O8: Ahorro | P8: 10072547966 | Q8: Activa | R8: 890903938 | S8: BANCOLOMBIA S.A. | T8: 940210 | U8: CENTRO DE SERVICIOS Y GESTION EMPRESARIAL - ANTIOQUIA | V8: C-3603-1300-15-20305C-3603025-02 | W8: ADQUIS. DE BYS - SERVICIO DE FORMACIÓN PROFESIONAL INTEGRAL - FORTALECIMIENTO DEL SERVICIO DE FORMACIÓN PROFESIONAL DEL SENA NACIONAL | X8: Nación | Y8: RECURSOS CORRIENTES | Z8: CSF | AA8: 1,866,667.00 | AB8: 0.00 | AC8: 0.00 | AD8: 0.00 | AE8: 13-01-01-DT | AH8: No | AM8: PAGO PRESTACION SERVICIOS MES DE ENERO CTO No, CO1PCCNTR5753699DE ARENAS CANO OLGA LUCIA | AN8: 124 | AO8: 124 | AP8: 1324 | AQ8: 0 | AS8: 2824 | AT8: 16005024 | AU8: 0 | AV8: 2024-01-17 00:00:00 | AW8: CONTRATO DE PRESTACION DE SERVICIOS - PROFESIONALES | AX8: CO1.PCCNTR.5753699 | AY8: SERVICIOS PERSONALES PRESTAR SERVICIOS PROFESIONALES DE APOYO A LA GESTIÓN EN LOS PROCESOS DEL ALMACÉN E INVENTARIOS DEL CENTRO DE SERVICIOS Y GESTIÓN EMPRESARIAL | AZ8: =VLOOKUP(A8,Hoja1!A7:BM441,45,FALSE) -> GERSON RINCON MARTINEZ | BA8: =VLOOKUP(A8,Hoja1!A:BM,7,FALSE) -> 5753699 | BB8: =VLOOKUP(A8,Hoja1!A:BM,10,FALSE) -> SERVICIOS PERSONALES PRESTAR SERVICIOS PROFESIONALES DE APOYO A LA GESTIÓN EN LOS PROCESOS DEL ALMACÉN E INVENTARIOS DEL CENTRO DE SERVICIOS Y GESTIÓN EMPRESARIAL
A9: 43750032 | B9: 16005624 | C9: 2024-01-29 00:00:00 | D9: 2024-01-31 03:45:04 | E9: Pagada | F9: 1,343,333.00 | G9: 5,373.00 | H9: 1,337,960.00 | I9: Beneficiario final | J9: Actual | K9: Cédula de Ciudadanía | L9: 43750032 | M9: MORALES SANCHEZ ALEXANDRA MARIA | N9: Abono en cuenta | O9: Ahorro | P9: 10192622217 | Q9: Activa | R9: 890903938 | S9: BANCOLOMBIA S.A. | T9: 940210 | U9: CENTRO DE SERVICIOS Y GESTION EMPRESARIAL - ANTIOQUIA | V9: C-3603-1300-15-20305C-3603025-02 | W9: ADQUIS. DE BYS - SERVICIO DE FORMACIÓN PROFESIONAL INTEGRAL - FORTALECIMIENTO DEL SERVICIO DE FORMACIÓN PROFESIONAL DEL SENA NACIONAL | X9: Nación | Y9: RECURSOS CORRIENTES | Z9: CSF | AA9: 1,343,333.00 | AB9: 0.00 | AC9: 0.00 | AD9: 0.00 | AE9: 13-01-01-DT | AH9: No | AM9: PAGO PRESTACION SERVICIOS MES DE ENERO CTO No, CO1PCCNTR5754867DE MORALES SANCHEZ ALEXANDRA MARIA | AN9: 124 | AO9: 124 | AP9: 1724 | AQ9: 0 | AS9: 2924 | AT9: 16005624 | AU9: 0 | AV9: 2024-01-18 00:00:00 | AW9: CONTRATO DE PRESTACION DE SERVICIOS - PROFESIONALES | AX9: CO1.PCCNTR.5754867 | AY9: SERVICIOS PERSONALES - PRESTAR SERVICIOS COMO APOYO EN LA GESTIÓN ADMINISTRATIVA Y OPERACIONAL EN LA GESTIÓN DE LA EJECUCIÓN DE LA FORMACIÓN PROFESIONAL INTEGRAL. | AZ9: =VLOOKUP(A9,Hoja1!A8:BM442,45,FALSE) -> GERSON RINCON MARTINEZ | BA9: =VLOOKUP(A9,Hoja1!A:BM,7,FALSE) -> 5754867 | BB9: =VLOOKUP(A9,Hoja1!A:BM,10,FALSE) -> SERVICIOS PERSONALES - PRESTAR SERVICIOS COMO APOYO EN LA GESTIÓN ADMINISTRATIVA Y OPERACIONAL EN LA GESTIÓN DE LA EJECUCIÓN DE LA FORMACIÓN PROFESIONAL INTEGRAL.
A10: 71378371 | B10: 16005924 | C10: 2024-01-29 00:00:00 | D10: 2024-01-31 03:46:43 | E10: Pagada | F10: 1,913,261.00 | G10: 7,653.00 | H10: 1,905,608.00 | I10: Beneficiario final | J10: Actual | K10: Cédula de Ciudadanía | L10: 71378371 | M10: ALZATE GARCIA ANDRES FELIPE | N10: Abono en cuenta | O10: Ahorro | P10: 27771901447 | Q10: Activa | R10: 890903938 | S10: BANCOLOMBIA S.A. | T10: 940210 | U10: CENTRO DE SERVICIOS Y GESTION EMPRESARIAL - ANTIOQUIA | V10: C-3603-1300-15-20305C-3603025-02 | W10: ADQUIS. DE BYS - SERVICIO DE FORMACIÓN PROFESIONAL INTEGRAL - FORTALECIMIENTO DEL SERVICIO DE FORMACIÓN PROFESIONAL DEL SENA NACIONAL | X10: Nación | Y10: RECURSOS CORRIENTES | Z10: CSF | AA10: 1,913,261.00 | AB10: 0.00 | AC10: 0.00 | AD10: 0.00 | AE10: 13-01-01-DT | AH10: No | AM10: PAGO PRESTACION SERVICIOS MES DE ENERO CTO No, CO1PCCNTR5755239DE ALZATE GARCIA ANDRES FELIPE | AN10: 124 | AO10: 124 | AP10: 1624 | AQ10: 0 | AS10: 3024 | AT10: 16005924 | AU10: 0 | AV10: 2024-01-18 00:00:00 | AW10: CONTRATO DE PRESTACION DE SERVICIOS - PROFESIONALES | AX10: CO1.PCCNTR.5755239 | AY10: SERVICIOS PERSONALES - PRESTAR LOS SERVICIOS PROFESIONALES PARA APOYAR EL MONITOREO, GESTIÓN Y FORTALECIMIENTO DE LOS SISTEMAS DE GESTIÓN AMBIENTAL Y DE EFICIENCIA ENERGÉTICA, BAJO LAS NORMAS TÉCNICAS ISO 14001 E ISO 50001, COMO DINAMIZADOR AMBIENTAL | AZ10: =VLOOKUP(A10,Hoja1!A9:BM443,45,FALSE) -> GERSON RINCON MARTINEZ | BA10: =VLOOKUP(A10,Hoja1!A:BM,7,FALSE) -> 5755239 | BB10: =VLOOKUP(A10,Hoja1!A:BM,10,FALSE) -> SERVICIOS PERSONALES - PRESTAR LOS SERVICIOS PROFESIONALES PARA APOYAR EL MONITOREO, GESTIÓN Y FORTALECIMIENTO DE LOS SISTEMAS DE GESTIÓN AMBIENTAL Y DE EFICIENCIA ENERGÉTICA, BAJO LAS NORMAS TÉCNICAS ISO 14001 E ISO 50001, COMO DINAMIZADOR AMBIENTAL
A11: 39450570 | B11: 16006924 | C11: 2024-01-29 00:00:00 | D11: 2024-01-31 03:48:08 | E11: Pagada | F11: 1,379,000.00 | G11: 5,516.00 | H11: 1,373,484.00 | I11: Beneficiario final | J11: Actual | K11: Cédula de Ciudadanía | L11: 39450570 | M11: ARBELAEZ ORTIZ NAIDU | N11: Abono en cuenta | O11: Ahorro | P11: 41231949940 | Q11: Activa | R11: 890903938 | S11: BANCOLOMBIA S.A. | T11: 940210 | U11: CENTRO DE SERVICIOS Y GESTION EMPRESARIAL - ANTIOQUIA | V11: C-3603-1300-15-20305C-3603025-02 | W11: ADQUIS. DE BYS - SERVICIO DE FORMACIÓN PROFESIONAL INTEGRAL - FORTALECIMIENTO DEL SERVICIO DE FORMACIÓN PROFESIONAL DEL SENA NACIONAL | X11: Nación | Y11: RECURSOS CORRIENTES | Z11: CSF | AA11: 1,379,000.00 | AB11: 0.00 | AC11: 0.00 | AD11: 0.00 | AE11: 13-01-01-DT | AH11: No | AM11: PAGO PRESTACION SERVICIOS MES DE ENERO CTO No, CO1PCCNTR5747426DE ARBELAEZ ORTIZ NAIDU | AN11: 124 | AO11: 124 | AP11: 824 | AQ11: 0 | AS11: 3124 | AT11: 16006924 | AU11: 0 | AV11: 2024-01-16 00:00:00 | AW11: CONTRATO DE PRESTACION DE SERVICIOS - PROFESIONALES | AX11: CO1.PCCNTR.5747426 | AY11: SERVICIOS PERSONALES - PRESTAR SERVICIOS COMO APOYO A LA GESTIÓN DEL SISTEMA DE INFORMACIÓN ACADÉMICO | AZ11: =VLOOKUP(A11,Hoja1!A10:BM444,45,FALSE) -> #N/A | BA11: =VLOOKUP(A11,Hoja1!A:BM,7,FALSE) -> 5747426 | BB11: =VLOOKUP(A11,Hoja1!A:BM,10,FALSE) -> SERVICIOS PERSONALES - PRESTAR SERVICIOS COMO APOYO A LA GESTIÓN DEL SISTEMA DE INFORMACIÓN ACADÉMICO
A12: 1035223515 | B12: 16007124 | C12: 2024-01-29 00:00:00 | D12: 2024-01-31 03:43:43 | E12: Pagada | F12: 886,500.00 | G12: 3,546.00 | H12: 882,954.00 | I12: Beneficiario final | J12: Actual | K12: Cédula de Ciudadanía | L12: 1035223515 | M12: AGUDELO ZAPATA MARCELA ALEXANDRA | N12: Abono en cuenta | O12: Ahorro | P12: 65136459141 | Q12: Activa | R12: 890903938 | S12: BANCOLOMBIA S.A. | T12: 940210 | U12: CENTRO DE SERVICIOS Y GESTION EMPRESARIAL - ANTIOQUIA | V12: C-3603-1300-15-20305C-3603025-02 | W12: ADQUIS. DE BYS - SERVICIO DE FORMACIÓN PROFESIONAL INTEGRAL - FORTALECIMIENTO DEL SERVICIO DE FORMACIÓN PROFESIONAL DEL SENA NACIONAL | X12: Nación | Y12: RECURSOS CORRIENTES | Z12: CSF | AA12: 886,500.00 | AB12: 0.00 | AC12: 0.00 | AD12: 0.00 | AE12: 13-01-01-DT | AH12: No | AM12: PAGO PRESTACION SERVICIOS MES DE ENERO CTO No, CO1PCCNTR5753356DE AGUDELO ZAPATA MARCELA ALEXANDRA | AN12: 124 | AO12: 124 | AP12: 2024 | AQ12: 0 | AS12: 3224 | AT12: 16007124 | AU12: 0 | AV12: 2024-01-19 00:00:00 | AW12: CONTRATO DE PRESTACION DE SERVICIOS - PROFESIONALES | AX12: CO1.PCCNTR.5753356 | AY12: SERVICIOS PERSONALES - PRESTAR SERVICIOS COMO APOYO A LA GESTIÓN EN LA OPERACIÓN DEL APLICATIVO ON-BASE, SOFIAPLUS Y ATENCIÓN AL CIUDADANO | AZ12: =VLOOKUP(A12,Hoja1!A11:BM445,45,FALSE) -> MARTHA CECILIA ARISTIZABAL OSORIO | BA12: =VLOOKUP(A12,Hoja1!A:BM,7,FALSE) -> 5753356 | BB12: =VLOOKUP(A12,Hoja1!A:BM,10,FALSE) -> SERVICIOS PERSONALES - PRESTAR SERVICIOS COMO APOYO A LA GESTIÓN EN LA OPERACIÓN DEL APLICATIVO ON-BASE, SOFIAPLUS Y ATENCIÓN AL CIUDADANO
A13: 1037974087 | B13: 16007224 | C13: 2024-01-29 00:00:00 | D13: 2024-01-31 03:48:08 | E13: Pagada | F13: 1,379,000.00 | G13: 5,516.00 | H13: 1,373,484.00 | I13: Beneficiario final | J13: Actual | K13: Cédula de Ciudadanía | L13: 1037974087 | M13: TORRES VALENCIA JESUS DAVID | N13: Abono en cuenta | O13: Ahorro | P13: 00348916262 | Q13: Activa | R13: 890903938 | S13: BANCOLOMBIA S.A. | T13: 940210 | U13: CENTRO DE SERVICIOS Y GESTION EMPRESARIAL - ANTIOQUIA | V13: C-3603-1300-15-20305C-3603025-02 | W13: ADQUIS. DE BYS - SERVICIO DE FORMACIÓN PROFESIONAL INTEGRAL - FORTALECIMIENTO DEL SERVICIO DE FORMACIÓN PROFESIONAL DEL SENA NACIONAL | X13: Nación | Y13: RECURSOS CORRIENTES | Z13: CSF | AA13: 1,379,000.00 | AB13: 0.00 | AC13: 0.00 | AD13: 0.00 | AE13: 13-01-01-DT | AH13: No | AM13: PAGO PRESTACION SERVICIOS MES DE ENERO CTO No, CO1PCCNTR5748879DE TORRES VALENCIA JESUS DAVID | AN13: 124 | AO13: 124 | AP13: 1124 | AQ13: 0 | AS13: 3324 | AT13: 16007224 | AU13: 0 | AV13: 2024-01-17 00:00:00 | AW13: CONTRATO DE PRESTACION DE SERVICIOS - PROFESIONALES | AX13: CO1.PCCNTR.5748879 | AY13: SERVICIOS PERSONALES - PRESTAR SERVICIOS COMO APOYO A LA GESTIÓN DEL SISTEMA DE INFORMACIÓN ACADÉMICO | AZ13: =VLOOKUP(A13,Hoja1!A12:BM446,45,FALSE) -> #N/A | BA13: =VLOOKUP(A13,Hoja1!A:BM,7,FALSE) -> 5748879 | BB13: =VLOOKUP(A13,Hoja1!A:BM,10,FALSE) -> SERVICIOS PERSONALES - PRESTAR SERVICIOS COMO APOYO A LA GESTIÓN DEL SISTEMA DE INFORMACIÓN ACADÉMICO
... A18: 43633863 | B18: 16008424 | C18: 2024-01-29 00:00:00 | D18: 2024-01-31 03:47:55 | E18: Pagada | F18: 1,586,667.00 | G18: 6,347.00 | H18: 1,580,320.00 | I18: Beneficiario final | J18: Actual | K18: Cédula de Ciudadanía | L18: 43633863 | M18: CARDONA OSSA LINA MARCELA | N18: Abono en cuenta | O18: Ahorro | P18: 10125210084 | Q18: Activa | R18: 890903938 | S18: BANCOLOMBIA S.A. | T18: 940210 | U18: CENTRO DE SERVICIOS Y GESTION EMPRESARIAL - ANTIOQUIA | V18: C-3603-1300-15-20305C-3603025-02 | W18: ADQUIS. DE BYS - SERVICIO DE FORMACIÓN PROFESIONAL INTEGRAL - FORTALECIMIENTO DEL SERVICIO DE FORMACIÓN PROFESIONAL DEL SENA NACIONAL | X18: Nación | Y18: RECURSOS CORRIENTES | Z18: CSF | AA18: 1,586,667.00 | AB18: 0.00 | AC18: 0.00 | AD18: 0.00 | AE18: 13-01-01-DT | AH18: No | AM18: PAGO PRESTACION SERVICIOS MES DE ENERO CTO No, CO1PCCNTR5746984DE CARDONA OSSA LINA MARCELA | AN18: 124 | AO18: 124 | AP18: 724 | AQ18: 0 | AS18: 3824 | AT18: 16008424 | AU18: 0 | AV18: 2024-01-16 00:00:00 | AW18: CONTRATO DE PRESTACION DE SERVICIOS - PROFESIONALES | AX18: CO1.PCCNTR.5746984 | AY18: SERVICIOS PERSONALES - PRESTAR SERVICIOS PROFESIONALES PARA LA GESTIÓN EN LA COORDINACIÓN ACADÉMICA COMO APOYO A LA SUPERVISIÓN DE LOS CONTRATOS DE SERVICIOS PERSONALES | AZ18: =VLOOKUP(A18,Hoja1!A17:BM451,45,FALSE) -> #N/A | BA18: =VLOOKUP(A18,Hoja1!A:BM,7,FALSE) -> 5746984 | BB18: =VLOOKUP(A18,Hoja1!A:BM,10,FALSE) -> SERVICIOS PERSONALES - PRESTAR SERVICIOS PROFESIONALES PARA LA GESTIÓN EN LA COORDINACIÓN ACADÉMICA COMO APOYO A LA SUPERVISIÓN DE LOS CONTRATOS DE SERVICIOS PERSONALES
A19: 32225255 | B19: 44788824 | C19: 2024-02-26 00:00:00 | D19: 2024-02-28 04:29:50 | E19: Pagada | F19: 3,720,833.00 | G19: 14,883.00 | H19: 3,705,950.00 | I19: Beneficiario final | J19: Actual | K19: Cédula de Ciudadanía | L19: 32225255 | M19: ARROYAVE MESA LILIANA DE LAS MISERICORDIAS | N19: Abono en cuenta | O19: Ahorro | P19: 64215957223 | Q19: Activa | R19: 890903938 | S19: BANCOLOMBIA S.A. | T19: 940211 | U19: CENTRO DE SERVICIOS Y GESTION EMPRESARIAL-INTEGRACION CON LA MEDIA | V19: C-3603-1300-15-20305C-3603025-02 | W19: ADQUIS. DE BYS - SERVICIO DE FORMACIÓN PROFESIONAL INTEGRAL - FORTALECIMIENTO DEL SERVICIO DE FORMACIÓN PROFESIONAL DEL SENA NACIONAL | X19: Propios | Y19: INGRESOS CORRIENTES | Z19: CSF | AA19: 3,720,833.00 | AB19: 0.00 | AC19: 0.00 | AD19: 0.00 | AE19: 13-01-01-DT | AH19: No | AM19: PAGO PRESTACION SERVICIOS MES DE FEBRERO CTO No, CO1,PCCNTR,5840535DE ARROYAVE MESA LILIANA DE LAS MISERICORDIAS | AN19: 1224 | AO19: 1224 | AP19: 21324 | AQ19: 0 | AS19: 21924 | AT19: 44788824 | AU19: 0 | AV19: 2024-02-06 00:00:00 | AW19: CONTRATO DE PRESTACION DE SERVICIOS - PROFESIONALES | AX19: CO1.PCCNTR.5840535 | AY19: INSTRUCTOR - PRESTAR SERVICIOS PERSONALES DE PARA PLANEAR Y ORIENTAR LA FORMACIÓN PROFESIONAL INTEGRAL, QUE PROGRAME EL CENTRO DE SERVICIOS Y GESTIÓN EMPRESARIAL EN LA ARTICULACION CON LA EDUCACION MEDIA | AZ19: =VLOOKUP(A19,Hoja1!A195:BM629,45,FALSE) -> #N/A | BA19: =VLOOKUP(A19,Hoja1!A:BM,7,FALSE) -> 5840535 | BB19: =VLOOKUP(A19,Hoja1!A:BM,10,FALSE) -> INSTRUCTOR - PRESTAR SERVICIOS PERSONALES DE PARA PLANEAR Y ORIENTAR LA FORMACIÓN PROFESIONAL INTEGRAL, QUE PROGRAME EL CENTRO DE SERVICIOS Y GESTIÓN EMPRESARIAL EN LA ARTICULACION CON LA EDUCACION MEDIA
A20: 1035919072 | B20: 16009124 | C20: 2024-01-29 00:00:00 | D20: 2024-01-31 03:43:15 | E20: Pagada | F20: 940,000.00 | G20: 3,760.00 | H20: 936,240.00 | I20: Beneficiario final | J20: Actual | K20: Cédula de Ciudadanía | L20: 1035919072 | M20: HERRERA SANCHEZ LINA MARIA | N20: Abono en cuenta | O20: Ahorro | P20: 02412349876 | Q20: Activa | R20: 890903938 | S20: BANCOLOMBIA S.A. | T20: 940228 | U20: CENTRO DE SERVICIOS Y GESTION EMPRESARIAL-CERTIFICACION COMPETENCIAS LABORALES | V20: C-3603-1300-17-20305C-3603005-02 | W20: ADQUIS. DE BYS - SERVICIO DE CERTIFICACIÓN DE DESEMPEÑO LABORAL - FORTALECIMIENTO DE LOS PROCESOS DE GESTIÓN INSTITUCIONAL PARA LA IDENTIFICACIÓN Y CIERRE DE BRECHAS DE CAPITAL HUMANO NACIONAL | X20: Nación | Y20: RECURSOS CORRIENTES | Z20: CSF | AA20: 940,000.00 | AB20: 0.00 | AC20: 0.00 | AD20: 0.00 | AE20: 13-01-01-DT | AH20: No | AM20: PAGO PRESTACION SERVICIOS MES DE ENERO CTO No, CO1PCCNTR5802085DE HERRERA SANCHEZ LINA MARIA | AN20: 724 | AO20: 724 | AP20: 2424 | AQ20: 0 | AS20: 4024 | AT20: 16009124 | AU20: 0 | AV20: 2024-01-24 00:00:00 | AW20: CONTRATO DE PRESTACION DE SERVICIOS - PROFESIONALES | AX20: CO1.PCCNTR.5802085 | AY20: SERVICIOS PERSONALES - PRESTAR TEMPORALMENTE LOS SERVICIOS PROFESIONALES, EN LA EVALUACIÓN Y CERTIFICACIÓN DE COMPETENCIAS LABORALES DEL SENA, Y CONSTRUCCIÓN Y REVISIÓN DE INSTRUMENTOS DE EVALUACIÓN, EN LAS FUNCIONES PRODUCTIVAS O ÁREAS CLAVE | AZ20: =VLOOKUP(A20,Hoja1!A19:BM453,45,FALSE) -> LUIS HERNAN OCAMPO HINCAPIE | BA20: =VLOOKUP(A20,Hoja1!A:BM,7,FALSE) -> 5802085 | BB20: =VLOOKUP(A20,Hoja1!A:BM,10,FALSE) -> SERVICIOS PERSONALES - PRESTAR TEMPORALMENTE LOS SERVICIOS PROFESIONALES, EN LA EVALUACIÓN Y CERTIFICACIÓN DE COMPETENCIAS LABORALES DEL SENA, Y CONSTRUCCIÓN Y REVISIÓN DE INSTRUMENTOS DE EVALUACIÓN, EN LAS FUNCIONES PRODUCTIVAS O ÁREAS CLAVE
A21: 71786984 | B21: 16009224 | C21: 2024-01-29 00:00:00 | D21: 2024-01-31 03:43:43 | E21: Pagada | F21: 886,500.00 | G21: 3,546.00 | H21: 882,954.00 | I21: Beneficiario final | J21: Actual | K21: Cédula de Ciudadanía | L21: 71786984 | M21: RODRIGUEZ MARIN CESAR AUGUSTO | N21: Abono en cuenta | O21: Ahorro | P21: 10362952189 | Q21: Activa | R21: 890903938 | S21: BANCOLOMBIA S.A. | T21: 940210 | U21: CENTRO DE SERVICIOS Y GESTION EMPRESARIAL - ANTIOQUIA | V21: C-3603-1300-15-20305C-3603025-02 | W21: ADQUIS. DE BYS - SERVICIO DE FORMACIÓN PROFESIONAL INTEGRAL - FORTALECIMIENTO DEL SERVICIO DE FORMACIÓN PROFESIONAL DEL SENA NACIONAL | X21: Nación | Y21: RECURSOS CORRIENTES | Z21: CSF | AA21: 886,500.00 | AB21: 0.00 | AC21: 0.00 | AD21: 0.00 | AE21: 13-01-01-DT | AH21: No | AM21: PAGO PRESTACION SERVICIOS MES DE ENERO CTO No, CO1PCCNTR5770902DE RODRIGUEZ MARIN CESAR AUGUSTO | AN21: 124 | AO21: 124 | AP21: 1824 | AQ21: 0 | AS21: 4124 | AT21: 16009224 | AU21: 0 | AV21: 2024-01-19 00:00:00 | AW21: CONTRATO DE PRESTACION DE SERVICIOS - PROFESIONALES | AX21: CO1.PCCNTR.5770902 | AY21: SERVICIOS PERSONALES - PRESTAR SERVICIOS COMO APOYO A LA GESTIÓN EN LA ADMINISTRACIÓN INTEGRAL DEL ECONOMATO DEL CENTRO DE SERVICIOS Y GESTIÓN EMPRESARIAL | AZ21: =VLOOKUP(A21,Hoja1!A20:BM454,45,FALSE) -> NICOLAS ESPINOSA SANTANA | BA21: =VLOOKUP(A21,Hoja1!A:BM,7,FALSE) -> 5770902 | BB21: =VLOOKUP(A21,Hoja1!A:BM,10,FALSE) -> SERVICIOS PERSONALES - PRESTAR SERVICIOS COMO APOYO A LA GESTIÓN EN LA ADMINISTRACIÓN INTEGRAL DEL ECONOMATO DEL CENTRO DE SERVICIOS Y GESTIÓN EMPRESARIAL
A22: 32225255 | B22: 81286324 | C22: 2024-03-20 00:00:00 | D22: 2024-03-22 04:18:09 | E22: Pagada | F22: 4,465,000.00 | G22: 17,860.00 | H22: 4,447,140.00 | I22: Beneficiario final | J22: Actual | K22: Cédula de Ciudadanía | L22: 32225255 | M22: ARROYAVE MESA LILIANA DE LAS MISERICORDIAS | N22: Abono en cuenta | O22: Ahorro | P22: 64215957223 | Q22: Activa | R22: 890903938 | S22: BANCOLOMBIA S.A. | T22: 940211 | U22: CENTRO DE SERVICIOS Y GESTION EMPRESARIAL-INTEGRACION CON LA MEDIA | V22: C-3603-1300-15-20305C-3603025-02 | W22: ADQUIS. DE BYS - SERVICIO DE FORMACIÓN PROFESIONAL INTEGRAL - FORTALECIMIENTO DEL SERVICIO DE FORMACIÓN PROFESIONAL DEL SENA NACIONAL | X22: Propios | Y22: INGRESOS CORRIENTES | Z22: CSF | AA22: 4,465,000.00 | AB22: 0.00 | AC22: 0.00 | AD22: 0.00 | AE22: 13-01-01-DT | AH22: No | AM22: PAGO PRESTACION SERVICIOS MES DE MARZO CTO No, CO1,PCCNTR,5840535DE ARROYAVE MESA LILIANA DE LAS MISERICORDIAS | AN22: 1224 | AO22: 1224 | AP22: 21324 | AQ22: 0 | AS22: 70024 | AT22: 81286324 | AU22: 0 | AV22: 2024-02-06 00:00:00 | AW22: CONTRATO DE PRESTACION DE SERVICIOS - PROFESIONALES | AX22: CO1.PCCNTR.5840535 | AY22: INSTRUCTOR - PRESTAR SERVICIOS PERSONALES DE PARA PLANEAR Y ORIENTAR LA FORMACIÓN PROFESIONAL INTEGRAL, QUE PROGRAME EL CENTRO DE SERVICIOS Y GESTIÓN EMPRESARIAL EN LA ARTICULACION CON LA EDUCACION MEDIA | AZ22: =VLOOKUP(A22,Hoja1!A664:BM1098,45,FALSE) -> #N/A | BA22: =VLOOKUP(A22,Hoja1!A:BM,7,FALSE) -> 5840535 | BB22: =VLOOKUP(A22,Hoja1!A:BM,10,FALSE) -> INSTRUCTOR - PRESTAR SERVICIOS PERSONALES DE PARA PLANEAR Y ORIENTAR LA FORMACIÓN PROFESIONAL INTEGRAL, QUE PROGRAME EL CENTRO DE SERVICIOS Y GESTIÓN EMPRESARIAL EN LA ARTICULACION CON LA EDUCACION MEDIA
A23: 32225255 | B23: 122186024 | C23: 2024-04-25 00:00:00 | D23: 2024-04-29 03:50:38 | E23: Pagada | F23: 4,465,000.00 | G23: 17,860.00 | H23: 4,447,140.00 | I23: Beneficiario final | J23: Actual | K23: Cédula de Ciudadanía | L23: 32225255 | M23: ARROYAVE MESA LILIANA DE LAS MISERICORDIAS | N23: Abono en cuenta | O23: Ahorro | P23: 64215957223 | Q23: Activa | R23: 890903938 | S23: BANCOLOMBIA S.A. | T23: 940211 | U23: CENTRO DE SERVICIOS Y GESTION EMPRESARIAL-INTEGRACION CON LA MEDIA | V23: C-3603-1300-15-20305C-3603025-02 | W23: ADQUIS. DE BYS - SERVICIO DE FORMACIÓN PROFESIONAL INTEGRAL - FORTALECIMIENTO DEL SERVICIO DE FORMACIÓN PROFESIONAL DEL SENA NACIONAL | X23: Propios | Y23: INGRESOS CORRIENTES | Z23: CSF | AA23: 4,465,000.00 | AB23: 0.00 | AC23: 0.00 | AD23: 0.00 | AE23: 13-01-01-DT | AH23: No | AM23: PAGO PRESTACION SERVICIOS MES DE ABRIL CTO No, CO1,PCCNTR,5840535DE ARROYAVE MESA LILIANA DE LAS MISERICORDIAS | AN23: 1224 | AO23: 1224 | AP23: 21324 | AQ23: 0 | AS23: 100024 | AT23: 122186024 | AU23: 0 | AV23: 2024-02-06 00:00:00 | AW23: CONTRATO DE PRESTACION DE SERVICIOS - PROFESIONALES | AX23: CO1.PCCNTR.5840535 | AY23: INSTRUCTOR - PRESTAR SERVICIOS PERSONALES DE PARA PLANEAR Y ORIENTAR LA FORMACIÓN PROFESIONAL INTEGRAL, QUE PROGRAME EL CENTRO DE SERVICIOS Y GESTIÓN EMPRESARIAL EN LA ARTICULACION CON LA EDUCACION MEDIA | AZ23: =VLOOKUP(A23,Hoja1!A954:BM1388,45,FALSE) -> #N/A | BA23: =VLOOKUP(A23,Hoja1!A:BM,7,FALSE) -> 5840535 | BB23: =VLOOKUP(A23,Hoja1!A:BM,10,FALSE) -> INSTRUCTOR - PRESTAR SERVICIOS PERSONALES DE PARA PLANEAR Y ORIENTAR LA FORMACIÓN PROFESIONAL INTEGRAL, QUE PROGRAME EL CENTRO DE SERVICIOS Y GESTIÓN EMPRESARIAL EN LA ARTICULACION CON LA EDUCACION MEDIA
A24: 43550197 | B24: 44766824 | C24: 2024-02-26 00:00:00 | D24: 2024-02-28 05:01:25 | E24: Pagada | F24: 592,000.00 | G24: 2,368.00 | H24: 589,632.00 | I24: Beneficiario final | J24: Actual | K24: Cédula de Ciudadanía | L24: 43550197 | M24: ARANGO PEREZ MARTHA INES | N24: Abono en cuenta | O24: Ahorro | P24: 03146855783 | Q24: Activa | R24: 890903938 | S24: BANCOLOMBIA S.A. | T24: 940210 | U24: CENTRO DE SERVICIOS Y GESTION EMPRESARIAL - ANTIOQUIA | V24: C-3603-1300-17-20305C-3603003-02 | W24: ADQUIS. DE BYS - DOCUMENTOS DE LINEAMIENTOS TÉCNICOS - FORTALECIMIENTO DE LOS PROCESOS DE GESTIÓN INSTITUCIONAL PARA LA IDENTIFICACIÓN Y CIERRE DE BRECHAS DE CAPITAL HUMANO NACIONAL | X24: Nación | Y24: RECURSOS CORRIENTES | Z24: CSF | AA24: 592,000.00 | AB24: 0.00 | AC24: 0.00 | AD24: 0.00 | AE24: 13-01-01-DT | AH24: No | AM24: PAGO PRESTACION SERVICIOS MES DE ENERO CTO No, CO1,PCCNTR,5796215DE ARANGO PEREZ MARTHA INES | AN24: 424 | AO24: 424 | AP24: 2324 | AQ24: 0 | AS24: 4524 | AT24: 44766824 | AU24: 0 | AV24: 2024-01-24 00:00:00 | AW24: CONTRATO DE PRESTACION DE SERVICIOS - PROFESIONALES | AX24: CO1.PCCNTR.5796215 | AY24: SERVICIOS PERSONALES - PRESTAR LOS SERVICIOS PERSONALES PARA APOYAR EN LA GESTIÓN DE LOS PROYECTOS, PLANES E INICIATIVAS DEL PROCESO DE GESTIÓN DE INSTANCIAS DE CONCERTACIÓN Y COMPETENCIAS LABORALES EN LOS CENTROS DE FORMACIÓN | AZ24: =VLOOKUP(A24,Hoja1!A23:BM457,45,FALSE) -> JUAN GUILLERMO RUIZ ZAPATA | BA24: =VLOOKUP(A24,Hoja1!A:BM,7,FALSE) -> 5796215 | BB24: =VLOOKUP(A24,Hoja1!A:BM,10,FALSE) -> SERVICIOS PERSONALES - PRESTAR LOS SERVICIOS PERSONALES PARA APOYAR EN LA GESTIÓN DE LOS PROYECTOS, PLANES E INICIATIVAS DEL PROCESO DE GESTIÓN DE INSTANCIAS DE CONCERTACIÓN Y COMPETENCIAS LABORALES EN LOS CENTROS DE FORMACIÓN
A25: 1040030506 | B25: 44766924 | C25: 2024-02-26 00:00:00 | D25: 2024-02-28 05:02:45 | E25: Pagada | F25: 1,200,000.00 | G25: 4,800.00 | H25: 1,195,200.00 | I25: Beneficiario final | J25: Actual | K25: Cédula de Ciudadanía | L25: 1040030506 | M25: CARMONA LOPEZ MARIAN JOHANA | N25: Abono en cuenta | O25: Ahorro | P25: 02317907055 | Q25: Activa | R25: 890903938 | S25: BANCOLOMBIA S.A. | T25: 940210 | U25: CENTRO DE SERVICIOS Y GESTION EMPRESARIAL - ANTIOQUIA | V25: C-3603-1300-15-20305C-3603025-02 | W25: ADQUIS. DE BYS - SERVICIO DE FORMACIÓN PROFESIONAL INTEGRAL - FORTALECIMIENTO DEL SERVICIO DE FORMACIÓN PROFESIONAL DEL SENA NACIONAL | X25: Nación | Y25: RECURSOS CORRIENTES | Z25: CSF | AA25: 1,200,000.00 | AB25: 0.00 | AC25: 0.00 | AD25: 0.00 | AE25: 13-01-01-DT | AH25: No | AM25: PAGO PRESTACION SERVICIOS MES DE ENERO CTO No, CO1,PCCNTR,5797746DE CARMONA LOPEZ MARIAN JOHANA | AN25: 124 | AO25: 124 | AP25: 2224 | AQ25: 0 | AS25: 4624 | AT25: 44766924 | AU25: 0 | AV25: 2024-01-24 00:00:00 | AW25: CONTRATO DE PRESTACION DE SERVICIOS - PROFESIONALES | AX25: CO1.PCCNTR.5797746 | AY25: SERVICIOS PERSONALES -PRESTACIÓN DE SERVICIOS PROFESIONALES DE ABOGADO PARA REALIZAR LAS ACCIONES JURÍDICAS DE LA GESTIÓN CONTRACTUAL DEL CENTRO DE SERVICIOS Y GESTIÓN EMPRESARIAL | AZ25: =VLOOKUP(A25,Hoja1!A24:BM458,45,FALSE) -> MONICA ALEXANDRA ARROYAVE SALDARRIAGA | BA25: =VLOOKUP(A25,Hoja1!A:BM,7,FALSE) -> 5797746 | BB25: =VLOOKUP(A25,Hoja1!A:BM,10,FALSE) -> SERVICIOS PERSONALES -PRESTACIÓN DE SERVICIOS PROFESIONALES DE ABOGADO PARA REALIZAR LAS ACCIONES JURÍDICAS DE LA GESTIÓN CONTRACTUAL DEL CENTRO DE SERVICIOS Y GESTIÓN EMPRESARIAL
A26: 1128264930 | B26: 44767024 | C26: 2024-02-26 00:00:00 | D26: 2024-02-28 05:03:59 | E26: Pagada | F26: 334,304.00 | G26: 1,337.00 | H26: 332,967.00 | I26: Beneficiario final | J26: Actual | K26: Cédula de Ciudadanía | L26: 1128264930 | M26: PESTANA PINEDA MARGARITA MARIA | N26: Abono en cuenta | O26: Ahorro | P26: 61364024915 | Q26: Activa | R26: 890903938 | S26: BANCOLOMBIA S.A. | T26: 940270 | U26: CENTRO DE SERVICIOS Y GESTION EMPRESARIAL-ANTIOQUIA-TECNOACADEMIA | V26: C-3605-1300-3-40402A-3605019-02 | W26: ADQUIS. DE BYS - SERVICIO DE EDUCACIÓN INFORMAL - IMPLANTACIÓN SISTEMA DE INVESTIGACIÓN APLICADA, DESARROLLO TECNOLÓGICO Y COMPETITIVIDAD | X26: Propios | Y26: RENTAS PARAFISCALES | Z26: CSF | AA26: 334,304.00 | AB26: 0.00 | AC26: 0.00 | AD26: 0.00 | AE26: 13-01-01-DT | AH26: No | AM26: PAGO PRESTACION SERVICIOS MES DE ENERO CTO No, CO1,PCCNTR,5823488DE PESTANA PINEDA MARGARITA MARIA | AN26: 1024 | AO26: 1024 | AP26: 2524 | AQ26: 0 | AS26: 4724 | AT26: 44767024 | AU26: 0 | AV26: 2024-01-26 00:00:00 | AW26: CONTRATO DE PRESTACION DE SERVICIOS - PROFESIONALES | AX26: CO1.PCCNTR.5823488 | AY26: SERVICIOS PERSONALES - PRESTAR SERVICIOS PROFESIONALES EN LA ESTRATEGIA TECNOACADEMIA DE LA CIUDADELA UNIVERSITARIA DE OCCIDENTE DEL SISTEMA DE INVESTIGACIÓN, DESARROLLO TECNOLÓGICO E INNOVACIÓN SENNOVA, | AZ26: =VLOOKUP(A26,Hoja1!A25:BM459,45,FALSE) -> ANCIZAR MARTINEZ ARROYAVE | BA26: =VLOOKUP(A26,Hoja1!A:BM,7,FALSE) -> 5823488 | BB26: =VLOOKUP(A26,Hoja1!A:BM,10,FALSE) -> SERVICIOS PERSONALES - PRESTAR SERVICIOS PROFESIONALES EN LA ESTRATEGIA TECNOACADEMIA DE LA CIUDADELA UNIVERSITARIA DE OCCIDENTE DEL SISTEMA DE INVESTIGACIÓN, DESARROLLO TECNOLÓGICO E INNOVACIÓN SENNOVA,
A27: 43420787 | B27: 44767124 | C27: 2024-02-26 00:00:00 | D27: 2024-02-28 04:39:26 | E27: Pagada | F27: 2,121,067.00 | G27: 8,484.00 | H27: 2,112,583.00 | I27: Beneficiario final | J27: Actual | K27: Cédula de Ciudadanía | L27: 43420787 | M27: ARBELAEZ DIAZ MIRYAM DEL SOCORRO | N27: Abono en cuenta | O27: Ahorro | P27: 914036900 | Q27: Activa | R27: 860002964 | S27: BANCO DE BOGOTA | T27: 940242 | U27: CENTRO DE SERVICIOS Y GESTION EMPRESARIAL-ANTIOQUIA -BIENESTAR APRENDICES | V27: C-3603-1300-15-20305C-3603025-02 | W27: ADQUIS. DE BYS - SERVICIO DE FORMACIÓN PROFESIONAL INTEGRAL - FORTALECIMIENTO DEL SERVICIO DE FORMACIÓN PROFESIONAL DEL SENA NACIONAL | X27: Nación | Y27: RECURSOS CORRIENTES | Z27: CSF | AA27: 2,121,067.00 | AB27: 0.00 | AC27: 0.00 | AD27: 0.00 | AE27: 13-01-01-DT | AH27: No | AM27: PAGO PRESTACION SERVICIOS MES DE FEBRERO CTO No, CO1,PCCNTR,5935178DE ARBELAEZ DIAZ MIRYAM DEL SOCORRO | AN27: 524 | AO27: 524 | AP27: 29424 | AQ27: 0 | AS27: 4824 | AT27: 44767124 | AU27: 0 | AV27: 2024-02-14 00:00:00 | AW27: CONTRATO DE PRESTACION DE SERVICIOS - PROFESIONALES | AX27: CO1.PCCNTR.5935178 | AY27: SERVICIOS PERSONALES + PRESTAR LOS SERVICIOS PERSONALES PARA APOYAR EL DESARROLLO DE ACTIVIDADES ORIENTADAS AL FORTALECIMIENTO DE HABILIDADES SOCIOEMOCIONALES DE LOS APRENDICES DEL CENTRO DE FORMACIÓN EN EL MARCO DEL PLAN NACIONAL DE BIENESTAR | AZ27: =VLOOKUP(A27,Hoja1!A26:BM460,45,FALSE) -> GLORIA LUZ CIRO ARROYAVE | BA27: =VLOOKUP(A27,Hoja1!A:BM,7,FALSE) -> 5935178 | BB27: =VLOOKUP(A27,Hoja1!A:BM,10,FALSE) -> SERVICIOS PERSONALES + PRESTAR LOS SERVICIOS PERSONALES PARA APOYAR EL DESARROLLO DE ACTIVIDADES ORIENTADAS AL FORTALECIMIENTO DE HABILIDADES SOCIOEMOCIONALES DE LOS APRENDICES DEL CENTRO DE FORMACIÓN EN EL MARCO DEL PLAN NACIONAL DE BIENESTAR
A28: 43825307 | B28: 44767224 | C28: 2024-02-26 00:00:00 | D28: 2024-02-28 04:45:15 | E28: Pagada | F28: 3,049,033.00 | G28: 12,196.00 | H28: 3,036,837.00 | I28: Beneficiario final | J28: Actual | K28: Cédula de Ciudadanía | L28: 43825307 | M28: ESCOBAR BUSTAMANTE PATRICIA | N28: Abono en cuenta | O28: Ahorro | P28: 10172700931 | Q28: Activa | R28: 890903938 | S28: BANCOLOMBIA S.A. | T28: 940242 | U28: CENTRO DE SERVICIOS Y GESTION EMPRESARIAL-ANTIOQUIA -BIENESTAR APRENDICES | V28: C-3603-1300-15-20305C-3603025-02 | W28: ADQUIS. DE BYS - SERVICIO DE FORMACIÓN PROFESIONAL INTEGRAL - FORTALECIMIENTO DEL SERVICIO DE FORMACIÓN PROFESIONAL DEL SENA NACIONAL | X28: Nación | Y28: RECURSOS CORRIENTES | Z28: CSF | AA28: 3,049,033.00 | AB28: 0.00 | AC28: 0.00 | AD28: 0.00 | AE28: 13-01-01-DT | AH28: No | AM28: PAGO PRESTACION SERVICIOS MES DE FEBRERO CTO No, CO1,PCCNTR,5867100DE ESCOBAR BUSTAMANTE PATRICIA | AN28: 524 | AO28: 524 | AP28: 27224 | AQ28: 0 | AS28: 4924 | AT28: 44767224 | AU28: 0 | AV28: 2024-02-07 00:00:00 | AW28: CONTRATO DE PRESTACION DE SERVICIOS - PROFESIONALES | AX28: CO1.PCCNTR.5867100 | AY28: SERVICIOS PERSONALES - PRESTAR LOS SERVICIOS PERSONALES PARA APOYAR EL DESARROLLO DE ACTIVIDADES ORIENTADAS AL FORTALECIMIENTO DE HABILIDADES SOCIOEMOCIONALES DE LOS APRENDICES DEL CENTRO DE FORMACIÓN EN EL MARCO DEL PLAN NACIONAL DE BIENESTAR | AZ28: =VLOOKUP(A28,Hoja1!A27:BM461,45,FALSE) -> GLORIA LUZ CIRO ARROYAVE | BA28: =VLOOKUP(A28,Hoja1!A:BM,7,FALSE) -> 5867100 | BB28: =VLOOKUP(A28,Hoja1!A:BM,10,FALSE) -> SERVICIOS PERSONALES - PRESTAR LOS SERVICIOS PERSONALES PARA APOYAR EL DESARROLLO DE ACTIVIDADES ORIENTADAS AL FORTALECIMIENTO DE HABILIDADES SOCIOEMOCIONALES DE LOS APRENDICES DEL CENTRO DE FORMACIÓN EN EL MARCO DEL PLAN NACIONAL DE BIENESTAR
A29: 43983546 | B29: 44767324 | C29: 2024-02-26 00:00:00 | D29: 2024-02-28 04:53:44 | E29: Pagada | F29: 2,916,467.00 | G29: 11,666.00 | H29: 2,904,801.00 | I29: Beneficiario final | J29: Actual | K29: Cédula de Ciudadanía | L29: 43983546 | M29: MARIN SALDARRIAGA VICTORIA ANDREA | N29: Abono en cuenta | O29: Ahorro | P29: 0550488418759871 | Q29: Activa | R29: 860034313 | S29: BANCO DAVIVIENDA S.A. | T29: 940242 | U29: CENTRO DE SERVICIOS Y GESTION EMPRESARIAL-ANTIOQUIA -BIENESTAR APRENDICES | V29: C-3603-1300-15-20305C-3603025-02 | W29: ADQUIS. DE BYS - SERVICIO DE FORMACIÓN PROFESIONAL INTEGRAL - FORTALECIMIENTO DEL SERVICIO DE FORMACIÓN PROFESIONAL DEL SENA NACIONAL | X29: Nación | Y29: RECURSOS CORRIENTES | Z29: CSF | AA29: 2,916,467.00 | AB29: 0.00 | AC29: 0.00 | AD29: 0.00 | AE29: 13-01-01-DT | AH29: No | AM29: PAGO PRESTACION SERVICIOS MES DE FEBRERO CTO No, CO1,PCCNTR,5867296DE MARIN SALDARRIAGA VICTORIA ANDREA | AN29: 524 | AO29: 524 | AP29: 27324 | AQ29: 0 | AS29: 5024 | AT29: 44767324 | AU29: 0 | AV29: 2024-02-07 00:00:00 | AW29: CONTRATO DE PRESTACION DE SERVICIOS - PROFESIONALES | AX29: CO1.PCCNTR.5867296 | AY29: SERVICIOS PERSONALES - PRESTAR LOS SERVICIOS PERSONALES PARA APOYAR EL DESARROLLO DE ACTIVIDADES ORIENTADAS AL FORTALECIMIENTO DE HABILIDADES SOCIOEMOCIONALES DE LOS APRENDICES DEL CENTRO DE FORMACIÓN EN EL MARCO DEL PLAN NACIONAL DE BIENESTAR | AZ29: =VLOOKUP(A29,Hoja1!A28:BM462,45,FALSE) -> GLORIA LUZ CIRO ARROYAVE | BA29: =VLOOKUP(A29,Hoja1!A:BM,7,FALSE) -> 5867296 | BB29: =VLOOKUP(A29,Hoja1!A:BM,10,FALSE) -> SERVICIOS PERSONALES - PRESTAR LOS SERVICIOS PERSONALES PARA APOYAR EL DESARROLLO DE ACTIVIDADES ORIENTADAS AL FORTALECIMIENTO DE HABILIDADES SOCIOEMOCIONALES DE LOS APRENDICES DEL CENTRO DE FORMACIÓN EN EL MARCO DEL PLAN NACIONAL DE BIENESTAR
A30: 56089004 | B30: 44767424 | C30: 2024-02-26 00:00:00 | D30: 2024-02-28 04:45:15 | E30: Pagada | F30: 3,049,033.00 | G30: 12,196.00 | H30: 3,036,837.00 | I30: Beneficiario final | J30: Actual | K30: Cédula de Ciudadanía | L30: 56089004 | M30: PALMEZANO AVILA LORENA PATRICIA | N30: Abono en cuenta | O30: Ahorro | P30: 91211787355 | Q30: Activa | R30: 890903938 | S30: BANCOLOMBIA S.A. | T30: 940242 | U30: CENTRO DE SERVICIOS Y GESTION EMPRESARIAL-ANTIOQUIA -BIENESTAR APRENDICES | V30: C-3603-1300-15-20305C-3603025-02 | W30: ADQUIS. DE BYS - SERVICIO DE FORMACIÓN PROFESIONAL INTEGRAL - FORTALECIMIENTO DEL SERVICIO DE FORMACIÓN PROFESIONAL DEL SENA NACIONAL | X30: Nación | Y30: RECURSOS CORRIENTES | Z30: CSF | AA30: 3,049,033.00 | AB30: 0.00 | AC30: 0.00 | AD30: 0.00 | AE30: 13-01-01-DT | AH30: No | AM30: PAGO PRESTACION SERVICIOS MES DE FEBRERO CTO No, CO1,PCCNTR,5866488DE PALMEZANO AVILA LORENA PATRICIA | AN30: 524 | AO30: 524 | AP30: 27524 | AQ30: 0 | AS30: 5124 | AT30: 44767424 | AU30: 0 | AV30: 2024-02-07 00:00:00 | AW30: CONTRATO DE PRESTACION DE SERVICIOS - PROFESIONALES | AX30: CO1.PCCNTR.5866488 | AY30: SERVICIOS PERSONALES - CONTRATAR LOS SERVICIOS PERSONALES PARA ADELANTAR Y DESARROLLAR ACCIONES ORIENTADAS AL FORTALECIMIENTO DEL LIDERAZGO Y DESARROLLO HUMANO INTEGRAL DE LOS APRENDICES QUE FAVOREZCAN SU PERMANENCIA EN EL PROCESO FORMATIVO | AZ30: =VLOOKUP(A30,Hoja1!A29:BM463,45,FALSE) -> GLORIA LUZ CIRO ARROYAVE | BA30: =VLOOKUP(A30,Hoja1!A:BM,7,FALSE) -> 5866488 | BB30: =VLOOKUP(A30,Hoja1!A:BM,10,FALSE) -> SERVICIOS PERSONALES - CONTRATAR LOS SERVICIOS PERSONALES PARA ADELANTAR Y DESARROLLAR ACCIONES ORIENTADAS AL FORTALECIMIENTO DEL LIDERAZGO Y DESARROLLO HUMANO INTEGRAL DE LOS APRENDICES QUE FAVOREZCAN SU PERMANENCIA EN EL PROCESO FORMATIVO
A31: 71366459 | B31: 44767524 | C31: 2024-02-26 00:00:00 | D31: 2024-02-28 04:41:39 | E31: Pagada | F31: 2,113,467.00 | G31: 8,454.00 | H31: 2,105,013.00 | I31: Beneficiario final | J31: Actual | K31: Cédula de Ciudadanía | L31: 71366459 | M31: BRAN JIMENEZ FRANCISCO JAVIER | N31: Abono en cuenta | O31: Ahorro | P31: 10332689490 | Q31: Activa | R31: 890903938 | S31: BANCOLOMBIA S.A. | T31: 940242 | U31: CENTRO DE SERVICIOS Y GESTION EMPRESARIAL-ANTIOQUIA -BIENESTAR APRENDICES | V31: C-3603-1300-15-20305C-3603025-02 | W31: ADQUIS. DE BYS - SERVICIO DE FORMACIÓN PROFESIONAL INTEGRAL - FORTALECIMIENTO DEL SERVICIO DE FORMACIÓN PROFESIONAL DEL SENA NACIONAL | X31: Nación | Y31: RECURSOS CORRIENTES | Z31: CSF | AA31: 2,113,467.00 | AB31: 0.00 | AC31: 0.00 | AD31: 0.00 | AE31: 13-01-01-DT | AH31: No | AM31: PAGO PRESTACION SERVICIOS MES DE FEBRERO CTO No, CO1,PCCNTR,5868312DE BRAN JIMENEZ FRANCISCO JAVIER | AN31: 524 | AO31: 524 | AP31: 27124 | AQ31: 0 | AS31: 5224 | AT31: 44767524 | AU31: 0 | AV31: 2024-02-07 00:00:00 | AW31: CONTRATO DE PRESTACION DE SERVICIOS - PROFESIONALES | AX31: CO1.PCCNTR.5868312 | AY31: SERVICIOS PERSONALES - PRESTAR LOS SERVICIOS PERSONALES PARA IMPLEMENTAR ACCIONES QUE PROMUEVAN EXPRESIONES DE ARTE DE LOS APRENDICES EN SU FORMACIÓN PROFESIONAL INTEGRAL, A TRAVÉS DE LOS DIFERENTES LENGUAJES ARTÍSTICOS | AZ31: =VLOOKUP(A31,Hoja1!A30:BM464,45,FALSE) -> GLORIA LUZ CIRO ARROYAVE | BA31: =VLOOKUP(A31,Hoja1!A:BM,7,FALSE) -> 5868312 | BB31: =VLOOKUP(A31,Hoja1!A:BM,10,FALSE) -> SERVICIOS PERSONALES - PRESTAR LOS SERVICIOS PERSONALES PARA IMPLEMENTAR ACCIONES QUE PROMUEVAN EXPRESIONES DE ARTE DE LOS APRENDICES EN SU FORMACIÓN PROFESIONAL INTEGRAL, A TRAVÉS DE LOS DIFERENTES LENGUAJES ARTÍSTICOS
A32: 1018345434 | B32: 44767624 | C32: 2024-02-26 00:00:00 | D32: 2024-02-28 04:45:15 | E32: Pagada | F32: 3,049,033.00 | G32: 12,196.00 | H32: 3,036,837.00 | I32: Beneficiario final | J32: Actual | K32: Cédula de Ciudadanía | L32: 1018345434 | M32: RENDON ARROYAVE MONICA ALEJANDRA | N32: Abono en cuenta | O32: Ahorro | P32: 65135580834 | Q32: Activa | R32: 890903938 | S32: BANCOLOMBIA S.A. | T32: 940242 | U32: CENTRO DE SERVICIOS Y GESTION EMPRESARIAL-ANTIOQUIA -BIENESTAR APRENDICES | V32: C-3603-1300-15-20305C-3603025-02 | W32: ADQUIS. DE BYS - SERVICIO DE FORMACIÓN PROFESIONAL INTEGRAL - FORTALECIMIENTO DEL SERVICIO DE FORMACIÓN PROFESIONAL DEL SENA NACIONAL | X32: Nación | Y32: RECURSOS CORRIENTES | Z32: CSF | AA32: 3,049,033.00 | AB32: 0.00 | AC32: 0.00 | AD32: 0.00 | AE32: 13-01-01-DT | AH32: No | AM32: PAGO PRESTACION SERVICIOS MES DE FEBRERO CTO No, CO1,PCCNTR,5867777DE RENDON ARROYAVE MONICA ALEJANDRA | AN32: 524 | AO32: 524 | AP32: 27424 | AQ32: 0 | AS32: 5324 | AT32: 44767624 | AU32: 0 | AV32: 2024-02-07 00:00:00 | AW32: CONTRATO DE PRESTACION DE SERVICIOS - PROFESIONALES | AX32: CO1.PCCNTR.5867777 | AY32: SERVICIOS PERSONALES -PRESTAR LOS SERVICIOS PERSONALES PARA APOYAR EL DESARROLLO DE ACTIVIDADES ORIENTADAS AL FORTALECIMIENTO DE HABILIDADES SOCIOEMOCIONALES DE LOS APRENDICES DEL CENTRO DE FORMACIÓN EN EL MARCO DEL PLAN NACIONAL DE BIENESTAR | AZ32: =VLOOKUP(A32,Hoja1!A31:BM465,45,FALSE) -> GLORIA LUZ CIRO ARROYAVE | BA32: =VLOOKUP(A32,Hoja1!A:BM,7,FALSE) -> 5867777 | BB32: =VLOOKUP(A32,Hoja1!A:BM,10,FALSE) -> SERVICIOS PERSONALES -PRESTAR LOS SERVICIOS PERSONALES PARA APOYAR EL DESARROLLO DE ACTIVIDADES ORIENTADAS AL FORTALECIMIENTO DE HABILIDADES SOCIOEMOCIONALES DE LOS APRENDICES DEL CENTRO DE FORMACIÓN EN EL MARCO DEL PLAN NACIONAL DE BIENESTAR
A33: 1037583735 | B33: 44767724 | C33: 2024-02-26 00:00:00 | D33: 2024-02-28 04:40:58 | E33: Pagada | F33: 2,209,533.00 | G33: 8,838.00 | H33: 2,200,695.00 | I33: Beneficiario final | J33: Actual | K33: Cédula de Ciudadanía | L33: 1037583735 | M33: YENIFER ANDREA MARTINEZ CESPEDES | N33: Abono en cuenta | O33: Ahorro | P33: 03207343213 | Q33: Activa | R33: 890903938 | S33: BANCOLOMBIA S.A. | T33: 940242 | U33: CENTRO DE SERVICIOS Y GESTION EMPRESARIAL-ANTIOQUIA -BIENESTAR APRENDICES | V33: C-3603-1300-15-20305C-3603025-02 | W33: ADQUIS. DE BYS - SERVICIO DE FORMACIÓN PROFESIONAL INTEGRAL - FORTALECIMIENTO DEL SERVICIO DE FORMACIÓN PROFESIONAL DEL SENA NACIONAL | X33: Nación | Y33: RECURSOS CORRIENTES | Z33: CSF | AA33: 2,209,533.00 | AB33: 0.00 | AC33: 0.00 | AD33: 0.00 | AE33: 13-01-01-DT | AH33: No | AM33: PAGO PRESTACION SERVICIOS MES DE FEBRERO CTO No, CO1,PCCNTR,5866385DE YENIFER ANDREA MARTINEZ CESPEDES | AN33: 524 | AO33: 524 | AP33: 27024 | AQ33: 0 | AS33: 5424 | AT33: 44767724 | AU33: 0 | AV33: 2024-02-07 00:00:00 | AW33: CONTRATO DE PRESTACION DE SERVICIOS - PROFESIONALES | AX33: CO1.PCCNTR.5866385 | AY33: SERVICIOS PERSONALES - PRESTAR LOS SERVICIOS PERSONALES, PARA APOYAR LOS DIFERENTES PROCESOS ADMINISTRATIVOS CONTEMPLADOS PARA EJECUTAR EL PLAN NACIONAL INTEGRAL DE BIENESTAR AL APRENDIZ, ASÍ COMO LA ATENCIÓN AL USUARIO, ORGANIZACIÓN DE ARCHIVO | AZ33: =VLOOKUP(A33,Hoja1!A32:BM466,45,FALSE) -> GLORIA LUZ CIRO ARROYAVE | BA33: =VLOOKUP(A33,Hoja1!A:BM,7,FALSE) -> 5866385 | BB33: =VLOOKUP(A33,Hoja1!A:BM,10,FALSE) -> SERVICIOS PERSONALES - PRESTAR LOS SERVICIOS PERSONALES, PARA APOYAR LOS DIFERENTES PROCESOS ADMINISTRATIVOS CONTEMPLADOS PARA EJECUTAR EL PLAN NACIONAL INTEGRAL DE BIENESTAR AL APRENDIZ, ASÍ COMO LA ATENCIÓN AL USUARIO, ORGANIZACIÓN DE ARCHIVO
A34: 1128388560 | B34: 44767824 | C34: 2024-02-26 00:00:00 | D34: 2024-02-28 04:39:16 | E34: Pagada | F34: 1,825,267.00 | G34: 7,301.00 | H34: 1,817,966.00 | I34: Beneficiario final | J34: Actual | K34: Cédula de Ciudadanía | L34: 1128388560 | M34: GALLEGO PUERTA LISBETH ADILEDY | N34: Abono en cuenta | O34: Ahorro | P34: 250168119 | Q34: Activa | R34: 860002964 | S34: BANCO DE BOGOTA | T34: 940242 | U34: CENTRO DE SERVICIOS Y GESTION EMPRESARIAL-ANTIOQUIA -BIENESTAR APRENDICES | V34: C-3603-1300-15-20305C-3603025-02 | W34: ADQUIS. DE BYS - SERVICIO DE FORMACIÓN PROFESIONAL INTEGRAL - FORTALECIMIENTO DEL SERVICIO DE FORMACIÓN PROFESIONAL DEL SENA NACIONAL | X34: Nación | Y34: RECURSOS CORRIENTES | Z34: CSF | AA34: 1,825,267.00 | AB34: 0.00 | AC34: 0.00 | AD34: 0.00 | AE34: 13-01-01-DT | AH34: No | AM34: PAGO PRESTACION SERVICIOS MES DE FEBRERO CTO No, CO1,PCCNTR,5904315DE GALLEGO PUERTA LISBETH ADILEDY | AN34: 524 | AO34: 524 | AP34: 27924 | AQ34: 0 | AS34: 5524 | AT34: 44767824 | AU34: 0 | AV34: 2024-02-08 00:00:00 | AW34: CONTRATO DE PRESTACION DE SERVICIOS - PROFESIONALES | AX34: CO1.PCCNTR.5904315 | AY34: SERVICIOS PERSONALES - PRESTAR LOS SERVICIOS PERSONALES PARA IMPULSAR Y DESARROLLAR ACTIVIDADES DE PREVENCIÓN DE ENFERMEDADES TRANSMISIBLES Y NO TRANSMISIBLES Y PROMOCIÓN DE LA SALUD, DIRIGIDAS A LOS APRENDICES DEL CENTRO DE FORMACIÓN | AZ34: =VLOOKUP(A34,Hoja1!A33:BM467,45,FALSE) -> GLORIA LUZ CIRO ARROYAVE | BA34: =VLOOKUP(A34,Hoja1!A:BM,7,FALSE) -> 5904315 | BB34: =VLOOKUP(A34,Hoja1!A:BM,10,FALSE) -> SERVICIOS PERSONALES - PRESTAR LOS SERVICIOS PERSONALES PARA IMPULSAR Y DESARROLLAR ACTIVIDADES DE PREVENCIÓN DE ENFERMEDADES TRANSMISIBLES Y NO TRANSMISIBLES Y PROMOCIÓN DE LA SALUD, DIRIGIDAS A LOS APRENDICES DEL CENTRO DE FORMACIÓN
A35: 1036632753 | B35: 44768024 | C35: 2024-02-26 00:00:00 | D35: 2024-02-28 04:45:09 | E35: Pagada | F35: 3,000,000.00 | G35: 12,000.00 | H35: 2,988,000.00 | I35: Beneficiario final | J35: Actual | K35: Cédula de Ciudadanía | L35: 1036632753 | M35: GARCIA GARCIA ESTEBAN | N35: Abono en cuenta | O35: Ahorro | P35: 91230379373 | Q35: Activa | R35: 890903938 | S35: BANCOLOMBIA S.A. | T35: 940210 | U35: CENTRO DE SERVICIOS Y GESTION EMPRESARIAL - ANTIOQUIA | V35: C-3603-1300-15-20305C-3603025-02 | W35: ADQUIS. DE BYS - SERVICIO DE FORMACIÓN PROFESIONAL INTEGRAL - FORTALECIMIENTO DEL SERVICIO DE FORMACIÓN PROFESIONAL DEL SENA NACIONAL | X35: Nación | Y35: RECURSOS CORRIENTES | Z35: CSF | AA35: 3,000,000.00 | AB35: 0.00 | AC35: 0.00 | AD35: 0.00 | AE35: 13-01-01-DT | AH35: No | AM35: PAGO PRESTACION SERVICIOS MES DE FEBRERO CTO No, CO1,PCCNTR,5747211DE GARCIA GARCIA ESTEBAN | AN35: 124 | AO35: 124 | AP35: 624 | AQ35: 0 | AS35: 5624 | AT35: 44768024 | AU35: 0 | AV35: 2024-01-16 00:00:00 | AW35: CONTRATO DE PRESTACION DE SERVICIOS - PROFESIONALES | AX35: CO1.PCCNTR.5747211 | AY35: SERVICIOS PERSONALES - PRESTAR SERVICIOS COMO APOYO EN LA GESTIÓN DE LAS TECNOLOGÍAS DE LA INFORMACIÓN Y LAS COMUNICACIONES DEL CENTRO DE SERVICIOS Y GESTIÓN EMPRESARIAL | AZ35: =VLOOKUP(A35,Hoja1!A34:BM468,45,FALSE) -> GERSON RINCON MARTINEZ | BA35: =VLOOKUP(A35,Hoja1!A:BM,7,FALSE) -> 5747211 | BB35: =VLOOKUP(A35,Hoja1!A:BM,10,FALSE) -> SERVICIOS PERSONALES - PRESTAR SERVICIOS COMO APOYO EN LA GESTIÓN DE LAS TECNOLOGÍAS DE LA INFORMACIÓN Y LAS COMUNICACIONES DEL CENTRO DE SERVICIOS Y GESTIÓN EMPRESARIAL
... A185: 1038118965 | B185: 44787724 | C185: 2024-02-26 00:00:00 | D185: 2024-02-28 04:29:10 | E185: Pagada | F185: 4,465,000.00 | G185: 17,860.00 | H185: 4,447,140.00 | I185: Beneficiario final | J185: Actual | K185: Cédula de Ciudadanía | L185: 1038118965 | M185: RODRIGUEZ ROJO JUAN CARLOS | N185: Abono en cuenta | O185: Ahorro | P185: 37168213990 | Q185: Activa | R185: 890903938 | S185: BANCOLOMBIA S.A. | T185: 940245 | U185: CENTRO DE SERVICIOS Y GESTION EMPRESARIAL-ANTIOQUIA -SERVICIOS PRESTADOS A LA FORMACION | V185: C-3603-1300-15-20305C-3603025-02 | W185: ADQUIS. DE BYS - SERVICIO DE FORMACIÓN PROFESIONAL INTEGRAL - FORTALECIMIENTO DEL SERVICIO DE FORMACIÓN PROFESIONAL DEL SENA NACIONAL | X185: Nación | Y185: RECURSOS CORRIENTES | Z185: CSF | AA185: 4,465,000.00 | AB185: 0.00 | AC185: 0.00 | AD185: 0.00 | AE185: 13-01-01-DT | AH185: No | AM185: PAGO PRESTACION SERVICIOS MES DE FEBRERO CTO No, CO1,PCCNTR,5833150DE RODRIGUEZ ROJO JUAN CARLOS | AN185: 1324 | AO185: 1324 | AP185: 6524 | AQ185: 0 | AS185: 20724 | AT185: 44787724 | AU185: 0 | AV185: 2024-01-31 00:00:00 | AW185: CONTRATO DE PRESTACION DE SERVICIOS - PROFESIONALES | AX185: CO1.PCCNTR.5833150 | AY185: INSTRUCTOR -PRESTAR SERVICIOS PERSONALES L PARA PLANEAR Y ORIENTAR LA FORMACIÓN PROFESIONAL INTEGRAL, QUE PROGRAME EL CENTRO DE SERVICIOS Y GESTIÓN EMPRESARIAL EN SUS DIFERENTES NIVELES Y MODALIDADES | AZ185: =VLOOKUP(A185,Hoja1!A184:BM618,45,FALSE) -> #N/A | BA185: =VLOOKUP(A185,Hoja1!A:BM,7,FALSE) -> 5833150 | BB185: =VLOOKUP(A185,Hoja1!A:BM,10,FALSE) -> INSTRUCTOR -PRESTAR SERVICIOS PERSONALES L PARA PLANEAR Y ORIENTAR LA FORMACIÓN PROFESIONAL INTEGRAL, QUE PROGRAME EL CENTRO DE SERVICIOS Y GESTIÓN EMPRESARIAL EN SUS DIFERENTES NIVELES Y MODALIDADES
A186: 32225255 | B186: 166530624 | C186: 2024-05-28 00:00:00 | D186: 2024-05-30 03:41:24 | E186: Pagada | F186: 4,465,000.00 | G186: 17,860.00 | H186: 4,447,140.00 | I186: Beneficiario final | J186: Actual | K186: Cédula de Ciudadanía | L186: 32225255 | M186: ARROYAVE MESA LILIANA DE LAS MISERICORDIAS | N186: Abono en cuenta | O186: Ahorro | P186: 64215957223 | Q186: Activa | R186: 890903938 | S186: BANCOLOMBIA S.A. | T186: 940211 | U186: CENTRO DE SERVICIOS Y GESTION EMPRESARIAL-INTEGRACION CON LA MEDIA | V186: C-3603-1300-15-20305C-3603025-02 | W186: ADQUIS. DE BYS - SERVICIO DE FORMACIÓN PROFESIONAL INTEGRAL - FORTALECIMIENTO DEL SERVICIO DE FORMACIÓN PROFESIONAL DEL SENA NACIONAL | X186: Propios | Y186: INGRESOS CORRIENTES | Z186: CSF | AA186: 4,465,000.00 | AB186: 0.00 | AC186: 0.00 | AD186: 0.00 | AE186: 13-01-01-DT | AH186: No | AM186: PAGO PRESTACION SERVICIOS MES DE MAYO CTO No, CO1,PCCNTR,5840535DE ARROYAVE MESA LILIANA DE LAS MISERICORDIAS | AN186: 1224 | AO186: 1224 | AP186: 21324 | AQ186: 0 | AS186: 187024 | AT186: 166530624 | AU186: 0 | AV186: 2024-02-06 00:00:00 | AW186: CONTRATO DE PRESTACION DE SERVICIOS - PROFESIONALES | AX186: CO1.PCCNTR.5840535 | AY186: INSTRUCTOR - PRESTAR SERVICIOS PERSONALES DE PARA PLANEAR Y ORIENTAR LA FORMACIÓN PROFESIONAL INTEGRAL, QUE PROGRAME EL CENTRO DE SERVICIOS Y GESTIÓN EMPRESARIAL EN LA ARTICULACION CON LA EDUCACION MEDIA | AZ186: =VLOOKUP(A186,Hoja1!A1724:BM2158,45,FALSE) -> #N/A | BA186: =VLOOKUP(A186,Hoja1!A:BM,7,FALSE) -> 5840535 | BB186: =VLOOKUP(A186,Hoja1!A:BM,10,FALSE) -> INSTRUCTOR - PRESTAR SERVICIOS PERSONALES DE PARA PLANEAR Y ORIENTAR LA FORMACIÓN PROFESIONAL INTEGRAL, QUE PROGRAME EL CENTRO DE SERVICIOS Y GESTIÓN EMPRESARIAL EN LA ARTICULACION CON LA EDUCACION MEDIA
A187: 32225255 | B187: 205917324 | C187: 2024-06-25 00:00:00 | D187: 2024-06-27 04:25:32 | E187: Pagada | F187: 4,465,000.00 | G187: 17,860.00 | H187: 4,447,140.00 | I187: Beneficiario final | J187: Actual | K187: Cédula de Ciudadanía | L187: 32225255 | M187: ARROYAVE MESA LILIANA DE LAS MISERICORDIAS | N187: Abono en cuenta | O187: Ahorro | P187: 64215957223 | Q187: Activa | R187: 890903938 | S187: BANCOLOMBIA S.A. | T187: 940211 | U187: CENTRO DE SERVICIOS Y GESTION EMPRESARIAL-INTEGRACION CON LA MEDIA | V187: C-3603-1300-15-20305C-3603025-02 | W187: ADQUIS. DE BYS - SERVICIO DE FORMACIÓN PROFESIONAL INTEGRAL - FORTALECIMIENTO DEL SERVICIO DE FORMACIÓN PROFESIONAL DEL SENA NACIONAL | X187: Propios | Y187: INGRESOS CORRIENTES | Z187: CSF | AA187: 4,465,000.00 | AB187: 0.00 | AC187: 0.00 | AD187: 0.00 | AE187: 13-01-01-DT | AH187: No | AM187: PAGO PRESTACION SERVICIOS MES DE JUNIO CTO No, CO1,PCCNTR,5840535DE ARROYAVE MESA LILIANA DE LAS MISERICORDIAS | AN187: 1224 | AO187: 1224 | AP187: 21324 | AQ187: 0 | AS187: 254224 | AT187: 205917324 | AU187: 0 | AV187: 2024-02-06 00:00:00 | AW187: CONTRATO DE PRESTACION DE SERVICIOS - PROFESIONALES | AX187: CO1.PCCNTR.5840535 | AY187: INSTRUCTOR - PRESTAR SERVICIOS PERSONALES DE PARA PLANEAR Y ORIENTAR LA FORMACIÓN PROFESIONAL INTEGRAL, QUE PROGRAME EL CENTRO DE SERVICIOS Y GESTIÓN EMPRESARIAL EN LA ARTICULACION CON LA EDUCACION MEDIA | AZ187: =VLOOKUP(A187,Hoja1!A2470:BM2904,45,FALSE) -> #N/A | BA187: =VLOOKUP(A187,Hoja1!A:BM,7,FALSE) -> 5840535 | BB187: =VLOOKUP(A187,Hoja1!A:BM,10,FALSE) -> INSTRUCTOR - PRESTAR SERVICIOS PERSONALES DE PARA PLANEAR Y ORIENTAR LA FORMACIÓN PROFESIONAL INTEGRAL, QUE PROGRAME EL CENTRO DE SERVICIOS Y GESTIÓN EMPRESARIAL EN LA ARTICULACION CON LA EDUCACION MEDIA
A188: 32225255 | B188: 255146424 | C188: 2024-07-29 00:00:00 | D188: 2024-07-31 04:21:23 | E188: Pagada | F188: 4,465,000.00 | G188: 17,860.00 | H188: 4,447,140.00 | I188: Beneficiario final | J188: Actual | K188: Cédula de Ciudadanía | L188: 32225255 | M188: ARROYAVE MESA LILIANA DE LAS MISERICORDIAS | N188: Abono en cuenta | O188: Ahorro | P188: 64215957223 | Q188: Activa | R188: 890903938 | S188: BANCOLOMBIA S.A. | T188: 940211 | U188: CENTRO DE SERVICIOS Y GESTION EMPRESARIAL-INTEGRACION CON LA MEDIA | V188: C-3603-1300-15-20305C-3603025-02 | W188: ADQUIS. DE BYS - SERVICIO DE FORMACIÓN PROFESIONAL INTEGRAL - FORTALECIMIENTO DEL SERVICIO DE FORMACIÓN PROFESIONAL DEL SENA NACIONAL | X188: Propios | Y188: INGRESOS CORRIENTES | Z188: CSF | AA188: 4,465,000.00 | AB188: 0.00 | AC188: 0.00 | AD188: 0.00 | AE188: 13-01-01-DT | AH188: No | AM188: PAGO PRESTACION SERVICIOS MES DE JULIO CTO No, CO1,PCCNTR,5840535DE ARROYAVE MESA LILIANA DE LAS MISERICORDIAS | AN188: 1224 | AO188: 1224 | AP188: 21324 | AQ188: 0 | AS188: 324924 | AT188: 255146424 | AU188: 0 | AV188: 2024-02-06 00:00:00 | AW188: CONTRATO DE PRESTACION DE SERVICIOS - PROFESIONALES | AX188: CO1.PCCNTR.5840535 | AY188: INSTRUCTOR - PRESTAR SERVICIOS PERSONALES DE PARA PLANEAR Y ORIENTAR LA FORMACIÓN PROFESIONAL INTEGRAL, QUE PROGRAME EL CENTRO DE SERVICIOS Y GESTIÓN EMPRESARIAL EN LA ARTICULACION CON LA EDUCACION MEDIA | AZ188: =VLOOKUP(A188,Hoja1!A3173:BM3607,45,FALSE) -> #N/A | BA188: =VLOOKUP(A188,Hoja1!A:BM,7,FALSE) -> 5840535 | BB188: =VLOOKUP(A188,Hoja1!A:BM,10,FALSE) -> INSTRUCTOR - PRESTAR SERVICIOS PERSONALES DE PARA PLANEAR Y ORIENTAR LA FORMACIÓN PROFESIONAL INTEGRAL, QUE PROGRAME EL CENTRO DE SERVICIOS Y GESTIÓN EMPRESARIAL EN LA ARTICULACION CON LA EDUCACION MEDIA
A189: 32225255 | B189: 295385924 | C189: 2024-08-27 00:00:00 | D189: 2024-08-29 04:07:02 | E189: Pagada | F189: 4,465,000.00 | G189: 17,860.00 | H189: 4,447,140.00 | I189: Beneficiario final | J189: Actual | K189: Cédula de Ciudadanía | L189: 32225255 | M189: ARROYAVE MESA LILIANA DE LAS MISERICORDIAS | N189: Abono en cuenta | O189: Ahorro | P189: 64215957223 | Q189: Activa | R189: 890903938 | S189: BANCOLOMBIA S.A. | T189: 940211 | U189: CENTRO DE SERVICIOS Y GESTION EMPRESARIAL-INTEGRACION CON LA MEDIA | V189: C-3603-1300-15-20305C-3603025-02 | W189: ADQUIS. DE BYS - SERVICIO DE FORMACIÓN PROFESIONAL INTEGRAL - FORTALECIMIENTO DEL SERVICIO DE FORMACIÓN PROFESIONAL DEL SENA NACIONAL | X189: Propios | Y189: INGRESOS CORRIENTES | Z189: CSF | AA189: 4,465,000.00 | AB189: 0.00 | AC189: 0.00 | AD189: 0.00 | AE189: 13-01-01-DT | AH189: No | AM189: PAGO PRESTACION SERVICIOS MES DE AGOSTO CTO No, CO1,PCCNTR,5840535DE ARROYAVE MESA LILIANA DE LAS MISERICORDIAS | AN189: 1224 | AO189: 1224 | AP189: 21324 | AQ189: 0 | AS189: 346524 | AT189: 295385924 | AU189: 0 | AV189: 2024-02-06 00:00:00 | AW189: CONTRATO DE PRESTACION DE SERVICIOS - PROFESIONALES | AX189: CO1.PCCNTR.5840535 | AY189: INSTRUCTOR - PRESTAR SERVICIOS PERSONALES DE PARA PLANEAR Y ORIENTAR LA FORMACIÓN PROFESIONAL INTEGRAL, QUE PROGRAME EL CENTRO DE SERVICIOS Y GESTIÓN EMPRESARIAL EN LA ARTICULACION CON LA EDUCACION MEDIA | AZ189: =VLOOKUP(A189,Hoja1!A3395:BM3829,45,FALSE) -> #N/A | BA189: =VLOOKUP(A189,Hoja1!A:BM,7,FALSE) -> 5840535 | BB189: =VLOOKUP(A189,Hoja1!A:BM,10,FALSE) -> INSTRUCTOR - PRESTAR SERVICIOS PERSONALES DE PARA PLANEAR Y ORIENTAR LA FORMACIÓN PROFESIONAL INTEGRAL, QUE PROGRAME EL CENTRO DE SERVICIOS Y GESTIÓN EMPRESARIAL EN LA ARTICULACION CON LA EDUCACION MEDIA
