Workbook
Name Print_Area: MODELO!$A$1:$O$108
Name Print_Area: 'P-1'!$A$1:$O$113
Name Print_Area: 'P-10'!$A$1:$O$108
Name Print_Area: 'P-11'!$A$1:$O$108
Name Print_Area: 'P-12'!$A$1:$O$108
Name Print_Area: 'P-13'!$A$1:$O$108
Name Print_Area: 'P-2'!$A$1:$O$108
Name Print_Area: 'P-3'!$A$1:$O$108
Name Print_Area: 'P-4'!$A$1:$O$108
Name Print_Area: 'P-5'!$A$1:$O$108
Name Print_Area: 'P-6'!$A$1:$O$108
Name Print_Area: 'P-7'!$A$1:$O$108
Name Print_Area: 'P-8'!$A$1:$O$108
Name Print_Area: 'P-9'!$A$1:$O$108
Name Print_Area: RESUMEN!$A$1:$D$29
Name Print_Titles: MODELO!$5:$7
Name Print_Titles: 'P-1'!$5:$7
Name Print_Titles: 'P-10'!$5:$7
Name Print_Titles: 'P-11'!$5:$7
Name Print_Titles: 'P-12'!$5:$7
Name Print_Titles: 'P-13'!$5:$7
Name Print_Titles: 'P-2'!$5:$7
Name Print_Titles: 'P-3'!$5:$7
Name Print_Titles: 'P-4'!$5:$7
Name Print_Titles: 'P-5'!$5:$7
Name Print_Titles: 'P-6'!$5:$7
Name Print_Titles: 'P-7'!$5:$7
Name Print_Titles: 'P-8'!$5:$7
Name Print_Titles: 'P-9'!$5:$7

Sheet CCCC
A1: ÍNDICE
A2: RESUMEN
A3: MODELO
A4: P-1
A5: P-2
A6: P-3
A7: P-4
A8: P-5
A9: P-6
A10: P-7
A11: P-8
A12: P-9
... A49: SMMLV

Sheet REPARTO
D7: CARLOS | E7: 1 A 6
D8: JENIFFER | E8: 7 A 12
D9: ANYELA | E9: 13 A 19
D10: GABRIEL | E10: 20 A 26
D11: JONATHAN | E11: 27 A 32
D12: LUZ AIDA | E12: 33 A 38
D13: STEVEN | E13: 39 A 45

Sheet MODELO
F1: INSTITUTO DE INFRAESTRUCTURA Y CONCESIONES DE CUNDINAMARCA ICCU | L1: Código: MT-GC-01-FO6
F3: EVALUACIÓN JURÍDICA - PROCESO ICCU-LP-XXX DE 2022 | L3: Versión: 1
C5: PROPONENTE
B10: Proponente:
B12: Integrante 1: | I12: Integrante 2:
B14: %Participación | I14: %Participación
B16: Integrante 3: | I16: Integrante 4:
B18: %Participación | I18: %Participación
B20: Integrante 5: | I20: Integrante 6:
B22: %Participación | I22: %Participación
D26: REQUISITO | L26: CUMPLE | N26: NOMBRE DEL DOCUMENTO
B29: 1 | C29: Carta de presentación de la propuesta - Formato No. 1 | L29: SI | Q29: SI
Q30: NO
Q31: N.A.
B33: 2 | C33: Propuesta suscrita o avalada por un Ingeniero y/o Arquitecto | L33: SI
B37: 3 | C37: Antecedentes disciplinarios profesionales del Ingeniero y/o arquitecto que avala la propuesta | L37: SI
B41: 4 | C41: Conformación de proponente plural - Formato 2 | L41: N.A.
B45: 5 | C45: Puntaje de Industria Nacional - Formato 9 | L45: SI
C47: 10 puntos
B49: 6 | C49: Certificado de Existencia y Representación legal, con expedición no mayor a un mes. | L49: SI
B53: 7 | C53: Objeto Social acorde con el objeto de la Licitación | L53: SI
B57: 8 | C57: Facultades Representante Legal | L57: SI
B61: 9 | C61: Registro Único de Proponentes – RUP | L61: SI
B65: 10 | C65: Sanciones | L65: SI
C67: NINGUNA
B69: 11 | C69: Garantía de Seriedad de la Propuesta conforme solicitado | L69: SI
B73: 12 | C73: Pago de seguridad social y aportes legales - Formato 6 | L73: SI
B77: 13 | C77: Registro Único Tributario - RUT- | L77: SI
B81: 14 | C81: Boletín de Responsables de la Contraloría General de la República | L81: SI
B85: 15 | C85: Certificado de Antecedentes Disciplinarios de la Procuraduría General de la Nación | L85: SI
B89: 16 | C89: Antecedentes Judiciales Policía Nacional | L89: SI
B93: 17 | C93: Imposición de multas - Código Nacional de Policía | L93: SI
B97: 18 | C97: Certificado de Revisor Fiscal donde conste si la sociedad es abierta o cerrada (Aplica para S.A.) | L97: N.A.
B102: UNA VEZ REVISADOS LOS REQUISITOS JURÍDICOS PRESENTADOS EN SU OFERTA POR EL PROPONENTE, SE CONCLUYE QUE EN ESTE ASPECTO EL PROPONENTE:
G105: =+IF(L29="","",IF(OR(L29="NO",L33="NO",L37="NO",L45="NO",L65="NO",L49="NO",L53="NO",L57="NO",L41="NO",L61="NO",L69="NO",L73="NO",L81="NO",L85="NO",L89="NO",L93="NO",L77="NO",L97="NO"),"NO CUMPLE","CUMPLE")) -> CUMPLE
C107: NOTA: SE SOLICITA AL PROPONENTE, SUBSANAR LA EVALUACION DURANTE EL TERMINO DE TRASLADO.

Sheet RESUMEN
B1: FONDO DE DESARROLLO LOCAL DE TUNJUELITO
A4: PROCESO DE SELECCIÓN No. FDLT-SAMC-339-2024 (120804) - INFORME DEFINITIVO DE EVALUACIÓN JURIDICA
A5: PRESTAR LOS SERVICIOS DE CAPACITACIÓN EN PARTICIPACIÓN CIUDADANA, FORMULACIÓN DE PROYECTOS COMUNITARIOS Y DOTACIÓN DE ELEMENTOS A GRUPOS, ORGANIZACIONES E INSTANCIAS DE PARTICIPACIÓN, DE LA LOCALIDAD | I5: g105 | J5: E10
A6: No. ORDEN | B6: NOMBRE PROPONENTE | D6: JURIDICO
A8: P-1 | B8: ='P-1'!E10 -> FUNDACION OTRO ROLLO SOCIAL | D8: ='P-1'!G110 -> CUMPLE | H8: ="='P-"&I8&"'!"&$I$5 -> ='P-1'!g105 | I8: 1 | J8: ="='P-"&I8&"'!"&$J$5 -> ='P-1'!E10
A9: P-2 | B9: ='P-2'!E10 -> FUNDACION STAR COP HUMANITY | D9: ='P-2'!G105 -> CUMPLE | H9: ="='P-"&I9&"'!"&$I$5 -> ='P-2'!g105 | I9: 2 | J9: ="='P-"&I9&"'!"&$J$5 -> ='P-2'!E10
A10: P-3 | B10: ='P-3'!E10 -> CORPORACION UNIFICADA NACIONAL DE EDUCACION SUPERIOR-CUN | D10: ='P-3'!G105 -> CUMPLE | H10: ="='P-"&I10&"'!"&$I$5 -> ='P-3'!g105 | I10: 3 | J10: ="='P-"&I10&"'!"&$J$5 -> ='P-3'!E10
A11: P-4 | B11: ='P-4'!E10 -> FUNDACIÓN INTERNACIONAL DE PEDAGOGÍA CONCEPTUAL ALBERTO MERANI | D11: ='P-4'!G105 -> CUMPLE | H11: ="='P-"&I11&"'!"&$I$5 -> ='P-4'!g105 | I11: 4 | J11: ="='P-"&I11&"'!"&$J$5 -> ='P-4'!E10
A12: P-5 | B12: ='P-5'!E10 -> INDUHOTEL SAS | D12: ='P-5'!G105 -> CUMPLE | H12: ="='P-"&I12&"'!"&$I$5 -> ='P-5'!g105 | I12: 5 | J12: ="='P-"&I12&"'!"&$J$5 -> ='P-5'!E10
A13: P-6 | B13: ='P-6'!E10 -> CONSULTORES Y ASESORES TIC SAS | D13: ='P-6'!G105 -> CUMPLE | H13: ="='P-"&I13&"'!"&$I$5 -> ='P-6'!g105 | I13: 6 | J13: ="='P-"&I13&"'!"&$J$5 -> ='P-6'!E10
A14: P-7 | B14: ='P-7'!E10 -> ADIFCOL | D14: ='P-7'!G105 -> NO CUMPLE | H14: ="='P-"&I14&"'!"&$I$5 -> ='P-7'!g105 | I14: 7 | J14: ="='P-"&I14&"'!"&$J$5 -> ='P-7'!E10
A15: P-8 | B15: ='P-8'!E10 -> FUNDACIÓN COLOMBIA ÚTIL | D15: ='P-8'!G105 -> CUMPLE | H15: ="='P-"&I15&"'!"&$I$5 -> ='P-8'!g105 | I15: 8 | J15: ="='P-"&I15&"'!"&$J$5 -> ='P-8'!E10
A16: P-9 | B16: CIDOR CONSULTING ALLIANCE SAS | D16: CUMPLE | H16: ="='P-"&I16&"'!"&$I$5 -> ='P-8'!g105 | I16: 8 | J16: ="='P-"&I16&"'!"&$J$5 -> ='P-8'!E10
A17: P-10 | B17: FUNDESCO | D17: CUMPLE
A18: P-11 | B18: CORSERVICOL | D18: NO CUMPLE
A19: P-12 | B19: DOKUMA CREATIVIDAD & TECNOLOGÍA SAS | D19: CUMPLE
A20: P-13 | B20: BONGA BUSTAMANTE SAS | D20: CUMPLE
K21: ="='P-"&L21&"'!"&#REF! -> #REF! | L21: 128 | N21: ="='P-"&L21&"'!"&#REF! -> #REF!
A22: (ORIGINAL FIRMADO)
A23: JUAN CARLOS SOTELO DUQUE
A24: Abogado contratista del FDLT | G24: APLICA
G25: NO APLICA
A26: CUMPLE | B26: 11
A27: NO CUMPLE | B27: 2
A28: RECHAZADO | B28: =COUNTIF(D21:D21,G31) -> 0
A29: TOTAL | B29: 13 | G29: CUMPLE
B30: =SUM(B26:B28) -> 13 | G30: NO CUMPLE
G31: RECHAZADO
G32: X

Sheet Hoja1
E2: =104/8 -> 13
A3: 1 | B3: Viviana | C3: 1 a 13
A4: 2 | B4: carlos jimenez | C4: 14 a 26
A5: 3 | B5: jose corredor | C5: 27 a 39
A6: 4 | B6: camilo nuñez | C6: 40 a 52 | G6: 13999990109 | H6: =G6*10/100 -> 1.399999e+09
A7: 5 | B7: German Padilla | C7: 53 a 65
A8: 6 | B8: Noralba Valderrama | C8: 66 a 78
A9: 7 | B9: Alejandra Tejero | C9: 79 a 91
A10: 8 | B10: Sonia Bejarano | C10: 92 a 104

Sheet P-1
F1: FONDO DE DESARROLLO LOCAL DE TUNJUELITO
F3: EVALUACIÓN JURÍDICA - PROCESO FDLT-SAMC-339-2024 (120804)
C5: PROPONENTE | D5: 1
C7: PRESTAR LOS SERVICIOS DE CAPACITACIÓN EN PARTICIPACIÓN CIUDADANA, FORMULACIÓN DE PROYECTOS COMUNITARIOS Y DOTACIÓN DE ELEMENTOS A GRUPOS, ORGANIZACIONES E INSTANCIAS DE PARTICIPACIÓN, DE LA LOCALIDAD
B10: Proponente: | E10: FUNDACION OTRO ROLLO SOCIAL
B12: Integrante 1: | I12: Integrante 2:
B14: %Participación | I14: %Participación
B16: Integrante 3: | I16: Integrante 4:
B18: %Participación | I18: %Participación
B20: Integrante 5: | I20: Integrante 6:
B22: %Participación | I22: %Participación
D26: REQUISITO | L26: CUMPLE | N26: Observaciones
B29: 1 | C29: Carta de presentación de la propuesta - Formato No. 1 | L29: SI | Q29: SI
Q30: NO
Q31: N.A.
B33: 2 | C33: Póliza de seriedad de la oferta | L33: SI
C35: No. 21-44-101457969 4/12/2024 23/03/2025 $36.400.000
B38: 3 | C38: Fotocopia de la Cédula de Ciudadanía del Representante Legal y libreta Militar | L38: SI
B42: 4 | C42: Acta de Junta de Socios -autorización del Órgano Social | L42: N.A.
B46: 5 | C46: Certificado del Cumplimiento de las obligaciones de seguridad social y aportes parafiscales | L46: SI
B50: 6 | C50: Certificado de Registro de Deudores Alimentarios Morosos (REDAM). | L50: SI
B54: 7 | C54: Certificado de Existencia y Representación legal, con expedición no mayor a un mes. | L54: SI
B58: 8 | C58: Compromiso Anticorrupcion, Pacto de Probidad y Transparencia | L58: SI
B62: 9 | C62: Declaración de Actividades Legales | L62: SI
B66: 10 | C66: Registro Único de Proponentes – RUP | L66: SI
B70: 11 | C70: Autorizacion Consulta Delitos Sexuales | L70: SI
B74: 12 | C74: Consulta de Inhabilidades de Delitos Sexuales contra Menores Ley 1918 de 2018. | L74: SI
C76: VERIFICADOS POR LA ENTIDAD
B78: 13 | C78: Registro de Información Tributaria. (RIT) | L78: SI
B82: 14 | C82: Registro Único Tributario - RUT- | L82: SI
B86: 15 | C86: Boletín de Responsables de la Contraloría General de la República | L86: SI
C88: VERIFICADOS POR LA ENTIDAD
B90: 16 | C90: Certificado de Antecedentes Disciplinarios de la Procuraduría General de la Nación | L90: SI
C92: VERIFICADOS POR LA ENTIDAD
B94: 17 | C94: Antecedentes Judiciales Policía Nacional | L94: SI
C96: VERIFICADOS POR LA ENTIDAD
B98: 18 | C98: Imposición de multas - Código Nacional de Policía | L98: SI
C100: VERIFICADOS POR LA ENTIDAD
B102: 19 | C102: Certificado de Inspección, Vigilancia y Control Vigente | L102: SI
B107: UNA VEZ REVISADOS LOS REQUISITOS JURÍDICOS PRESENTADOS EN SU OFERTA POR EL PROPONENTE, SE CONCLUYE QUE EN ESTE ASPECTO EL PROPONENTE:
G110: =+IF(L29="","",IF(OR(L29="NO",L33="NO",L42="NO",L50="NO",L70="NO",L54="NO",L58="NO",L62="NO",L46="NO",L66="NO",L74="NO",L78="NO",L86="NO",L90="NO",L94="NO",L98="NO",L82="NO",L102="NO"),"NO CUMPLE","CUMPLE")) -> CUMPLE

Sheet P-2
F1: FONDO DE DESARROLLO LOCAL DE TUNJUELITO
F3: EVALUACIÓN JURÍDICA - PROCESO FDLT-SAMC-339-2024 (120804)
C5: PROPONENTE | D5: 2
C7: PRESTAR LOS SERVICIOS DE CAPACITACIÓN EN PARTICIPACIÓN CIUDADANA, FORMULACIÓN DE PROYECTOS COMUNITARIOS Y DOTACIÓN DE ELEMENTOS A GRUPOS, ORGANIZACIONES E INSTANCIAS DE PARTICIPACIÓN, DE LA LOCALIDAD
B10: Proponente: | E10: FUNDACION STAR COP HUMANITY
B12: Integrante 1: | I12: Integrante 2:
B14: %Participación | I14: %Participación
B16: Integrante 3: | I16: Integrante 4:
B18: %Participación | I18: %Participación
B20: Integrante 5: | I20: Integrante 6:
B22: %Participación | I22: %Participación
D26: REQUISITO | L26: CUMPLE | N26: Observaciones
B29: 1 | C29: Carta de presentación de la propuesta - Formato No. 1 | L29: SI | Q29: SI
Q30: NO
Q31: N.A.
B33: 2 | C33: Póliza de seriedad de la oferta | L33: SI
C35: 14-44-101224851 4/12/2024 4/04/2025 $36.400.000
B37: 3 | C37: Fotocopia de la Cédula de Ciudadanía del Representante Legal | L37: SI
B41: 4 | C41: Acta de Junta de Socios -autorización del Órgano Social | L41: N.A.
B45: 5 | C45: Certificado del Cumplimiento de las obligaciones de seguridad social y aportes parafiscales | L45: SI
B49: 6 | C49: Certificado de Existencia y Representación legal, con expedición no mayor a un mes. | L49: SI
B53: 7 | C53: Certificado de Registro de Deudores Alimentarios Morosos (REDAM). | L53: SI
B57: 8 | C57: Compromiso Anticorrupcion, Pacto de Probidad y Transparencia | L57: SI
B61: 9 | C61: Registro Único de Proponentes – RUP | L61: SI
B65: 10 | C65: Declaración de Actividades Legales | L65: SI
B69: 11 | C69: Autorizacion Consulta Delitos Sexuales | L69: SI
B73: 12 | C73: Consulta de Inhabilidades de Delitos Sexuales contra Menores Ley 1918 de 2018. | L73: SI
C75: VERIFICADOS POR AL ENTIDAD
B77: 13 | C77: Registro Único Tributario - RUT- Y Registro de Información Tributaria. (RIT) | L77: SI
B81: 14 | C81: Boletín de Responsables de la Contraloría General de la República | L81: SI
C83: VERIFICADOS POR LA ENTIDAD
B85: 15 | C85: Certificado de Antecedentes Disciplinarios de la Procuraduría General de la Nación | L85: SI
C87: VERIFICADOS POR LA ENTIDAD
B89: 16 | C89: Antecedentes Judiciales Policía Nacional | L89: SI
C91: VERIFICADOS POR LA ENTIDAD
B93: 17 | C93: Imposición de multas - Código Nacional de Policía | L93: SI
C95: VERIFICADOS POR LA ENTIDAD
B97: 18 | C97: Certificado de Inspección, Vigilancia y Control Vigente | L97: SI
B102: UNA VEZ REVISADOS LOS REQUISITOS JURÍDICOS PRESENTADOS EN SU OFERTA POR EL PROPONENTE, SE CONCLUYE QUE EN ESTE ASPECTO EL PROPONENTE:
G105: =+IF(L29="","",IF(OR(L29="NO",L33="NO",L37="NO",L45="NO",L65="NO",L49="NO",L53="NO",L57="NO",L41="NO",L61="NO",L69="NO",L73="NO",L81="NO",L85="NO",L89="NO",L93="NO",L77="NO",L97="NO"),"NO CUMPLE","CUMPLE")) -> CUMPLE

Sheet P-3
F1: FONDO DE DESARROLLO LOCAL DE TUNJUELITO
F3: EVALUACIÓN JURÍDICA - PROCESO FDLT-SAMC-339-2024 (120804)
C5: PROPONENTE | D5: 3
C7: PRESTAR LOS SERVICIOS DE CAPACITACIÓN EN PARTICIPACIÓN CIUDADANA, FORMULACIÓN DE PROYECTOS COMUNITARIOS Y DOTACIÓN DE ELEMENTOS A GRUPOS, ORGANIZACIONES E INSTANCIAS DE PARTICIPACIÓN, DE LA LOCALIDAD
B10: Proponente: | E10: CORPORACION UNIFICADA NACIONAL DE EDUCACION SUPERIOR-CUN
B12: Integrante 1: | I12: Integrante 2:
B14: %Participación | I14: %Participación
B16: Integrante 3: | I16: Integrante 4:
B18: %Participación | I18: %Participación
B20: Integrante 5: | I20: Integrante 6:
B22: %Participación | I22: %Participación
D26: REQUISITO | L26: CUMPLE | N26: Observaciones
B29: 1 | C29: Carta de presentación de la propuesta - Formato No. 1 | L29: SI | N29: ACREDITA PODER PARA PRESENTAR PROPUESTA CUMPLE NUMERAL 4.1.11.9 | Q29: SI
Q30: NO
Q31: N.A.
B33: 2 | C33: Póliza de seriedad de la oferta | L33: SI
C35: NB-103360270 6/12/2024 A 10/03/2025 $36.400.000
B37: 3 | C37: Fotocopia de la Cédula de Ciudadanía del Representante Legal | L37: SI | N37: ACREDITA PODER PARA PRESENTAR PROPUESTA CUMPLE NUMERAL 4.1.11.9
B41: 4 | C41: Certificado de Inspección, Vigilancia y Control Vigente | L41: SI
B45: 5 | C45: Certificado del Cumplimiento de las obligaciones de seguridad social y aportes parafiscales | L45: SI
B49: 6 | C49: Certificado de Existencia y Representación legal, con expedición no mayor a un mes. | L49: SI | N49: ACREDITA PODER PARA PRESENTAR PROPUESTA CUMPLE NUMERAL 4.1.11.9
B53: 7 | C53: Certificado de Registro de Deudores Alimentarios Morosos (REDAM). | L53: SI | N53: ACREDITA PODER PARA PRESENTAR PROPUESTA CUMPLE NUMERAL 4.1.11.9
B57: 8 | C57: Compromiso Anticorrupcion, Pacto de Probidad y Transparencia | L57: SI | N57: ACREDITA PODER PARA PRESENTAR PROPUESTA CUMPLE NUMERAL 4.1.11.9
B61: 9 | C61: Registro Único de Proponentes – RUP | L61: SI
B65: 10 | C65: Declaración de Actividades Legales | L65: SI | N65: ACREDITA PODER PARA PRESENTAR PROPUESTA CUMPLE NUMERAL 4.1.11.9
B69: 11 | C69: Autorizacion Consulta Delitos Sexuales | L69: SI | N69: ACREDITA PODER PARA PRESENTAR PROPUESTA CUMPLE NUMERAL 4.1.11.9
B73: 12 | C73: Consulta de Inhabilidades de Delitos Sexuales contra Menores Ley 1918 de 2018. | L73: SI
C75: Verificados por la Entidad
B77: 13 | C77: Registro Único Tributario - RUT- | L77: SI
B81: 14 | C81: Boletín de Responsables de la Contraloría General de la República | L81: SI
C83: Verificados por la Entidad
B85: 15 | C85: Certificado de Antecedentes Disciplinarios de la Procuraduría General de la Nación | L85: SI
C87: Verificados por la Entidad
B89: 16 | C89: Antecedentes Judiciales Policía Nacional | L89: SI
C91: Verificados por la Entidad
B93: 17 | C93: Imposición de multas - Código Nacional de Policía | L93: SI
C95: Verificados por la Entidad
B97: 18 | C97: Registro de Información Tributaria. (RIT) | L97: SI
B102: UNA VEZ REVISADOS LOS REQUISITOS JURÍDICOS PRESENTADOS EN SU OFERTA POR EL PROPONENTE, SE CONCLUYE QUE EN ESTE ASPECTO EL PROPONENTE:
G105: =+IF(L29="","",IF(OR(L29="NO",L33="NO",L37="NO",L45="NO",L65="NO",L49="NO",L53="NO",L57="NO",L41="NO",L61="NO",L69="NO",L73="NO",L81="NO",L85="NO",L89="NO",L93="NO",L77="NO",L97="NO"),"NO CUMPLE","CUMPLE")) -> CUMPLE

Sheet P-4
F1: FONDO DE DESARROLLO LOCAL DE TUNJUELITO
F3: EVALUACIÓN JURÍDICA - PROCESO FDLT-SAMC-339-2024 (120804)
C5: PROPONENTE | D5: 4
C7: PRESTAR LOS SERVICIOS DE CAPACITACIÓN EN PARTICIPACIÓN CIUDADANA, FORMULACIÓN DE PROYECTOS COMUNITARIOS Y DOTACIÓN DE ELEMENTOS A GRUPOS, ORGANIZACIONES E INSTANCIAS DE PARTICIPACIÓN, DE LA LOCALIDAD
B10: Proponente: | E10: FUNDACIÓN INTERNACIONAL DE PEDAGOGÍA CONCEPTUAL ALBERTO MERANI
B12: Integrante 1: | I12: Integrante 2:
B14: %Participación | I14: %Participación
B16: Integrante 3: | I16: Integrante 4:
B18: %Participación | I18: %Participación
B20: Integrante 5: | I20: Integrante 6:
B22: %Participación | I22: %Participación
Q23: P-2
D26: REQUISITO | L26: CUMPLE | N26: Observaciones
B29: 1 | C29: Carta de presentación de la propuesta - Formato No. 1 | L29: SI | Q29: SI
Q30: NO
Q31: N.A.
B33: 2 | C33: Póliza de seriedad de la oferta | L33: SI
C35: No. 4152786 16260792 4/12/2024 4/03/2025 $36.400.000
B37: 3 | C37: Fotocopia de la Cédula de Ciudadanía y libreta militar | L37: SI
B41: 4 | C41: Certificado de Inspección, Vigilancia y Control Vigente | L41: SI
B45: 5 | C45: Certificado del Cumplimiento de las obligaciones de seguridad social y aportes parafiscales | L45: SI
B49: 6 | C49: Certificado de Existencia y Representación legal, con expedición no mayor a un mes. | L49: SI
B53: 7 | C53: Certificado de Registro de Deudores Alimentarios Morosos (REDAM). | L53: SI
B57: 8 | C57: Compromiso Anticorrupcion, Pacto de Probidad y Transparencia | L57: SI
B61: 9 | C61: Registro Único de Proponentes – RUP | L61: SI
B65: 10 | C65: Declaración de Actividades Legales | L65: SI
B69: 11 | C69: Autorizacion Consulta Delitos Sexuales | L69: SI
B73: 12 | C73: Consulta de Inhabilidades de Delitos Sexuales contra Menores Ley 1918 de 2018. | L73: SI
C75: Verificado por la Entidad.
B77: 13 | C77: Registro Único Tributario - RUT- | L77: SI
B81: 14 | C81: Boletín de Responsables de la Contraloría General de la República | L81: SI
C83: Verificado por la Entidad.
B85: 15 | C85: Certificado de Antecedentes Disciplinarios de la Procuraduría General de la Nación | L85: SI
C87: Verificado por la Entidad.
B89: 16 | C89: Antecedentes Judiciales Policía Nacional | L89: SI
C91: Verificado por la Entidad.
B93: 17 | C93: Imposición de multas - Código Nacional de Policía | L93: SI
C95: Verificado por la Entidad.
B97: 18 | C97: Registro de Información Tributaria. (RIT) | L97: SI
B102: UNA VEZ REVISADOS LOS REQUISITOS JURÍDICOS PRESENTADOS EN SU OFERTA POR EL PROPONENTE, SE CONCLUYE QUE EN ESTE ASPECTO EL PROPONENTE:
G105: =+IF(L29="","",IF(OR(L29="NO",L33="NO",L37="NO",L45="NO",L65="NO",L49="NO",L53="NO",L57="NO",L41="NO",L61="NO",L69="NO",L73="NO",L81="NO",L85="NO",L89="NO",L93="NO",L77="NO",L97="NO"),"NO CUMPLE","CUMPLE")) -> CUMPLE

Sheet P-5
F1: FONDO DE DESARROLLO LOCAL DE TUNJUELITO
F3: EVALUACIÓN JURÍDICA - PROCESO FDLT-SAMC-339-2024 (120804)
C5: PROPONENTE | D5: 5
C7: PRESTAR LOS SERVICIOS DE CAPACITACIÓN EN PARTICIPACIÓN CIUDADANA, FORMULACIÓN DE PROYECTOS COMUNITARIOS Y DOTACIÓN DE ELEMENTOS A GRUPOS, ORGANIZACIONES E INSTANCIAS DE PARTICIPACIÓN, DE LA LOCALIDAD
B10: Proponente: | E10: INDUHOTEL SAS
B12: Integrante 1: | I12: Integrante 2:
B14: %Participación | I14: %Participación
B16: Integrante 3: | I16: Integrante 4:
B18: %Participación | I18: %Participación
B20: Integrante 5: | I20: Integrante 6:
B22: %Participación | I22: %Participación
D26: REQUISITO | L26: CUMPLE | N26: Observaciones
B29: 1 | C29: Carta de presentación de la propuesta - Formato No. 1 | L29: SI | Q29: SI
Q30: NO
Q31: N.A.
B33: 2 | C33: Póliza de seriedad de la oferta | L33: SI
C35: NB 100360256 6/12/2024 A 16/03/2025 $36.400.000
B37: 3 | C37: Fotocopia de la Cédula de Ciudadanía y Libreta Militar del Representante Legal | L37: SI
B41: 4 | C41: Certificado de Inspección, Vigilancia y Control Vigente | L41: N.A.
B45: 5 | C45: Certificado del Cumplimiento de las obligaciones de seguridad social y aportes parafiscales | L45: SI
B49: 6 | C49: Certificado de Existencia y Representación legal, con expedición no mayor a un mes. | L49: SI
B53: 7 | C53: Certificado de Registro de Deudores Alimentarios Morosos (REDAM). | L53: SI
B57: 8 | C57: Compromiso Anticorrupcion, Pacto de Probidad y Transparencia | L57: SI
B61: 9 | C61: Registro Único de Proponentes – RUP | L61: SI
B65: 10 | C65: Declaración de Actividades Legales | L65: SI
B69: 11 | C69: Autorizacion Consulta Delitos Sexuales | L69: SI
C71: SUBSANA DOCUMENTO ALLEGA AUTORIZACION
B73: 12 | C73: Consulta de Inhabilidades de Delitos Sexuales contra Menores Ley 1918 de 2018. | L73: SI
C75: VERIFICADOS POR LA ENTIDAD
B77: 13 | C77: Registro Único Tributario - RUT- | L77: SI
B81: 14 | C81: Boletín de Responsables de la Contraloría General de la República | L81: SI
C83: Verificado por la Entidad.
B85: 15 | C85: Certificado de Antecedentes Disciplinarios de la Procuraduría General de la Nación | L85: SI
C87: Verificado por la Entidad
B89: 16 | C89: Antecedentes Judiciales Policía Nacional | L89: SI
C91: Verificado por la Entidad.
B93: 17 | C93: Imposición de multas - Código Nacional de Policía | L93: SI
C95: Verificado por la Entidad.
B97: 18 | C97: Registro de Información Tributaria. (RIT) | L97: SI
B102: UNA VEZ REVISADOS LOS REQUISITOS JURÍDICOS PRESENTADOS EN SU OFERTA POR EL PROPONENTE, SE CONCLUYE QUE EN ESTE ASPECTO EL PROPONENTE:
G105: =+IF(L29="","",IF(OR(L29="NO",L33="NO",L37="NO",L45="NO",L65="NO",L49="NO",L53="NO",L57="NO",L41="NO",L61="NO",L69="NO",L73="NO",L81="NO",L85="NO",L89="NO",L93="NO",L77="NO",L97="NO"),"NO CUMPLE","CUMPLE")) -> CUMPLE

Sheet P-6
F1: FONDO DE DESARROLLO LOCAL DE TUNJUELITO
F3: EVALUACIÓN JURÍDICA - PROCESO FDLT-SAMC-339-2024 (120804)
C5: PROPONENTE | D5: 6
C7: PRESTAR LOS SERVICIOS DE CAPACITACIÓN EN PARTICIPACIÓN CIUDADANA, FORMULACIÓN DE PROYECTOS COMUNITARIOS Y DOTACIÓN DE ELEMENTOS A GRUPOS, ORGANIZACIONES E INSTANCIAS DE PARTICIPACIÓN, DE LA LOCALIDAD
B10: Proponente: | E10: CONSULTORES Y ASESORES TIC SAS
B12: Integrante 1: | I12: Integrante 2:
B14: %Participación | I14: %Participación
B16: Integrante 3: | I16: Integrante 4:
B18: %Participación | I18: %Participación
B20: Integrante 5: | I20: Integrante 6:
B22: %Participación | I22: %Participación
D26: REQUISITO | L26: CUMPLE | N26: Observaciones
B29: 1 | C29: Carta de presentación de la propuesta - Formato No. 1 | L29: SI | Q29: SI
Q30: NO
Q31: N.A.
B33: 2 | C33: Póliza de seriedad de la oferta | L33: SI
C35: 11-44-101242706 6/12/2024 a 15/03/2025 $36.400.000
B37: 3 | C37: Fotocopia de la Cédula de Ciudadaníar del Representante Legal | L37: SI
B41: 4 | C41: Certificado de Inspección, Vigilancia y Control Vigente | L41: N.A.
B45: 5 | C45: Certificado del Cumplimiento de las obligaciones de seguridad social y aportes parafiscales | L45: SI
B49: 6 | C49: Certificado de Existencia y Representación legal, con expedición no mayor a un mes. | L49: SI
B53: 7 | C53: Certificado de Registro de Deudores Alimentarios Morosos (REDAM). | L53: SI
B57: 8 | C57: Compromiso Anticorrupcion, Pacto de Probidad y Transparencia | L57: SI
B61: 9 | C61: Registro Único de Proponentes – RUP | L61: SI
B65: 10 | C65: Declaración de Actividades Legales | L65: SI
B69: 11 | C69: Autorizacion Consulta Delitos Sexuales | L69: SI
B73: 12 | C73: Consulta de Inhabilidades de Delitos Sexuales contra Menores Ley 1918 de 2018. | L73: SI
C75: Verificado por la Entidad
B77: 13 | C77: Registro Único Tributario - RUT- | L77: SI
C79: Verificado por la Entidad
B81: 14 | C81: Boletín de Responsables de la Contraloría General de la República | L81: SI
C83: Verificado por la Entidad
B85: 15 | C85: Certificado de Antecedentes Disciplinarios de la Procuraduría General de la Nación | L85: SI
C87: Verificado por la Entidad
B89: 16 | C89: Antecedentes Judiciales Policía Nacional | L89: SI
C91: Verificado por la Entidad
B93: 17 | C93: Imposición de multas - Código Nacional de Policía | L93: SI
C95: Verificado por la Entidad
B97: 18 | C97: Registro de Información Tributaria. (RIT) | L97: SI
B102: UNA VEZ REVISADOS LOS REQUISITOS JURÍDICOS PRESENTADOS EN SU OFERTA POR EL PROPONENTE, SE CONCLUYE QUE EN ESTE ASPECTO EL PROPONENTE:
G105: =+IF(L29="","",IF(OR(L29="NO",L33="NO",L37="NO",L45="NO",L65="NO",L49="NO",L53="NO",L57="NO",L41="NO",L61="NO",L69="NO",L73="NO",L81="NO",L85="NO",L89="NO",L93="NO",L77="NO",L97="NO"),"NO CUMPLE","CUMPLE")) -> CUMPLE

Sheet P-7
F1: FONDO DE DESARROLLO LOCAL DE TUNJUELITO
F3: EVALUACIÓN JURÍDICA - PROCESO FDLT-SAMC-339-2024 (120804)
C5: PROPONENTE | D5: 7
C7: PRESTAR LOS SERVICIOS DE CAPACITACIÓN EN PARTICIPACIÓN CIUDADANA, FORMULACIÓN DE PROYECTOS COMUNITARIOS Y DOTACIÓN DE ELEMENTOS A GRUPOS, ORGANIZACIONES E INSTANCIAS DE PARTICIPACIÓN, DE LA LOCALIDAD
B10: Proponente: | E10: ADIFCOL
B12: Integrante 1: | I12: Integrante 2:
B14: %Participación | I14: %Participación
B16: Integrante 3: | I16: Integrante 4:
B18: %Participación | I18: %Participación
B20: Integrante 5: | I20: Integrante 6:
B22: %Participación | I22: %Participación
D26: REQUISITO | L26: CUMPLE | N26: Observaciones
B29: 1 | C29: Carta de presentación de la propuesta - Formato No. 1 | L29: SI | Q29: SI
Q30: NO
Q31: N.A.
B33: 2 | C33: Póliza de seriedad de la oferta | L33: SI
C35: 33-44-101257058 6/12/2024 a 21/03/2025 $36.400.000
B37: 3 | C37: Fotocopia de la Cédula de Ciudadaníar del Representante Legal | L37: SI
B41: 4 | C41: Certificado de Inspección, Vigilancia y Control Vigente | L41: SI
B45: 5 | C45: Certificado del Cumplimiento de las obligaciones de seguridad social y aportes parafiscales | L45: SI
B49: 6 | C49: Certificado de Existencia y Representación legal, con expedición no mayor a un mes. | L49: SI
B53: 7 | C53: Certificado de Registro de Deudores Alimentarios Morosos (REDAM). | L53: SI
B57: 8 | C57: Compromiso Anticorrupcion, Pacto de Probidad y Transparencia | L57: SI
B61: 9 | C61: Registro Único de Proponentes – RUP | L61: SI
B65: 10 | C65: Declaración de Actividades Legales | L65: SI
B69: 11 | C69: Autorizacion Consulta Delitos Sexuales | L69: SI
B73: 12 | C73: Consulta de Inhabilidades de Delitos Sexuales contra Menores Ley 1918 de 2018. | L73: SI
C75: VERIFICADOS POR LA ENTIDAD
B77: 13 | C77: Registro Único Tributario - RUT- | L77: NO
C79: NO SUBSANA
B81: 14 | C81: Boletín de Responsables de la Contraloría General de la República | L81: SI
C83: VERIFICADOS POR LA ENTIDAD
B85: 15 | C85: Certificado de Antecedentes Disciplinarios de la Procuraduría General de la Nación | L85: SI
C87: VERIFICADOS POR LA ENTIDAD
B89: 16 | C89: Antecedentes Judiciales Policía Nacional | L89: SI
C91: VERIFICADOS POR LA ENTIDAD
B93: 17 | C93: Imposición de multas - Código Nacional de Policía | L93: SI
C95: VERIFICADOS POR LA ENTIDAD
B97: 18 | C97: Registro de Información Tributaria. (RIT) | L97: SI
B102: UNA VEZ REVISADOS LOS REQUISITOS JURÍDICOS PRESENTADOS EN SU OFERTA POR EL PROPONENTE, SE CONCLUYE QUE EN ESTE ASPECTO EL PROPONENTE:
G105: =+IF(L29="","",IF(OR(L29="NO",L33="NO",L37="NO",L45="NO",L65="NO",L49="NO",L53="NO",L57="NO",L41="NO",L61="NO",L69="NO",L73="NO",L81="NO",L85="NO",L89="NO",L93="NO",L77="NO",L97="NO"),"NO CUMPLE","CUMPLE")) -> NO CUMPLE

Sheet P-8
F1: FONDO DE DESARROLLO LOCAL DE TUNJUELITO
F3: EVALUACIÓN JURÍDICA - PROCESO FDLT-SAMC-339-2024 (120804)
C5: PROPONENTE | D5: 8
C7: PRESTAR LOS SERVICIOS DE CAPACITACIÓN EN PARTICIPACIÓN CIUDADANA, FORMULACIÓN DE PROYECTOS COMUNITARIOS Y DOTACIÓN DE ELEMENTOS A GRUPOS, ORGANIZACIONES E INSTANCIAS DE PARTICIPACIÓN, DE LA LOCALIDAD
B10: Proponente: | E10: FUNDACIÓN COLOMBIA ÚTIL
B12: Integrante 1: | I12: Integrante 2:
B14: %Participación | I14: %Participación
B16: Integrante 3: | I16: Integrante 4:
B18: %Participación | I18: %Participación
B20: Integrante 5: | I20: Integrante 6:
B22: %Participación | I22: %Participación
D26: REQUISITO | L26: CUMPLE | N26: Observaciones
B29: 1 | C29: Carta de presentación de la propuesta - Formato No. 1 | L29: SI | Q29: SI
Q30: NO
Q31: N.A.
B33: 2 | C33: Póliza de seriedad de la oferta | L33: SI
C35: 21-44-101457788 4/12/2024 A 15/03/2025 $36.400.000
B37: 3 | C37: Fotocopia de la Cédula de Ciudadaníar del Representante Legal | L37: SI
B41: 4 | C41: Certificado de Inspección, Vigilancia y Control Vigente | L41: SI
B45: 5 | C45: Certificado del Cumplimiento de las obligaciones de seguridad social y aportes parafiscales | L45: SI
B49: 6 | C49: Certificado de Existencia y Representación legal, con expedición no mayor a un mes. | L49: SI
B53: 7 | C53: Certificado de Registro de Deudores Alimentarios Morosos (REDAM). | L53: SI
B57: 8 | C57: Compromiso Anticorrupcion, Pacto de Probidad y Transparencia | L57: SI
B61: 9 | C61: Registro Único de Proponentes – RUP | L61: SI
B65: 10 | C65: Declaración de Actividades Legales | L65: SI
B69: 11 | C69: Autorizacion Consulta Delitos Sexuales | L69: SI
B73: 12 | C73: Consulta de Inhabilidades de Delitos Sexuales contra Menores Ley 1918 de 2018. | L73: SI
C75: Verificado por la Entidad
B77: 13 | C77: Registro Único Tributario - RUT- | L77: SI
B81: 14 | C81: Boletín de Responsables de la Contraloría General de la República | L81: SI
C83: Verificado por la Entidad
B85: 15 | C85: Certificado de Antecedentes Disciplinarios de la Procuraduría General de la Nación | L85: SI
C87: Verificado por la Entidad
B89: 16 | C89: Antecedentes Judiciales Policía Nacional | L89: SI
C91: Verificado por la Entidad
B93: 17 | C93: Imposición de multas - Código Nacional de Policía | L93: SI
C95: Verificado por la Entidad
B97: 18 | C97: Registro de Información Tributaria. (RIT) | L97: SI
B102: UNA VEZ REVISADOS LOS REQUISITOS JURÍDICOS PRESENTADOS EN SU OFERTA POR EL PROPONENTE, SE CONCLUYE QUE EN ESTE ASPECTO EL PROPONENTE:
G105: =+IF(L29="","",IF(OR(L29="NO",L33="NO",L37="NO",L45="NO",L65="NO",L49="NO",L53="NO",L57="NO",L41="NO",L61="NO",L69="NO",L73="NO",L81="NO",L85="NO",L89="NO",L93="NO",L77="NO",L97="NO"),"NO CUMPLE","CUMPLE")) -> CUMPLE

Sheet P-9
F1: FONDO DE DESARROLLO LOCAL DE TUNJUELITO
F3: EVALUACIÓN JURÍDICA - PROCESO FDLT-SAMC-339-2024 (120804)
C5: PROPONENTE | D5: 9
C7: PRESTAR LOS SERVICIOS DE CAPACITACIÓN EN PARTICIPACIÓN CIUDADANA, FORMULACIÓN DE PROYECTOS COMUNITARIOS Y DOTACIÓN DE ELEMENTOS A GRUPOS, ORGANIZACIONES E INSTANCIAS DE PARTICIPACIÓN, DE LA LOCALIDAD
B10: Proponente: | E10: CIDOR CONSULTING ALLIANCE SAS
B12: Integrante 1: | I12: Integrante 2:
B14: %Participación | I14: %Participación
B16: Integrante 3: | I16: Integrante 4:
B18: %Participación | I18: %Participación
B20: Integrante 5: | I20: Integrante 6:
B22: %Participación | I22: %Participación
D26: REQUISITO | L26: CUMPLE | N26: Observaciones
B29: 1 | C29: Carta de presentación de la propuesta - Formato No. 1 | L29: SI | Q29: SI
Q30: NO
Q31: N.A.
B33: 2 | C33: Póliza de seriedad de la oferta | L33: SI
C35: 42-44-101158486 6/12/2024 A 20/03/2025 $36.400.000
B37: 3 | C37: Fotocopia de la Cédula de Ciudadaníar del Representante Legal | L37: SI
B41: 4 | C41: Certificado de Inspección, Vigilancia y Control Vigente | L41: N.A.
B45: 5 | C45: Certificado del Cumplimiento de las obligaciones de seguridad social y aportes parafiscales | L45: SI
B49: 6 | C49: Certificado de Existencia y Representación legal, con expedición no mayor a un mes. | L49: SI
B53: 7 | C53: Certificado de Registro de Deudores Alimentarios Morosos (REDAM). | L53: SI
B57: 8 | C57: Compromiso Anticorrupcion, Pacto de Probidad y Transparencia | L57: SI
B61: 9 | C61: Registro Único de Proponentes – RUP | L61: SI
B65: 10 | C65: Declaración de Actividades Legales | L65: SI
B69: 11 | C69: Autorizacion Consulta Delitos Sexuales | L69: SI
C71: SUBSANA APORTA AUTORIZACION
B73: 12 | C73: Consulta de Inhabilidades de Delitos Sexuales contra Menores Ley 1918 de 2018. | L73: SI
C75: VERIFICADOS POR LA ENTIDAD
B77: 13 | C77: Registro Único Tributario - RUT- | L77: SI
B81: 14 | C81: Boletín de Responsables de la Contraloría General de la República | L81: SI
C83: Verificado por la Entidad
B85: 15 | C85: Certificado de Antecedentes Disciplinarios de la Procuraduría General de la Nación | L85: SI
C87: Verificado por la Entidad
B89: 16 | C89: Antecedentes Judiciales Policía Nacional | L89: SI
C91: Verificado por la Entidad
B93: 17 | C93: Imposición de multas - Código Nacional de Policía | L93: SI
C95: Verificado por la Entidad
B97: 18 | C97: Registro de Información Tributaria. (RIT) | L97: SI
B102: UNA VEZ REVISADOS LOS REQUISITOS JURÍDICOS PRESENTADOS EN SU OFERTA POR EL PROPONENTE, SE CONCLUYE QUE EN ESTE ASPECTO EL PROPONENTE:
G105: =+IF(L29="","",IF(OR(L29="NO",L33="NO",L37="NO",L45="NO",L65="NO",L49="NO",L53="NO",L57="NO",L41="NO",L61="NO",L69="NO",L73="NO",L81="NO",L85="NO",L89="NO",L93="NO",L77="NO",L97="NO"),"NO CUMPLE","CUMPLE")) -> CUMPLE

Sheet P-10
F1: FONDO DE DESARROLLO LOCAL DE TUNJUELITO
F3: EVALUACIÓN JURÍDICA - PROCESO FDLT-SAMC-339-2024 (120804)
C5: PROPONENTE | D5: 10
C7: PRESTAR LOS SERVICIOS DE CAPACITACIÓN EN PARTICIPACIÓN CIUDADANA, FORMULACIÓN DE PROYECTOS COMUNITARIOS Y DOTACIÓN DE ELEMENTOS A GRUPOS, ORGANIZACIONES E INSTANCIAS DE PARTICIPACIÓN, DE LA LOCALIDAD
B10: Proponente: | E10: FUNDACION PARA EL DESARROLLO SOCIOCULTURAL, DEPORTIVO, COMUNITARIO, AGROPECUARIO Y/O AMBIENTAL - FUNDESCO
B12: Integrante 1: | I12: Integrante 2:
B14: %Participación | I14: %Participación
B16: Integrante 3: | I16: Integrante 4:
B18: %Participación | I18: %Participación
B20: Integrante 5: | I20: Integrante 6:
B22: %Participación | I22: %Participación
D26: REQUISITO | L26: CUMPLE | N26: Observaciones
B29: 1 | C29: Carta de presentación de la propuesta - Formato No. 1 | L29: SI | Q29: SI
Q30: NO
Q31: N.A.
B33: 2 | C33: Póliza de seriedad de la oferta | L33: SI
C35: 14-44-101225420 6/12/2024 A 08/03/2025 $36.400.000
B37: 3 | C37: Fotocopia de la Cédula de Ciudadaníar del Representante Legal | L37: SI
B41: 4 | C41: Certificado de Inspección, Vigilancia y Control Vigente | L41: SI
B45: 5 | C45: Certificado del Cumplimiento de las obligaciones de seguridad social y aportes parafiscales | L45: SI
B49: 6 | C49: Certificado de Existencia y Representación legal, con expedición no mayor a un mes. | L49: SI
B53: 7 | C53: Certificado de Registro de Deudores Alimentarios Morosos (REDAM). | L53: SI
B57: 8 | C57: Compromiso Anticorrupcion, Pacto de Probidad y Transparencia | L57: SI
B61: 9 | C61: Registro Único de Proponentes – RUP | L61: SI
B65: 10 | C65: Declaración de Actividades Legales | L65: SI
B69: 11 | C69: Autorizacion Consulta Delitos Sexuales | L69: SI
B73: 12 | C73: Consulta de Inhabilidades de Delitos Sexuales contra Menores Ley 1918 de 2018. | L73: SI
B77: 13 | C77: Registro Único Tributario - RUT- | L77: SI
B81: 14 | C81: Boletín de Responsables de la Contraloría General de la República | L81: SI
C83: Verificado por la Entidad
B85: 15 | C85: Certificado de Antecedentes Disciplinarios de la Procuraduría General de la Nación | L85: SI
C87: Verificado por la Entidad
B89: 16 | C89: Antecedentes Judiciales Policía Nacional | L89: SI
C91: Verificado por la Entidad
B93: 17 | C93: Imposición de multas - Código Nacional de Policía | L93: SI
C95: Verificado por la Entidad
B97: 18 | C97: Registro de Información Tributaria. (RIT) | L97: SI
B102: UNA VEZ REVISADOS LOS REQUISITOS JURÍDICOS PRESENTADOS EN SU OFERTA POR EL PROPONENTE, SE CONCLUYE QUE EN ESTE ASPECTO EL PROPONENTE:
G105: =+IF(L29="","",IF(OR(L29="NO",L33="NO",L37="NO",L45="NO",L65="NO",L49="NO",L53="NO",L57="NO",L41="NO",L61="NO",L69="NO",L73="NO",L81="NO",L85="NO",L89="NO",L93="NO",L77="NO",L97="NO"),"NO CUMPLE","CUMPLE")) -> CUMPLE

Sheet P-11
F1: FONDO DE DESARROLLO LOCAL DE TUNJUELITO
F3: EVALUACIÓN JURÍDICA - PROCESO FDLT-SAMC-339-2024 (120804)
C5: PROPONENTE | D5: 11
C7: PRESTAR LOS SERVICIOS DE CAPACITACIÓN EN PARTICIPACIÓN CIUDADANA, FORMULACIÓN DE PROYECTOS COMUNITARIOS Y DOTACIÓN DE ELEMENTOS A GRUPOS, ORGANIZACIONES E INSTANCIAS DE PARTICIPACIÓN, DE LA LOCALIDAD
B10: Proponente: | E10: CORSERVICOL
B12: Integrante 1: | I12: Integrante 2:
B14: %Participación | I14: %Participación
B16: Integrante 3: | I16: Integrante 4:
B18: %Participación | I18: %Participación
B20: Integrante 5: | I20: Integrante 6:
B22: %Participación | I22: %Participación
D26: REQUISITO | L26: CUMPLE | N26: Observaciones
B29: 1 | C29: Carta de presentación de la propuesta - Formato No. 1 | L29: SI | Q29: SI
Q30: NO
Q31: N.A.
B33: 2 | C33: Póliza de seriedad de la oferta | L33: SI
C35: 11-44-101242653 06/012/2024 A 06/04/2025 $36.400.000
B37: 3 | C37: Fotocopia de la Cédula de Ciudadaníar del Representante Legal | L37: SI
B41: 4 | C41: Certificado de Inspección, Vigilancia y Control Vigente | L41: SI
B45: 5 | C45: Certificado del Cumplimiento de las obligaciones de seguridad social y aportes parafiscales | L45: NO
C47: NO SUBSANO
B49: 6 | C49: Certificado de Existencia y Representación legal, con expedición no mayor a un mes. | L49: SI
B53: 7 | C53: Certificado de Registro de Deudores Alimentarios Morosos (REDAM). | L53: NO
C55: NO SUBSANO
B57: 8 | C57: Compromiso Anticorrupcion, Pacto de Probidad y Transparencia | L57: NO
C59: NO SUBSANO
B61: 9 | C61: Registro Único de Proponentes – RUP | L61: SI
B65: 10 | C65: Declaración de Actividades Legales | L65: NO
C67: NO SUBSANO
B69: 11 | C69: Autorizacion Consulta Delitos Sexuales | L69: NO
C71: NO SUBSANO
B73: 12 | C73: Consulta de Inhabilidades de Delitos Sexuales contra Menores Ley 1918 de 2018. | L73: NO
C75: NO SUBSANO
B77: 13 | C77: Registro Único Tributario - RUT- | L77: SI
B81: 14 | C81: Boletín de Responsables de la Contraloría General de la República | L81: SI
C83: Verificado por la Entidad
B85: 15 | C85: Certificado de Antecedentes Disciplinarios de la Procuraduría General de la Nación | L85: SI
C87: Verificado por la Entidad
B89: 16 | C89: Antecedentes Judiciales Policía Nacional | L89: SI
C91: Verificado por la Entidad
B93: 17 | C93: Imposición de multas - Código Nacional de Policía | L93: SI
C95: Verificado por la Entidad
B97: 18 | C97: Registro de Información Tributaria. (RIT) | L97: SI
B102: UNA VEZ REVISADOS LOS REQUISITOS JURÍDICOS PRESENTADOS EN SU OFERTA POR EL PROPONENTE, SE CONCLUYE QUE EN ESTE ASPECTO EL PROPONENTE:
G105: =+IF(L29="","",IF(OR(L29="NO",L33="NO",L37="NO",L45="NO",L65="NO",L49="NO",L53="NO",L57="NO",L41="NO",L61="NO",L69="NO",L73="NO",L81="NO",L85="NO",L89="NO",L93="NO",L77="NO",L97="NO"),"NO CUMPLE","CUMPLE")) -> NO CUMPLE

Sheet P-12
F1: FONDO DE DESARROLLO LOCAL DE TUNJUELITO
F3: EVALUACIÓN JURÍDICA - PROCESO FDLT-SAMC-339-2024 (120804)
C5: PROPONENTE | D5: 12
C7: PRESTAR LOS SERVICIOS DE CAPACITACIÓN EN PARTICIPACIÓN CIUDADANA, FORMULACIÓN DE PROYECTOS COMUNITARIOS Y DOTACIÓN DE ELEMENTOS A GRUPOS, ORGANIZACIONES E INSTANCIAS DE PARTICIPACIÓN, DE LA LOCALIDAD
B10: Proponente: | E10: DOKUMA CREATIVIDAD & TECNOLOGÍA SAS
B12: Integrante 1: | I12: Integrante 2:
B14: %Participación | I14: %Participación
B16: Integrante 3: | I16: Integrante 4:
B18: %Participación | I18: %Participación
B20: Integrante 5: | I20: Integrante 6:
B22: %Participación | I22: %Participación
D26: REQUISITO | L26: CUMPLE | N26: Observaciones
B29: 1 | C29: Carta de presentación de la propuesta - Formato No. 1 | L29: SI | Q29: SI
Q30: NO
Q31: N.A.
B33: 2 | C33: Póliza de seriedad de la oferta | L33: SI
C35: 45-44-101161865 6/12/2024 A 12/03/2025 $36.400,000
B37: 3 | C37: Fotocopia de la Cédula de Ciudadaníar del Representante Legal | L37: SI
B41: 4 | C41: Certificado de Inspección, Vigilancia y Control Vigente | L41: N.A.
B45: 5 | C45: Certificado del Cumplimiento de las obligaciones de seguridad social y aportes parafiscales | L45: SI
B49: 6 | C49: Certificado de Existencia y Representación legal, con expedición no mayor a un mes. | L49: SI
B53: 7 | C53: Certificado de Registro de Deudores Alimentarios Morosos (REDAM). | L53: SI
B57: 8 | C57: Compromiso Anticorrupcion, Pacto de Probidad y Transparencia | L57: SI
C59: Pacto de Probidad Subsanado
B61: 9 | C61: Registro Único de Proponentes – RUP | L61: SI
B65: 10 | C65: Declaración de Actividades Legales | L65: SI
B69: 11 | C69: Autorizacion Consulta Delitos Sexuales | L69: SI
B73: 12 | C73: Consulta de Inhabilidades de Delitos Sexuales contra Menores Ley 1918 de 2018. | L73: SI
C75: VERIFICADOS POR LA ENTIDAD
B77: 13 | C77: Registro Único Tributario - RUT- | L77: SI
B81: 14 | C81: Boletín de Responsables de la Contraloría General de la República | L81: SI
C83: Verificado por la Entidad
B85: 15 | C85: Certificado de Antecedentes Disciplinarios de la Procuraduría General de la Nación | L85: SI
C87: Verificado por la Entidad
B89: 16 | C89: Antecedentes Judiciales Policía Nacional | L89: SI
C91: Verificado por la Entidad
B93: 17 | C93: Imposición de multas - Código Nacional de Policía | L93: SI
C95: Verificado por la Entidad
B97: 18 | C97: Registro de Información Tributaria. (RIT) | L97: SI
B102: UNA VEZ REVISADOS LOS REQUISITOS JURÍDICOS PRESENTADOS EN SU OFERTA POR EL PROPONENTE, SE CONCLUYE QUE EN ESTE ASPECTO EL PROPONENTE:
G105: =+IF(L29="","",IF(OR(L29="NO",L33="NO",L37="NO",L45="NO",L65="NO",L49="NO",L53="NO",L57="NO",L41="NO",L61="NO",L69="NO",L73="NO",L81="NO",L85="NO",L89="NO",L93="NO",L77="NO",L97="NO"),"NO CUMPLE","CUMPLE")) -> CUMPLE

Sheet P-13
F1: FONDO DE DESARROLLO LOCAL DE TUNJUELITO
F3: EVALUACIÓN JURÍDICA - PROCESO FDLT-SAMC-339-2024 (120804)
C5: PROPONENTE | D5: 13
C7: PRESTAR LOS SERVICIOS DE CAPACITACIÓN EN PARTICIPACIÓN CIUDADANA, FORMULACIÓN DE PROYECTOS COMUNITARIOS Y DOTACIÓN DE ELEMENTOS A GRUPOS, ORGANIZACIONES E INSTANCIAS DE PARTICIPACIÓN, DE LA LOCALIDAD
B10: Proponente: | E10: BONGA BUSTAMANTE SAS
B12: Integrante 1: | I12: Integrante 2:
B14: %Participación | I14: %Participación
B16: Integrante 3: | I16: Integrante 4:
B18: %Participación | I18: %Participación
B20: Integrante 5: | I20: Integrante 6:
B22: %Participación | I22: %Participación
D26: REQUISITO | L26: CUMPLE | N26: Observaciones
B29: 1 | C29: Carta de presentación de la propuesta - Formato No. 1 | L29: SI | Q29: SI
Q30: NO
Q31: N.A.
B33: 2 | C33: Póliza de seriedad de la oferta | L33: SI
C35: NB 100360164 6/12/204 A 16/03/2025 $36.400.000
B37: 3 | C37: Fotocopia de la Cédula de Ciudadaníar del Representante Legal | L37: SI
B41: 4 | C41: Certificado de Inspección, Vigilancia y Control Vigente | L41: N.A.
B45: 5 | C45: Certificado del Cumplimiento de las obligaciones de seguridad social y aportes parafiscales | L45: SI
B49: 6 | C49: Certificado de Existencia y Representación legal, con expedición no mayor a un mes. | L49: SI
B53: 7 | C53: Certificado de Registro de Deudores Alimentarios Morosos (REDAM). | L53: SI
B57: 8 | C57: Compromiso Anticorrupcion, Pacto de Probidad y Transparencia | L57: SI
B61: 9 | C61: Registro Único de Proponentes – RUP | L61: SI
B65: 10 | C65: Declaración de Actividades Legales | L65: SI
B69: 11 | C69: Autorizacion Consulta Delitos Sexuales | L69: SI
B73: 12 | C73: Consulta de Inhabilidades de Delitos Sexuales contra Menores Ley 1918 de 2018. | L73: SI
C75: VERIFICADOS POR LA ENTIDAD
B77: 13 | C77: Registro Único Tributario - RUT- | L77: SI
B81: 14 | C81: Boletín de Responsables de la Contraloría General de la República | L81: SI
C83: Verificado por la Entidad
B85: 15 | C85: Certificado de Antecedentes Disciplinarios de la Procuraduría General de la Nación | L85: SI
C87: Verificado por la Entidad
B89: 16 | C89: Antecedentes Judiciales Policía Nacional | L89: SI
C91: Verificado por la Entidad
B93: 17 | C93: Imposición de multas - Código Nacional de Policía | L93: SI
C95: Verificado por la Entidad
B97: 18 | C97: Registro de Información Tributaria. (RIT) | L97: SI
B102: UNA VEZ REVISADOS LOS REQUISITOS JURÍDICOS PRESENTADOS EN SU OFERTA POR EL PROPONENTE, SE CONCLUYE QUE EN ESTE ASPECTO EL PROPONENTE:
G105: =+IF(L29="","",IF(OR(L29="NO",L33="NO",L37="NO",L45="NO",L65="NO",L49="NO",L53="NO",L57="NO",L41="NO",L61="NO",L69="NO",L73="NO",L81="NO",L85="NO",L89="NO",L93="NO",L77="NO",L97="NO"),"NO CUMPLE","CUMPLE")) -> CUMPLE

Sheet SMMLV
A1: Año | B1: Salario mínimo | C1: Auxilio de transporte
A2: 1990 | B2: 41025 | C2: 3798
A3: 1991 | B3: 51720 | C3: 4787
A4: 1992 | B4: 65190 | C4: 6033
A5: 1993 | B5: 81510 | C5: 7542
A6: 1994 | B6: 98700 | C6: 8705
A7: 1995 | B7: 118993 | C7: 10815
A8: 1996 | B8: 142125 | C8: 13567
A9: 1997 | B9: 172005 | C9: 17250
A10: 1998 | B10: 203825 | C10: 20700
A11: 1999 | B11: 236438 | C11: 24012
A12: 2000 | B12: 260100 | C12: 26413
A13: 2001 | B13: 286000 | C13: 30000
... A25: 2013 | B25: 589500 | C25: 70500
A26: 2014 | B26: 616000
