Workbook
Name \0: #REF!
Name \00: #REF!
Name \a: #REF!
Name \AA: [1]LIQUIDACION!#REF!
Name \b: [2]STRSUMM0!#REF!
Name \bb: [2]STRSUMM0!#REF!
Name \E: #REF!
Name \EE: #REF!
Name \eliminar: [3]RESUM96!#REF!
Name \eliminar1: [3]RESUM96!#REF!
Name \G: #REF!
Name \k: '[4]7422CW00'!#REF!
Name \l: [5]STRSUMM0!#REF!
Name \M: #REF!
Name \ñ: '[6]7422CW00'!#REF!
Name \P: #REF!
Name \q: #REF!
Name \R: #REF!
Name \s: #REF!
Name \V: #REF!
Name \X: [0]!ERR
Name \Z: [0]!ERR
Name ________________EST1: #REF!
Name ________________EST10: #REF!
Name ________________EST11: #REF!
Name ________________EST12: #REF!
Name ________________EST13: #REF!
Name ________________EST14: #REF!
Name ________________EST15: #REF!
Name ________________EST16: #REF!
Name ________________EST17: #REF!
Name ________________EST18: #REF!
Name ________________EST19: #REF!
Name ________________EST2: #REF!
Name ________________EST3: #REF!
Name ________________EST4: #REF!
Name ________________EST5: #REF!
Name ________________EST6: #REF!
Name ________________EST7: #REF!
Name ________________EST8: #REF!
Name ________________EST9: #REF!
Name ________________EXC1: #REF!
Name ________________EXC10: #REF!
Name ________________EXC11: #REF!
Name ________________EXC12: #REF!
Name ________________EXC2: #REF!
Name ________________EXC3: #REF!
Name ________________EXC4: #REF!
Name ________________EXC5: #REF!
Name ________________EXC6: #REF!
Name ________________EXC7: #REF!
Name ________________EXC8: #REF!
Name ________________EXC9: #REF!
Name _______________EST1: #REF!
Name _______________EST10: #REF!
Name _______________EST11: #REF!
Name _______________EST12: #REF!
Name _______________EST13: #REF!
Name _______________EST14: #REF!
Name _______________EST15: #REF!

Sheet Hoja1
A1: FONDO DE DESARROLLO LOCAL DE TUNJUELITO
A2: PROCESO DE LICITACIÒN PÙBLICA No. FDLT-SAMC-339-2024 (120804)
A3: INFORME CONSOLIDADO VERIFICACIÓN DE REQUISITOS HABILITANTES
A4: OBJETO:“ “PRESTAR LOS SERVICIOS DE CAPACITACIÓN EN PARTICIPACIÓN CIUDADANA, FORMULACIÓN DE PROYECTOS COMUNITARIOS Y DOTACIÓN DE ELEMENTOS A GRUPOS, ORGANIZACIONES E INSTANCIAS DE PARTICIPACIÓN, DE LA LOCALIDAD DE TUNJUELITO EN EL MARCO DEL PROYECTO 2069”
A5: ITEM | B5: PROPONENTE (NOMBRE DE LA EMPRESA ) | D5: CAPACIDAD JURÍDICA | E5: CAPACIDAD FINANCIERA | F5: CAPACIDAD ORGANIZACIONAL | G5: EXPERIENCIA CUMPLE NO / CUMPLE | H5: BUENAS PRACTICAS AMBIENTALES/ REQUISITOS HABILITANTES CUMPLE/NO CUMPLE | I5: CUMPLIMIENTO REQUISITOS TÉCNICO REQUISITOS HABILITANTES CUMPLE/NO CUMPLE | J5: HABILITADO/NO HABILITADO
A6: 1 | B6: FUNDACIÓN OTRO ROLLO SOCIAL | D6: CUMPLE | E6: CUMPLE | F6: CUMPLE | G6: CUMPLE | H6: CUMPLE | I6: CUMPLE | J6: HABILITADO
A7: 2 | B7: CIDOR CONULTING ALLIANCE SAS | D7: CUMPLE | E7: CUMPLE | F7: CUMPLE | G7: CUMPLE | H7: CUMPLE | I7: CUMPLE | J7: HABILITADO
A8: 3 | B8: BONGA BUSTAMANTE SAS | D8: CUMPLE | E8: CUMPLE | F8: CUMPLE | G8: NO CUMPLE | H8: CUMPLE | I8: CUMPLE | J8: NO HABILITADO
A9: 4 | B9: FUNDACIÓN STAR COP HUMANITY | D9: CUMPLE | E9: CUMPLE | F9: CUMPLE | G9: CUMPLE | H9: CUMPLE | I9: CUMPLE | J9: HABILITADO
A10: 5 | B10: CORSERVICOL | D10: NO CUMPLE | E10: CUMPLE | F10: CUMPLE | G10: CUMPLE | H10: NO CUMPLE | I10: CUMPLE | J10: NO HABILITADO
A11: 6 | B11: Consultores y Asesores TIC SAS | D11: CUMPLE | E11: CUMPLE | F11: CUMPLE | G11: CUMPLE | H11: CUMPLE | I11: CUMPLE | J11: HABILITADO
A12: 7 | B12: CORPORACIÓN UNIFICADA NACIONAL DE EDUCACIÓN SUPERIOR CUN | D12: CUMPLE | E12: CUMPLE | F12: CUMPLE | G12: CUMPLE | H12: CUMPLE | I12: CUMPLE | J12: HABILITADO
A13: 8 | B13: FUNDACIÓN COLOMBIA ÚTIL | D13: CUMPLE | E13: CUMPLE | F13: CUMPLE | G13: CUMPLE | H13: CUMPLE | I13: NO CUMPLE | J13: NO HABILITADO
A14: 9 | B14: INDUHOTEL SAS | D14: CUMPLE | E14: CUMPLE | F14: CUMPLE | G14: CUMPLE | H14: CUMPLE | I14: CUMPLE | J14: HABILITADO
A15: 10 | B15: ASOCIACIÒN PARA EL DESARROLLO INTEGRAL DE LA FAMILIA COLOMBIANA - ADIFCOL | D15: NO CUMPLE | E15: CUMPLE | F15: CUMPLE | G15: CUMPLE | H15: NO CUMPLE | I15: NO CUMPLE | J15: NO HABILITADO
A16: 11 | B16: FUNDESCO | D16: CUMPLE | E16: CUMPLE | F16: CUMPLE | G16: CUMPLE | H16: CUMPLE | I16: CUMPLE | J16: HABILITADO
A17: 12 | B17: FUNDACIÓN INTERNACIONAL DE PEDAGOGÍA CONCEPTUAL ALBERTO MERANI | D17: CUMPLE | E17: CUMPLE | F17: CUMPLE | G17: CUMPLE | H17: CUMPLE | I17: CUMPLE | J17: HABILITADO
A18: 13 | B18: DOKUMA | D18: CUMPLE | E18: CUMPLE | F18: CUMPLE | G18: CUMPLE | H18: CUMPLE | I18: CUMPLE | J18: HABILITADO
B20: MIEMBROS DEL COMITÉ EVALUADOR:
H23: ZAIDE NATALIE BURGOS
H24: PROFESIONAL DE APOYO FDLT

Sheet PPTO
A1: ESTUDIO DE MERCADO OBJETO: “PRESTAR LOS SERVICIOS DE CAPACITACIÓN EN PARTICIPACIÓN CIUDADANA, FORMULACIÓN DE PROYECTOS COMUNITARIOS Y DOTACIÓN DE ELEMENTOS A GRUPOS, ORGANIZACIONES E INSTANCIAS DE PARTICIPACIÓN, DE LA LOCALIDAD DE TUNJUELITO EN EL MARCO DEL PROYECTO 2069”
A2: NOMBRE DEL PROYECTO 2069
A3: NO. | B3: ITEM | C3: DETALLE CONCEPTO | D3: Unidad de Medida | E3: Cot. 01 IVA Incluido | F3: Empresa Cotizante 01 | G3: Cot. 02 IVA Incluido | H3: Empresa Cotizante 02 | I3: Cot. 03 IVA Incluido | J3: Empresa Cotizante 03 | K3: Cot. 04 IVA Incluido | L3: Empresa Cotizante 04 | M3: No. de Cotizaciones | N3: MEDIANA | O3: DESVIACIÓN ESTANDAR | P3: PORCENTAJE DESVIACION | Q3: VALOR PROMEDIO UNITARIO IVA INCLUIDO | R3: VALOR UNITARIO IVA INCLUIDO (VIGENCIA 2024) (REDONDEADO AL MÚLTIPLO DE 50 MÁS CERCANO SUPERIOR) | S3: CANTIDAD | T3: VALOR TOTAL CON IVA
A5: Componente 1. Presupuestos participativos - Proceso de formación para la participación Expedición agroecológica en tren por la Sabana de Bogotá
A6: 1 | B6: CHAQUETA SIN ACOLCHAR TIPO ROMPEVIENTOS | C6: Tejido de resistencia al frío y el viento 100% poliéster y ultraligeros; Zona frontal con pro-tección contra el viento, zona de espalda tejido micromesh o rejilla para una correcta transpira-ción. Debe de proteger el cuello; Cremallera que no se enganche y que tenga un buen tirador para poder abrirlo, quitarlo y ponerlo en marcha con o sin guantes; Bolsillos traseros y también acceso fácil a los bolsillos del maillot o chaqueta; Deta-lles reflectantes o colores brillantes y llamativos para ser visibles tallas para adultos, con logotipos de la Alcaldía y del colectivo | D6: Unidad | E6: =60000*1.19 -> 71400 | F6: PROMOCIONALES BORDADOS Y DOTACIONES | G6: =70000*1.19 -> 83300 | H6: ZOOM | I6: =50000*1.19 -> 59500 | J6: SENI | M6: =+COUNT(E6,G6,I6) -> 3 | N6: =+MEDIAN(E6,G6,I6) -> 71400 | O6: =+STDEVA(I6,G6,E6) -> 11900 | P6: =+O6/N6 -> 0.16666667 | Q6: =+AVERAGE(E6,G6,I6) -> 71400 | R6: =+_xlfn.CEILING.MATH(Q6,50,FALSE) -> 71400 | S6: 140 | T6: =+R6*S6 -> 9996000
A7: 2 | B7: SOMBRERO SAFARI | C7: Sombrero safari protección sol, cuello solapa pesca, deportivo, en material de dril, talla única estandar, con logos del colectivo de la Alcaldía. | D7: UNIDAD | E7: =15000*1.19 -> 17850 | F7: PROMOCIONALES BORDADOS Y DOTACIONES | G7: =18000*1.19 -> 21420 | H7: ZOOM | I7: =17850*1.19 -> 21241.5 | J7: NEO BRAND S.A.S | M7: =+COUNT(E7,G7,I7) -> 3 | N7: =+MEDIAN(E7,G7,I7) -> 21241.5 | O7: =+STDEVA(I7,G7,E7) -> 2011.5928 | P7: =+O7/N7 -> 0.094701073 | Q7: =+AVERAGE(E7,G7,I7) -> 20170.5 | R7: =+_xlfn.CEILING.MATH(Q7,50,FALSE) -> 20200 | S7: 140 | T7: =+R7*S7 -> 2828000
A8: 3 | B8: SOMBRILLA PLEGABLE | C8: Sombrilla automática de mango de lujo 10 varillas, tamaño mediano, tela anti-fluido, con filtro UV, sublimada con logos del comité y de la Alcaldía, en dos de sus caras, color a definición de acuerdo a la solicitud del Fondo de Desarrollo Local. | D8: UNIDAD | E8: 29655 | F8: NEO BRAND S.A.S | G8: =15000*1.19 -> 17850 | H8: ZOOM | I8: =16000*1.19 -> 19040 | J8: SENI | M8: =+COUNT(E8,G8,I8) -> 3 | N8: =+MEDIAN(E8,G8,I8) -> 19040 | O8: =+STDEVA(I8,G8,E8) -> 6499.3891 | P8: =+O8/N8 -> 0.34135447 | Q8: =+AVERAGE(E8,G8,I8) -> 22181.667 | R8: =+_xlfn.CEILING.MATH(Q8,50,FALSE) -> 22200 | S8: 140 | T8: =+R8*S8 -> 3108000
A9: COMPONENTE 1 ACTIVIDAD 2 SEMINARIOS EN VEEDURIA CIUDADANA (ACTIVIDAD 2) DOS SEMINARIOS DE 3 HORAS
A10: 4 | B10: BOLIGRAFOS PERSONALIZADOS | C10: Boligrafos personalizados con el logo de la Alcaldía y del colectivo, retractil y con resaltador en la cabeza del bolígrafo, en plástico, de tinta negra | D10: UNIDAD | E10: =1956*1.19 -> 2327.64 | F10: PROMOCIONALES BORDADOS Y DOTACIONES | G10: =2506*1.19 -> 2982.14 | H10: ZOOM | I10: =2500*1.19 -> 2975 | J10: SENI | M10: =+COUNT(E10,G10,I10) -> 3 | N10: =+MEDIAN(E10,G10,I10) -> 2975 | O10: =+STDEVA(I10,G10,E10) -> 375.83157 | P10: =+O10/N10 -> 0.12632994 | Q10: =+AVERAGE(E10,G10,I10) -> 2761.5933 | R10: =+_xlfn.CEILING.MATH(Q10,50,FALSE) -> 2800 | S10: 100 | T10: =+R10*S10 -> 280000
A11: 5 | B11: Planeador mensual | C11: Planeador-Agenda: Con Pastas en madera MDF impresa de alta calidad. Hojas de Papel de caña de azúcar o papel reciclable Tamaño de la hoja approximado: 9.3 cm x 21.6 cm Dimensiones aproximadas: 22 cm x 11 cm x 2.5 c Con separa de hojas que tengan informaciòn sobre el proyecto. | D11: UNIDAD | E11: =23000*1.19 -> 27370 | F11: ZOOM | G11: =15000*1.19 -> 17850 | H11: SENI | M11: =+COUNT(E11,G11,I11) -> 2 | N11: =+MEDIAN(E11,G11) -> 22610 | O11: =+STDEVA(I11,G11,E11) -> 6731.6566 | P11: =+O11/N11 -> 0.29772917 | Q11: =+AVERAGE(E11,G11,I11) -> 22610 | R11: =+_xlfn.CEILING.MATH(Q11,50,FALSE) -> 22650 | S11: 100 | T11: =+R11*S11 -> 2265000
A12: 6 | B12: BOLSA EN TELA RESISTENTE | C12: Bolsa en tela impermeable o antifluido sublimada de tamaño de 40cm x 35 cm, con logos de la Alcaldía y del colectivo | D12: UNIDAD | E12: =4200*1.19 -> 4998 | F12: ZOOM | G12: =3500*1.19 -> 4165 | H12: SENI | I12: 4760 | J12: NEOBRAND | M12: =+COUNT(E12,G12,I12) -> 3 | N12: =+MEDIAN(E12,G12,I12) -> 4760 | O12: =+STDEVA(I12,G12,E12) -> 429.0606 | P12: =+O12/N12 -> 0.090138782 | Q12: =+AVERAGE(E12,G12,I12) -> 4641 | R12: =+_xlfn.CEILING.MATH(Q12,50,FALSE) -> 4650 | S12: 100 | T12: =+R12*S12 -> 465000
A13: 7 | B13: Refrigerio tipo 2 | C13: Un sólido: Un pastel de pollo o un pastel gloria, jugo o avena en caja, fruta (manzana, pera, durazno, banano, mandarina, o ciruela) y dulce de chocolate Que cumpla con las normas de Bioseguridad - Empacado | D13: UNIDAD | E13: 10000 | F13: Eventos Castillo Imperial F.R. | G13: 12000 | H13: Hacienda el refugio | I13: 13000 | J13: EVENTOS Y LOGISTICA HADOSH | M13: =+COUNT(E13,G13,I13) -> 3 | N13: =+MEDIAN(E13,G13,I13) -> 12000 | O13: =+STDEVA(I13,G13,E13) -> 1527.5252 | P13: =+O13/N13 -> 0.12729377 | Q13: =+AVERAGE(E13,G13,I13) -> 11666.667 | R13: =+_xlfn.CEILING.MATH(Q13,50,FALSE) -> 11700 | S13: 100 | T13: =+R13*S13 -> 1170000
A14: Componente 1. Recurso humano
A15: 8 | B15: Coordinador | C15: Título Profesional en ciencias sociales, economía, administración pública, profesional en psicología o profesionales que pertenezcan al NBC equivalente según lo establecido por el SNIES. | D15: UNIDAD | Q15: 4773000 | R15: 4773000 | S15: 5 | T15: =+R15*S15 -> 23865000
A16: 9 | B16: Docente capacitador | C16: Profesional en ciencia sociales o humanas, ciencias políticas, sociología, antropología, administración pública, historia o profesionales de las áreas de ciencias sociales que pertenezcan al NBC y según lo establecido por el SNIES | D16: UNIDAD | Q16: 4773000 | R16: 4773000 | S16: 5 | T16: =+R16*S16 -> 23865000
A17: PUBLICIDAD
A18: 10 | B18: PAUTA PUBLICITARIA | C18: DISEÑO, GRABACION Y PUBLICACION DE UNA CUÑA RADIAL DE 30 SEGUNDOS, CON 20 EMISIONES A CONVENIR; EL GUION SERA REALIZADO POR EL AREA DE PRENSA DE ALCALDIA LOCAL | D18: UNIDAD | E18: 1360000 | F18: MI BOSA ESTEREO | G18: 1670000 | H18: EL CARMEN | M18: =+COUNT(E18,G18,I18) -> 2 | N18: =+MEDIAN(E18,G18,I18) -> 1515000 | O18: =+STDEVA(I18,G18,E18) -> 219203.1 | P18: =+O18/N18 -> 0.14468852 | Q18: =+AVERAGE(E18,G18,I18) -> 1515000 | R18: =+_xlfn.CEILING.MATH(Q18,50,FALSE) -> 1515000 | S18: 1 | T18: =+R18*S18 -> 1515000
A19: Componente 1. Presupuestos participativos - Proceso de formación para la participación ciudadana "Expedición agroecológica en tren por la Sabana de Bogotá"
A20: 11 | B20: PENDON VERTICAL TAMAÑO DE 90x1 40m | C20: Pendón vertical: impresión en Lona Banner policromía 13 onzas impreso a full color tamaño de 90x140m con estructura en araña (diseño estregado por el área de prensa de la Alcaldía Local) | D20: UNIDAD | E20: =130000*1.19 -> 154700 | F20: PROMOCIONALES BORDADOS Y DOTACIONES | G20: =130000*1.19 -> 154700 | H20: ZOOM | I20: =140000*1.19 -> 166600 | J20: SENI | M20: =+COUNT(E20,G20,I20) -> 3 | N20: =+MEDIAN(E20,G20,I20) -> 154700 | O20: =+STDEVA(I20,G20,E20) -> 6870.4682 | P20: =+O20/N20 -> 0.044411559 | Q20: =+AVERAGE(E20,G20,I20) -> 158666.67 | R20: =+_xlfn.CEILING.MATH(Q20,50,FALSE) -> 158700 | S20: 1 | T20: =+R20*S20 -> 158700
A21: 12 | B21: Refrigerio tipo 2 | C21: Un sólido: Un pastel de pollo o un pastel gloria, jugo o avena en caja, fruta (manzana, pera, durazno, banano, mandarina, o ciruela) y dulce de chocolate Que cumpla con las normas de Bioseguridad - Empacado | D21: UNIDAD | E21: 10000 | F21: Eventos Castillo Imperial F.R. | G21: 12000 | H21: Hacienda el refugio | I21: 13000 | J21: EVENTOS Y LOGISTICA HADOSH | M21: =+COUNT(E21,G21,I21) -> 3 | N21: =+MEDIAN(E21,G21,I21) -> 12000 | O21: =+STDEVA(I21,G21,E21) -> 1527.5252 | P21: =+O21/N21 -> 0.12729377 | Q21: =+AVERAGE(E21,G21,I21) -> 11666.667 | R21: =+_xlfn.CEILING.MATH(Q21,50,FALSE) -> 11700 | S21: 840 | T21: =+R21*S21 -> 9828000
A22: 13 | B22: Diploma | C22: Certidficación: Diploma y/o certificado: entrega de diploma y/o certificados nivel básico en papel opalina de 240 gr, tintas 4x0, tamaño carta según diseño. | D22: UNIDAD | E22: =6500*1.19 -> 7735 | F22: PROMOCIONALES BORDADOS Y DOTACIONES | G22: =3000*1.19 -> 3570 | H22: ZOOM | I22: =5000*1.19 -> 5950 | J22: SENI | M22: =+COUNT(E22,G22,I22) -> 3 | N22: =+MEDIAN(E22,G22,I22) -> 5950 | O22: =+STDEVA(I22,G22,E22) -> 2089.5713 | P22: =+O22/N22 -> 0.35118846 | Q22: =+AVERAGE(E22,G22,I22) -> 5751.6667 | R22: =+_xlfn.CEILING.MATH(Q22,50,FALSE) -> 5800 | S22: 140 | T22: =+R22*S22 -> 812000
A23: 14 | B23: Camiseta | C23: Camiseta en algodón con logos sublimados de la alcaldía y del colectivo | D23: UNIDAD | E23: =22000*1.19 -> 26180 | F23: PROMOCIONALES BORDADOS Y DOTACIONES | G23: =18000*1.19 -> 21420 | H23: ZOOM | I23: =28000*1.19 -> 33320 | J23: SENI | M23: =+COUNT(E23,G23,I23) -> 3 | N23: =+MEDIAN(E23,G23,I23) -> 26180 | O23: =+STDEVA(I23,G23,E23) -> 5989.5353 | P23: =+O23/N23 -> 0.22878286 | Q23: =+AVERAGE(E23,G23,I23) -> 26973.333 | R23: =+_xlfn.CEILING.MATH(Q23,50,FALSE) -> 27000 | S23: 140 | T23: =+R23*S23 -> 3780000
A24: 15 | B24: Cartulinas | C24: cartulinas en octavos x 10 un | D24: UNIDAD | E24: =3100*1.19 -> 3689 | F24: ALVAREZ RAMOS ARVEY | G24: 4500 | H24: LA GARZA | I24: 4990 | J24: ÉXITO | M24: =+COUNT(E24,G24,I24) -> 3 | N24: =+MEDIAN(E24,G24,I24) -> 4500 | O24: =+STDEVA(I24,G24,E24) -> 657.06697 | P24: =+O24/N24 -> 0.14601488 | Q24: =+AVERAGE(E24,G24,I24) -> 4393 | R24: =+_xlfn.CEILING.MATH(Q24,50,FALSE) -> 4400 | S24: 140 | T24: =+R24*S24 -> 616000
A25: 16 | B25: Caja de Marcadores x 10 | C25: Caja de marcadores de diferentes colores permanentes | D25: UNIDAD | E25: =13800*1.19 -> 16422 | F25: ALVAREZ RAMOS ARVEY | G25: 18600 | H25: papeleria editoria zapata | I25: =17000*1.19 -> 20230 | J25: DISTRIBUCIONES LUK S DU S.A.S | M25: =+COUNT(E25,G25,I25) -> 3 | N25: =+MEDIAN(E25,G25,I25) -> 18600 | O25: =+STDEVA(I25,G25,E25) -> 1910.5605 | P25: =+O25/N25 -> 0.10271831 | Q25: =+AVERAGE(E25,G25,I25) -> 18417.333 | R25: =+_xlfn.CEILING.MATH(Q25,50,FALSE) -> 18450 | S25: 140 | T25: =+R25*S25 -> 2583000
A26: 17 | B26: Caja de colores x 12 | C26: 12 lápices de color, punta más gruesa de 4 mm, lápices de cuerpo redondo, colores variados | D26: UNIDAD | E26: 11900 | F26: INVERSIONES ZB | G26: 12900 | H26: EXITO | I26: 11900 | J26: MARIN PAPELERIA | M26: =+COUNT(E26,G26,I26) -> 3 | N26: =+MEDIAN(E26,G26,I26) -> 11900 | O26: =+STDEVA(I26,G26,E26) -> 577.35027 | P26: =+O26/N26 -> 0.048516829 | Q26: =+AVERAGE(E26,G26,I26) -> 12233.333 | R26: =+_xlfn.CEILING.MATH(Q26,50,FALSE) -> 12250 | S26: 140 | T26: =+R26*S26 -> 1715000
A27: Salida agroecológica por tren por la Sábana de Bogotá
A28: 18 | B28: Salida en tren de la sabana | C28: Pasaje por persona adulta en tren por la sabana, desde la estación de gran estación hasta zipaquirá ida y vuelta | D28: UNIDAD | E28: 70200 | F28: Turistren | M28: =+COUNT(E28,G28,I28) -> 1 | N28: =+MEDIAN(E28,G28,I28) -> 70200 | Q28: =+AVERAGE(E28,G28,I28) -> 70200 | R28: =+_xlfn.CEILING.MATH(Q28,50,FALSE) -> 70200 | S28: 160 | T28: =+R28*S28 -> 11232000
A29: 19 | B29: Desayunos en el tren tipo1 | C29: Tamal, pan y gaseosa | D29: UNIDAD | E29: 15000 | F29: EVENTOS Y LOGISTICA HADOSH | G29: 14000 | H29: Hacienda el refugio | I29: =15000*1.19 -> 17850 | J29: Turistren | M29: =+COUNT(E29,G29,I29) -> 3 | N29: =+MEDIAN(E29,G29,I29) -> 15000 | O29: =+STDEVA(I29,G29,E29) -> 1997.707 | P29: =+O29/N29 -> 0.13318047 | Q29: =+AVERAGE(E29,G29,I29) -> 15616.667 | R29: =+_xlfn.CEILING.MATH(Q29,50,FALSE) -> 15650 | S29: 160 | T29: =+R29*S29 -> 2504000
A30: 20 | B30: Almuerzos en zipaquirá tipo 1 | C30: Almuerzo típico de Zipaquirá, platos especiales parrillada: pechuga, chatas, costillas de cerdo, ensalda, jugo y postre | D30: UNIDAD | E30: 50000 | F30: EVENTOS Y LOGISTICA HADOSH | G30: 39000 | H30: Hacienda el refugio | I30: =45000*1.19 -> 53550 | J30: Turistren | M30: =+COUNT(E30,G30,I30) -> 3 | N30: =+MEDIAN(E30,G30,I30) -> 50000 | O30: =+STDEVA(I30,G30,E30) -> 7586.2266 | P30: =+O30/N30 -> 0.15172453 | Q30: =+AVERAGE(E30,G30,I30) -> 47516.667 | R30: =+_xlfn.CEILING.MATH(Q30,50,FALSE) -> 47550 | S30: 160 | T30: =+R30*S30 -> 7608000
A31: 21 | B31: Refrigerios en el tren tipo 1 | C31: Mantecada y jugo | D31: UNIDAD | E31: 10000 | F31: EVENTOS Y LOGISTICA HADOSH | G31: 7000 | H31: Hacienda el refugio | I31: =10000*1.19 -> 11900 | J31: Turistren | M31: =+COUNT(E31,G31,I31) -> 3 | N31: =+MEDIAN(E31,G31,I31) -> 10000 | O31: =+STDEVA(I31,G31,E31) -> 2470.4925 | P31: =+O31/N31 -> 0.24704925 | Q31: =+AVERAGE(E31,G31,I31) -> 9633.3333 | R31: =+_xlfn.CEILING.MATH(Q31,50,FALSE) -> 9650 | S31: 160 | T31: =+R31*S31 -> 1544000
A32: 22 | B32: TRANSPORTE DENTRO CIUDAD BOGOTA (BUS) de 20 a 25 km por recorrido | C32: Alquiler de un bus con capacidad de 40 pasajeros, capacidad de carga en bodega, en perfectas condiciones técnicas con documentación completamente al día Modelo Mínimo 2015 (SOAT, Revisión Técnico-Mecánica, Tarjeta de Propiedad, Copia de revisión de ultimo Mantenimiento) para transporte, punto de partida localidad de Tunjuelito con recorrido dentro de la ciudad de Bogotá, distrito Capital (Incluye ida y regreso al sitio de origen al finalizar el evento tanto de las personas como de sus productos) | D32: UNIDAD | E32: 600000 | F32: Eventos Castillo Imperial F.R. | G32: 680000 | H32: Hacienda el refugio | I32: 800000 | J32: EVENTOS Y LOGISTICA HADOSH | M32: 4 | N32: =+MEDIAN(E32,G32,I32) -> 680000 | O32: =+STDEVA(I32,G32,E32) -> 100664.46 | P32: =+O32/N32 -> 0.14803597 | Q32: =+AVERAGE(E32,G32,I32) -> 693333.33 | R32: =+_xlfn.CEILING.MATH(Q32,50,FALSE) -> 693350 | S32: 4 | T32: =+R32*S32 -> 2773400
A33: 23 | B33: TRANSPORTE EN MUNICIPIOS A 100 KM DE DISTANCIA DE BOGOTA | C33: Transporte de la estacion de tren de Zipaquira hasta la mina de sal de Zipaquira ida y vuelta por persona 1.7 kilometros | D33: UNIDAD | E33: 14000 | F33: TURISTREN | G33: 14000 | H33: CASTILLO IMPERIAL | I33: 14000 | J33: HACIENDA EL REFUGIO | M33: 4 | N33: =+MEDIAN(E33,G33,I33) -> 14000 | O33: =+STDEVA(I33,G33,E33) -> 0 | P33: =+O33/N33 -> 0 | Q33: =+AVERAGE(E33,G33,I33) -> 14000 | R33: =+_xlfn.CEILING.MATH(Q33,50,FALSE) -> 14000 | S33: 160 | T33: =+R33*S33 -> 2240000
A34: 24 | B34: POLIZA DE ACCIDENTES | C34: "Póliza por un día (debe cubrir toda clase de accidentes) Póliza de Responsabilidad Civil Extracontractual para beneficiarios de cualquier proyecto (Niños, Niñas, Adultos, Adultos Mayores) a cargo del contratista y que los cubra de cualquier eventualidad que se presente por 1 día una Jornada | D34: UNIDAD | E34: 6500 | F34: sura | G34: 5000 | H34: seguros del estado | M34: =+COUNT(E34,G34,I34) -> 2 | N34: =+MEDIAN(E34,G34,I34) -> 5750 | O34: =+STDEVA(I34,G34,E34) -> 1060.6602 | P34: =+O34/N34 -> 0.18446264 | Q34: =+AVERAGE(E34,G34,I34) -> 5750 | R34: =+_xlfn.CEILING.MATH(Q34,50,FALSE) -> 5750 | S34: 160 | T34: =+R34*S34 -> 920000
A35: 25 | B35: Entrada a la catedral de Sal de Zipaquirá | C35: Incluye la entrada a la Catedral de sal d e Zipaquira y el trasnporte desde la parada del tren en Zipaquirá hasta la Catedral de sal d e Zipaquira y viceversa. | D35: UNIDAD | E35: 77000 | F35: catedral de sal de zipaquira | M35: =+COUNT(E35,G35,I35) -> 1 | N35: =+MEDIAN(E35,G35,I35) -> 77000 | Q35: =+AVERAGE(E35,G35,I35) -> 77000 | R35: =+_xlfn.CEILING.MATH(Q35,50,FALSE) -> 77000 | S35: 160 | T35: =+R35*S35 -> 12320000
U36: =+SUM(T6:T35) -> 129991100
A37: =+A35+1 -> 26 | B37: CHAQUETA ACOLCHADA LIGERA | C37: Chaqueta acolchada ligera, en material adidas antifluido impermeable, con forro malla pool al interior de la chaqueta, con dos bolsillos laterales, de color azul rey con capota con el logo del comite de Libertad Religioso y de la Alcaldía. (como es el logos, sublimadao o bordado, y acomodar logos de acuerdo con el manual de imagen) | D37: Unidad | E37: 20 | F37: 73637 | G37: NEO BRAND S.A.S | H37: =70000*1.19 -> 83300 | I37: PROMOCIONALES BORDADOS Y DOTACIONES | J37: =75000*1.19 -> 89250 | K37: ZOOM PUBLICIDAD | L37: =+COUNT(F37,H37,J37) -> 3 | M37: =+AVERAGE(F37,H37,J37) -> 82062.333 | N37: =+STDEVA(F37,H37,J37) -> 7879.7402 | O37: =+N37/M37 -> 0.096021401 | Q37: =+MEDIAN(J37,H37,F37) -> 83300 | R37: =+_xlfn.CEILING.MATH(M37,50,FALSE) -> 82100 | S37: 20 | T37: =+R37*S37 -> 1642000
A38: =+A37+1 -> 27 | B38: PENDON VERTICAL TAMAÑO DE 90x1 40m | C38: Pendón vertical: pendón enrrollable o pendón roll up Impresión: Impresión digital en plóter full color, Alta resolución Material: Base RollUp en aluminio + Banner 13 oz. (Tela PVC ). (diseño estregado por el área de prensa de la Alcaldía Local) | D38: UNIDAD | E38: 4 | F38: =130000*1.19 -> 154700 | G38: PROMOCIONALES BORDADOS Y DOTACIONES | H38: =130000*1.19 -> 154700 | I38: ZOOM | J38: =140000*1.19 -> 166600 | K38: SENI | L38: =+COUNT(F38,H38,J38) -> 3 | M38: =+AVERAGE(F38,H38,J38) -> 158666.67 | N38: =+STDEVA(F38,H38,J38) -> 6870.4682 | O38: =+N38/M38 -> 0.04330127 | Q38: =+MEDIAN(J38,H38,F38) -> 154700 | R38: =+_xlfn.CEILING.MATH(M38,50,FALSE) -> 158700 | S38: 4 | T38: =+R38*S38 -> 634800
A39: =+A38+1 -> 28 | B39: Millar de FOLLETOS | C39: Folleto plegable a 3 cuerpos refilado, impresión a full color, material en propalcote esmaltado, plastificado, tamaño carta 21,59 x27,94 cm (por millar (mil unidades) Diseños pór parte de la oficina de prensa | D39: PAQUETE POR MIL | E39: 2 | F39: =350000*1.19 -> 416500 | G39: PROMOCIONALES BORDADOS Y DOTACIONES | H39: 630000 | I39: ZOOM PUBLICIDAD | J39: 666400 | K39: NEO BRAND S.A.S | L39: =+COUNT(F39,H39,J39) -> 3 | M39: =+AVERAGE(F39,H39,J39) -> 570966.67 | N39: =+STDEVA(F39,H39,J39) -> 135004.46 | O39: =+N39/M39 -> 0.23644893 | Q39: =+MEDIAN(J39,H39,F39) -> 630000 | R39: =+_xlfn.CEILING.MATH(M39,50,FALSE) -> 571000 | S39: 2 | T39: =+R39*S39 -> 1142000
A40: =+A39+1 -> 29 | B40: MILLAR DE MARCALIBROS O SEPARADORES | C40: Marcalibro o separador de tamaño 8 cm x 2cm, impresión a full color, por dos caras, matertial en propalcote de 300gr | D40: PAQUETE POR MIL | E40: 1 | F40: =353728*1.19 -> 420936.32 | G40: NEO BRAND S.A.S | H40: =416500*1.19 -> 495635 | I40: PROMOCIONALES BORDADOS Y DOTACIONES | J40: =355000*1.19 -> 422450 | K40: ZOOM PUBLICIDAD | L40: =+COUNT(F40,H40,J40) -> 3 | M40: =+AVERAGE(F40,H40,J40) -> 446340.44 | N40: =+STDEVA(F40,H40,J40) -> 42697.05 | O40: =+N40/M40 -> 0.095660276 | Q40: =+MEDIAN(J40,H40,F40) -> 422450 | R40: =+_xlfn.CEILING.MATH(M40,50,FALSE) -> 446350 | S40: 1 | T40: =+R40*S40 -> 446350
A41: =+A40+1 -> 30 | B41: MILLAR DE MARCALIBROS O SEPARADORES | C41: Marcalibro o separador de tamaño 5,5cm x 14,5cm, impresión a full color, por dos caras, matertial en propalcote de 300gr | D41: PAQUETE POR MIL | E41: 1 | F41: =620000*1.19 -> 737800 | G41: NEO BRAND S.A.S | H41: 773500 | I41: PROMOCIONALES BORDADOS Y DOTACIONES | J41: =630000*1.19 -> 749700 | K41: ZOOM PUBLICIDAD | L41: =+COUNT(F41,H41,J41) -> 3 | M41: =+AVERAGE(F41,H41,J41) -> 753666.67 | N41: =+STDEVA(F41,H41,J41) -> 18177.55 | O41: =+N41/M41 -> 0.024118819 | Q41: =+MEDIAN(J41,H41,F41) -> 749700 | R41: =+_xlfn.CEILING.MATH(M41,50,FALSE) -> 753700 | S41: 1 | T41: =+R41*S41 -> 753700
...

Sheet PONDERACIÓN 
C2: OBJETO: PRESTAR LOS SERVICIOS DE CAPACITACIÓN EN PARTICIPACIÓN CIUDADANA, FORMULACIÓN DE PROYECTOS COMUNITARIOS Y DOTACIÓN DE ELEMENTOS A GRUPOS, ORGANIZACIONES E INSTANCIAS DE PARTICIPACIÓN, DE LA LOCALIDAD DE TUNJUELITO EN EL MARCO DEL PROYECTO 2069”
S4: ACEPTADA
S5: RECHAZADA
S6: NO HABILITADA
C10: FECHA DE REFERENCIA | D10: 45635 | E10: TRM | F10: 4396.52 | G10: DIGITOS TRM | H10: =+ROUND(ABS(F10-TRUNC(F10)),2) -> 0.52 | J10: FDLT SAMC 339-2024
B11: =+'PONDERACIÓN '!#REF! -> #REF! | C11: =+'PONDERACIÓN '!#REF! -> #REF! | E11: =+'PONDERACIÓN '!#REF! -> #REF! | F11: =+'PONDERACIÓN '!#REF! -> #REF! | G11: =+'PONDERACIÓN '!#REF! -> #REF! | H11: =+'PONDERACIÓN '!#REF! -> #REF! | I11: =+'PONDERACIÓN '!#REF! -> #REF!
C12: FECHA DE EVALUACION
C14: METODO DE EVALUACIÓN | D14: MEDIA GEOMETRICA CON PRESUPUESTO
C17: MEDIA GEOMETRICA | H17: =+GEOMEAN(H27:H42) -> 3.6119456e+08
C18: PRESUPUESTO | H18: =+PPTO!U53 -> 364000000
C20: PUNTAJE MÁXIMO | H20: 60
C26: PROPUESTA | D26: NIT | E26: EMPRESA | F26: VALOR PROPUESTA A | H26: TOTAL PROPUESTA | J26: DIFERENCIA DE LA MEDIA | K26: ESTADO | L26: PUNTAJE
C27: =+OFERENTES!B3 -> 2 | D27: =+OFERENTES!D3 -> Número de documento 900270491 | E27: =+OFERENTES!C3 -> STAR COP HUMANITY | F27: =+'FORMATO A'!AC53 -> 361004000 | G27: =+VLOOKUP(E27,'PRECIOS BAJOS'!$B$2:$D$14,3,FALSE) -> OK | H27: =IF(K27=$K$43,F27," ") -> 361004000 | J27: =IFERROR(ABS(+$H$17-H27)," ") -> 190556.54 | K27: ACEPTADA | L27: 60
C28: =+OFERENTES!B9 -> 8 | D28: =+OFERENTES!D9 -> Número de documento 830133329 | E28: =+OFERENTES!C9 -> FUNDESCO | F28: =+'FORMATO A'!BA53 -> 360974002 | G28: =+VLOOKUP(E28,'PRECIOS BAJOS'!$B$2:$D$14,3,FALSE) -> OK | H28: =IF(K28=$K$43,F28," ") -> 360974002 | J28: =IFERROR(ABS(+$H$17-H28)," ") -> 220554.54 | K28: ACEPTADA | L28: 55
C29: =+OFERENTES!B7 -> 6 | D29: =+OFERENTES!D7 -> Número de documento 901360556 | E29: =+OFERENTES!C7 -> Consultores y Asesores TIC | F29: =+'FORMATO A'!AS53 -> 360947750 | G29: =+VLOOKUP(E29,'PRECIOS BAJOS'!$B$2:$D$14,3,FALSE) -> OK | H29: =IF(K29=$K$43,F29," ") -> 360947750 | J29: =IFERROR(ABS(+$H$17-H29)," ") -> 246806.54 | K29: ACEPTADA | L29: 50
C30: =+OFERENTES!B4 -> 3 | D30: =+OFERENTES!D4 -> Número de documento 860401734 | E30: =+OFERENTES!C4 -> CUN | F30: =+'FORMATO A'!AG53 -> 361476099 | G30: =+VLOOKUP(E30,'PRECIOS BAJOS'!$B$2:$D$14,3,FALSE) -> OK | H30: =IF(K30=$K$43,F30," ") -> 361476099 | J30: =IFERROR(ABS(+$H$17-H30)," ") -> 281542.46 | K30: ACEPTADA
C31: =+OFERENTES!B13 -> 12 | D31: =+OFERENTES!D13 -> Número de documento 901189368 | E31: =+OFERENTES!C13 -> DOKUMA. CREATIVIDAD | F31: =+'FORMATO A'!BQ53 -> 360871610 | G31: =+VLOOKUP(E31,'PRECIOS BAJOS'!$B$2:$D$14,3,FALSE) -> OK | H31: =IF(K31=$K$43,F31," ") -> 360871610 | J31: =IFERROR(ABS(+$H$17-H31)," ") -> 322946.54 | K31: ACEPTADA
C32: =+OFERENTES!B2 -> 1 | D32: =+OFERENTES!D2 -> Número de documento 900018217 | E32: =+OFERENTES!C2 -> OTRO ROLLO SOCIAL | F32: =+'FORMATO A'!Y53 -> 359898550 | G32: =+VLOOKUP(E32,'PRECIOS BAJOS'!$B$2:$D$14,3,FALSE) -> OK | H32: =IF(K32=$K$43,F32," ") -> 359898550 | J32: =IFERROR(ABS(+$H$17-H32)," ") -> 1296006.5 | K32: ACEPTADA
C33: =+OFERENTES!B11 -> 10 | D33: =+OFERENTES!D11 -> Número de documento 830144794 | E33: =+OFERENTES!C11 -> CIDOR SAS | F33: =+'FORMATO A'!BI53 -> 359722934 | G33: =+VLOOKUP(E33,'PRECIOS BAJOS'!$B$2:$D$14,3,FALSE) -> OK | H33: =IF(K33=$K$43,F33," ") -> 359722934 | J33: =IFERROR(ABS(+$H$17-H33)," ") -> 1471622.5 | K33: ACEPTADA
C34: =+OFERENTES!B5 -> 4 | D34: =+OFERENTES!D5 -> Número de documento 800055691 | E34: =+OFERENTES!C5 -> FUNDACIÓN ALBERTO MERANI | F34: =+'FORMATO A'!AK53 -> 358831271 | G34: =+VLOOKUP(E34,'PRECIOS BAJOS'!$B$2:$D$14,3,FALSE) -> OK | H34: =IF(K34=$K$43,F34," ") -> 358831271 | J34: =IFERROR(ABS(+$H$17-H34)," ") -> 2363285.5 | K34: ACEPTADA
C35: =+OFERENTES!B6 -> 5 | D35: =+OFERENTES!D6 -> Número de documento 900300970 | E35: =+OFERENTES!C6 -> INDUHOTEL S.A.S | F35: =+'FORMATO A'!AO53 -> 358663448 | G35: =+VLOOKUP(E35,'PRECIOS BAJOS'!$B$2:$D$14,3,FALSE) -> OK | H35: =IF(K35=$K$43,F35," ") -> 358663448 | J35: =IFERROR(ABS(+$H$17-H35)," ") -> 2531108.5 | K35: ACEPTADA
C36: =+OFERENTES!B8 -> 7 | D36: =+OFERENTES!D8 -> Número de documento 900216251 | E36: =+OFERENTES!C8 -> ADIFCOL | F36: =+'FORMATO A'!AW53 -> 358451000 | G36: =+VLOOKUP(E36,'PRECIOS BAJOS'!$B$2:$D$14,3,FALSE) -> OK | H36: =IF(K36=$K$43,F36," ") | J36: =IFERROR(ABS(+$H$17-H36)," ") | K36: NO HABILITADA
C37: =+OFERENTES!B10 -> 9 | D37: =+OFERENTES!D10 -> Número de documento 830103750 | E37: =+OFERENTES!C10 -> FUNDACION COLOMBIA UTIL | F37: =+'FORMATO A'!BE53 -> 362794000 | G37: =+VLOOKUP(E37,'PRECIOS BAJOS'!$B$2:$D$14,3,FALSE) -> OK | H37: =IF(K37=$K$43,F37," ") | J37: =IFERROR(ABS(+$H$17-H37)," ") | K37: NO HABILITADA
C38: =+OFERENTES!B12 -> 11 | D38: =+OFERENTES!D12 -> Número de documento 900004535 | E38: =+OFERENTES!C12 -> CORSERVICOL | F38: =+'FORMATO A'!BM53 -> 357167550 | G38: =+VLOOKUP(E38,'PRECIOS BAJOS'!$B$2:$D$14,3,FALSE) -> OK | H38: =IF(K38=$K$43,F38," ") | J38: =IFERROR(ABS(+$H$17-H38)," ") | K38: NO HABILITADA
C39: =+OFERENTES!B14 -> 13 | D39: =+OFERENTES!D14 -> Número de documento 800181439 | E39: =+OFERENTES!C14 -> BONGA BUSTAMANTE SAS | F39: =+'FORMATO A'!BU53 -> 368253118 | G39: =+VLOOKUP(E39,'PRECIOS BAJOS'!$B$2:$D$14,3,FALSE) -> OK | H39: =IF(K39=$K$43,F39," ") | K39: NO HABILITADA
E40: PPTO 1 | F40: =+H18 -> 364000000 | H40: =+F40 -> 364000000
E41: PPTO 2 | F41: =+F40 -> 364000000 | H41: =+F41 -> 364000000
E42: PPTO 3 | F42: =+F41 -> 364000000 | H42: =+F42 -> 364000000
K43: ACEPTADA
C45: =+IF(#REF!=TRUE,(#REF!+1)," ") -> #REF!
B46: OBSERVACIONES: 1. Se rechaza propoente 13. BONGA BUSTAMANTE por incurrir en causal de rechazo 25. Cuando la propuesta esté incompleta por no incluir alguno de los documentos exigidos en este pliego de condiciones o cuando contengan defectos no subsanables generadores de rechazo, todo lo cual según lo dispuesto en este pliego de condiciones y en armonía con lo previsto en el parágrafo 1 del artículo 5º de la Ley 1150 de 2007. Esto por cuanto no se diligenció completo formato Bolsa " y "14. Cuando se presenten propuestas parciales o incompletas. 2. Se rechaza proponente 7. ADIFICOL por causal 21. Cuando los oferentes incluyan condicionamientos diferentes o las actividades ofrecidas no se ajusten a todas y cada una de las actividades, condiciones y especificaciones técnicas descritas en el presente pliego de condiciones, al ofertar un valor diferente al esgablecido para los items 8 y 9 3. Se rechaza proponente 11. CORSERVICOL al incurrir en causal 14. Cuando se presenten propuestas parciales o incompletas., esto para el item 10, al no estar diligenciado. Se rechaza proponente 9. Fundación Colombia Util al incurrir en causal de rechazo "Cuando el valor de los precios unitarios ofertados supere el valor promedio de los precios unitarios indicados en el estudio de mercado y/o el estudio del Sector realizado por el Fondo." Esto para el item 34
C55: DAVID ANDRÉS SÁNCHEZ BOGOTÁ
C56: CONTRATISTA

Sheet OFERENTES
B2: 1 | C2: OTRO ROLLO SOCIAL | D2: Número de documento 900018217
B3: 2 | C3: STAR COP HUMANITY | D3: Número de documento 900270491
B4: 3 | C4: CUN | D4: Número de documento 860401734
B5: 4 | C5: FUNDACIÓN ALBERTO MERANI | D5: Número de documento 800055691
B6: 5 | C6: INDUHOTEL S.A.S | D6: Número de documento 900300970
B7: 6 | C7: Consultores y Asesores TIC | D7: Número de documento 901360556
B8: 7 | C8: ADIFCOL | D8: Número de documento 900216251
B9: 8 | C9: FUNDESCO | D9: Número de documento 830133329
B10: 9 | C10: FUNDACION COLOMBIA UTIL | D10: Número de documento 830103750
B11: 10 | C11: CIDOR SAS | D11: Número de documento 830144794
B12: 11 | C12: CORSERVICOL | D12: Número de documento 900004535
B13: 12 | C13: DOKUMA. CREATIVIDAD | D13: Número de documento 901189368
B14: 13 | C14: BONGA BUSTAMANTE SAS | D14: Número de documento 800181439
B29: Posición | C29: Proveedor
B30: 1 | C30: OTRO ROLLO SOCIAL | D30: Número de documento 900018217
B31: 2 | C31: STAR COP HUMANITY | D31: Número de documento 900270491
B32: 3 | C32: CUN | D32: Número de documento 860401734
B33: 4 | C33: FUNDACIÓN ALBERTO MERANI | D33: Número de documento 800055691
B34: 5 | C34: INDUHOTEL S.A.S | D34: Número de documento 900300970
B35: 6 | C35: Consultores y Asesores TIC | D35: Número de documento 901360556
B36: 7 | C36: ADIFCOL | D36: Número de documento 900216251
B37: 8 | C37: FUNDESCO | D37: Número de documento 830133329
B38: 9 | C38: FUNDACION COLOMBIA UTIL | D38: Número de documento 830103750
B39: 10 | C39: CIDOR SAS | D39: Número de documento 830144794
B40: 11 | C40: CORSERVICOL | D40: Número de documento 900004535
B41: 12 | C41: DOKUMA. CREATIVIDAD | D41: Número de documento 901189368
B42: 13 | C42: BONGA BUSTAMANTE SAS | D42: Número de documento 800181439

Sheet PRECIOS BAJOS
A1: Position | B1: proveedor | C1: VALOR PROPUESTA LOTE 1 | D1: REQUERIR | E1: JUSTIFICACION
A2: =+'PONDERACIÓN '!C27 -> 2 | B2: =+'PONDERACIÓN '!E27 -> STAR COP HUMANITY | C2: =+'PONDERACIÓN '!H27 -> 361004000 | D2: =+IF(C2>$G$9,"OK","REQUERIR") -> OK
A3: =+'PONDERACIÓN '!C28 -> 8 | B3: =+'PONDERACIÓN '!E28 -> FUNDESCO | C3: =+'PONDERACIÓN '!H28 -> 360974002 | D3: =+IF(C3>$G$9,"OK","REQUERIR") -> OK | F3: CANTIDAD DE PROPUESTAS | G3: =+COUNTIF(C2:C15,">0") -> 9
A4: =+'PONDERACIÓN '!C29 -> 6 | B4: =+'PONDERACIÓN '!E29 -> Consultores y Asesores TIC | C4: =+'PONDERACIÓN '!H29 -> 360947750 | D4: =+IF(C4>$G$9,"OK","REQUERIR") -> OK | F4: PROMEDIO | G4: =+AVERAGE(C2:C16) -> 3.6026552e+08
A5: =+'PONDERACIÓN '!C30 -> 3 | B5: =+'PONDERACIÓN '!E30 -> CUN | C5: =+'PONDERACIÓN '!H30 -> 361476099 | D5: =+IF(C5>$G$9,"OK","REQUERIR") -> OK | F5: DESVIACION ESTANDAR | G5: =+_xlfn.STDEV.P(C2:C16) -> 965997.2
A6: =+'PONDERACIÓN '!C31 -> 12 | B6: =+'PONDERACIÓN '!E31 -> DOKUMA. CREATIVIDAD | C6: =+'PONDERACIÓN '!H31 -> 360871610 | D6: =+IF(C6>$G$9,"OK","REQUERIR") -> OK | F6: MEDIANA | G6: =+MEDIAN(C2:C16) -> 360871610
A7: =+'PONDERACIÓN '!C32 -> 1 | B7: =+'PONDERACIÓN '!E32 -> OTRO ROLLO SOCIAL | C7: =+'PONDERACIÓN '!H32 -> 359898550 | D7: OK | F7: PRESUPUESTO OFICIAL | G7: =+'PONDERACIÓN '!H18 -> 364000000
A8: =+'PONDERACIÓN '!C33 -> 10 | B8: =+'PONDERACIÓN '!E33 -> CIDOR SAS | C8: =+'PONDERACIÓN '!H33 -> 359722934 | D8: OK | F8: PORCENTAJE | G8: 0.2
A9: =+'PONDERACIÓN '!C34 -> 4 | B9: =+'PONDERACIÓN '!E34 -> FUNDACIÓN ALBERTO MERANI | C9: =+'PONDERACIÓN '!H34 -> 358831271 | D9: OK | F9: MINIMO ACEPTABLE | G9: =+G6-G5 -> 3.5990561e+08
A10: =+'PONDERACIÓN '!C35 -> 5 | B10: =+'PONDERACIÓN '!E35 -> INDUHOTEL S.A.S | C10: =+'PONDERACIÓN '!H35 -> 358663448 | D10: OK | F10: MINIMO ACEPTABLE < 5 proponentes | G10: =+G7*(1-G8) -> 291200000
A11: =+'PONDERACIÓN '!C36 -> 7 | B11: =+'PONDERACIÓN '!E36 -> ADIFCOL | C11: =+'PONDERACIÓN '!H36 | D11: =+IF(C11>$G$9,"OK","REQUERIR") -> OK
A12: =+'PONDERACIÓN '!C37 -> 9 | B12: =+'PONDERACIÓN '!E37 -> FUNDACION COLOMBIA UTIL | C12: =+'PONDERACIÓN '!H37 | D12: =+IF(C12>$G$9,"OK","REQUERIR") -> OK
A13: =+'PONDERACIÓN '!C38 -> 11 | B13: =+'PONDERACIÓN '!E38 -> CORSERVICOL | C13: =+'PONDERACIÓN '!H38 | D13: =+IF(C13>$G$9,"OK","REQUERIR") -> OK
A14: =+'PONDERACIÓN '!C39 -> 13 | B14: =+'PONDERACIÓN '!E39 -> BONGA BUSTAMANTE SAS | C14: =+'PONDERACIÓN '!H39 | D14: =+IF(C14>$G$9,"OK","REQUERIR") -> OK

Sheet FORMATO A
A1: ESTUDIO DE MERCADO OBJETO: “PRESTAR LOS SERVICIOS DE CAPACITACIÓN EN PARTICIPACIÓN CIUDADANA, FORMULACIÓN DE PROYECTOS COMUNITARIOS Y DOTACIÓN DE ELEMENTOS A GRUPOS, ORGANIZACIONES E INSTANCIAS DE PARTICIPACIÓN, DE LA LOCALIDAD DE TUNJUELITO EN EL MARCO DEL PROYECTO 2069”
A2: NOMBRE DEL PROYECTO 2069 | W2: 1 | X2: =+VLOOKUP('FORMATO A'!W2,OFERENTES!$B$2:$D$26,2,FALSE) -> OTRO ROLLO SOCIAL | Y2: =+VLOOKUP('FORMATO A'!W2,OFERENTES!$B$2:$D$26,3,FALSE) -> Número de documento 900018217 | AA2: 2 | AB2: =+VLOOKUP('FORMATO A'!AA2,OFERENTES!$B$2:$D$26,2,FALSE) -> STAR COP HUMANITY | AC2: =+VLOOKUP('FORMATO A'!AA2,OFERENTES!$B$2:$D$26,3,FALSE) -> Número de documento 900270491 | AE2: 3 | AF2: =+VLOOKUP('FORMATO A'!AE2,OFERENTES!$B$2:$D$26,2,FALSE) -> CUN | AG2: =+VLOOKUP('FORMATO A'!AE2,OFERENTES!$B$2:$D$26,3,FALSE) -> Número de documento 860401734 | AI2: 4 | AJ2: =+VLOOKUP('FORMATO A'!AI2,OFERENTES!$B$2:$D$26,2,FALSE) -> FUNDACIÓN ALBERTO MERANI | AK2: =+VLOOKUP('FORMATO A'!AI2,OFERENTES!$B$2:$D$26,3,FALSE) -> Número de documento 800055691 | AM2: 5 | AN2: =+VLOOKUP('FORMATO A'!AM2,OFERENTES!$B$2:$D$26,2,FALSE) -> INDUHOTEL S.A.S | AO2: =+VLOOKUP('FORMATO A'!AM2,OFERENTES!$B$2:$D$26,3,FALSE) -> Número de documento 900300970 | AQ2: 6 | AR2: =+VLOOKUP('FORMATO A'!AQ2,OFERENTES!$B$2:$D$26,2,FALSE) -> Consultores y Asesores TIC | AS2: =+VLOOKUP('FORMATO A'!AQ2,OFERENTES!$B$2:$D$26,3,FALSE) -> Número de documento 901360556 | AU2: 7 | AV2: =+VLOOKUP('FORMATO A'!AU2,OFERENTES!$B$2:$D$26,2,FALSE) -> ADIFCOL | AW2: =+VLOOKUP('FORMATO A'!AU2,OFERENTES!$B$2:$D$26,3,FALSE) -> Número de documento 900216251 | AY2: 8 | AZ2: =+VLOOKUP('FORMATO A'!AY2,OFERENTES!$B$2:$D$26,2,FALSE) -> FUNDESCO | BA2: =+VLOOKUP('FORMATO A'!AY2,OFERENTES!$B$2:$D$26,3,FALSE) -> Número de documento 830133329 | BC2: 9 | BD2: =+VLOOKUP('FORMATO A'!BC2,OFERENTES!$B$2:$D$26,2,FALSE) -> FUNDACION COLOMBIA UTIL | BE2: =+VLOOKUP('FORMATO A'!BC2,OFERENTES!$B$2:$D$26,3,FALSE) -> Número de documento 830103750 | BG2: 10 | BH2: =+VLOOKUP('FORMATO A'!BG2,OFERENTES!$B$2:$D$26,2,FALSE) -> CIDOR SAS | BI2: =+VLOOKUP('FORMATO A'!BG2,OFERENTES!$B$2:$D$26,3,FALSE) -> Número de documento 830144794 | BK2: 11 | BL2: =+VLOOKUP('FORMATO A'!BK2,OFERENTES!$B$2:$D$26,2,FALSE) -> CORSERVICOL | BM2: =+VLOOKUP('FORMATO A'!BK2,OFERENTES!$B$2:$D$26,3,FALSE) -> Número de documento 900004535 | BO2: 12 | BP2: =+VLOOKUP('FORMATO A'!BO2,OFERENTES!$B$2:$D$26,2,FALSE) -> DOKUMA. CREATIVIDAD | BQ2: =+VLOOKUP('FORMATO A'!BO2,OFERENTES!$B$2:$D$26,3,FALSE) -> Número de documento 901189368 | BS2: 13 | BT2: =+VLOOKUP('FORMATO A'!BS2,OFERENTES!$B$2:$D$26,2,FALSE) -> BONGA BUSTAMANTE SAS | BU2: =+VLOOKUP('FORMATO A'!BS2,OFERENTES!$B$2:$D$26,3,FALSE) -> Número de documento 800181439
A3: NO. | B3: ITEM | C3: DETALLE CONCEPTO | D3: Unidad de Medida | E3: Cot. 01 IVA Incluido | F3: Empresa Cotizante 01 | G3: Cot. 02 IVA Incluido | H3: Empresa Cotizante 02 | I3: Cot. 03 IVA Incluido | J3: Empresa Cotizante 03 | K3: Cot. 04 IVA Incluido | L3: Empresa Cotizante 04 | M3: No. de Cotizaciones | N3: MEDIANA | O3: DESVIACIÓN ESTANDAR | P3: PORCENTAJE DESVIACION | Q3: VALOR PROMEDIO UNITARIO IVA INCLUIDO | R3: VALOR UNITARIO IVA INCLUIDO (VIGENCIA 2024) (REDONDEADO AL MÚLTIPLO DE 50 MÁS CERCANO SUPERIOR) | S3: CANTIDAD | T3: VALOR TOTAL CON IVA | W3: Valor unitario incluido IVA (Si aplica) | X3: Valor unitario incluido IVA (Si aplica) (REDONDEADO | Y3: Valor total incluido IVA (Si aplica) | Z3: VALIDACIÓN | AA3: Valor unitario incluido IVA (Si aplica) | AB3: Valor unitario incluido IVA (Si aplica) (REDONDEADO | AC3: Valor total incluido IVA (Si aplica) | AD3: VALIDACIÓN | AE3: Valor unitario incluido IVA (Si aplica) | AF3: Valor unitario incluido IVA (Si aplica) (REDONDEADO | AG3: Valor total incluido IVA (Si aplica) | AH3: VALIDACIÓN | AI3: Valor unitario incluido IVA (Si aplica) | AJ3: Valor unitario incluido IVA (Si aplica) (REDONDEADO | AK3: Valor total incluido IVA (Si aplica) | AL3: VALIDACIÓN | AM3: Valor unitario incluido IVA (Si aplica) | AN3: Valor unitario incluido IVA (Si aplica) (REDONDEADO | AO3: Valor total incluido IVA (Si aplica) | AP3: VALIDACIÓN | AQ3: Valor unitario incluido IVA (Si aplica) | AR3: Valor unitario incluido IVA (Si aplica) (REDONDEADO | AS3: Valor total incluido IVA (Si aplica) | AT3: VALIDACIÓN | AU3: Valor unitario incluido IVA (Si aplica) | AV3: Valor unitario incluido IVA (Si aplica) (REDONDEADO | AW3: Valor total incluido IVA (Si aplica) | AX3: VALIDACIÓN | AY3: Valor unitario incluido IVA (Si aplica) | AZ3: Valor unitario incluido IVA (Si aplica) (REDONDEADO | BA3: Valor total incluido IVA (Si aplica) | BB3: VALIDACIÓN | BC3: Valor unitario incluido IVA (Si aplica) | BD3: Valor unitario incluido IVA (Si aplica) (REDONDEADO | BE3: Valor total incluido IVA (Si aplica) | BF3: VALIDACIÓN | BG3: Valor unitario incluido IVA (Si aplica) | BH3: Valor unitario incluido IVA (Si aplica) (REDONDEADO | BI3: Valor total incluido IVA (Si aplica) | BJ3: VALIDACIÓN | BK3: Valor unitario incluido IVA (Si aplica) | BL3: Valor unitario incluido IVA (Si aplica) (REDONDEADO | BM3: Valor total incluido IVA (Si aplica) | BN3: VALIDACIÓN | BO3: Valor unitario incluido IVA (Si aplica) | BP3: Valor unitario incluido IVA (Si aplica) (REDONDEADO | BQ3: Valor total incluido IVA (Si aplica) | BR3: VALIDACIÓN | BS3: Valor unitario incluido IVA (Si aplica) | BT3: Valor unitario incluido IVA (Si aplica) (REDONDEADO | BU3: Valor total incluido IVA (Si aplica) | BV3: VALIDACIÓN
A5: Componente 1. Presupuestos participativos - Proceso de formación para la participación Expedición agroecológica en tren por la Sabana de Bogotá
A6: 1 | B6: CHAQUETA SIN ACOLCHAR TIPO ROMPEVIENTOS | C6: Tejido de resistencia al frío y el viento 100% poliéster y ultraligeros; Zona frontal con pro-tección contra el viento, zona de espalda tejido micromesh o rejilla para una correcta transpira-ción. Debe de proteger el cuello; Cremallera que no se enganche y que tenga un buen tirador para poder abrirlo, quitarlo y ponerlo en marcha con o sin guantes; Bolsillos traseros y también acceso fácil a los bolsillos del maillot o chaqueta; Deta-lles reflectantes o colores brillantes y llamativos para ser visibles tallas para adultos, con logotipos de la Alcaldía y del colectivo | D6: Unidad | E6: =60000*1.19 -> 71400 | F6: PROMOCIONALES BORDADOS Y DOTACIONES | G6: =70000*1.19 -> 83300 | H6: ZOOM | I6: =50000*1.19 -> 59500 | J6: SENI | M6: =+COUNT(E6,G6,I6) -> 3 | N6: =+MEDIAN(E6,G6,I6) -> 71400 | O6: =+STDEVA(I6,G6,E6) -> 11900 | P6: =+O6/N6 -> 0.16666667 | Q6: =+AVERAGE(E6,G6,I6) -> 71400 | R6: =+_xlfn.CEILING.MATH(Q6,50,FALSE) -> 71400 | S6: 140 | T6: =+R6*S6 -> 9996000 | W6: 68000 | X6: =+ROUND(W6,0) -> 68000 | Y6: =+X6*$S6 -> 9520000 | Z6: =+IF(OR(X6>$R6,X6=0,Y6>$T6),"RECHAZADO","ACEPTADA") -> ACEPTADA | AA6: 50000 | AB6: =+ROUND(AA6,0) -> 50000 | AC6: =+AB6*$S6 -> 7000000 | AD6: =+IF(OR(AB6>$R6,AB6=0,AC6>$T6),"RECHAZADO","ACEPTADA") -> ACEPTADA | AE6: 71400 | AF6: =+ROUND(AE6,0) -> 71400 | AG6: =+AF6*$S6 -> 9996000 | AH6: =+IF(OR(AF6>$R6,AF6=0,AG6>$T6),"RECHAZADO","ACEPTADA") -> ACEPTADA | AI6: 67861 | AJ6: =+ROUND(AI6,0) -> 67861 | AK6: =+AJ6*$S6 -> 9500540 | AL6: =+IF(OR(AJ6>$R6,AJ6=0,AK6>$T6),"RECHAZADO","ACEPTADA") -> ACEPTADA | AM6: 68544 | AN6: =+ROUND(AM6,0) -> 68544 | AO6: =+AN6*$S6 -> 9596160 | AP6: =+IF(OR(AN6>$R6,AN6=0,AO6>$T6),"RECHAZADO","ACEPTADA") -> ACEPTADA | AQ6: 68000 | AR6: =+ROUND(AQ6,0) -> 68000 | AS6: =+AR6*$S6 -> 9520000 | AT6: =+IF(OR(AR6>$R6,AR6=0,AS6>$T6),"RECHAZADO","ACEPTADA") -> ACEPTADA | AU6: 70000 | AV6: =+ROUND(AU6,0) -> 70000 | AW6: =+AV6*$S6 -> 9800000 | AX6: =+IF(OR(AV6>$R6,AV6=0,AW6>$T6),"RECHAZADO","ACEPTADA") -> ACEPTADA | AY6: 69320.388 | AZ6: =+ROUND(AY6,0) -> 69320 | BA6: =+AZ6*$S6 -> 9704800 | BB6: =+IF(OR(AZ6>$R6,AZ6=0,BA6>$T6),"RECHAZADO","ACEPTADA") -> ACEPTADA | BC6: 64500 | BD6: =+ROUND(BC6,0) -> 64500 | BE6: =+BD6*$S6 -> 9030000 | BF6: =+IF(OR(BD6>$R6,BD6=0,BE6>$T6),"RECHAZADO","ACEPTADA") -> ACEPTADA | BG6: 68200 | BH6: =+ROUND(BG6,0) -> 68200 | BI6: =+BH6*$S6 -> 9548000 | BJ6: =+IF(OR(BH6>$R6,BH6=0,BI6>$T6),"RECHAZADO","ACEPTADA") -> ACEPTADA | BK6: 69000 | BL6: =+ROUND(BK6,0) -> 69000 | BM6: =+BL6*$S6 -> 9660000 | BN6: =+IF(OR(BL6>$R6,BL6=0,BM6>$T6),"RECHAZADO","ACEPTADA") -> ACEPTADA | BO6: 69258 | BP6: =+ROUND(BO6,0) -> 69258 | BQ6: =+BP6*$S6 -> 9696120 | BR6: =+IF(OR(BP6>$R6,BP6=0,BQ6>$T6),"RECHAZADO","ACEPTADA") -> ACEPTADA | BS6: 69800 | BT6: =+ROUND(BS6,0) -> 69800 | BU6: =+BT6*$S6 -> 9772000 | BV6: =+IF(OR(BT6>$R6,BT6=0,BU6>$T6),"RECHAZADO","ACEPTADA") -> ACEPTADA
A7: 2 | B7: SOMBRERO SAFARI | C7: Sombrero safari protección sol, cuello solapa pesca, deportivo, en material de dril, talla única estandar, con logos del colectivo de la Alcaldía. | D7: UNIDAD | E7: =15000*1.19 -> 17850 | F7: PROMOCIONALES BORDADOS Y DOTACIONES | G7: =18000*1.19 -> 21420 | H7: ZOOM | I7: =17850*1.19 -> 21241.5 | J7: NEO BRAND S.A.S | M7: =+COUNT(E7,G7,I7) -> 3 | N7: =+MEDIAN(E7,G7,I7) -> 21241.5 | O7: =+STDEVA(I7,G7,E7) -> 2011.5928 | P7: =+O7/N7 -> 0.094701073 | Q7: =+AVERAGE(E7,G7,I7) -> 20170.5 | R7: =+_xlfn.CEILING.MATH(Q7,50,FALSE) -> 20200 | S7: 140 | T7: =+R7*S7 -> 2828000 | W7: 19000 | X7: =+ROUND(W7,0) -> 19000 | Y7: =+X7*$S7 -> 2660000 | Z7: =+IF(OR(X7>$R7,X7=0,Y7>$T7),"RECHAZADO","ACEPTADA") -> ACEPTADA | AA7: 20200 | AB7: =+ROUND(AA7,0) -> 20200 | AC7: =+AB7*$S7 -> 2828000 | AD7: =+IF(OR(AB7>$R7,AB7=0,AC7>$T7),"RECHAZADO","ACEPTADA") -> ACEPTADA | AE7: 20000 | AF7: =+ROUND(AE7,0) -> 20000 | AG7: =+AF7*$S7 -> 2800000 | AH7: =+IF(OR(AF7>$R7,AF7=0,AG7>$T7),"RECHAZADO","ACEPTADA") -> ACEPTADA | AI7: 19199 | AJ7: =+ROUND(AI7,0) -> 19199 | AK7: =+AJ7*$S7 -> 2687860 | AL7: =+IF(OR(AJ7>$R7,AJ7=0,AK7>$T7),"RECHAZADO","ACEPTADA") -> ACEPTADA | AM7: 19796 | AN7: =+ROUND(AM7,0) -> 19796 | AO7: =+AN7*$S7 -> 2771440 | AP7: =+IF(OR(AN7>$R7,AN7=0,AO7>$T7),"RECHAZADO","ACEPTADA") -> ACEPTADA | AQ7: 19000 | AR7: =+ROUND(AQ7,0) -> 19000 | AS7: =+AR7*$S7 -> 2660000 | AT7: =+IF(OR(AR7>$R7,AR7=0,AS7>$T7),"RECHAZADO","ACEPTADA") -> ACEPTADA | AU7: 20200 | AV7: =+ROUND(AU7,0) -> 20200 | AW7: =+AV7*$S7 -> 2828000 | AX7: =+IF(OR(AV7>$R7,AV7=0,AW7>$T7),"RECHAZADO","ACEPTADA") -> ACEPTADA | AY7: 19611.65 | AZ7: =+ROUND(AY7,0) -> 19612 | BA7: =+AZ7*$S7 -> 2745680 | BB7: =+IF(OR(AZ7>$R7,AZ7=0,BA7>$T7),"RECHAZADO","ACEPTADA") -> ACEPTADA | BC7: 20200 | BD7: =+ROUND(BC7,0) -> 20200 | BE7: =+BD7*$S7 -> 2828000 | BF7: =+IF(OR(BD7>$R7,BD7=0,BE7>$T7),"RECHAZADO","ACEPTADA") -> ACEPTADA | BG7: 19280 | BH7: =+ROUND(BG7,0) -> 19280 | BI7: =+BH7*$S7 -> 2699200 | BJ7: =+IF(OR(BH7>$R7,BH7=0,BI7>$T7),"RECHAZADO","ACEPTADA") -> ACEPTADA | BK7: 19500 | BL7: =+ROUND(BK7,0) -> 19500 | BM7: =+BL7*$S7 -> 2730000 | BN7: =+IF(OR(BL7>$R7,BL7=0,BM7>$T7),"RECHAZADO","ACEPTADA") -> ACEPTADA | BO7: 19594 | BP7: =+ROUND(BO7,0) -> 19594 | BQ7: =+BP7*$S7 -> 2743160 | BR7: =+IF(OR(BP7>$R7,BP7=0,BQ7>$T7),"RECHAZADO","ACEPTADA") -> ACEPTADA | BS7: 18800 | BT7: =+ROUND(BS7,0) -> 18800 | BU7: =+BT7*$S7 -> 2632000 | BV7: =+IF(OR(BT7>$R7,BT7=0,BU7>$T7),"RECHAZADO","ACEPTADA") -> ACEPTADA
A8: 3 | B8: SOMBRILLA PLEGABLE | C8: Sombrilla automática de mango de lujo 10 varillas, tamaño mediano, tela anti-fluido, con filtro UV, sublimada con logos del comité y de la Alcaldía, en dos de sus caras, color a definición de acuerdo a la solicitud del Fondo de Desarrollo Local. | D8: UNIDAD | E8: 29655 | F8: NEO BRAND S.A.S | G8: =15000*1.19 -> 17850 | H8: ZOOM | I8: =16000*1.19 -> 19040 | J8: SENI | M8: =+COUNT(E8,G8,I8) -> 3 | N8: =+MEDIAN(E8,G8,I8) -> 19040 | O8: =+STDEVA(I8,G8,E8) -> 6499.3891 | P8: =+O8/N8 -> 0.34135447 | Q8: =+AVERAGE(E8,G8,I8) -> 22181.667 | R8: =+_xlfn.CEILING.MATH(Q8,50,FALSE) -> 22200 | S8: 140 | T8: =+R8*S8 -> 3108000 | W8: 21000 | X8: =+ROUND(W8,0) -> 21000 | Y8: =+X8*$S8 -> 2940000 | Z8: =+IF(OR(X8>$R8,X8=0,Y8>$T8),"RECHAZADO","ACEPTADA") -> ACEPTADA | AA8: 22200 | AB8: =+ROUND(AA8,0) -> 22200 | AC8: =+AB8*$S8 -> 3108000 | AD8: =+IF(OR(AB8>$R8,AB8=0,AC8>$T8),"RECHAZADO","ACEPTADA") -> ACEPTADA | AE8: 22000 | AF8: =+ROUND(AE8,0) -> 22000 | AG8: =+AF8*$S8 -> 3080000 | AH8: =+IF(OR(AF8>$R8,AF8=0,AG8>$T8),"RECHAZADO","ACEPTADA") -> ACEPTADA | AI8: 21099 | AJ8: =+ROUND(AI8,0) -> 21099 | AK8: =+AJ8*$S8 -> 2953860 | AL8: =+IF(OR(AJ8>$R8,AJ8=0,AK8>$T8),"RECHAZADO","ACEPTADA") -> ACEPTADA | AM8: 21756 | AN8: =+ROUND(AM8,0) -> 21756 | AO8: =+AN8*$S8 -> 3045840 | AP8: =+IF(OR(AN8>$R8,AN8=0,AO8>$T8),"RECHAZADO","ACEPTADA") -> ACEPTADA | AQ8: 21000 | AR8: =+ROUND(AQ8,0) -> 21000 | AS8: =+AR8*$S8 -> 2940000 | AT8: =+IF(OR(AR8>$R8,AR8=0,AS8>$T8),"RECHAZADO","ACEPTADA") -> ACEPTADA | AU8: 22200 | AV8: =+ROUND(AU8,0) -> 22200 | AW8: =+AV8*$S8 -> 3108000 | AX8: =+IF(OR(AV8>$R8,AV8=0,AW8>$T8),"RECHAZADO","ACEPTADA") -> ACEPTADA | AY8: 21553.398 | AZ8: =+ROUND(AY8,0) -> 21553 | BA8: =+AZ8*$S8 -> 3017420 | BB8: =+IF(OR(AZ8>$R8,AZ8=0,BA8>$T8),"RECHAZADO","ACEPTADA") -> ACEPTADA | BC8: 22200 | BD8: =+ROUND(BC8,0) -> 22200 | BE8: =+BD8*$S8 -> 3108000 | BF8: =+IF(OR(BD8>$R8,BD8=0,BE8>$T8),"RECHAZADO","ACEPTADA") -> ACEPTADA | BG8: 21180 | BH8: =+ROUND(BG8,0) -> 21180 | BI8: =+BH8*$S8 -> 2965200 | BJ8: =+IF(OR(BH8>$R8,BH8=0,BI8>$T8),"RECHAZADO","ACEPTADA") -> ACEPTADA | BK8: 21400 | BL8: =+ROUND(BK8,0) -> 21400 | BM8: =+BL8*$S8 -> 2996000 | BN8: =+IF(OR(BL8>$R8,BL8=0,BM8>$T8),"RECHAZADO","ACEPTADA") -> ACEPTADA | BO8: 21534 | BP8: =+ROUND(BO8,0) -> 21534 | BQ8: =+BP8*$S8 -> 3014760 | BR8: =+IF(OR(BP8>$R8,BP8=0,BQ8>$T8),"RECHAZADO","ACEPTADA") -> ACEPTADA | BS8: 20200 | BT8: =+ROUND(BS8,0) -> 20200 | BU8: =+BT8*$S8 -> 2828000 | BV8: =+IF(OR(BT8>$R8,BT8=0,BU8>$T8),"RECHAZADO","ACEPTADA") -> ACEPTADA
A9: COMPONENTE 1 ACTIVIDAD 2 SEMINARIOS EN VEEDURIA CIUDADANA (ACTIVIDAD 2) DOS SEMINARIOS DE 3 HORAS
A10: 4 | B10: BOLIGRAFOS PERSONALIZADOS | C10: Boligrafos personalizados con el logo de la Alcaldía y del colectivo, retractil y con resaltador en la cabeza del bolígrafo, en plástico, de tinta negra | D10: UNIDAD | E10: =1956*1.19 -> 2327.64 | F10: PROMOCIONALES BORDADOS Y DOTACIONES | G10: =2506*1.19 -> 2982.14 | H10: ZOOM | I10: =2500*1.19 -> 2975 | J10: SENI | M10: =+COUNT(E10,G10,I10) -> 3 | N10: =+MEDIAN(E10,G10,I10) -> 2975 | O10: =+STDEVA(I10,G10,E10) -> 375.83157 | P10: =+O10/N10 -> 0.12632994 | Q10: =+AVERAGE(E10,G10,I10) -> 2761.5933 | R10: =+_xlfn.CEILING.MATH(Q10,50,FALSE) -> 2800 | S10: 100 | T10: =+R10*S10 -> 280000 | W10: 2700 | X10: =+ROUND(W10,0) -> 2700 | Y10: =+X10*$S10 -> 270000 | Z10: =+IF(OR(X10>$R10,X10=0,Y10>$T10),"RECHAZADO","ACEPTADA") -> ACEPTADA | AA10: 2800 | AB10: =+ROUND(AA10,0) -> 2800 | AC10: =+AB10*$S10 -> 280000 | AD10: =+IF(OR(AB10>$R10,AB10=0,AC10>$T10),"RECHAZADO","ACEPTADA") -> ACEPTADA | AE10: 2000 | AF10: =+ROUND(AE10,0) -> 2000 | AG10: =+AF10*$S10 -> 200000 | AH10: =+IF(OR(AF10>$R10,AF10=0,AG10>$T10),"RECHAZADO","ACEPTADA") -> ACEPTADA | AI10: 2661 | AJ10: =+ROUND(AI10,0) -> 2661 | AK10: =+AJ10*$S10 -> 266100 | AL10: =+IF(OR(AJ10>$R10,AJ10=0,AK10>$T10),"RECHAZADO","ACEPTADA") -> ACEPTADA | AM10: 2800 | AN10: =+ROUND(AM10,0) -> 2800 | AO10: =+AN10*$S10 -> 280000 | AP10: =+IF(OR(AN10>$R10,AN10=0,AO10>$T10),"RECHAZADO","ACEPTADA") -> ACEPTADA | AQ10: 2665 | AR10: =+ROUND(AQ10,0) -> 2665 | AS10: =+AR10*$S10 -> 266500 | AT10: =+IF(OR(AR10>$R10,AR10=0,AS10>$T10),"RECHAZADO","ACEPTADA") -> ACEPTADA | AU10: 2800 | AV10: =+ROUND(AU10,0) -> 2800 | AW10: =+AV10*$S10 -> 280000 | AX10: =+IF(OR(AV10>$R10,AV10=0,AW10>$T10),"RECHAZADO","ACEPTADA") -> ACEPTADA | AY10: 2718.4466 | AZ10: =+ROUND(AY10,0) -> 2718 | BA10: =+AZ10*$S10 -> 271800 | BB10: =+IF(OR(AZ10>$R10,AZ10=0,BA10>$T10),"RECHAZADO","ACEPTADA") -> ACEPTADA | BC10: 2800 | BD10: =+ROUND(BC10,0) -> 2800 | BE10: =+BD10*$S10 -> 280000 | BF10: =+IF(OR(BD10>$R10,BD10=0,BE10>$T10),"RECHAZADO","ACEPTADA") -> ACEPTADA | BG10: 2670 | BH10: =+ROUND(BG10,0) -> 2670 | BI10: =+BH10*$S10 -> 267000 | BJ10: =+IF(OR(BH10>$R10,BH10=0,BI10>$T10),"RECHAZADO","ACEPTADA") -> ACEPTADA | BK10: 2700 | BL10: =+ROUND(BK10,0) -> 2700 | BM10: =+BL10*$S10 -> 270000 | BN10: =+IF(OR(BL10>$R10,BL10=0,BM10>$T10),"RECHAZADO","ACEPTADA") -> ACEPTADA | BO10: 2716 | BP10: =+ROUND(BO10,0) -> 2716 | BQ10: =+BP10*$S10 -> 271600 | BR10: =+IF(OR(BP10>$R10,BP10=0,BQ10>$T10),"RECHAZADO","ACEPTADA") -> ACEPTADA | BS10: 2761.5933 | BT10: =+ROUND(BS10,0) -> 2762 | BU10: =+BT10*$S10 -> 276200 | BV10: =+IF(OR(BT10>$R10,BT10=0,BU10>$T10),"RECHAZADO","ACEPTADA") -> ACEPTADA
A11: 5 | B11: Planeador mensual | C11: Planeador-Agenda: Con Pastas en madera MDF impresa de alta calidad. Hojas de Papel de caña de azúcar o papel reciclable Tamaño de la hoja approximado: 9.3 cm x 21.6 cm Dimensiones aproximadas: 22 cm x 11 cm x 2.5 c Con separa de hojas que tengan informaciòn sobre el proyecto. | D11: UNIDAD | E11: =23000*1.19 -> 27370 | F11: ZOOM | G11: =15000*1.19 -> 17850 | H11: SENI | M11: =+COUNT(E11,G11,I11) -> 2 | N11: =+MEDIAN(E11,G11) -> 22610 | O11: =+STDEVA(I11,G11,E11) -> 6731.6566 | P11: =+O11/N11 -> 0.29772917 | Q11: =+AVERAGE(E11,G11,I11) -> 22610 | R11: =+_xlfn.CEILING.MATH(Q11,50,FALSE) -> 22650 | S11: 100 | T11: =+R11*S11 -> 2265000 | W11: 22000 | X11: =+ROUND(W11,0) -> 22000 | Y11: =+X11*$S11 -> 2200000 | Z11: =+IF(OR(X11>$R11,X11=0,Y11>$T11),"RECHAZADO","ACEPTADA") -> ACEPTADA | AA11: 22650 | AB11: =+ROUND(AA11,0) -> 22650 | AC11: =+AB11*$S11 -> 2265000 | AD11: =+IF(OR(AB11>$R11,AB11=0,AC11>$T11),"RECHAZADO","ACEPTADA") -> ACEPTADA | AE11: 20000 | AF11: =+ROUND(AE11,0) -> 20000 | AG11: =+AF11*$S11 -> 2000000 | AH11: =+IF(OR(AF11>$R11,AF11=0,AG11>$T11),"RECHAZADO","ACEPTADA") -> ACEPTADA | AI11: 21528 | AJ11: =+ROUND(AI11,0) -> 21528 | AK11: =+AJ11*$S11 -> 2152800 | AL11: =+IF(OR(AJ11>$R11,AJ11=0,AK11>$T11),"RECHAZADO","ACEPTADA") -> ACEPTADA | AM11: 22197 | AN11: =+ROUND(AM11,0) -> 22197 | AO11: =+AN11*$S11 -> 2219700 | AP11: =+IF(OR(AN11>$R11,AN11=0,AO11>$T11),"RECHAZADO","ACEPTADA") -> ACEPTADA | AQ11: 21000 | AR11: =+ROUND(AQ11,0) -> 21000 | AS11: =+AR11*$S11 -> 2100000 | AT11: =+IF(OR(AR11>$R11,AR11=0,AS11>$T11),"RECHAZADO","ACEPTADA") -> ACEPTADA | AU11: 22650 | AV11: =+ROUND(AU11,0) -> 22650 | AW11: =+AV11*$S11 -> 2265000 | AX11: =+IF(OR(AV11>$R11,AV11=0,AW11>$T11),"RECHAZADO","ACEPTADA") -> ACEPTADA | AY11: 21990.291 | AZ11: =+ROUND(AY11,0) -> 21990 | BA11: =+AZ11*$S11 -> 2199000 | BB11: =+IF(OR(AZ11>$R11,AZ11=0,BA11>$T11),"RECHAZADO","ACEPTADA") -> ACEPTADA | BC11: 22650 | BD11: =+ROUND(BC11,0) -> 22650 | BE11: =+BD11*$S11 -> 2265000 | BF11: =+IF(OR(BD11>$R11,BD11=0,BE11>$T11),"RECHAZADO","ACEPTADA") -> ACEPTADA | BG11: 21615 | BH11: =+ROUND(BG11,0) -> 21615 | BI11: =+BH11*$S11 -> 2161500 | BJ11: =+IF(OR(BH11>$R11,BH11=0,BI11>$T11),"RECHAZADO","ACEPTADA") -> ACEPTADA | BK11: 22000 | BL11: =+ROUND(BK11,0) -> 22000 | BM11: =+BL11*$S11 -> 2200000 | BN11: =+IF(OR(BL11>$R11,BL11=0,BM11>$T11),"RECHAZADO","ACEPTADA") -> ACEPTADA | BO11: 21971 | BP11: =+ROUND(BO11,0) -> 21971 | BQ11: =+BP11*$S11 -> 2197100 | BR11: =+IF(OR(BP11>$R11,BP11=0,BQ11>$T11),"RECHAZADO","ACEPTADA") -> ACEPTADA | BS11: 20610 | BT11: =+ROUND(BS11,0) -> 20610 | BU11: =+BT11*$S11 -> 2061000 | BV11: =+IF(OR(BT11>$R11,BT11=0,BU11>$T11),"RECHAZADO","ACEPTADA") -> ACEPTADA
A12: 6 | B12: BOLSA EN TELA RESISTENTE | C12: Bolsa en tela impermeable o antifluido sublimada de tamaño de 40cm x 35 cm, con logos de la Alcaldía y del colectivo | D12: UNIDAD | E12: =4200*1.19 -> 4998 | F12: ZOOM | G12: =3500*1.19 -> 4165 | H12: SENI | I12: 4760 | J12: NEOBRAND | M12: =+COUNT(E12,G12,I12) -> 3 | N12: =+MEDIAN(E12,G12,I12) -> 4760 | O12: =+STDEVA(I12,G12,E12) -> 429.0606 | P12: =+O12/N12 -> 0.090138782 | Q12: =+AVERAGE(E12,G12,I12) -> 4641 | R12: =+_xlfn.CEILING.MATH(Q12,50,FALSE) -> 4650 | S12: 100 | T12: =+R12*S12 -> 465000 | W12: 4600 | X12: =+ROUND(W12,0) -> 4600 | Y12: =+X12*$S12 -> 460000 | Z12: =+IF(OR(X12>$R12,X12=0,Y12>$T12),"RECHAZADO","ACEPTADA") -> ACEPTADA | AA12: 4650 | AB12: =+ROUND(AA12,0) -> 4650 | AC12: =+AB12*$S12 -> 465000 | AD12: =+IF(OR(AB12>$R12,AB12=0,AC12>$T12),"RECHAZADO","ACEPTADA") -> ACEPTADA | AE12: 4000 | AF12: =+ROUND(AE12,0) -> 4000 | AG12: =+AF12*$S12 -> 400000 | AH12: =+IF(OR(AF12>$R12,AF12=0,AG12>$T12),"RECHAZADO","ACEPTADA") -> ACEPTADA | AI12: 4420 | AJ12: =+ROUND(AI12,0) -> 4420 | AK12: =+AJ12*$S12 -> 442000 | AL12: =+IF(OR(AJ12>$R12,AJ12=0,AK12>$T12),"RECHAZADO","ACEPTADA") -> ACEPTADA | AM12: 4650 | AN12: =+ROUND(AM12,0) -> 4650 | AO12: =+AN12*$S12 -> 465000 | AP12: =+IF(OR(AN12>$R12,AN12=0,AO12>$T12),"RECHAZADO","ACEPTADA") -> ACEPTADA | AQ12: 4400 | AR12: =+ROUND(AQ12,0) -> 4400 | AS12: =+AR12*$S12 -> 440000 | AT12: =+IF(OR(AR12>$R12,AR12=0,AS12>$T12),"RECHAZADO","ACEPTADA") -> ACEPTADA | AU12: 4650 | AV12: =+ROUND(AU12,0) -> 4650 | AW12: =+AV12*$S12 -> 465000 | AX12: =+IF(OR(AV12>$R12,AV12=0,AW12>$T12),"RECHAZADO","ACEPTADA") -> ACEPTADA | AY12: 4650 | AZ12: =+ROUND(AY12,0) -> 4650 | BA12: =+AZ12*$S12 -> 465000 | BB12: =+IF(OR(AZ12>$R12,AZ12=0,BA12>$T12),"RECHAZADO","ACEPTADA") -> ACEPTADA | BC12: 4650 | BD12: =+ROUND(BC12,0) -> 4650 | BE12: =+BD12*$S12 -> 465000 | BF12: =+IF(OR(BD12>$R12,BD12=0,BE12>$T12),"RECHAZADO","ACEPTADA") -> ACEPTADA | BG12: 4435 | BH12: =+ROUND(BG12,0) -> 4435 | BI12: =+BH12*$S12 -> 443500 | BJ12: =+IF(OR(BH12>$R12,BH12=0,BI12>$T12),"RECHAZADO","ACEPTADA") -> ACEPTADA | BK12: 4500 | BL12: =+ROUND(BK12,0) -> 4500 | BM12: =+BL12*$S12 -> 450000 | BN12: =+IF(OR(BL12>$R12,BL12=0,BM12>$T12),"RECHAZADO","ACEPTADA") -> ACEPTADA | BO12: 4511 | BP12: =+ROUND(BO12,0) -> 4511 | BQ12: =+BP12*$S12 -> 451100 | BR12: =+IF(OR(BP12>$R12,BP12=0,BQ12>$T12),"RECHAZADO","ACEPTADA") -> ACEPTADA | BS12: 4641 | BT12: =+ROUND(BS12,0) -> 4641 | BU12: =+BT12*$S12 -> 464100 | BV12: =+IF(OR(BT12>$R12,BT12=0,BU12>$T12),"RECHAZADO","ACEPTADA") -> ACEPTADA
