Workbook
Name CONTRATACIÓN: #REF!
Name Excel_BuiltIn__FilterDatabase: '[1]3'!#REF!
Name Excel_BuiltIn__FilterDatabase: '6. Factores Tec. y de Calid.'!#REF!
Name Excel_BuiltIn__FilterDatabase: '[2]5. Industria Nnal'!#REF!
Name Excel_BuiltIn__FilterDatabase: '[2]5. Industria Nnal'!#REF!
Name Excel_BuiltIn_Print_Titles: '[1]3'!#REF!
Name Excel_BuiltIn_Print_Titles: '6. Factores Tec. y de Calid.'!#REF!
Name Excel_BuiltIn_Print_Titles: '[2]5. Industria Nnal'!#REF!
Name Excel_BuiltIn_Print_Titles: '[2]5. Industria Nnal'!#REF!
Name HABILITADO: #REF!
Name SINO: #REF!

Sheet 1. Exp.Habilitante Proponente
B2: FONDO DE DESARROLLO LOCAL DEL KENNEDY
B4: PROCESO DE SELECCIÓN No. LP-11- 2024
B6: FORMATO - VERIFICACIÓN EXPERIENCIA MINIMA HABILITANTE DEL PROPONENTE
B9: OBJETO: | E9: BRINDAR SERVICIO DE ATENCIÓN PARA 9.000 ANIMALES DE COMPAÑÍA (CANINOS Y FELINOS) DE LA LOCALIDAD DE KENNEDY A TRAVÉS DE JORNADAS Y SERVICIOS DE ESTERILIZACIÓN, BRIGADAS MÉDICO-VETERINARIAS, URGENCIAS VETERINARIAS, ADOPCIÓN Y EDUCACIÓN PARA POBLACIÓN EN CONDICIÓN DE VULNERABILIDAD Y DE ESTRATOS 1, 2 Y 3, CON EL FIN DE MITIGAR LA SOBREPOBLACIÓN Y MEJORAR LA CALIDAD DE VIDA DE LOS ANIMALES
J11: UT BIENESTAR KENNEDY
N13: HABILITADO
B16: PROPONENTE (Persona Natural, Jurídica, Consorcio o Unión Temporal): | E16: =J11 -> UT BIENESTAR KENNEDY | H16: INTEGRANTE 1: | I16: CORPORACIÓN COLECTIVO DIGERATI | M16: PORCENTAJE DE PARTICIPACIÓN: | P16: 0.5
H17: INTEGRANTE 2: | I17: ASOCIACION ARKAMBIENTAL | M17: PORCENTAJE DE PARTICIPACIÓN: | P17: 0.5
H18: INTEGRANTE 3: | M18: PORCENTAJE DE PARTICIPACIÓN: | P18: 0
B20: PRESUPUESTO OFICIAL ESTIMADO | K20: 1300000000 | M20: PRESUPUESTO OFICIAL EN SMLMV - 2024 - 100%: | P20: 100
B21: REQUISITO: | E21: . Acreditar la experiencia solicitada con mínimo 2 y máximo cinco (5) contratos cuyo su objeto se encuentre relacionado con la ejecución de; esterilizaciones y/o urgencias y/o brigadas medico veterinarias en animales de compañía, en todo caso, uno de ellos debe estar relacionado en su objeto directamente con la realización de laboratorio clínico y/o procesamiento de muestras para animales
B22: CÓDIGOS RUP: | E22: 10111300 | F22: 41102600 | G22: 42121500 | H22: 42121600 | I22: 42281800 | J22: 701220
N24: RUP | O24: CUMPLE | P24: X
O25: NO CUMPLE
B27: EXPERIENCIA GENERAL
B28: No. | C28: NÚMERO DEL CONTRATO REGISTRADO EN EL RUP | D28: # PAGINA DEL RUP DONDE SE ENCUENTRA EL CONTRATO | E28: ENTIDAD CONTRATANTE | F28: OBJETO DEL CONTRATO | J28: SU OBJETO ESTA RELACIONADO CON LO REQUERIDO (SI / NO) nombre de archivo | L28: CODIGOS CLASIFICACIÓN UNSPSC | M28: NOMBRE PARTICIPANTE QUE APORTA LA EXPERIENCIA | N28: PORCENTAJE PARTICIPACION EN EL CONSORCIO O UNIÓN TEMPORAL | O28: VALOR DEL CONTRATO EN SMMLV RELACIONADOS EN EL RUP | P28: VALOR DEL CONTRATO EN SMMLV X PORCENTAJE PARTICIPACIÓN | Q28: OBSERVACIONES
B29: 1 | C29: 21 | E29: INSTITUTO DISTRITAL DE PROTECCION Y BIENESTAR ANIMAL | F29: CONTRATAR EL SERVICIO DE LABORATORIO CLINICO VETERINARIO PARA EL PROCESAMIENTO DE LAS MUESTRAS QUE SE REQUIERAN PARA LA ATENCION DE LA FAUNA DOMESTICA BAJO EL CUIDADO DEL INSTITUTO DISTRITAL DE PROTECCION Y BIENESTAR ANIMAL | J29: SI | L29: 10111300 41102600 42121500 42121600 42281800 | M29: CORPORACION COLECTIVO DIGERATI | N29: 1 | O29: 25.53 | P29: =O29*N29 -> 25.53
B30: 2 | C30: 85 | E30: ALCALDIA LOCAL DE USME | F30: ADELANTAR ACCIONES QUE FOMENTEN LA PROTECCIÓN Y ATENCIÓN EN UGRENCIAS VETERINARIAS Y ACCIONES DE ESTERILIZACIÓN EN LA LOCALIDAD DE USME | J30: SI | L30: 10111300 41102600 42121500 42121600 | M30: ASOCIACIÓN ARKAMBIENTAL | N30: 0.7 | O30: 771.59 | P30: =O30*N30 -> 540.113
B31: 3 | C31: 58 | E31: ALCALDIA LOCAL DE USME | F31: ADELANTAR ACCIONES QUE FOMENTEN LA PROTECCIÓN Y ATENCIÓN EN UGRENCIAS VETERINARIAS Y ACCIONES DE ESTERILIZACIÓN EN LA LOCALIDAD DE USME | J31: SI | L31: 10111300 41102600 42121500 42121600 | M31: Corporación Colectivo Digerati | N31: 0.3 | O31: 771.59 | P31: =O31*N31 -> 231.477
B32: 4 | C32: 38 | E32: DEPARTAMENTO DE CUNDINAMARCA -SECRETARIA DE AMBIENTE | F32: AUNAR ESFUERZOS ADMINISTRATIVOS, TECNICOS Y FINANCIEROS PARA "REALIZAR JORNADAS DE BIENESTAR ANIMAL Y PROCEDIMIENTOS QUIRURGICOS DE ESTERILIZACIÓN EN FELINOS Y CANINOS EN EL DEPARTAMENTO DE CUNDINAMARCA | J32: SI | L32: 10111300 41102600 42121600 42281800 701220 | M32: ASOCIACIÓN ARKAMBIENTAL | N32: 1 | O32: 352.43 | P32: =O32*N32 -> 352.43
B33: 5 | C33: 37 | E33: FONDO DE DESARROLLO LOCAL DE SANTAFE | F33: PRESTACION DE SERVICIOS DE PROTECCION Y BIENESTAR ANIMAL EN LA LOCALIDAD DE SANTAFE | J33: SI | L33: 41102600 42121500 42121600 | M33: CORPORACION COLECTIVO DIGERATI | N33: 0.6 | O33: 367.26 | P33: =O33*N33 -> 220.356 | Q33: Envia anexo tecnico donde se evidencia que las actividades corresponde a la experiencia solicitada por la entidad.
P34: =SUM(P29:P33) -> 1369.906 | Q34: CUMPLE
O39: 367.26

Sheet 2. Equipo de Trabajo
B2: FONDO DE DESARROLLO LOCAL DE KENNEDY
B3: PROCESO DE SELECCIÓN No. LP-11- 2024
B4: VERIFICACIÓN EQUIPO DE TRABAJO HABILITANTE
B5: OBJETO: | D5: ='1. Exp.Habilitante Proponente'!E9 -> BRINDAR SERVICIO DE ATENCIÓN PARA 9.000 ANIMALES DE COMPAÑÍA (CANINOS Y FELINOS) DE LA LOCALIDAD DE KENNEDY A TRAVÉS DE JORNADAS Y SERVICIOS DE ESTERILIZACIÓN, BRIGADAS MÉDICO-VETERINARIAS, URGENCIAS VETERINARIAS, ADOPCIÓN Y EDUCACIÓN PARA POBLACIÓN EN CONDICIÓN DE VULNERABILIDAD Y DE ESTRATOS 1, 2 Y 3, CON EL FIN DE MITIGAR LA SOBREPOBLACIÓN Y MEJORAR LA CALIDAD DE VIDA DE LOS ANIMALES
B7: PROPONENTE: | D7: 1. TALENTO COMERCIALIZADORA S.A
L9: No habilitado
B12: EQUIPO DE TRABAJO | G12: Coordinador/a General del Proyecto
B14: I. DATOS PERSONALES
B16: NOMBRE COMPLETO | F16: LAURA VICTORIA RUIZ GAITAN
B17: DOCUMENTO DE IDENTIDAD | F17: 1094914133
B18: PROFESION | F18: ADMINISTRADORA DE NEGOCIOS INTERNACIONALES
B19: TARJETA PROFESIONAL No. (SI APLICA) | G19: FECHA DE EXPEDICIÓN
B21: II. ESTUDIOS
B23: ESTUDIOS DE PREGRADO
B25: UNIVERSIDAD | F25: FECHA DE GRADO (DIA MES AÑO) | G25: TITULO OBTENIDO | M25: DURACION | O25: CUMPLE / NO CUMPLE | P25: OBSERVACIONES
B27: UNIVERSIDAD DE LA SABANA | F27: 41149 | G27: ADMINISTRADORA DE NEGOCIOS INTERNACIONALES | M27: 5 AÑOS ADJUNTO DIPLOMA DE GRADO | O27: No cumple | P27: Según el pliego de condiciones 5.4.2. Equipo de Trabajo Mínimo Habilitante, el postulado no cumple con las profesiones requeridas. La entidad no acepta la observación realizada en la subsanación del proponente, toda vez que la entidad solicitó en el pliego de condiciones las siguientes porfesiones: administración de empresas O administración pública O economía O contabilidad O finanzas O Ingeniería Industrial; por lo anterior las profesiones son taxativas y no se mencionan ningún Nucleo Básico del Conocimiento. La consulta en el SNIES por parte de la entidad es con el propósito de verificar si la institución de educación superiror oferta el programa.
G29: "Factor Tecnico y de calidad" Folio 6-7
B31: ESTUDIOS DE POSTGRADO
B33: UNIVERSIDAD | F33: FECHA DE GRADO (DIA MES AÑO) | G33: TITULO OBTENIDO | M33: DURACION
B35: UNIVERSIDAD SERGIO ARBOLEDA | F35: 42996 | G35: ESPECIALISTA EN COMERCIO INTERNACIONAL | M35: 02 AÑOS | O35: CUMPLE
B36: UNIVERSIDAD SERGIO ARBOLEDA | F36: 42996 | G36: MAGISTER EN COMERCIO INTERNACIONAL | M36: 02 AÑOS | O36: CUMPLE | P36: Se verifico según SNIES, Núcleo básico economía, administración, contaduría y afines.
G38: "Factor Tecnico y de calidad" Folio 8 -11
B40: III EXPERIENCIA GENERAL HABILITANTE
B42: ENTIDAD CONTRATANTE (Razón Social) + Consecutivo en RUP | E42: CARGO OCUPADO | F42: OBJETO DEL CONTRATO y/o OBLIGACIONES | G42: FECHAS DE PROYECTO | M42: TOTAL EN (DÍAS) | N42: Nombre de Documento Folio | O42: CUMPLE / NO CUMPLE | P42: OBSERVACIONES
G43: FECHA DE INICIO | J43: FECHA DE FINALIZACION
G44: Dia | H44: Mes | I44: Año | J44: Dia | K44: Mes | L44: Año
B45: G.A.C.T. SEMBRADORES DE VIDA | E45: GERENTE DE PROYECTOS | F45: PRESTACION DE SERVICIOS EN CALIDAD DE GERENTE DE PROYECTOS EN EL ACOMPAÑAMIENTO A ORGANIZACIONES SOLIDARIAS EN EL DEPARTAMENTO DEL HUILA | G45: 41288 | J45: 42307 | M45: =+J45-G45 -> 1019 | N45: "Factor Tecnico y de calidad" Folio 17 | O45: CUMPLE
J48: No. Días | M48: =M45 -> 1019
J49: No. Meses | M49: =M48/30 -> 33.966667
J50: No. Años | M50: =M49/12 -> 2.8305556 | O50: CUMPLE | P50: Cumple con la experiencia general habilitante
B52: III EXPERIENCIA ESPECIFICA - EXPERIENCIA ADICIONAL
B54: ENTIDAD CONTRATANTE (Razón Social) Consecutivo en RUP | E54: CARGO OCUPADO | F54: OBJETO DEL CONTRATO y/o OBLIGACIONES | G54: FECHAS DE PROYECTO | M54: TOTAL EN (DÍAS) | N54: Nombre de Documento Folio (s) | O54: CUMPLE / NO CUMPLE | P54: OBSERVACIONES
G55: FECHA DE INICIO | J55: FECHA DE FINALIZACION
G56: Dia | H56: Mes | I56: Año | J56: Dia | K56: Mes | L56: Año
B58: CODES | E58: DIRECTOR DE PROYECTO | F58: DINAMIZAR EMPRENDIMIENTOS SOLIDARIOS A TRAVÉS DEL PROGRAMA INTEGRAL DE INTERVENCIÓN A LA MEDIDA DE LAS NECESIDADES DE LAS ORGANIZACIONES SOLIDARIAS TENIENDO COMO BASE EL PROCESO DE FOMENTO A LA ECONOMÍA SOLIDARIA PARA ACTIVIDADES DE PROMOCIÓN, FORTALECIMIENTO, DESARROLLO SOCIO EMPRESARIAL, PROTECCIÓN E INTEGRACIÓN QUE PERMITA LA INCLUSIÓN SOCIAL Y PRODUCTIVA DE LOS ASOCIADOS Y SUS FAMILIAS, PARA LA GENERACIÓN DE INGRESOS CON ENFOQUE DE MEJORAMIENTO DE VIDA Y EL EMPODERAMIENTO COMUNITARIO CON EMPRESAS AUTO SOSTENIBLES PARA TERRITORIOS SOLIDARIOS. | G58: 43878 | J58: 44120 | M58: =J58-G58 -> 242 | N58: "Factor Tecnico y de calidad" Folio 14 | O58: No cumple | P58: Según el pliego de condiciones 5.4.2. Equipo de Trabajo Mínimo Habilitante, Nota 3. no se aceptan auto certificaciones. La entiedad no acepta la observación en el documento de subsanación teniendo en cuenta que las autocertificaciones se refieren a: certificar por parte del proponente que participa en el proceso a su personal como esta establecido en esta certifiación aportada por el proponente.
B59: ENLACE | E59: GERENCIA DE PROYECTOS | F59: GERENTE DE PROYECTOS Y ASESOR EN LA IMPLEMENTACION DE NIIF PARA PYMES (GESTION Y ATENCION INTEGRAL A ENTIDADES DEL SECTOR SOLIDARIO Y REAL) | G59: 42309 | J59: 42977 | M59: =J59-G59 -> 668 | N59: "Factor tecnico y de calidad" Folio 16 | O59: CUMPLE | P59: Se contabiliza desde el 1 de noviembre de 2015, teniendo en cuenta que se traslapa con la certificación de G.A.C.T. SEMBRADORES DE VIDA .
B60: CORPORACION LEXCOM DE COLOMBIA | E60: GERENCIA DE PROYECTOS | F60: LIDERAR PROCESOS DE ACOMPAÑAMIENTO Y FORTALECIMIENTO LEGAL SOCIAL Y EMPRESARIAL DE ORGANIZACIONES DEL SECTOR SOLIDARIO A NIVEL NACIONAL | G60: 42982 | J60: 43830 | M60: =J60-G60 -> 848 | N60: "Factor Tecnico y de calidad" Folio 15 | O60: CUMPLE
J62: No. Días | M62: =+SUM(M59:M60) -> 1516
J63: No. Meses | M63: =M62/30 -> 50.533333
J64: No. años | M64: =M63/12 -> 4.2111111 | O64: CUMPLE | P64: Cumple con la experiencia expecífica habilitante
...

Sheet 3. Buenas Practicas Ambientales
B2: FONDO DE DESARROLLO LOCAL DE KENNEDY
B3: PROCESO DE SELECCIÓN No. LP-11- 2024
B4: VERIFICACIÓN BUENAS PRACTICAS AMBIENTALES
B7: OBJETO DEL CONTRATO
B9: ='1. Exp.Habilitante Proponente'!E9 -> BRINDAR SERVICIO DE ATENCIÓN PARA 9.000 ANIMALES DE COMPAÑÍA (CANINOS Y FELINOS) DE LA LOCALIDAD DE KENNEDY A TRAVÉS DE JORNADAS Y SERVICIOS DE ESTERILIZACIÓN, BRIGADAS MÉDICO-VETERINARIAS, URGENCIAS VETERINARIAS, ADOPCIÓN Y EDUCACIÓN PARA POBLACIÓN EN CONDICIÓN DE VULNERABILIDAD Y DE ESTRATOS 1, 2 Y 3, CON EL FIN DE MITIGAR LA SOBREPOBLACIÓN Y MEJORAR LA CALIDAD DE VIDA DE LOS ANIMALES
B11: BUENAS PRACTICAS AMBIENTALES
B12: No. | C12: Contratista | D12: Nombre Documento Soporte | E12: HABILITADO/ NO HABILITADO | F12: OBSERVACIONES
B14: 1 | C14: UT BIENESTAR KENNEDY | D14: Formato 10 Compromiso buenas practicas ambientales LP-011-2024 | E14: HABILITADO

Sheet 4. Caracteristicas UMQ
B2: FONDO DE DESARROLLO LOCAL DE KENNEDY
B3: PROCESO DE SELECCIÓN No. LP-11- 2024
B4: VERIFICACIÓN BUENAS PRACTICAS AMBIENTALES
B7: OBJETO DEL CONTRATO
B9: ='1. Exp.Habilitante Proponente'!E9 -> BRINDAR SERVICIO DE ATENCIÓN PARA 9.000 ANIMALES DE COMPAÑÍA (CANINOS Y FELINOS) DE LA LOCALIDAD DE KENNEDY A TRAVÉS DE JORNADAS Y SERVICIOS DE ESTERILIZACIÓN, BRIGADAS MÉDICO-VETERINARIAS, URGENCIAS VETERINARIAS, ADOPCIÓN Y EDUCACIÓN PARA POBLACIÓN EN CONDICIÓN DE VULNERABILIDAD Y DE ESTRATOS 1, 2 Y 3, CON EL FIN DE MITIGAR LA SOBREPOBLACIÓN Y MEJORAR LA CALIDAD DE VIDA DE LOS ANIMALES
B11: Unidad móvil quirúrgica (UMQ):
B12: No. | C12: Contratista | D12: Nombre Documento Soporte | E12: HABILITADO/ NO HABILITADO | F12: OBSERVACIONES
B14: 1 | C14: UT BIENESTAR KENNEDY | D14: VISITA UMQ | E14: HABILITADO

Sheet 5.Punto Fijo Atención Urgencia 
B2: FONDO DE DESARROLLO LOCAL DE KENNEDY
B3: PROCESO DE SELECCIÓN No. LP-11- 2024
B4: VERIFICACIÓN BUENAS PRACTICAS AMBIENTALES
B7: OBJETO DEL CONTRATO
B9: ='1. Exp.Habilitante Proponente'!E9 -> BRINDAR SERVICIO DE ATENCIÓN PARA 9.000 ANIMALES DE COMPAÑÍA (CANINOS Y FELINOS) DE LA LOCALIDAD DE KENNEDY A TRAVÉS DE JORNADAS Y SERVICIOS DE ESTERILIZACIÓN, BRIGADAS MÉDICO-VETERINARIAS, URGENCIAS VETERINARIAS, ADOPCIÓN Y EDUCACIÓN PARA POBLACIÓN EN CONDICIÓN DE VULNERABILIDAD Y DE ESTRATOS 1, 2 Y 3, CON EL FIN DE MITIGAR LA SOBREPOBLACIÓN Y MEJORAR LA CALIDAD DE VIDA DE LOS ANIMALES
B11: Punto Fijo Atención Urgencia
B12: No. | C12: Contratista | D12: Nombre Documento Soporte | E12: HABILITADO/ NO HABILITADO | F12: OBSERVACIONES
B14: 1 | C14: UT BIENESTAR KENNEDY | D14: VISITA PUNTO FIJO | E14: HABILITADO | F14: EL OFERENTE ADJUNTA DOCUMENTOS CORRESPONDIENTES EN CUMPLIMIENTO DE LA NORMA PARA USO DE EQUIPOS DE RADIOLOGIA. EL OFERENTE COMPLEMENTA EL AREA DE PACIENTES INFECCIOSOS CON DOS JAULAS ADICIONALES PARA ANIMALES +25KG.

Sheet 6. Factores Tec. y de Calid.
B2: FONDO DE DESARROLLO LOCAL DE KENNEDY
B3: PROCESO DE SELECCIÓN No. LP-11- 2024
B4: VERIFICACIÓN FACTOR TECNICO Y DE CALIDAD
B7: OBJETO DEL CONTRATO
B9: ='1. Exp.Habilitante Proponente'!E9 -> BRINDAR SERVICIO DE ATENCIÓN PARA 9.000 ANIMALES DE COMPAÑÍA (CANINOS Y FELINOS) DE LA LOCALIDAD DE KENNEDY A TRAVÉS DE JORNADAS Y SERVICIOS DE ESTERILIZACIÓN, BRIGADAS MÉDICO-VETERINARIAS, URGENCIAS VETERINARIAS, ADOPCIÓN Y EDUCACIÓN PARA POBLACIÓN EN CONDICIÓN DE VULNERABILIDAD Y DE ESTRATOS 1, 2 Y 3, CON EL FIN DE MITIGAR LA SOBREPOBLACIÓN Y MEJORAR LA CALIDAD DE VIDA DE LOS ANIMALES
B11: FACTOR TÉCNICO Y DE CALIDAD
B12: No. | C12: Contratista | D12: Nombre Documento Soporte | E12: CUMPLE/ NO CUMPLE | F12: Observaciones
B14: 1 | C14: UT BIENESTAR KENNEDY | D14: 1.Cirugías de esterilización: ovario histerectomía (en hembras) y orquiectomía (en machos) con todas las especificaciones dadas en el anexo técnico para el componte que lo incluye. | E14: 11.5
D15: 2. Entrega de alimento para los animales según especie (gato o perro) y edad (cachorro o adulto) de la red de protección de la localidad expresado en kilogramos. Las cantidades por cada uno será determinado conforme al censo que se tenga para la fecha de la red de proteccionistas. | E15: 11.5
D16: 3. Para el proponente que presente la Unidad móvil Quirúrgica para atención de caninos y felinos en territorio para el componente ESTERILIZACIONES y con las siguientes características: … | E16: 0
D17: 4. Si el proponente aporta para el caso de1 coordinador, que el postgrado acredite título de especialización en gestión ambiental y/o afines | E17: 2
D18: 5. Si el proponente aporta para el caso del profesional de campo, que el postgrado acredite título en área afines a la salud. | E18: 2
D19: TOTAL | E19: 27

Sheet 7. Mipymes - Mujeres
B2: FONDO DE DESARROLLO LOCAL DE KENNEDY
B3: PROCESO DE SELECCIÓN No. LP-11- 2024
B4: VERIFICACIÓN MIPYMES - EMPRENDIMIENTOS Y EMPRESAS DE MUJERES
B7: OBJETO DEL CONTRATO
B9: ='1. Exp.Habilitante Proponente'!E9 -> BRINDAR SERVICIO DE ATENCIÓN PARA 9.000 ANIMALES DE COMPAÑÍA (CANINOS Y FELINOS) DE LA LOCALIDAD DE KENNEDY A TRAVÉS DE JORNADAS Y SERVICIOS DE ESTERILIZACIÓN, BRIGADAS MÉDICO-VETERINARIAS, URGENCIAS VETERINARIAS, ADOPCIÓN Y EDUCACIÓN PARA POBLACIÓN EN CONDICIÓN DE VULNERABILIDAD Y DE ESTRATOS 1, 2 Y 3, CON EL FIN DE MITIGAR LA SOBREPOBLACIÓN Y MEJORAR LA CALIDAD DE VIDA DE LOS ANIMALES
B11: FACTOR TÉCNICO Y DE CALIDAD DE CALIDAD
B12: No. | C12: Contratista | D12: Nombre Documento Soporte | E12: CUMPLE/ NO CUMPLE | F12: Observaciones
B14: 1 | C14: UT BIENESTAR KENNEDY | D14: Formato 14 - Acreditacion emprendimiento y empresa de mujeres LP-011-2024 - Ark Formato 14 - Acreditacion emprendimiento y empresa de mujeres LP-011-2024 - Dige | E14: 0.25
D15: Acreditación MIPYME Ark Acreditación MIPYME Dige | E15: 0.25
D16: TOTAL | E16: 0.5

Sheet 8. Industria Nnal.
B2: FONDO DE DESARROLLO LOCAL DE KENNEDY
B3: PROCESO DE SELECCIÓN No. LP-11- 2024
B4: VERIFICACIÓN INDUSTRIA NACIONAL
B7: OBJETO DEL CONTRATO
B9: ='1. Exp.Habilitante Proponente'!E9 -> BRINDAR SERVICIO DE ATENCIÓN PARA 9.000 ANIMALES DE COMPAÑÍA (CANINOS Y FELINOS) DE LA LOCALIDAD DE KENNEDY A TRAVÉS DE JORNADAS Y SERVICIOS DE ESTERILIZACIÓN, BRIGADAS MÉDICO-VETERINARIAS, URGENCIAS VETERINARIAS, ADOPCIÓN Y EDUCACIÓN PARA POBLACIÓN EN CONDICIÓN DE VULNERABILIDAD Y DE ESTRATOS 1, 2 Y 3, CON EL FIN DE MITIGAR LA SOBREPOBLACIÓN Y MEJORAR LA CALIDAD DE VIDA DE LOS ANIMALES
B11: APOYO A LA INDUSTRIA NACIONAL
B12: No. | C12: Contratista | D12: Nombre Documento Soporte | E12: CUMPLE/ NO CUMPLE | F12: Observaciones
B14: 1 | C14: UT BIENESTAR KENNEDY | D14: Formato 7 - Industria Nacional LP-011-2024_1 | E14: 10

Sheet 9. Discapacidad
B2: FONDO DE DESARROLLO LOCAL DE KENNEDY
B3: PROCESO DE SELECCIÓN No. LP-11- 2024
B4: VERIFICACIÓN INDUSTRIA NACIONAL
B7: OBJETO DEL CONTRATO
B9: ='1. Exp.Habilitante Proponente'!E9 -> BRINDAR SERVICIO DE ATENCIÓN PARA 9.000 ANIMALES DE COMPAÑÍA (CANINOS Y FELINOS) DE LA LOCALIDAD DE KENNEDY A TRAVÉS DE JORNADAS Y SERVICIOS DE ESTERILIZACIÓN, BRIGADAS MÉDICO-VETERINARIAS, URGENCIAS VETERINARIAS, ADOPCIÓN Y EDUCACIÓN PARA POBLACIÓN EN CONDICIÓN DE VULNERABILIDAD Y DE ESTRATOS 1, 2 Y 3, CON EL FIN DE MITIGAR LA SOBREPOBLACIÓN Y MEJORAR LA CALIDAD DE VIDA DE LOS ANIMALES
B11: PERSONAL EN CONDICION DE DISCAPACIDAD
B12: No. | C12: Contratista | D12: Nombre Documento Soporte | E12: CUMPLE/ NO CUMPLE | F12: Observaciones
B14: 1 | C14: UT BIENESTAR KENNEDY | D14: Formato 16 - Vinculaci┬ón de personas en situaci┬ón de discapacidad_1 | E14: 1

Sheet 10. Propuesta económica
B2: FONDO DE DESARROLLO LOCAL DE KENNEDY
B3: PROCESO DE SELECCIÓN No. LP-11- 2024
B4: VERIFICACIÓN FORMULARIO OFERTA ECONOMICA
B7: OBJETO DEL CONTRATO
B9: ='1. Exp.Habilitante Proponente'!E9 -> BRINDAR SERVICIO DE ATENCIÓN PARA 9.000 ANIMALES DE COMPAÑÍA (CANINOS Y FELINOS) DE LA LOCALIDAD DE KENNEDY A TRAVÉS DE JORNADAS Y SERVICIOS DE ESTERILIZACIÓN, BRIGADAS MÉDICO-VETERINARIAS, URGENCIAS VETERINARIAS, ADOPCIÓN Y EDUCACIÓN PARA POBLACIÓN EN CONDICIÓN DE VULNERABILIDAD Y DE ESTRATOS 1, 2 Y 3, CON EL FIN DE MITIGAR LA SOBREPOBLACIÓN Y MEJORAR LA CALIDAD DE VIDA DE LOS ANIMALES
B11: OFERTA ECONOMICA
B12: No. | C12: Contratista | D12: Nombre Documento Soporte | E12: HABILITADO/RECHAZADO | F12: OBSERVACIONES
B14: 1 | C14: UT BIENESTAR KENNEDY | E14: HABILITADO

Sheet CONSOLIDADO EVALUACION PRELIMIN
B1: FONDO DE DESARROLLO LOCAL DEL KENNEDY
B3: CONSOLIDADO INFORME PRELIMINAR
B5: PROCESO DE SELECCIÓN No. LP-11- 2024
B7: OBJETO: | D7: ='1. Exp.Habilitante Proponente'!E9 -> BRINDAR SERVICIO DE ATENCIÓN PARA 9.000 ANIMALES DE COMPAÑÍA (CANINOS Y FELINOS) DE LA LOCALIDAD DE KENNEDY A TRAVÉS DE JORNADAS Y SERVICIOS DE ESTERILIZACIÓN, BRIGADAS MÉDICO-VETERINARIAS, URGENCIAS VETERINARIAS, ADOPCIÓN Y EDUCACIÓN PARA POBLACIÓN EN CONDICIÓN DE VULNERABILIDAD Y DE ESTRATOS 1, 2 Y 3, CON EL FIN DE MITIGAR LA SOBREPOBLACIÓN Y MEJORAR LA CALIDAD DE VIDA DE LOS ANIMALES
B8: No. | C8: PROPONENTE | D8: REQUISITOS HABILITANTES | I8: PONDERABLES | N8: PROPUESTA ECONÓMICA | O8: CONSOLIDADO PONDERABLE | P8: 4. REQUISITOS HABILITANTES JURIDICOS | Q8: 5. REQUISITOS HABILITANTES INDICADORES FINANCIEROS | R8: RESULTADO INFORME PRELIMINAR | S8: OBSERVACIONES
D9: 1. REQUISITOS EXPERIENCIA MÍNIMA HABILITANTE | E9: 2. REQUISITOS EQUIPO DE TRABAJO | F9: 3. REQUISITO BUENAS PRACTICAS AMBIENTALES | G9: 4. CARACTERISTICAS UMQ | H9: 5. PUNTO FIJO ATENCION URGENCIAS | I9: 4. FACTORES TÉCNICOS Y DE CALIDAD | J9: 5. MIPYMES | K9: 5. MUJERES | L9: 6. INDUSTRIA NACIONAL | M9: 7. PERSONAL CONDICION DISCAPACIDAD | N9: HABILITADO / RECHAZADO | O9: =SUM(I11:N11) -> 88.5 | P9: HABILITADO/ NO HABILITADO | Q9: HABILITADO / RECHAZADO | R9: HABILITADO/ NO HABILITADO
D10: CUMPLE / NO CUMPLE | E10: CUMPLE / NO CUMPLE | F10: CUMPLE / NO CUMPLE | H10: CUMPLE / NO CUMPLE | I10: PUNTAJE | J10: PUNTAJE | K10: PUNTAJE | L10: PUNTAJE | M10: PUNTAJE
B11: 1 | C11: UT BIENESTAR KENNEDY | D11: CUMPLE | E11: CUMPLE | F11: CUMPLE | G11: CUMPLE | H11: CUMPLE | I11: 27 | J11: 0.25 | K11: 0.25 | L11: 10 | M11: 1 | N11: 50 | P11: HABILITADO | Q11: HABILITADO | R11: HABILITADO
B13: COMITÉ EVALUADOR
E21: Comité Técnico | K21: Comité Técnico
E22: Sandra Lorena Joya | K22: Diego Andrés Martinez Novoa
E28: Comité Ambiental | K28: Comité Financiero | P28: Comité Jurídico
E29: Maria Fernanda Perez Caceres | K29: David Fernando Hernández Castiblanco | P29: Harrion Amézquita G.

Sheet Formato5-Experiencia Específica
B1: INSTITUTO DISTRITAL DE PATRIMONIO CULTURAL
B3: PROCESO DE CONCURSO DE MÉRITOS No. IDPC - CM - XX - 2017
B5: FORMATO No.5 - EXPERIENCIA ESPECÍFICA DEL PROPONENTE
B7: PROYECTO: | D7: REALIZAR LA INTERVENTORÍA DEL CONTRATO DE OBRA DE 2017 CUYO OBJETO ES "CONTRATO DE OBRA PARA LA INTERVENCIÓN DE MONUMENTOS UBICADOS EN EL ESPACIO PÚBLICO DE BOGOTÁ¨
B9: PROPONENTE (Persona Natural, Jurídica, Consorcio o Unión Temporal): | G9: MIEMBRO 1: | K9: PORCENTAJE DE PARTICIPACIÓN: | M9: 0
G10: MIEMBRO 2: | K10: PORCENTAJE DE PARTICIPACIÓN: | M10: 0
G11: MIEMBRO 3: | K11: PORCENTAJE DE PARTICIPACIÓN: | M11: 0
B13: REQUISITO : | D13: El proponente deberá acreditar experiencia hasta con TRES (3) contratos de Interventoría a obras de restauración y reforzamiento estructural de edificaciones declaradas como Bienes de Interés Cultural del orden Nacional y/o Departamental y/o Distrital y/o Municipal. La sumatoria de los contratos presentados, deberá tener mínimo un área intervenida mayor o igual a MIL QUINIENTOS (1500) m2; los contratos deberán encontrarse iniciados, ejecutados y terminados a partir de la expedición de la NSR-98. (19/08/1997). Nota 1: se aclara que los proponentes podrán certificar lo anterior con un (1) solo contrato, siempre y cuando cumpla con todos los requisitos solicitados.
B14: REQUISITO No | D14: NÚMERO DEL CONTRATO | E14: ENTIDAD CONTRATANTE | F14: OBJETO DEL CONTRATO | G14: PORCENTAJE PARTICIPACION EN EL CONSORCIO O UNIÓN TEMPORAL | H14: NOMBRE PARTICIPANTE QUE APORTA LA EXPERIENCIA | I14: FECHA DE INICIO | J14: FECHA DE TERMINACIÓN | K14: ÁREA TOTAL INTERVENIDA | L14: ÁREA TOTAL INTERVENIDA X PORCENTAJE PARTICIPACIÓN | M14: OBSERVACIONES
B15: 1 | L15: =K15*G15 -> 0
B16: 2 | L16: =K16*G16 -> 0
B17: 3 | L17: =K17*G17 -> 0
B19: VALOR SUMATORIA CONTRATOS EXPERIENCIA ESPECÍFICA AREA CONSTRUIDA | L19: =SUM(L15:L17) -> 0
P21: SI | Q21: NO
G25: FIRMA DEL PROPONENTE

Sheet Residente Obra
A2: INSTITUTO DISTRITAL DE PATRIMONIO CULTURAL
A3: ='[3]Consolidado Habilitantes'!#REF! -> #REF!
A4: EVALUACIÓN TÉCNICA
B6: PROYECTO: | C6: ='[3]Consolidado Habilitantes'!#REF! -> #REF!
B8: FORMATO REVISIÓN EXPERIENCIA PROFESIONALES HABILITANTES
B10: PROPONENTE: | C10: URBANISCOM LTDA
B12: CARGO: | C12: RESIDENTE DE OBRA 1 | I12: FOLIO: | J12: 116
B14: PROFESIONAL: | C14: CLAUDIA PATRICIA GONZÁLEZ BECERRA | F14: FECHA DE EXPEDICIÓN TÍTULO: | G14: 19/02/1987 | H14: FECHA DE CIERRE PROCESO: | J14: 16/12/2016
B16: REQUISITO SOLICITADO | E16: REQUISITO CERTIFICADO | I16: OBSERVACIONES | N16: SI CUMPLE | O16: NO CUMPLE | P16: N/A
B17: TÍTULO PREGRADO: | C17: ARQUITECTO O INGENIERO CIVIL | E17: CUMPLE: | G17: SI CUMPLE | I17: FOLIOS No.117 AL 119
B18: TÍTULO POSGRADO: | C18: N/A | E18: CUMPLE: | G18: N/A
B19: EXPERIENCIA GENERAL: | C19: 4 AÑOS | E19: EXPERIENCIA GENERAL - MATRÍCULA PROFESIONAL (AÑOS): | G19: =(J14-G14)/365.25 -> 29.823409 | H19: SI CUMPLE | I19: FOLIOS No.117 AL 119
B20: EXPERIENCIA ESPECÍFICA: | C20: El profesional propuesto para el cargo deberá certificar experiencia como contratista o director de obra o residente de obra, mediante DOS (2) contratos de intervención que incluyan reforzamiento estructural de inmuebles declarados como Bien de Interés Cultural del orden Nacional, Departamental, Distrital o Municipal, soportada con las certificaciones respectivas. | E20: 1 | F20: CONSORCIO AUDITORIO 01 - "EJECUTAR LAS OBRAS DE INTERVENCIÓN DEL INMUEBLE DENOMINADO "AUDITORIO OTTO DE GREIFF", UBICADO EN LA CALLE 39 BIS # 14-32 DE BOGOTÁ D.C., CON EL SISTEMA DE PRECIOS UNITARIOS FIJOS SIN FÓRMULA DE REAJUSTE". | G20: CARGO: | H20: RESIDENTE DE OBRA | I20: FOLIOS No.120 Y 121 DECRETO 606 DE 2001
G21: EXPERIENCIA EN BIC: | H21: SI CUMPLE
G22: CUMPLE: | H22: SI CUMPLE
E23: 2 | F23: CONSORCIO UCR 06 - "CONTRATAR POR EL SISTEMA DE PRECIOS UNITARIOS FIJOS SIN FÓRMULA DE AJUSTE, LAS OBRAS DE RESTAURACIÓN DE LA CASA MUSEO 20 DE JULIO DE BOGOTÁ D.C.". | G23: CARGO: | H23: RESIDENTE DE OBRA | I23: FOLIOS No.122 Y 160 DECRETO No.1584 DEL 11 DE AGOSTO DE 1975
G24: EXPERIENCIA EN BIC: | H24: SI CUMPLE
G25: CUMPLE: | H25: SI CUMPLE
B27: TOTAL ÁREA CERTIFICADA (M2) | H27: =#REF!+#REF!+$H$24 -> #REF! | I27: HABILITADO
B29: ENTREGA COMPROMISO FORMATO No.9A | H29: FOLIO No.127 | I29: HABILITADO
B31: CUMPLIMIENTO REQUISITOS HABILITANTES | I31: HABILITADO | N31: HABILITADO | O31: NO HABILITADO
B33: CERTIFICADOS EQUIVALENCIA POSGRADOS
B34: REQUISITO EQUIVALENCIA | E34: No. | F34: OBJETO CONTRATO | G34: FECHA DE INICIO | H34: FECHA DE TERMINACIÓN | I34: EQUIVALENCIA EN AÑOS | J34: OBSERVACIONES
B35: En el caso de no contar con los títulos exigidos, se realizará la equivalencia con experiencia certificada por cada profesional, y se podrá subsanar con tres (3) años más de experiencia específica para el caso de Maestría y dos (2) años más de experiencia específica para el caso de Especialización. | E35: 1 | I35: =(H35-G35)/365.25 -> 0
E36: 2 | I36: =(H36-G36)/365.25 -> 0
E37: 3 | I37: =(H37-G37)/365.25 -> 0
E38: 4 | I38: =(H38-G38)/365.25 -> 0
E39: 5 | I39: =(H39-G39)/365.25 -> 0
B41: TOTAL TIEMPO CERTIFICADO ADICIONAL EQUIVALENCIA POSGRADOS | I41: =SUM(I35:I39) -> 0 | J41: AÑOS
B43: OBSERVACIONES
B47: ORIGINAL FIRMADO | G47: ORIGINAL FIRMADO
B48: PROFESIONAL EVALUADOR - DIANA PAOLA BEDOYA | G48: PROFESIONAL EVALUADOR - ARIEL FERNÁNDEZ BACA
B50: ORIGINAL FIRMADO | G50: ORIGINAL FIRMADO
B51: PROFESIONAL EVALUADOR - SAMAEL ARIAS HERNÁNDEZ | G51: PROFESIONAL EVALUADOR - RENATO GONZÁLEZ CRUZ

Sheet SSMLV
A1: Salario mínimo legal en Colombia
A3: 1.1.1 Serie histórica en pesos colombianos
A4: Información disponible desde 1 de julio de 1984
A5: Año | B5: Salario mínimo diario | C5: Salario mínimo mensual | D5: Variación % anual * | E5: Decretos del Gobierno Nacional
A6: 1984 | B6: 376.6 | C6: 11298 | D6: 0 | E6: N/A
A7: 1985 | B7: 451.92 | C7: 13558 | D7: 20 | E7: 0001 de enero de 1985
A8: 1986 | B8: 560.38 | C8: 16811 | D8: 24 | E8: 3754 de diciembre de 1985
A9: 1987 | B9: 683.66 | C9: 20510 | D9: 22 | E9: 3732 de diciembre de 1986
A10: 1988 | B10: 854.58 | C10: 25637 | D10: 25 | E10: 2545 de diciembre de 1987
A11: 1989 | B11: 1085.32 | C11: 32560 | D11: 27 | E11: 2662 de diciembre de 1988
A12: 1990 | B12: 1367.5 | C12: 41025 | D12: 26 | E12: 3000 de diciembre de 1989
A13: 1991 | B13: 1723.87 | C13: 51716 | D13: 26.1 | E13: 3074 de diciembre de 1990
A14: 1992 | B14: 2173 | C14: 65190 | D14: 26.1 | E14: 2867 de diciembre de 1991
A15: 1993 | B15: 2717 | C15: 81510 | D15: 25 | E15: 2061 de diciembre de 1992
A16: 1994 | B16: 3290 | C16: 98700 | D16: 21.1 | E16: 2548 de diciembre de 1993
A17: 1995 | B17: 3964.45 | C17: 118934 | D17: 20.5 | E17: 2872 de diciembre de 1994
... A38: 2016 | B38: 22981.83 | C38: 689455 | D38: 7 | E38: 2552 de diciembre 30 de 2015
A39: 2017 | B39: 24590.57 | C39: 737717 | E39: Decreto 2209 de 30-12-2016.
A40: 2018 | B40: =C40/30 -> 26041.4 | C40: 781242 | D40: 5.9 | E40: Decreto 2209 de 30-12-2016.
A41: Fuente: Ministerio del Trabajo y decretos del Gobierno nacional.
A42: Nota: desde el 1 de julio de 1984 se unificó el salario mínimo para todos los sectores de la economía.
A43: * Variación porcentual con respecto al dato del año imediatamente anterior.
