Workbook

Sheet 1. I.E.C.
H1: PROCEDIMIENTO POSTCONTRACTUAL | AB1: CÓDIGO: | AE1: GC-PR-09-FO-05
AB2: VERSIÓN: | AE2: 05
H3: INFORME DE EJECUCIÓN CONTRACTUAL - PERSONA JURÍDICA | AB3: FECHA: | AE3: 45341
B5: FECHA DE EXPEDICIÓN
B6: MES | E6: AÑO
B7: NOVIEMBRE | E7: 2024
A9: I. DATOS GENERALES DEL CONTRATO
B10: NOMBRE DEL CONTRATISTA | Y10: IDENTIFICACIÓN
B11: LITOGRAFIA DINAMICA Y/O JORGE HERNAN JARAMILLO OCHOA | Y11: C.C. | Z11: 8310980-2
AC13: No. Contrato | AE13: Suscrito en la vigencia | AF13: No. Operación
A14: TIPO DE CONTRATACIÓN: | I14: SUMINISTRO
I16: DD/MM/AAAA | AB16: DD/MM/AAAA
B17: FECHA DE ACTA DE INICIO: | I17: 45582 | O17: FECHA DE TERMINACIÓN DEL CONTRATO: | AC17: 45657
A19: OBJETO CONTRACTUAL
J21: DD/MM/AAAA | P21: DD/MM/AAAA
A22: PERIODO DEL INFORME: | H22: DESDE: | J22: 23/11/2024 | N22: HASTA: | P22: 45637 | U22: INFORME | X22: 1 | Z22: DE | AB22: 3
A24: ¿Para el periodo del informe aplica alguna novedad? | L24: NO | M24: Cual?
A26: NOMBRES Y APELLIDOS DEL SUPERVISOR: | K26: M.g. P.s Juan José Gómez Acosta
A27: DEPENDENCIA: | K27: Subdirección de apropiación social y relacionamiento con el ciudadano
A29: NOMBRES Y APELLIDOS DEL SUPERVISOR:
A30: DEPENDENCIA:
A32: NOMBRE DEL INTERVENTOR:
A33: IDENTIFICACIÓN: | G33: NUMERO:
A35: II. DESCRIPCIÓN DE ACTIVIDADES DESARROLLADAS EN CUMPLIMIENTO DEL OBJETO CONTRACTUAL
A36: No. | B36: OBLIGACIÓN CONTRACTUAL | M36: DESCRIBA LAS ACTIVIDADES REALIZADAS Y/O PRODUCTOS ENTREGADOS DURANTE LA EJECUCIÓN DEL PERIODO FACTURADO | AA36: SOPORTES (Describa las evidencias de las actividades realizadas y sitio de conservación de la información)
A37: 1 | B37: 2. Maravilloso o monstruoso (De acuerdo con las especificaciones de la ficha técnica) | M37: Herramienta de acceso y divulgación de los parques arqueológicos que administra la entidad. El Pasaporte ICANH es una iniciativa desarrollada por el Instituto Colombiano de Antropología e Historia (ICANH) para promover el acceso y la divulgación de los parques arqueológicos bajo su administración. Esta herramienta está diseñada para facilitar y enriquecer la experiencia de los visitantes, ofreciendo múltiples beneficios y recursos educativos | AA37: Envio de Muestras a a Oficinas ICANH
A38: 2 | B38: 3. El solar de los curubos (De acuerdo con las especificaciones de la ficha técnica) NOTA 1 | M38: Herramienta de acceso y divulgación de los parques arqueológicos que administra la entidad. El Pasaporte ICANH es una iniciativa desarrollada por el Instituto Colombiano de Antropología e Historia (ICANH) para promover el acceso y la divulgación de los parques arqueológicos bajo su administración. Esta herramienta está diseñada para facilitar y enriquecer la experiencia de los visitantes, ofreciendo múltiples beneficios y recursos educativos | AA38: Envio de Muestras a a Oficinas ICANH
A39: 3 | B39: 5. Dispositivo iconográfico: Tumaco-La Tolita (De acuerdo con las especificaciones de la ficha técnica) NOTA 1 | M39: Herramienta de acceso y divulgación de los parques arqueológicos que administra la entidad. El Pasaporte ICANH es una iniciativa desarrollada por el Instituto Colombiano de Antropología e Historia (ICANH) para promover el acceso y la divulgación de los parques arqueológicos bajo su administración. Esta herramienta está diseñada para facilitar y enriquecer la experiencia de los visitantes, ofreciendo múltiples beneficios y recursos educativos | AA39: Envio de Muestras a a Oficinas ICANH
A40: 4 | B40: 6. Palenque (De acuerdo con las especificaciones de la ficha técnica) NOTA 1 | M40: Herramienta de acceso y divulgación de los parques arqueológicos que administra la entidad. El Pasaporte ICANH es una iniciativa desarrollada por el Instituto Colombiano de Antropología e Historia (ICANH) para promover el acceso y la divulgación de los parques arqueológicos bajo su administración. Esta herramienta está diseñada para facilitar y enriquecer la experiencia de los visitantes, ofreciendo múltiples beneficios y recursos educativos | AA40: Envio de Muestras a a Oficinas ICANH
A41: 5 | B41: 8. Vida Campesina (De acuerdo con las especificaciones de la ficha técnica) NOTA 1 | M41: Herramienta de acceso y divulgación de los parques arqueológicos que administra la entidad. El Pasaporte ICANH es una iniciativa desarrollada por el Instituto Colombiano de Antropología e Historia (ICANH) para promover el acceso y la divulgación de los parques arqueológicos bajo su administración. Esta herramienta está diseñada para facilitar y enriquecer la experiencia de los visitantes, ofreciendo múltiples beneficios y recursos educativos | AA41: Envio de Muestras a a Oficinas ICANH
A42: 6 | B42: 8a. Afiches vida campesina 9 motivos de afiches. 500 ejemplares por cada motivo (De acuerdo con las especificaciones de la ficha técnica) | M42: Herramienta de acceso y divulgación de los parques arqueológicos que administra la entidad. El Pasaporte ICANH es una iniciativa desarrollada por el Instituto Colombiano de Antropología e Historia (ICANH) para promover el acceso y la divulgación de los parques arqueológicos bajo su administración. Esta herramienta está diseñada para facilitar y enriquecer la experiencia de los visitantes, ofreciendo múltiples beneficios y recursos educativos | AA42: Envio de Muestras a a Oficinas ICANH
A43: 7 | B43: 8b. Fanzines plegables vida campesina 3 motivos de fanzines plegables. 1000 ejemplares por cada motivo (De acuerdo con las especificaciones de la ficha técnica) | M43: Herramienta de acceso y divulgación de los parques arqueológicos que administra la entidad. El Pasaporte ICANH es una iniciativa desarrollada por el Instituto Colombiano de Antropología e Historia (ICANH) para promover el acceso y la divulgación de los parques arqueológicos bajo su administración. Esta herramienta está diseñada para facilitar y enriquecer la experiencia de los visitantes, ofreciendo múltiples beneficios y recursos educativos | AA43: Envio de Muestras a a Oficinas ICANH
A44: 8 | B44: TRICICLO (De acuerdo con las especificaciones de la ficha técnica) | M44: Dispositivo didáctico para la exploración multisensorial de contenidos asociados al contexto de los parques y sitios arqueológicos a cargo del ICANH. Contiene cajoneras con actividades didácticas, teatrino, sillas y mapa 3D del territorio. Este material pedagógico e interactivo, invita a explorar la diversidad geográfica, natural y arqueológica de diferentes sitios en el país. | AA44: Envio de Muestras a a Oficinas ICANH
A45: 9 | B45: MAQUETA 3D (De acuerdo con las especificaciones de la ficha técnica) | M45: Dispositivo didáctico para la exploración multisensorial de contenidos asociados al contexto de los parques y sitios arqueológicos a cargo del ICANH. Contiene cajoneras con actividades didácticas, teatrino, sillas y mapa 3D del territorio. Este material pedagógico e interactivo, invita a explorar la diversidad geográfica, natural y arqueológica de diferentes sitios en el país. | AA45: Envio de Muestras a a Oficinas ICANH
A46: 10 | B46: TEATRINO (De acuerdo con las especificaciones de la ficha técnica) | M46: Dispositivo didáctico para la exploración multisensorial de contenidos asociados al contexto de los parques y sitios arqueológicos a cargo del ICANH. Contiene cajoneras con actividades didácticas, teatrino, sillas y mapa 3D del territorio. Este material pedagógico e interactivo, invita a explorar la diversidad geográfica, natural y arqueológica de diferentes sitios en el país. | AA46: Envio de Muestras a a Oficinas ICANH
A47: 11 | B47: CAJÓN PAISAJE SONORO (De acuerdo con las especificaciones de la ficha técnica) | M47: Dispositivo didáctico para la exploración multisensorial de contenidos asociados al contexto de los parques y sitios arqueológicos a cargo del ICANH. Contiene cajoneras con actividades didácticas, teatrino, sillas y mapa 3D del territorio. Este material pedagógico e interactivo, invita a explorar la diversidad geográfica, natural y arqueológica de diferentes sitios en el país. | AA47: Envio de Muestras a a Oficinas ICANH
A48: 12 | B48: CAJÓN ESTRATIGRAFÍA (De acuerdo con las especificaciones de la ficha técnica) | M48: Dispositivo didáctico para la exploración multisensorial de contenidos asociados al contexto de los parques y sitios arqueológicos a cargo del ICANH. Contiene cajoneras con actividades didácticas, teatrino, sillas y mapa 3D del territorio. Este material pedagógico e interactivo, invita a explorar la diversidad geográfica, natural y arqueológica de diferentes sitios en el país. | AA48: Envio de Muestras a a Oficinas ICANH
... A52: 6 | B52: BANCAS PLEGABLES (De acuerdo con las especificaciones de la ficha técnica) | M52: Dispositivo didáctico para la exploración multisensorial de contenidos asociados al contexto de los parques y sitios arqueológicos a cargo del ICANH. Contiene cajoneras con actividades didácticas, teatrino, sillas y mapa 3D del territorio. Este material pedagógico e interactivo, invita a explorar la diversidad geográfica, natural y arqueológica de diferentes sitios en el país. | AA52: Envio de Muestras a a Oficinas ICANH
A53: 7
A54: * Incluir las filas que se requieran
...

Sheet 2. C.S.
K1: PROCEDIMIENTO POSTCONTRACTUAL | AB1: CÓDIGO: | AE1: =+'1. I.E.C.'!AE1:AG1 -> GC-PR-09-FO-05
AB2: VERSIÓN: | AE2: 05
K3: CERTIFICADO DE SUPERVISIÓN - PERSONA JURÍDICA | AB3: FECHA: | AE3: =+'1. I.E.C.'!AE3:AG3 -> 45341
C5: FECHA DE EXPEDICIÓN
C6: MES | F6: AÑO
C7: ='1. I.E.C.'!B7 -> NOVIEMBRE | F7: ='1. I.E.C.'!E7 -> 2024
A9: I. INFORMACIÓN DEL SUPERVISOR
C11: DATOS DEL SUPERVISOR
C12: NOMBRES Y APELLIDOS: | I12: ='1. I.E.C.'!K26 -> M.g. P.s Juan José Gómez Acosta
C13: CARGO:
C14: DEPENDENCIA: | I14: ='1. I.E.C.'!K27 -> Subdirección de apropiación social y relacionamiento con el ciudadano
C15: CORREO ELECTRÓNICO:
A18: II. INFORMACIÓN CONTRACTUAL
B19: NOMBRE DEL CONTRATISTA | Y19: IDENTIFICACIÓN
B20: ='1. I.E.C.'!B11 -> LITOGRAFIA DINAMICA Y/O JORGE HERNAN JARAMILLO OCHOA | Y20: ='1. I.E.C.'!Y11 -> C.C. | Z20: ='1. I.E.C.'!Z11 -> 8310980-2
AC22: No. Contrato | AE22: Suscrito en la vigencia | AF22: No. Operación
A23: TIPO DE CONTRATACIÓN: | I23: ='1. I.E.C.'!I14:Z14 -> SUMINISTRO | AC23: ='1. I.E.C.'!AC14:AD14 -> 0 | AE23: ='1. I.E.C.'!AE14 -> 0 | AF23: ='1. I.E.C.'!AF14 -> 0
I25: DD/MM/AAAA | AC25: DD/MM/AAAA
B26: FECHA DE INICIO: | I26: ='1. I.E.C.'!I17 -> 45582 | T26: FECHA DE TERMINACIÓN DEL CONTRATO: | AC26: ='1. I.E.C.'!AC17:AE17 -> 45657
A28: OBJETO CONTRACTUAL
A29: ='1. I.E.C.'!A20 -> 0
A31: III. INFORMACIÓN DEL PERIODO CERTIFICADO PARA PAGO
J33: DD/MM/AAAA | P33: DD/MM/AAAA | U33: ¿Este periodo corresponde a primer pago? | AA33: NO
B34: PERIODO CERTIFICADO: | H34: DESDE: | J34: ='1. I.E.C.'!J22 -> 23/11/2024 | N34: HASTA: | P34: ='1. I.E.C.'!P22 -> 45637 | U34: ¿Este periodo corresponde a último pago? | AA34: NO
U35: ¿Para este pago aplica alguna novedad? | AA35: NO | AB35: Cual?
A38: CERTIFICO QUE EL (LA) CONTRATISTA CUMPLIÓ A CABALIDAD CON EL OBJETO DEL CONTRATO EN LOS TÉRMINOS Y TIEMPOS PACTADOS CON EL INSTITUTO COLOMBIANO DE ANTROPOLOGIA E HISTORIA ICANH, POR LO TANTO AUTORIZO EL PAGO POR VALOR DE:
B41: VALOR A PAGAR | L41: ¿ES RESPONSABLE DE FACTURACIÓN ELECTRÓNICA? | T41: NO | V41: No. DE FACTURA | AA41: FECHA DE FACTURA
B42: 210327600 | L42: ¿ES RESPONSABLE DE IVA? | R42: NO | V42: JHJ1719 | AA42: 45638
L43: ¿ES DECLARANTE DE RENTA? | R43: NO
A45: EL (LA) CONTRATISTA PRESENTA LA(S) PLANILLA(S) Y SOPORTE(S) DE PAGO DE LOS APORTES AL SISTEMA DE SEGURIDAD SOCIAL INTEGRAL DE CONFORMIDAD CON EL MONTO Y TIEMPO QUE CERTIFICO:
M48: NÚMERO DE PLANILLA EN LOS CASOS QUE APLIQUE: | X48: PERIODO CERTIFICADO DE APORTES A PARAFISCALES
AI49: =IF(R42="si",IF(VLOOKUP(X49,AI54:AJ65,2,FALSE)/1.19*40%<1000000,1000000,(VLOOKUP(X49,AI54:AJ65,2,FALSE)/1.19*40%))) -> FALSE
AI53: SEGUIMIENTO DE PAGOS
A54: IV. EJECUCIÓN FINANCIERA DEL CONTRATO | AI54: ENERO | AJ54: 0
AI55: FEBRERO | AJ55: 0
AI56: MARZO | AJ56: 0
D57: 1. | F57: VALOR INICIAL DEL CONTRATO | V57: PARA ESTE PAGO AFÉCTESE EL (LOS) SIGUIENTE(S) REGISTRO(S) PRESPUESTAL(ES): | AI57: ABRIL | AJ57: 0
D58: 2. | F58: VALOR ADICIÓN O ADICIONES | W58: RP | AC58: AÑO | AI58: MAYO | AJ58: 0
D59: 3. | F59: VALOR TOTAL DEL CONTRATO | N59: =+N57+N58 -> 0 | U59: 1. | V59: No. | Y59: expedido en la vigencia | AI59: JUNIO | AJ59: 0
D60: 4. | F60: VALOR CANCELADO ACUMULADO | N60: =AJ66 -> 0 | U60: 2. | V60: No. | Y60: expedido en la vigencia | AI60: JULIO | AJ60: 0
...

Sheet 3. I.F.C.
D1: PROCEDIMIENTO POSTCONTRACTUAL | AW1: CÓDIGO: | AZ1: GC-PR-09-FO-05
AW2: VERSIÓN: | AZ2: 05
D3: INFORME FINANCIERO CONSOLIDADO | AW3: FECHA: | AZ3: 45341
E5: NOMBRE DEL CONTRATISTA | O5: IDENTIFICACIÓN
B6: ='2. C.S.'!B20:W20 -> LITOGRAFIA DINAMICA Y/O JORGE HERNAN JARAMILLO OCHOA | M6: ='2. C.S.'!Y20 -> C.C. | N6: ='1. I.E.C.'!Z11 -> 8310980-2
F8: VALOR TOTAL DEL CONTRATO | M8: No. Contrato | O8: Suscrito en la vigencia | Q8: No. Operación
B9: ='2. C.S.'!N59 -> 0 | M9: ='2. C.S.'!AC23 -> 0 | O9: ='1. I.E.C.'!AE14 -> 0 | Q9: ='1. I.E.C.'!AF14 -> 0
A11: INFORME FINANCIERO CONSOLIDADO | AW11: SITUACIÓN FINANCIERA
A12: CARACTERISTICAS | H12: PAGO 1 | M12: PAGO 2 | R12: PAGO 3 | W12: PAGO 4 | AB12: PAGO 5 | AG12: PAGO 6 | AL12: PAGO 7 | AQ12: PAGO 8 | AW12: NUMERO DE PAGO | AX12: VALOR EJECUTADO | AY12: PORCENTAJE EJECUTADO | AZ12: VALOR POR EJECUTAR | BA12: PORCENTAJE SIN EJECUTAR | BB12: DETALLE SOPORTES DE LA EJECUCION
H13: FECHA DE CORTE: | M13: FECHA DE CORTE: | R13: FECHA DE CORTE: | W13: FECHA DE CORTE: | AB13: FECHA DE CORTE: | AG13: FECHA DE CORTE: | AL13: FECHA DE CORTE: | AQ13: FECHA DE CORTE:
A14: PRODUCTO Y/O ACTIVIDAD ESPECIFICA ENTREGADA | F14: NÚMERO DE PAGOS A REALIZAR | H14: NÚMERO DE FACTURA O DOCUMENTO DE COBRO | J14: VALOR | K14: IVA | L14: VALOR TOTAL | M14: NÚMERO DE FACTURA O DOCUMENTO DE COBRO | O14: VALOR | P14: IVA | Q14: VALOR TOTAL | R14: NÚMERO DE FACTURA O DOCUMENTO DE COBRO | T14: VALOR | U14: IVA | V14: VALOR TOTAL | W14: NÚMERO DE FACTURA O DOCUMENTO DE COBRO | Y14: VALOR | Z14: IVA | AA14: VALOR TOTAL | AB14: NÚMERO DE FACTURA O DOCUMENTO DE COBRO | AD14: VALOR | AE14: IVA | AF14: VALOR TOTAL | AG14: NÚMERO DE FACTURA O DOCUMENTO DE COBRO | AI14: VALOR | AJ14: IVA | AK14: VALOR TOTAL | AL14: NÚMERO DE FACTURA O DOCUMENTO DE COBRO | AN14: VALOR | AO14: IVA | AP14: VALOR TOTAL | AQ14: NÚMERO DE FACTURA O DOCUMENTO DE COBRO | AS14: VALOR | AT14: IVA | AU14: VALOR TOTAL
A15: 2. Maravilloso o monstruoso (De acuerdo con las especificaciones de la ficha técnica) NOTA 1 | F15: 1 | H15: JHJ1752 | J15: 6017479 | K15: =+J15*19% -> 1143321 | L15: =J15+K15 -> 7160800 | Q15: =O15+P15 -> 0 | V15: =T15+U15 -> 0 | AA15: =Y15+Z15 -> 0 | AF15: =AD15+AE15 -> 0 | AK15: =AI15+AJ15 -> 0 | AP15: =AN15+AO15 -> 0 | AU15: =AS15+AT15 -> 0 | AW15: 1 | AX15: =J35 -> 73392524 | AY15: =AX15/$B$9 -> #DIV/0! | AZ15: =B9-J35 -> -73392524 | BA15: =1-AY15 -> #DIV/0! | BB15: Soportes: Folios:
A16: 3. El solar de los curubos (De acuerdo con las especificaciones de la ficha técnica) NOTA 1 | F16: 1 | H16: JHJ1752 | J16: 7862857.1 | K16: =+J16*19% -> 1493942.9 | L16: =J16+K16 -> 9356800 | Q16: =O16+P16 -> 0 | V16: =T16+U16 -> 0 | AA16: =Y16+Z16 -> 0 | AF16: =AD16+AE16 -> 0 | AK16: =AI16+AJ16 -> 0 | AP16: =AN16+AO16 -> 0 | AU16: =AS16+AT16 -> 0 | AW16: 2 | AX16: =O35 -> 0 | AY16: =AX16/$B$9 -> #DIV/0! | AZ16: =AZ15-AX16 -> -73392524 | BA16: =1-SUM($AY$15:AY16) -> #DIV/0! | BB16: Soportes: Folios:
A17: 5. Dispositivo iconográfico: Tumaco-La Tolita (De acuerdo con las especificaciones de la ficha técnica) NOTA 1 | F17: 1 | H17: JHJ1752 | J17: 5499159.7 | K17: =+J17*19% -> 1044840.3 | L17: =J17+K17 -> 6544000 | Q17: =O17+P17 -> 0 | V17: =T17+U17 -> 0 | AA17: =Y17+Z17 -> 0 | AF17: =AD17+AE17 -> 0 | AK17: =AI17+AJ17 -> 0 | AP17: =AN17+AO17 -> 0 | AU17: =AS17+AT17 -> 0 | AW17: 3 | AX17: =T35 -> 0 | AY17: =AX17/$B$9 -> #DIV/0! | AZ17: =AZ16-AX17 -> -73392524 | BA17: =1-SUM($AY$15:AY17) -> #DIV/0! | BB17: Soportes: Folios:
A18: 6. Palenque (De acuerdo con las especificaciones de la ficha técnica) NOTA 1 | F18: 1 | H18: JHJ1752 | J18: 2812773.1 | K18: =+J18*19% -> 534426.89 | L18: =J18+K18 -> 3347200 | Q18: =O18+P18 -> 0 | V18: =T18+U18 -> 0 | AA18: =Y18+Z18 -> 0 | AF18: =AD18+AE18 -> 0 | AK18: =AI18+AJ18 -> 0 | AP18: =AN18+AO18 -> 0 | AU18: =AS18+AT18 -> 0 | AW18: 4 | AX18: =Y35 -> 0 | AY18: =AX18/$B$9 -> #DIV/0! | AZ18: =AZ17-AX18 -> -73392524 | BA18: =1-SUM($AY$15:AY18) -> #DIV/0! | BB18: Soportes: Folios:
A19: 8. Vida Campesina (De acuerdo con las especificaciones de la ficha técnica) NOTA 1 | F19: 1 | H19: JHJ1752 | J19: 9535462.2 | K19: =+J19*19% -> 1811737.8 | L19: =J19+K19 -> 11347200 | Q19: =O19+P19 -> 0 | V19: =T19+U19 -> 0 | AA19: =Y19+Z19 -> 0 | AF19: =AD19+AE19 -> 0 | AK19: =AI19+AJ19 -> 0 | AP19: =AN19+AO19 -> 0 | AU19: =AS19+AT19 -> 0 | AW19: 5 | AX19: =AD35 -> 0 | AY19: =AX19/$B$9 -> #DIV/0! | AZ19: =AZ18-AX19 -> -73392524 | BA19: =1-SUM($AY$15:AY19) -> #DIV/0! | BB19: Soportes: Folios:
A20: 8a. Afiches vida campesina 9 motivos de afiches. 500 ejemplares por cada motivo (De acuerdo con las especificaciones de la ficha técnica) | F20: 1 | H20: JHJ1752 | J20: 8784453.8 | K20: =+J20*19% -> 1669046.2 | L20: =J20+K20 -> 10453500 | Q20: =O20+P20 -> 0 | V20: =T20+U20 -> 0 | AA20: =Y20+Z20 -> 0 | AF20: =AD20+AE20 -> 0 | AK20: =AI20+AJ20 -> 0 | AP20: =AN20+AO20 -> 0 | AU20: =AS20+AT20 -> 0 | AW20: 6 | AX20: =AI35 -> 0 | AY20: =AX20/$B$9 -> #DIV/0! | AZ20: =AZ19-AX20 -> -73392524 | BA20: =1-SUM($AY$15:AY20) -> #DIV/0! | BB20: Soportes: Folios:
A21: 8b. Fanzines plegables vida campesina 3 motivos de fanzines plegables. 1000 ejemplares por cada motivo (De acuerdo con las especificaciones de la ficha técnica) | F21: 1 | H21: JHJ1752 | J21: 4263025.2 | K21: =+J21*19% -> 809974.79 | L21: =J21+K21 -> 5073000 | Q21: =O21+P21 -> 0 | V21: =T21+U21 -> 0 | AA21: =Y21+Z21 -> 0 | AF21: =AD21+AE21 -> 0 | AK21: =AI21+AJ21 -> 0 | AP21: =AN21+AO21 -> 0 | AU21: =AS21+AT21 -> 0 | AW21: 7 | AX21: =AN35 -> 0 | AY21: =AX21/$B$9 -> #DIV/0! | AZ21: =AZ17-AX21 -> -73392524 | BA21: =1-SUM($AY$15:AY21) -> #DIV/0! | BB21: Soportes: Folios:
A22: TRICICLO (De acuerdo con las especificaciones de la ficha técnica) | F22: 1 | H22: JHJ1752 | J22: 8864124.4 | K22: =+J22*19% -> 1684183.6 | L22: =J22+K22 -> 10548308 | Q22: =O22+P22 -> 0 | V22: =T22+U22 -> 0 | AA22: =Y22+Z22 -> 0 | AF22: =AD22+AE22 -> 0 | AK22: =AI22+AJ22 -> 0 | AP22: =AN22+AO22 -> 0 | AU22: =AS22+AT22 -> 0 | AW22: 8 | AX22: =AS35 -> 0 | AY22: =AX22/$B$9 -> #DIV/0! | AZ22: =AZ21-AX22 -> -73392524 | BA22: =1-SUM($AY$15:AY22) -> #DIV/0! | BB22: Soportes: Folios:
A23: MAQUETA 3D (De acuerdo con las especificaciones de la ficha técnica) | F23: 1 | H23: JHJ1752 | J23: 1214984.9 | K23: =+J23*19% -> 230847.13 | L23: =J23+K23 -> 1445832 | Q23: =O23+P23 -> 0 | V23: =T23+U23 -> 0 | AA23: =Y23+Z23 -> 0 | AF23: =AD23+AE23 -> 0 | AK23: =AI23+AJ23 -> 0 | AP23: =AN23+AO23 -> 0 | AU23: =AS23+AT23 -> 0 | AW23: TOTAL | AX23: =SUM(AX15:AX22) -> 73392524 | AY23: =SUM(AY15:AY22) -> #DIV/0! | AZ23: =$B$9-AX23 -> -73392524 | BA23: =AZ23/B9 -> #DIV/0!
A24: TEATRINO (De acuerdo con las especificaciones de la ficha técnica) | F24: 1 | H24: JHJ1752 | J24: 705801.68 | K24: =+J24*19% -> 134102.32 | L24: =J24+K24 -> 839904 | Q24: =O24+P24 -> 0 | V24: =T24+U24 -> 0 | AA24: =Y24+Z24 -> 0 | AF24: =AD24+AE24 -> 0 | AK24: =AI24+AJ24 -> 0 | AP24: =AN24+AO24 -> 0 | AU24: =AS24+AT24 -> 0
A25: CAJÓN PAISAJE SONORO (De acuerdo con las especificaciones de la ficha técnica) | F25: 1 | H25: JHJ1752 | J25: 765282.35 | K25: =+J25*19% -> 145403.65 | L25: =J25+K25 -> 910686 | Q25: =O25+P25 -> 0 | V25: =T25+U25 -> 0 | AA25: =Y25+Z25 -> 0 | AF25: =AD25+AE25 -> 0 | AK25: =AI25+AJ25 -> 0 | AP25: =AN25+AO25 -> 0 | AU25: =AS25+AT25 -> 0
A26: CAJÓN ESTRATIGRAFÍA (De acuerdo con las especificaciones de la ficha técnica) | F26: 1 | H26: JHJ1752 | J26: 428709.24 | K26: =+J26*19% -> 81454.756 | L26: =J26+K26 -> 510164 | Q26: =O26+P26 -> 0 | V26: =T26+U26 -> 0 | AA26: =Y26+Z26 -> 0 | AF26: =AD26+AE26 -> 0 | AK26: =AI26+AJ26 -> 0 | AP26: =AN26+AO26 -> 0 | AU26: =AS26+AT26 -> 0
A27: CAJONES SENSORIALES (De acuerdo con las especificaciones de la ficha técnica) | F27: 1 | H27: JHJ1752 | J27: 2724437 | K27: =+J27*19% -> 517643.03 | L27: =J27+K27 -> 3242080 | Q27: =O27+P27 -> 0 | V27: =T27+U27 -> 0 | AA27: =Y27+Z27 -> 0 | AF27: =AD27+AE27 -> 0 | AK27: =AI27+AJ27 -> 0 | AP27: =AN27+AO27 -> 0 | AU27: =AS27+AT27 -> 0
A28: CAJÓN MAPA DEL RECORRIDO (De acuerdo con las especificaciones de la ficha técnica) | F28: 1 | H28: JHJ1752 | J28: 226702.52 | K28: =+J28*19% -> 43073.479 | L28: =J28+K28 -> 269776 | Q28: =O28+P28 -> 0 | V28: =T28+U28 -> 0 | AA28: =Y28+Z28 -> 0 | AF28: =AD28+AE28 -> 0 | AK28: =AI28+AJ28 -> 0 | AP28: =AN28+AO28 -> 0 | AU28: =AS28+AT28 -> 0
A29: ROMPECABEZAS MAGNÉTICO (De acuerdo con las especificaciones de la ficha técnica) | F29: 1 | H29: JHJ1752 | J29: 440095.8 | K29: =+J29*19% -> 83618.202 | L29: =J29+K29 -> 523714
A30: BANCAS PLEGABLES (De acuerdo con las especificaciones de la ficha técnica) | F30: 1 | H30: JHJ1752 | J30: 1529042 | K30: =+J30*19% -> 290517.98 | L30: =J30+K30 -> 1819560
L34: =J34+K34 -> 0 | Q34: =O34+P34 -> 0 | V34: =T34+U34 -> 0 | AA34: =Y34+Z34 -> 0 | AF34: =AD34+AE34 -> 0 | AK34: =AI34+AJ34 -> 0 | AP34: =AN34+AO34 -> 0 | AU34: =AS34+AT34 -> 0
H35: TOTAL PAGO 1: | J35: =SUM(L15:L34) -> 73392524 | M35: TOTAL PAGO 2: | O35: =SUM(Q15:Q34) -> 0 | R35: TOTAL PAGO 3: | T35: =SUM(V15:V34) -> 0 | W35: TOTAL PAGO 4: | Y35: =SUM(AA15:AA34) -> 0 | AB35: TOTAL PAGO 5: | AD35: =SUM(AF15:AF34) -> 0 | AG35: TOTAL PAGO 6: | AI35: =SUM(AK15:AK34) -> 0 | AL35: TOTAL PAGO 7: | AN35: =SUM(AP15:AP34) -> 0 | AQ35: TOTAL PAGO 8: | AS35: =SUM(AU15:AU34) -> 0
A37: FIRMA APOYO A LA SUPERVISIÓN | H37: FIRMA SUPERVISOR
B40: NOMBRE: | I40: NOMBRE: | J40: ='2. C.S.'!Z70 -> M.g. P.s Juan José Gómez Acosta
B41: CC. | I41: DEPENDENCIA | K41: ='2. C.S.'!Z71 -> Subdirección de apropiación social y relacionamiento con el ciudadano
A44: Con la firma del presente documento certifico la veracidad de la información consignada

Sheet .
C1: Lista Desplegable | G1: Lista Desplegable | H1: Lista Desplegable
C2: ENERO | D2: SALDO POR CANCELAR | G2: ARRENDAMIENTO | H2: ARRENDAMIENTOS
C3: FEBRERO | D3: SALDO POR LIBERAR | G3: COMODATO | H3: CONTRATO DE OBRA
C4: MARZO | G4: COMPRAVENTA | H4: CONSULTORÍA (INTERVENTORÍA)
C5: ABRIL | D5: Lista Desplegable | G5: CONCESION | H5: PRESTACIÓN DE SERVICIOS PERSONA NATURAL
C6: MAYO | D6: Cesión | G6: CONSULTORÍA - INTERVENTORIA | H6: OTRO TIPO DE NATURALEZA DE CONTRATOS
C7: JUNIO | D7: Terminación Anticipada | E7: Lista Desplegable | G7: CONTRATO INTERADMINISTRATIVO
A8: Lista Desplegable | C8: JULIO | D8: Suspensión | E8: AHORROS | G8: CONVENIO DE ASOCIACIÓN
A9: 2018 | C9: AGOSTO | D9: Prórroga | E9: CORRIENTE | G9: CONVENIO INTERADMINISTRATIVO | H9: Lista Desplegable
A10: 2019 | C10: SEPTIEMBRE | D10: Adición | G10: CONVENIO DE COOPERACIÓN Y ASISTENCIA | H10: C.C.
A11: 2020 | C11: OCTUBRE | D11: Adición y Prórroga | G11: LEASING | H11: T.I.
C12: NOVIEMBRE | G12: MANDATO | H12: C.E.
C13: DICIEMBRE | G13: OBRA | H13: P.P
G14: PRESTACIÓN DE SERVICIOS PERSONA JURIDICA | H14: NIT
G15: SUMINISTRO | H15: N/A
C16: Lista Desplegable | E16: Lista Desplegable
C17: CEDENTE | E17: SI
C18: CESIONARIO | E18: NO
