Workbook

Sheet OCTUBRE
A2: Formato - EJECUCION PRESUPUESTAL Y DE TESORERIA ACUMULADA Convenio No. SS-CDCVI-522-2023
A3: EMPRESA SOCIAL DEL ESTADO REGIÓN DE SALUD MEDINA
A4: INFORME ACUMULADO A 31 DE AGOSTO DEL 2023
A6: A | B6: B | C6: D | D6: E | E6: F | F6: G | G6: H | H6: I | I6: J | J6: K | K6: L | L6: M | M6: N | N6: O | O6: P | P6: Q | Q6: R | R6: S | S6: T
A7: Código ptal = Cláusulas del convenio. | B7: Concepto | C7: Apropiación Ptal | D7: No. CDP | E7: Valor CDP | F7: No. RPC | G7: Fecha RPC (dia/mes/año) | H7: Valor RPC | I7: GIRO (ptal) | J7: Valor Giro Neto | K7: No. Comprobante Egreso | L7: Fecha Comprobante Egreso | M7: Nit / CC | N7: Beneficiario | O7: Fecha Giro Neto = al extracto (dia/mes/año) | P7: Codigo ó No. Transferencia = al extracto ( Si lo hubiere ) | Q7: Saldo : Reflejar uno solo POR cada RUBRO (columna D - columnaJ) | R7: Valor de descuentos, Impuestos, retenciones, etc. ( Si lo hubiere )* | S7: Observaciones (si las ubiere Codificarlas 1, 2, 3, 4….. Y explicarlas en Notas y observaciones)
A8: 2.1.2.02.01.003 | B8: Otros bienes transportables (excepto productos metálicos, maquinaria y equipo) | E8: =SUM(E9:E11) -> 0 | H8: =SUM(H9:H11) -> 0 | I8: =SUM(I9:I11) -> 0 | J8: =SUM(J9:J11) -> 0 | Q8: =+C8-I8 -> 0 | R8: =SUM(R9:R11) -> 0
R9: =+I9-J9 -> 0
R10: =+I10-J10 -> 0
R11: =+I11-J11 -> 0
A12: 2.1.2.02.02.007 | B12: Servicios financieros y servicios conexos; servicios inmobiliarios; y servicios de arrendamiento y leasing | E12: =SUM(E13:E14) -> 0 | H12: =SUM(H13:H14) -> 0 | I12: =SUM(I13:I14) -> 0 | J12: =SUM(J13:J14) -> 0 | L12: =SUM(L13:L14) -> 0 | M12: =SUM(M13:M14) -> 0 | N12: =SUM(N13:N14) -> 0 | O12: =SUM(O13:O14) -> 0 | P12: =SUM(P13:P14) -> 0 | Q12: =+C12-I12 -> 0 | R12: =SUM(R13:R14) -> 0
A15: 2.1.2.02.02.008 | B15: Servicios prestados a las empresas y servicios de producción | E15: =SUM(E16:E32) -> 0 | H15: =SUM(H16:H32) -> 0 | I15: =SUM(I16:I32) -> 0 | J15: =SUM(J16:J32) -> 0 | L15: =SUM(L16:L32) -> 0 | N15: =SUM(N16:N32) -> 0 | O15: =SUM(O16:O32) -> 0 | P15: =SUM(P16:P32) -> 0 | Q15: =+E15-I15 -> 0 | R15: =SUM(R16:R32) -> 0
R16: =+I16-J16 -> 0
R17: =+I17-J17 -> 0
R18: =+I18-J18 -> 0
R19: =+I19-J19 -> 0
R20: =+I20-J20 -> 0
R21: =+I21-J21 -> 0
R22: =+I22-J22 -> 0
R23: =+I23-J23 -> 0
R24: =+I24-J24 -> 0
R25: =+I25-J25 -> 0
R26: =+I26-J26 -> 0
R28: =+I28-J28 -> 0
... R30: =+I30-J30 -> 0
R31: =+I31-J31 -> 0 | S31: 1
R32: =+I32-J32 -> 0
A33: 2.4.5.01.03 | B33: Otros bienes transportables (excepto productos metálicos, maquinaria y equipo) | E33: =SUM(E34:E39) -> 0 | H33: =SUM(H34:H39) -> 0 | I33: =SUM(I34:I39) -> 0 | J33: =SUM(J34:J39) -> 0 | L33: =SUM(L34:L35) -> 0 | N33: =SUM(N34:N35) -> 0 | O33: =SUM(O34:O35) -> 0 | P33: =SUM(P34:P35) -> 0 | Q33: =+C33-I33 -> 0 | R33: =SUM(R34:R39) -> 0 | S33: NA
R34: =+I34-J34 -> 0
R35: =+I35-J35 -> 0
R36: =+I36-J36 -> 0
A40: 2.4.5.01.04 | B40: Productos metálicos, maquinaria y equipo | E40: =SUM(E41:E42) -> 0 | H40: =SUM(H41:H42) -> 0 | I40: =SUM(I41:I42) -> 0 | J40: =SUM(J41:J42) -> 0 | L40: =SUM(L41:L42) -> 0 | N40: =SUM(N41:N42) -> 0 | O40: =SUM(O41:O42) -> 0 | P40: =SUM(P41:P42) -> 0 | Q40: =+C40-I40 -> 0 | R40: =SUM(R41:R42) -> 0
R41: =+I41-J41 -> 0
R42: =+I42-J42 -> 0
A43: 2.4.5.02.06 | B43: Comercio y distribución; alojamiento; servicios de suministro de comidas y bebidas; servicios de transporte; y servicios de distribución de electricidad, gas y agua | E43: =SUM(E44:E45) -> 0 | H43: =SUM(H44:H45) -> 0 | I43: =SUM(I44:I45) -> 0 | J43: =SUM(J44:J45) -> 0 | L43: =SUM(L44:L45) -> 0 | M43: =SUM(M44:M45) -> 0 | N43: =SUM(N44:N45) -> 0 | O43: =SUM(O44:O45) -> 0 | P43: =SUM(P44:P45) -> 0 | Q43: =+C43-I43 -> 0 | R43: =SUM(R44:R45) -> 0
R44: =+I44-J44 -> 0
R45: =+I45-J45 -> 0
A46: 2.4.5.02.07 | B46: Servicios financieros y servicios conexos; servicios inmobiliarios; y servicios de arrendamiento y leasing | E46: =SUM(E47:E48) -> 0 | H46: =SUM(H47:H48) -> 0 | I46: =SUM(I47:I48) -> 0 | J46: =SUM(J47:J48) -> 0 | L46: =SUM(L47:L48) -> 0 | M46: =SUM(M47:M48) -> 0 | N46: =SUM(N47:N48) -> 0 | O46: =SUM(O47:O48) -> 0 | P46: =SUM(P47:P48) -> 0 | Q46: =+C46-I46 -> 0 | R46: =SUM(R47:R48) -> 0
R48: =+I48-J48 -> 0
A49: 2.4.5.02.08 | B49: Servicios prestados a las empresas y servicios de producción | C49: 17136321 | E49: =SUM(E50:E57) -> 0 | H49: =SUM(H50:H57) -> 0 | I49: =SUM(I50:I57) -> 0 | J49: =SUM(J50:J57) -> 0 | L49: =SUM(L50:L57) -> 0 | M49: =SUM(M50:M57) -> 0 | N49: =SUM(N50:N57) -> 0 | O49: =SUM(O50:O57) -> 0 | P49: =SUM(P50:P57) -> 0 | Q49: =+C49-I49 -> 17136321 | R49: =SUM(R50:R57) -> 0
R50: =+I50-J50 -> 0
...

Sheet NOVIEMBRE1 
A2: Formato - EJECUCION PRESUPUESTAL Y DE TESORERIA ACUMULADA Convenio No. SS-CDCVI-522-2023
A3: EMPRESA SOCIAL DEL ESTADO REGIÓN DE SALUD MEDINA
A4: INFORME ACUMULADO A 31 DE AGOSTO DEL 2023
A6: A | B6: B | C6: D | D6: E | E6: F | F6: G | G6: H | H6: I | I6: J | J6: K | K6: L | L6: M | M6: N | N6: O | O6: P | P6: Q | Q6: R | R6: S | S6: T
A7: Código ptal = Cláusulas del convenio. | B7: Concepto | C7: Apropiación Ptal | D7: No. CDP | E7: Valor CDP | F7: No. RPC | G7: Fecha RPC (dia/mes/año) | H7: Valor RPC | I7: GIRO (ptal) | J7: Valor Giro Neto | K7: No. Comprobante Egreso | L7: Fecha Comprobante Egreso | M7: Nit / CC | N7: Beneficiario | O7: Fecha Giro Neto = al extracto (dia/mes/año) | P7: Codigo ó No. Transferencia = al extracto ( Si lo hubiere ) | Q7: Saldo : Reflejar uno solo POR cada RUBRO (columna D - columnaJ) | R7: Valor de descuentos, Impuestos, retenciones, etc. ( Si lo hubiere )* | S7: Observaciones (si las ubiere Codificarlas 1, 2, 3, 4….. Y explicarlas en Notas y observaciones)
A8: 2.1.2.02.01.003 | B8: Otros bienes transportables (excepto productos metálicos, maquinaria y equipo) | E8: =SUM(E9:E11) -> 0 | H8: =SUM(H9:H11) -> 0 | I8: =SUM(I9:I11) -> 0 | J8: =SUM(J9:J11) -> 0 | Q8: =+C8-I8 -> 0 | R8: =SUM(R9:R11) -> 0
R9: =+I9-J9 -> 0
R10: =+I10-J10 -> 0
R11: =+I11-J11 -> 0
A12: 2.1.2.02.02.007 | B12: Servicios financieros y servicios conexos; servicios inmobiliarios; y servicios de arrendamiento y leasing | E12: =SUM(E13:E14) -> 0 | H12: =SUM(H13:H14) -> 0 | I12: =SUM(I13:I14) -> 0 | J12: =SUM(J13:J14) -> 0 | L12: =SUM(L13:L14) -> 0 | M12: =SUM(M13:M14) -> 0 | N12: =SUM(N13:N14) -> 0 | O12: =SUM(O13:O14) -> 0 | P12: =SUM(P13:P14) -> 0 | Q12: =+C12-I12 -> 0 | R12: =SUM(R13:R14) -> 0
A15: 2.1.2.02.02.008 | B15: Servicios prestados a las empresas y servicios de producción | E15: =SUM(E16:E32) -> 0 | H15: =SUM(H16:H32) -> 0 | I15: =SUM(I16:I32) -> 0 | J15: =SUM(J16:J32) -> 0 | L15: =SUM(L16:L32) -> 0 | N15: =SUM(N16:N32) -> 0 | O15: =SUM(O16:O32) -> 0 | P15: =SUM(P16:P32) -> 0 | Q15: =+E15-I15 -> 0 | R15: =SUM(R16:R32) -> 0
R16: =+I16-J16 -> 0
R17: =+I17-J17 -> 0
R18: =+I18-J18 -> 0
R19: =+I19-J19 -> 0
R20: =+I20-J20 -> 0
R21: =+I21-J21 -> 0
R22: =+I22-J22 -> 0
R23: =+I23-J23 -> 0
R24: =+I24-J24 -> 0
R25: =+I25-J25 -> 0
R26: =+I26-J26 -> 0
R28: =+I28-J28 -> 0
... R30: =+I30-J30 -> 0
R31: =+I31-J31 -> 0 | S31: 1
R32: =+I32-J32 -> 0
A33: 2.4.5.01.03 | B33: Otros bienes transportables (excepto productos metálicos, maquinaria y equipo) | E33: =SUM(E34:E39) -> 0 | H33: =SUM(H34:H39) -> 0 | I33: =SUM(I34:I39) -> 0 | J33: =SUM(J34:J39) -> 0 | L33: =SUM(L34:L35) -> 0 | N33: =SUM(N34:N35) -> 0 | O33: =SUM(O34:O35) -> 0 | P33: =SUM(P34:P35) -> 0 | Q33: =+C33-I33 -> 0 | R33: =SUM(R34:R39) -> 0 | S33: NA
R34: =+I34-J34 -> 0
R35: =+I35-J35 -> 0
R36: =+I36-J36 -> 0
A40: 2.4.5.01.04 | B40: Productos metálicos, maquinaria y equipo | E40: =SUM(E41:E42) -> 0 | H40: =SUM(H41:H42) -> 0 | I40: =SUM(I41:I42) -> 0 | J40: =SUM(J41:J42) -> 0 | L40: =SUM(L41:L42) -> 0 | N40: =SUM(N41:N42) -> 0 | O40: =SUM(O41:O42) -> 0 | P40: =SUM(P41:P42) -> 0 | Q40: =+C40-I40 -> 0 | R40: =SUM(R41:R42) -> 0
R41: =+I41-J41 -> 0
R42: =+I42-J42 -> 0
A43: 2.4.5.02.06 | B43: Comercio y distribución; alojamiento; servicios de suministro de comidas y bebidas; servicios de transporte; y servicios de distribución de electricidad, gas y agua | E43: =SUM(E44:E45) -> 0 | H43: =SUM(H44:H45) -> 0 | I43: =SUM(I44:I45) -> 0 | J43: =SUM(J44:J45) -> 0 | L43: =SUM(L44:L45) -> 0 | M43: =SUM(M44:M45) -> 0 | N43: =SUM(N44:N45) -> 0 | O43: =SUM(O44:O45) -> 0 | P43: =SUM(P44:P45) -> 0 | Q43: =+C43-I43 -> 0 | R43: =SUM(R44:R45) -> 0
R44: =+I44-J44 -> 0
R45: =+I45-J45 -> 0
A46: 2.4.5.02.07 | B46: Servicios financieros y servicios conexos; servicios inmobiliarios; y servicios de arrendamiento y leasing | E46: =SUM(E47:E48) -> 0 | H46: =SUM(H47:H48) -> 0 | I46: =SUM(I47:I48) -> 0 | J46: =SUM(J47:J48) -> 0 | L46: =SUM(L47:L48) -> 0 | M46: =SUM(M47:M48) -> 0 | N46: =SUM(N47:N48) -> 0 | O46: =SUM(O47:O48) -> 0 | P46: =SUM(P47:P48) -> 0 | Q46: =+C46-I46 -> 0 | R46: =SUM(R47:R48) -> 0
R48: =+I48-J48 -> 0
A49: 2.4.5.02.08 | B49: Servicios prestados a las empresas y servicios de producción | C49: 17136321 | E49: =SUM(E50:E57) -> 0 | H49: =SUM(H50:H57) -> 0 | I49: =SUM(I50:I57) -> 0 | J49: =SUM(J50:J57) -> 0 | L49: =SUM(L50:L57) -> 0 | M49: =SUM(M50:M57) -> 0 | N49: =SUM(N50:N57) -> 0 | O49: =SUM(O50:O57) -> 0 | P49: =SUM(P50:P57) -> 0 | Q49: =+C49-I49 -> 17136321 | R49: =SUM(R50:R57) -> 0
R50: =+I50-J50 -> 0
...

Sheet DICIEMBRE
A2: Formato - EJECUCION PRESUPUESTAL Y DE TESORERIA ACUMULADA Convenio No. SS-CDCVI-522-2023
A3: EMPRESA SOCIAL DEL ESTADO REGIÓN DE SALUD MEDINA
A4: INFORME ACUMULADO A 31 DE AGOSTO DEL 2023
A6: A | B6: B | C6: D | D6: E | E6: F | F6: G | G6: H | H6: I | I6: J | J6: K | K6: L | L6: M | M6: N | N6: O | O6: P | P6: Q | Q6: R | R6: S | S6: T
A7: Código ptal = Cláusulas del convenio. | B7: Concepto | C7: Apropiación Ptal | D7: No. CDP | E7: Valor CDP | F7: No. RPC | G7: Fecha RPC (dia/mes/año) | H7: Valor RPC | I7: GIRO (ptal) | J7: Valor Giro Neto | K7: No. Comprobante Egreso | L7: Fecha Comprobante Egreso | M7: Nit / CC | N7: Beneficiario | O7: Fecha Giro Neto = al extracto (dia/mes/año) | P7: Codigo ó No. Transferencia = al extracto ( Si lo hubiere ) | Q7: Saldo : Reflejar uno solo POR cada RUBRO (columna D - columnaJ) | R7: Valor de descuentos, Impuestos, retenciones, etc. ( Si lo hubiere )* | S7: Observaciones (si las ubiere Codificarlas 1, 2, 3, 4….. Y explicarlas en Notas y observaciones)
A8: 2.1.2.02.01.003 | B8: Otros bienes transportables (excepto productos metálicos, maquinaria y equipo) | E8: =SUM(E9:E11) -> 0 | H8: =SUM(H9:H11) -> 0 | I8: =SUM(I9:I11) -> 0 | J8: =SUM(J9:J11) -> 0 | Q8: =+C8-I8 -> 0 | R8: =SUM(R9:R11) -> 0
R9: =+I9-J9 -> 0
R10: =+I10-J10 -> 0
R11: =+I11-J11 -> 0
A12: 2.1.2.02.02.007 | B12: Servicios financieros y servicios conexos; servicios inmobiliarios; y servicios de arrendamiento y leasing | E12: =SUM(E13:E14) -> 0 | H12: =SUM(H13:H14) -> 0 | I12: =SUM(I13:I14) -> 0 | J12: =SUM(J13:J14) -> 0 | L12: =SUM(L13:L14) -> 0 | M12: =SUM(M13:M14) -> 0 | N12: =SUM(N13:N14) -> 0 | O12: =SUM(O13:O14) -> 0 | P12: =SUM(P13:P14) -> 0 | Q12: =+C12-I12 -> 0 | R12: =SUM(R13:R14) -> 0
A15: 2.1.2.02.02.008 | B15: Servicios prestados a las empresas y servicios de producción | E15: =SUM(E16:E32) -> 0 | H15: =SUM(H16:H32) -> 0 | I15: =SUM(I16:I32) -> 0 | J15: =SUM(J16:J32) -> 0 | L15: =SUM(L16:L32) -> 0 | N15: =SUM(N16:N32) -> 0 | O15: =SUM(O16:O32) -> 0 | P15: =SUM(P16:P32) -> 0 | Q15: =+E15-I15 -> 0 | R15: =SUM(R16:R32) -> 0
R16: =+I16-J16 -> 0
R17: =+I17-J17 -> 0
R18: =+I18-J18 -> 0
R19: =+I19-J19 -> 0
R20: =+I20-J20 -> 0
R21: =+I21-J21 -> 0
R22: =+I22-J22 -> 0
R23: =+I23-J23 -> 0
R24: =+I24-J24 -> 0
R25: =+I25-J25 -> 0
R26: =+I26-J26 -> 0
R28: =+I28-J28 -> 0
... R30: =+I30-J30 -> 0
R31: =+I31-J31 -> 0 | S31: 1
R32: =+I32-J32 -> 0
A33: 2.4.5.01.03 | B33: Otros bienes transportables (excepto productos metálicos, maquinaria y equipo) | C33: 17690051 | E33: =SUM(E34:E39) -> 17000000 | H33: =SUM(H34:H39) -> 17000000 | I33: =SUM(I34:I39) -> 16945037 | J33: =SUM(J34:J39) -> 15807800 | L33: =SUM(L34:L35) -> 45287 | N33: =SUM(N34:N35) -> 0 | O33: =SUM(O34:O35) -> 0 | P33: =SUM(P34:P35) -> 0 | Q33: =+C33-I33 -> 745014 | R33: =SUM(R34:R39) -> 1137237 | S33: NA
B34: ISEL | D34: 944 | E34: 17000000 | F34: 958 | G34: 45282 | H34: 17000000 | I34: 16945037 | J34: 15807800 | K34: 21690 | L34: 45287 | M34: 830086539 | N34: ISEL | R34: =+I34-J34 -> 1137237
R35: =+I35-J35 -> 0
R36: =+I36-J36 -> 0
A40: 2.4.5.01.04 | B40: Productos metálicos, maquinaria y equipo | E40: =SUM(E41:E42) -> 0 | H40: =SUM(H41:H42) -> 0 | I40: =SUM(I41:I42) -> 0 | J40: =SUM(J41:J42) -> 0 | L40: =SUM(L41:L42) -> 0 | N40: =SUM(N41:N42) -> 0 | O40: =SUM(O41:O42) -> 0 | P40: =SUM(P41:P42) -> 0 | Q40: =+C40-I40 -> 0 | R40: =SUM(R41:R42) -> 0
R41: =+I41-J41 -> 0
R42: =+I42-J42 -> 0
A43: 2.4.5.02.06 | B43: Comercio y distribución; alojamiento; servicios de suministro de comidas y bebidas; servicios de transporte; y servicios de distribución de electricidad, gas y agua | E43: =SUM(E44:E45) -> 0 | H43: =SUM(H44:H45) -> 0 | I43: =SUM(I44:I45) -> 0 | J43: =SUM(J44:J45) -> 0 | L43: =SUM(L44:L45) -> 0 | M43: =SUM(M44:M45) -> 0 | N43: =SUM(N44:N45) -> 0 | O43: =SUM(O44:O45) -> 0 | P43: =SUM(P44:P45) -> 0 | Q43: =+C43-I43 -> 0 | R43: =SUM(R44:R45) -> 0
R45: =+I45-J45 -> 0
A46: 2.4.5.02.07 | B46: Servicios financieros y servicios conexos; servicios inmobiliarios; y servicios de arrendamiento y leasing | E46: =SUM(E47:E48) -> 0 | H46: =SUM(H47:H48) -> 0 | I46: =SUM(I47:I48) -> 0 | J46: =SUM(J47:J48) -> 0 | L46: =SUM(L47:L48) -> 0 | M46: =SUM(M47:M48) -> 0 | N46: =SUM(N47:N48) -> 0 | O46: =SUM(O47:O48) -> 0 | P46: =SUM(P47:P48) -> 0 | Q46: =+C46-I46 -> 0 | R46: =SUM(R47:R48) -> 0
R48: =+I48-J48 -> 0
A49: 2.4.5.02.08 | B49: Servicios prestados a las empresas y servicios de producción | C49: 17136321 | E49: =SUM(E50:E57) -> 30671000 | H49: 17136321 | I49: =SUM(I50:I57) -> 16680900 | J49: =SUM(J50:J57) -> 15379260 | L49: =SUM(L50:L57) -> 90574 | M49: =SUM(M50:M57) -> 132870396 | N49: =SUM(N50:N57) -> 0 | O49: =SUM(O50:O57) -> 90574 | P49: =SUM(P50:P57) -> 0 | Q49: =+C49-I49 -> 455421 | R49: =SUM(R50:R57) -> 1301640
B50: FABIAN ESTEBAN ERASO | D50: 883 | E50: 27500000 | F50: 896 | G50: 45245 | H50: 27500000 | I50: 13509900 | J50: 12239970 | K50: 21662 | L50: 45287 | M50: 80076147 | N50: FABIAN ESTEBAN ERASO | O50: 45287 | R50: =+I50-J50 -> 1269930
B51: SANDRA LILIANA TOVAR | D51: 908 | E51: 3171000 | F51: 921 | G51: 45261 | H51: 3171000 | I51: 3171000 | J51: 3139290 | K51: 21669 | L51: 45287 | M51: 52794249 | N51: SANDRA LILIANA TOVAR | O51: 45287 | R51: =+I51-J51 -> 31710
...

Sheet resumen
B3: Cuadro resumen Ejecución final convenio (Q debe ir en el oficio remisorio)
A5: Concepto (Igual al Convenio) | D5: Apropiacion Total | E5: Total Pagos | F5: Saldo | G5: %
A6: ITEM | B6: No. Rubro | C6: Nombre del rubro
A7: 1 | B7: =+DICIEMBRE!A33 -> 2.4.5.01.03 | C7: =+DICIEMBRE!B33 -> Otros bienes transportables (excepto productos metálicos, maquinaria y equipo) | D7: =+DICIEMBRE!C33 -> 17690051 | E7: =+DICIEMBRE!I34 -> 16945037 | F7: =D7-E7 -> 745014 | G7: =+E7/D7 -> 0.95788514
A8: 2 | B8: =+DICIEMBRE!A49 -> 2.4.5.02.08 | C8: =+DICIEMBRE!B49 -> Servicios prestados a las empresas y servicios de producción | D8: =+DICIEMBRE!H49 -> 17136321 | E8: =+DICIEMBRE!I49 -> 16680900 | F8: =D8-E8 -> 455421 | G8: =+E8/D8 -> 0.97342364
A9: 3 | B9: =+DICIEMBRE!A58 -> 2.4.5.02.09 | C9: =+DICIEMBRE!B58 -> Servicios para la comunidad, sociales y personales | D9: =+DICIEMBRE!H58 -> 325590098 | E9: =+OCTUBRE!I58+'NOVIEMBRE1 '!I58+DICIEMBRE!I58 -> 325288000 | F9: =D9-E9 -> 302098 | G9: =+E9/D9 -> 0.99907215
A10: Total | D10: =SUM(D7:D9) -> 360416470 | E10: =SUM(E7:E9) -> 358913937 | F10: =SUM(F7:F9) -> 1502533 | G10: =+E10/D10 -> 0.99583112
A14: LUZ MERY ACOSTA VARGAS
A15: Gerente E.S.E. Hospital San Antonio de Guatavita
A16: gerencia@hospitalguatavita.gov.co
B20: RENDIMIENTOS FINANCIEROS | C20: SALDO
B21: 45170 | C21: 14396.84
B22: 45200 | C22: 44637.71
B23: 45231 | C23: 16175.62
B24: 45261 | C24: 25940.13
B25: 45292 | C25: 67.89
B26: 45323 | C26: 63.51
B27: 45352 | C27: 25.28
B28: TOTAL | C28: =SUM(C21:C27) -> 101306.98
D30: DETALLE | F30: SALDO
D31: Ingresos | F31: =+D10 -> 360416470
D32: - Pagos | F32: =+E10 -> 358913937
D33: + Rendimientos Financieros | F33: =+C28 -> 101306.98
D34: SALDO EXTRACTO | F34: =+F31-F32+F33 -> 1603840

Sheet anexo
A2: Anexo - Valor de descuentos cancelados de las ordenes de pago del Convenio No. SS-CDCVI-568-2023
A3: EMPRESA SOCIAL DEL ESTADO HOSPITAL SAN ANTONIO DE GUATAVITA
A4: INFORME ACUMULADO A 31 DE DICIEMBRE DEL 2023
A6: descuentos efectuados en el mes de | B6: Valor de descuentos pagados NETOS, Impuestos, retenciones, etc. ( Si lo hubiere )* | C6: No. Comprobante Egreso | D6: Fecha Comprobante Egreso | E6: Nit / CC | F6: Beneficiario | G6: Cuenta bancaria No. | H6: Codigo ó No. Transferencia = al extracto ( Si lo hubiere ) | I6: Observaciones (si las ubiere Codificarlas 1, 2, 3, 4….. Y explicarlas en Notas y observaciones)
A7: Julio | B7: 0 | C7: 0 | D7: NA | E7: NA | F7: NA | G7: NA | H7: NA | I7: NA
B8: 0 | C8: 0 | D8: NA | E8: NA | F8: NA | G8: NA | H8: NA | I8: NA
B9: 0 | C9: 0 | D9: NA | E9: NA | F9: NA | G9: NA | H9: NA | I9: NA
A10: Agosto | B10: 0 | C10: 0 | D10: NA | E10: NA | F10: NA | G10: NA | H10: NA | I10: NA
B11: 0 | C11: 0 | D11: NA | E11: NA | F11: NA | G11: NA | H11: NA | I11: NA
B12: 0 | C12: 0 | D12: NA | E12: NA | F12: NA | G12: NA | H12: NA | I12: NA
A13: Septiembre | B13: 0 | C13: 0 | D13: NA | E13: NA | F13: NA | G13: NA | H13: NA | I13: NA
B14: 30240 | C14: 18448 | D14: 44840 | E14: 8644922 | F14: HERNAN EMILIO OQUENDO SARMIENTO | G14: NA | H14: NA | I14: NA
B15: 0 | C15: 0 | D15: NA | E15: NA | F15: NA | G15: NA | H15: NA | I15: NA
A16: Octubre | B16: 0 | C16: 0 | D16: NA | E16: NA | F16: NA | G16: NA | H16: NA | I16: NA
B17: 0 | C17: 0 | D17: NA | E17: NA | F17: NA | G17: NA | H17: NA | I17: NA
B18: 0 | C18: 0 | D18: NA | E18: NA | F18: NA | G18: NA | H18: NA | I18: NA
A19: Noviembre | B19: 0 | C19: 0 | D19: NA | E19: NA | F19: NA | G19: NA | H19: NA | I19: NA
B20: 0 | C20: 0 | D20: NA | E20: NA | F20: NA | G20: NA | H20: NA | I20: NA
B21: 0 | C21: 0 | D21: NA | E21: NA | F21: NA | G21: NA | H21: NA | I21: NA
A22: Diciembre | B22: 0 | C22: 0 | D22: NA | E22: NA | F22: NA | G22: NA | H22: NA | I22: NA
B23: 162184 | C23: 19079 | D23: 44923 | E23: 80195206 | F23: JHON ALEXANDER SUAREZ | G23: NA | H23: NA | I23: NA
B24: 296640 | C24: 19080 | D24: 44923 | E24: 79160650 | F24: ANTONIO MARIA QUIÑONES | G24: NA | H24: NA | I24: NA
B25: 75992 | C25: 19081 | D25: 44923 | E25: 1020754431 | F25: FELIX ROBERTO MORATO | G25: NA | H25: NA | I25: NA
B26: 827574 | C26: 19083 | D26: 44923 | E26: 19405784 | F26: OMAR PENAGOS JAIMES | G26: NA | H26: NA | I26: NA
B27: 77810 | C27: 19084 | D27: 44923 | E27: 81720297 | F27: CRISTIAN OLARTE | G27: NA | H27: NA | I27: NA
B28: 57036 | C28: 19085 | D28: 44923 | E28: 1010181278 | F28: SAYDA MILENA CASAS | G28: NA | H28: NA | I28: NA
B29: 1277810 | C29: 19151 | D29: 44923 | E29: 80165844 | F29: MIGUEL ANGEL RIVERA SALGADO | G29: NA | H29: NA | I29: NA
B30: 0 | C30: 0 | D30: NA | E30: NA | F30: NA | G30: NA | H30: NA | I30: NA
B31: 0 | C31: 0 | D31: NA | E31: NA | F31: NA | G31: NA | H31: NA | I31: NA
B32: 0 | C32: 0 | D32: NA | E32: NA | F32: NA | G32: NA | H32: NA | I32: NA
B33: 0 | C33: 0 | D33: NA | E33: NA | F33: NA | G33: NA | H33: NA | I33: NA
B34: 0 | C34: 0 | D34: NA | E34: NA | F34: NA | G34: NA | H34: NA | I34: NA
A35: TOTAL | B35: =SUM(B7:B34) -> 2805286
A44: ELIZABETH PARDO SANCHEZ | E44: CLARA PATRICIA ROZO GARZÓN
A45: Gerente E.S.E. Hospital San Antonio de Guatavita | E45: Quien elabora el informe
A46: gerencia@hospitalguatavita.gov.co | E46: contratacion@hospitalguatavita.gov.co
A49: Notas y Observaciones a la información reportada:
A50: 1, -------------------
A51: 2, -------------------
A52: 3, -------------------
...
