Workbook

Sheet Hoja1
D6: CONCURSO DE MÉRITOS ABIERTO
B7: OBJETO: REALIZAR LOS ESTUDIOS Y DISEÑOS PARA LA CONSTRUCCIÓN DE PARQUES DE PROXIMIDAD EN LA LOCALIDAD DE TUNJUELITO”
C8: PROPONENTE 1. | D8: PROPONENTE 2.
B9: CONCEPTO | C9: CONSULTORIAS, INVERSIONES Y PROYECTOS SOCIEDAD POR ACCIONES SIMPLIFICADA | D9: GUSTAVO PALACIOS RUBIANO | E9: PROYECTOS DE INGENIERIA PBS S.A.S | F9: CONSORCIO ARQINGCO
C10: 1 | D10: A | E10: B | F10: 2
B11: BALANCE GENERAL CON CORTE A 31 DE DICIEMBRE DEL AÑO: 2021, 2022 o 2023 | C11: 31-DIC.-2023 RUP | D11: 31-DIC.-2023 RUP | E11: 31-DIC.-2023 RUP | F11: 31-DIC.-2023 RUP
B12: PRESENTACIÓN DE RUP VIGENTE | C12: =IF(C74<=$B$75,"CUMPLE","NO CUMPLE") -> CUMPLE | D12: =IF(D74<=$B$75,"CUMPLE","NO CUMPLE") -> CUMPLE | E12: =IF(E74<=$B$75,"CUMPLE","NO CUMPLE") -> CUMPLE | F12: =+IF(COUNTIF(D12:E12,"NO VIGENTE")>=1,"NO CUMPLE","CUMPLE") -> CUMPLE
B13: INFORMACION TOMADA DEL RUP VIGENTE | C13: 1 | D13: 1 | E13: 1 | F13: 1
B14: ACTIVO CORRIENTE | C14: 9006466154 | D14: 3531285161 | E14: 1290744328 | F14: =SUM(D14:E14) -> 4822029489
B15: PASIVO CORRIENTE | C15: 2686056039 | D15: 633268213 | E15: 458427401 | F15: =SUM(D15:E15) -> 1091695614
B16: ACTIVO TOTAL | C16: 9068940234 | D16: 3997964293 | E16: 1303117137 | F16: =SUM(D16:E16) -> 5301081430
B17: PASIVO TOTAL | C17: 2686056039 | D17: 633268213 | E17: 478427401 | F17: =SUM(D17:E17) -> 1111695614
B18: PATRIMONIO | C18: 6382884195 | D18: 3364696080 | E18: 824689736 | F18: =SUM(D18:E18) -> 4189385816
B19: Activo total-Pasivo total-Patrimonio | C19: =+C16-C17-C18 -> 0 | D19: =+D16-D17-D18 -> 0 | E19: =+E16-E17-E18 -> 0 | F19: =+F16-F17-F18 -> 0
B20: UTILIDAD OPERACIONAL | C20: 729985832 | D20: 385920908 | E20: 249616895 | F20: =SUM(D20:E20) -> 635537803
B21: GASTOS DE INTERESES | C21: 37302801 | D21: 0 | E21: 3414912 | F21: =SUM(D21:E21) -> 3414912
B22: Rentabilidad del Patrimonio = Utilidad Operacional / Patrimonio | C22: =+C20/C18 -> 0.11436614 | D22: =+D20/D18 -> 0.11469711 | E22: =+E20/E18 -> 0.30267976 | F22: =+F20/F18 -> 0.1517019 | H22: Datos para validación financiera | I22: Datos para validación financiera
B23: Rentabilidad del Activo = Utilidad Operacional / Activo Total | C23: =+C20/C16 -> 0.080492959 | D23: =+D20/D16 -> 0.096529353 | E23: =+E20/E16 -> 0.19155369 | F23: =+F20/F16 -> 0.11988833 | H23: MiPyME | I23: No MiPyME (Gran Empresa)
B24: VALOR DEL PRESUPUESTO OFICIAL | C24: =IF(C13=1,$H$24,"") -> 513845286 | D24: =IF(D13=1,$H$24,"") -> 513845286 | E24: =IF(E13=1,$H$24,"") -> 513845286 | F24: =IF(F13=1,$H$24,"") -> 513845286 | H24: 513845286 | I24: =+H24 -> 513845286
B25: CRITERIO DE VERIFICACIÓN FINANCIERA
B26: CUMPLE
B27: NO CUMPLE
B28: CRITERIO DE VERIFICACIÓN FINANCIERA
B29: =IF(F76="MiPyme",CONCATENATE("Índice de Liquidez: Mayor o Igual a ",H29),CONCATENATE("Índice de Liquidez: Mayor o Igual a ",I29)) -> Índice de Liquidez: Mayor o Igual a 1,4 | C29: =IF(C76="MiPyME",IF(C30>=$H$29,$B$26,$B$27),IF(C30>=$I$29,$B$26,$B$27)) -> CUMPLE | D29: =IF(D76="MiPyME",IF(D30>=$H$29,$B$26,$B$27),IF(D30>=$I$29,$B$26,$B$27)) -> CUMPLE | E29: =IF(E76="MiPyME",IF(E30>=$H$29,$B$26,$B$27),IF(E30>=$I$29,$B$26,$B$27)) -> CUMPLE | F29: =IF(F76="MiPyME",IF(F30>=$H$29,$B$26,$B$27),IF(F30>=$I$29,$B$26,$B$27)) -> CUMPLE | H29: 1.4 | I29: 1.4
B30: Activo corriente / Pasivo corriente | C30: =IFERROR(C14/C15,"indeterminado") -> 3.3530448 | D30: =IFERROR(D14/D15,"indeterminado") -> 5.5762868 | E30: =IFERROR(E14/E15,"indeterminado") -> 2.8155916 | F30: =IFERROR(F14/F15,"indeterminado") -> 4.4170091
B31: =IF(F76="MiPyme",(CONCATENATE("Endeudamiento total: Menor o Igual a ",H31)),CONCATENATE("Endeudamiento total: Menor o Igual a ",I31)) -> Endeudamiento total: Menor o Igual a 0,65 | C31: =IF(C76="MiPyME",IF(C32<=$H$31,$B$26,$B$27),IF(C32<=$I$31,$B$26,$B$27)) -> CUMPLE | D31: =IF(D76="MiPyME",IF(D32<=$H$31,$B$26,$B$27),IF(D32<=$I$31,$B$26,$B$27)) -> CUMPLE | E31: =IF(E76="MiPyME",IF(E32<=$H$31,$B$26,$B$27),IF(E32<=$I$31,$B$26,$B$27)) -> CUMPLE | F31: =IF(F76="MiPyME",IF(F32<=$H$31,$B$26,$B$27),IF(F32<=$I$31,$B$26,$B$27)) -> CUMPLE | H31: 0.65 | I31: 0.65
B32: (Pasivo total / Activo total)*100 | C32: =C17/C16 -> 0.29618191 | D32: =D17/D16 -> 0.15839767 | E32: =E17/E16 -> 0.36714075 | F32: =F17/F16 -> 0.2097111
B33: =IF(F76="MiPyme",CONCATENATE("Razón de Cobertura de Intereses Mayor o Igual a ",H33," o Indeterminado"),CONCATENATE("Razón de Cobertura de Intereses Mayor o Igual a ",I33," o Indeterminado")) -> Razón de Cobertura de Intereses Mayor o Igual a 1,5 o Indeterminado | C33: =IF(C76="MiPyME",IF(AND(C34="Indeterminado",C20<0),$B$27,IF(C34>=$H$33,$B$26,$B$27)),IF(AND(C34="Indeterminado",C20>=0),$B$26,IF(C34>=$I$33,$B$26,$B$27))) -> CUMPLE | D33: =IF(D76="MiPyME",IF(AND(D34="Indeterminado",D20<0),$B$27,IF(D34>=$H$33,$B$26,$B$27)),IF(AND(D34="Indeterminado",D20>=0),$B$26,IF(D34>=$I$33,$B$26,$B$27))) -> CUMPLE | E33: =IF(E76="MiPyME",IF(AND(E34="Indeterminado",E20<0),$B$27,IF(E34>=$H$33,$B$26,$B$27)),IF(AND(E34="Indeterminado",E20>=0),$B$26,IF(E34>=$I$33,$B$26,$B$27))) -> CUMPLE | F33: =IF(F76="MiPyME",IF(AND(F34="Indeterminado",F20<0),$B$27,IF(F34>=$H$33,$B$26,$B$27)),IF(AND(F34="Indeterminado",F20>=0),$B$26,IF(F34>=$I$33,$B$26,$B$27))) -> CUMPLE | H33: 1.5 | I33: 1.5
B34: RC= (Utilidad Operacional) / (Gastos de Intereses) | C34: =IFERROR(C20/C21,"Indeterminado") -> 19.569196 | D34: =IFERROR(D20/D21,"Indeterminado") -> Indeterminado | E34: =IFERROR(E20/E21,"Indeterminado") -> 73.096143 | F34: =IFERROR(F20/F21,"Indeterminado") -> 186.10664
B35: =CONCATENATE("CAPITAL DE TRABAJO ≥ A ",TEXT(H35,"#,0#%")," DEL PPTO OFICIAL") -> CAPITAL DE TRABAJO ≥ A 10,0% DEL PPTO OFICIAL | C35: =IF(C76="MiPyME",IF(C36>(C24*$H$35),$B$26,$B$27),IF(C36>(C24*$I$35),$B$26,$B$27)) -> CUMPLE | D35: =IF(D76="MiPyME",IF(D36>(D24*$H$35),$B$26,$B$27),IF(D36>(D24*$I$35),$B$26,$B$27)) -> CUMPLE | E35: =IF(E76="MiPyME",IF(E36>(E24*$H$35),$B$26,$B$27),IF(E36>(E24*$I$35),$B$26,$B$27)) -> CUMPLE | F35: =IF(F76="MiPyME",IF(F36>(F24*$H$35),$B$26,$B$27),IF(F36>(F24*$I$35),$B$26,$B$27)) -> CUMPLE | H35: 0.1 | I35: 0.1
B36: =CONCATENATE("CT = Activo Corriente - Pasivo Corriente ≥ ",TEXT((H24*H35),"$###.###.###.###")) -> CT = Activo Corriente - Pasivo Corriente ≥ $51.384.529 | C36: =C14-C15 -> 6320410115 | D36: =D14-D15 -> 2898016948 | E36: =E14-E15 -> 832316927 | F36: =F14-F15 -> 3730333875 | H36: Nota 1: Para aquellos procesos de selección en los que el plazo estimado de ejecución del contrato sea mayor o igual a 12 meses se solicitará que los proponentes acrediten un capital de trabajo equivalente a dos (2) meses de ejecución del contrato | I36: Nota 2: Se solicitará para aquellos procesos de selección en los que el plazo estimado de ejecución del contrato sea mayor o igual a 24 meses y se calculará conforme a la formula definida de acuerdo con el plazo estimado de ejecución de cada proceso
B37: CRITERIO DE VERIFICACIÓN CAPACIDAD ORGANIZACIONAL | J37: Según Pliego Tipo
B39: =IF(F76="MiPyme",CONCATENATE("Indicador Rentabilidad del Patrimonio",CHAR(10),"Mayor o Igual a ",H39),CONCATENATE("Indicador Rentabilidad del Patrimonio",CHAR(10),"Mayor o Igual a ",I39)) -> Indicador Rentabilidad del Patrimonio Mayor o Igual a 0,03 | C39: =IF(C76="MiPyME",IF(C40>=$H$39,$B$26,$B$27),IF(C40>=$I$39,$B$26,$B$27)) -> CUMPLE | D39: =IF(D76="MiPyME",IF(D40>=$H$39,$B$26,$B$27),IF(D40>=$I$39,$B$26,$B$27)) -> CUMPLE | E39: =IF(E76="MiPyME",IF(E40>=$H$39,$B$26,$B$27),IF(E40>=$I$39,$B$26,$B$27)) -> CUMPLE | F39: =IF(F76="MiPyME",IF(F40>=$H$39,$B$26,$B$27),IF(F40>=$I$39,$B$26,$B$27)) -> CUMPLE | H39: 0.03 | I39: 0.04
B40: RP = (Utilidad Operacional / Patrimonio) | C40: =C20/C18 -> 0.11436614 | D40: =D20/D18 -> 0.11469711 | E40: =E20/E18 -> 0.30267976 | F40: =F20/F18 -> 0.1517019
B41: =IF(F76="MiPyme",CONCATENATE("Indicador Rentabilidad del Activo",CHAR(10),"Mayor o Igual a ",H41),CONCATENATE("Indicador Rentabilidad del Activo",CHAR(10),"Mayor o Igual a ",I41)) -> Indicador Rentabilidad del Activo Mayor o Igual a 0,02 | C41: =IF(C76="MiPyME",IF(C42>=$H$41,$B$26,$B$27),IF(C42>=$I$41,$B$26,$B$27)) -> CUMPLE | D41: =IF(D76="MiPyME",IF(D42>=$H$41,$B$26,$B$27),IF(D42>=$I$41,$B$26,$B$27)) -> CUMPLE | E41: =IF(E76="MiPyME",IF(E42>=$H$41,$B$26,$B$27),IF(E42>=$I$41,$B$26,$B$27)) -> CUMPLE | F41: =IF(F76="MiPyME",IF(F42>=$H$41,$B$26,$B$27),IF(F42>=$I$41,$B$26,$B$27)) -> CUMPLE | H41: 0.02 | I41: 0.03
B42: RA = (Utilidad Operacional / Activo Total) | C42: =C20/C16 -> 0.080492959 | D42: =D20/D16 -> 0.096529353 | E42: =E20/E16 -> 0.19155369 | F42: =F20/F16 -> 0.11988833
B43: CUMPLIMIENTO REQUISITOS HABILITANTES | C43: =+IF(COUNTIF(C29:C42,"NO CUMPLE")>=1,"NO HABILITADO","HABILITADO") -> HABILITADO | D43: =+IF(COUNTIF(D29:D42,"NO CUMPLE")>=1,"NO HABILITADO","HABILITADO") -> HABILITADO | E43: =+IF(COUNTIF(E29:E42,"NO CUMPLE")>=1,"NO HABILITADO","HABILITADO") -> HABILITADO | F43: =+IF(COUNTIF(F12:F42,"NO CUMPLE")>=1,"NO HABILITADO","HABILITADO") -> HABILITADO | H43: MiPyME
B44: PROPONENTE | C44: =+C9 -> CONSULTORIAS, INVERSIONES Y PROYECTOS SOCIEDAD POR ACCIONES SIMPLIFICADA | F44: =+F9 -> CONSORCIO ARQINGCO
B45: =CONCATENATE("NOTA: Una vez verificada la Información Financiera presentada por cada uno de los proponentes, ","se informa que las sociedades arriba descritas, que cumplen con lo solicitado en los pliegos de condiciones definitivos en cuanto a los Indicadores Financieros requeridos, se encuentran ",F43) -> NOTA: Una vez verificada la Información Financiera presentada por cada uno de los proponentes, se informa que las sociedades arriba descritas, que cumplen con lo solicitado en los pliegos de condiciones definitivos en cuanto a los Indicadores Financieros requeridos, se encuentran HABILITADO
B48: =B73 -> Fecha de cierre del proceso: | E48: Evaluadores
...

Sheet Hoja2
B1: Alcaldía de Bogotá D.C.
B2: Secretaría Distrital de Gobierno
B3: Alcaldía Local de Tunjuelito
A6: OBJETO: REALIZAR LA INTERVENTORIA TECNICA, ADMINISTRATIVA, LEGAL, FINANCIERA, SOCIAL, AMBIENTALY SST PARA EL CONTRATO DE OBRA PÙBLICA RESULTANTE DEL PROCESO DE LICITACION PUBLICA FDLT-LP-220-2024 cuyo objeto es "EJECUTAR A MONTO AGOTABLE POR EL SISTEMA DE PRECIOS UNITARIOS, LA CONSTRUCCIÓN DE MALLA VIAL Y OBRAS COMPLEMENTARIAS EN LA LOCALIDAD DE TUNJUELITO DE LA CIUDAD DE BOGOTÁ D.C.
A7: Presupuesto Oficial del Proceso | C7: =+Hoja1!H24 -> 513845286 | N7: EVALUACION FINANCIERA 281-2024 CONSOLIDADA (1)
A8: Fecha corte Información Financiera | C8: 45291
A9: Fecha cierre del proceso de selección | C9: =+Hoja1!B49 -> 45635
A10: VERIFICACIóN DE LOS INDICADORES | I10: RUP | J10: RESULTADO FINANCIERO | K10: OBSERVACIONES
A11: NO. Del Proponente | B11: NOMBRE DEL PROPONENTE | C11: Índice de liquidez | D11: Índice de endeudamiento | E11: Razón de Cobertura de intereses | F11: Capital de trabajo | G11: Rentabilidad del patrimonio | H11: Rentabilidad del activo | I11: VIGENTE; EN FIRME Y 30 DÍAS ANTERIORES
A12: HOJA | B12: 35 | C12: 20 | D12: 22 | E12: 24 | F12: 26 | G12: 30 | H12: 32 | I12: 3 | J12: 34 | K12: 51
A13: 1 | B13: =HLOOKUP($A13,Hoja1!$C$10:$F$44,B$12,FALSE) -> CONSULTORIAS, INVERSIONES Y PROYECTOS SOCIEDAD POR ACCIONES SIMPLIFICADA | C13: =HLOOKUP($A13,Hoja1!$C$10:$F$44,C$12,FALSE) -> CUMPLE | D13: =HLOOKUP($A13,Hoja1!$C$10:$F$44,D$12,FALSE) -> CUMPLE | E13: =HLOOKUP($A13,Hoja1!$C$10:$F$44,E$12,FALSE) -> CUMPLE | F13: =HLOOKUP($A13,Hoja1!$C$10:$F$44,F$12,FALSE) -> CUMPLE | G13: =HLOOKUP($A13,Hoja1!$C$10:$F$44,G$12,FALSE) -> CUMPLE | H13: =HLOOKUP($A13,Hoja1!$C$10:$F$44,H$12,FALSE) -> CUMPLE | I13: =HLOOKUP($A13,Hoja1!$C$10:$F$44,I$12,FALSE) -> CUMPLE | J13: =HLOOKUP($A13,Hoja1!$C$10:$F$44,J$12,FALSE) -> HABILITADO
A14: 2 | B14: =HLOOKUP($A14,Hoja1!$C$10:$F$44,B$12,FALSE) -> CONSORCIO ARQINGCO | C14: =HLOOKUP($A14,Hoja1!$C$10:$F$44,C$12,FALSE) -> CUMPLE | D14: =HLOOKUP($A14,Hoja1!$C$10:$F$44,D$12,FALSE) -> CUMPLE | E14: =HLOOKUP($A14,Hoja1!$C$10:$F$44,E$12,FALSE) -> CUMPLE | F14: =HLOOKUP($A14,Hoja1!$C$10:$F$44,F$12,FALSE) -> CUMPLE | G14: =HLOOKUP($A14,Hoja1!$C$10:$F$44,G$12,FALSE) -> CUMPLE | H14: =HLOOKUP($A14,Hoja1!$C$10:$F$44,H$12,FALSE) -> CUMPLE | I14: =HLOOKUP($A14,Hoja1!$C$10:$F$44,I$12,FALSE) -> CUMPLE | J14: =HLOOKUP($A14,Hoja1!$C$10:$F$44,J$12,FALSE) -> HABILITADO
B15: * Se realiza la Evaluación Financiera y Organizacional de acuerdo a lo establecido con el pliego de condiciones definitivo del proceso; la evaluación es puesta a disposición de la Oficina de Contratación y Despacho para que se continúe con el proceso de evaluación.
B17: ='[1]1'!B50 -> Fecha de elaboración (preliminar):
B18: =+Hoja1!B52 -> 45637
B20: ='[1]1'!B53 -> Fecha de verificación defiitiva:
B21: =+Hoja1!B55 -> 45637 | E21: =+'[1]1'!D52 -> Maribel Gómez Rodriguez
E22: =+'[1]1'!D53 -> Profesional Área de Presupuesto (E) - FDL Tunjuelito
E23: =+'[1]1'!D54 -> Comité Evaluador Financiero
