Workbook
Name PRINT_AREA_MI: #N/A
Name PRINT_TITLES_MI: #N/A

Sheet LISTAS
A1: listas
B3: SI
B4: NO

Sheet CONDICIONES GENERALES
C3: OBJETO: ““REALIZAR LOS ESTUDIOS Y DISEÑOS PARA LA CONSTRUCCIÓN DE PARQUES DE PROXIMIDAD EN LA LOCALIDAD DE TUNJUELITO”” | N3: Cada contrato debe cumplir con alguno de estos códigos 80101600-81101500
C5: Experiencia en contratos, que incluyan actividades: | O5: PLAZO EJEC. | P5: 5 MESES
C6: EXPERIENCIA GENERAL | O6: PRESUPUESTO | P6: 513845286
C7: CONSULTORIAS DE: PROYECTOS DE ESTUDIOS Y DISEÑOS PARA LA CONSTRUCCIÓN Y/O RECONSTRUCCIÓN DE PARQUES DE PROXIMIDAD
C8: Nota 1: El proceso de selección contempla actividades de dotación de mobiliario, por lo que la experiencia válida aportada deberá acreditar en por lo menos uno (1) de los contratos en estudios y diseños, actividades de suministro e instalación de mobiliario parques.
C10: EXPERIENCIA ESPECÍFICA
C11: Por lo menos uno de los contratos aportados deberá demostrar la elaboración de estudios y diseños para parques de proximidad, con nuevas tendencias deportivas
C13: NÚMERO DE CONTRATOS: El Proponente podrá aportar mínimo uno (1) y máximo cinco (5) contratos para la evaluación y asignación de puntaje por concepto de experiencia
C14: El Proponente persona natural o jurídica que acredite la calidad de Mipyme o de emprendimiento y empresa de mujer con domicilio en el territorio nacional de conformidad con lo previsto en el artículo 2.2.1.13.2.2 del Decreto 1074 de 2015 y los artículos 2.2.1.2.4.2.4. y 2.2.1.2.4.2.14 del Decreto 1082 de 2015, o las normas que los modifiquen, sustituyan o complementen, podrá probar la experiencia solicitada con un (1) contrato adicional a los cinco (5) inicialmente previstos, para un máximo de seis (6) contratos. En caso de que el Proponente persona natural o jurídica acredite la calidad de Mipyme y de emprendimiento y empresa de mujer con domicilio en el territorio nacional de manera conjunta, podrá demostrar la experiencia solicitada con dos (2) contratos adicionales a los cinco (5) inicialmente previstos, para un máximo de siete (7).
C15: CONDICIÓN 1: La experiencia a la que se refiere este numeral podrá acreditarse mediante los documentos establecidos en el Pliego de Condiciones señalados en el numeral 10.1.5.
C16: CONDICIÓN 2: Los contratos aportados para efectos de acreditación de la experiencia requerida deben estar clasificados en alguno de los siguientes códigos. 80101600-81101500
C17: CONDICIÓN 3: – Experiencia. Este documento debe presentarlo el proponente plural y no sus integrante. Si el Proponente no diligencia el Formato 3 – Experiencia, la Entidad requerirá su subsanación en los términos del numeral 1.6. En caso de que el oferente no subsane se tendrán en cuenta para la evaluación los cinco (5) contratos de mayor valor aportados.
C18: CONDICIÓN 4: Tratándose de Proponentes Plurales se tendrá en cuenta lo siguiente: i) uno de los integrantes debe aportar como mínimo el cincuenta por ciento (50 %) de la experiencia solicitada; ii) los demás integrantes deben acreditar al menos el cinco por ciento (5 %) de la experiencia solicitada; y iii) sin perjuicio de lo anterior, solo uno (1) de los integrantes, si así lo considera pertinente, podrá no acreditar experiencia. En este último caso, el porcentaje de participación del integrante que no aporta experiencia en la estructura plural no podrá superar el diez por ciento (10 %). Estos porcentajes que acreditarán los integrantes del Proponente Plural se podrán cumplir con contratos válidos que acrediten cualquier requisito de experiencia solicitada en el pliego de condiciones y se verificarán de conformidad con el porcentaje mínimo de experiencia exigido en el numeral 3.8.1., esto es, el cien por ciento (100 %) del Presupuesto Oficial. En armonía con lo anterior, para cumplir el requisito previsto en este literal no se solicitará la acreditación de longitudes, magnitudes, volúmenes o porcentajes requeridos en la experiencia específica, sino que bastará con acreditar los SMMLV.
C19: Si el Proponente no diligencia el “Formato 3 – Experiencia”, la Entidad solicitará su subsanación en los términos del numeral 1.6 del Pliego de condiciones. En caso de que el oferente no subsane se tendrán en cuenta para la evaluación los cinco (5) contratos de mayor valor aportados. Con estos, la Entidad verificará la acreditación de los requisitos de experiencia general y específica solicitados para la actividad principal, al igual que los requeridos para la actividad secundaria en atención a las combinaciones de experiencia aplicables y la experiencia exigida respecto de la interventoría a obras, bienes o servicios ajenos a la obra pública de infraestructura de transporte, en caso de que proceda.
C20: CONDICIÓN 5: Cuando el contrato que se pretende acreditar como experiencia haya sido ejecutado en Consorcio, el “% de dimensionamiento (según la longitud o magnitud requerida en el Proceso de Contratación)” exigido en la “DOCUMENTO 1 – Experiencia” se afectará por el porcentaje de participación que tuvo el integrante o los integrantes.
C21: CONDICIÓN 6: J. Para los proyectos de concesiones viales únicamente se tendrá en cuenta la experiencia adquirida en la interventoría a la etapa constructiva y/o de intervención de la obra de infraestructura de transporte, la cual deberá ser demostrada con los documentos que la soporten. En consecuencia, no será válida la experiencia obtenida en la etapa de operación, administración y/o mantenimiento de la infraestructura concesionada. Para estos efectos, el oferente deberá acreditar los valores ejecutados expresados en SMMLV dentro del respectivo contrato correspondientes a la interventoría a la etapa constructiva y/o de intervención de infraestructura de transporte, empleando alguno de los documentos válidos establecidos en el numeral 10.1.5 del Pliego de Condiciones. En el evento en que los valores de los documentos aportados se expresen en moneda extranjera se procederá de conformidad en el literal A del numeral 1.13 de este documento. Para este caso, la fecha de terminación de la interventoría a la etapa constructiva y/o de intervención de la infraestructura de trasporte hará las veces de fecha de terminación del contrato. Ahora, para la conversión de dichos valores a SMMLV se seguirá el proceso descrito en el literal B del numeral 1.13, para lo cual se emplearán los valores históricos de SMMLV señalados por el Banco de la República (http://www.banrep.gov.co/es/mercado-laboral/salarios), del año correspondiente a la fecha de terminación a la interventoría a la etapa constructiva y/o de intervención de infraestructura de transporte. En los casos en que el Proponente no cumpla la exigencia antes señalada, la Entidad permitirá la subsanación, en los términos del numeral 1.6 del Pliego de Condiciones, requiriendo al Proponente para que demuestre los valores ejecutados. En caso de que el Proponente subsane, en relación con este contrato se aplicará lo dispuesto en el literal A) del numeral 4.1 del Pliego de Condiciones. De no lograrse la discriminación de los valores ejecutados en el marco del respectivo contrato, la Entidad no lo tendrá en cuenta para la evaluación. En caso de que el valor ejecutado que consta en el Registro Único de Proponentes (RUP) sea distinto al verificado en el documento aportado por el Proponente, la Entidad para evaluar el requisito de la experiencia tomará el dato del valor de alguno de los documentos válidos establecidos en el numeral 10.1.5. del Pliego de Condiciones. Lo anterior, debido a que estos últimos discriminan el valor ejecutado a la interventoría a la etapa constructiva y/o intervención de la obra de infraestructura de transporte. | N21: CONSIDERACIONES PARA LA VALIDEZ DE LA EXPERIENCIA DEL PROPONENTE
C22: 1. El Proponente cumplirá con la exigencia mínima de experiencia prevista en el numeral 3.8.1. del Pliego de Condiciones. De acuerdo con lo anterior, si el Proponente debió subsanar el cumplimiento de la experiencia mínima, para la asignación de puntaje no se tendrán en cuenta los contratos que hayan sido objeto de subsanación. ni para definir el promedio de los contratos válidos aportados que se refiere el literal B) de este numeral. Cuando un Proponente haya subsanado la totalidad de los contratos aportados, su oferta no será tenida en cuenta para aplicar las fórmulas para la ponderación de la experiencia del Proponente, por lo que, además, por este criterio de asignación de puntaje obtendrá cero (0) puntos. | N22: FORMA DE VERIFICACIÓN Y ASIGNACIÓN DE PUNTAJE POR LA EXPERIENCIA DEL PROPONENTE
C26: Equipo de trabajo
C27: Para otorgar el puntaje bastará con diligenciar el “Formato 9 - Experiencia y formación académica adicional del Personal Clave Evaluable”. Por tanto, no se revisarán los soportes académicos del Personal Clave Evaluable durante la evaluación de las ofertas. La verificación de los documentos relacionados con el Personal Clave Evaluable se hará de acuerdo con lo señalado en el numeral 9.1 “Información para el control de la ejecución de la obra” de este Pliego de Condiciones.
C28: Para otorgar el puntaje bastará con diligenciar el “Formato 9 - Experiencia y formación académica adicional del Personal Clave Evaluable”. Por tanto, no se revisarán los soportes académicos del Personal Clave Evaluable durante la evaluación de las ofertas. La verificación de los documentos relacionados con el Personal Clave Evaluable se hará de acuerdo con lo señalado en el numeral 9.1 “Información para el control de la ejecución de la obra” de este Pliego de Condiciones.
C30: Factor de sostenibilidad
C31: La Entidad asignará un (1) punto al Proponente que se comprometa con el diligenciamiento del “Formato 12 – Factor de sostenibilidad”, a presentar sus entregables (comunicaciones, informes, memorias de cálculo, diseños por componentes, entre otros), siempre que aplique, en impresión a doble cara, asimismo utilizando papel que cuente con (i) el certificado en el Sello Ambiental Colombiano o (ii) reciclado o procedente de fuentes forestales sostenibles o naturales y estar libre de cloro elemental. De igual manera, y cuando el documento lo permita, se reutilizarán hojas ya usadas por una cara, por ejemplo, para evidencias de trabajo de campo.
C33: Apoyo Industria Nacional
C34: Debido a la especialidad del contrato, en este Proceso de Contratación para el otorgamiento de puntaje no habrá bienes nacionales relevantes y, por tanto, se otorgará el puntaje de apoyo a la industria nacional a los Proponentes que se comprometan a vincular durante el desarrollo del objeto contractual un porcentaje de empleados o contratistas por prestación de servicios colombianos, de al menos el [la Entidad definirá el porcentaje requerido que sea por lo menos del cuarenta por ciento (40 %), sin perjuicio de incluir uno superior] del personal requerido para el cumplimiento del contrato.
C36: Vinculación Personas con Discapacidad
C37: Para esto debe: i) diligenciar el “Formato 6 – Vinculación de personas en condición de discapacidad suscrito por la persona natural, el representante legal o el revisor fiscal, según corresponda, en el cual certifique el número total de trabajadores vinculados a la planta de personal del Proponente, o el integrante del Proponente Plural, a la fecha de cierre del Proceso de Contratación, ii) acreditar el número mínimo de personas en condición de discapacidad en su planta de personal, de conformidad con lo señalado en el certificado expedido por el Ministerio de Trabajo, el cual deberá estar vigente a la fecha de cierre del Proceso de Contratación. Para los Proponentes Plurales, la Entidad tendrá en cuenta la planta de personal del integrante del Proponente Plural que aporte como mínimo el cuarenta por ciento (40 %) de la experiencia requerida para el Proceso de Contratación. Este porcentaje de experiencia se tomará sobre el “Valor mínimo a certificar (como % del Presupuesto Oficial expresado en SMMLV)” de conformidad con el numeral 3.8.1 del Pliego de Condiciones, sin importar si la experiencia es general o específica. Tratándose de los Proponentes Plurales, el “Formato 6 – Vinculación de personas en condición de discapacidad” debe suscribirlo el integrante del Proponente Plural, ya sea el representante legal o revisor fiscal, según corresponda, de la persona jurídica o la persona natural, siempre que dicho integrante aporte como mínimo el cuarenta por ciento (40 %) de la experiencia requerida para el Proceso de Contratación, y que además vincule el mínimo de trabajadores con discapacidad exigido en el Decreto 1082 de 2015.
C39: Empredimientos de Mujeres
C40: La Entidad asignará un puntaje de cero punto veinticinco (0.25) puntos al Proponente que acredite la calidad de emprendimientos y empresas de mujeres con domicilio en el territorio nacional de conformidad con lo previsto en el artículo 2.2.1.2.4.2.14. del Decreto 1082 de 2015 o la norma que lo modifique, sustituya o complemente. Para que el Proponente obtenga este puntaje debe diligenciar el “Formato 13 – Acreditación de emprendimientos y empresas de mujeres” y aportar la documentación requerida. Si el Proponente debió subsanar la entrega de dicho formato y/o los documentos exigidos para probar esta condición será válido para el criterio diferencial en cuanto al requisito habilitante relacionado con el número de contratos aportados para demostrar la experiencia solicitada. Sin embargo, no se tendrán en cuenta para la asignación de puntaje, por lo que obtendrá cero (0) puntos por este factor de evaluación. Tratándose de Proponentes Plurales, este puntaje solo se otorgará si por lo menos uno de los integrantes acredita la calidad de emprendimientos y empresas de mujeres y tiene una participación igual o superior al diez por ciento (10 %) en el Consorcio o en la Unión Temporal.
C42: MIPYMES
C43: La Entidad otorgará un puntaje de cero punto veinticinco (0.25) puntos al Proponente que acredite la calidad de Mipyme domiciliada en Colombia, de conformidad con el artículo 2.2.1.2.4.2.4 del Decreto 1082 de 2015, en concordancia con el parágrafo del artículo 2.2.1.13.2.4 del Decreto 1074 de 2015, o la norma que lo modifique, complemente o sustituya. Así las cosas, para obtener el puntaje, el Proponente entregará copia del certificado del Registro Único de Proponentes (RUP), el cual deberá encontrarse vigente y en firme al momento de su presentación. Si el Proponente debió subsanar la entrega del RUP, este será válido para los criterios diferenciales en cuanto a los requisitos habilitantes relacionados con el número de contratos aportados para demostrar la experiencia solicitada y los índices de la Capacidad Financiera y Organizacional. Sin embargo, el certificado no se tendrá en cuenta para la asignación del puntaje adicional, por lo que obtendrá cero (0) puntos por este factor de evaluación. Tratándose de Proponentes Plurales este puntaje se otorgará si por lo menos uno (1) de los integrantes acredita la calidad de Mipyme y tiene una participación igual o superior al diez por ciento (10 %) en el Consorcio o en la Unión Temporal.

Sheet LISTA DE OFERENTES
A1: FONDO DE DESARROLLO LOCAL DE TUNJUELITO
A2: FDLT-CMA-355-2024
A3: No. | B3: NOMBRE DEL OFERENTE | C3: REPRESENTANTE LEGAL | E3: TIPO DE OFERENTE | F3: OFERENTE PLURAL | W3: OBSERVACIONES
F4: Número de Integrantes | G4: INTEGRANTE 1 | K4: INTEGRANTE 2 | O4: INTEGRANTE 3 | S4: INTEGRANTE 4
C5: NOMBRE COMPLETO | D5: C.C. | G5: Nombre Completo | H5: Tipo Identificación | I5: Número Identificación | J5: % Participación | K5: Nombre Completo | L5: Tipo Identificación | M5: Número Identificación | N5: % Participación | O5: Nombre Completo | P5: Tipo Identificación | Q5: Número Identificación | R5: % Participación | S5: Nombre Completo | T5: Tipo Identificación | U5: Número Identificación | V5: % Participación
A6: 1 | B6: CONSULTORIAS, INVERSIONES Y PROYECTOS S.A.S | C6: GERMAN ANDRES CASTRO GAONA | D6: 80422738 | E6: Persona Jurídica | F6: 1 | W6: En el formato 1 y 2 hablan de tres integrantes que conforman el consorcio sin embargo en la tabla solo anexan 2, Se solicita aclarar.
A7: 2 | B7: CONSORCIO ARQINGCO | C7: CARLOS MAURICIO BOTON GOMEZ | D7: 80724186 | E7: Consorcio | F7: 2 | G7: GUSTAVO PALACIOS RUBIANO | H7: CC | I7: 13055241 | J7: 0.4 | K7: PROYECTOS DE INGENIERIA PBS S.A.S | L7: NIT | M7: 900008670-6 | N7: 0.6
A8: 3 | W8: En el Formato 1 se habla d euna composicion accionaria diferente a la anexada en el formato numero 13, Se solicita aclarar. | AD8: Persona Natural
A9: =+A8+1 -> 4 | AD9: Persona Jurídica
A10: =+A9+1 -> 5 | AD10: Consorcio
A11: =+A10+1 -> 6 | AD11: Unión Temporal
A12: =+A11+1 -> 7 | W12: En el formato 1, se señala como persona juridica sin embargo en la composicion accionaria y en el formato 2 nos indican que es un consorcio.
A13: =+A12+1 -> 8
A14: =+A13+1 -> 9
A15: =+A14+1 -> 10
A16: =+A15+1 -> 11
A17: =+A16+1 -> 12
A18: =+A17+1 -> 13
A19: =+A18+1 -> 14
A20: =+A19+1 -> 15
A21: =+A20+1 -> 16
A22: =+A21+1 -> 17 | W22: grupo empresarial de nacionalidad Española
A23: =+A22+1 -> 18 | W23: La dirección de la alcaldía es erronea en el formato 1, la persona juridica corresponde a un grupo empresarial
A24: =+A23+1 -> 19
A25: =+A24+1 -> 20
A26: =+A25+1 -> 21
A27: =+A26+1 -> 22
A28: =+A27+1 -> 23
A29: =+A28+1 -> 24
A30: =+A29+1 -> 25
A31: =+A30+1 -> 26
A32: =+A31+1 -> 27 | V32: 0.1
A33: =+A32+1 -> 28
A34: =+A33+1 -> 29
A35: =+A34+1 -> 30
A36: =+A35+1 -> 31
A37: =+A36+1 -> 32
A38: =+A37+1 -> 33
A39: =+A38+1 -> 34
A40: =+A39+1 -> 35
...

Sheet EVALUACION TÉC PRELIMINAR
A1: FONDO DE DESARROLLO LOCAL DE TUNJUELITO
A2: FDLT-CMA-355-2024
A3: REQUISITOS HABILITANTES TÉCNICOS | R3: CUMPLE
R4: NO CUMPLE
A8: 1 | E8: =+VLOOKUP(A8,'LISTA DE OFERENTES'!$A$6:$B$81,2,TRUE) -> CONSULTORIAS, INVERSIONES Y PROYECTOS S.A.S
A9: NÚMERO DE CONTRATOS PRESENTADOS | B9: =COUNTIF(M16:M17,"CUMPLE") -> 1 | C9: PRESUPUESTO OFICIAL EN SMMLV | D9: =+$E$42 -> 395.2656
A10: VALOR MÍNIMO A CERTIFICAR | C10: 0.75 | D10: =+D9*C10 -> 296.4492
A11: TERMINO DE EJECUCION EXIGIDO | C11: 45614
A12: TOTAL SALARIOS MINIMOS ACREDITADOS | C12: =+IF(H18>=D10,"CUMPLE","NO CUMPLE") -> CUMPLE
A13: CONDICIONES DE EXPERIENCIA *de acuerdo a pliego de condiciones | I13: CONDICION N°. 1 (VER TABLA AL FINAL DE LA HOJA) | J13: CONDICION N°. 2 (VER TABLA AL FINAL DE LA HOJA) | K13: CONDICION N°. 4 (VER TABLA AL FINAL DE LA HOJA) | M13: ACTIVIDAD PRINCIPAL EXPERIENCIA GENERAL: PROYECTOS DE ESTUDIOS Y DISEÑOS PARA LA CONSTRUCCIÓN Y/O RECONSTRUCCIÓN DE PARQUES DE PROXIMIDAD | N13: ACTIVIDAD ESPECÍFICA PRIMERA: MIN 1 CONTRATO debe tener actividades de dotación de mobiliario | O13: ACTIVIDAD ESPECÍFICA PRIMERA: MIN 1 CONTRATO DEBE DEMOSTRAR ESTUDIOS Y DISEÑOS EN NUEVAS TENDENCIAS DEPORTIVAS | P13: Observación y respuesta a observaciones
A14: Objeto del Contrato | B14: Entidad Contratante | D14: Valor Contrato | E14: Año de ejecución aportado | F14: Valor del Contrato en SMMLV | G14: Participación UT/CONSORCIO | H14: Participación en SMMLV | I14: Fecha de terminación del contrato aportado | J14: CODIGO UNSPSC SEGMENTOS 80101600-81101500 | K14: PROPONENTE QUE APORTA EL 50% SMMLV (198,08) | L14: Valor aportado
A15: ='LISTA DE OFERENTES'!B6 -> CONSULTORIAS, INVERSIONES Y PROYECTOS S.A.S | K15: =+A15 -> CONSULTORIAS, INVERSIONES Y PROYECTOS S.A.S
A16: Ejecución de estudios y diseños arquitectónicos, de ingeniería y complementarios, del equipamiento cultural ubicado en el Parque el Indio, de la localidad de Suba, en la ciudad de Bogotá | B16: Fondo de Desarrollo de Proyectos de Cundinamarca - FONDECUN | D16: 1488237800 | E16: 2019 | F16: =D16/(VLOOKUP(E16,$D$67:$E$100,2,FALSE)) -> 1797.1369 | G16: 0.25 | H16: =G16*F16 -> 449.28422 | I16: 43707 | J16: SI | L16: =IF(M16="CUMPLE",H16,"0") -> 449.28422 | M16: CUMPLE | N16: CUMPLE | O16: CUMPLE
A18: TOTALES | H18: =+SUMIF(M16:M17,"cumple",H16:H17) -> 449.28422 | I18: PROMEDIO CONTRATOS VALIDOS APORTADOS | L18: =+L16 -> 449.28422 | P18: CUMPLE
A20: =+A8+1 -> 2 | E20: =+VLOOKUP(A20,'LISTA DE OFERENTES'!$A$6:$B$81,2,TRUE) -> CONSORCIO ARQINGCO
A21: NÚMERO DE CONTRATOS PRESENTADOS | B21: =COUNTIF(M28:M33,"CUMPLE") -> 4 | C21: PRESUPUESTO OFICIAL EN SMMLV | D21: =+$E$42 -> 395.2656
A22: VALOR MÍNIMO A CERTIFICAR | C22: 1.2 | D22: =+D21*C22 -> 474.31873
A23: TERMINO DE EJECUCION EXIGIDO | C23: 45614
A24: TOTAL SALARIOS MINIMOS ACREDITADOS | C24: =+IF(H34>=D22,"CUMPLE","NO CUMPLE") -> CUMPLE
A25: CONDICIONES DE EXPERIENCIA *de acuerdo a la ADENDA No. 1 | I25: CONDICION N°. 1 (VER TABLA AL FINAL DE LA HOJA) | J25: CONDICION N°. 2 (VER TABLA AL FINAL DE LA HOJA) | K25: CONDICION N°. 4 (VER TABLA AL FINAL DE LA HOJA) | M25: ACTIVIDAD PRINCIPAL EXPERIENCIA GENERAL: PROYECTOS DE ESTUDIOS Y DISEÑOS PARA LA CONSTRUCCIÓN Y/O RECONSTRUCCIÓN DE PARQUES DE PROXIMIDAD | N25: ACTIVIDAD ESPECÍFICA PRIMERA: MIN 1 CONTRATO debe tener actividades de dotación de mobiliario | O25: ACTIVIDAD ESPECÍFICA PRIMERA: MIN 1 CONTRATO DEBE DEMOSTRAR ESTUDIOS Y DISEÑOS EN NUEVAS TENDENCIAS DEPORTIVAS | P25: Observación y respuesta a observaciones
A26: Objeto del Contrato | B26: Entidad Contratante | D26: Valor Contrato | E26: Año de ejecución aportado | F26: Valor del Contrato en SMMLV | G26: Participación UT/CONSORCIO | H26: Participación en SMMLV | I26: Fecha de terminación del contrato aportado | J26: CODIGO UNSPSC SEGMENTOS 80101600-81101500 | K26: PROPONENTE QUE APORTA EL 50% SMMLV (198,08) | L26: Valor aportado
A27: =+'LISTA DE OFERENTES'!G7 -> GUSTAVO PALACIOS RUBIANO | K27: =+A27 -> GUSTAVO PALACIOS RUBIANO
A28: REALIZAR LA INTERVENCIÓN Y MEJORAMIENTO INTEGRAL DE LOS PARQUES DE LA LOCALIDAD DE BARRIOS UNIDOS | B28: ALCALDIA DE SUBA | D28: 1801578809 | E28: 2016 | F28: =D28/(VLOOKUP(E28,$D$67:$E$100,2,FALSE)) -> 2613.0477 | G28: 1 | H28: =G28*F28 -> 2613.0477 | I28: 42689 | J28: SI | M28: NO CUMPLE | N28: NO CUMPLE | O28: NO CUMPLE | P28: No se evidencia segun lo solicitado: "CONSULTORIAS DE: PROYECTOS DE ESTUDIOS Y DISEÑOS PARA LA CONSTRUCCIÓN Y/O RECONSTRUCCIÓN DE PARQUES DE PROXIMIDAD"
A29: REALIZAR A PRECIOS UNITARIOS, LAS OBRAS DE MEJORAMIENTO INTEGRAL DE PARQUES PARA LA RECREACIÓN Y DEPORTES DE LA LOCALIDAD DE SUBA, EN LA CIUDAD DE BOGOTÁ D.C. DE ACUERDO CON LA DESCRIPCIÓN, ESPECIFICACIONES Y DEMÁS CONDICIONES ESTABLECIDAS EN EL PLIEGO DE CONDICIONES, EN ESPECIAL CON LAS ESTABLECIDAS EN LOS APÉNDICES, Y LAS CONSIGNADAS EN EL ANEXO TÉCNICO GENERAL y LA OFERTA PRESENTADA, EN EL PROCESO DE SELECCIÓN DENOMINADO LICITACIÓN PUBLICA NO. FDLS-LP-05-2010. | B29: ALCALDIA DE SUBA | C29: ALCALDIA DE SUBA | D29: 96593747 | E29: 2011 | F29: =D29/(VLOOKUP(E29,$D$67:$E$100,2,FALSE)) -> 180.3468 | G29: 1 | H29: =G29*F29 -> 180.3468 | I29: 40848 | J29: SI | L29: =IF(M29="CUMPLE",H29,"0") -> 180.3468 | M29: CUMPLE | N29: CUMPLE | O29: CUMPLE | P29: De acuerdo a la documentacion anexada la alcadia toma como base el valor de la consultoria evidenciada en la certificacion emitida por la alcadia de suba, la que se evidencia la experiencia general y especifica solicitada.
A30: SE COMPROMETE PARA CON EL IDRD POR EL SISTEMA DE PRECIO GLOBAL FIJO EL DESARROLLO ARQUITECTÓNICO DE LOS PLANES DIRECTORES Y LOS ESTUDIOS Y DISEÑOS TECNICOS DE LOS PARQUES ZONALES LA ESPERANZA, LAS MARGARITAS Y TABORA DE BOGOTA D.C. | B30: IDRD | C30: IDRD | D30: 660488900 | E30: 2012 | F30: =D30/(VLOOKUP(E30,$D$67:$E$100,2,FALSE)) -> 1165.5001 | G30: 1 | H30: =G30*F30 -> 1165.5001 | I30: 41161 | J30: SI | L30: =IF(M30="CUMPLE",H30,"0") -> 1165.5001 | M30: CUMPLE | N30: CUMPLE | O30: CUMPLE
A31: REALIZAR POR EL SISTEMA DE PRECIO GLOBAL FIJO LOS DISEÑOS ARQUITECTÓNICOS Y LOS ESTUDIOS DE INGENIERÍA DEL PARQUE COLSUBSIDIO CON CARGO AL PROYECTO 1082 'CONSTRUCCIÓN Y ADECUACIÓN DE PARQUES Y EQUIPAMIENTOS PARA TODOS. | B31: IDRD | C31: IDRD | D31: 601782307 | E31: 2018 | F31: =D31/(VLOOKUP(E31,$D$67:$E$100,2,FALSE)) -> 770.28924 | G31: 1 | H31: =G31*F31 -> 770.28924 | I31: 43600 | J31: SI | L31: =IF(M31="CUMPLE",H31,"0") -> 770.28924 | M31: CUMPLE | N31: CUMPLE | O31: CUMPLE
A32: ESTUDIOS Y DISEÑOS DEFINITIVOS PARA LA CONSTRUCCIÓN DE PARQUES RECREO DEPORTIVOS EN URBANIZACIONES DONDE SE DESARROLLA EL PROGRAMA DE 100.000 VIVIENDAS - ZONA PACIFICO | B32: FINDETER | C32: FINDETER | D32: 411161169 | E32: 2015 | F32: =D32/(VLOOKUP(E32,$D$67:$E$100,2,FALSE)) -> 638.10223 | G32: 0.65 | H32: =G32*F32 -> 414.76645 | I32: 42359 | J32: SI | L32: =IF(M32="CUMPLE",H32,"0") -> 414.76645 | M32: CUMPLE | N32: CUMPLE | O32: CUMPLE
A34: TOTALES | H34: =+SUMIF(M28:M33,"cumple",H28:H33) -> 2530.9026 | I34: PROMEDIO CONTRATOS VALIDOS APORTADOS | L34: =+AVERAGE(L28:L32) -> 632.72564 | P34: CUMPLE
A41: VALOR TOTAL PROYECTO | C41: 0.5 | D41: SMMLV | E41: PRESUPUESTO OFICIAL | F41: 75% SMMLV | G41: 120% SMMLV | H41: 150% SMMLV
A42: VALOR: | B42: =+'CONDICIONES GENERALES'!P6 -> 513845286 | C42: =+D42/2 -> 197.6328 | D42: =+$B$42/$E$100 -> 395.2656 | E42: =$B$42/$E$100 -> 395.2656 | F42: =E42*0.75 -> 296.4492 | G42: =E42*1.2 -> 474.31873 | H42: =E42*1.5 -> 592.89841
A45: =+'CONDICIONES GENERALES'!C3 -> OBJETO: ““REALIZAR LOS ESTUDIOS Y DISEÑOS PARA LA CONSTRUCCIÓN DE PARQUES DE PROXIMIDAD EN LA LOCALIDAD DE TUNJUELITO””
A47: Experiencia en contratos, que incluyan actividades:
A48: EXPERIENCIA GENERAL | L48: PLAZO EJEC. | M48: =+'CONDICIONES GENERALES'!P5 -> 5 MESES
A49: =+'CONDICIONES GENERALES'!C7 -> CONSULTORIAS DE: PROYECTOS DE ESTUDIOS Y DISEÑOS PARA LA CONSTRUCCIÓN Y/O RECONSTRUCCIÓN DE PARQUES DE PROXIMIDAD | L49: PRESUPUESTO | M49: =+'CONDICIONES GENERALES'!P6 -> 513845286
A50: =+'CONDICIONES GENERALES'!C8 -> Nota 1: El proceso de selección contempla actividades de dotación de mobiliario, por lo que la experiencia válida aportada deberá acreditar en por lo menos uno (1) de los contratos en estudios y diseños, actividades de suministro e instalación de mobiliario parques.
A53: EXPERIENCIA ESPECÍFICA
A54: =+'CONDICIONES GENERALES'!C11 -> Por lo menos uno de los contratos aportados deberá demostrar la elaboración de estudios y diseños para parques de proximidad, con nuevas tendencias deportivas
A55: =+'CONDICIONES GENERALES'!#REF! -> #REF!
A57: =+'CONDICIONES GENERALES'!C13 -> NÚMERO DE CONTRATOS: El Proponente podrá aportar mínimo uno (1) y máximo cinco (5) contratos para la evaluación y asignación de puntaje por concepto de experiencia
A58: =+'CONDICIONES GENERALES'!C15 -> CONDICIÓN 1: La experiencia a la que se refiere este numeral podrá acreditarse mediante los documentos establecidos en el Pliego de Condiciones señalados en el numeral 10.1.5.
...

Sheet F. PONDERABLES PRELIMINAR
A1: FONDO DE DESARROLLO LOCAL DE TUNJUELITO
A2: FDLT-CMA-355-2024
A3: FACTORES PONDERABLES
A7: FACTORES PONDERABLES / PUNTAJE FINAL | C7: EXPERIENCIA DEL PROPONENTE (67,5PTS ) | D7: EQUIPO DE TRABAJO - EXPERIENCIA ADICIONAL- Formato 8 (5 PTS) | E7: EQUIPO DE TRABAJO - FORMACION ACADÉMICA ADICIONAL- Formato 9 (5 PTS) | F7: FACTOR DE SOSTENIBILIDAD - Formato 10 (1 PT) | G7: APOYO A LA INDUSTRIA NACIONAL (MIN 40%) - Formato 7A ó 7B (20PTS ó 5PTS) | H7: VINCULACION DE PERSONAS CON DISCAPACIDAD - Formato 6 (1 PT) | I7: EMPRENDIMIENTO Y EMPRESA DE MUJERES - Formato 13 (0,25 PTS) | J7: MYPIME- Verificar con el RUP | K7: PUNTAJE TOTAL | L7: OBSERVACIONES
A8: 1 | B8: =+'LISTA DE OFERENTES'!B6 -> CONSULTORIAS, INVERSIONES Y PROYECTOS S.A.S | C8: =+'PUNTAJE EXPERIENCIA'!E7 -> 67.5 | D8: 5 | E8: 5 | F8: 1 | G8: 20 | H8: 1 | I8: 0.25 | J8: 0.25 | K8: =+SUM(C8:J8) -> 100
A9: 2 | B9: =+'LISTA DE OFERENTES'!B7 -> CONSORCIO ARQINGCO | C9: =+'PUNTAJE EXPERIENCIA'!E8 -> 54.896608 | D9: 5 | E9: 5 | F9: 1 | G9: 20 | H9: 1 | I9: 0.25 | J9: 0.25 | K9: =+SUM(C9:J9) -> 87.396608

Sheet PUNTAJE EXPERIENCIA
A1: FONDO DE DESARROLLO LOCAL DE TUNJUELITO
A2: FDLT-CMA-355-2024
A3: 4.1 FORMA DE VERIFICACIÓN Y ASIGNACIÓN DE PUNTAJE POR LA EXPERIENCIA DEL PROPONENTE
A5: TRM DEL 11 DE DICIEMBRE DE 2024 $4.377,34
A6: No. | B6: FACTORES PONDERABLES / PUNTAJE FINAL | C6: PUNTAJE EXPERIENCIA | D6: PROMEDIO PROPUESTAS | E6: PUNTAJE ASIGNADO | F6: VALOR MAS CERCANO A LA MEDIA GEOMETRICA | G6: VALOR ABSOLUTO
A7: =+'LISTA DE OFERENTES'!A6 -> 1 | B7: =+'LISTA DE OFERENTES'!B6 -> CONSULTORIAS, INVERSIONES Y PROYECTOS S.A.S | C7: =+'EVALUACION TÉC PRELIMINAR'!P18 -> CUMPLE | D7: =+'EVALUACION TÉC PRELIMINAR'!L18 -> 449.28422 | E7: 67.5 | F7: =+D7-D10 -> -83.888968 | G7: =ABS(D7-D10)/D10 -> 0.15733906
A8: =+'LISTA DE OFERENTES'!A7 -> 2 | B8: =+'LISTA DE OFERENTES'!B7 -> CONSORCIO ARQINGCO | C8: CUMPLE | D8: =+'EVALUACION TÉC PRELIMINAR'!L34 -> 632.72564 | E8: =(1-G8)*67.5 -> 54.896608 | F8: =+D8-D10 -> 99.552458 | G8: =ABS(D8-D10)/D10 -> 0.18671693
C10: MEDIA GEOMETRICA | D10: =GEOMEAN(D7:D8) -> 533.17319

Sheet RESUMEN CALIFICACION PRELIMINAR
A1: FONDO DE DESARROLLO LOCAL DE TUNJUELITO
A2: FDLT-CMA-355-2024
A3: RESUMEN DE CALIFICACION REQUISITOS HABILITANTES
A4: =+'CONDICIONES GENERALES'!C3 -> OBJETO: ““REALIZAR LOS ESTUDIOS Y DISEÑOS PARA LA CONSTRUCCIÓN DE PARQUES DE PROXIMIDAD EN LA LOCALIDAD DE TUNJUELITO””
A6: No. | B6: Nombre de Oferente : | C6: INDICES FINANCIEROS | D6: CAPACIDAD JURIDICA | E6: EVALUACION TECNICA | F6: CALIFICACION ECONOMICA | G6: CUMPLE / NO CUMPLE
A7: 1 | B7: =+'LISTA DE OFERENTES'!B6 -> CONSULTORIAS, INVERSIONES Y PROYECTOS S.A.S | C7: HABILITADO | D7: NO HABILITADO | E7: CUMPLE | F7: ACEPTADA | G7: NO CUMPLE
A8: 2 | B8: =+'LISTA DE OFERENTES'!B7 -> CONSORCIO ARQINGCO | C8: HABILITADO | D8: HABILITADO | E8: CUMPLE | F8: ACEPTADA | G8: CUMPLE

Sheet EVALUACION TÉC FINAL
A1: FONDO DE DESARROLLO LOCAL DE TUNJUELITO
A2: FDLT-CMA-355-2024
A3: REQUISITOS HABILITANTES TÉCNICOS | R3: CUMPLE
R4: NO CUMPLE
A8: 1 | E8: =+VLOOKUP(A8,'LISTA DE OFERENTES'!$A$6:$B$81,2,TRUE) -> CONSULTORIAS, INVERSIONES Y PROYECTOS S.A.S
A9: NÚMERO DE CONTRATOS PRESENTADOS | B9: =COUNTIF(M16:M17,"CUMPLE") -> 0 | C9: PRESUPUESTO OFICIAL EN SMMLV | D9: =+$E$42 -> 395.2656
A10: VALOR MÍNIMO A CERTIFICAR | C10: 0.75 | D10: =+D9*C10 -> 296.4492
A11: TERMINO DE EJECUCION EXIGIDO | C11: 45614
A12: TOTAL SALARIOS MINIMOS ACREDITADOS | C12: =+IF(H18>=D10,"CUMPLE","NO CUMPLE") -> NO CUMPLE
A13: CONDICIONES DE EXPERIENCIA *de acuerdo a pliego de condiciones | I13: CONDICION N°. 1 (VER TABLA AL FINAL DE LA HOJA) | J13: CONDICION N°. 2 (VER TABLA AL FINAL DE LA HOJA) | K13: CONDICION N°. 4 (VER TABLA AL FINAL DE LA HOJA) | M13: ACTIVIDAD PRINCIPAL EXPERIENCIA GENERAL: PROYECTOS DE ESTUDIOS Y DISEÑOS PARA LA CONSTRUCCIÓN Y/O RECONSTRUCCIÓN DE PARQUES DE PROXIMIDAD | N13: ACTIVIDAD ESPECÍFICA PRIMERA: MIN 1 CONTRATO debe tener actividades de dotación de mobiliario | O13: ACTIVIDAD ESPECÍFICA PRIMERA: MIN 1 CONTRATO DEBE DEMOSTRAR ESTUDIOS Y DISEÑOS EN NUEVAS TENDENCIAS DEPORTIVAS | P13: Observación y respuesta a observaciones
A14: Objeto del Contrato | B14: Entidad Contratante | D14: Valor Contrato | E14: Año de ejecución aportado | F14: Valor del Contrato en SMMLV | G14: Participación UT/CONSORCIO | H14: Participación en SMMLV | I14: Fecha de terminación del contrato aportado | J14: CODIGO UNSPSC SEGMENTOS 80101600-81101500 | K14: PROPONENTE QUE APORTA EL 50% SMMLV (198,08) | L14: Valor aportado
A15: ='LISTA DE OFERENTES'!B6 -> CONSULTORIAS, INVERSIONES Y PROYECTOS S.A.S | K15: =+A15 -> CONSULTORIAS, INVERSIONES Y PROYECTOS S.A.S
A16: Ejecución de estudios y diseños arquitectónicos, de ingeniería y complementarios, del equipamiento cultural ubicado en el Parque el Indio, de la localidad de Suba, en la ciudad de Bogotá | B16: Fondo de Desarrollo de Proyectos de Cundinamarca - FONDECUN | D16: 1488237800 | E16: 2019 | F16: =D16/(VLOOKUP(E16,$D$67:$E$100,2,FALSE)) -> 1797.1369 | G16: 0.25 | H16: =G16*F16 -> 449.28422 | I16: 43707 | J16: SI | L16: =IF(M16="CUMPLE",H16,"0") -> 0 | M16: NO CUMPLE | N16: NO CUMPLE | O16: NO CUMPLE | P16: No cumple el contrato aportado toda vez que el parque aportado pertenece a un parque de categoria ESTRUCTURANTE con nintervencion de mas de 1 hectarea.
A18: TOTALES | H18: =+SUMIF(M16:M17,"cumple",H16:H17) -> 0 | I18: PROMEDIO CONTRATOS VALIDOS APORTADOS | L18: =+L16 -> 0 | P18: NO CUMPLE
A20: =+A8+1 -> 2 | E20: =+VLOOKUP(A20,'LISTA DE OFERENTES'!$A$6:$B$81,2,TRUE) -> CONSORCIO ARQINGCO
A21: NÚMERO DE CONTRATOS PRESENTADOS | B21: =COUNTIF(M28:M33,"CUMPLE") -> 4 | C21: PRESUPUESTO OFICIAL EN SMMLV | D21: =+$E$42 -> 395.2656
A22: VALOR MÍNIMO A CERTIFICAR | C22: 1.2 | D22: =+D21*C22 -> 474.31873
A23: TERMINO DE EJECUCION EXIGIDO | C23: 45614
A24: TOTAL SALARIOS MINIMOS ACREDITADOS | C24: =+IF(H34>=D22,"CUMPLE","NO CUMPLE") -> CUMPLE
A25: CONDICIONES DE EXPERIENCIA *de acuerdo a la ADENDA No. 1 | I25: CONDICION N°. 1 (VER TABLA AL FINAL DE LA HOJA) | J25: CONDICION N°. 2 (VER TABLA AL FINAL DE LA HOJA) | K25: CONDICION N°. 4 (VER TABLA AL FINAL DE LA HOJA) | M25: ACTIVIDAD PRINCIPAL EXPERIENCIA GENERAL: PROYECTOS DE ESTUDIOS Y DISEÑOS PARA LA CONSTRUCCIÓN Y/O RECONSTRUCCIÓN DE PARQUES DE PROXIMIDAD | N25: ACTIVIDAD ESPECÍFICA PRIMERA: MIN 1 CONTRATO debe tener actividades de dotación de mobiliario | O25: ACTIVIDAD ESPECÍFICA PRIMERA: MIN 1 CONTRATO DEBE DEMOSTRAR ESTUDIOS Y DISEÑOS EN NUEVAS TENDENCIAS DEPORTIVAS | P25: Observación y respuesta a observaciones
A26: Objeto del Contrato | B26: Entidad Contratante | D26: Valor Contrato | E26: Año de ejecución aportado | F26: Valor del Contrato en SMMLV | G26: Participación UT/CONSORCIO | H26: Participación en SMMLV | I26: Fecha de terminación del contrato aportado | J26: CODIGO UNSPSC SEGMENTOS 80101600-81101500 | K26: PROPONENTE QUE APORTA EL 50% SMMLV (198,08) | L26: Valor aportado
A27: =+'LISTA DE OFERENTES'!G7 -> GUSTAVO PALACIOS RUBIANO | K27: =+A27 -> GUSTAVO PALACIOS RUBIANO
A28: REALIZAR LA INTERVENCIÓN Y MEJORAMIENTO INTEGRAL DE LOS PARQUES DE LA LOCALIDAD DE BARRIOS UNIDOS | B28: ALCALDIA DE SUBA | D28: 1801578809 | E28: 2016 | F28: =D28/(VLOOKUP(E28,$D$67:$E$100,2,FALSE)) -> 2613.0477 | G28: 1 | H28: =G28*F28 -> 2613.0477 | I28: 42689 | J28: SI | M28: NO CUMPLE | N28: NO CUMPLE | O28: NO CUMPLE | P28: No se evidencia segun lo solicitado: "CONSULTORIAS DE: PROYECTOS DE ESTUDIOS Y DISEÑOS PARA LA CONSTRUCCIÓN Y/O RECONSTRUCCIÓN DE PARQUES DE PROXIMIDAD"
A29: REALIZAR A PRECIOS UNITARIOS, LAS OBRAS DE MEJORAMIENTO INTEGRAL DE PARQUES PARA LA RECREACIÓN Y DEPORTES DE LA LOCALIDAD DE SUBA, EN LA CIUDAD DE BOGOTÁ D.C. DE ACUERDO CON LA DESCRIPCIÓN, ESPECIFICACIONES Y DEMÁS CONDICIONES ESTABLECIDAS EN EL PLIEGO DE CONDICIONES, EN ESPECIAL CON LAS ESTABLECIDAS EN LOS APÉNDICES, Y LAS CONSIGNADAS EN EL ANEXO TÉCNICO GENERAL y LA OFERTA PRESENTADA, EN EL PROCESO DE SELECCIÓN DENOMINADO LICITACIÓN PUBLICA NO. FDLS-LP-05-2010. | B29: ALCALDIA DE SUBA | C29: ALCALDIA DE SUBA | D29: 96593747 | E29: 2011 | F29: =D29/(VLOOKUP(E29,$D$67:$E$100,2,FALSE)) -> 180.3468 | G29: 1 | H29: =G29*F29 -> 180.3468 | I29: 40848 | J29: SI | L29: =IF(M29="CUMPLE",H29,"0") -> 180.3468 | M29: CUMPLE | N29: CUMPLE | O29: CUMPLE | P29: De acuerdo a la documentacion anexada la alcadia toma como base el valor de la consultoria evidenciada en la certificacion emitida por la alcadia de suba, la que se evidencia la experiencia general y especifica solicitada.
A30: SE COMPROMETE PARA CON EL IDRD POR EL SISTEMA DE PRECIO GLOBAL FIJO EL DESARROLLO ARQUITECTÓNICO DE LOS PLANES DIRECTORES Y LOS ESTUDIOS Y DISEÑOS TECNICOS DE LOS PARQUES ZONALES LA ESPERANZA, LAS MARGARITAS Y TABORA DE BOGOTA D.C. | B30: IDRD | C30: IDRD | D30: 660488900 | E30: 2012 | F30: =D30/(VLOOKUP(E30,$D$67:$E$100,2,FALSE)) -> 1165.5001 | G30: 1 | H30: =G30*F30 -> 1165.5001 | I30: 41161 | J30: SI | L30: =IF(M30="CUMPLE",H30,"0") -> 1165.5001 | M30: CUMPLE | N30: CUMPLE | O30: CUMPLE
A31: REALIZAR POR EL SISTEMA DE PRECIO GLOBAL FIJO LOS DISEÑOS ARQUITECTÓNICOS Y LOS ESTUDIOS DE INGENIERÍA DEL PARQUE COLSUBSIDIO CON CARGO AL PROYECTO 1082 'CONSTRUCCIÓN Y ADECUACIÓN DE PARQUES Y EQUIPAMIENTOS PARA TODOS. | B31: IDRD | C31: IDRD | D31: 601782307 | E31: 2018 | F31: =D31/(VLOOKUP(E31,$D$67:$E$100,2,FALSE)) -> 770.28924 | G31: 1 | H31: =G31*F31 -> 770.28924 | I31: 43600 | J31: SI | L31: =IF(M31="CUMPLE",H31,"0") -> 770.28924 | M31: CUMPLE | N31: CUMPLE | O31: CUMPLE
A32: ESTUDIOS Y DISEÑOS DEFINITIVOS PARA LA CONSTRUCCIÓN DE PARQUES RECREO DEPORTIVOS EN URBANIZACIONES DONDE SE DESARROLLA EL PROGRAMA DE 100.000 VIVIENDAS - ZONA PACIFICO | B32: FINDETER | C32: FINDETER | D32: 411161169 | E32: 2015 | F32: =D32/(VLOOKUP(E32,$D$67:$E$100,2,FALSE)) -> 638.10223 | G32: 0.65 | H32: =G32*F32 -> 414.76645 | I32: 42359 | J32: SI | L32: =IF(M32="CUMPLE",H32,"0") -> 414.76645 | M32: CUMPLE | N32: CUMPLE | O32: CUMPLE
A34: TOTALES | H34: =+SUMIF(M28:M33,"cumple",H28:H33) -> 2530.9026 | I34: PROMEDIO CONTRATOS VALIDOS APORTADOS | L34: =+AVERAGE(L29:L32) -> 632.72564 | P34: CUMPLE
A41: VALOR TOTAL PROYECTO | C41: 0.5 | D41: SMMLV | E41: PRESUPUESTO OFICIAL | F41: 75% SMMLV | G41: 120% SMMLV | H41: 150% SMMLV
A42: VALOR: | B42: =+'CONDICIONES GENERALES'!P6 -> 513845286 | C42: =+D42/2 -> 197.6328 | D42: =+$B$42/$E$100 -> 395.2656 | E42: =$B$42/$E$100 -> 395.2656 | F42: =E42*0.75 -> 296.4492 | G42: =E42*1.2 -> 474.31873 | H42: =E42*1.5 -> 592.89841
A45: =+'CONDICIONES GENERALES'!C3 -> OBJETO: ““REALIZAR LOS ESTUDIOS Y DISEÑOS PARA LA CONSTRUCCIÓN DE PARQUES DE PROXIMIDAD EN LA LOCALIDAD DE TUNJUELITO””
A47: Experiencia en contratos, que incluyan actividades:
A48: EXPERIENCIA GENERAL | L48: PLAZO EJEC. | M48: =+'CONDICIONES GENERALES'!P5 -> 5 MESES
A49: =+'CONDICIONES GENERALES'!C7 -> CONSULTORIAS DE: PROYECTOS DE ESTUDIOS Y DISEÑOS PARA LA CONSTRUCCIÓN Y/O RECONSTRUCCIÓN DE PARQUES DE PROXIMIDAD | L49: PRESUPUESTO | M49: =+'CONDICIONES GENERALES'!P6 -> 513845286
A50: =+'CONDICIONES GENERALES'!C8 -> Nota 1: El proceso de selección contempla actividades de dotación de mobiliario, por lo que la experiencia válida aportada deberá acreditar en por lo menos uno (1) de los contratos en estudios y diseños, actividades de suministro e instalación de mobiliario parques.
A53: EXPERIENCIA ESPECÍFICA
A54: =+'CONDICIONES GENERALES'!C11 -> Por lo menos uno de los contratos aportados deberá demostrar la elaboración de estudios y diseños para parques de proximidad, con nuevas tendencias deportivas
A55: =+'CONDICIONES GENERALES'!#REF! -> #REF!
A57: =+'CONDICIONES GENERALES'!C13 -> NÚMERO DE CONTRATOS: El Proponente podrá aportar mínimo uno (1) y máximo cinco (5) contratos para la evaluación y asignación de puntaje por concepto de experiencia
A58: =+'CONDICIONES GENERALES'!C15 -> CONDICIÓN 1: La experiencia a la que se refiere este numeral podrá acreditarse mediante los documentos establecidos en el Pliego de Condiciones señalados en el numeral 10.1.5.
...

Sheet F. PONDERABLES FINAL
A1: FONDO DE DESARROLLO LOCAL DE TUNJUELITO
A2: FDLT-CMA-355-2024
A3: FACTORES PONDERABLES
A7: FACTORES PONDERABLES / PUNTAJE FINAL | C7: EXPERIENCIA DEL PROPONENTE (67,5PTS ) | D7: EQUIPO DE TRABAJO - EXPERIENCIA ADICIONAL- Formato 8 (5 PTS) | E7: EQUIPO DE TRABAJO - FORMACION ACADÉMICA ADICIONAL- Formato 9 (5 PTS) | F7: FACTOR DE SOSTENIBILIDAD - Formato 10 (1 PT) | G7: APOYO A LA INDUSTRIA NACIONAL (MIN 40%) - Formato 7A ó 7B (20PTS ó 5PTS) | H7: VINCULACION DE PERSONAS CON DISCAPACIDAD - Formato 6 (1 PT) | I7: EMPRENDIMIENTO Y EMPRESA DE MUJERES - Formato 13 (0,25 PTS) | J7: MYPIME- Verificar con el RUP | K7: PUNTAJE TOTAL | L7: OBSERVACIONES
A8: 1 | B8: =+'LISTA DE OFERENTES'!B6 -> CONSULTORIAS, INVERSIONES Y PROYECTOS S.A.S | C8: =+'PUNTAJE EXPERIENCIA FINAL'!E7 -> 0 | D8: 5 | E8: 5 | F8: 1 | G8: 20 | H8: 1 | I8: 0.25 | J8: 0.25 | K8: =+SUM(C8:J8) -> 32.5
A9: 2 | B9: =+'LISTA DE OFERENTES'!B7 -> CONSORCIO ARQINGCO | C9: =+'PUNTAJE EXPERIENCIA FINAL'!E8 -> 67.5 | D9: 5 | E9: 5 | F9: 1 | G9: 20 | H9: 1 | I9: 0.25 | J9: 0.25 | K9: =+SUM(C9:J9) -> 100

Sheet PUNTAJE EXPERIENCIA FINAL
A1: FONDO DE DESARROLLO LOCAL DE TUNJUELITO
A2: FDLT-CMA-355-2024
A3: 4.1 FORMA DE VERIFICACIÓN Y ASIGNACIÓN DE PUNTAJE POR LA EXPERIENCIA DEL PROPONENTE
A5: TRM DEL 11 DE DICIEMBRE DE 2024 $4.377,34
A6: No. | B6: FACTORES PONDERABLES / PUNTAJE FINAL | C6: PUNTAJE EXPERIENCIA | D6: PROMEDIO PROPUESTAS | E6: PUNTAJE ASIGNADO | F6: VALOR MAS CERCANO A LA MEDIA GEOMETRICA | G6: VALOR ABSOLUTO
A7: =+'LISTA DE OFERENTES'!A6 -> 1 | B7: =+'LISTA DE OFERENTES'!B6 -> CONSULTORIAS, INVERSIONES Y PROYECTOS S.A.S | C7: =+'EVALUACION TÉC FINAL'!P18 -> NO CUMPLE | D7: 0 | E7: 0 | F7: 0 | G7: 0
A8: =+'LISTA DE OFERENTES'!A7 -> 2 | B8: =+'LISTA DE OFERENTES'!B7 -> CONSORCIO ARQINGCO | C8: =+'EVALUACION TÉC FINAL'!P34 -> CUMPLE | D8: =+'EVALUACION TÉC PRELIMINAR'!L34 -> 632.72564 | E8: =(1-G8)*67.5 -> 67.5 | F8: =+D8-D10 -> 0 | G8: =ABS(D10-D8)/D10 -> 0
C10: MEDIA GEOMETRICA | D10: =GEOMEAN(D8) -> 632.72564

Sheet RESUMEN CALIFICACION FINAL
A1: FONDO DE DESARROLLO LOCAL DE TUNJUELITO
A2: FDLT-CMA-355-2024
A3: RESUMEN DE CALIFICACION REQUISITOS HABILITANTES
A4: =+'CONDICIONES GENERALES'!C3 -> OBJETO: ““REALIZAR LOS ESTUDIOS Y DISEÑOS PARA LA CONSTRUCCIÓN DE PARQUES DE PROXIMIDAD EN LA LOCALIDAD DE TUNJUELITO””
A6: No. | B6: Nombre de Oferente : | C6: INDICES FINANCIEROS | D6: CAPACIDAD JURIDICA | E6: EVALUACION TECNICA | F6: CALIFICACION ECONOMICA | G6: CUMPLE / NO CUMPLE
A7: 1 | B7: =+'LISTA DE OFERENTES'!B6 -> CONSULTORIAS, INVERSIONES Y PROYECTOS S.A.S | C7: HABILITADO | D7: HABILITADO | E7: NO CUMPLE | F7: ACEPTADA | G7: NO CUMPLE
A8: 2 | B8: =+'LISTA DE OFERENTES'!B7 -> CONSORCIO ARQINGCO | C8: HABILITADO | D8: HABILITADO | E8: CUMPLE | F8: ACEPTADA | G8: CUMPLE

Sheet ORDEN DE ELEGIBILIDAD
A1: FONDO DE DESARROLLO LOCAL DE TUNJUELITO
A2: FDLT-CMA-355-2024
A3: OEDEN DE ELEGIBILIDAD
A7: Numero | B7: OFERENTE | C7: PUNTAJE TOTAL | D7: ORDEN
A8: 2 | B8: =+'LISTA DE OFERENTES'!B7 -> CONSORCIO ARQINGCO | C8: =+'F. PONDERABLES FINAL'!K9 -> 100 | D8: 1
A9: 1 | B9: =+'LISTA DE OFERENTES'!B6 -> CONSULTORIAS, INVERSIONES Y PROYECTOS S.A.S | C9: =+'F. PONDERABLES FINAL'!K8 -> 32.5 | D9: 2

Sheet Hoja2
