Workbook

Sheet  FDLBU-CMA-003-2024 (121627) 
L1: Código: GCO-GCI-F107 Versión: 02 Vigencia: 23 de diciembre de 2021 Caso HOLA: 209033
B6: CONCURSO DE MÉRITO ABIERTO FDLBU-CMA-003-2024 (121627)
B7: OBJETO: "PRESTAR LOS SERVICIOS PROFESIONALES ESPECIALIZADOS PARA LA ELABORACIÓN DE LOS ESTUDIOS TÉCNICOS Y DISEÑOS DE REFORZAMIENTO ESTRUCTURAL, MODIFICACIÓN, ADECUACIÓN NORMATIVA, ASÍ COMO PARA REALIZAR EL TRAMITE Y OBTENCIÓN LA LICENCIA DE CONSTRUCCIÓN EN LA MODALIDAD DE RECONOCIMIENTO, REFORZAMIENTO ESTRUCTURAL PARA EL INMUEBLE UBICADO EN LA CALLE 74 A Nº 63 – 04, SEDE PRINCIPAL DE LA ALCALDÍA LOCAL DE BARRIOS UNIDOS"
B8: CONCEPTO | C8: FP - OFICINA DE ARQUITECTURA S.A.S. N.I.T: 900.698.287-7 | D8: ARQUITECTURA Y URBANISMO SXXI SAS NIT: 901183827 7 | E8: MARTINEZ OSPINA S.A.S. NIT: 900105523 7 | F8: JORGE ENRIQUE MARTINEZ FONSECA NIT:19169883-2 | G8: CONSORCIO INTERPARQUES BU | H8: CONSULTORIA ESTRUCTURAL Y DE CONSTRUCCION S A S NIT: 900160387 5 | I8: EDGARDO EDMUNDO BASSI BURGOS NIT: 19161709 2 | J8: TECNICAS COLOMBIANAS DE INGENIERIA S A S NIT: 900027116 8 | K8: QUINTERO Y RIAÑO S A NIT: 800203806 3 | L8: KRIBA INGENIEROS LIMITADA NIT: 830514979 2 | N8: Datos para validación financiera
C9: 1 | D9: =+C9+1 -> 2 | E9: A | F9: B | G9: =+D9+1 -> 3 | H9: =+G9+1 -> 4 | I9: =+H9+1 -> 5 | J9: =+I9+1 -> 6 | K9: =+J9+1 -> 7 | L9: =+K9+1 -> 8
B10: BALANCE GENERAL CON CORTE A 31 DE DICIEMBRE DEL AÑO 2023 | C10: =IF(YEAR(H70)=2024,"31-DIC.-2023 RUP","31-DIC.-2022 RUP") -> 31-DIC.-2023 RUP | D10: 31-DIC.-2023 RUP | E10: =IF(YEAR(C70)=2024,"31-DIC.-2023 RUP","31-DIC.-2022 RUP") -> 31-DIC.-2023 RUP | F10: =IF(YEAR(C70)=2024,"31-DIC.-2023 RUP","31-DIC.-2022 RUP") -> 31-DIC.-2023 RUP | H10: 30-SEPT.-2024 RUP | I10: 31-DIC.-2023 RUP | J10: 31-DIC.-2023 RUP | K10: 31-DIC.-2023 RUP | L10: 31-DIC.-2023 RUP
B11: PRESENTACIÓN DE RUP VIGENTE | C11: =IF(C73<=$B$74,"VIGENTE","NO VIGENTE") -> VIGENTE | D11: =IF(D73<=$B$74,"VIGENTE","NO VIGENTE") -> VIGENTE | E11: =IF(E73<=$B$74,"VIGENTE","NO VIGENTE") -> VIGENTE | F11: =IF(F73<=$B$74,"VIGENTE","NO VIGENTE") -> VIGENTE | H11: =IF(H73<=$B$74,"VIGENTE","NO VIGENTE") -> VIGENTE | I11: =IF(I73<=$B$74,"VIGENTE","NO VIGENTE") -> VIGENTE | J11: =IF(J73<=$B$74,"VIGENTE","NO VIGENTE") -> VIGENTE | K11: =IF(K73<=$B$74,"VIGENTE","NO VIGENTE") -> VIGENTE | L11: =IF(L73<=$B$74,"VIGENTE","NO VIGENTE") -> VIGENTE
B12: INFORMACION TOMADA DEL RUP VIGENTE | C12: 1 | D12: 1 | E12: 0.7 | F12: 0.3 | G12: =SUM(E12:F12) -> 1 | H12: 1 | I12: 1 | J12: 1 | K12: 1 | L12: 1
B13: ACTIVO CORRIENTE | C13: 1562324503 | D13: 1277603217 | E13: 1769775229 | F13: 2837025722 | G13: =SUM((E13*E$12),(F13*F$12)) -> 2.0899504e+09 | H13: 1803952651 | I13: 365553803 | J13: 1109995833 | K13: 453766000 | L13: 1612212935
B14: PASIVO CORRIENTE | C14: 139335564 | D14: 122770000 | E14: 73218710 | F14: 88122180 | G14: =SUM((E14*E$12),(F14*F$12)) -> 77689751 | H14: 151163494 | I14: 33566144 | J14: 213317108 | K14: 62793000 | L14: 120132306
B15: ACTIVO TOTAL | C15: 1592910080 | D15: 1858453217 | E15: 2809427603 | F15: 3841614407 | G15: =SUM((E15*E$12),(F15*F$12)) -> 3.1190836e+09 | H15: 1847537357 | I15: 365553803 | J15: 2175452870 | K15: 472701000 | L15: 2157824604
B16: PASIVO TOTAL | C16: 139335564 | D16: 272770000 | E16: 1253213414 | F16: 1452287051 | G16: =SUM((E16*E$12),(F16*F$12)) -> 1.3129355e+09 | H16: 151163494 | I16: 33566144 | J16: 687186663 | K16: 99063000 | L16: 120132306
B17: PATRIMONIO | C17: 1453574516 | D17: 1585683217 | E17: 1556214189 | F17: 2389327356 | G17: =SUM((E17*E$12),(F17*F$12)) -> 1.8061481e+09 | H17: 1696373863 | I17: 331987659 | J17: 1488266207 | K17: 373638000 | L17: 2037692298
B18: Activo total-Pasivo total-Patrimonio | C18: =+C15-C16-C17 -> 0 | D18: =+D15-D16-D17 -> 0 | E18: =+E15-E16-E17 -> 0 | F18: =+F15-F16-F17 -> 0 | G18: =+G15-G16-G17 -> 0 | H18: =+H15-H16-H17 -> 0 | I18: =+I15-I16-I17 -> 0 | J18: =+J15-J16-J17 -> 0 | ... L18: =+L15-L16-L17 -> 0
B19: UTILIDAD OPERACIONAL | C19: 231145779 | D19: 759529969 | E19: 544804911 | F19: 453005673 | G19: =SUM((E19*E$12),(F19*F$12)) -> 5.1726514e+08 | H19: 446334451 | I19: 129140397 | J19: 130759942 | K19: 404579000 | L19: 450932863
B20: GASTOS DE INTERESES | C20: 136301 | D20: 35940000 | E20: 25980987 | F20: 119756058 | G20: =SUM((E20*E$12),(F20*F$12)) -> 54113508 | H20: 11541364 | I20: 3156910 | J20: 3051254 | K20: 0 | L20: 0
B21: Rentabilidad del Patrimonio = Utilidad Operacional / Patrimonio | C21: =+C19/C17 -> 0.15901887 | D21: =+D19/D17 -> 0.47899225 | E21: =+E19/E17 -> 0.3500835 | F21: =+F19/F17 -> 0.18959548 | G21: =+G19/G17 -> 0.28639131 | H21: =+H19/H17 -> 0.2631109 | I21: =+I19/I17 -> 0.38899156 | J21: =+J19/J17 -> 0.087860587 | ... L21: =+L19/L17 -> 0.22129586
B22: Rentabilidad del Activo = Utilidad Operacional / Activo Total | C22: =+C19/C16 -> 1.6589144 | D22: =+D19/D16 -> 2.784507 | E22: =+E19/E16 -> 0.43472636 | F22: =+F19/F16 -> 0.31192571 | G22: =+G19/G15 -> 0.16583882 | H22: =+H19/H16 -> 2.9526603 | I22: =+I19/I16 -> 3.8473409 | J22: =+J19/J16 -> 0.190283 | K22: =+K19/K16 -> 4.0840576 | L22: =+L19/L15 -> 0.20897568 | N22: MiPyME | O22: No MiPyME (Gran Empresa)
B23: VALOR DEL PRESUPUESTO OFICIAL | C23: =IF(D12=1,$N$23,"") -> 694529560 | D23: =IF(D12=1,$N$23,"") -> 694529560 | G23: =IF(C12=1,$N$23,"") -> 694529560 | H23: =IF(H12=1,$N$23,"") -> 694529560 | I23: =IF(I12=1,$N$23,"") -> 694529560 | J23: =IF(J12=1,$N$23,"") -> 694529560 | K23: =IF(K12=1,$N$23,"") -> 694529560 | L23: =IF(L12=1,$N$23,"") -> 694529560 | N23: 694529560 | O23: 282571820
B24: CRITERIO DE VERIFICACIÓN FINANCIERA
B25: HÁBIL
B26: NO HÁBIL
B27: CRITERIO DE VERIFICACIÓN FINANCIERA
B28: =CONCATENATE("Índice de Liquidez: Mayor o Igual a ",N28) -> Índice de Liquidez: Mayor o Igual a 1,62 | C28: =IF(C75="MiPyME",IF(C29>=$N$28,$B$25,$B$26),IF(C29>=$O$28,$B$25,$B$26)) -> HÁBIL | D28: =IF(D75="MiPyME",IF(D29>=$N$28,$B$25,$B$26),IF(D29>=$O$28,$B$25,$B$26)) -> HÁBIL | G28: =IF(G75="MiPyME",IF(G29>=$N$28,$B$25,$B$26),IF(G29>=$O$28,$B$25,$B$26)) -> HÁBIL | H28: =IF(H75="MiPyME",IF(H29>=$N$28,$B$25,$B$26),IF(H29>=$O$28,$B$25,$B$26)) -> HÁBIL | I28: =IF(I75="MiPyME",IF(I29>=$N$28,$B$25,$B$26),IF(I29>=$O$28,$B$25,$B$26)) -> HÁBIL | J28: =IF(J75="MiPyME",IF(J29>=$N$28,$B$25,$B$26),IF(J29>=$O$28,$B$25,$B$26)) -> HÁBIL | K28: =IF(K75="MiPyME",IF(K29>=$N$28,$B$25,$B$26),IF(K29>=$O$28,$B$25,$B$26)) -> HÁBIL | L28: =IF(L75="MiPyME",IF(L29>=$N$28,$B$25,$B$26),IF(L29>=$O$28,$B$25,$B$26)) -> HÁBIL | N28: 1.62 | O28: 1
B29: Activo corriente / Pasivo corriente | C29: =C13/C14 -> 11.212676 | D29: =D13/D14 -> 10.406477 | G29: =G13/G14 -> 26.901237 | H29: =H13/H14 -> 11.933785 | I29: =I13/I14 -> 10.890551 | J29: =J13/J14 -> 5.2035012 | K29: =K13/K14 -> 7.2263787 | L29: =L13/L14 -> 13.420311
B30: =CONCATENATE("Endeudamiento total: Menor o Igual a ",N30) -> Endeudamiento total: Menor o Igual a 0,62 | C30: =IF(C75="MiPyME",IF(C31<=$N$30,$B$25,$B$26),IF(C31<=$O$30,$B$25,$B$26)) -> HÁBIL | D30: =IF(D75="MiPyME",IF(D31<=$N$30,$B$25,$B$26),IF(D31<=$O$30,$B$25,$B$26)) -> HÁBIL | G30: =IF(G75="MiPyME",IF(G31<=$N$30,$B$25,$B$26),IF(G31<=$O$30,$B$25,$B$26)) -> HÁBIL | H30: =IF(H75="MiPyME",IF(H31<=$N$30,$B$25,$B$26),IF(H31<=$O$30,$B$25,$B$26)) -> HÁBIL | I30: =IF(I75="MiPyME",IF(I31<=$N$30,$B$25,$B$26),IF(I31<=$O$30,$B$25,$B$26)) -> HÁBIL | J30: =IF(J75="MiPyME",IF(J31<=$N$30,$B$25,$B$26),IF(J31<=$O$30,$B$25,$B$26)) -> HÁBIL | K30: =IF(K75="MiPyME",IF(K31<=$N$30,$B$25,$B$26),IF(K31<=$O$30,$B$25,$B$26)) -> HÁBIL | L30: =IF(L75="MiPyME",IF(L31<=$N$30,$B$25,$B$26),IF(L31<=$O$30,$B$25,$B$26)) -> HÁBIL | N30: 0.62 | O30: 0.62
B31: (Pasivo total / Activo total)*100 | C31: =C16/C15 -> 0.087472335 | D31: =D16/D15 -> 0.14677259 | G31: =G16/G15 -> 0.42093629 | H31: =H16/H15 -> 0.081818911 | I31: =I16/I15 -> 0.091822719 | J31: =J16/J15 -> 0.31588212 | K31: =K16/K15 -> 0.20956799 | L31: =L16/L15 -> 0.055672878
B32: =CONCATENATE("Razón de Cobertura de Intereses Mayor o Igual a ",N32," o Indeterminado") -> Razón de Cobertura de Intereses Mayor o Igual a 1,5 o Indeterminado | C32: =IF(C75="MiPyME",IF(AND(C33="Indeterminado",C19<=0),$B$26,IF(C33>=$N$32,$B$25,$B$26)),IF(AND(C33="Indeterminado",C19<=0),$B$26,IF(C33>=$O$32,$B$25,$B$26))) -> HÁBIL | D32: =IF(D75="MiPyME",IF(AND(D33="Indeterminado",D19<=0),$B$26,IF(D33>=$N$32,$B$25,$B$26)),IF(AND(D33="Indeterminado",D19<=0),$B$26,IF(D33>=$O$32,$B$25,$B$26))) -> HÁBIL | G32: =IF(G75="MiPyME",IF(AND(G33="Indeterminado",G19<=0),$B$26,IF(G33>=$N$32,$B$25,$B$26)),IF(AND(G33="Indeterminado",G19<=0),$B$26,IF(G33>=$O$32,$B$25,$B$26))) -> HÁBIL | H32: =IF(H75="MiPyME",IF(AND(H33="Indeterminado",H19<=0),$B$26,IF(H33>=$N$32,$B$25,$B$26)),IF(AND(H33="Indeterminado",H19<=0),$B$26,IF(H33>=$O$32,$B$25,$B$26))) -> HÁBIL | I32: =IF(I75="MiPyME",IF(AND(I33="Indeterminado",I19<=0),$B$26,IF(I33>=$N$32,$B$25,$B$26)),IF(AND(I33="Indeterminado",I19<=0),$B$26,IF(I33>=$O$32,$B$25,$B$26))) -> HÁBIL | J32: =IF(J75="MiPyME",IF(AND(J33="Indeterminado",J19<=0),$B$26,IF(J33>=$N$32,$B$25,$B$26)),IF(AND(J33="Indeterminado",J19<=0),$B$26,IF(J33>=$O$32,$B$25,$B$26))) -> HÁBIL | K32: =IF(K75="MiPyME",IF(AND(K33="Indeterminado",K19<=0),$B$26,IF(K33>=$N$32,$B$25,$B$26)),IF(AND(K33="Indeterminado",K19<=0),$B$26,IF(K33>=$O$32,$B$25,$B$26))) -> HÁBIL | L32: =IF(L75="MiPyME",IF(AND(L33="Indeterminado",L19<=0),$B$26,IF(L33>=$N$32,$B$25,$B$26)),IF(AND(L33="Indeterminado",L19<=0),$B$26,IF(L33>=$O$32,$B$25,$B$26))) -> HÁBIL | N32: 1.5 | O32: 0
B33: RC= (Utilidad Operacional) / (Gastos de Intereses) | C33: =IFERROR(C19/C20,"Indeterminado") -> 1695.848 | D33: =IFERROR(D19/D20,"Indeterminado") -> 21.133277 | G33: =IFERROR(G19/G20,"Indeterminado") -> 9.5588912 | H33: =IFERROR(H19/H20,"Indeterminado") -> 38.672591 | I33: =IFERROR(I19/I20,"Indeterminado") -> 40.907215 | J33: =IFERROR(J19/J20,"Indeterminado") -> 42.854493 | K33: =IFERROR(K19/K20,"Indeterminado") -> Indeterminado | L33: =IFERROR(L19/L20,"Indeterminado") -> Indeterminado
B34: =CONCATENATE("CAPITAL DE TRABAJO ≥ A ",TEXT(U34,"40%")," DEL PPTO OFICIAL") -> CAPITAL DE TRABAJO ≥ A 40% DEL PPTO OFICIAL | M34: Plazo requerido | N34: 12 | O34: 12
B35: =CONCATENATE("CT = Activo Corriente - Pasivo Corriente ≥ ",TEXT((N23*N35),"$###.###.###.###")) -> CT = Activo Corriente - Pasivo Corriente ≥ $277.811.824 | C35: =C13-C14 -> 1422988939 | D35: =D13-D14 -> 1154833217 | G35: =G13-G14 -> 2.0122606e+09 | H35: =H13-H14 -> 1652789157 | I35: =I13-I14 -> 331987659 | J35: =J13-J14 -> 896678725 | K35: =K13-K14 -> 390973000 | L35: =L13-L14 -> 1492080629 | M35: Cap. Trab. Requerido | N35: 0.4 | P35: Según Pliego Tipo
B36: CRITERIO DE VERIFICACIÓN CAPACIDAD ORGANIZACIONAL
B38: =CONCATENATE("Indicador Rentabilidad del Patrimonio",CHAR(10),"Mayor o Igual a ",N38) -> Indicador Rentabilidad del Patrimonio Mayor o Igual a 0,04 | C38: =IF(C75="MiPyME",IF(C39>=$N$38,$B$25,$B$26),IF(C39>=$O$38,$B$25,$B$26)) -> HÁBIL | D38: =IF(D75="MiPyME",IF(D39>=$N$38,$B$25,$B$26),IF(D39>=$O$38,$B$25,$B$26)) -> HÁBIL | G38: =IF(G75="MiPyME",IF(G39>=$N$38,$B$25,$B$26),IF(G39>=$O$38,$B$25,$B$26)) -> HÁBIL | H38: =IF(H75="MiPyME",IF(H39>=$N$38,$B$25,$B$26),IF(H39>=$O$38,$B$25,$B$26)) -> HÁBIL | I38: =IF(I75="MiPyME",IF(I39>=$N$38,$B$25,$B$26),IF(I39>=$O$38,$B$25,$B$26)) -> HÁBIL | J38: =IF(J75="MiPyME",IF(J39>=$N$38,$B$25,$B$26),IF(J39>=$O$38,$B$25,$B$26)) -> HÁBIL | K38: =IF(K75="MiPyME",IF(K39>=$N$38,$B$25,$B$26),IF(K39>=$O$38,$B$25,$B$26)) -> HÁBIL | L38: =IF(L75="MiPyME",IF(L39>=$N$38,$B$25,$B$26),IF(L39>=$O$38,$B$25,$B$26)) -> HÁBIL | N38: 0.04 | O38: 0
B39: RP = (Utilidad Operacional / Patrimonio) | C39: =C19/C17 -> 0.15901887 | D39: =D19/D17 -> 0.47899225 | G39: =G19/G17 -> 0.28639131 | H39: =H19/H17 -> 0.2631109 | I39: =I19/I17 -> 0.38899156 | J39: =J19/J17 -> 0.087860587 | K39: =K19/K17 -> 1.0828101 | L39: =L19/L17 -> 0.22129586
B40: =CONCATENATE("Indicador Rentabilidad del Activo",CHAR(10),"Mayor o Igual a ",N40) -> Indicador Rentabilidad del Activo Mayor o Igual a 0,03 | C40: =IF(C75="MiPyME",IF(C41>=$N$40,$B$25,$B$26),IF(C41>=$O$40,$B$25,$B$26)) -> HÁBIL | D40: =IF(D75="MiPyME",IF(D41>=$N$40,$B$25,$B$26),IF(D41>=$O$40,$B$25,$B$26)) -> HÁBIL | G40: =IF(G75="MiPyME",IF(G41>=$N$40,$B$25,$B$26),IF(G41>=$O$40,$B$25,$B$26)) -> HÁBIL | H40: =IF(H75="MiPyME",IF(H41>=$N$40,$B$25,$B$26),IF(H41>=$O$40,$B$25,$B$26)) -> HÁBIL | I40: =IF(I75="MiPyME",IF(I41>=$N$40,$B$25,$B$26),IF(I41>=$O$40,$B$25,$B$26)) -> HÁBIL | J40: =IF(J75="MiPyME",IF(J41>=$N$40,$B$25,$B$26),IF(J41>=$O$40,$B$25,$B$26)) -> HÁBIL | K40: =IF(K75="MiPyME",IF(K41>=$N$40,$B$25,$B$26),IF(K41>=$O$40,$B$25,$B$26)) -> HÁBIL | L40: =IF(L75="MiPyME",IF(L41>=$N$40,$B$25,$B$26),IF(L41>=$O$40,$B$25,$B$26)) -> HÁBIL | N40: 0.03 | O40: 0
B41: RA = (Utilidad Operacional / Activo Total) | C41: =C19/C15 -> 0.14510912 | D41: =D19/D15 -> 0.40868931 | G41: =G19/G15 -> 0.16583882 | H41: =H19/H15 -> 0.24158345 | I41: =I19/I15 -> 0.3532733 | J41: =J19/J15 -> 0.060106998 | K41: =K19/K15 -> 0.85588776 | L41: =L19/L15 -> 0.20897568
B42: CUMPLIMIENTO REQUISITOS HABLITANTES | C42: =+IF(COUNTIF(C28:C41,"NO HÁBIL")>=1,"NO HABILITADO","HABILITADO") -> HABILITADO | D42: =+IF(COUNTIF(D28:D41,"NO HÁBIL")>=1,"NO HABILITADO","HABILITADO") -> HABILITADO | G42: =+IF(COUNTIF(G28:G41,"NO HÁBIL")>=1,"NO HABILITADO","HABILITADO") -> HABILITADO | H42: =+IF(COUNTIF(H28:H41,"NO HÁBIL")>=1,"NO HABILITADO","HABILITADO") -> HABILITADO | I42: =+IF(COUNTIF(I28:I41,"NO HÁBIL")>=1,"NO HABILITADO","HABILITADO") -> HABILITADO | J42: =+IF(COUNTIF(J28:J41,"NO HÁBIL")>=1,"NO HABILITADO","HABILITADO") -> HABILITADO | K42: =+IF(COUNTIF(K28:K41,"NO HÁBIL")>=1,"NO HABILITADO","HABILITADO") -> HABILITADO | L42: =+IF(COUNTIF(L28:L41,"NO HÁBIL")>=1,"NO HABILITADO","HABILITADO") -> HABILITADO
B44: NOTA: Una vez verificada la Información Financiera presentada por cada uno de los proponentes, se informa que las sociedades arriba descritas, que cumplen con lo solicitado en los pliegos de condiciones definitivos en cuanto a los Indicadores Financieros requeridos, se encuentran HABILITADAS.
B47: =B72 -> Fecha de cierre del proceso:
B48: 45637
...

Sheet Consolidado
B1: Alcaldía de Bogotá D.C.
B2: Secretaría Distrital de Gobierno
B3: Alcaldía Local de Suba
B5: =' FDLBU-CMA-003-2024 (121627) '!B6 -> CONCURSO DE MÉRITO ABIERTO FDLBU-CMA-003-2024 (121627)
B6: =' FDLBU-CMA-003-2024 (121627) '!B7 -> OBJETO: "PRESTAR LOS SERVICIOS PROFESIONALES ESPECIALIZADOS PARA LA ELABORACIÓN DE LOS ESTUDIOS TÉCNICOS Y DISEÑOS DE REFORZAMIENTO ESTRUCTURAL, MODIFICACIÓN, ADECUACIÓN NORMATIVA, ASÍ COMO PARA REALIZAR EL TRAMITE Y OBTENCIÓN LA LICENCIA DE CONSTRUCCIÓN EN LA MODALIDAD DE RECONOCIMIENTO, REFORZAMIENTO ESTRUCTURAL PARA EL INMUEBLE UBICADO EN LA CALLE 74 A Nº 63 – 04, SEDE PRINCIPAL DE LA ALCALDÍA LOCAL DE BARRIOS UNIDOS"
B7: Presupuesto Oficial del Proceso | C7: =' FDLBU-CMA-003-2024 (121627) '!N23 -> 694529560
B8: Fecha corte Información Financiera | C8: 45291
B9: Fecha cierre del proceso de selección | C9: =' FDLBU-CMA-003-2024 (121627) '!B48 -> 45637
B10: VERIFICACIóN DE LOS INDICADORES | I10: RUP | J10: RESULTADO FINANCIERO | K10: OBERVACIONES
B11: NOMBRE DEL PROPONENTE | C11: Índice de liquidez | D11: Índice de endeudamiento | E11: Razón de Cobertura de intereses | F11: Capital de trabajo | G11: Rentabilidad del patrimonio | H11: Rentabilidad del activo | I11: VIGENTE; EN FIRME Y 30 DÍAS ANTERIORES
A12: 1 | B12: =' FDLBU-CMA-003-2024 (121627) '!C8 -> FP - OFICINA DE ARQUITECTURA S.A.S. N.I.T: 900.698.287-7 | C12: CUMPLE | D12: CUMPLE | E12: CUMPLE | F12: CUMPLE | G12: CUMPLE | H12: CUMPLE | I12: CUMPLE | J12: HABILITADO
A13: =+A12+1 -> 2 | B13: =' FDLBU-CMA-003-2024 (121627) '!D8 -> ARQUITECTURA Y URBANISMO SXXI SAS NIT: 901183827 7 | C13: CUMPLE | D13: CUMPLE | E13: CUMPLE | F13: CUMPLE | G13: CUMPLE | H13: CUMPLE | I13: CUMPLE | J13: HABILITADO
A14: =+A13+1 -> 3 | B14: =' FDLBU-CMA-003-2024 (121627) '!G8 -> CONSORCIO INTERPARQUES BU | C14: CUMPLE | D14: CUMPLE | E14: CUMPLE | F14: CUMPLE | G14: CUMPLE | H14: CUMPLE | I14: CUMPLE | J14: HABILITADO
A15: =+A14+1 -> 4 | B15: =' FDLBU-CMA-003-2024 (121627) '!C8 -> FP - OFICINA DE ARQUITECTURA S.A.S. N.I.T: 900.698.287-7 | C15: CUMPLE | D15: CUMPLE | E15: CUMPLE | F15: CUMPLE | G15: CUMPLE | H15: CUMPLE | I15: CUMPLE | J15: HABILITADO
A16: =+A15+1 -> 5 | B16: =' FDLBU-CMA-003-2024 (121627) '!D8 -> ARQUITECTURA Y URBANISMO SXXI SAS NIT: 901183827 7 | C16: CUMPLE | D16: CUMPLE | E16: CUMPLE | F16: CUMPLE | G16: CUMPLE | H16: CUMPLE | I16: CUMPLE | J16: HABILITADO
A17: =+A16+1 -> 6 | B17: =' FDLBU-CMA-003-2024 (121627) '!H8 -> CONSULTORIA ESTRUCTURAL Y DE CONSTRUCCION S A S NIT: 900160387 5 | C17: CUMPLE | D17: CUMPLE | E17: CUMPLE | F17: CUMPLE | G17: CUMPLE | H17: CUMPLE | I17: CUMPLE | J17: HABILITADO
A18: =+A17+1 -> 7 | B18: =' FDLBU-CMA-003-2024 (121627) '!I8 -> EDGARDO EDMUNDO BASSI BURGOS NIT: 19161709 2 | C18: CUMPLE | D18: CUMPLE | E18: CUMPLE | F18: CUMPLE | G18: CUMPLE | H18: CUMPLE | I18: CUMPLE | J18: HABILITADO
A19: =+A18+1 -> 8 | B19: =' FDLBU-CMA-003-2024 (121627) '!K8 -> QUINTERO Y RIAÑO S A NIT: 800203806 3 | C19: CUMPLE | D19: CUMPLE | E19: CUMPLE | F19: CUMPLE | G19: CUMPLE | H19: CUMPLE | I19: CUMPLE | J19: HABILITADO
A20: =+A19+1 -> 9 | B20: =' FDLBU-CMA-003-2024 (121627) '!L8 -> KRIBA INGENIEROS LIMITADA NIT: 830514979 2 | C20: CUMPLE | D20: CUMPLE | E20: CUMPLE | F20: CUMPLE | G20: CUMPLE | H20: CUMPLE | I20: CUMPLE | J20: HABILITADO
A22: * Se realiza la Evaluación Financiera y Organizacional de acuerdo a lo establecido con el pliego de condiciones definitivo del proceso; la evaluación es puesta a disposición de la Oficina de Contratación y Despacho para que se continúe con el proceso de evaluación.
B24: =' FDLBU-CMA-003-2024 (121627) '!$B$51 -> 45637
E27: Magda C. Vargas Del Valle
E28: Profesional Área Financiera - FDL Barrios Unidos
E29: Comité Evaluador Financiero
