Workbook
Name Acepta: '[1]CONSOLIDADO MATRIZ'!$AD$6:$AD$7
Name asdas: [2]REQUERIMIENTOS_OBLIGATORIOS!$AC$6:$AC$7
Name Esfuerzo: '[1]CONSOLIDADO MATRIZ'!$AC$6:$AC$8
Name FormaCumplimiento: '[1]CONSOLIDADO MATRIZ'!$AB$6:$AB$9

Sheet 1 PROPUESTA ECONOMICA 
B2: 1. Propuesta economica (Máximo 40 puntos)
B3: ïtem | C3: PROPONENTES | D3: PUNTAJE
B4: 1 | C4: UNION TEMPORAL ICETEX CVYS | D4: 39.645
B5: 2 | C5: UNION TEMPORAL VIDE PLUS | D5: 39.73
B6: 3 | C6: UNION TEMPORAL AFILCAN 2024 | D6: 39.552
B7: 4 | C7: UNION TEMPORAL EDUCACION RA | D7: 0
B8: 5 | C8: UNION TEMPORAL WP 2024 | D8: 0
B9: 6 | C9: UNIÓN TEMPORAL TEX CC 2024 | D9: 39.501
B10: 7 | C10: UNION TEMPORAL ICETEX SEGURA | D10: 39.662
B11: 8 | C11: VIGILANCIA ACOSTA | D11: 39.374
B12: 9 | C12: UNION TEMPORAL L&M 2024 | D12: 39.964
B13: 10 | C13: UNIÓN TEMPORAL TOPSEGURIDAD 741 | D13: 0
B14: 11 | C14: UNION TEMPORAL NELH 2024 | D14: 0
B15: 12 | C15: UNIÓN TEMPORAL STUDIUM | D15: 0
... B36: 33 | C36: UNIÓN TEMPORAL E&H | D36: 39.335

Sheet 2 CAPACITACION DEL PERSONAL
B2: 2. Capacitación del personal de vigilancia (Máximo 15 puntos)
B3: ïtem | C3: PROPONENTES | D3: Capacitacion (100%) para vigilante en Entidades Oficiales (10 puntos) | E3: Capacitacion (50%) en medios tecnológicos y atención al cliente. (5 puntos) | F3: PUNTAJE | G3: OBSERVACIONES
B4: 1 | C4: UNION TEMPORAL ICETEX CVYS | D4: 10 | E4: 5 | F4: =D4+E4 -> 15 | G4: Adjunta formato 12 diligenciado
B5: 2 | C5: UNION TEMPORAL VIDE PLUS | D5: 10 | E5: 5 | F5: =D5+E5 -> 15 | G5: Adjunta formato 12 diligenciado
B6: 3 | C6: UNION TEMPORAL AFILCAN 2024 | D6: 10 | E6: 5 | F6: =D6+E6 -> 15 | G6: Adjunta formato 12 diligenciado
B7: 4 | C7: UNION TEMPORAL EDUCACION RA | D7: 0 | E7: 0 | F7: =D7+E7 -> 0 | G7: No se otorga puntaje conforme la causal de rechazo establecida en la evaluación económica
B8: 5 | C8: UNION TEMPORAL WP 2024 | D8: 0 | E8: 0 | F8: 0 | G8: No se otorga puntaje conforme la causal de rechazo establecida en la evaluación económica
B9: 6 | C9: UNIÓN TEMPORAL TEX CC 2024 | D9: 10 | E9: 5 | F9: =D9+E9 -> 15 | G9: Adjunta formato 12 diligenciado
B10: 7 | C10: UNION TEMPORAL ICETEX SEGURA | D10: 10 | E10: 5 | F10: =D10+E10 -> 15 | G10: Adjunta formato 12 diligenciado
B11: 8 | C11: VIGILANCIA ACOSTA | D11: 10 | E11: 5 | F11: =D11+E11 -> 15 | G11: Adjunta formato 12 diligenciado
B12: 9 | C12: UNION TEMPORAL L&M 2024 | D12: 10 | E12: 5 | F12: =D12+E12 -> 15 | G12: Adjunta formato 12 diligenciado
B13: 10 | C13: UNIÓN TEMPORAL TOPSEGURIDAD 741 | D13: 0 | E13: 0 | F13: 0 | G13: No se otorga puntaje conforme la causal de rechazo establecida en la evaluación económica
B14: 11 | C14: UNION TEMPORAL NELH 2024 | D14: 0 | E14: 0 | F14: 0 | G14: No se otorga puntaje conforme la causal de rechazo establecida en la evaluación económica | H14: 0.05 | I14: 10
B15: 12 | C15: UNIÓN TEMPORAL STUDIUM | D15: 0 | E15: 0 | F15: 0 | G15: No se otorga puntaje conforme la causal de rechazo establecida en la evaluación económica
B16: 13 | C16: UNIÓN TEMPORAL VGCOLSER ICETEX | D16: 0 | E16: 0 | F16: 0 | G16: No se otorga puntaje conforme la causal de rechazo establecida en la evaluación económica | H16: 0.05 | I16: 10
B17: 14 | C17: UNIÓN TEMPORAL SERCEN 2024 | D17: 10 | E17: 5 | F17: =D17+E17 -> 15 | G17: Adjunta formato 12 diligenciado | H17: 0.04 | I17: 9
B18: 15 | C18: CUIDAR LIMITADA | D18: 10 | E18: 5 | F18: =D18+E18 -> 15 | G18: Adjunta formato 12 diligenciado | H18: 0.03 | I18: 8
B19: 16 | C19: UNION TEMPORAL TAC CENTRAL ICETEX 2024 | D19: 10 | E19: 5 | F19: =D19+E19 -> 15 | G19: Adjunta formato 12 diligenciado
B20: 17 | C20: RONDACOL LTDA | D20: 10 | E20: 5 | F20: =D20+E20 -> 15 | G20: Adjunta formato 12 diligenciado
B21: 18 | C21: UNION TEMPORAL SL 2025 | D21: 10 | E21: 5 | F21: =D21+E21 -> 15 | G21: Adjunta formato 12 diligenciado
B22: 19 | C22: UNION TEMPORAL S2000 | D22: 10 | E22: 5 | F22: =D22+E22 -> 15 | G22: Adjunta formato 12 diligenciado
B23: 20 | C23: UNION TEMPORAL TP ICETEX | D23: 0 | E23: 0 | F23: 0 | G23: No se otorga puntaje conforme la causal de rechazo establecida en la evaluación económica
B24: 21 | C24: UNION TEMPORAL SERSAN 2024 | D24: 0 | E24: 0 | F24: 0 | G24: No se otorga puntaje conforme la causal de rechazo establecida en la evaluación económica
B25: 22 | C25: UNION TEMPORAL FICAV 2024 | D25: 10 | E25: 5 | F25: =D25+E25 -> 15 | G25: Adjunta formato 12 diligenciado
B26: 23 | C26: UNION TEMPORAL POT | D26: 0 | E26: 0 | F26: 0 | G26: No se otorga puntaje conforme la causal de rechazo establecida en la evaluación económica
B27: 24 | C27: UNION TEMPORAL ACI SEGURIDAD 2024 | D27: 10 | E27: 5 | F27: =D27+E27 -> 15 | G27: Adjunta formato 12 diligenciado
B28: 25 | C28: UNION TEMPORAL GCSI ÉXITO 2024 | D28: 0 | E28: 0 | F28: 0 | G28: No se otorga puntaje conforme la causal de rechazo establecida en la evaluación económica
B29: 26 | C29: UNION TEMPORAL NC ICE 2025 | D29: 10 | E29: 5 | F29: =D29+E29 -> 15 | G29: Adjunta formato 12 diligenciado
B30: 27 | C30: UT RAMVIPP 2024 | D30: 10 | E30: 5 | F30: =D30+E30 -> 15 | G30: Adjunta formato 12 diligenciado
B31: 28 | C31: COLVISEG LTDA | D31: 10 | E31: 5 | F31: =D31+E31 -> 15 | G31: Adjunta formato 12 diligenciado
B32: 29 | C32: UNION TEMPORAL B&S 2024 | D32: 10 | E32: 5 | F32: =D32+E32 -> 15 | G32: Adjunta formato 12 diligenciado
B33: 30 | C33: UT CORINTO ICETEX 2024 | D33: 10 | E33: 5 | F33: =D33+E33 -> 15 | G33: Adjunta formato 12 diligenciado
B34: 31 | C34: UNION TEMPORAL ICETEX S&S 24 | D34: 10 | E34: 5 | F34: =D34+E34 -> 15 | G34: Adjunta formato 12 diligenciado | H34: 0.02 | I34: 7
B35: 32 | C35: SEGURIDAD DIGITAL LTDA | D35: 0 | E35: 0 | F35: 0 | G35: No se otorga puntaje conforme la causal de rechazo establecida en la evaluación económica | H35: 0.01 | I35: 6
B36: 33 | C36: UNIÓN TEMPORAL E&H | D36: 10 | E36: 5 | F36: =D36+E36 -> 15 | G36: Adjunta formato 12 diligenciado

Sheet 3 Estudio de Seguridad
B2: 3. Estudio de Seguridad (15 Puntos).
B3: ïtem | C3: PROPONENTES | D3: PUNTAJE | E3: OBSERVACIONES
B4: 1 | C4: UNION TEMPORAL ICETEX CVYS | D4: 15 | E4: Presenta compromiso
B5: 2 | C5: UNION TEMPORAL VIDE PLUS | D5: 15 | E5: Presenta compromiso
B6: 3 | C6: UNION TEMPORAL AFILCAN 2024 | D6: 15 | E6: Presenta compromiso
B7: 4 | C7: UNION TEMPORAL EDUCACION RA | D7: 0 | E7: No se otorga puntaje conforme la causal de rechazo establecida en la evaluación económica
B8: 5 | C8: UNION TEMPORAL WP 2024 | D8: 0 | E8: No se otorga puntaje conforme la causal de rechazo establecida en la evaluación económica
B9: 6 | C9: UNIÓN TEMPORAL TEX CC 2024 | D9: 15 | E9: Presenta compromiso
B10: 7 | C10: UNION TEMPORAL ICETEX SEGURA | D10: 15 | E10: Presenta compromiso
B11: 8 | C11: VIGILANCIA ACOSTA | D11: 15 | E11: Presenta compromiso
B12: 9 | C12: UNION TEMPORAL L&M 2024 | D12: 15 | E12: Presenta compromiso | F12: 5
B13: 10 | C13: UNIÓN TEMPORAL TOPSEGURIDAD 741 | D13: 0 | E13: No se otorga puntaje conforme la causal de rechazo establecida en la evaluación económica
B14: 11 | C14: UNION TEMPORAL NELH 2024 | D14: 0 | E14: No se otorga puntaje conforme la causal de rechazo establecida en la evaluación económica
B15: 12 | C15: UNIÓN TEMPORAL STUDIUM | D15: 0 | E15: No se otorga puntaje conforme la causal de rechazo establecida en la evaluación económica
B16: 13 | C16: UNIÓN TEMPORAL VGCOLSER ICETEX | D16: 0 | E16: No se otorga puntaje conforme la causal de rechazo establecida en la evaluación económica
B17: 14 | C17: UNIÓN TEMPORAL SERCEN 2024 | D17: 15 | E17: Presenta compromiso
B18: 15 | C18: CUIDAR LIMITADA | D18: 15 | E18: Presenta compromiso
B19: 16 | C19: UNION TEMPORAL TAC CENTRAL ICETEX | D19: 15 | E19: Presenta compromiso
B20: 17 | C20: RONDACOL LTDA | D20: 15 | E20: Presenta compromiso
B21: 18 | C21: UNION TEMPORAL SL 2025 | D21: 15 | E21: Presenta compromiso
B22: 19 | C22: UNION TEMPORAL S2000 | D22: 15 | E22: Presenta compromiso
B23: 20 | C23: UNION TEMPORAL TP ICETEX | D23: 0 | E23: No se otorga puntaje conforme la causal de rechazo establecida en la evaluación económica
B24: 21 | C24: UNION TEMPORAL SERSAN 2024 | D24: 0 | E24: No se otorga puntaje conforme la causal de rechazo establecida en la evaluación económica
... B34: 31 | C34: UNION TEMPORAL ICETEX S&S 24 | D34: 15 | E34: Presenta compromiso
B35: 32 | C35: SEGURIDAD DIGITAL LTDA | D35: 0 | E35: No se otorga puntaje conforme la causal de rechazo establecida en la evaluación económica | F35: 10
B36: 33 | C36: UNIÓN TEMPORAL E&H | D36: 15 | E36: Presenta compromiso

Sheet 4 Sistema de lector Biométrico
B2: 4. Sistema de lector Biométrico (10 Puntos).
B3: ïtem | C3: PROPONENTE - UNIÓN TEMPORAL - CONSORCIO | D3: PUNTUACIÓN | E3: OBSERVACIONES
B4: 1 | C4: UNION TEMPORAL ICETEX CVYS | D4: 10 | E4: Entrega compromiso
B5: 2 | C5: UNION TEMPORAL VIDE PLUS | D5: 10 | E5: Entrega compromiso
B6: 3 | C6: UNION TEMPORAL AFILCAN 2024 | D6: 10 | E6: Entrega compromiso
B7: 4 | C7: UNION TEMPORAL EDUCACION RA | D7: 0 | E7: No se otorga puntaje conforme la causal de rechazo establecida en la evaluación económica
B8: 5 | C8: UNION TEMPORAL WP 2024 | D8: 0 | E8: No se otorga puntaje conforme la causal de rechazo establecida en la evaluación económica
B9: 6 | C9: UNIÓN TEMPORAL TEX CC 2024 | D9: 10 | E9: Entrega compromiso
B10: 7 | C10: UNION TEMPORAL ICETEX SEGURA | D10: 10 | E10: Entrega compromiso
B11: 8 | C11: VIGILANCIA ACOSTA | D11: 10 | E11: Entrega compromiso
B12: 9 | C12: UNION TEMPORAL L&M 2024 | D12: 10 | E12: Formato sin NIT
B13: 10 | C13: UNIÓN TEMPORAL TOPSEGURIDAD 741 | D13: 0 | E13: No se otorga puntaje conforme la causal de rechazo establecida en la evaluación económica
B14: 11 | C14: UNION TEMPORAL NELH 2024 | D14: 0 | E14: No se otorga puntaje conforme la causal de rechazo establecida en la evaluación económica
B15: 12 | C15: UNIÓN TEMPORAL STUDIUM | D15: 0 | E15: No se otorga puntaje conforme la causal de rechazo establecida en la evaluación económica
... B36: 33 | C36: UNIÓN TEMPORAL E&H | D36: 10 | E36: Entrega compromiso

Sheet  5. Escáner Bag
B2: 5. Escáner Bag (8,50)
B3: ïtem | C3: PROPONENTES | D3: PUNTUACIÓN | E3: OBSERVACIONES
B4: 1 | C4: UNION TEMPORAL ICETEX CVYS | D4: 8.5 | E4: Entrega compromiso
B5: 2 | C5: UNION TEMPORAL VIDE PLUS | D5: 8.5 | E5: Entrega compromiso
B6: 3 | C6: UNION TEMPORAL AFILCAN 2024 | D6: 8.5 | E6: Entrega compromiso
B7: 4 | C7: UNION TEMPORAL EDUCACION RA | D7: 0 | E7: No se otorga puntaje conforme la causal de rechazo establecida en la evaluación económica
B8: 5 | C8: UNION TEMPORAL WP 2024 | D8: 0 | E8: No se otorga puntaje conforme la causal de rechazo establecida en la evaluación económica
B9: 6 | C9: UNIÓN TEMPORAL TEX CC 2024 | D9: 8.5 | E9: Entrega compromiso
B10: 7 | C10: UNION TEMPORAL ICETEX SEGURA | D10: 8.5 | E10: Entrega compromiso
B11: 8 | C11: VIGILANCIA ACOSTA | D11: 8.5 | E11: Entrega compromiso
B12: 9 | C12: UNION TEMPORAL L&M 2024 | D12: 8.5 | E12: Entrega compromiso
B13: 10 | C13: UNIÓN TEMPORAL TOPSEGURIDAD 741 | D13: 0 | E13: No se otorga puntaje conforme la causal de rechazo establecida en la evaluación económica
B14: 11 | C14: UNION TEMPORAL NELH 2024 | D14: 0 | E14: No se otorga puntaje conforme la causal de rechazo establecida en la evaluación económica
B15: 12 | C15: UNIÓN TEMPORAL STUDIUM | D15: 0 | E15: No se otorga puntaje conforme la causal de rechazo establecida en la evaluación económica
... B36: 33 | C36: UNIÓN TEMPORAL E&H | D36: 8.5 | E36: Entrega compromiso

Sheet 6. Apoyo a la industria naciona
B2: 6. Apoyo a la industria nacional (10 PUNTOS)
B3: ïtem | C3: PROPONENTES | D3: PUNTUACIÓN | E3: OBSERVACIONES
B4: 1 | C4: UNION TEMPORAL ICETEX CVYS | D4: 10 | E4: Adjunta formato 9A
B5: 2 | C5: UNION TEMPORAL VIDE PLUS | D5: 10 | E5: Adjunta formato 9A
B6: 3 | C6: UNION TEMPORAL AFILCAN 2024 | D6: 10 | E6: Adjunta formato 9A
B7: 4 | C7: UNION TEMPORAL EDUCACION RA | D7: 0 | E7: No se otorga puntaje conforme la causal de rechazo establecida en la evaluación económica
B8: 5 | C8: UNION TEMPORAL WP 2024 | D8: 0 | E8: No se otorga puntaje conforme la causal de rechazo establecida en la evaluación económica
B9: 6 | C9: UNIÓN TEMPORAL TEX CC 2024 | D9: 10 | E9: Adjunta formato 9A
B10: 7 | C10: UNION TEMPORAL ICETEX SEGURA | D10: 10 | E10: Adjunta formato 9A
B11: 8 | C11: VIGILANCIA ACOSTA | D11: 10 | E11: Adjunta formato 9A
B12: 9 | C12: UNION TEMPORAL L&M 2024 | D12: 10 | E12: Adjunta formato 9A
B13: 10 | C13: UNIÓN TEMPORAL TOPSEGURIDAD 741 | D13: 0 | E13: No se otorga puntaje conforme la causal de rechazo establecida en la evaluación económica
B14: 11 | C14: UNION TEMPORAL NELH 2024 | D14: 0 | E14: No se otorga puntaje conforme la causal de rechazo establecida en la evaluación económica
B15: 12 | C15: UNIÓN TEMPORAL STUDIUM | D15: 0 | E15: No se otorga puntaje conforme la causal de rechazo establecida en la evaluación económica
... B36: 33 | C36: UNIÓN TEMPORAL E&H | D36: 10 | E36: Adjunta formato 9A

Sheet 7. Personal-Discapacidad
B2: 7. Personal en condición de discapacidad (1 PUNTO)
B3: ïtem | C3: PROPONENTES | D3: PUNTUACIÓN | E3: OBSERVACIONES
B4: 1 | C4: UNION TEMPORAL ICETEX CVYS | D4: 1 | E4: Presenta formato y certificado vigente
B5: 2 | C5: UNION TEMPORAL VIDE PLUS | D5: 1 | E5: Presenta formato y certificado vigente
B6: 3 | C6: UNION TEMPORAL AFILCAN 2024 | D6: 1 | E6: Presenta formato y certificado vigente
B7: 4 | C7: UNION TEMPORAL EDUCACION RA | D7: 0 | E7: No se otorga puntaje conforme la causal de rechazo establecida en la evaluación económica
B8: 5 | C8: UNION TEMPORAL WP 2024 | D8: 0 | E8: No se otorga puntaje conforme la causal de rechazo establecida en la evaluación económica
B9: 6 | C9: UNIÓN TEMPORAL TEX CC 2024 | D9: 1 | E9: Presenta formato y certificado vigente
B10: 7 | C10: UNION TEMPORAL ICETEX SEGURA | D10: 1 | E10: Presenta formato y certificado vigente
B11: 8 | C11: VIGILANCIA ACOSTA | D11: 1 | E11: Presenta formato y certificado vigente
B12: 9 | C12: UNION TEMPORAL L&M 2024 | D12: 1 | E12: Presenta formato y certificado vigente
B13: 10 | C13: UNIÓN TEMPORAL TOPSEGURIDAD 741 | D13: 0 | E13: No se otorga puntaje conforme la causal de rechazo establecida en la evaluación económica
B14: 11 | C14: UNION TEMPORAL NELH 2024 | D14: 0 | E14: No se otorga puntaje conforme la causal de rechazo establecida en la evaluación económica
B15: 12 | C15: UNIÓN TEMPORAL STUDIUM | D15: 0 | E15: No se otorga puntaje conforme la causal de rechazo establecida en la evaluación económica
... B36: 33 | C36: UNIÓN TEMPORAL E&H | D36: 1 | E36: Presenta formato y certificado vigente

Sheet 8 Emprendimientos y Emp Mujeres
B2: 8. Emprendimientos y empresas de mujeres. (0,25 PUNTO)
B3: ïtem | C3: PROPONENTES | D3: PUNTUACIÓN | E3: OBSERVACIONES
B4: 1 | C4: UNION TEMPORAL ICETEX CVYS | D4: 0.25 | E4: Presenta certificado
B5: 2 | C5: UNION TEMPORAL VIDE PLUS | D5: 0.25 | E5: Presenta certificado
B6: 3 | C6: UNION TEMPORAL AFILCAN 2024 | D6: 0.25 | E6: Presenta certificado
B7: 4 | C7: UNION TEMPORAL EDUCACION RA | D7: 0 | E7: No se otorga puntaje conforme la causal de rechazo establecida en la evaluación económica
B8: 5 | C8: UNION TEMPORAL WP 2024 | D8: 0 | E8: No se otorga puntaje conforme la causal de rechazo establecida en la evaluación económica
B9: 6 | C9: UNIÓN TEMPORAL TEX CC 2024 | D9: 0.25 | E9: Presenta certificado
B10: 7 | C10: UNION TEMPORAL ICETEX SEGURA | D10: 0.25 | E10: Presenta certificado
B11: 8 | C11: VIGILANCIA ACOSTA | D11: 0.25 | E11: Presenta certificado
B12: 9 | C12: UNION TEMPORAL L&M 2024 | D12: 0.25 | E12: Presenta certificado
B13: 10 | C13: UNIÓN TEMPORAL TOPSEGURIDAD 741 | D13: 0 | E13: No se otorga puntaje conforme la causal de rechazo establecida en la evaluación económica
B14: 11 | C14: UNION TEMPORAL NELH 2024 | D14: 0 | E14: No se otorga puntaje conforme la causal de rechazo establecida en la evaluación económica
B15: 12 | C15: UNIÓN TEMPORAL STUDIUM | D15: 0 | E15: No se otorga puntaje conforme la causal de rechazo establecida en la evaluación económica
... B36: 33 | C36: UNIÓN TEMPORAL E&H | D36: 0.25 | E36: Presenta certificado

Sheet 9 MiPymes Nacional
B2: 9. MiPymes Nacional (0,25 PUNTO)
B3: ïtem | C3: PROPONENTES | D3: PUNTUACIÓN | E3: OBSERVACIONES
B4: 1 | C4: UNION TEMPORAL ICETEX CVYS | D4: 0.25 | E4: Presenta certificado se revisa camara de comercio
B5: 2 | C5: UNION TEMPORAL VIDE PLUS | D5: 0.25 | E5: Presenta certificado se revisa camara de comercio
B6: 3 | C6: UNION TEMPORAL AFILCAN 2024 | D6: 0.25 | E6: Presenta certificado se revisa camara de comercio
B7: 4 | C7: UNION TEMPORAL EDUCACION RA | D7: 0 | E7: No se otorga puntaje conforme la causal de rechazo establecida en la evaluación económica
B8: 5 | C8: UNION TEMPORAL WP 2024 | D8: 0 | E8: No se otorga puntaje conforme la causal de rechazo establecida en la evaluación económica
B9: 6 | C9: UNIÓN TEMPORAL TEX CC 2024 | D9: 0.25 | E9: Presenta certificado se revisa camara de comercio
B10: 7 | C10: UNION TEMPORAL ICETEX SEGURA | D10: 0.25 | E10: Presenta certificado se revisa camara de comercio
B11: 8 | C11: VIGILANCIA ACOSTA | D11: 0.25 | E11: Presenta certificado se revisa camara de comercio
B12: 9 | C12: UNION TEMPORAL L&M 2024 | D12: 0.25 | E12: Presenta certificado se revisa camara de comercio
B13: 10 | C13: UNIÓN TEMPORAL TOPSEGURIDAD 741 | D13: 0 | E13: No se otorga puntaje conforme la causal de rechazo establecida en la evaluación económica
B14: 11 | C14: UNION TEMPORAL NELH 2024 | D14: 0 | E14: No se otorga puntaje conforme la causal de rechazo establecida en la evaluación económica
B15: 12 | C15: UNIÓN TEMPORAL STUDIUM | D15: 0 | E15: No se otorga puntaje conforme la causal de rechazo establecida en la evaluación económica
... B36: 33 | C36: UNIÓN TEMPORAL E&H | D36: 0.25 | E36: Presenta certificado se revisa camara de comercio

Sheet PUNTAJE TOTAL
B2: RESUMEN CRITERIOS DE CALIFICACION PONDERABLE
B3: ITEM | C3: PROPONENTES | D3: PUNTAJE PROPUESTA ECONOMICA | E3: PUNTAJE RESTO DE PONDERABLES | F3: TOTAL
B4: 1 | C4: UNION TEMPORAL ICETEX CVYS | D4: 39.645 | E4: ='2 CAPACITACION DEL PERSONAL'!F4+'3 Estudio de Seguridad'!D4+'4 Sistema de lector Biométrico'!D4+' 5. Escáner Bag'!D4+'6. Apoyo a la industria naciona'!D4+'7. Personal-Discapacidad'!D4+'8 Emprendimientos y Emp Mujeres'!D4+'9 MiPymes Nacional'!D4 -> 60 | F4: =D4+E4 -> 99.645
B5: 2 | C5: UNION TEMPORAL VIDE PLUS | D5: 39.73 | E5: ='2 CAPACITACION DEL PERSONAL'!F5+'3 Estudio de Seguridad'!D5+'4 Sistema de lector Biométrico'!D5+' 5. Escáner Bag'!D5+'6. Apoyo a la industria naciona'!D5+'7. Personal-Discapacidad'!D5+'8 Emprendimientos y Emp Mujeres'!D5+'9 MiPymes Nacional'!D5 -> 60 | F5: =D5+E5 -> 99.73
B6: 3 | C6: UNION TEMPORAL AFILCAN 2024 | D6: 39.552 | E6: ='2 CAPACITACION DEL PERSONAL'!F6+'3 Estudio de Seguridad'!D6+'4 Sistema de lector Biométrico'!D6+' 5. Escáner Bag'!D6+'6. Apoyo a la industria naciona'!D6+'7. Personal-Discapacidad'!D6+'8 Emprendimientos y Emp Mujeres'!D6+'9 MiPymes Nacional'!D6 -> 60 | F6: =D6+E6 -> 99.552
B7: 4 | C7: UNION TEMPORAL EDUCACION RA | D7: 0 | E7: ='2 CAPACITACION DEL PERSONAL'!F7+'3 Estudio de Seguridad'!D7+'4 Sistema de lector Biométrico'!D7+' 5. Escáner Bag'!D7+'6. Apoyo a la industria naciona'!D7+'7. Personal-Discapacidad'!D7+'8 Emprendimientos y Emp Mujeres'!D7+'9 MiPymes Nacional'!D7 -> 0 | F7: =D7+E7 -> 0
B8: 5 | C8: UNION TEMPORAL WP 2024 | D8: 0 | E8: ='2 CAPACITACION DEL PERSONAL'!F8+'3 Estudio de Seguridad'!D8+'4 Sistema de lector Biométrico'!D8+' 5. Escáner Bag'!D8+'6. Apoyo a la industria naciona'!D8+'7. Personal-Discapacidad'!D8+'8 Emprendimientos y Emp Mujeres'!D8+'9 MiPymes Nacional'!D8 -> 0 | F8: =D8+E8 -> 0
B9: 6 | C9: UNIÓN TEMPORAL TEX CC 2024 | D9: 39.501 | E9: ='2 CAPACITACION DEL PERSONAL'!F9+'3 Estudio de Seguridad'!D9+'4 Sistema de lector Biométrico'!D9+' 5. Escáner Bag'!D9+'6. Apoyo a la industria naciona'!D9+'7. Personal-Discapacidad'!D9+'8 Emprendimientos y Emp Mujeres'!D9+'9 MiPymes Nacional'!D9 -> 60 | F9: =D9+E9 -> 99.501
B10: 7 | C10: UNION TEMPORAL ICETEX SEGURA | D10: 39.662 | E10: ='2 CAPACITACION DEL PERSONAL'!F10+'3 Estudio de Seguridad'!D10+'4 Sistema de lector Biométrico'!D10+' 5. Escáner Bag'!D10+'6. Apoyo a la industria naciona'!D10+'7. Personal-Discapacidad'!D10+'8 Emprendimientos y Emp Mujeres'!D10+'9 MiPymes Nacional'!D10 -> 60 | F10: =D10+E10 -> 99.662
B11: 8 | C11: VIGILANCIA ACOSTA | D11: 39.374 | E11: ='2 CAPACITACION DEL PERSONAL'!F11+'3 Estudio de Seguridad'!D11+'4 Sistema de lector Biométrico'!D11+' 5. Escáner Bag'!D11+'6. Apoyo a la industria naciona'!D11+'7. Personal-Discapacidad'!D11+'8 Emprendimientos y Emp Mujeres'!D11+'9 MiPymes Nacional'!D11 -> 60 | F11: =D11+E11 -> 99.374
B12: 9 | C12: UNION TEMPORAL L&M 2024 | D12: 39.964 | E12: ='2 CAPACITACION DEL PERSONAL'!F12+'3 Estudio de Seguridad'!D12+'4 Sistema de lector Biométrico'!D12+' 5. Escáner Bag'!D12+'6. Apoyo a la industria naciona'!D12+'7. Personal-Discapacidad'!D12+'8 Emprendimientos y Emp Mujeres'!D12+'9 MiPymes Nacional'!D12 -> 60 | F12: =D12+E12 -> 99.964
B13: 10 | C13: UNIÓN TEMPORAL TOPSEGURIDAD 741 | D13: 0 | E13: ='2 CAPACITACION DEL PERSONAL'!F13+'3 Estudio de Seguridad'!D13+'4 Sistema de lector Biométrico'!D13+' 5. Escáner Bag'!D13+'6. Apoyo a la industria naciona'!D13+'7. Personal-Discapacidad'!D13+'8 Emprendimientos y Emp Mujeres'!D13+'9 MiPymes Nacional'!D13 -> 0 | F13: =D13+E13 -> 0
B14: 11 | C14: UNION TEMPORAL NELH 2024 | D14: 0 | E14: ='2 CAPACITACION DEL PERSONAL'!F14+'3 Estudio de Seguridad'!D14+'4 Sistema de lector Biométrico'!D14+' 5. Escáner Bag'!D14+'6. Apoyo a la industria naciona'!D14+'7. Personal-Discapacidad'!D14+'8 Emprendimientos y Emp Mujeres'!D14+'9 MiPymes Nacional'!D14 -> 0 | F14: =D14+E14 -> 0
B15: 12 | C15: UNIÓN TEMPORAL STUDIUM | D15: 0 | E15: ='2 CAPACITACION DEL PERSONAL'!F15+'3 Estudio de Seguridad'!D15+'4 Sistema de lector Biométrico'!D15+' 5. Escáner Bag'!D15+'6. Apoyo a la industria naciona'!D15+'7. Personal-Discapacidad'!D15+'8 Emprendimientos y Emp Mujeres'!D15+'9 MiPymes Nacional'!D15 -> 0 | F15: =D15+E15 -> 0
... B36: 33 | C36: UNIÓN TEMPORAL E&H | D36: 39.335 | E36: ='2 CAPACITACION DEL PERSONAL'!F36+'3 Estudio de Seguridad'!D36+'4 Sistema de lector Biométrico'!D36+' 5. Escáner Bag'!D36+'6. Apoyo a la industria naciona'!D36+'7. Personal-Discapacidad'!D36+'8 Emprendimientos y Emp Mujeres'!D36+'9 MiPymes Nacional'!D36 -> 60 | F36: =D36+E36 -> 99.335

Sheet Total
B2: RESUMEN CRITERIOS DE CALIFICACION PONDERABLE
B3: ITEM | C3: PROPONENTES | D3: PUNTAJE PROPUESTA ECONOMICA | E3: PUNTAJE RESTO DE PONDERABLES | F3: TOTAL
B4: 1 | C4: UNION TEMPORAL ICETEX CVYS | D4: 39.645 | E4: ='2 CAPACITACION DEL PERSONAL'!F4+'3 Estudio de Seguridad'!D4+'4 Sistema de lector Biométrico'!D4+' 5. Escáner Bag'!D4+'6. Apoyo a la industria naciona'!D4+'7. Personal-Discapacidad'!D4+'8 Emprendimientos y Emp Mujeres'!D4+'9 MiPymes Nacional'!D4 -> 60 | F4: =D4+E4 -> 99.645
B5: 2 | C5: UNION TEMPORAL VIDE PLUS | D5: 39.73 | E5: ='2 CAPACITACION DEL PERSONAL'!F5+'3 Estudio de Seguridad'!D5+'4 Sistema de lector Biométrico'!D5+' 5. Escáner Bag'!D5+'6. Apoyo a la industria naciona'!D5+'7. Personal-Discapacidad'!D5+'8 Emprendimientos y Emp Mujeres'!D5+'9 MiPymes Nacional'!D5 -> 60 | F5: =D5+E5 -> 99.73
B6: 3 | C6: UNION TEMPORAL AFILCAN 2024 | D6: 39.552 | E6: ='2 CAPACITACION DEL PERSONAL'!F6+'3 Estudio de Seguridad'!D6+'4 Sistema de lector Biométrico'!D6+' 5. Escáner Bag'!D6+'6. Apoyo a la industria naciona'!D6+'7. Personal-Discapacidad'!D6+'8 Emprendimientos y Emp Mujeres'!D6+'9 MiPymes Nacional'!D6 -> 60 | F6: =D6+E6 -> 99.552
B7: 4 | C7: UNIÓN TEMPORAL TEX CC 2024 | D7: 39.501 | E7: ='2 CAPACITACION DEL PERSONAL'!F9+'3 Estudio de Seguridad'!D9+'4 Sistema de lector Biométrico'!D9+' 5. Escáner Bag'!D9+'6. Apoyo a la industria naciona'!D9+'7. Personal-Discapacidad'!D9+'8 Emprendimientos y Emp Mujeres'!D9+'9 MiPymes Nacional'!D9 -> 60 | F7: =D7+E7 -> 99.501
B8: 5 | C8: UNION TEMPORAL ICETEX SEGURA | D8: 39.662 | E8: ='2 CAPACITACION DEL PERSONAL'!F10+'3 Estudio de Seguridad'!D10+'4 Sistema de lector Biométrico'!D10+' 5. Escáner Bag'!D10+'6. Apoyo a la industria naciona'!D10+'7. Personal-Discapacidad'!D10+'8 Emprendimientos y Emp Mujeres'!D10+'9 MiPymes Nacional'!D10 -> 60 | F8: =D8+E8 -> 99.662
B9: 6 | C9: VIGILANCIA ACOSTA | D9: 39.374 | E9: ='2 CAPACITACION DEL PERSONAL'!F11+'3 Estudio de Seguridad'!D11+'4 Sistema de lector Biométrico'!D11+' 5. Escáner Bag'!D11+'6. Apoyo a la industria naciona'!D11+'7. Personal-Discapacidad'!D11+'8 Emprendimientos y Emp Mujeres'!D11+'9 MiPymes Nacional'!D11 -> 60 | F9: =D9+E9 -> 99.374
B10: 7 | C10: UNION TEMPORAL L&M 2024 | D10: 39.964 | E10: ='2 CAPACITACION DEL PERSONAL'!F12+'3 Estudio de Seguridad'!D12+'4 Sistema de lector Biométrico'!D12+' 5. Escáner Bag'!D12+'6. Apoyo a la industria naciona'!D12+'7. Personal-Discapacidad'!D12+'8 Emprendimientos y Emp Mujeres'!D12+'9 MiPymes Nacional'!D12 -> 60 | F10: =D10+E10 -> 99.964
B11: 8 | C11: UNIÓN TEMPORAL SERCEN 2024 | D11: 39.773 | E11: ='2 CAPACITACION DEL PERSONAL'!F17+'3 Estudio de Seguridad'!D17+'4 Sistema de lector Biométrico'!D17+' 5. Escáner Bag'!D17+'6. Apoyo a la industria naciona'!D17+'7. Personal-Discapacidad'!D17+'8 Emprendimientos y Emp Mujeres'!D17+'9 MiPymes Nacional'!D17 -> 60 | F11: =D11+E11 -> 99.773
B12: 9 | C12: CUIDAR LIMITADA | D12: 39.556 | E12: ='2 CAPACITACION DEL PERSONAL'!F18+'3 Estudio de Seguridad'!D18+'4 Sistema de lector Biométrico'!D18+' 5. Escáner Bag'!D18+'6. Apoyo a la industria naciona'!D18+'7. Personal-Discapacidad'!D18+'8 Emprendimientos y Emp Mujeres'!D18+'9 MiPymes Nacional'!D18 -> 60 | F12: =D12+E12 -> 99.556
B13: 10 | C13: UNION TEMPORAL TAC CENTRAL ICETEX 2024 | D13: 39.624 | E13: ='2 CAPACITACION DEL PERSONAL'!F19+'3 Estudio de Seguridad'!D19+'4 Sistema de lector Biométrico'!D19+' 5. Escáner Bag'!D19+'6. Apoyo a la industria naciona'!D19+'7. Personal-Discapacidad'!D19+'8 Emprendimientos y Emp Mujeres'!D19+'9 MiPymes Nacional'!D19 -> 60 | F13: =D13+E13 -> 99.624
B14: 11 | C14: RONDACOL LTDA | D14: 39.524 | E14: ='2 CAPACITACION DEL PERSONAL'!F20+'3 Estudio de Seguridad'!D20+'4 Sistema de lector Biométrico'!D20+' 5. Escáner Bag'!D20+'6. Apoyo a la industria naciona'!D20+'7. Personal-Discapacidad'!D20+'8 Emprendimientos y Emp Mujeres'!D20+'9 MiPymes Nacional'!D20 -> 60 | F14: =D14+E14 -> 99.524
B15: 12 | C15: UNION TEMPORAL SL 2025 | D15: 39.676 | E15: ='2 CAPACITACION DEL PERSONAL'!F21+'3 Estudio de Seguridad'!D21+'4 Sistema de lector Biométrico'!D21+' 5. Escáner Bag'!D21+'6. Apoyo a la industria naciona'!D21+'7. Personal-Discapacidad'!D21+'8 Emprendimientos y Emp Mujeres'!D21+'9 MiPymes Nacional'!D21 -> 60 | F15: =D15+E15 -> 99.676
B16: 13 | C16: UNION TEMPORAL S2000 | D16: 39.919 | E16: ='2 CAPACITACION DEL PERSONAL'!F22+'3 Estudio de Seguridad'!D22+'4 Sistema de lector Biométrico'!D22+' 5. Escáner Bag'!D22+'6. Apoyo a la industria naciona'!D22+'7. Personal-Discapacidad'!D22+'8 Emprendimientos y Emp Mujeres'!D22+'9 MiPymes Nacional'!D22 -> 60 | F16: =D16+E16 -> 99.919
B17: 14 | C17: UNION TEMPORAL FICAV 2024 | D17: 38.369 | E17: ='2 CAPACITACION DEL PERSONAL'!F25+'3 Estudio de Seguridad'!D25+'4 Sistema de lector Biométrico'!D25+' 5. Escáner Bag'!D25+'6. Apoyo a la industria naciona'!D25+'7. Personal-Discapacidad'!D25+'8 Emprendimientos y Emp Mujeres'!D25+'9 MiPymes Nacional'!D25 -> 60 | F17: =D17+E17 -> 98.369
B18: 15 | C18: UNION TEMPORAL ACI SEGURIDAD 2024 | D18: 39.768 | E18: ='2 CAPACITACION DEL PERSONAL'!F27+'3 Estudio de Seguridad'!D27+'4 Sistema de lector Biométrico'!D27+' 5. Escáner Bag'!D27+'6. Apoyo a la industria naciona'!D27+'7. Personal-Discapacidad'!D27+'8 Emprendimientos y Emp Mujeres'!D27+'9 MiPymes Nacional'!D27 -> 60 | F18: =D18+E18 -> 99.768
B19: 16 | C19: UNION TEMPORAL NC ICE 2025 | D19: 39.474 | E19: ='2 CAPACITACION DEL PERSONAL'!F29+'3 Estudio de Seguridad'!D29+'4 Sistema de lector Biométrico'!D29+' 5. Escáner Bag'!D29+'6. Apoyo a la industria naciona'!D29+'7. Personal-Discapacidad'!D29+'8 Emprendimientos y Emp Mujeres'!D29+'9 MiPymes Nacional'!D29 -> 60 | F19: =D19+E19 -> 99.474
B20: 17 | C20: UT RAMVIPP 2024 | D20: 39.833 | E20: ='2 CAPACITACION DEL PERSONAL'!F30+'3 Estudio de Seguridad'!D30+'4 Sistema de lector Biométrico'!D30+' 5. Escáner Bag'!D30+'6. Apoyo a la industria naciona'!D30+'7. Personal-Discapacidad'!D30+'8 Emprendimientos y Emp Mujeres'!D30+'9 MiPymes Nacional'!D30 -> 60 | F20: =D20+E20 -> 99.833
B21: 18 | C21: COLVISEG LTDA | D21: 36.49 | E21: ='2 CAPACITACION DEL PERSONAL'!F31+'3 Estudio de Seguridad'!D31+'4 Sistema de lector Biométrico'!D31+' 5. Escáner Bag'!D31+'6. Apoyo a la industria naciona'!D31+'7. Personal-Discapacidad'!D31+'8 Emprendimientos y Emp Mujeres'!D31+'9 MiPymes Nacional'!D31 -> 59.75 | F21: =D21+E21 -> 96.24
B22: 19 | C22: UNION TEMPORAL B&S 2024 | D22: 39.917 | E22: ='2 CAPACITACION DEL PERSONAL'!F32+'3 Estudio de Seguridad'!D32+'4 Sistema de lector Biométrico'!D32+' 5. Escáner Bag'!D32+'6. Apoyo a la industria naciona'!D32+'7. Personal-Discapacidad'!D32+'8 Emprendimientos y Emp Mujeres'!D32+'9 MiPymes Nacional'!D32 -> 60 | F22: =D22+E22 -> 99.917
B23: 20 | C23: UT CORINTO ICETEX 2024 | D23: 39.546 | E23: ='2 CAPACITACION DEL PERSONAL'!F33+'3 Estudio de Seguridad'!D33+'4 Sistema de lector Biométrico'!D33+' 5. Escáner Bag'!D33+'6. Apoyo a la industria naciona'!D33+'7. Personal-Discapacidad'!D33+'8 Emprendimientos y Emp Mujeres'!D33+'9 MiPymes Nacional'!D33 -> 49 | F23: =D23+E23 -> 88.546
B24: 21 | C24: UNION TEMPORAL ICETEX S&S 24 | D24: 39.53 | E24: ='2 CAPACITACION DEL PERSONAL'!F34+'3 Estudio de Seguridad'!D34+'4 Sistema de lector Biométrico'!D34+' 5. Escáner Bag'!D34+'6. Apoyo a la industria naciona'!D34+'7. Personal-Discapacidad'!D34+'8 Emprendimientos y Emp Mujeres'!D34+'9 MiPymes Nacional'!D34 -> 60 | F24: =D24+E24 -> 99.53
B25: 22 | C25: UNIÓN TEMPORAL E&H | D25: 39.335 | E25: ='2 CAPACITACION DEL PERSONAL'!F36+'3 Estudio de Seguridad'!D36+'4 Sistema de lector Biométrico'!D36+' 5. Escáner Bag'!D36+'6. Apoyo a la industria naciona'!D36+'7. Personal-Discapacidad'!D36+'8 Emprendimientos y Emp Mujeres'!D36+'9 MiPymes Nacional'!D36 -> 60 | F25: =D25+E25 -> 99.335
