Workbook
Name CONTRATACIÓN: '[1]EVALUACIÓN AMBIENTAL'!$A$49:$A$52
Name Factor1_1: 'OFERTAS PRESENTADAS'!#REF!
Name Factor1_2: 'OFERTAS PRESENTADAS'!#REF!
Name HABILITADO: '[1]EVALUACIÓN AMBIENTAL'!$A$60:$A$61
Name P1.2: 'OFERTAS PRESENTADAS'!#REF!
Name P1_1: 'OFERTAS PRESENTADAS'!#REF!
Name P1_2: 'OFERTAS PRESENTADAS'!#REF!
Name P3_: 'OFERTAS PRESENTADAS'!#REF!
Name P4_: 'OFERTAS PRESENTADAS'!#REF!
Name Punt_Maxi: 'OFERTAS PRESENTADAS'!#REF!
Name SINO: '[1]EVALUACIÓN AMBIENTAL'!$A$57:$A$58
Name tb_punVal: #REF!
Name TipoMiPyme: #REF!

Sheet OFERTAS PRESENTADAS
A1: OFERTAS PRESENTADAS
A2: CERTAMEN IP-925-2024
A4: No. | B4: Entidad
A5: 1 | B5: UNION TEMPORAL ICETEX CVYS
A6: 2 | B6: UNION TEMPORAL VIDE PLUS
A7: 3 | B7: UNION TEMPORAL AFILCAN 2024
A8: 4 | B8: UNION TEMPORAL EDUCACION RA
A9: 5 | B9: UNION TEMPORAL WP 2024
A10: 6 | B10: UNIÓN TEMPORAL TEX CC 2024
A11: 7 | B11: UNION TEMPORAL ICETEX SEGURA
A12: 8 | B12: VIGILANCIA ACOSTA
A13: 9 | B13: UNION TEMPORAL L&M 2024
A14: 10 | B14: UNIÓN TEMPORAL TOPSEGURIDAD 741
A15: 11 | B15: UNION TEMPORAL NELH 2024
A16: 12 | B16: UNIÓN TEMPORAL STUDIUM
... A37: 33 | B37: UNION TEMPORAL E&H

Sheet 1. VERIFICACION PONDERABLES
B1: RESUMEN EVALUACION CRITERIOS PONDERABLES CERTAMEN IP-925-2024
B2: No. | C2: PROPONENTE | D2: EVALUACION PONDERABLES
D3: ECONOMICOS | E3: PUNTAJE | F3: EVALUACIÓN TECNICA | G3: PUNTAJE | H3: TOTAL PUNTAJE PROPONENTE | I3: CONSOLIDADO GENERAL PONDERABLES
B5: =+'OFERTAS PRESENTADAS'!A5 -> 1 | C5: =+'OFERTAS PRESENTADAS'!B5 -> UNION TEMPORAL ICETEX CVYS | D5: Habilitado | E5: 39.7261 | F5: Habilitado | G5: 60 | H5: =+E5+G5 -> 99.7261 | I5: =IF(COUNTIF(D5:H5,"RECHAZADO")>0,"RECHAZADO",IF(OR(COUNTIF(D5:H5,"No Habilitado")>0,H5="Requiere Aclaración"),"No Habilitado","Habilitado")) -> Habilitado
B6: =+'OFERTAS PRESENTADAS'!A6 -> 2 | C6: =+'OFERTAS PRESENTADAS'!B6 -> UNION TEMPORAL VIDE PLUS | D6: Habilitado | E6: 39.6222 | F6: Habilitado | G6: 60 | H6: =+E6+G6 -> 99.6222 | I6: =IF(COUNTIF(D6:H6,"RECHAZADO")>0,"RECHAZADO",IF(OR(COUNTIF(D6:H6,"No Habilitado")>0,H6="Requiere Aclaración"),"No Habilitado","Habilitado")) -> Habilitado
B7: =+'OFERTAS PRESENTADAS'!A7 -> 3 | C7: =+'OFERTAS PRESENTADAS'!B7 -> UNION TEMPORAL AFILCAN 2024 | D7: Habilitado | E7: 39.4901 | F7: Habilitado | G7: 60 | H7: =+E7+G7 -> 99.4901 | I7: =IF(COUNTIF(D7:H7,"RECHAZADO")>0,"RECHAZADO",IF(OR(COUNTIF(D7:H7,"No Habilitado")>0,H7="Requiere Aclaración"),"No Habilitado","Habilitado")) -> Habilitado
B8: =+'OFERTAS PRESENTADAS'!A8 -> 4 | C8: =+'OFERTAS PRESENTADAS'!B8 -> UNION TEMPORAL EDUCACION RA | D8: No habilitado | E8: 0 | F8: No habilitado | G8: 0 | H8: =+E8+G8 -> 0 | I8: =IF(COUNTIF(D8:H8,"RECHAZADO")>0,"RECHAZADO",IF(OR(COUNTIF(D8:H8,"No Habilitado")>0,H8="Requiere Aclaración"),"No Habilitado","Habilitado")) -> No Habilitado
B9: =+'OFERTAS PRESENTADAS'!A9 -> 5 | C9: =+'OFERTAS PRESENTADAS'!B9 -> UNION TEMPORAL WP 2024 | D9: No habilitado | E9: 0 | F9: No habilitado | G9: 0 | H9: =+E9+G9 -> 0 | I9: =IF(COUNTIF(D9:H9,"RECHAZADO")>0,"RECHAZADO",IF(OR(COUNTIF(D9:H9,"No Habilitado")>0,H9="Requiere Aclaración"),"No Habilitado","Habilitado")) -> No Habilitado
B10: =+'OFERTAS PRESENTADAS'!A10 -> 6 | C10: =+'OFERTAS PRESENTADAS'!B10 -> UNIÓN TEMPORAL TEX CC 2024 | D10: Habilitado | E10: 39.5826 | F10: Habilitado | G10: 60 | H10: =+E10+G10 -> 99.5826 | I10: =IF(COUNTIF(D10:H10,"RECHAZADO")>0,"RECHAZADO",IF(OR(COUNTIF(D10:H10,"No Habilitado")>0,H10="Requiere Aclaración"),"No Habilitado","Habilitado")) -> Habilitado
B11: =+'OFERTAS PRESENTADAS'!A11 -> 7 | C11: =+'OFERTAS PRESENTADAS'!B11 -> UNION TEMPORAL ICETEX SEGURA | D11: Habilitado | E11: 39.5063 | F11: Habilitado | G11: 60 | H11: =+E11+G11 -> 99.5063 | I11: =IF(COUNTIF(D11:H11,"RECHAZADO")>0,"RECHAZADO",IF(OR(COUNTIF(D11:H11,"No Habilitado")>0,H11="Requiere Aclaración"),"No Habilitado","Habilitado")) -> Habilitado
B12: =+'OFERTAS PRESENTADAS'!A12 -> 8 | C12: =+'OFERTAS PRESENTADAS'!B12 -> VIGILANCIA ACOSTA | D12: Habilitado | E12: 39.4555 | F12: Habilitado | G12: 60 | H12: =+E12+G12 -> 99.4555 | I12: =IF(COUNTIF(D12:H12,"RECHAZADO")>0,"RECHAZADO",IF(OR(COUNTIF(D12:H12,"No Habilitado")>0,H12="Requiere Aclaración"),"No Habilitado","Habilitado")) -> Habilitado
B13: =+'OFERTAS PRESENTADAS'!A13 -> 9 | C13: =+'OFERTAS PRESENTADAS'!B13 -> UNION TEMPORAL L&M 2024 | D13: Habilitado | E13: 39.9238 | F13: Habilitado | G13: 60 | H13: =+E13+G13 -> 99.9238 | I13: =IF(COUNTIF(D13:H13,"RECHAZADO")>0,"RECHAZADO",IF(OR(COUNTIF(D13:H13,"No Habilitado")>0,H13="Requiere Aclaración"),"No Habilitado","Habilitado")) -> Habilitado
B14: =+'OFERTAS PRESENTADAS'!A14 -> 10 | C14: =+'OFERTAS PRESENTADAS'!B14 -> UNIÓN TEMPORAL TOPSEGURIDAD 741 | D14: No habilitado | E14: 0 | F14: No habilitado | G14: 0 | H14: =+E14+G14 -> 0 | I14: =IF(COUNTIF(D14:H14,"RECHAZADO")>0,"RECHAZADO",IF(OR(COUNTIF(D14:H14,"No Habilitado")>0,H14="Requiere Aclaración"),"No Habilitado","Habilitado")) -> No Habilitado
B15: =+'OFERTAS PRESENTADAS'!A15 -> 11 | C15: =+'OFERTAS PRESENTADAS'!B15 -> UNION TEMPORAL NELH 2024 | D15: No habilitado | E15: 0 | F15: No habilitado | G15: 0 | H15: =+E15+G15 -> 0 | I15: =IF(COUNTIF(D15:H15,"RECHAZADO")>0,"RECHAZADO",IF(OR(COUNTIF(D15:H15,"No Habilitado")>0,H15="Requiere Aclaración"),"No Habilitado","Habilitado")) -> No Habilitado
B16: =+'OFERTAS PRESENTADAS'!A16 -> 12 | C16: =+'OFERTAS PRESENTADAS'!B16 -> UNIÓN TEMPORAL STUDIUM | D16: No habilitado | E16: 0 | F16: No habilitado | G16: 0 | H16: =+E16+G16 -> 0 | I16: =IF(COUNTIF(D16:H16,"RECHAZADO")>0,"RECHAZADO",IF(OR(COUNTIF(D16:H16,"No Habilitado")>0,H16="Requiere Aclaración"),"No Habilitado","Habilitado")) -> No Habilitado
... B37: =+'OFERTAS PRESENTADAS'!A37 -> 33 | C37: =+'OFERTAS PRESENTADAS'!B37 -> UNION TEMPORAL E&H | D37: Habilitado | E37: 39.2957 | F37: Habilitado | G37: 60 | H37: =+E37+G37 -> 99.2957 | I37: =IF(COUNTIF(D37:H37,"RECHAZADO")>0,"RECHAZADO",IF(OR(COUNTIF(D37:H37,"No Habilitado")>0,H37="Requiere Aclaración"),"No Habilitado","Habilitado")) -> Habilitado

Sheet 2. ORDEN DE ELEGIBILIDAD
B1: ORDEN DE ELEGIBILIDAD DEFINITIVO CERTAMEN IP-925-2024
C2: PROPONENTE | D2: PUNTAJE
B3: 1 | C3: =+'1. VERIFICACION PONDERABLES'!C13 -> UNION TEMPORAL L&M 2024 | D3: =+'1. VERIFICACION PONDERABLES'!H13 -> 99.9238
B4: 2 | C4: =+'1. VERIFICACION PONDERABLES'!C23 -> UNION TEMPORAL S2000 | D4: =+'1. VERIFICACION PONDERABLES'!H23 -> 99.8785
B5: 3 | C5: =+'1. VERIFICACION PONDERABLES'!C33 -> UNION TEMPORAL B&S 2024 | D5: =+'1. VERIFICACION PONDERABLES'!H33 -> 99.8769
B6: 4 | C6: =+'1. VERIFICACION PONDERABLES'!C5 -> UNION TEMPORAL ICETEX CVYS | D6: =+'1. VERIFICACION PONDERABLES'!H5 -> 99.7261
B7: 5 | C7: =+'1. VERIFICACION PONDERABLES'!C20 -> UNION TEMPORAL TAC CENTRAL ICETEX 2024 | D7: =+'1. VERIFICACION PONDERABLES'!H20 -> 99.7056
B8: 6 | C8: =+'1. VERIFICACION PONDERABLES'!C19 -> CUIDAR LIMITADA | D8: =+'1. VERIFICACION PONDERABLES'!H19 -> 99.6378
B9: 7 | C9: =+'1. VERIFICACION PONDERABLES'!C28 -> UNION TEMPORAL ACI SEGURIDAD 2024 | D9: =+'1. VERIFICACION PONDERABLES'!H28 -> 99.6358
B10: 8 | C10: =+'1. VERIFICACION PONDERABLES'!C6 -> UNION TEMPORAL VIDE PLUS | D10: =+'1. VERIFICACION PONDERABLES'!H6 -> 99.6222
B11: 9 | C11: =+'1. VERIFICACION PONDERABLES'!C21 -> RONDACOL LTDA | D11: =+'1. VERIFICACION PONDERABLES'!H21 -> 99.6054
B12: 10 | C12: =+'1. VERIFICACION PONDERABLES'!C10 -> UNIÓN TEMPORAL TEX CC 2024 | D12: =+'1. VERIFICACION PONDERABLES'!H10 -> 99.5826
B13: 11 | C13: =+'1. VERIFICACION PONDERABLES'!C22 -> UNION TEMPORAL SL 2025 | D13: =+'1. VERIFICACION PONDERABLES'!H22 -> 99.5121
B14: 12 | C14: =+'1. VERIFICACION PONDERABLES'!C11 -> UNION TEMPORAL ICETEX SEGURA | D14: =+'1. VERIFICACION PONDERABLES'!H11 -> 99.5063
B15: 13 | C15: =+'1. VERIFICACION PONDERABLES'!C7 -> UNION TEMPORAL AFILCAN 2024 | D15: =+'1. VERIFICACION PONDERABLES'!H7 -> 99.4901
B16: 14 | C16: =+'1. VERIFICACION PONDERABLES'!C12 -> VIGILANCIA ACOSTA | D16: =+'1. VERIFICACION PONDERABLES'!H12 -> 99.4555
B17: 15 | C17: =+'1. VERIFICACION PONDERABLES'!C35 -> UNION TEMPORAL ICETEX S&S 24 | D17: =+'1. VERIFICACION PONDERABLES'!H35 -> 99.2957
B18: 16 | C18: =+'1. VERIFICACION PONDERABLES'!C37 -> UNION TEMPORAL E&H | D18: =+'1. VERIFICACION PONDERABLES'!H37 -> 99.2957
B19: 17 | C19: =+'1. VERIFICACION PONDERABLES'!C30 -> UNION TEMPORAL NC ICE 2025 | D19: =+'1. VERIFICACION PONDERABLES'!H30 -> 98.3305
B20: 18 | C20: =+'1. VERIFICACION PONDERABLES'!C26 -> UNION TEMPORAL FICAV 2024 | D20: =+'1. VERIFICACION PONDERABLES'!H26 -> 98.3305
B21: 19 | C21: =+'1. VERIFICACION PONDERABLES'!C34 -> UT CORINTO ICETEX 2024 | D21: =+'1. VERIFICACION PONDERABLES'!H34 -> 88.4345
B22: 20 | C22: =+'1. VERIFICACION PONDERABLES'!C31 -> UT RAMVIPP 2024 | D22: =+'1. VERIFICACION PONDERABLES'!H31 -> 0
B23: 21 | C23: =+'1. VERIFICACION PONDERABLES'!C18 -> UNIÓN TEMPORAL SERCEN 2024 | D23: =+'1. VERIFICACION PONDERABLES'!H18 -> 0
B24: 22 | C24: =+'1. VERIFICACION PONDERABLES'!C32 -> COLVISEG LTDA | D24: =+'1. VERIFICACION PONDERABLES'!H32 -> 0
B25: 23 | C25: =+'1. VERIFICACION PONDERABLES'!C17 -> UNIÓN TEMPORAL VGCOLSER ICETEX | D25: =+'1. VERIFICACION PONDERABLES'!H17 -> 0
B26: 24 | C26: =+'1. VERIFICACION PONDERABLES'!C25 -> UNION TEMPORAL SERSAN 2024 | D26: =+'1. VERIFICACION PONDERABLES'!H25 -> 0
B27: 25 | C27: =+'1. VERIFICACION PONDERABLES'!C15 -> UNION TEMPORAL NELH 2024 | D27: =+'1. VERIFICACION PONDERABLES'!H15 -> 0
B28: 26 | C28: =+'1. VERIFICACION PONDERABLES'!C29 -> UNION TEMPORAL GCSI ÉXITO 2024 | D28: =+'1. VERIFICACION PONDERABLES'!H29 -> 0
B29: 27 | C29: =+'1. VERIFICACION PONDERABLES'!C27 -> UNION TEMPORAL POT | D29: =+'1. VERIFICACION PONDERABLES'!H27 -> 0
B30: 28 | C30: =+'1. VERIFICACION PONDERABLES'!C24 -> UNION TEMPORAL TP ICETEX | D30: =+'1. VERIFICACION PONDERABLES'!H24 -> 0
B31: 29 | C31: =+'1. VERIFICACION PONDERABLES'!C9 -> UNION TEMPORAL WP 2024 | D31: =+'1. VERIFICACION PONDERABLES'!H9 -> 0
B32: 30 | C32: =+'1. VERIFICACION PONDERABLES'!C8 -> UNION TEMPORAL EDUCACION RA | D32: =+'1. VERIFICACION PONDERABLES'!H8 -> 0
B33: 31 | C33: =+'1. VERIFICACION PONDERABLES'!C14 -> UNIÓN TEMPORAL TOPSEGURIDAD 741 | D33: =+'1. VERIFICACION PONDERABLES'!H14 -> 0
B34: 32 | C34: =+'1. VERIFICACION PONDERABLES'!C16 -> UNIÓN TEMPORAL STUDIUM | D34: =+'1. VERIFICACION PONDERABLES'!H16 -> 0
B35: 33 | C35: =+'1. VERIFICACION PONDERABLES'!C36 -> SEGURIDAD DIGITAL LTDA | D35: =+'1. VERIFICACION PONDERABLES'!H36 -> 0

Sheet 3. VERIFICACION HABILITANTES
B1: RESUMEN EVALUACION CRITERIOS HABILITANTES CERTAMEN IP-925-2024
B2: No. | C2: PROPONENTE | D2: REQUISITOS HABILITANTES
D3: ASPECTOS JURÍDICOS | E3: ASPECTOS TÉCNICOS | F3: ASPECTOS ECONOMICOS FINANCIEROS | G3: CONSOLIDADO FINAL
B5: =+'[2]2. ORDEN DE ELEGIBILIDAD'!B3 -> 1 | C5: =+'2. ORDEN DE ELEGIBILIDAD'!C3 -> UNION TEMPORAL L&M 2024 | D5: =+'[3]3. VERIFICACION HABILITANTES'!F5 -> Habilitado | E5: No habilitado | F5: No habilitado | G5: No habilitado
B6: 2 | C6: =+'2. ORDEN DE ELEGIBILIDAD'!C4 -> UNION TEMPORAL S2000 | D6: Habilitado | E6: Habilitado | F6: Habilitado | G6: Habilitado

Sheet 4. CONSOLIDADO EVALUACION
B1: RESUMEN EVALUACION CERTAMEN IP-925-2024
B2: No. | C2: PROPONENTE | D2: EVALUACION PONDERABLES | I2: REQUISITOS HABILITANTES
D3: ECONOMICOS | E3: PUNTAJE | F3: EVALUACIÓN TECNICA | G3: PUNTAJE | H3: TOTAL PUNTAJE PROPONENTE | I3: ASPECTOS JURÍDICOS | J3: ASPECTOS TÉCNICOS | K3: ASPECTOS ECONOMICOS FINANCIEROS | L3: CONSOLIDADO FINAL | M3: PUNTAJE TOTAL
B5: =+'[2]3. VERIFICACION HABILITANTES'!B5 -> 1 | C5: =+'3. VERIFICACION HABILITANTES'!C5 -> UNION TEMPORAL L&M 2024 | D5: =+'[3]3. VERIFICACION HABILITANTES'!F5 -> Habilitado | E5: =+'1. VERIFICACION PONDERABLES'!E13 -> 39.9238 | F5: =+'[3]1. VERIFICACION PONDERABLES'!F33 -> Habilitado | G5: =+'1. VERIFICACION PONDERABLES'!G23 -> 60 | H5: =+E5+G5 -> 99.9238 | I5: Habilitado | J5: No habilitado | K5: No habilitado | L5: No habilitado | M5: No habilitado
B6: 2 | C6: =+'2. ORDEN DE ELEGIBILIDAD'!C4 -> UNION TEMPORAL S2000 | D6: Habilitado | E6: =+'1. VERIFICACION PONDERABLES'!E23 -> 39.8785 | F6: Habilitado | G6: =+'1. VERIFICACION PONDERABLES'!G23 -> 60 | H6: =+E6+G6 -> 99.8785 | I6: Habilitado | J6: Habilitado | K6: Habilitado | L6: Habilitado | M6: Habilitado
