Workbook
Name UND: [1]DATOS!$B$3:$B$37

Sheet EST MDO VENTA
B6: ESTUDIO DE MERCADO DE INMUEBLES EN EL SECTOR BUQUE DE VILLAVICENCIO META.
C7: No | D7: IMAGEN | E7: SECTOR | F7: UBICACIÓN | G7: FUENTE | H7: TIPO | I7: ÁREA TERRENO | J7: ÁREA CONSTRUIDA | K7: Vlr M2 CONSTRUIDO | L7: VlR OFERTA | M7: NEGOCIACIÓN | N7: UBICACIÓN | O7: VLR M2 HOMOGENIZADO | P7: OBSERVACIONES
C8: 1 | E8: BUQUE | F8: Cra 43 A con Cll 47: 4°08'23.3"N 73°38'28.1"W | G8: 3107857653 | H8: N.P.H. | I8: 144 | J8: 0 | K8: 0 | L8: 460800000 | M8: =+L8*0.9 -> 414720000 | N8: =+M8*0.9 -> 373248000 | O8: =+(N8-(J8*K8))/I8 -> 2592000 | P8: Frente de 10 por 11 fondo, lote, sin construcciones, medianero,
C9: 2 | E9: BUQUE | F9: Calle 27 con Cra 43 B: 4°08'23.5"N 73°38'31.1"W | G9: 3138073353 | H9: N.P.H. | I9: 162 | J9: 0 | K9: 0 | L9: 430000000 | M9: =+L9*0.9 -> 387000000 | N9: =+M9*1 -> 387000000 | O9: =+(N9-(J9*K9))/I9 -> 2388888.9 | P9: Frente de 9 por 18 fondo, lote, sin construcciones, medianero.
C10: 3 | E10: BUQUE | F10: CRA 45 A CON CLL 15: 4°08'16.2"N 73°38'50.7"W | G10: 3213276559 | H10: N.P.H. | I10: 176 | J10: 0 | K10: 0 | L10: 460000000 | M10: =+L10*1 -> 460000000 | N10: =+M10*0.9 -> 414000000 | O10: =+(N10-(J10*K10))/I10 -> 2352272.7 | P10: Frente de 8 por 22 fondo, lote, sin construcciones, medianero.
C12: MEDIA ARITMETICA | H12: =SUM(O8:O10)/3 -> 2444387.2
C13: DESVIACION ESTÁNDAR | H13: =STDEV(O8:O10) -> 129140.77
C14: COEFICIENTE DE ASIMETRIA | H14: =_xlfn.SKEW.P(O8:O10) -> 0.64369254
C15: COEFICIENTE DE VARIACION | H15: =SUM(H13/H12) -> 0.052831552
C16: Maximo | H16: =+H12+H13 -> 2573528
C17: Minimo | H17: =+H12-H13 -> 2315246.4
C18: VALOR ADOPTADO | H18: =+H12 -> 2444387.2

Sheet AREAS PLUSVALIA
B4: AREA DE TERRENO TOTAL | D4: 734.05
B5: I.C ANTES DEL HECHO GENERADOR | D5: =+'IC ANTES'!$E$9 -> 1.6146789
B6: AREA CONSTRUIDA ANTES HECHO GENERADOR | D6: =+D4*D5 -> 1185.255
B7: I.C. PROYECTO | D7: 2.348
B8: AREA CONSTRUIDA M2 APROBADA CURADURIA | D8: 1723.85
B9: MAYOR APROVECHAMIENTO EN AREA M2 | D9: =+D8-D6 -> 538.59495

Sheet SERIES IPC
A3: Total, Indice de Precios al Consumidor (IPC)
A5: Índices - Serie de empalme 2003 - 2024
W8: Base Diciembre de 2018 = 100,00
A9: Mes | B9: 2003 | C9: 2004 | D9: 2005 | E9: 2006 | F9: 2007 | G9: 2008 | H9: 2009 | I9: 2010 | J9: 2011 | K9: 2012 | L9: 2013 | M9: 2014 | N9: 2015 | O9: 2016 | P9: 2017 | Q9: 2018 | R9: 2019 | S9: 2020 | T9: 2021 | U9: 2022 | V9: 2023 | W9: 2024 | Y9: VLR A DEFLACTAR | Z9: = | AA9: =+'EST MDO VENTA'!H18 -> 2444387.2
A10: Enero | B10: 50.42 | C10: 53.54 | D10: 56.45 | E10: 59.02 | F10: 61.8 | G10: 65.51 | H10: 70.21 | I10: 71.69 | J10: 74.12 | K10: 76.75 | L10: 78.28 | M10: 79.95 | N10: 83 | O10: 89.19 | P10: 94.07 | Q10: 97.53 | R10: 100.6 | S10: 104.24 | T10: 105.91 | U10: 113.26 | V10: 128.27 | W10: 138.98 | Y10: IPC ACTUAL | Z10: = | AA10: =+W20 -> 144.22
A11: Febrero | B11: 50.98 | C11: 54.18 | D11: 57.02 | E11: 59.41 | F11: 62.53 | G11: 66.5 | H11: 70.8 | I11: 72.28 | J11: 74.57 | K11: 77.22 | L11: 78.63 | M11: 80.45 | N11: 83.96 | O11: 90.33 | P11: 95.01 | Q11: 98.22 | R11: 101.18 | S11: 104.94 | T11: 106.58 | U11: 115.11 | V11: 130.4 | W11: 140.49 | Y11: IPC INICIAL | Z11: = | AA11: =+N20 -> 87.51
A12: Marzo | B12: 51.51 | C12: 54.71 | D12: 57.46 | E12: 59.83 | F12: 63.29 | G12: 67.04 | H12: 71.15 | I12: 72.46 | J12: 74.77 | K12: 77.31 | L12: 78.79 | M12: 80.77 | N12: 84.45 | O12: 91.18 | P12: 95.46 | Q12: 98.45 | R12: 101.62 | S12: 105.53 | T12: 107.12 | U12: 116.26 | V12: 131.77 | W12: 141.48 | Y12: INDICE | Z12: = | AA12: =+AA11/AA10 -> 0.60678131
A13: Abril | B13: 52.1 | C13: 54.96 | D13: 57.72 | E13: 60.09 | F13: 63.85 | G13: 67.51 | H13: 71.38 | I13: 72.79 | J13: 74.86 | K13: 77.42 | L13: 78.99 | M13: 81.14 | N13: 84.9 | O13: 91.63 | P13: 95.91 | Q13: 98.91 | R13: 102.12 | S13: 105.7 | T13: 107.76 | U13: 117.71 | V13: 132.8 | W13: 142.32 | Y13: VLR DEFLACTADO | Z13: = | AA13: =+AA9*AA12 -> 1483208.5
A14: Mayo | B14: 52.36 | C14: 55.17 | D14: 57.95 | E14: 60.29 | F14: 64.05 | G14: 68.14 | H14: 71.39 | I14: 72.87 | J14: 75.07 | K14: 77.66 | L14: 79.21 | M14: 81.53 | N14: 85.12 | O14: 92.1 | P14: 96.12 | Q14: 99.16 | R14: 102.44 | S14: 105.36 | T14: 108.84 | U14: 118.7 | V14: 133.38 | W14: 142.92
A15: Junio | B15: 52.33 | C15: 55.51 | D15: 58.18 | E15: 60.48 | F15: 64.12 | G15: 68.73 | H15: 71.35 | I15: 72.95 | J15: 75.31 | K15: 77.72 | L15: 79.39 | M15: 81.61 | N15: 85.21 | O15: 92.54 | P15: 96.23 | Q15: 99.31 | R15: 102.71 | S15: 104.97 | T15: 108.78 | U15: 119.31 | V15: 133.78 | W15: 143.38
A16: Julio | B16: 52.26 | C16: 55.49 | D16: 58.21 | E16: 60.73 | F16: 64.23 | G16: 69.06 | H16: 71.32 | I16: 72.92 | J16: 75.42 | K16: 77.7 | L16: 79.43 | M16: 81.73 | N16: 85.37 | O16: 93.02 | P16: 96.18 | Q16: 99.18 | R16: 102.94 | S16: 104.97 | T16: 109.14 | U16: 120.27 | V16: 134.45 | W16: 143.67
A17: Agosto | B17: 52.42 | C17: 55.51 | D17: 58.21 | E17: 60.96 | F17: 64.14 | G17: 69.19 | H17: 71.35 | I17: 73 | J17: 75.39 | K17: 77.73 | L17: 79.5 | M17: 81.9 | N17: 85.78 | O17: 92.73 | P17: 96.32 | Q17: 99.3 | R17: 103.03 | S17: 104.96 | T17: 109.62 | U17: 121.5 | V17: 135.39 | W17: 143.67
A18: Septiembre | B18: 52.53 | C18: 55.67 | D18: 58.46 | E18: 61.14 | F18: 64.2 | G18: 69.06 | H18: 71.28 | I18: 72.9 | J18: 75.62 | K18: 77.96 | L18: 79.73 | M18: 82.01 | N18: 86.39 | O18: 92.68 | P18: 96.36 | Q18: 99.47 | R18: 103.26 | S18: 105.29 | T18: 110.04 | U18: 122.63 | V18: 136.11 | W18: 144.02
A19: Octubre | B19: 52.56 | C19: 55.66 | D19: 58.6 | E19: 61.05 | F19: 64.2 | G19: 69.3 | H19: 71.19 | I19: 72.84 | J19: 75.77 | K19: 78.08 | L19: 79.52 | M19: 82.14 | N19: 86.98 | O19: 92.62 | P19: 96.37 | Q19: 99.59 | R19: 103.43 | S19: 105.23 | T19: 110.06 | U19: 123.51 | V19: 136.45 | W19: 143.83
A20: Noviembre | B20: 52.75 | C20: 55.82 | D20: 58.66 | E20: 61.19 | F20: 64.51 | G20: 69.49 | H20: 71.14 | I20: 72.98 | J20: 75.87 | K20: 77.98 | L20: 79.35 | M20: 82.25 | N20: 87.51 | O20: 92.73 | P20: 96.55 | Q20: 99.7 | R20: 103.54 | S20: 105.08 | T20: 110.6 | U20: 124.46 | V20: 137.09 | W20: 144.22
A21: Diciembre | B21: 53.07 | C21: 55.99 | D21: 58.7 | E21: 61.33 | F21: 64.82 | G21: 69.8 | H21: 71.2 | I21: 73.45 | J21: 76.19 | K21: 78.05 | L21: 79.56 | M21: 82.47 | N21: 88.05 | O21: 93.11 | P21: 96.92 | Q21: 100 | R21: 103.8 | S21: 105.48 | T21: 111.41 | U21: 126.03 | V21: 137.72
A24: Fuente: DANE.
A25: Nota: La diferencia en la suma de las variables, obedece al sistema de aproximación y redondeo.
A26: Actualizado el 6 de diciembre de 2024

Sheet IC ANTES
A1: CALCULO INDICE DE CONSTRUCCION | N1: LOTE OBJETO
A2: LOTE BASE | F2: USADOS | L2: MATEMATICA | N2: Modificar siguientes datos | P2: Cantidad | Q2: Unidad
A3: Area lote en bruto (m2) | E3: =U7*T9 -> 597.32 | L3: x | N3: Frente | P3: 27.4 | Q3: m | U3: (Via Principal)
A4: Area lote con cesiones primer piso (m2) | E4: =U7*V10 -> 474.02 | L4: x | N4: Fondo | P4: 21.8 | Q4: m
A5: Antejardin 40 % (m2) | E5: =(U9*U7)*40% -> 16.44 | L5: x | N5: Antejardin Frontal | P5: 1.5 | Q5: m | Z5: 2.348
A6: Area total 2 piso + Antejardin (m2) | E6: =E4+E5 -> 490.46 | L6: + | N6: Aislamiento posterior | P6: =U15 -> 3 | Q6: m | U6: Frente (m) | Z6: =+E9 -> 1.6146789
A7: Area total 3 al 5 piso + Antejardin (m2) | E7: 0 | L7: + | U7: =P3 -> 27.4 | Z7: =+Z5-Z6 -> 0.7333211
A8: Area total construida (m2) | E8: =E4+E6+E7 -> 964.48 | L8: + | U8: Antejardin (m)
A9: I.C | E9: =E8/E3 -> 1.6146789 | L9: / | S9: Fondo (m) | T9: =P4 -> 21.8 | U9: =P5 -> 1.5
U10: Lote Tipo | V10: =T9-U9-U15 -> 17.3 | W10: Fondo con Cesiones (m2)
U15: 3
U16: Aislamiento posterior (m)
A24: N° | D24: NOTAS | O24: CANTIDAD | P24: UNIDAD
A25: 1 | D25: Antejardin vias Principales (Doble Calzada) | O25: 3 | P25: metros
A26: 2 | D26: Antejardin vias Internas Barrios ( Una Calzada) | O26: 1.5 | P26: metros
A27: 3 | D27: Los metros lineales son de acuerdo al frente del lote y la via principal
A28: 4 | D28: Antejardin posterior es de acuerdo a los metros lineales del frente usado
A29: 5 | D29: La altura minima por piso es de 3 metros
A30: 6 | D30: Cuando se tenga que calcular el aislamiento posterior mayor a 33 metros lineales de frente , se calculara de la siguiente manera = 3x12 =36 /3 = 12 metros de antejardin
A31: 7 | D31: De acuerdo al Decreto 235 de 2011 - Articulo 16 identificar en que tipo de suelo y subcategoria se encuentra para usar la Tabla 1: Residencial , Comercial grupo 1 y 2 y dotacional grupo 1 y 2 ó Tabla 2 : Comercial grupo 3 y 4 y dotacional grupo 3 y 4.

Sheet CALCUL PLUSV
B7: PRECIO DE REFERENCIA POR M2 | E7: =+'SERIES IPC'!AA13 -> 1483208.5
E8: IC1 | F8: IC2
B9: INDICE DE CONSTRUCCION | E9: =+'IC ANTES'!E9 -> 1.6146789 | F9: =+'AREAS PLUSVALIA'!D7 -> 2.348
B10: AREA DE TERRENO | E10: 734.05
B11: AREA CONSTRUIDA INDICE ANTERIOR | E11: =+E10*E9 -> 1185.255
B12: AREA CONSTRUIDA NUEVO INDICE | F12: 1723.85
B13: POTENCIAL ADICIONAL DE EDIFICACION | E13: =+F12-E11 -> 538.59495
B14: MONTO TOTAL DEL MAYOR VALOR | E14: =+E7*E13 -> 7.9884859e+08
B15: EFECTO PLUSVALIA POR M2 | E15: =+E14/E13 -> 1483208.5
B20: AREA OBJETO DE PARTICIPACION EN PLUSVALIA | D20: EFECTO PLUSVALIA POR METRO CUADRADO | F20: MONTO TOTAL DEL MAYOR VALOR
B21: =+E13 -> 538.59495 | D21: =+E15 -> 1483208.5 | F21: =+B21*D21 -> 7.9884859e+08

Sheet CESIONES
D14: M2 DE CESIONES A COMPENSAR | F14: VALOR COMERCIAL DEL TERRENO | H14: VALOR DE LAS AREAS A COMPENSAR
D15: 155.618 | F15: =+'EST MDO VENTA'!H18 -> 2444387.2 | H15: =+D15*F15 -> 3.8039065e+08

Sheet DOTACION ESPACIO P
K3: AREA TOTAL M2 | L3: 1444.75
K4: VALOR TOTAL | L4: 160638594
K5: VLR UNITARIO M2 | L5: =+L4/L3 -> 111187.81
K6: AREA A DOTAR M2 | L6: 155.618
K7: VALOR DOTACION | L7: =+L5*L6 -> 17302825

Sheet TOTAL AREAS CESION
C8: AREA TERRENO CESION | E8: VALOR COMERCIAL TERRENO | G8: VALOR TOTAL DE LAS AREAS DE CESION
C9: 155.618 | E9: =+CESIONES!F15 -> 2444387.2 | G9: =+C9*E9 -> 3.8039065e+08
C10: AREA A DOTAR | E10: VALOR M2 DOTACION | G10: VALOR TOTAL DOTACION
C11: =+C9 -> 155.618 | E11: =+'DOTACION ESPACIO P'!L5 -> 111187.81 | G11: =+C11*E11 -> 17302825
C12: VALOR TOTAL DEL TERRENO Y SU DOTACION | G12: =+G9+G11 -> 3.9769347e+08
