Workbook

Sheet OFERTAS RURALES
C2: OFERTAS RURALES MAS CERCANAS AL AREA DE EXPANSION Y SUB URBANA DEL MUNICIPIO DE VILLAVICENCIO
C4: No | D4: FOTO | E4: MUNICIPIO | F4: VEREDA | G4: CONTACTO | H4: AREA HA | I4: Vlr Oferta | J4: CONSTRUCCIONES | K4: FACTOR NEGOCIACION | L4: FACTOR UBICACIÓN | M4: FACTOR TAMAÑO | N4: HOMOGENIZACION | O4: VLR HA | P4: OBSERVACIONES
C5: 1 | E5: VILLAVICENCIO | F5: LA CONCEPCION | G5: 3108193295 | H5: 6 | I5: 2100000000 | J5: 0 | K5: -0.05 | L5: 0 | N5: =+(I5-J5)*0.95 -> 1995000000 | O5: =+N5/H5 -> 332500000 | P5: PREDIO QUE POSE TRES FRENTES, SE COMPONE DE DOS GLOBOS QUE DIVIDIERON LA DOBLE CALZADA, USO INDUSTRIAL DE ALTO MEDIO Y BAJO IMPACTO. 4°03'00.0"N 73°45'17.7"W
C6: 2 | E6: VILLAVICENCIO | F6: LA CONCEPCION | G6: 3108193295 | H6: 4 | I6: 350000000 | J6: =80*800000 -> 64000000 | K6: -0.05 | L6: 0 | N6: =+(I6-J6)*0.95 -> 271700000 | O6: =+N6/H6 -> 67925000 | P6: SE ACCEDE POR PISCINAS LA CRISTALINA RURAL, UBICADO SOBRE LA VIA ANTIGUA, USO RURAL, TERRENO INCLINADO, CASA 3 HAB COCINA BAÑO Y TERRAZA EDAD 5 AÑOS, CASA DE 80 M2
C7: 3 | E7: VILLAVICENCIO | F7: LAS MERCEDES | G7: 3105525093 | N7: =+(I7-J7)*0.95 -> 0 | P7: NO CONTESTAN 4°02'49.1"N 73°42'37.6"W
C8: 4 | E8: VILLAVICENCIO | G8: 3002099732 | N8: =+(I8-J8)*0.95 -> 0 | P8: CELULAR NO DISPONIBLE 4°03'49.5"N 73°42'41.1"W
C9: 5 | E9: VILLAVICENCIO | F9: LAS MERCEDES | G9: 3102860094 | H9: 2 | I9: 1100000000 | J9: 0 | K9: -0.05 | L9: 0 | N9: =+(I9-J9)*0.95 -> 1045000000 | O9: =+N9/H9 -> 522500000 | P9: SECTOR LA UNIÓN, VDA LAS MERCEDES, LOTE DE 2 HECTAREAS, TIENE AGUA, ENERGIA ELECTRICA AL FRENTE, LOTE SIN MEJORAS, RURAL 4.0637067,-73.7123133
C10: 6 | E10: VILLAVICENCIO | F10: LA UNION LAS MERCEDES | G10: 3138307774 | H10: 5.5 | I10: 5500000000 | J10: =357*500000 -> 178500000 | K10: -0.05 | L10: 0 | N10: =+(I10-J10)*0.95 -> 5055425000 | O10: =+N10/H10 -> 9.1916818e+08 | P10: CASA DE DOS PISOS DE 15 POR 15 QUISCO DE 10 DIAMETRO CASA DE EMPLEADOS DE 3 HAB 12 X 6 Y CABALLERIZA 3 ANIMALES. 10 CONSTRUIDO, EN SECTOR SE VENDE PARA PARCELAR. 4.064016, -73.710152
C11: 7 | E11: VILLAVICENCIO | F11: LAS MERCEDES | G11: 3508044925 | N11: =+(I11-J11)*0.95 -> 0 | P11: NUMERO TEMPORALMENTE SUSPENDIDO
C12: 8 | E12: VILLAVICENCIO | F12: LA UNION | G12: 3008802557 | H12: 3.3162 | I12: 1600000000 | J12: =200*500000 -> 100000000 | K12: -0.05 | L12: 0 | N12: =+(I12-J12)*0.95 -> 1425000000 | O12: =+N12/H12 -> 4.297087e+08 | P12: LOTE CON CASA 4 HABITACIONES 2 BAÑOS, SALA COMEDOR Y COCINA, EDAD 45, 200 MT2, SUBURBANO, FRENTE SOBRE LA VIA SECUNDARIA DE 95 M2, ENERGIA TRIFASICA, ACUEDUCTO VEREDAL, TANQUE SEPTICO. 4°03'39.4"N 73°42'51.8"W
C13: 9 | E13: VILLAVICENCIO | F13: LAS MERCEDES | G13: 3182011080 3204745449 | H13: 5.5 | I13: 1650000000 | J13: 0 | K13: -0.05 | L13: 0.05 | M13: -0.4 | N13: =+(I13-J13)*0.6 -> 990000000 | O13: =+N13/H13 -> 180000000 | P13: SECTOR RURAL, CASA DE CAMPO EN REMODELACION, POTREROS DE GANADERIA, A 4,7 KM DE LA VIA ACACIAS O 3 KM A LA MADRID. -5% POR COMERCIALIZACIÓN, 5% POR UBICACIÓN Y -40% FACTOR TAMAÑO. 4°02'29.0"N 73°41'55.8"W
C14: 10 | E14: VILLAVICENCIO | G14: 3125607778 3107617368 | N14: =+(I14-0)*0.95 -> 0 | P14: NO CONTESTAN 4°02'20.9"N 73°41'31.4"W
C15: 11 | E15: VILLAVICENCIO | F15: RIO NEGRITO | G15: 3208393424 | H15: 2.1 | I15: 650000000 | J15: 0 | K15: -0.05 | L15: 0.05 | M15: -0.4 | N15: =+(I15-J15)*0.6 -> 390000000 | O15: =+N15/H15 -> 1.8571429e+08 | P15: TERRENO RURAL, CERCANO AL CASCO URBANO (1 KM) POR LA MADRID Y A 6,6 KM DE LA VIA A ACACIAS, CASA DE CAMPO, AGUA DE JAGUEY, HABITABLE 30 AÑOS, ENERGIA ELECTRICA. -5% POR COMERCIALIZACIÓN, 5% POR UBICACIÓN Y -40% FACTOR TAMAÑO 4°02'02.5"N 73°40'30.9"W
C16: 12 | E16: VILLAVICENCIO | F16: SANTA ROSA | G16: 3005604734 Vibo modular inmobiliaria | H16: 32 | I16: 6400000000 | J16: 0 | K16: -0.05 | L16: 0.05 | M16: -0.1 | N16: =+(I16-0)*0.9 -> 5760000000 | O16: =+N16/H16 -> 180000000 | P16: LOTE DE 320,000 M2 CON FRENTE SOBRE LA VIA A PTO LÓPEZ, A 16 KM DE VILLAVICENCIO, SUBURBANO SOBRE LA VIA, GANADERIA, POSIBILIDADES TURISTICAS, ANTES DEL PEAJE. -5% POR COMERCIALIZACIÓN, 5% POR UBICACIÓN Y -10% FACTOR TAMAÑO. 4.056326, -73.480610

Sheet P1 RURAL
C2: OFERTAS RURALES MAS CERCANAS AL AREA DE EXPANSION Y SUB URBANA DEL MUNICIPIO DE VILLAVICENCIO - META
C4: No | D4: FOTO | E4: MUNICIPIO | F4: VEREDA | G4: CONTACTO | H4: AREA HA | I4: Vlr Oferta | J4: CONSTRUCCIONES | K4: FACTOR NEGOCIACION | L4: FACTOR UBICACIÓN | M4: FACTOR TAMAÑO | N4: HOMOGENIZACION | O4: VLR HA | P4: OBSERVACIONES
C5: 9 | E5: VILLAVICENCIO | F5: LAS MERCEDES | G5: 3182011080 3204745449 | H5: 5.5 | I5: 1650000000 | J5: 0 | K5: -0.05 | L5: 0.05 | M5: -0.4 | N5: =+(I5-J5)*0.6 -> 990000000 | O5: =+N5/H5 -> 180000000 | P5: SECTOR RURAL, CASA DE CAMPO EN REMODELACION, POTREROS DE GANADERIA, A 4,7 KM DE LA VIA ACACIAS O 3 KM A LA MADRID. -5% POR COMERCIALIZACIÓN, 5% POR UBICACIÓN Y -40% FACTOR TAMAÑO. 4°02'29.0"N 73°41'55.8"W
C6: 11 | E6: VILLAVICENCIO | F6: RIO NEGRITO | G6: 3208393424 | H6: 2.1 | I6: 650000000 | J6: 0 | K6: -0.05 | L6: 0.05 | M6: -0.4 | N6: =+(I6-J6)*0.6 -> 390000000 | O6: =+N6/H6 -> 1.8571429e+08 | P6: TERRENO RURAL, CERCANO AL CASCO URBANO (1 KM) POR LA MADRID Y A 6,6 KM DE LA VIA A ACACIAS, CASA DE CAMPO, AGUA DE JAGUEY, HABITABLE 30 AÑOS, ENERGIA ELECTRICA. -5% POR COMERCIALIZACIÓN, 5% POR UBICACIÓN Y -40% FACTOR TAMAÑO 4°02'02.5"N 73°40'30.9"W
C7: 12 | E7: VILLAVICENCIO | F7: SANTA ROSA | G7: 3005604734 Vibo modular inmobiliaria | H7: 32 | I7: 6400000000 | J7: 0 | K7: -0.05 | L7: 0.05 | M7: -0.1 | N7: =+(I7-0)*0.9 -> 5760000000 | O7: =+N7/H7 -> 180000000 | P7: LOTE DE 320,000 M2 CON FRENTE SOBRE LA VIA A PTO LÓPEZ, A 16 KM DE VILLAVICENCIO, SUBURBANO SOBRE LA VIA, GANADERIA, POSIBILIDADES TURISTICAS, ANTES DEL PEAJE. -5% POR COMERCIALIZACIÓN, 5% POR UBICACIÓN Y -10% FACTOR TAMAÑO. 4.056326, -73.480610
C9: MEDIA ARITMETICA | G9: =SUM(O5:O7)/3 -> 1.8190476e+08
C10: DESVIACION ESTÁNDAR | G10: =STDEV(O5:O7) -> 3299144.4
C11: COEFICIENTE DE ASIMETRIA | G11: =+SKEW(O5:O7) -> 1.7320508
C12: COEFICIENTE DE VARIACION | G12: =SUM(G10/G9) -> 0.018136658
C13: Maximo | G13: =+G9+G10 -> 1.8520391e+08
C14: Minimo | G14: =+G9-G10 -> 1.7860562e+08
C15: VALOR ADOPTADO Ha | G15: 182000000
G19: =+G15/10000 -> 18200

Sheet IPC DANE
A3: Total, Indice de Precios al Consumidor (IPC)
A5: Índices - Serie de empalme 2003 - 2024
F8: Base Diciembre de 2018 = 100,00
A9: Mes | B9: 2020 | C9: 2021 | D9: 2022 | E9: 2023 | F9: 2024
A10: Enero | B10: 104.24 | C10: 105.91 | D10: 113.26 | E10: 128.27 | F10: 138.98
A11: Febrero | B11: 104.94 | C11: 106.58 | D11: 115.11 | E11: 130.4 | F11: 140.49
A12: Marzo | B12: 105.53 | C12: 107.12 | D12: 116.26 | E12: 131.77 | F12: 141.48
A13: Abril | B13: 105.7 | C13: 107.76 | D13: 117.71 | E13: 132.8 | F13: 142.32
A14: Mayo | B14: 105.36 | C14: 108.84 | D14: 118.7 | E14: 133.38 | F14: 142.92
A15: Junio | B15: 104.97 | C15: 108.78 | D15: 119.31 | E15: 133.78 | F15: 143.38
A16: Julio | B16: 104.97 | C16: 109.14 | D16: 120.27 | E16: 134.45 | F16: 143.67
A17: Agosto | B17: 104.96 | C17: 109.62 | D17: 121.5 | E17: 135.39 | F17: 143.67
A18: Septiembre | B18: 105.29 | C18: 110.04 | D18: 122.63 | E18: 136.11 | F18: 144.02 | Z18: VLR A DEFLACTAR | AA18: = | AB18: =+'P1 RURAL'!G15 -> 182000000
A19: Octubre | B19: 105.23 | C19: 110.06 | D19: 123.51 | E19: 136.45 | F19: 143.83 | Z19: IPC ACTUAL | AA19: = | AB19: =+F19 -> 143.83
A20: Noviembre | B20: 105.08 | C20: 110.6 | D20: 124.46 | E20: 137.09 | Z20: IPC INICIAL | AA20: = | AB20: =+E18 -> 136.11
A21: Diciembre | B21: 105.48 | C21: 111.41 | D21: 126.03 | E21: 137.72 | Z21: INDICE | AA21: = | AB21: =+AB20/AB19 -> 0.94632552
Z22: VLR DEFLACTADO | AA22: = | AB22: =+AB18*AB21 -> 1.7223125e+08
A24: Fuente: DANE.
A25: Nota: La diferencia en la suma de las variables, obedece al sistema de aproximación y redondeo.
A26: Actualizado el 8 de noviembre de 2024

Sheet POTENCIAL DESARROLLO
N3: 0.3 | O3: 0.2 | P3: 0.5
N4: VIS | O4: VIP | P4: NO VIS
K5: No de Viviendas (basicas) | M5: 4273 | N5: =+M5*N3 -> 1281.9 | O5: =+M5*O3 -> 854.6 | P5: =+M5*P3 -> 2136.5
K6: M2 Vivienda promedio (vendible) | N6: 80.5 | O6: 80.5 | P6: 80.5
K7: M2 de construccion Vivienda | M7: =+N7+O7+P7 -> 343976.5 | N7: =+N5*N6 -> 103192.95 | O7: =+O5*O6 -> 68795.3 | P7: =+P5*P6 -> 171988.25
N10: 0.3 | O10: 0.2 | P10: 0.5
N11: VIS | O11: VIP | P11: NO VIS
K12: No de Viviendas (basicas) | M12: 4273 | N12: =+M12*N10 -> 1281.9 | O12: =+M12*O10 -> 854.6 | P12: =+M12*P10 -> 2136.5
K13: M2 Vivienda promedio (vendible) | N13: 55 | O13: 45 | P13: 80.5
E14: POTENCIAL DE DESARROLLO PLAN PARCIAL JUANANBU | K14: M2 de construccion Vivienda | M14: =+N14+O14+P14 -> 280949.75 | N14: =+N12*N13 -> 70504.5 | O14: =+O12*O13 -> 38457 | P14: =+P12*P13 -> 171988.25
E16: 1 | F16: Total área plan parcial | G16: 1037516.6 | H16: 1
E17: 2 | F17: Vía existente Av Maracos | G17: 13742.4
E18: 3 | F18: TOTAL ÁREA BRUTA | G18: =+G16-G17 -> 1023774.2
E19: 4 | F19: Afectaciones viales | G19: =11711.43+52037.24+2221.74 -> 65970.41
E20: 5 | F20: afectaciones ambientales | G20: 618475.96
E21: 6 | F21: TOTAL AFECTACIONES | G21: =+G19+G20 -> 684446.37 | M21: 0.3 | N21: 0.2 | O21: 0.5 | P21: TOTALES
E22: 5 | F22: ÁREA NETA URBANIZABLE | G22: =+G18-G21 -> 339327.87 | M22: VIS | N22: VIP | O22: NO VIS
E23: 6 | F23: Cesión pública propuesta | G23: 107710.54 | L23: VIVIENDAS | Q23: TOTAL VIVIENDAS
E24: 10 | F24: AREA UTIL FINAL | G24: =G22-G23 -> 231617.33 | J24: No de viviendas (básicas) AAM | L24: 576 | M24: =+L24*0.3 -> 172.8 | N24: =+L24*0.2 -> 115.2 | O24: =+L24*0.5 -> 288 | P24: =+M24+N24+O24 -> 576 | Q24: =+P24+P25 -> 4273
E25: 11 | F25: AAM VIVIENDA 175 Viv/ha | G25: =+L51*50% -> 5103.885 | J25: No de viviendas (básicas) AAR | L25: 3697 | M25: =+L25*0.3 -> 1109.1 | N25: =+L25*0.2 -> 739.4 | O25: =+L25*0.5 -> 1848.5 | P25: =+M25+N25+O25 -> 3697
E26: 13 | F26: Área total construida AAM ESTRATO 3 | G26: =+O27 -> 23184 | J26: M2 Vivienda promedio (vendible) | L26: M2 | M26: 55 | N26: 45 | O26: 80.5
E27: 14 | F27: Area vendible calculada en el 80% del area construida | G27: =+G26*0.8 -> 18547.2 | J27: M2 de Const vivienda AAM | M27: =+M24*M26 -> 9504 | N27: =+N24*N26 -> 5184 | O27: =+O24*O26 -> 23184 | P27: =+M27+N27+O27 -> 37872 | Q27: TOTAL M2 VIVIENDAS
E28: 15 | F28: VALOR DE VENTA/M2 | G28: =+'EST MDO APTOS NO VIS'!I17 -> 5000000 | J28: M2 de Const vivienda AAR | M28: =+M25*M26 -> 61000.5 | N28: =+N25*N26 -> 33273 | O28: =+O25*O26 -> 148804.25 | P28: =+M28+N28+O28 -> 243077.75 | Q28: =+P27+P28 -> 280949.75
E29: 16 | F29: VALOR VENTA TOTAL AAR | G29: =G27*G28 -> 92736000000 | Q29: TOTAL M2
E30: 17 | F30: costos construccion/m2 | G30: =+'EST MDO APTOS NO VIS'!D47 -> 3371389 | J30: Ocupación lote AAM | M30: =+G33 -> 3062.331 | N30: =+G44 -> 2041.554 | O30: =+G25 -> 5103.885 | P30: =+M30+N30+O30 -> 10207.77 | Q30: =+P30+P31 -> 196852.46
E31: 18 | F31: Costos de construcción totales | G31: =G26*G30 -> 78162282576 | J31: Ocupación lote AAR | M31: =+G71 -> 55993.407 | N31: =+G82 -> 37328.938 | O31: =+G63 -> 93322.345 | P31: =+M31+N31+O31 -> 186644.69
E32: =+E31+1 -> 19 | F32: Valor Total ventas menos costos de construcción | G32: =G29-G31 -> 14573717424
E33: =+E32+1 -> 20 | F33: AAM VIS | G33: =+L51*30% -> 3062.331
E34: =+E33+1 -> 21 | F34: Área total construida AAM VIS | G34: =+M27 -> 9504
E35: =+E34+1 -> 22 | F35: Area vendible calculada en el 90% del area construida | G35: =+G34*0.9 -> 8553.6
E36: =+E35+1 -> 23 | F36: Valor de máximo Vivienda VIS 3552 UVT | G36: 3552
E37: =+E36+1 -> 24 | F37: Unidad de valor tributario UVT 2024 | G37: 47065
E38: =+E37+1 -> 25 | F38: Valor Unidad Vivienda | G38: =+G37*G36 -> 167174880
E39: =+E38+1 -> 26 | F39: VALOR DE VENTA / M2 calculado $167,647,880 / 55 M2 Área | G39: =+G38/55 -> 3039543.3
E40: =+E39+1 -> 27 | F40: VALOR VENTA TOTAL AAM VIS | G40: =+G39*G35 -> 2.5999037e+10
E41: =+E40+1 -> 28 | F41: Costos de construcción / M2 | G41: =+VIS!F49 -> 2229867
E42: =+E41+1 -> 29 | F42: Costos de construccion totales | G42: =+G41*G34 -> 2.1192656e+10 | J42: OCUPACION Y EDIFICACION
E43: =+E42+1 -> 30 | F43: Valor Total ventas menos costos de construcción | G43: =+G40-G42 -> 4.8063814e+09 | K43: VIVIENDA | L43: COMERCIO | M43: TOTAL
E44: =+E43+1 -> 31 | F44: AAM VIP | G44: =+L51*20% -> 2041.554 | J44: OCUPACION | K44: =+G25+G33+G44+G63+G71+G82 -> 196852.46 | L44: =+G55+G93 -> 34764.6 | M44: =+K44+L44 -> 231617.06
E45: =+E44+1 -> 32 | F45: Área Total Construida AAM VIP | G45: =+N27 -> 5184 | J45: EDIFICACION | K45: =+G26+G34+G45+G64+G72+G83 -> 280949.75 | L45: =+G56+G94 -> 27994.32 | M45: =+K45+L45 -> 308944.07
...

Sheet EST MDO APTOS NO VIS
B2: ESTUDIO DE MERCADO APARTAMENTOS
B3: OFERTAS PROYECTOS APARTAMENTOS NUEVOS
B4: No. Oferta | C4: PROYECTO | D4: FUENTE | E4: CONTACTO | F4: SECTOR | G4: AREA PRIVADA M2 | H4: VALOR VENTA | I4: VALOR M2 ÁREA PRIVADA
B5: 1 | C5: AMARILLO TUPARRO | D5: CONSTRUCTORA AMARILLO | E5: (601) 6340000, 01-8000-122442 | F5: ROSA BLANCA, CARRETERA DEL AMOR | G5: 80 | H5: 405000000 | I5: =+H5/G5 -> 5062500
B6: 2 | C6: AMARILLO TUPARRO | D6: CONSTRUCTORA AMARILLO | E6: (601) 6340000, 01-8000-122442 | F6: ROSA BLANCA, CARRETERA DEL AMOR | G6: 100 | H6: 486500000 | I6: =+H6/G6 -> 4865000
B7: 3 | C7: TERRAVERDE PARK | D7: ECO INVERSIONES SAS | E7: 3134186858 3112805165 | F7: ANILLO VIAL ENTRE MARACOS Y VIA PTO LOPEZ | G7: 53 | H7: 258000000 | I7: =+H7/G7 -> 4867924.5
B8: 4 | C8: TERRAVERDE PARK | D8: ECO INVERSIONES SAS | E8: 3134186858 3112805165 | F8: ANILLO VIAL ENTRE MARACOS Y VIA PTO LOPEZ | G8: 59 | H8: 293000000 | I8: =+H8/G8 -> 4966101.7
G10: Media Aritmetica | I10: =SUM(I5:I8)/4 -> 4940381.6
G11: Desviación Estandar | I11: =STDEV(I5:I8) -> 93997.943
G12: Coeficiente de Variación | I12: =SUM(I11/I10) -> 0.019026454
G13: Coeficiente de asimetria | I13: =+_xlfn.SKEW.P(I5:I8) -> 0.4770688
G14: Maximo | I14: =+I10+I11 -> 5034379.5
G15: Minimo | I15: =+I10-I11 -> 4846383.6
H17: Valor Adoptado | I17: 5000000
G20: =+(G5+G6+G7+G8)/4 -> 73 | H20: Promedio area aptos
B45: Construdata 212 año 2024
D47: 3371389

Sheet EST MDO LOCALES
B4: ESTUDIO DE MERCADO LOCALES COMERCIALES
B5: No. Oferta | C5: TIPO | D5: FUENTE | E5: SECTOR | F5: AREA PRIVADA M2 | G5: VALOR VENTA | H5: VLR PEDIDO M2 | I5: HOMOGENIZACIÓN | J5: VALOR M2 ÁREA PRIVADA
B6: 1 | C6: LOCAL COMERCIAL | D6: https://www.fincaraiz.com.co/inmueble/local-en-venta/centro/villavicencio/10846934?_gl=1*x2pgvx*_up*MQ..&gclid=Cj0KCQjwjLGyBhCYARIsAPqTz19N6Dn8ZZdzKhp1aHvCbgaWmLm_QasjJyYJB_4TRSvq4ApPdUMxgTYaAl82EALw_wcB | E6: CENTRO VILLAVICENCIO | F6: 300 | G6: 963000000 | H6: =+G6/F6 -> 3210000 | I6: 1.2 | J6: =+H6*1.25 -> 4012500
B7: 2 | C7: LOCAL COMERCIAL | D7: https://www.fincaraiz.com.co/inmueble/local-en-venta/la-isla/villavicencio/10893822?_gl=1*149ia61*_up*MQ..&gclid=Cj0KCQjwjLGyBhCYARIsAPqTz19N6Dn8ZZdzKhp1aHvCbgaWmLm_QasjJyYJB_4TRSvq4ApPdUMxgTYaAl82EALw_wcB | E7: CENTRO VILLAVICENCIO | F7: 110 | G7: 330000000 | H7: =+G7/F7 -> 3000000 | I7: 1.2 | J7: =+H7*1.25 -> 3750000
B8: 7 | C8: LOCAL COMERCIAL | D8: https://www.fincaraiz.com.co/inmueble/local-en-venta/antonio-villavicencio/villavicencio/8000435?_gl=1*146iuh7*_up*MQ..&gclid=Cj0KCQjwjLGyBhCYARIsAPqTz19N6Dn8ZZdzKhp1aHvCbgaWmLm_QasjJyYJB_4TRSvq4ApPdUMxgTYaAl82EALw_wcB | E8: CIUDAD MILENIO | F8: 77 | G8: 220000000 | H8: =+G8/F8 -> 2857142.9 | I8: 1.2 | J8: =+H8*1.25 -> 3571428.6
H10: Media Aritmetica | J10: =SUM(J6:J8)/3 -> 3777976.2
C11: Se homogeneiza -5% por negociacion y 15% por ubicación | H11: Desviación Estandar | J11: =STDEV(J6:J8) -> 221862.57
H12: Coeficiente de Variación | J12: =SUM(J11/J10) -> 0.058725244
H13: Coeficiente de asimetria | J13: =+SKEW(J6:J8) -> 0.55841372
H14: Maximo | J14: =+J10+J11 -> 3999838.8
H15: Minimo | J15: =+J10-J11 -> 3556113.6
I17: Valos Adoptado | J17: 3900000
B38: Construdata 212 año 2024
D40: Bodega 100 m2 | G40: Bodega 1000 m2
D41: 3087636 | G41: 2521009

Sheet VIP
F38: 1728661
D60: ARTICULO 238 PLAN NACIONAL DE DESARROLLO
E61: UVT | F61: $UVT 2024 | G61: VLR VIVI VIP
D62: VLR MAX VIP | E62: 2368 | F62: 47065 | G62: =+E62*F62 -> 111449920
B88: Construdata 212 año 2024
D90: 1931214

Sheet VIS
B3: ESTUDIO DE MERCADO APARTAMENTOS
B4: OFERTAS PROYECTOS APARTAMENTOS VIS
B5: No. Oferta | C5: PROYECTO | D5: FUENTE | E5: CONTACTO | F5: SECTOR | G5: AREA PRIVADA M2 | H5: VALOR VENTA | I5: VALOR M2 ÁREA PRIVADA
B6: 1 | C6: IKA | D6: Sala de ventas | E6: 3183600919 3188165831 | F6: AVENIDA CATAMA CON CAMINO GANADERO | G6: 51 | H6: 162500000 | I6: =+H6/G6 -> 3186274.5
B7: 2 | C7: IKEBANA | D7: Sala de ventas | E7: 3152742458 3227283617 | F7: ROSA BLANCA, CARRETERA DEL AMOR | G7: 54 | H7: 175000000 | I7: =+H7/G7 -> 3240740.7
B8: 3 | C8: LLANO ALTO 3 | D8: Sala de ventas | E8: 3158837195 3182153721 | F8: AVENIDA COLOMBIA | G8: 56 | H8: 175500000 | I8: =+H8/G8 -> 3133928.6
G10: Media Aritmetica | I10: =SUM(I6:I8)/3 -> 3186981.3
G11: Desviación Estandar | I11: =STDEV(I6:I8) -> 53409.592
G12: Coeficiente de Variación | I12: =SUM(I11/I10) -> 0.016758678
G13: Coeficiente de asimetria | I13: =+_xlfn.SKEW.P(I6:I8) -> 0.024306146
G14: Maximo | I14: =+I10+I11 -> 3240390.9
G15: Minimo | I15: =+I10-I11 -> 3133571.7
H17: Valor Adoptado | I17: 3190000
G20: =+SUM(G6:G8)/4 -> 40.25
M25: https://www.estrenarvivienda.com/vivienda-interes-social/villavicencio
J31: ARTICULO 238 PLAN NACIONAL DE DESARROLLO
K32: UVT | L32: $UVT 2024 | M32: VLR VIVI VIP
J33: VLR MAX VIS | K33: 3552 | L33: 47065 | M33: =+K33*L33 -> 167174880
B44: Construdata 212 año 2024
F49: 2229867

Sheet RESULTADO
C5: DESCRIPCION | D5: AREA HA | E5: VALOR HA | F5: VALOR TOTAL
C6: PLAN PARCIAL JUANAMBU | D6: =+(('POTENCIAL DESARROLLO'!G18)/10000) -> 102.37742 | E6: =+'POTENCIAL DESARROLLO'!G111 -> 9.2524371e+08 | F6: =+E6*D6 -> 9.4724068e+10
C7: VALOR TOTAL | F7: =SUM(F6:F6) -> 9.4724068e+10
C9: DESCRIPCION | D9: AREA HA | E9: VALOR HA | F9: VALOR TOTAL
C10: P1 RURAL | D10: =+D6 -> 102.37742 | E10: =+'IPC DANE'!AB22 -> 1.7223125e+08 | F10: =+E10*D10 -> 1.7632591e+10
C11: VALOR TOTAL | F11: =SUM(F10:F10) -> 1.7632591e+10
I15: P1 RURAL | J15: P2 PLAN PARCIAL | K15: DIF P2 - P1
I16: =+E10/10000 -> 17223.125 | J16: =+E6/10000 -> 92524.371 | K16: =+J16-I16 -> 75301.247
I17: DIFERENCIA P2 - P1 POR AREA UTIL FINAL | K17: =+K16*'POTENCIAL DESARROLLO'!G24 -> 1.7441074e+10
I18: 0.4 | K18: =+K17*0.4 -> 6.9764295e+09
