Workbook
Name \a: #REF!
Name \a: #REF!
Name \a: #REF!
Name \a: #REF!
Name \a: #REF!
Name \a: #REF!
Name \a: #REF!
Name \a: #REF!
Name \a: #REF!
Name \b: #REF!
Name \b: #REF!
Name \b: #REF!
Name \b: #REF!
Name \b: #REF!
Name \b: #REF!
Name \b: #REF!
Name \b: #REF!
Name \b: #REF!
Name \eliminar: [1]RESUM96!#REF!
Name \eliminar: [1]RESUM96!#REF!
Name \eliminar: [1]RESUM96!#REF!
Name \eliminar: [1]RESUM96!#REF!
Name \eliminar: [1]RESUM96!#REF!
Name \eliminar: [1]RESUM96!#REF!
Name \eliminar: [1]RESUM96!#REF!
Name \eliminar1: [1]RESUM96!#REF!
Name \eliminar1: [1]RESUM96!#REF!
Name \eliminar1: [1]RESUM96!#REF!
Name \eliminar1: [1]RESUM96!#REF!
Name \eliminar1: [1]RESUM96!#REF!
Name \eliminar1: [1]RESUM96!#REF!
Name \eliminar1: [1]RESUM96!#REF!
Name \q: #REF!
Name \q: #REF!
Name \q: #REF!
Name \q: #REF!
Name \q: #REF!
Name \q: #REF!
Name \q: #REF!
Name \q: #REF!
Name \q: #REF!
Name _______________EST1: #REF!
Name _______________EST1: #REF!
Name _______________EST1: #REF!
Name _______________EST1: #REF!
Name _______________EST1: #REF!
Name _______________EST1: #REF!
Name _______________EST1: #REF!
Name _______________EST1: #REF!
Name _______________EST10: #REF!
Name _______________EST10: #REF!
Name _______________EST10: #REF!
Name _______________EST10: #REF!
Name _______________EST10: #REF!
Name _______________EST10: #REF!
Name _______________EST10: #REF!
Name _______________EST10: #REF!
Name _______________EST11: #REF!
Name _______________EST11: #REF!
Name _______________EST11: #REF!

Sheet PPTO GRAL G4
B2: FORMATO
B3: Presupuesto General de Obras - Costos Directos
B4: CÓDIGO | D4: PROCESO | F4: VERSIÓN
B5: FO-DP-01 | D5: Proyectos | F5: 2
B6: INSTITUTO DE DESARROLLO URBANO
B7: SUBDIRECCIÓN GENERAL DE DESARROLLO URBANO
B8: DIRECCIÓN TÉCNICA DE PROYECTOS
B10: OBJETO DE LA CONTRATACIÓN: | D10: CONSTRUCCIÓN ACERAS Y CICLORRUTA CALLE 92 Y CALLE 94 DESDE CARRERA 7 HASTA LA AUTOPISTA NORTE Y OBRAS COMPLEMENTARIAS, EN BOGOTÁ, D.C.
B11: PRESUPUESTO GENERAL DE OBRAS
I12: 44029
B13: COD. IDU | C13: ÍTEM | D13: DESCRIPCIÓN | E13: UNIDAD | F13: CANTIDAD | G13: VR. UNITARIO | H13: VR. UNITARIO CON A.I.U. | I13: VALOR TOTAL
C15: 1 | D15: PRELIMINARES | I15: 4166856625
D16: DEMOLICIONES
B17: 3012 | C17: 1.001 | D17: DEMOLICIÓN PISOS DE CONCRETO (Espesor variable hasta 0.10 m. Incluye Cargue). No incluye transporte y disposición final de sobrantes. | E17: M2 | F17: 34378 | G17: 6095 | H17: 8116 | I17: 279011848
B18: 4613 | C18: 1.002 | D18: TRANSPORTE Y DISPOSICION FINAL DE ESCOMBROS EN SITIO AUTORIZADO (distancia de transporte 28 Km) | E18: M3 | F18: 4813 | G18: 44347 | H18: 59050 | I18: 284207650
D19: EXCAVACIONES
B20: 3464 | C20: 1.003 | D20: EXCAVACION MANUAL EN MATERIAL COMUN. Incluye cargue. | E20: M3 | F20: 30342 | G20: 28088 | H20: 37400 | I20: 1134790800
B21: 3710 | C21: 1.004 | D21: EXCAVACIÓN MECÁNICA EN MATERIAL COMÚN (Incluye Cargue) | E21: M3 | F21: 94 | G21: 4508 | H21: 6003 | I21: 564282
B22: 4613 | C22: 1.005 | D22: TRANSPORTE Y DISPOSICION FINAL DE ESCOMBROS EN SITIO AUTORIZADO (distancia de transporte 28 Km) | E22: M3 | F22: 39567 | G22: 44347 | H22: 59050 | I22: 2336431350
D23: TRATAMIENTOS SIVICULTURALES
B24: 3699 | C24: 1.006 | D24: TALA DE ARBOLES CLASE I (H<5m. Incluye Desenraíce, Retiro y Disposición Final) | E24: UN | F24: 31 | G24: 138427 | H24: 184321 | I24: 5713951
B25: 4101 | C25: 1.007 | D25: TALA DE ARBOLES CLASE II (5m < H < 10m. Incluye Desenraíce, Retiro y Disposición Final) | E25: UN | F25: 34 | G25: 237661 | H25: 316455 | I25: 10759470
B26: 3698 | C26: 1.008 | D26: TALA DE ARBOLES CLASE III (10m < H < 20 m. Incluye Desenraíce, Retiro y Disposición Final) | E26: UN | F26: 12 | G26: 246489 | H26: 328210 | I26: 3938520
B27: 3695 | C27: 1.009 | D27: TALA DE ARBOLES CLASE IV (20m<H<30m. Incluye Desenraíce, Retiro y Disposición Final) | E27: UN | F27: 1 | G27: 536011 | H27: 713720 | I27: 713720
B28: 4802 | C28: 1.01 | D28: BLOQUEO Y TRANSPLANTE DE ARBOLES 1 - 5mt (Incluye transporte, recolección). | E28: UN | F28: 15 | G28: 850000 | H28: 1131809 | I28: 16977135
B29: 4803 | C29: 1.011 | D29: BLOQUEO Y TRANSPLANTE DE ARBOLES 5 - 10 mt (Incluye transporte, recolección). | E29: UN | F29: 17 | G29: 1300000 | H29: 1731002 | I29: 29427034
B30: 4804 | C30: 1.012 | D30: BLOQUEO Y TRANSPLANTE DE ARBOLES 10 - 15 mt (Incluye transporte, recolección). | E30: UN | F30: 5 | G30: 2000000 | H30: 2663080 | I30: 13315400
B31: 8534 | C31: 1.013 | D31: TRATAMIENTO INTEGRAL DE ÁRBOLES DE 1m A 5m. (Incluye riego, fertilización edáfica, mano de obra, poda general y radicular). | E31: UN | F31: 1 | G31: 171702 | H31: 228628 | I31: 228628
B32: 8535 | C32: 1.014 | D32: TRATAMIENTO INTEGRAL DE ÁRBOLES MAYORES A 5m. (Incluye riego, fertilización edáfica, mano de obra, poda general y radicular). | E32: UN | F32: 169 | G32: 201701 | H32: 268573 | I32: 45388837
D33: PROTECCIÓN TEMPORAL DE BIENES
B34: 8510 | C34: 1.015 | D34: PROTECCIÓN TEMPORAL PARA MONUMENTOS Y/O BIENES MUEBLES CON TELA KAMBEL GRAMAJE 90, COLOR BLANCO. INCLUYE CUERDA NYLON PARA AMARRE. Incluye suministro y colocación. | E34: M2 | F34: 2400 | G34: 1686 | H34: 2245 | I34: 5388000
C35: 2 | D35: ESPACIO PÚBLICO | I35: 14342671744
D36: ANDENES
B37: 4023 | C37: 2.001 | D37: GEOTEXTIL NT 6000 PARA ESTABILIZACION SUBRASANTE/CAPAS GRANULARES (Inc. Suministro e Instalación) | E37: M2 | F37: 69173 | G37: 11619 | H37: 15471 | I37: 1070175483
B38: 3454 | C38: 2.002 | D38: ESTABILIZACIÓN DE SUBRASANTE CON RAJÓN (Suministro, Extendido, Nivelación y Compactación Manual) | E38: M3 | F38: 10279 | G38: 73927 | H38: 98437 | I38: 1011833923
B39: 4745 | C39: 2.003 | D39: BASE GRANULAR CLASE C (BG_C) CON RECICLADO DE CONCRETO (Suministro, Extendido, Nivelación, Humedecimiento y Compactación con vibrocompactador) | E39: M3 | F39: 6853 | G39: 136283 | H39: 181466 | I39: 1243586498
B40: 6878 | C40: 2.004 | D40: CONCRETO 3000 PSI (21 MPA) GRAVA COMÚN PARA ANDENES (Premezclado. Incluye suministro, formaleteo, colocación y curado. No incluye refuerzo). | E40: M3 | F40: 443 | G40: 437241 | H40: 582204 | I40: 257916372
B41: 6871 | C41: 2.005 | D41: CONCRETO 3000 PSI GRAVA COMÚN PARA RAMPAS Y ESCALERAS (PREMEZCLADO. INCL. SUMINISTRO, FORMALETEO Y COLOCACIÓN. NO INCL. REFUERZO, CURADO). | E41: M3 | F41: 255 | G41: 506506 | H41: 674433 | I41: 171980415
B42: 3425 | C42: 2.006 | D42: ANDEN CONCRETO GRAVA COMÚN DE 3000 PSI (210 Kg/cm2) PREMEZCLADO e=0.10m (Incluye Suministro, Formaleteo, Fundida y Curado) | E42: M2 | F42: 306 | G42: 52113 | H42: 69391 | I42: 21233646
B43: 8777 | C43: 2.007 | D43: LOSETA LISA BICAPA TPO A40 (60 X 20 X 6) cm TEXTURA DE ANDÉN COLOR GRIS CLARO (Suministro, colocación y compactación con equipo manual. Incluye base en arena de nivelación e=4 cm y arena de sello) | E43: M2 | F43: 3178 | G43: 146373 | H43: 194902 | I43: 619398556
...

Sheet FORMULARIO 1-PPTO OFICIAL
C2: FORMULARIO 1
C3: PRESUPUESTO OFICIAL
C4: [El presente formulario aplica para los procesos de contratación que tengan como forma de pago precios unitarios, la Entidad debe ajustarlo cuando la modalidad de pago corresponde a: precio global, llave en mano, administración delegada y reembolso de gastos]
C7: ETAPA DE OBRA
C8: Nº | D8: ITEM DE PAGO | E8: ESPECIFICACIONES | G8: DESCRIPCION | H8: UND. | J8: CANTIDAD | K8: VALOR UNITARIO | L8: VALOR TOTAL
E9: GENERAL | F9: PARTICULAR
D10: 1 | G10: PRELIMINARES
G11: DEMOLICIONES
C12: 3012 | D12: 1.001 | G12: DEMOLICIÓN PISOS DE CONCRETO (Espesor variable hasta 0.10 m. Incluye Cargue). No incluye transporte y disposición final de sobrantes. | H12: M2 | J12: 34378 | K12: 8116 | L12: 279011848
C13: 4613 | D13: 1.002 | G13: TRANSPORTE Y DISPOSICION FINAL DE ESCOMBROS EN SITIO AUTORIZADO (distancia de transporte 28 Km) | H13: M3 | J13: 4813 | K13: 59050 | L13: 284207650
G14: EXCAVACIONES
C15: 3464 | D15: 1.003 | G15: EXCAVACION MANUAL EN MATERIAL COMUN. Incluye cargue. | H15: M3 | J15: 30342 | K15: 37400 | L15: 1134790800
C16: 3710 | D16: 1.004 | G16: EXCAVACIÓN MECÁNICA EN MATERIAL COMÚN (Incluye Cargue) | H16: M3 | J16: 94 | K16: 6003 | L16: 564282
C17: 4613 | D17: 1.005 | G17: TRANSPORTE Y DISPOSICION FINAL DE ESCOMBROS EN SITIO AUTORIZADO (distancia de transporte 28 Km) | H17: M3 | J17: 39567 | K17: 59050 | L17: 2336431350
G18: TRATAMIENTOS SIVICULTURALES
C19: 3699 | D19: 1.006 | G19: TALA DE ARBOLES CLASE I (H<5m. Incluye Desenraíce, Retiro y Disposición Final) | H19: UN | J19: 31 | K19: 184321 | L19: 5713951
C20: 4101 | D20: 1.007 | G20: TALA DE ARBOLES CLASE II (5m < H < 10m. Incluye Desenraíce, Retiro y Disposición Final) | H20: UN | J20: 34 | K20: 316455 | L20: 10759470
C21: 3698 | D21: 1.008 | G21: TALA DE ARBOLES CLASE III (10m < H < 20 m. Incluye Desenraíce, Retiro y Disposición Final) | H21: UN | J21: 12 | K21: 328210 | L21: 3938520
C22: 3695 | D22: 1.009 | G22: TALA DE ARBOLES CLASE IV (20m<H<30m. Incluye Desenraíce, Retiro y Disposición Final) | H22: UN | J22: 1 | K22: 713720 | L22: 713720
C23: 4802 | D23: 1.01 | G23: BLOQUEO Y TRANSPLANTE DE ARBOLES 1 - 5mt (Incluye transporte, recolección). | H23: UN | J23: 15 | K23: 1131809 | L23: 16977135
C24: 4803 | D24: 1.011 | G24: BLOQUEO Y TRANSPLANTE DE ARBOLES 5 - 10 mt (Incluye transporte, recolección). | H24: UN | J24: 17 | K24: 1731002 | L24: 29427034
C25: 4804 | D25: 1.012 | G25: BLOQUEO Y TRANSPLANTE DE ARBOLES 10 - 15 mt (Incluye transporte, recolección). | H25: UN | J25: 5 | K25: 2663080 | L25: 13315400
C26: 8534 | D26: 1.013 | G26: TRATAMIENTO INTEGRAL DE ÁRBOLES DE 1m A 5m. (Incluye riego, fertilización edáfica, mano de obra, poda general y radicular). | H26: UN | J26: 1 | K26: 228628 | L26: 228628
C27: 8535 | D27: 1.014 | G27: TRATAMIENTO INTEGRAL DE ÁRBOLES MAYORES A 5m. (Incluye riego, fertilización edáfica, mano de obra, poda general y radicular). | H27: UN | J27: 169 | K27: 268573 | L27: 45388837
G28: PROTECCIÓN TEMPORAL DE BIENES
C29: 8510 | D29: 1.015 | G29: PROTECCIÓN TEMPORAL PARA MONUMENTOS Y/O BIENES MUEBLES CON TELA KAMBEL GRAMAJE 90, COLOR BLANCO. INCLUYE CUERDA NYLON PARA AMARRE. Incluye suministro y colocación. | H29: M2 | J29: 2400 | K29: 2245 | L29: 5388000
C30: Subtotal | L30: 4166856625
D31: 2 | G31: ESPACIO PÚBLICO
G32: ANDENES
C33: 4023 | D33: 2.001 | G33: GEOTEXTIL NT 6000 PARA ESTABILIZACION SUBRASANTE/CAPAS GRANULARES (Inc. Suministro e Instalación) | H33: M2 | J33: 69173 | K33: 15471 | L33: 1070175483
C34: 3454 | D34: 2.002 | G34: ESTABILIZACIÓN DE SUBRASANTE CON RAJÓN (Suministro, Extendido, Nivelación y Compactación Manual) | H34: M3 | J34: 10279 | K34: 98437 | L34: 1011833923
C35: 4745 | D35: 2.003 | G35: BASE GRANULAR CLASE C (BG_C) CON RECICLADO DE CONCRETO (Suministro, Extendido, Nivelación, Humedecimiento y Compactación con vibrocompactador) | H35: M3 | J35: 6853 | K35: 181466 | L35: 1243586498
C36: 6878 | D36: 2.004 | G36: CONCRETO 3000 PSI (21 MPA) GRAVA COMÚN PARA ANDENES (Premezclado. Incluye suministro, formaleteo, colocación y curado. No incluye refuerzo). | H36: M3 | J36: 443 | K36: 582204 | L36: 257916372
C37: 6871 | D37: 2.005 | G37: CONCRETO 3000 PSI GRAVA COMÚN PARA RAMPAS Y ESCALERAS (PREMEZCLADO. INCL. SUMINISTRO, FORMALETEO Y COLOCACIÓN. NO INCL. REFUERZO, CURADO). | H37: M3 | J37: 255 | K37: 674433 | L37: 171980415
C38: 3425 | D38: 2.006 | G38: ANDEN CONCRETO GRAVA COMÚN DE 3000 PSI (210 Kg/cm2) PREMEZCLADO e=0.10m (Incluye Suministro, Formaleteo, Fundida y Curado) | H38: M2 | J38: 306 | K38: 69391 | L38: 21233646
C39: 8777 | D39: 2.007 | G39: LOSETA LISA BICAPA TPO A40 (60 X 20 X 6) cm TEXTURA DE ANDÉN COLOR GRIS CLARO (Suministro, colocación y compactación con equipo manual. Incluye base en arena de nivelación e=4 cm y arena de sello) | H39: M2 | J39: 3178 | K39: 194902 | L39: 619398556
C40: 8778 | D40: 2.008 | G40: LOSETA LISA BICAPA TPO A40 (60 X 20 X 6) cm TEXTURA DE ANDÉN COLOR GRIS MEDIO (Suministro, colocación y compactación con equipo manual. Incluye base en arena de nivelación e=4 cm y arena de sello) | H40: M2 | J40: 5133 | K40: 222045 | L40: 1139756985
C41: 8783 | D41: 2.009 | G41: LOSETA LISA BICAPA TPO A40 (60 X 20 X 6) cm TEXTURA DE ANDÉN COLOR GRIS OSCURO (Suministro, colocación y compactación con equipo manual. Incluye base en arena de nivelación e=4 cm y arena de sello) | H41: M2 | J41: 3178 | K41: 229187 | L41: 728356286
C42: 8499 | D42: 2.01 | G42: LOSETA PREFABRICADA EN CONCRETO A20 TIPO PANOT DE 20x20x6cm color gris (Suministro e Instalación. Incluye mortero de 1500 PSI de Nivelación) | H42: M2 | J42: 373 | K42: 88413 | L42: 32978049
C43: 3745 | D43: 2.011 | G43: PISO EN ADOQUIN DE CONCRETO A25 20x10x6cm (Suministro e Instalación. Incluye Base 3cm Arena Nivelación y Arena de Sello) | H43: M2 | J43: 4179 | K43: 74806 | L43: 312614274
...

Sheet PRELIMINARES
B2: FORMATO | D2: CÓDIGO | E2: PROCESO | H2: VERSIÓN
B3: MATRIZ PARA CÁLCULO PRELIMINARES
B4: INSTITUTO DE DESARROLLO URBANO
B5: SUBDIRECCIÓN GENERAL DE DESARROLLO URBANO
B6: DIRECCIÓN TÉCNICA DE PROYECTOS
B8: OBJETO DE LA CONTRATACIÓN: | D8: CONSTRUCCIÓN ACERAS Y CICLORRUTA CALLE 92 Y CALLE 94 DESDE CARRERA 7 HASTA LA AUTOPISTA NORTE Y OBRAS COMPLEMENTARIAS, EN BOGOTÁ, D.C.
B10: TERMINO ESTIMADO FASE PRELIMINARES | E10: 2 | F10: MESES | H10: FECHA: | I10: 44029
C12: 1. COSTOS DE PERSONAL
C13: CARGO | E13: CANTIDAD | F13: CATEGORÍA | G13: DEDICACIÓN FASE DE PRELIMINARES (MES) | H13: TARIFA (MES) | I13: FACTOR PRESTACIONAL | J13: N. MESES PRELIMINARES | K13: SALARIO + PRESTACIONES
E14: A | G14: B | H14: C | I14: D | J14: E | K14: F= A*B*C*D*E
A15: CÓD. IDU | B15: 1.1 | C15: PERSONAL PROFESIONAL (Ingenieros y Otros)
A16: 9109 | B16: 1.101 | C16: DIRECTOR DE OBRA | E16: 1 | F16: 3 | G16: 0.25 | H16: 7650000 | I16: 1.4508 | J16: 2 | K16: 5549310
A17: 9111 | B17: 1.102 | C17: COORDINADOR GENERAL | E17: 1 | F17: 5 | G17: 0.25 | H17: 5875000 | I17: 1.4517 | J17: 2 | K17: 4264369
A18: 9110 | B18: 1.103 | C18: ESPECIALISTA EN DISEÑO GEOMÉTRICO | E18: 1 | F18: 4 | G18: 0.25 | H18: 6514000 | I18: 1.4513 | J18: 2 | K18: 4726884
A19: 9109 | B19: 1.104 | C19: ESPECIALISTA EN URBANISMO Y ESPACIO PÚBLICO | E19: 1 | F19: 3 | G19: 0.5 | H19: 7650000 | I19: 1.4508 | J19: 2 | K19: 11098620
A20: 9110 | B20: 1.105 | C20: ESPECIALISTA EN GEOTECNIA | E20: 1 | F20: 4 | G20: 0.25 | H20: 6514000 | I20: 1.4513 | J20: 2 | K20: 4726884
A21: 9110 | B21: 1.106 | C21: ESPECIALISTA EN PAVIMENTOS | E21: 1 | F21: 4 | G21: 0.25 | H21: 6514000 | I21: 1.4513 | J21: 2 | K21: 4726884
A22: 9110 | B22: 1.107 | C22: ESPECIALISTA EN REDES HIDROSANITARIAS | E22: 1 | F22: 4 | G22: 0.25 | H22: 6514000 | I22: 1.4513 | J22: 2 | K22: 4726884
A23: 9110 | B23: 1.108 | C23: ESPECIALISTA EN REDES ELÉCTRICAS, GAS, TELÉFONO Y FIBRA ÓPTICA | E23: 1 | F23: 4 | G23: 0.25 | H23: 6514000 | I23: 1.4513 | J23: 2 | K23: 4726884
A24: 9111 | B24: 1.109 | C24: PROFESIONAL EN PRESUPUESTO Y PROGRAMACIÓN | E24: 1 | F24: 5 | G24: 0.25 | H24: 5875000 | I24: 1.4517 | J24: 2 | K24: 4264369
A25: 9112 | B25: 1.11 | C25: PROFESIONAL BIC | E25: 1 | F25: 6 | G25: 0.25 | H25: 5240000 | I25: 1.4521 | J25: 2 | K25: 3804502
A26: 9112 | B26: 1.111 | C26: ARQUEÓLOGO | E26: 1 | F26: 6 | G26: 0.25 | H26: 5240000 | I26: 1.4521 | J26: 2 | K26: 3804502
A27: 9113 | B27: 1.112 | C27: PROFESIONAL EN SIG CAD | E27: 1 | F27: 7 | G27: 0.25 | H27: 3961000 | I27: 1.4535 | J27: 2 | K27: 2878657
B28: 1.2 | C28: PERSONAL TÉCNICO Y PERSONAL AUXILIAR
A29: 9085 | B29: 1.201 | C29: TARIFA MES - PERSONAL TÉCNICO - AUXILIAR DE INGENIERÍA (No incluye Factor de Prestaciones) | E29: 1 | F29: N/A | G29: 0.25 | H29: 2155000 | I29: 1.4581 | J29: 2 | K29: 1571103
A30: 9088 | B30: 1.202 | C30: TARIFA MES - PERSONAL TÉCNICO - TOPÓGRAFO INSPECTOR (No incluye Factor de Prestaciones) | E30: 4 | F30: N/A | G30: 0.4 | H30: 2555000 | I30: 1.4565 | J30: 2 | K30: 11908344
A31: 9098 | B31: 1.203 | C31: TARIFA MES - PERSONAL AUXILIAR TÉCNICO - CADENERO 1 (No incluye Factor de Prestaciones) | E31: 4 | F31: N/A | G31: 0.4 | H31: 1584000 | I31: 1.5601 | J31: 2 | K31: 7907835
A32: 9099 | B32: 1.204 | C32: TARIFA MES - PERSONAL AUXILIAR TÉCNICO - CADENERO 2 (No incluye Factor de Prestaciones) | E32: 4 | F32: N/A | G32: 0.4 | H32: 1380000 | I32: 1.5767 | J32: 2 | K32: 6962707
A33: 9089 | B33: 1.205 | C33: TARIFA MES - PERSONAL TÉCNICO - LABORATORISTA INSPECTOR (No incluye Factor de Prestaciones) | E33: 1 | F33: N/A | G33: 0.25 | H33: 2264000 | I33: 1.4576 | J33: 2 | K33: 1650003
A34: 9087 | B34: 1.206 | C34: TARIFA MES - PERSONAL TÉCNICO - DIBUJANTE 2 (No incluye Factor de Prestaciones) | E34: 1 | F34: N/A | G34: 0.25 | H34: 1826000 | I34: 1.46 | J34: 2 | K34: 1332980
B35: 1.3 | C35: PERSONAL ADMINISTRATIVO
A36: 9100 | B36: 1.301 | C36: TARIFA MES - PERSONAL AUXILIAR TÉCNICO - CONDUCTOR O MOTORISTA (No incluye Factor de Prestaciones) | E36: 1 | F36: N/A | G36: 0.5 | H36: 1149000 | I36: 1.6026 | J36: 2 | K36: 1841387
A37: 9105 | B37: 1.302 | C37: TARIFA MES - PERSONAL ADMINISTRATIVO - SECRETARIA 2 (No incluye Factor de Prestaciones) | E37: 1 | F37: N/A | G37: 0.5 | H37: 1149000 | I37: 1.6026 | J37: 2 | K37: 1841387
C38: SUBTOTAL COSTOS DE PERSONAL | K38: 94314495
A40: CÓD. IDU | B40: 2 | C40: GASTOS OPERACIONALES | E40: CANT. | F40: ÁREA (M2) | G40: DEDICACIÓN FASE DE PRELIMINARES | H40: DEDICACIÓN X ÁREA (M2) | I40: COSTO ($/M2.MES) | J40: N. MESES PRELIMINARES | K40: VALOR ($)
A41: 9576 | B41: 2.001 | C41: ALQUILER MES - ARRIENDO OFICINA INCL. ADMINISTRACIÓN, SERVICIOS PÚBLICOS, COMUNICACIONES | E41: 1 | F41: 50 | G41: 1 | H41: 50 | I41: 29634 | J41: 2 | K41: 2963400
A42: 9577 | B42: 2.002 | C42: ALQUILER MES - CAMPAMENTOS INCL. SERVICIOS PÚBLICOS PROVISIONALES | E42: 1 | F42: 100 | G42: 0.25 | H42: 25 | I42: 11956 | J42: 2 | K42: 597800
A43: 9578 | B43: 2.003 | C43: TARIFA GLOBAL - GASTOS OFICINA (PAPELERIA, FOTOCOPIAS Y OTROS) | E43: 1 | F43: N/A | G43: 1 | H43: N/A | I43: 783688 | J43: 2 | K43: 1567376
A44: 9456 | B44: 2.004 | C44: ALQUILER MES - CAMPERO PICK-UP, CAMIONETA DE 1300-2000cc - MODELO 2012 - 2009 - INCIDENCIA 75% | E44: 1 | F44: N/A | G44: 0.5 | H44: N/A | I44: 4503000 | J44: 2 | K44: 4503000
A45: 9117 | B45: 2.005 | C45: ALQUILER MES - LABORATORIO - Estudios (Equipo completo) | E45: 1 | F45: N/A | G45: 0.25 | H45: N/A | I45: 5289000 | J45: 2 | K45: 2644500
...

Sheet AIU
B2: FORMATO | D2: CÓDIGO | E2: PROCESO | I2: VERSIÓN
B3: MATRIZ PARA CÁLCULO DE A.I.U. | D3: FO-DP-01 | E3: Proyectos | I3: 2.0
B4: INSTITUTO DE DESARROLLO URBANO
B5: SUBDIRECCIÓN GENERAL DE DESARROLLO URBANO
B6: DIRECCIÓN TÉCNICA DE PROYECTOS
B8: OBJETO DE LA CONTRATACIÓN: | D8: CONSTRUCCIÓN ACERAS Y CICLORRUTA CALLE 92 Y CALLE 94 DESDE CARRERA 7 HASTA LA AUTOPISTA NORTE Y OBRAS COMPLEMENTARIAS, EN BOGOTÁ, D.C.
B10: COSTO DIRECTO ESTIMADO DE OBRA (CD) | E10: 18895744272 | I10: FECHA: | J10: 44029
B11: TERMINO ESTIMADO PRELIMINARES | E11: 2 | F11: MESES | I11: CONTRATO No.
B12: TERMINO ESTIMADO DE EJECUCIÓN DE OBRA | E12: 17 | F12: MESES
B13: TERMINO ESTIMADO DE RECIBO DE OBRA | E13: 1 | F13: MESES
B15: COSTOS ESTIMADOS PARA PRELIMINARES | E15: 290588296
B16: COSTOS ESTIMADOS PARA COMPENSACIONES A SDA | E16: 100398937
B17: COSTOS ESTIMADOS PARA ENSAYOS DE LABORATORIO | E17: 247519103
B18: AJUSTES POR CAMBIO DE VIGENCIA | E18: 1127732403
B19: FONDO PARA MAYORES CANTIDADES DE OBRA E ITEMS NO PREVISTOS | E19: 632052872
A21: CÓD. IDU | B21: ÍTEM | C21: A. ADMINISTRACIÓN
C22: 1. COSTOS DE PERSONAL
C23: CARGO | E23: CANTIDAD | F23: CATEGORÍA | G23: DEDICACIÓN FASE DE OBRA (MES) | H23: DEDICACIÓN FASE DE RECIBO (MES) | I23: TARIFA (MES) | J23: FACTOR PRESTACIONAL | K23: N. MESES OBRA | L23: N. MESES RECIBO | M23: SALARIO + PRESTACIONES
E24: A | G24: B | H24: C | I24: D | J24: E | K24: F | L24: G | M24: H = A*D*E*(B*F+C*G)
B25: 1.1 | C25: PERSONAL PROFESIONAL (Ingenieros y Otros)
A26: 9109 | B26: 1.101 | C26: DIRECTOR DE OBRA | E26: 1 | F26: 3 | G26: 0.5 | H26: 0.5 | I26: 7650000 | J26: 1.4508 | K26: 17 | L26: 1 | M26: 99887580
A27: 9111 | B27: 1.102 | C27: COORDINADOR GENERAL | E27: 1 | F27: 5 | G27: 1 | H27: 0.5 | I27: 5875000 | J27: 1.4517 | K27: 17 | L27: 1 | M27: 149252906
A28: 9111 | B28: 1.103 | C28: INGENIERO RESIDENTE DE OBRA | E28: 2 | F28: 5 | G28: 1 | H28: 1 | I28: 5875000 | J28: 1.4517 | K28: 17 | L28: 1 | M28: 307034550
A29: 9110 | B29: 1.104 | C29: ESPECIALISTA EN DISEÑO GEOMÉTRICO | E29: 1 | F29: 4 | G29: 0.15 | H29: 0 | I29: 6514000 | J29: 1.4513 | K29: 17 | L29: 1 | M29: 24107109
A30: 9109 | B30: 1.105 | C30: ESPECIALISTA EN URBANISMO Y ESPACIO PÚBLICO | E30: 1 | F30: 3 | G30: 0.5 | H30: 0.4 | I30: 7650000 | J30: 1.4508 | K30: 17 | L30: 1 | M30: 98777718
A31: 9110 | B31: 1.106 | C31: ESPECIALISTA EN GEOTECNIA | E31: 1 | F31: 4 | G31: 0.15 | H31: 0 | I31: 6514000 | J31: 1.4513 | K31: 17 | L31: 1 | M31: 24107109
A32: 9110 | B32: 1.107 | C32: ESPECIALISTA EN PAVIMENTOS | E32: 1 | F32: 4 | G32: 0.2 | H32: 0.35 | I32: 6514000 | J32: 1.4513 | K32: 17 | L32: 1 | M32: 35451631
A33: 9110 | B33: 1.108 | C33: ESPECIALISTA EN REDES HIDROSANITARIAS | E33: 1 | F33: 4 | G33: 0.2 | H33: 0.15 | I33: 6514000 | J33: 1.4513 | K33: 17 | L33: 1 | M33: 33560877
A34: 9110 | B34: 1.109 | C34: ESPECIALISTA EN REDES ELÉCTRICAS, GAS, TELÉFONO Y FIBRA ÓPTICA | E34: 1 | F34: 4 | G34: 0.2 | H34: 0.15 | I34: 6514000 | J34: 1.4513 | K34: 17 | L34: 1 | M34: 33560877
A35: 9111 | B35: 1.11 | C35: PROFESIONAL EN PRESUPUESTO Y PROGRAMACIÓN | E35: 1 | F35: 5 | G35: 0.2 | H35: 0.25 | I35: 5875000 | J35: 1.4517 | K35: 17 | L35: 1 | M35: 31129892
A36: 9112 | B36: 1.111 | C36: ARQUEÓLOGO | E36: 1 | F36: 6 | G36: 1 | H36: 0 | I36: 5240000 | J36: 1.4521 | K36: 17 | L36: 1 | M36: 129353068
A37: 9113 | B37: 1.112 | C37: PROFESIONAL SIG CAD | E37: 1 | F37: 7 | G37: 0.2 | H37: 0.2 | I37: 3961000 | J37: 1.4535 | K37: 17 | L37: 1 | M37: 20726329
B38: 1.2 | C38: PERSONAL TÉCNICO Y PERSONAL AUXILIAR
A39: 9085 | B39: 1.201 | C39: TARIFA MES - PERSONAL TÉCNICO - AUXILIAR DE INGENIERÍA (No incluye Factor de Prestaciones) | E39: 1 | F39: N/A | G39: 0.5 | H39: 0.5 | I39: 2155000 | J39: 1.4581 | K39: 17 | L39: 1 | M39: 28279850
A40: 9094 | B40: 1.202 | C40: TARIFA MES - PERSONAL TÉCNICO - INSPECTOR 2 (No incluye Factor de Prestaciones) | E40: 4 | F40: N/A | G40: 1 | H40: 0 | I40: 1674000 | J40: 1.5541 | K40: 17 | L40: 1 | M40: 176906311
A41: 9088 | B41: 1.203 | C41: TARIFA MES - PERSONAL TÉCNICO - TOPÓGRAFO INSPECTOR (No incluye Factor de Prestaciones) | E41: 4 | F41: N/A | G41: 0.6 | H41: 0 | I41: 2555000 | J41: 1.4565 | K41: 17 | L41: 1 | M41: 151831386
A42: 9098 | B42: 1.204 | C42: TARIFA MES - PERSONAL AUXILIAR TÉCNICO - CADENERO 1 (No incluye Factor de Prestaciones) | E42: 4 | F42: N/A | G42: 0.6 | H42: 0 | I42: 1584000 | J42: 1.5601 | K42: 17 | L42: 1 | M42: 100824895
A43: 9099 | B43: 1.205 | C43: TARIFA MES - PERSONAL AUXILIAR TÉCNICO - CADENERO 2 (No incluye Factor de Prestaciones) | E43: 4 | F43: N/A | G43: 0.6 | H43: 0 | I43: 1380000 | J43: 1.5767 | K43: 17 | L43: 1 | M43: 88774517
A44: 9089 | B44: 1.206 | C44: TARIFA MES - PERSONAL TÉCNICO - LABORATORISTA INSPECTOR (No incluye Factor de Prestaciones) | E44: 1 | F44: N/A | G44: 0.25 | H44: 0 | I44: 2264000 | J44: 1.4576 | K44: 17 | L44: 1 | M44: 14025027
B45: 1.3 | C45: PERSONAL ADMINISTRATIVO
...

Sheet AMBIENTAL
C2: INSTITUTO DE DESARROLLO URBANO
C3: SUBDIRECCIÓN GENERAL DE DESARROLLO URBANO
C4: DIRECCIÓN TÉCNICA DE PROYECTOS
C6: OBJETO DE LA CONTRATACIÓN: | F6: CONSTRUCCIÓN ACERAS Y CICLORRUTA CALLE 92 Y CALLE 94 DESDE CARRERA 7 HASTA LA AUTOPISTA NORTE Y OBRAS COMPLEMENTARIAS, EN BOGOTÁ, D.C.
C8: SISTEMA DE GESTIÓN AMBIENTAL, SEGURIDAD Y SALUD EN EL TRABAJO
C9: COMPONENTE A - PERSONAL
K11: PRELIMINARES | N11: 2 | O11: MESES
K12: EJECUCIÓN DE OBRA | N12: 17 | O12: MESES
C14: PRELIMINARES DE OBRA
B15: CÓD. IDU | C15: ÍTEMS | H15: UN. | I15: CAT | J15: CANT | K15: DEDIC H/MES | L15: TOTAL DEDIC H/PROY | M15: TARIFA (MES) | N15: F.P. | O15: TOTAL ACTIVIDAD
B16: 9111 | C16: 1 | D16: RESIDENTE AMBIENTAL | H16: MES | I16: 5 | J16: 1 | K16: 0.5 | L16: 1 | M16: 5875000 | N16: 1.4517 | O16: 8528738
B17: 9111 | C17: 2 | D17: RESIDENTE FORESTAL | H17: MES | I17: 5 | J17: 1 | K17: 0.5 | L17: 1 | M17: 5875000 | N17: 1.4517 | O17: 8528738
B18: 9111 | C18: 3 | D18: BIÓLOGO O ECÓLOGO | H18: MES | I18: 5 | J18: 1 | K18: 0.3 | L18: 0.6 | M18: 5875000 | N18: 1.4517 | O18: 5117243
B19: 9111 | C19: 4 | D19: RESIDENTE SST | H19: MES | I19: 5 | J19: 1 | K19: 0.5 | L19: 1 | M19: 5875000 | N19: 1.4517 | O19: 8528738
B20: 9112 | C20: 5 | D20: RESIDENTE MAQUINARIA Y EQUIPOS | H20: MES | I20: 6 | J20: 1 | K20: 0.1 | L20: 0.2 | M20: 5240000 | N20: 1.4521 | O20: 1521801
H21: SUBTOTAL PERSONAL PRELIMINARES | O21: 32225258
C23: EJECUCIÓN DE OBRAS
B24: CÓD. IDU | C24: ÍTEMS | H24: UN. | I24: CAT | J24: CANT | K24: DEDIC H/MES | L24: TOTAL DEDIC H/PROY | M24: TARIFA | N24: F.P. | O24: TOTAL ACTIVIDAD
B25: 9111 | C25: 1 | D25: RESIDENTE AMBIENTAL | H25: MES | I25: 5 | J25: 1 | K25: 0.5 | L25: 8.5 | M25: 5875000 | N25: 1.4517 | O25: 72494269
B26: 9111 | C26: 2 | D26: RESIDENTE FORESTAL | H26: MES | I26: 5 | J26: 1 | K26: 0.8 | L26: 13.6 | M26: 5875000 | N26: 1.4517 | O26: 115990830
B27: 9111 | C27: 3 | D27: BIÓLOGO O ECÓLOGO | H27: MES | I27: 5 | J27: 1 | K27: 0.3 | L27: 5.1 | M27: 5875000 | N27: 1.4517 | O27: 43496561
B28: 9111 | C28: 4 | D28: RESIDENTE SST | H28: MES | I28: 5 | J28: 1 | K28: 0.8 | L28: 13.6 | M28: 5875000 | N28: 1.4517 | O28: 115990830
B29: 9113 | C29: 5 | D29: INSPECTOR SST - MA | H29: MES | I29: 7 | J29: 3 | K29: 1 | L29: 51 | M29: 3961000 | N29: 1.4535 | O29: 293622989
B30: 9112 | C30: 6 | D30: RESIDENTE MAQUINARIA Y EQUIPOS | H30: MES | I30: 6 | J30: 1 | K30: 0.3 | L30: 5.1 | M30: 5240000 | N30: 1.4521 | O30: 38805920
B31: 9094 | C31: 7 | D31: TARIFA MES - PERSONAL TÉCNICO - INSPECTOR 2 (No incluye Factor de Prestaciones) | H31: MES | J31: 1 | K31: 1 | L31: 14 | M31: 1674000 | N31: 1.5541 | O31: 36421888
D32: BRIGADA DE ORDEN, ASEO Y LIMPIEZA
B33: 9455 | C33: 8 | D33: TARIFA MES - PERSONAL DE OBRA - AYUDANTE (No incluye Factor de Prestaciones) | H33: MES | J33: 4 | K33: 1 | L33: 68 | M33: 877803 | N33: 1.6504 | O33: 98513373
H34: SUBTOTAL PERSONAL OBRA | O34: 815336660
H36: SUBTOTAL COMPONENTE A | O36: 847561918
C38: COMPONTE B. MANEJO AMBIENTAL EN LA EJECUCIÓN DE LAS ACTIVIDADES CONSTRUCTIVAS
C39: ÍTEMS | G39: ESPECIFICACIÓN | H39: UN. | I39: CANTIDAD | K39: VALOR UNITARIO | N39: VALOR TOTAL
B40: CÓD. IDU | C40: B1 | D40: MANEJO DE CAMPAMENTOS FIJOS Y/O TEMPORALES
B41: 7558 | C41: 1.1 | D41: ALQUILER BAÑO PORTÁTIL | G41: BAÑO TIPO FLUSHING | H41: UN/MES | I41: 320 | K41: 333200 | N41: 106624000
B42: 4945 | C42: 1.2 | D42: DEMARCACIÓN ÁREA DE TRABAJO | G42: ALQUILER DE CERRAMIENTO TIPO 1: CONSTA DE SEÑALIZADORES TUBULARES PLÁSTICOS, TRIPLE CINTA PELIGRO CAL. 4, POLISOMBRA 65% PARA CERRAMIENTO. (INCLUYE INSTALACIÓN, MANTENIMIENTO Y DESINSTALACIÓN). | H42: ML/ME | I42: 3840 | K42: 5773 | N42: 22168320
H43: SUBTOTAL DEL PROGRAMA | N43: 128792320
B45: CÓD. IDU | C45: B 2 | D45: MANEJO DE MATERIALES DE CONSTRUCCIÓN
B46: 7556 | C46: 2.1 | D46: POLIETILENO NEGRO | G46: PLASTICO NEGRO CALIBRE 6 | H46: M2 | I46: 351 | K46: 1155 | N46: 405405
B47: 7554 | C47: 2.2 | D47: SEÑALES TUBULARES | G47: SEÑALIZACION TUBULAR COLOMBINA PLASTICA | H47: UN | I47: 25 | K47: 28560 | N47: 714000
B48: 7306 | C48: 2.3 | D48: CINTA DE DEMARCACIÓN | G48: CINTA DE DEMARCACION Cal. 3 (ROLLO 500mx0.10m) | H48: UN | I48: 4 | K48: 20439 | N48: 81756
H49: SUBTOTAL DEL PROGRAMA | N49: 1201161
...

Sheet AIU AMBIENTAL-BIOSEG
B2: INSTITUTO DE DESARROLLO URBANO
B3: SUBDIRECCIÓN GENERAL DE DESARROLLO URBANO
B4: DIRECCIÓN TÉCNICA DE PROYECTOS
B6: OBJETO DE LA CONTRATACIÓN: | D6: CONSTRUCCIÓN ACERAS Y CICLORRUTA CALLE 92 Y CALLE 94 DESDE CARRERA 7 HASTA LA AUTOPISTA NORTE Y OBRAS COMPLEMENTARIAS, EN BOGOTÁ, D.C.
B8: MATRIZ PARA CÁLCULO DE AIU- AMBIENTAL
B9: SUBTOTAL COMPONENTES A+C+D+E | E9: 1549150240 | I9: FECHA: | J9: 44029
B10: SUBTOTAL COSTOS DIRECTOS BIOSEGURIDAD | E10: 154981709 | I10: CONTRATO No.
B11: SUBTOTAL COSTOS FONDO CAMBIO VIGENCIA BIOSEGURIDAD | E11: 6623701
B12: TERMINO ESTIMADO PRELIMINARES | E12: 2 | F12: MESES
B13: TERMINO ESTIMADO DE EJECUCIÓN DE OBRA + ENTREGA DE OBRA | E13: 18 | F13: MESES
B15: 3. IMPUESTOS Y GARANTÍAS
B16: 3.1 | C16: IMPUESTOS
B17: ÍTEM | C17: DESCRIPCIÓN | J17: IMPUESTO | L17: VALOR ($)
B18: 3.101 | C18: Contribución Especial (Impuesto de Guerra Ley 1738 DIC18-2014 prorroga 4 años) | J18: 0.05 | L18: 101585071
B19: 3.102 | C19: ICA (Ley 14 6jul1983, Res 219 25feb2004) | J19: 0.0069 | L19: 14018740
B20: 3.103 | C20: GMF (Ley 1739 23dic2014 modifica el Estatuto Tributario) | J20: 0.004 | L20: 8126806
B21: 3.104 | C21: Estampilla Universidad Distrital (Acuerdo 696 de 2017) | J21: 0.011 | L21: 22348716
B22: 3.105 | C22: Estampilla procultura (Acuerdo 187 20 dic 2005) | J22: 0.005 | L22: 10158507
B23: 3.106 | C23: Estampilla pro personas Mayores (Acuerdo 645 de 9 de junio de 2016) | J23: 0.02 | L23: 40634028
B24: 3.107 | C24: Estampilla Unipedagógica (Dec 584 de 19 dic 2014) | J24: 0.005 | L24: 10158507
C25: SUBTOTAL IMPUESTOS | L25: 207030375
B27: 3.2 | C27: GARANTÍAS
B28: ÍTEM | C28: DESCRIPCIÓN | E28: VR. BASE | G28: % ASEGURADO | I28: VIGENCIA AMPARO (MESES) | J28: TASA ASEGURADORA | L28: VALOR ($)
B29: 3.201 | C29: Cumplimiento | D29: GARANTÍA ÚNICA | E29: 2031701421 | G29: 0.3 | I29: 28 | J29: 0.002 | L29: 3387790
B30: 3.202 | C30: Salarios y Prestaciones Sociales | E30: 2031701421 | G30: 0.1 | I30: 56 | J30: 0.002 | L30: 2259518
B31: 3.203 | C31: Predios, labores y Operaciones- Vigencia (Decreto 1082 de 2015 Sección III) | D31: RESPONSABILIDAD CIVIL EXTRACONTRACTUAL | E31: 2031701421 | G31: 0.05 | I31: 20 | J31: 0.003 | L31: 607406
B32: 3.204 | C32: Colocación de elemento de publicidad exterior tipo vaya de construcción (Resolución 931 de 2008, numeral 7 del artículo 7) | E32: 6457012 | G32: 100 SMMLV | I32: 20 | J32: 0.003 | L32: 41394
C33: SUBTOTAL GARANTÍAS | L33: 6296108
C35: TOTAL IMPUESTOS Y GARANTÍAS | L35: 213326483
C36: TOTAL IMPUESTOS Y GARANTÍAS EN PORCENTAJE DEL COSTO DIRECTO | L36: 0.1247
C38: A. ADMINISTRACIÓN (1 + 2 + 3) | L38: 0.1247
C39: I. IMPREVISTOS | L39: 0.01
C40: U. UTILIDAD | L40: 0.06
C42: A.I.U. (ADMINISTRACIÓN, IMPREVISTOS Y UTILIDAD) | L42: 0.1947

Sheet BIOSEGURIDAD
C2: FORMATO | F2: CÓDIGO | G2: PROCESO | N2: VERSIÓN
G3: Proyectos
C4: INSTITUTO DE DESARROLLO URBANO
C5: SUBDIRECCIÓN GENERAL DE DESARROLLO URBANO
C6: DIRECCIÓN TÉCNICA DE PROYECTOS
C8: OBJETO DE LA CONTRATACIÓN: | F8: CONSTRUCCIÓN ACERAS Y CICLORRUTA CALLE 92 Y CALLE 94 DESDE CARRERA 7 HASTA LA AUTOPISTA NORTE Y OBRAS COMPLEMENTARIAS, EN BOGOTÁ, D.C.
C11: IMPLEMENTACIÓN DE MEDIDAS DE BIOSEGURIDAD
G13: PLAZO EJECUCIÓN PRELIMINARES | H13: 2 | I13: MESES
F14: PLAZO EJECUCIÓN OBRA (hasta Diciembre 2021) | H14: 14 | I14: MESES
C16: ÍTEMS | H16: UN. | I16: CANTIDAD MES | J16: CANTIDAD ESTIMADA PERSONAL - PRELIMINARES (UND-10 PERSONAS) | K16: CANTIDAD ESTIMADA PERSONAL - OBRA (UND-10 PERSONAS) | L16: MES PRELIMINARES | M16: MES OBRA | N16: VALOR UNITARIO (INCLUYE IVA) | Q16: VALOR TOTAL
B17: CÓD. IDU | D17: ELEMENTOS PARA LIMPIEZA Y DESINFECCIÓN
B18: 8773 | C18: 1.01 | D18: PAQUETE DE ELEMENTOS PARA LIMPIEZA Y DESINFECCIÓN PARA 10 TRABAJADORES DE OBRA - HERRAMIENTAS-MAQUINARIA Y EQUIPO MENOR (INCLUYE ALCOHOL ANTISÉPTICO-70%, TOALLAS DE PAPEL PARA MANOS, JABÓN LIQUIDO PARA MANOS, GEL ANTIBACTERIAL, ALQUILER DE DISPENSADOR DE TOALLAS, ALQUILER DISPENSADOR METÁLICO DE JABÓN, ALQUILER LAVAMANOS PORTÁTIL ACERO INOX. INCLUYE AGUA) | H18: UN/MES | I18: 1 | J18: N.A | K18: 6.7 | L18: N.A | M18: 14 | N18: 586004 | Q18: 54967175
B19: 8774 | C19: 1.02 | D19: PAQUETE DE ELEMENTOS PARA LIMPIEZA Y DESINFECCIÓN PARA 10 TRABAJADORES DE CONSULTORÍA / INTERVENTORÍA (INCLUYE ALCOHOL ANTISÉPTICO-70%, TOALLAS DE PAPEL PARA MANOS, JABÓN LIQUIDO PARA MANOS, GEL ANTIBACTERIAL, ALQUILER DE DISPENSADOR DE TOALLAS, ALQUILER DISPENSADOR METÁLICO DE JABÓN) | H19: UN/MES | I19: 1 | J19: 2.4 | K19: N.A | L19: 2 | M19: N.A | N19: 445504 | Q19: 2138419
B20: 8775 | C20: 1.03 | D20: ALQUILER DE FUMIGADORA DE ESPALDA. ASPERSOR BOMBA MANUAL 20 LITROS. DESINFECCIÓN_ (Según Apéndice Bioseguridad Covid 19) INCLUYE MEZCLA AGUA-HIPOCLORITO 20 mml/LITRO | H20: UN/MES | I20: 1 | J20: N.A | K20: 6.7 | L20: N.A | M20: 14 | N20: 43484 | Q20: 4078799
D21: PUNTO DE CONTROL DE OBRA
B22: 8765 | C22: 1.04 | D22: ALQUILER DE MESA PLÁSTICA DE 0.72m x 0.72m x 0.72m_(Según Apéndice Bioseguridad Covid 19) | H22: UN/MES | I22: 1 | J22: N.A | K22: N.A | L22: 2 | M22: 14 | N22: 4568 | Q22: 73088
B23: 8766 | C23: 1.05 | D23: ALQUILER DE TERMÓMETRO INFRARROJO PARA USO EN HUMANOS, LIBRE DE CONTACTO, IMPERMEABLE_(Según Apéndice Bioseguridad Covid 19) | H23: UN/MES | I23: 1 | J23: N.A | K23: N.A | L23: 2 | M23: 14 | N23: 22058 | Q23: 352928
B24: 4934 | C24: 1.06 | D24: ALQUILER CARPA VESTIER 2.0m x 2.0m CON ESTRUCTURA, TECHO Y LATERALES EN LONA. | H24: UN/MES | I24: 1 | J24: N.A | K24: N.A | L24: N.A | M24: 14 | N24: 86344 | Q24: 1208816
B25: 8771 | C25: 1.07 | D25: ALQUILER CAMILLA EN FIBRA CON ARNÉS - INMOVILIZADOR Y SEÑAL. _(Según Apéndice Bioseguridad Covid 19) | H25: UN/MES | I25: 1 | J25: N.A | K25: N.A | L25: 2 | M25: 14 | N25: 12000 | Q25: 192000
B26: 6172 | C26: 1.08 | D26: ALQUILER DE SILLA PLÁSTICA SIN BRAZOS | H26: UN/MES | I26: 2 | J26: N.A | K26: N.A | L26: 2 | M26: 14 | N26: 1569 | Q26: 50208
D27: PUNTO DE AISLAMIENTO
B28: 4934 | C28: 1.09 | D28: ALQUILER CARPA VESTIER 2.0m x 2.0m CON ESTRUCTURA, TECHO Y LATERALES EN LONA. | H28: UN/MES | I28: 1 | J28: N.A | K28: N.A | L28: N.A | M28: 14 | N28: 86344 | Q28: 1208816
B29: 6172 | C29: 1.1 | D29: ALQUILER DE SILLA PLÁSTICA SIN BRAZOS | H29: UN/MES | I29: 2 | J29: N.A | K29: N.A | L29: N.A | M29: 14 | N29: 1569 | Q29: 43932
D30: ELEMENTOS DE PROTECCIÓN INDIVIDUAL
B31: 11450 | C31: 1.11 | D31: CHALECO REFLECTIVO EN TELA | H31: UN | I31: 2 | J31: 2.4 | K31: 6.7 | L31: N.A | M31: N.A | N31: 14280 | Q31: 259896
B32: 9286 | C32: 1.12 | D32: OVEROL EN DRILL DOS PIEZAS, CAMISA Y PANTALÓN | H32: UN | I32: 8 | J32: N.A | K32: 6.7 | L32: N.A | M32: N.A | N32: 33320 | Q32: 1785952
B33: 12039 | C33: 1.13 | D33: TAPABOCAS DESECHABLE. (Según Apéndice Bioseguridad Covid 19)_ Exento de IVA de forma temporal | H33: UN | I33: 600 | J33: 2.4 | K33: 6.7 | L33: 2 | M33: 14 | N33: 1200 | Q33: 70992000
B34: 7579 | C34: 1.14 | D34: MASCARILLA DESECHABLE | H34: UN | I34: 600 | J34: 2.4 | K34: 6.7 | L34: 2 | M34: 14 | N34: 298 | Q34: 17629680
H35: SUBTOTAL COSTOS DEL PROGRAMA | Q35: 154981709
H36: COSTOS ADMINISTRATIVOS | N36: 0.1247 | Q36: 19326219
H37: FONDO POR CAMBIO DE VIGENCIA | Q37: 6623701
H39: MEDIDAS DE BIOSEGURIDAD | Q39: 180931629

Sheet DCyCE
C3: FORMATO | E3: CÓDIGO | F3: PROCESO | J3: VERSIÓN
F4: Proyectos
C5: INSTITUTO DE DESARROLLO URBANO
C6: SUBDIRECCIÓN GENERAL DE DESARROLLO URBANO
C7: DIRECCIÓN TÉCNICA DE PROYECTOS
C9: OBJETO DE LA CONTRATACIÓN: | E9: CONSTRUCCIÓN ACERAS Y CICLORRUTA CALLE 92 Y CALLE 94 DESDE CARRERA 7 HASTA LA AUTOPISTA NORTE Y OBRAS COMPLEMENTARIAS, EN BOGOTÁ, D.C.
I10: PRELIMINARES | L10: 2 | M10: MESES
I11: EJECUCIÓN DE OBRA | L11: 18 | M11: MESES
C13: CONTROL DE INVERSIÓN DIÁLOGO CIUDADANO Y COMUNICACIÓN ESTRATÉGICA PARA OBRAS DEL IDU
C14: PRELIMINARES
B15: CÓD. IDU | C15: COMPONENTE | E15: Unidad | F15: TARIFA (MES) | G15: Factor prestacional | H15: CATEGORIA | I15: Cantidad | J15: Dedicación H/Mes | K15: Plazo (Meses) | L15: Dedicación Total (Meses) | M15: Subtotal
C16: Componente A. Personal Profesional de Gestión Social
B17: 9112 | C17: A.1 | D17: RESIDENTE SOCIAL | E17: MES | F17: 5240000 | G17: 1.4521 | H17: 6 | I17: 1 | J17: 1 | K17: 2 | L17: 2 | M17: 15218008
B18: 9112 | C18: A.2 | D18: ASISTENTE SOCIAL | E18: MES | F18: 5240000 | G18: 1.4521 | H18: 6 | I18: 1 | J18: 1 | K18: 2 | L18: 2 | M18: 15218008
B19: 9112 | C19: A.3 | D19: ESPECIALISTA ÁREA ECONOMÓMICA | E19: MES | F19: 5240000 | G19: 1.4521 | H19: 6 | I19: 1 | J19: 0.25 | K19: 2 | L19: 0.5 | M19: 3804502
B20: 9113 | C20: A.4 | D20: COMUNICADOR SOCIAL | E20: MES | F20: 3961000 | G20: 1.4535 | H20: 7 | I20: 2 | J20: 0.25 | K20: 2 | L20: 1 | M20: 5757314
B21: 9113 | C21: A.5 | D21: PEDAGOGO O LICENCIADO | E21: MES | F21: 3961000 | G21: 1.4535 | H21: 7 | I21: 1 | J21: 0.25 | K21: 2 | L21: 0.5 | M21: 2878657
D22: ACTAS DE VECINDAD
B23: 9112 | C23: A.6 | D23: Profesional Arquitecto para actas de vecindad | E23: MES | F23: 5240000 | G23: 1.4521 | H23: 6 | I23: 1 | J23: 1 | K23: 2 | L23: 2 | M23: 15218008
B24: 9112 | C24: A.7 | D24: Profesional social para actas de vecindad | E24: MES | F24: 5240000 | G24: 1.4521 | H24: 6 | I24: 1 | J24: 1 | K24: 2 | L24: 2 | M24: 15218008
D25: GUÍA CÍVICO
B26: 9455 | C26: A.8 | D26: TARIFA MES - PERSONAL DE OBRA - AYUDANTE (No incluye Factor de Prestaciones) | E26: MES | F26: 877803 | G26: 1.6504 | I26: 1 | J26: 1 | K26: 2 | L26: 2 | M26: 2897452
L27: Subtotal Componente personal Fase Preliminares | M27: 76209957
C29: EJECUCIÓN DE OBRA
B30: CÓD. IDU | C30: COMPONENTE | E30: Unidad | F30: Valor Unitario | G30: Factor prestacional | H30: CATEGORIA | I30: Cantidad | J30: Dedicación H/Mes | K30: Plazo (Meses) | L30: Dedicación Total (Meses) | M30: Subtotal
C31: Componente A. Personal Profesional de Gestión Social
B32: 9112 | C32: A.1 | D32: RESIDENTE SOCIAL | E32: MES | F32: 5240000 | G32: 1.4521 | H32: 6 | I32: 1 | J32: 1 | K32: 18 | L32: 18 | M32: 136962072
B33: 9112 | C33: A.2 | D33: ASISTENTE SOCIAL | E33: MES | F33: 5240000 | G33: 1.4521 | H33: 6 | I33: 1 | J33: 1 | K33: 18 | L33: 18 | M33: 136962072
B34: 9112 | C34: A.3 | D34: ESPECIALISTA ÁREA ECONOMÓMICA | E34: MES | F34: 5240000 | G34: 1.4521 | H34: 6 | I34: 1 | J34: 0.25 | K34: 18 | L34: 4.5 | M34: 34240518
B35: 9113 | C35: A.4 | D35: COMUNICADOR SOCIAL | E35: MES | F35: 3961000 | G35: 1.4535 | H35: 7 | I35: 1 | J35: 0.25 | K35: 18 | L35: 4.5 | M35: 25907911
B36: 9113 | C36: A.5 | D36: PEDAGOGO O LICENCIADO | E36: MES | F36: 3961000 | G36: 1.4535 | H36: 7 | I36: 1 | J36: 0.25 | K36: 18 | L36: 4.5 | M36: 25907911
D37: ACTAS DE VECINDAD
B38: 9112 | C38: A.6 | D38: Profesional Arquitecto para actas de vecindad | E38: MES | F38: 5240000 | G38: 1.4521 | H38: 6 | I38: 1 | J38: 0.3 | K38: 18 | L38: 5.4 | M38: 41088622
B39: 9112 | C39: A.7 | D39: Profesional social para actas de vecindad | E39: MES | F39: 5240000 | G39: 1.4521 | H39: 6 | I39: 1 | J39: 0.3 | K39: 18 | L39: 5.4 | M39: 41088622
D40: GUÍA CÍVICO
B41: 9455 | C41: A.8 | D41: TARIFA MES - PERSONAL DE OBRA - AYUDANTE (No incluye Factor de Prestaciones) | E41: MES | F41: 877803 | G41: 1.6504 | I41: 1 | J41: 1 | K41: 18 | L41: 18 | M41: 26077069
L42: Subtotal Componente personal Fase Obra | M42: 468234797
C44: Componente B. Plan de Gestión social
C45: COMPONENTE | E45: Unidad | F45: Valor Unitario | I45: Cantidad Obra | M45: Subtotal
C46: B.1 | D46: Programa de Información
...

Sheet AIU DCyCE
B2: INSTITUTO DE DESARROLLO URBANO
B3: SUBDIRECCIÓN GENERAL DE DESARROLLO URBANO
B4: DIRECCIÓN TÉCNICA DE PROYECTOS
B6: OBJETO DE LA CONTRATACIÓN: | D6: CONSTRUCCIÓN ACERAS Y CICLORRUTA CALLE 92 Y CALLE 94 DESDE CARRERA 7 HASTA LA AUTOPISTA NORTE Y OBRAS COMPLEMENTARIAS, EN BOGOTÁ, D.C.
B8: MATRIZ PARA CÁLCULO DE AIU- DIALOGO CIUDADANO Y COMUNICACIÓN ESTRATÉGICA
B9: COSTO DIRECTO ESTIMADO DCyCE (CD) | E9: 571762874 | I9: FECHA: | J9: 44029
B10: TERMINO ESTIMADO DE PRELIMINARES | E10: 2 | F10: MESES | I10: CONTRATO No.
B11: TERMINO ESTIMADO DE EJECUCIÓN DE OBRA | E11: 18 | F11: MESES
B13: 3. IMPUESTOS Y GARANTÍAS
B14: 3.1 | C14: IMPUESTOS
B15: ÍTEM | C15: DESCRIPCIÓN | J15: IMPUESTO | L15: VALOR ($)
B16: 3.101 | C16: Contribución Especial (Impuesto de Guerra Ley 1738 DIC18-2014 prorroga 4 años) | J16: 0.05 | L16: 34178555
B17: 3.102 | C17: ICA (Ley 14 6jul1983, Res 219 25feb2004) | J17: 0.0069 | L17: 4716641
B18: 3.103 | C18: GMF (Ley 1739 23dic2014 modifica el Estatuto Tributario) | J18: 0.004 | L18: 2734284
B19: 3.104 | C19: Estampilla Universidad Distrital (Acuerdo 696 de 2017) | J19: 0.011 | L19: 7519282
B20: 3.105 | C20: Estampilla procultura (Acuerdo 187 20 dic 2005) | J20: 0.005 | L20: 3417856
B21: 3.106 | C21: Estampilla pro personas Mayores (Acuerdo 645 de 9 de junio de 2016) | J21: 0.02 | L21: 13671422
B22: 3.107 | C22: Estampilla Unipedagógica (Dec 584 de 19 dic 2014) | J22: 0.005 | L22: 3417856
C23: SUBTOTAL IMPUESTOS | L23: 69655896
B25: 3.2 | C25: GARANTÍAS
B26: ÍTEM | C26: DESCRIPCIÓN | E26: VR. BASE | G26: % ASEGURADO | I26: VIGENCIA AMPARO (MESES) | J26: TASA ASEGURADORA | L26: VALOR ($)
B27: 3.201 | C27: Cumplimiento | D27: GARANTIA UNICA | E27: 683571104 | G27: 0.3 | I27: 28 | J27: 0.002 | L27: 1141804
B28: 3.202 | C28: Salarios y Prestaciones Sociales | E28: 683571104 | G28: 0.1 | I28: 56 | J28: 0.002 | L28: 762195
B29: 3.203 | C29: Predios, labores y Operaciones- Vigencia (Decreto 1082 de 2015 Sección III) | D29: RESPONSABILIDAD CIVIL EXTRACONTRACTUAL | E29: 683571104 | G29: 0.05 | I29: 20 | J29: 0.003 | L29: 206337
B30: 3.204 | C30: Colocación de elemento de publicidad exterior tipo vaya de construcción (Resolución 931 de 2008, numeral 7 del artículo 7) | E30: 2384860 | G30: 100 SMMLV | I30: 20 | J30: 0.003 | L30: 17165
C31: SUBTOTAL GARANTÍAS | L31: 2127501
C33: TOTAL IMPUESTOS Y GARANTÍAS | L33: 71783397
C34: TOTAL IMPUESTOS Y GARANTÍAS EN PORCENTAJE DEL COSTO DIRECTO | L34: 0.12555
C36: A. ADMINISTRACIÓN (1 + 2 + 3) | L36: 0.12555
C37: I. IMPREVISTOS | L37: 0.01
C38: U. UTILIDAD | L38: 0.06
C40: A.I.U. (ADMINISTRACIÓN, IMPREVISTOS Y UTILIDAD) | L40: 0.19555

Sheet PMT
C2: INSTITUTO DE DESARROLLO URBANO
C3: SUBDIRECCIÓN GENERAL DE DESARROLLO URBANO
C4: DIRECCIÓN TÉCNICA DE PROYECTOS
C6: OBJETO DE LA CONTRATACIÓN: | E6: CONSTRUCCIÓN ACERAS Y CICLORRUTA CALLE 92 Y CALLE 94 DESDE CARRERA 7 HASTA LA AUTOPISTA NORTE Y OBRAS COMPLEMENTARIAS, EN BOGOTÁ, D.C.
C8: CONTROL DE INVERSIÓN PLAN DE MANEJO DE TRÁFICO
E10: PRELIMINARES | G10: 2 | H10: MESES
E11: OBRA | G11: 18 | H11: MESES
C13: No. | D13: DESCRIPCIÓN | E13: TIEMPO | G13: CAT | H13: TARIFA (MES) | I13: F.P. | J13: PRELIMINARES | L13: OBRA | AC13: RECIBO OBRA | AD13: CANT TOTAL | AE13: VR TOTAL
E14: Und | F14: Cant | J14: 1 | K14: 2 | L14: 3 | M14: 4 | N14: 5 | O14: 6 | P14: 7 | Q14: 8 | R14: 9 | S14: 10 | T14: 11 | U14: 12 | V14: 13 | W14: 14 | X14: 15 | Y14: 16 | Z14: 17 | AA14: 18 | AB14: 19 | AC14: 20
C15: 1 | D15: PERSONAL
D16: PERSONAL PROFESIONAL
B17: 9110 | C17: 1.1 | D17: ESPECIALISTA EN TRÁNSITO Y TRANSPORTE | E17: UN/MES | F17: 1 | G17: 4 | H17: 6514000 | I17: 1.4513 | J17: 0.5 | K17: 0.5 | L17: 0.5 | M17: 0.5 | N17: 0.5 | O17: 0.5 | P17: 0.5 | Q17: 0.5 | R17: 0.5 | S17: 0.5 | T17: 0.5 | U17: 0.5 | V17: 0.5 | W17: 0.5 | X17: 0.5 | Y17: 0.5 | Z17: 0.5 | AA17: 0.5 | AB17: 0.5 | AC17: 0.5 | AD17: 10 | AE17: 94537682
B18: 9112 | C18: 1.2 | D18: INGENIERO MODELADOR | E18: UN/MES | F18: 1 | G18: 6 | H18: 5240000 | I18: 1.4521 | L18: 0.3 | M18: 0.3 | N18: 0.3 | O18: 0.3 | P18: 0.3 | Q18: 0.3 | R18: 0.3 | S18: 0.3 | T18: 0.3 | U18: 0.3 | V18: 0.3 | W18: 0.3 | X18: 0.3 | Y18: 0.3 | Z18: 0.3 | AA18: 0.3 | AB18: 0.3 | AD18: 5.1 | AE18: 38805920
B19: 9112 | C19: 1.3 | D19: RESIDENTE TRÁNSITO Y TRANSPORTE | E19: UN/MES | F19: 1 | G19: 6 | H19: 5240000 | I19: 1.4521 | J19: 0.5 | K19: 0.5 | L19: 0.5 | M19: 0.5 | N19: 0.5 | O19: 0.5 | P19: 0.5 | Q19: 0.5 | R19: 0.5 | S19: 0.5 | T19: 0.5 | U19: 0.5 | V19: 0.5 | W19: 0.5 | X19: 0.5 | Y19: 0.5 | Z19: 0.5 | AA19: 0.5 | AB19: 0.5 | AC19: 0.5 | AD19: 10 | AE19: 76090040
D20: PALETERO
B21: 9455 | C21: 1.4 | D21: TARIFA MES - PERSONAL DE OBRA - AYUDANTE (No incluye Factor de Prestaciones) | E21: UN/MES | F21: 8 | H21: 877803 | I21: 1.6504 | L21: 1 | M21: 1 | N21: 1 | O21: 1 | P21: 1 | Q21: 1 | R21: 1 | S21: 1 | T21: 1 | U21: 1 | V21: 1 | W21: 1 | X21: 1 | Y21: 1 | Z21: 1 | AA21: 1 | AB21: 1 | AC21: 1 | AD21: 144 | AE21: 208616554
D22: AFORADORES
B23: 9455 | C23: 1.5 | D23: TARIFA MES - PERSONAL DE OBRA - AYUDANTE (No incluye Factor de Prestaciones) | E23: UN/MES | F23: 24 | H23: 877803 | I23: 1.6504 | L23: 0.1 | M23: 0.1 | N23: 0.1 | O23: 0.1 | P23: 0.1 | Q23: 0.1 | R23: 0.1 | S23: 0.1 | T23: 0.1 | U23: 0.1 | V23: 0.1 | W23: 0.1 | X23: 0.1 | Y23: 0.1 | Z23: 0.1 | AA23: 0.1 | AB23: 0.1 | AC23: 0.1 | AD23: 43.2 | AE23: 62584966
AD24: SUBTOTAL COSTOS PERSONAL | AE24: 480635162
C25: 2 | D25: OTROS
B26: 9840 | C26: 2.1 | D26: TARIFA MES - EDICIÓN DE INFORME MENSUAL DE INTERVENTORÍA O CONSULTORÍA. Incluye 4 tapas plastificadas tamaño carta color blanco, con 6 tornillos, hojas de papel bond tamaño carta 75 gramos, 170 folios | E26: UN/MES | F26: 1 | H26: 181000 | J26: 1 | K26: 1 | L26: 1 | M26: 1 | N26: 1 | O26: 1 | P26: 1 | Q26: 1 | R26: 1 | S26: 1 | T26: 1 | U26: 1 | V26: 1 | W26: 1 | X26: 1 | Y26: 1 | Z26: 1 | AA26: 1 | AB26: 1 | AC26: 1 | AD26: 20 | AE26: 3620000
B27: 6318 | C27: 2.2 | D27: ALQUILER DE PORTATIL. CARACTERÍSTICAS: Procesador intel, Core i3 4005U, celeron o similar, Memoria RAM de 4 GB ( 2 x 2048 MB)Disco duro de 500gb a 7200 rpmPantalla LED HP BrightView widescreen de alta definición con 35,6 cm (14") o similar, HD INTEL GRAPHIC HD4400UNIDAD DE DVD QUEMADORBLUETOOTH | E27: UN/MES | F27: 1 | H27: 128520 | J27: 0.25 | K27: 0.25 | L27: 0.25 | M27: 0.25 | N27: 0.25 | O27: 0.25 | P27: 0.25 | Q27: 0.25 | R27: 0.25 | S27: 0.25 | T27: 0.25 | U27: 0.25 | V27: 0.25 | W27: 0.25 | X27: 0.25 | Y27: 0.25 | Z27: 0.25 | AA27: 0.25 | AB27: 0.25 | AC27: 0.25 | AD27: 5 | AE27: 642600
D28: SEÑALIZACION TEMPORAL
B29: 4945 | C29: 2.3 | D29: ALQUILER DE CERRAMIENTO TIPO 1: CONSTA DE SEÑALIZADORES TUBULARES PLÁSTICOS, TRIPLE CINTA PELIGRO CAL. 4, POLISOMBRA 65% PARA CERRAMIENTO. (INCLUYE INSTALACIÓN, MANTENIMIENTO Y DESINSTALACIÓN). | E29: ML/ME | F29: 346 | H29: 5773 | L29: 1 | M29: 1 | N29: 1 | O29: 1 | P29: 1 | Q29: 1 | R29: 1 | S29: 1 | T29: 1 | U29: 1 | V29: 1 | W29: 1 | X29: 1 | Y29: 1 | Z29: 1 | AA29: 1 | AB29: 1 | AC29: 1 | AD29: 6228 | AE29: 35954244
B30: 6484 | C30: 2.4 | D30: ALQUILER DE BARRICADA METÁLICA CON SEÑAL DE DESVÍO O VÍA CERRADA DE 2.40 m CINTA GRADO INGENIERÍA SHEETING | E30: UN/MES | F30: 10 | H30: 109216 | L30: 1 | M30: 1 | N30: 1 | O30: 1 | P30: 1 | Q30: 1 | R30: 1 | S30: 1 | T30: 1 | U30: 1 | V30: 1 | W30: 1 | X30: 1 | Y30: 1 | Z30: 1 | AA30: 1 | AB30: 1 | AC30: 1 | AD30: 180 | AE30: 19658880
B31: 6187 | C31: 2.5 | D31: ALQUILER DE SEÑAL LUMINOSA BIDIRECCIONAL 1.50m x 0.50m (INCLUYE INSTALACIÓN, MANTENIMIENTO Y DESINSTALACIÓN). | E31: UN/MES | F31: 10 | H31: 189609 | L31: 1 | M31: 1 | N31: 1 | O31: 1 | P31: 1 | Q31: 1 | R31: 1 | S31: 1 | T31: 1 | U31: 1 | V31: 1 | W31: 1 | X31: 1 | Y31: 1 | Z31: 1 | AA31: 1 | AB31: 1 | AC31: 1 | AD31: 180 | AE31: 34129620
B32: 6178 | C32: 2.6 | D32: ALQUILER SEÑAL VERTICAL GRUPO I (75x75cm) (Incluye Suministro e Instalación) | E32: UN/MES | F32: 10 | H32: 11388 | L32: 1 | M32: 1 | N32: 1 | O32: 1 | P32: 1 | Q32: 1 | R32: 1 | S32: 1 | T32: 1 | U32: 1 | V32: 1 | W32: 1 | X32: 1 | Y32: 1 | Z32: 1 | AA32: 1 | AB32: 1 | AC32: 1 | AD32: 180 | AE32: 2049840
B33: 6186 | C33: 2.7 | D33: ALQUILER BARRERA RELLENABLE (2.00x0.55x1.00m) | E33: UN/MES | F33: 21 | H33: 11405 | L33: 1 | M33: 1 | N33: 1 | O33: 1 | P33: 1 | Q33: 1 | R33: 1 | S33: 1 | T33: 1 | U33: 1 | V33: 1 | W33: 1 | X33: 1 | Y33: 1 | Z33: 1 | AA33: 1 | AB33: 1 | AC33: 1 | AD33: 378 | AE33: 4311090
B34: 6061 | C34: 2.8 | D34: PASACALLES IMPRESO EN LONA BANNER (7.0m x 1.0m) TERMINADO CON PALOS EN LOS EXTREMOS. INCLUYE SUMINISTRO E INSTALACION. | E34: UN | F34: 30 | H34: 284919 | AD34: 30 | AE34: 8547570
B35: 7555 | C35: 2.9 | D35: CINTA DE SEÑALIZACION CAL 4 (ROLLO 500mx0.10m) | E35: UN | F35: 120 | H35: 16065 | AD35: 120 | AE35: 1927800
B36: 6181 | C36: 2.1 | D36: ALQUILER DE PALETA PARE-SIGA EN POLIETILENO. | E36: UN/MES | F36: 8 | H36: 1452 | L36: 1 | M36: 1 | N36: 1 | O36: 1 | P36: 1 | Q36: 1 | R36: 1 | S36: 1 | T36: 1 | U36: 1 | V36: 1 | W36: 1 | X36: 1 | Y36: 1 | Z36: 1 | AA36: 1 | AB36: 1 | AC36: 1 | AD36: 144 | AE36: 209088
AD37: SUBTOTAL OTROS COSTOS DIRECTOS | AE37: 111050732
H39: SUB TOTAL | AE39: 591685894
H40: A.I.U | AD40: 0.19555 | AE40: 115704177
H41: VALOR TOTAL | AE41: 707390071

Sheet AIU PMT
B2: INSTITUTO DE DESARROLLO URBANO
B3: SUBDIRECCIÓN GENERAL DE DESARROLLO URBANO
B4: DIRECCIÓN TÉCNICA DE PROYECTOS
B6: OBJETO DE LA CONTRATACIÓN: | D6: CONSTRUCCIÓN ACERAS Y CICLORRUTA CALLE 92 Y CALLE 94 DESDE CARRERA 7 HASTA LA AUTOPISTA NORTE Y OBRAS COMPLEMENTARIAS, EN BOGOTÁ, D.C.
B8: MATRIZ PARA CÁLCULO DE AIU- TRANSITO (PMT)
B9: COSTOS PERSONAL + OTROS COSTOS ESTIMADOS PMT | E9: 591685894 | I9: FECHA: | J9: 44029
B10: TERMINO ESTIMADO DE PRELIMINARES | E10: 2 | F10: MESES | I10: CONTRATO No.
B11: TERMINO ESTIMADO DE EJECUCIÓN DE OBRA | E11: 18 | F11: MESES
B13: 3. IMPUESTOS Y GARANTÍAS
B14: 3.1 | C14: IMPUESTOS
B15: ÍTEM | C15: DESCRIPCIÓN | J15: IMPUESTO | L15: VALOR ($)
B16: 3.101 | C16: Contribución Especial (Impuesto de Guerra Ley 1738 DIC18-2014 prorroga 4 años) | J16: 0.05 | L16: 35369504
B17: 3.102 | C17: ICA (Ley 14 6jul1983, Res 219 25feb2004) | J17: 0.0069 | L17: 4880991
B18: 3.103 | C18: GMF (Ley 1739 23dic2014 modifica el Estatuto Tributario) | J18: 0.004 | L18: 2829560
B19: 3.104 | C19: Estampilla Universidad Distrital (Acuerdo 696 de 2017) | J19: 0.011 | L19: 7781291
B20: 3.105 | C20: Estampilla procultura (Acuerdo 187 20 dic 2005) | J20: 0.005 | L20: 3536950
B21: 3.106 | C21: Estampilla pro personas Mayores (Acuerdo 645 de 9 de junio de 2016) | J21: 0.02 | L21: 14147801
B22: 3.107 | C22: Estampilla Unipedagógica (Dec 584 de 19 dic 2014) | J22: 0.005 | L22: 3536950
C23: SUBTOTAL IMPUESTOS | L23: 72083047
B25: 3.2 | C25: GARANTÍAS
B26: ÍTEM | C26: DESCRIPCIÓN | E26: VR. BASE | G26: % ASEGURADO | I26: VIGENCIA AMPARO (MESES) | J26: TASA ASEGURADORA | L26: VALOR ($)
B27: 3.201 | C27: Cumplimiento | D27: GARANTÍA ÚNICA | E27: 707390071 | G27: 0.3 | I27: 28 | J27: 0.002 | L27: 1181487
B28: 3.202 | C28: Salarios y Prestaciones Sociales | E28: 707390071 | G28: 0.1 | I28: 56 | J28: 0.002 | L28: 788650
B29: 3.203 | C29: Predios, labores y Operaciones- Vigencia (Decreto 1082 de 2015 Sección III) | D29: RESPONSABILIDAD CIVIL EXTRACONTRACTUAL | E29: 707390071 | G29: 0.05 | I29: 20 | J29: 0.003 | L29: 213424
B30: 3.204 | C30: Colocación de elemento de publicidad exterior tipo vaya de construcción (Resolución 931 de 2008, numeral 7 del artículo 7) | E30: 2467960 | G30: 100 SMMLV | I30: 20 | J30: 0.003 | L30: 17659
C31: SUBTOTAL GARANTÍAS | L31: 2201220
C33: TOTAL IMPUESTOS Y GARANTÍAS | L33: 74284267
C34: TOTAL IMPUESTOS Y GARANTÍAS EN PORCENTAJE DEL COSTO DIRECTO | L34: 0.12555
C36: A. ADMINISTRACIÓN (1 + 2 + 3) | L36: 0.12555
C37: I. IMPREVISTOS | L37: 0.01
C38: U. UTILIDAD | L38: 0.06
C40: A.I.U. (ADMINISTRACIÓN, IMPREVISTOS Y UTILIDAD) | L40: 0.19555

Sheet ENSAYOS-OBRA
B1: CONSTRUCCIÓN ACERAS Y CICLORRUTA CALLE 92 Y CALLE 94 DESDE CARRERA 7 HASTA LA AUTOPISTA NORTE Y OBRAS COMPLEMENTARIAS, EN BOGOTÁ, D.C.
B4: ENSAYOS OBRA | G4: 44029
B5: EXPLORACIÓN DE SUELOS Y ENSAYOS DE LABORATORIO | C5: CANTIDAD | D5: UNIDAD | E5: COSTO UNITARIO ($) SIN I.V.A. | F5: FACTOR MULTIPLICADOR | G5: SUBTOTAL VALOR BÁSICO ($) INCLUYE FACTOR MULTIPLICADOR
A6: CÓD.IDU | B6: ENSAYOS PAVIMENTOS
A7: 7485 | B7: RESISTENCIA A LA DEGRADACIÓN DE LOS AGREGADOS GRUESOS DE TAMAÑOS MAYORES DE 19 mm (¾") POR ABRASIÓN E IMPACTO EN LA MÁQUINA DE LOS ÁNGELES (CON TRITURACIÓN DE AGREGADOS) | C7: 222 | D7: UN | E7: 104940 | F7: 1.1 | G7: 25626348
A8: 9353 | B8: DETERMINACIÓN DE LA RESISTENCIA DEL AGREGADO GRUESO A LA DEGRADACIÓN POR ABRASIÓN, UTILIZANDO EL APARATO MICRO-DEVAL | C8: 222 | D8: UN | E8: 195000 | F8: 1.1 | G8: 47619000
A9: 7738 | B9: RESISTENCIA A LA DEGRADACIÓN DE LOS AGREGADOS DE TAMAÑOS MENORES DE 37.5 MM (1½") POR MEDIO DE LA MÁQUINA DE LOS ÁNGELES (SIN TRITURACIÓN DE LOS AGREGADOS) | C9: 222 | D9: UN | E9: 93280 | F9: 1.1 | G9: 22778976
A10: 10019 | B10: DETERMINACIÓN LÍMITE LÍQUIDO, LÍMITE PLÁSTICO E ÍNDICE DE PLASTICIDAD DE SUELOS | C10: 222 | D10: UN | E10: 45000 | F10: 1.1 | G10: 10989000
A11: 7482 | B11: EQUIVALENTE DE ARENA DE SUELOS Y AGREGADOS FINOS | C11: 222 | D11: UN | E11: 75900 | F11: 1.1 | G11: 18534780
A12: 7744 | B12: ÍNDICES DE APLANAMIENTO Y ALARGAMIENTO DE LOS AGREGADOS PARA CARRETERAS | C12: 222 | D12: UN | E12: 73900 | F12: 1.1 | G12: 18046380
A13: 7737 | B13: ANALISIS GRANULOMETRICO DE LOS AGREGADOS GRUESO Y FINO | C13: 222 | D13: UN | E13: 69900 | F13: 1.1 | G13: 17069580
A14: 9279 | B14: DENSIDAD Y PESO UNITARIO DEL SUELO EN EL TERRENO POR EL MÉTODO DEL CONO Y ARENA | C14: 222 | D14: UN | E14: 53500 | F14: 1.1 | G14: 13064700
A15: 7770 | B15: DISEÑO DE MEZCLAS ASFALTICAS METODO MARSHALL. | C15: 5 | D15: UN | E15: 1022971 | F15: 1.1 | G15: 5626341
A16: 9374 | B16: ANÁLISIS GRANULOMÉTRICO DE LOS AGREGADOS EXTRAÍDOS DE MEZCLAS ASFÁLTICAS | C16: 5 | D16: UN | E16: 52100 | F16: 1.1 | G16: 286550
A17: 7877 | B17: RESISTENCIA A LA FLEXIÓN DEL CONCRETO USANDO UNA VIGA SIMPLEMENTE APOYADA Y CARGADA EN LOS TERCIOS DE LA LUZ LIBRE | C17: 255 | D17: UN | E17: 19500 | F17: 1.1 | G17: 5469750
A18: 9385 | B18: RESISTENCIA A LA COMPRESIÓN DE ADOQUINES DE CONCRETO | C18: 480 | D18: UN | E18: 27200 | F18: 1.1 | G18: 14361600
A19: 7542 | B19: RESISTENCIA A LA COMPRESIÓN DE CILINDROS DE CONCRETO (MOLDEADOS O NÚCLEOS) | C19: 221 | D19: UN | E19: 3750 | F19: 1.1 | G19: 911625
B20: VALOR BÁSICO ESTIMADO PARA ENSAYOS DE LABORATORIO | G20: 200384630
B22: VR. BÁSICO FONDO POR CAMBIO DE VIGENCIA | G22: 7614616
B24: SUBTOTAL VR. BÁSICO ENSAYOS DE LABORATORIO (INCLUYE CAMBIO DE VIGENCIA) | G24: 207999246
B25: IVA 19% | G25: 39519857
B26: COSTOS ESTIMADOS PARA ENSAYOS DE LABORATORIO EN LA FASE DE EJECUCIÓN | G26: 247519103

Sheet COMPENSAC-EVALUAC-SEG-SDA
B1: CONSTRUCCIÓN ACERAS Y CICLORRUTA CALLE 92 Y CALLE 94 DESDE CARRERA 7 HASTA LA AUTOPISTA NORTE Y OBRAS COMPLEMENTARIAS, EN BOGOTÁ, D.C.
B3: COSTOS DE COMPENSACIONES Y SEGUIMIENTO SDA
A4: CÓD. IDU | B4: ÍTEMS | F4: ESPECIFICACIÓN | G4: UN. | H4: CANTIDAD | I4: VALOR UNITARIO | J4: VR. TOTAL
A5: 5895 | B5: 1.1 | C5: Valor IVP por compensación de tala | F5: VALOR IVP POR TALA DE INDIVIDUOS VEGETALES NO INCLUIDOS EN EL MANUAL DE SILVICULTURA URBANA CON ALTURA < 5m SEGUN RESOLUCION 7132 DEL 30/12/2011 DE LA SDA. | G5: UN | H5: 17 | I5: 954962 | J5: 16234354
A6: 5896 | B6: 1.2 | F6: VALOR IVP POR TALA DE INDIVIDUOS VEGETALES NO INCLUIDOS EN EL MANUAL DE SILVICULTURA URBANA CON ALTURA > 5m SEGUN RESOLUCION 7132 DEL 30/12/2011 DE LA SDA. | G6: UN | H6: 17 | I6: 998852 | J6: 16980484
A7: 5897 | B7: 1.3 | F7: VALOR IVP POR TALA DE INDIVIDUOS VEGETALES INCLUIDOS EN EL MANUAL DE SILVICULTURA URBANA CON ALTURA < 5m SEGUN RESOLUCION 7132 DEL 30/12/2011 DE LA SDA. | G7: UN | H7: 14 | I7: 1042742 | J7: 14598388
A8: 5898 | B8: 1.4 | F8: VALOR IVP POR TALA DE INDIVIDUOS VEGETALES INCLUIDOS EN EL MANUAL DE SILVICULTURA URBANA CON ALTURA > 5m SEGUN RESOLUCION 7132 DEL 30/12/2011 DE LA SDA. | G8: UN | H8: 30 | I8: 1086632 | J8: 32598960
A9: 5919 | B9: 1.5 | C9: Costos de Evaluacion | F9: EVALUACION PARA TRATAMIENTOS A LA VEGETACION DE LA SDA. CANTIDAD > 1000 ARBOLES (SEGUN RESOLUCION SDA No. 5589 DEL 30/09/2011. | G9: UN | H9: 1 | I9: 926082 | J9: 926082
A10: 5920 | B10: 1.6 | C10: Costos de seguimiento | F10: SEGUIMIENTO PARA TRATAMIENTOS A LA VEGETACION DE LA SDA. CANTIDAD >1000 ARBOLES (SEGUN RESOLUCION SDA No. 5589 DEL 30/09/2011. | G10: UN | H10: 1 | I10: 1995246 | J10: 1995246
A11: 6086 | B11: 1.7 | F11: ACTUALIZACION DE SISTEMA DE GESTION DEL ARBOLADO URBANO UBICADO EN TERRENO. SIGAU POR ARBOL PARA TALA, BLOQUEO Y TRASLADO | G11: UN | H11: 115 | I11: 11002 | J11: 1265230
A12: 6087 | B12: 1.8 | F12: ACTUALIZACION DE SISTEMA DE GESTION DEL ARBOLADO URBANO UBICADO EN TERRENO. SIGAU POR ARBOL PARA PLANTACION | G12: UN | H12: 124 | I12: 10191 | J12: 1263684
B13: SUBTOTAL COMPENSACIONES Y SEGUIMIENTO SDA | J13: 85862428
B14: SUBTOTAL CON FACTOR MULTIPLICADOR: | I14: 1.1 | J14: 94448671
B15: Registro de Vallas - Trámite de registro publicidad Publicidad Exterior Visual (Resolución 2560 de 2016). | I15: 0.025 | J15: 2361217
B16: AJUSTES POR CAMBIO DE VIGENCIA | I16: 0.038 | J16: 3589049
B18: TOTAL COMPENSACIONES Y SEGUIMIENTO SDA | J18: 100398937

Sheet AJUSTES
B2: INSTITUTO DE DESARROLLO URBANO
B3: SUBDIRECCIÓN GENERAL DE DESARROLLO URBANO
B4: DIRECCIÓN TÉCNICA DE PROYECTOS
B6: OBJETO DE LA CONTRATACIÓN: | D6: CONSTRUCCIÓN ACERAS Y CICLORRUTA CALLE 92 Y CALLE 94 DESDE CARRERA 7 HASTA LA AUTOPISTA NORTE Y OBRAS COMPLEMENTARIAS, EN BOGOTÁ, D.C.
B8: AJUSTES POR CAMBIO DE VIGENCIA
B9: PRESUPUESTO A JULIO DE 2020 | E9: 28402149409 | G9: 44029
B10: TERMINO ESTIMADO DE EJECUCIÓN | E10: 17 | F10: MESES
B12: VR. MENSUAL | E12: 1670714671 | F12: VR. VIGENCIA ACTUAL | G12: 3341429342
B13: MESES DE OBRA | D13: # MESES | E13: INCREMENTO/MES X CAMBIO PERIODO | G13: VR. A AJUSTAR
E14: ICCP PROYECTADO | F14: PORCENTAJE INCREMENTO | G14: 25060720067
B15: 1 | C15: 43831 | E15: 171.24
B16: 2 | C16: 43862 | E16: 172.57 | F16: 1.0077669
B17: 3 | C17: 43891 | E17: 173.07 | F17: 1.0028974
B18: 4 | C18: 43922 | E18: 173.78 | F18: 1.0041024
B19: 5 | C19: 43952 | E19: 174.64 | F19: 1.0049488
B20: 6 | C20: 43983 | E20: 174.94 | F20: 1.0017178
B21: 7 | C21: 44013 | E21: 175.24 | F21: 1.0017149
B22: 8 | C22: 44044 | E22: 175.54 | F22: 1.0017119
B23: 9 | C23: 44075 | D23: 1 | E23: 175.84 | F23: 1.001709 | G23: FASE PRELIMINARES
B24: 10 | C24: 44105 | D24: 2 | E24: 176.14 | F24: 1.0017061
B25: 11 | C25: 44136 | D25: 3 | E25: 176.44 | F25: 1.0017032 | G25: INICIO PROY OBRA
B26: 12 | C26: 44166 | D26: 4 | E26: 176.74 | F26: 1.0017003
B27: 13 | C27: 44197 | D27: 5 | E27: 177.04 | F27: 1.0016974
B28: 14 | C28: 44228 | D28: 6 | E28: 177.34 | F28: 1.0016945
B29: 15 | C29: 44256 | D29: 7 | E29: 177.64 | F29: 1.0016917
B30: 16 | C30: 44287 | D30: 8 | E30: 177.94 | F30: 1.0016888
B31: 17 | C31: 44317 | D31: 9 | E31: 178.24 | F31: 1.001686
B32: 18 | C32: 44348 | D32: 10 | E32: 178.54 | F32: 1.0016831
B33: 19 | C33: 44378 | D33: 11 | E33: 178.84 | F33: 1.0016803
B34: 20 | C34: 44409 | D34: 12 | E34: 179.14 | F34: 1.0016775
B35: 21 | C35: 44440 | D35: 13 | E35: 179.44 | F35: 1.0016747 | G35: VR. AJUSTES
B36: 22 | C36: 44470 | D36: 14 | E36: 179.74 | F36: 1.0016719 | G36: 1127732403
B37: 23 | C37: 44501 | D37: 15 | E37: 180.04 | F37: 1.0016691
B38: 24 | C38: 44531 | D38: 16 | E38: 180.34 | F38: 1.0016663
B39: 25 | C39: 44562 | D39: 17 | E39: 180.64 | F39: 1.0016635
B40: 26 | C40: 44593 | D40: 18 | E40: 180.94 | F40: 1.0016608
B41: 27 | C41: 44621 | D41: 19 | E41: 181.24 | F41: 1.001658 | G41: FIN PROY OBRA
B42: 28 | C42: 44652 | D42: 20 | E42: 181.54 | F42: 1.0016553 | G42: RECIBO OBRA
B43: 29 | C43: 44682 | E43: 181.84 | F43: 1.0016525
B44: 30 | C44: 44713 | E44: 182.14 | F44: 1.0016498
...

Sheet DESGLOCES
B1: =#REF! -> #REF!
B3: CÓDIGO | C3: DESCRIPCIÓN | D3: UM | E3: CANT. | F3: VR. UNIT. | G3: VR. PARCIAL
B4: 3007 | C4: REPLANTEO GENERAL | D4: M2 | G4: 574
B5: 4278 | C5: CUADRILLA (OFICIAL + AYUDANTE) | D5: HR | E5: 0.0118 | F5: 13858 | G5: 164
B6: 6092 | C6: HERRAMIENTA MENOR | D6: GLB | E6: 0.046 | F6: 2000 | G6: 92
B7: 7260 | C7: DURMIENTE EN ORDINARIO 2.90 X 0.04 X 0.04 | D7: UN | E7: 0.0714 | F7: 4165 | G7: 297
B8: 7680 | C8: PINTURA EN ESMALTE DOMESTICO | D8: GLN | E8: 0.0005 | F8: 42900 | G8: 21
B9: 3009 | C9: EXCAVACION MANUAL PARA REDES PROFUNDIDAD 0m - 2m (Incluye Cargue) | D9: M3 | G9: 26499
B10: 4278 | C10: CUADRILLA (OFICIAL + AYUDANTE) | D10: HR | E10: 1.84 | F10: 13858 | G10: 25499
B11: 6092 | C11: HERRAMIENTA MENOR | D11: GLB | E11: 0.5 | F11: 2000 | G11: 1000
B12: 3012 | C12: DEMOLICIÓN PISOS DE CONCRETO (Espesor variable hasta 0.10 m. Incluye Cargue). No incluye transporte y disposición final de sobrantes. | D12: M2 | G12: 5465
B13: 4279 | C13: CUADRILLA (OFICIAL + 2 AYUDANTES) | D13: HR | E13: 0.134 | F13: 19538 | G13: 2618
B14: 6092 | C14: HERRAMIENTA MENOR | D14: GLB | E14: 0.1 | F14: 2000 | G14: 200
B15: 6140 | C15: COMPRESOR - INCLUYE COMBUSTIBLE | D15: HR | E15: 0.05 | F15: 48012 | G15: 2401
B16: 7439 | C16: MARTILLO NEUMÁTICO 60 LB | D16: HR | E16: 0.05 | F16: 4919 | G16: 246
B17: 3018 | C17: RELLENO EN TIERRA NEGRA PARA EMPRADIZACION (Suministro y Extendido) | D17: M3 | G17: 58566
B18: 4274 | C18: CUADRILLA (OFICIAL + 2 AYUDANTES) | D18: JR | E18: 0.0333 | F18: 156349 | G18: 5206
