Workbook
Name CARTA: '1'!$P$39
Name CARTA: '2'!$P$39
Name CARTA: '3'!$P$39
Name CARTA: '4'!$P$39
Name CARTA: '5'!$P$39
Name CARTA: '6'!$P$39
Name CARTA: '7'!$P$39
Name CARTA: '8'!$P$39
Name CARTA: #REF!
Name DISCAP: '1'!$P$61
Name DISCAP: '2'!$P$61
Name DISCAP: '3'!$P$61
Name DISCAP: '4'!$P$61
Name DISCAP: '5'!$P$61
Name DISCAP: '6'!$P$61
Name DISCAP: '7'!$P$61
Name DISCAP: '8'!$P$61
Name DISCAP: #REF!
Name EXPESP: '1'!$O$24
Name EXPESP: '2'!$O$24
Name EXPESP: '3'!$O$24
Name EXPESP: '4'!$O$24
Name EXPESP: '5'!$O$24
Name EXPESP: '6'!$O$24
Name EXPESP: '7'!$O$24
Name EXPESP: '8'!$O$24
Name EXPESP: #REF!
Name EXPGRAL: '1'!$O$13
Name EXPGRAL: '2'!$O$13
Name EXPGRAL: '3'!$O$13
Name EXPGRAL: '4'!$O$13
Name EXPGRAL: '5'!$O$13
Name EXPGRAL: '6'!$O$13
Name EXPGRAL: '7'!$O$13
Name EXPGRAL: '8'!$O$13
Name EXPGRAL: #REF!
Name FCALIDAD: '1'!$P$55
Name FCALIDAD: '2'!$P$55
Name FCALIDAD: '3'!$P$55
Name FCALIDAD: '4'!$P$55
Name FCALIDAD: '5'!$P$55
Name FCALIDAD: '6'!$P$55
Name FCALIDAD: '7'!$P$55
Name FCALIDAD: '8'!$P$55
Name FCALIDAD: #REF!
Name FORMATO8: '1'!$P$36
Name FORMATO8: '2'!$P$36
Name FORMATO8: '3'!$P$36
Name FORMATO8: '4'!$P$36
Name FORMATO8: '5'!$P$36
Name FORMATO8: '6'!$P$36
Name FORMATO8: '7'!$P$36
Name FORMATO8: '8'!$P$36
Name FORMATO8: #REF!
Name FTECNICAS: '1'!$P$48
Name FTECNICAS: '2'!$P$48
Name FTECNICAS: '3'!$P$48
Name FTECNICAS: '4'!$P$48
Name FTECNICAS: '5'!$P$48
Name FTECNICAS: '6'!$P$48

Sheet RESUMEN
G1: INFORME EVALUACIÓN TÉCNICA GENERAL
G2: DIRECCIÓN DE TELECOMUNICACIONES Y AYUDAS A LA NAVEGACIÓN AÉREA
G4: 2024
B5: PROCESO | C5: 24001216 H3 DE 2024 | D5: OBJETO | G5: REALIZAR MANTENIMIENTO A LOS SISTEMAS UPS DEL CENTRO DE GESTION AERONAUTICA DE COLOMBIA CGAC, INCLUYE RENOVAR BANCOS DE BATERÍAS POR LOTES. (VIGENCIA FUTURA). | S5: VALOR PRESUPUESTO OFICIAL: | U5: 1927454798
G6: REQUISITOS HABILITANTES | N6: PONDERACIÓN
B7: N° | C7: NOMBRE PROPONENTE | F7: ¿SE PRESENTA AL LOTE 2? | G7: EXPERIENCIA GENERAL PROPONENTE | H7: EVALUACION EXPERIENCIA ESPECIFICA PROPONENTE | I7: FORMATO No. 8 | J7: CARTA DE COMPROMISO | K7: Certificado de Representación y Distribución Autorizada de los Bienes. | L7: Certificado de Garantía de los Bienes o Servicios. | M7: Fichas Técnicas | N7: FACTOR DE CALIDAD (18,5 PUNTOS) | O7: APOYO A LA INDUSTRIA NACIONAL – LEY 816 DE 2003 (10 PUNTOS) | P7: PROPONENTES CON TRABAJADORES CON DISCAPACIDAD. (1 Punto) | Q7: EMPRENDIMIENTO Y EMPRESAS DE MUJERES (0,25 PUNTOS) | R7: MIPYME DOMICILIADA EN COLOMBIA (0,25 PUNTOS) | S7: SUBTOTAL PUNTAJE | T7: F7 PROPUESTA ARTIFICIALMENTE BAJA | U7: SUPERA PRESUPUESTO | V7: EVALUACIÓN LISTA DE PRECIOS DE REFERENCIA | W7: EVALUACIÓN FINAL | X7: PUNTAJE FORMATO 7 | Y7: PUNTAJE FINAL
B8: 8 | C8: SISELCOM SAS | F8: NO
B9: 7 | C9: SUCOMPUTO SAS | F9: SI | G9: {=IFERROR(INDIRECT("'"&$B9&"'!EXPGRAL",1),"-")} -> CUMPLE | H9: {=IFERROR(INDIRECT("'"&$B9&"'!EXPESP",1),"-")} -> RECHAZADO | I9: {=IFERROR(INDIRECT("'"&$B9&"'!FORMATO8",1),"-")} -> CUMPLE | J9: {=IFERROR(INDIRECT("'"&$B9&"'!CARTA",1),"-")} -> CUMPLE | K9: =M9 -> RECHAZADO | L9: {=IFERROR(INDIRECT("'"&$B9&"'!GARANTIA",1),"-")} -> CUMPLE | M9: {=IFERROR(INDIRECT("'"&$B9&"'!FTECNICAS",1),"-")} -> RECHAZADO | N9: {=IFERROR(INDIRECT("'"&$B9&"'!FCALIDAD",1),"-")} -> 18.75 | O9: {=IFERROR(INDIRECT("'"&$B9&"'!INDNAL",1),"-")} -> 10 | P9: {=IFERROR(INDIRECT("'"&$B9&"'!DISCAP",1),"-")} -> 0 | Q9: {=IFERROR(INDIRECT("'"&$B9&"'!MUJERES",1),"-")} -> 0.25 | R9: {=IFERROR(INDIRECT("'"&$B9&"'!MIPYME",1),"-")} -> 0.25 | S9: =+SUM(N9:R9) -> 29.25 | T9: =+'F7 PROPUESTA ECONOMICA'!D5 -> CUMPLE | U9: =+'F7 PROPUESTA ECONOMICA'!E5 -> CUMPLE | V9: =+'F7 PROPUESTA ECONOMICA'!F10 -> RECHAZADO | W9: =+M9 -> RECHAZADO | X9: =M9 -> RECHAZADO | Y9: =M9 -> RECHAZADO
B10: 6 | C10: UT INVER TES AEROCIVIL MATTOS | F10: SI | G10: {=IFERROR(INDIRECT("'"&$B10&"'!EXPGRAL",1),"-")} -> CUMPLE | H10: {=IFERROR(INDIRECT("'"&$B10&"'!EXPESP",1),"-")} -> CUMPLE | I10: {=IFERROR(INDIRECT("'"&$B10&"'!FORMATO8",1),"-")} -> CUMPLE | J10: {=IFERROR(INDIRECT("'"&$B10&"'!CARTA",1),"-")} -> CUMPLE | K10: =M9 -> RECHAZADO | L10: {=IFERROR(INDIRECT("'"&$B10&"'!GARANTIA",1),"-")} -> CUMPLE | M10: {=IFERROR(INDIRECT("'"&$B10&"'!FTECNICAS",1),"-")} -> CUMPLE | N10: {=IFERROR(INDIRECT("'"&$B10&"'!FCALIDAD",1),"-")} -> 18.75 | O10: {=IFERROR(INDIRECT("'"&$B10&"'!INDNAL",1),"-")} -> 10 | P10: {=IFERROR(INDIRECT("'"&$B10&"'!DISCAP",1),"-")} -> 0 | Q10: {=IFERROR(INDIRECT("'"&$B10&"'!MUJERES",1),"-")} -> 0 | R10: {=IFERROR(INDIRECT("'"&$B10&"'!MIPYME",1),"-")} -> 0.25 | S10: =+SUM(N10:R10) -> 29 | T10: =+'F7 PROPUESTA ECONOMICA'!D6 -> CUMPLE | U10: =+'F7 PROPUESTA ECONOMICA'!E6 -> CUMPLE | V10: =+'F7 PROPUESTA ECONOMICA'!F6 -> CUMPLE | W10: =M9 -> RECHAZADO | X10: =+K10 -> RECHAZADO | Y10: =M9 -> RECHAZADO
B11: 5 | C11: COTEL SAS | F11: SI | G11: {=IFERROR(INDIRECT("'"&$B11&"'!EXPGRAL",1),"-")} -> CUMPLE | H11: {=IFERROR(INDIRECT("'"&$B11&"'!EXPESP",1),"-")} -> CUMPLE | I11: {=IFERROR(INDIRECT("'"&$B11&"'!FORMATO8",1),"-")} -> CUMPLE | J11: {=IFERROR(INDIRECT("'"&$B11&"'!CARTA",1),"-")} -> CUMPLE | K11: =M9 -> RECHAZADO | L11: {=IFERROR(INDIRECT("'"&$B11&"'!GARANTIA",1),"-")} -> CUMPLE | M11: {=IFERROR(INDIRECT("'"&$B11&"'!FTECNICAS",1),"-")} -> RECHAZADO | N11: {=IFERROR(INDIRECT("'"&$B11&"'!FCALIDAD",1),"-")} -> 18.75 | O11: {=IFERROR(INDIRECT("'"&$B11&"'!INDNAL",1),"-")} -> 10 | P11: {=IFERROR(INDIRECT("'"&$B11&"'!DISCAP",1),"-")} -> 0 | Q11: {=IFERROR(INDIRECT("'"&$B11&"'!MUJERES",1),"-")} -> 0 | R11: {=IFERROR(INDIRECT("'"&$B11&"'!MIPYME",1),"-")} -> 0 | S11: =+SUM(N11:R11) -> 28.75 | T11: =+'F7 PROPUESTA ECONOMICA'!D7 -> CUMPLE | U11: =+'F7 PROPUESTA ECONOMICA'!E7 -> CUMPLE | V11: =+'F7 PROPUESTA ECONOMICA'!F7 -> CUMPLE | W11: =+M11 -> RECHAZADO | X11: =M11 -> RECHAZADO | Y11: =M9 -> RECHAZADO
B12: 4 | C12: ASAC SAS | F12: SI | G12: {=IFERROR(INDIRECT("'"&$B12&"'!EXPGRAL",1),"-")} -> RECHAZADO | H12: {=IFERROR(INDIRECT("'"&$B12&"'!EXPESP",1),"-")} -> RECHAZADO | I12: {=IFERROR(INDIRECT("'"&$B12&"'!FORMATO8",1),"-")} -> CUMPLE | J12: {=IFERROR(INDIRECT("'"&$B12&"'!CARTA",1),"-")} -> RECHAZADO | K12: {=IFERROR(INDIRECT("'"&$B12&"'!REPBIENES",1),"-")} -> RECHAZADO | L12: {=IFERROR(INDIRECT("'"&$B12&"'!GARANTIA",1),"-")} -> RECHAZADO | M12: {=IFERROR(INDIRECT("'"&$B12&"'!FTECNICAS",1),"-")} -> RECHAZADO | N12: {=IFERROR(INDIRECT("'"&$B12&"'!FCALIDAD",1),"-")} -> 18.75 | O12: {=IFERROR(INDIRECT("'"&$B12&"'!INDNAL",1),"-")} -> 10 | P12: {=IFERROR(INDIRECT("'"&$B12&"'!DISCAP",1),"-")} -> 0 | Q12: {=IFERROR(INDIRECT("'"&$B12&"'!MUJERES",1),"-")} -> 0.25 | R12: {=IFERROR(INDIRECT("'"&$B12&"'!MIPYME",1),"-")} -> 0.25 | S12: =+SUM(N12:R12) -> 29.25 | T12: =+'F7 PROPUESTA ECONOMICA'!D8 -> CUMPLE | U12: =+'F7 PROPUESTA ECONOMICA'!E8 -> CUMPLE | V12: =+'F7 PROPUESTA ECONOMICA'!F8 -> CUMPLE | W12: =+M12 -> RECHAZADO | X12: =M12 -> RECHAZADO | Y12: =M9 -> RECHAZADO
B13: 3 | C13: CONSORCIO E TX 2024 | F13: SI | G13: {=IFERROR(INDIRECT("'"&$B13&"'!EXPGRAL",1),"-")} -> CUMPLE | H13: {=IFERROR(INDIRECT("'"&$B13&"'!EXPESP",1),"-")} -> RECHAZADO | I13: {=IFERROR(INDIRECT("'"&$B13&"'!FORMATO8",1),"-")} -> CUMPLE | J13: {=IFERROR(INDIRECT("'"&$B13&"'!CARTA",1),"-")} -> CUMPLE | K13: {=IFERROR(INDIRECT("'"&$B13&"'!REPBIENES",1),"-")} -> RECHAZADO | L13: {=IFERROR(INDIRECT("'"&$B13&"'!GARANTIA",1),"-")} -> RECHAZADO | M13: {=IFERROR(INDIRECT("'"&$B13&"'!FTECNICAS",1),"-")} -> RECHAZADO | N13: {=IFERROR(INDIRECT("'"&$B13&"'!FCALIDAD",1),"-")} -> 18.75 | O13: {=IFERROR(INDIRECT("'"&$B13&"'!INDNAL",1),"-")} -> 10 | P13: {=IFERROR(INDIRECT("'"&$B13&"'!DISCAP",1),"-")} -> 0 | Q13: {=IFERROR(INDIRECT("'"&$B13&"'!MUJERES",1),"-")} -> 0 | R13: {=IFERROR(INDIRECT("'"&$B13&"'!MIPYME",1),"-")} -> 0 | S13: =+SUM(N13:R13) -> 28.75 | T13: =+'F7 PROPUESTA ECONOMICA'!D9 -> CUMPLE | U13: =+'F7 PROPUESTA ECONOMICA'!E9 -> CUMPLE | V13: =+'F7 PROPUESTA ECONOMICA'!F9 -> CUMPLE | W13: =+M13 -> RECHAZADO | X13: =M13 -> RECHAZADO | Y13: =M9 -> RECHAZADO
B14: 2 | C14: GOURIYU SAS | F14: SI | G14: {=IFERROR(INDIRECT("'"&$B14&"'!EXPGRAL",1),"-")} -> RECHAZADO | H14: {=IFERROR(INDIRECT("'"&$B14&"'!EXPESP",1),"-")} -> RECHAZADO | I14: {=IFERROR(INDIRECT("'"&$B14&"'!FORMATO8",1),"-")} -> RECHAZADO | J14: {=IFERROR(INDIRECT("'"&$B14&"'!CARTA",1),"-")} -> RECHAZADO | K14: {=IFERROR(INDIRECT("'"&$B14&"'!REPBIENES",1),"-")} -> RECHAZADO | L14: {=IFERROR(INDIRECT("'"&$B14&"'!GARANTIA",1),"-")} -> RECHAZADO | M14: {=IFERROR(INDIRECT("'"&$B14&"'!FTECNICAS",1),"-")} -> RECHAZADO | N14: {=IFERROR(INDIRECT("'"&$B14&"'!FCALIDAD",1),"-")} -> 18.75 | O14: {=IFERROR(INDIRECT("'"&$B14&"'!INDNAL",1),"-")} -> 0 | P14: {=IFERROR(INDIRECT("'"&$B14&"'!DISCAP",1),"-")} -> 0 | Q14: {=IFERROR(INDIRECT("'"&$B14&"'!MUJERES",1),"-")} -> 0.25 | R14: {=IFERROR(INDIRECT("'"&$B14&"'!MIPYME",1),"-")} -> 0.25 | S14: =+SUM(N14:R14) -> 19.25 | T14: =+'F7 PROPUESTA ECONOMICA'!D10 -> CUMPLE | U14: =+'F7 PROPUESTA ECONOMICA'!E10 -> CUMPLE | V14: =+'F7 PROPUESTA ECONOMICA'!F5 -> CUMPLE | W14: =+M14 -> RECHAZADO | X14: =M14 -> RECHAZADO | Y14: =M9 -> RECHAZADO
B15: 1 | C15: UT COMWSDT UPS | F15: SI | G15: {=IFERROR(INDIRECT("'"&$B15&"'!EXPGRAL",1),"-")} -> CUMPLE | H15: {=IFERROR(INDIRECT("'"&$B15&"'!EXPESP",1),"-")} -> CUMPLE | I15: {=IFERROR(INDIRECT("'"&$B15&"'!FORMATO8",1),"-")} -> CUMPLE | J15: {=IFERROR(INDIRECT("'"&$B15&"'!CARTA",1),"-")} -> CUMPLE | K15: {=IFERROR(INDIRECT("'"&$B15&"'!REPBIENES",1),"-")} -> CUMPLE | L15: {=IFERROR(INDIRECT("'"&$B15&"'!GARANTIA",1),"-")} -> CUMPLE | M15: {=IFERROR(INDIRECT("'"&$B15&"'!FTECNICAS",1),"-")} -> CUMPLE | N15: {=IFERROR(INDIRECT("'"&$B15&"'!FCALIDAD",1),"-")} -> 18.75 | O15: {=IFERROR(INDIRECT("'"&$B15&"'!INDNAL",1),"-")} -> 10 | P15: {=IFERROR(INDIRECT("'"&$B15&"'!DISCAP",1),"-")} -> 1 | Q15: {=IFERROR(INDIRECT("'"&$B15&"'!MUJERES",1),"-")} -> 0.25 | R15: {=IFERROR(INDIRECT("'"&$B15&"'!MIPYME",1),"-")} -> 0 | S15: =+SUM(N15:R15) -> 30 | T15: =+'F7 PROPUESTA ECONOMICA'!D4 -> CUMPLE | U15: =+'F7 PROPUESTA ECONOMICA'!E4 -> CUMPLE | V15: =+'F7 PROPUESTA ECONOMICA'!F4 -> CUMPLE | W15: =IF(AND(G15="CUMPLE",H15="CUMPLE",I15="CUMPLE",J15="CUMPLE",K15="CUMPLE",L15="CUMPLE",M15="CUMPLE",T15="CUMPLE",U15="CUMPLE"),SUM(S15:S15),"NO CUMPLE") -> 30 | X15: =+'F7 PUNTAJE'!D15 -> 69.75 | Y15: =+X15+S15 -> 99.75
N16: =IFERROR(IF(COUNTIF(#REF!,1)>1,"REVISAR EMPATE",VLOOKUP(1,$B$8:$E$15,3,0)),"PENDIENTE") -> PENDIENTE | R16: PUNTAJE GANADOR

Sheet 1
A1: UNIDAD ADMINISTRATIVA ESPECIAL DE AERONAUTICA CIVIL
A2: =+RESUMEN!C5 -> 24001216 H3 DE 2024
A3: =+RESUMEN!G5 -> REALIZAR MANTENIMIENTO A LOS SISTEMAS UPS DEL CENTRO DE GESTION AERONAUTICA DE COLOMBIA CGAC, INCLUYE RENOVAR BANCOS DE BATERÍAS POR LOTES. (VIGENCIA FUTURA).
A4: =+RESUMEN!B15 -> 1 | B4: =+RESUMEN!C15 -> UT COMWSDT UPS | J4: CONFORMACIÓN | P4: % PARTICIPACIÓN
J5: Soluciones De Tecnología E Ingenieria S.A.S | P5: 0.57
J6: Comware S. A | P6: 0.43
J9: TOTAL | P9: =SUM(P5:P8) -> 1
A10: CÓDIGOS | B10: 72151500 81101700 26111700 | D10: PRESUPUESTO A EVALUAR (P.O) | J10: =RESUMEN!U5 -> 1927454798 | L10: PUNTAJE OBTENIDO: | N10: =P69 -> 30 | O10: PO SMMLV | P10: =J10/'Serie Historica SMMLV'!C47 -> 1482.6575
A11: REQUISITOS HABILITANTES (CUMPLE /NO CUMPLE)
A12: EXPERIENCIA GENERAL PROPONENTE | O12: EVALUACIÓN
A13: La AEROCIVIL verificará la experiencia general del proponente con la información relacionada en el Formato No.19A – Experiencia General del Proponente, donde debe diligenciar la información de hasta cuatro (4) contratos registrados en el RUP e identificados en al menos dos (2) de los códigos UNSPSC requeridos y que, sumados su valor total, expresado en SMMLV, sea igual o mayor al cien por ciento (100%) del presupuesto del lote al que se presenta (Lote 1 correspondiente a 613,74 SMMLV) y (Lote 2 correspondiente a 1.482,66 SMMLV) Las consideraciones a tener en cuenta para la acreditación de la experiencia general se encuentran definidas en el complementario al pliego de condiciones. Nota 1: Los contratos presentados para la experiencia general podrán ser los mismos para acreditar la experiencia específica, siempre que cumplan los requisitos para dicha experiencia. Nota 2: Si el oferente se presenta a los dos (2) lotes deberá acreditar el 100% del presupuesto total de los dos lotes (2.096,4 SMMLV) con un máximo de cinco (5) contratos. | O13: =IF(AND(O21>=$P$10,O21<>0),"CUMPLE", "NO CUMPLE") -> CUMPLE
A14: 100% PO EN SMMLV | B14: CTO´S | C14: N° CONSECUTIVO EN EL RUP | D14: CONTRATANTE | E14: OBJETO | G14: PRESENTA DOCUMENTOS EN LISTADOS | H14: ="CUMPLE CODIGOS? "&B10 -> CUMPLE CODIGOS? 72151500 81101700 26111700 | I14: CUMPLE EXPERIENCIA? | J14: QUIEN APORTA LA EXPERIENCIA? | K14: AÑO DE TERMINACION DEL CONTRATO | L14: VALOR TOTAL EN PESOS | M14: VALOR TOTAL SMMLV - RUP | N14: % PARTICIPACION | O14: VALOR TOTAL AFECTADO | P14: CUMPLE / NO CUMPLE
A15: =+P10 -> 1482.6575 | B15: CTO 1 | C15: 160 | D15: CONSORCIO CONSTRUCTOR NUEVO DORADO-CCND-CO-ST-SU-004-2013 | E15: Instalacion , Sumnistro y puesta en marcha de UPS para la Red Subestacion de la Torre de Control | G15: SI | H15: SI | I15: SI | J15: Comware S. A | K15: 30/04/2014 | L15: 1921764312 | M15: 3119.75 | N15: 1 | O15: =IF(AND(H15="SI",I15="SI")=TRUE,M15*N15,"") -> 3119.75 | P15: CUMPLE
B16: CTO 2 | C16: 159 | D16: CONSORCIO CONSTRUCTOR NUEVO DORADO-CCND-CO-PMA7-SI-035-2013 | E16: Suministro e Instalacion y puesta en marcha de Ups conforme a la oferta para el plan maestro Hito 7 del aeropuerto internacional el Dorado de la Ciudad de Bogota | G16: SI | H16: SI | I16: SI | J16: Comware S. A | K16: 30/09/2013 | L16: 378332925 | M16: 641.79 | N16: 1 | O16: =IF(AND(H16="SI",I16="SI")=TRUE,M16*N16,"") -> 641.79 | P16: CUMPLE
B17: CTO 3 | C17: 64 | D17: CONSORCIO CONSTRUCTOR NUEVO DORADO CCND | E17: Ingenieria de Detalle,Suministro, Instalacion y Puesta en servicio de UPS conforme a las descripcion de la oferta en Paralelo redundante completo para terminal unificado de pasajeros del Aeropuerto el Dorado, actividades que Incluyen el Diseño, Fabricacion Emsamble, Suministro, Montaje, Pruebas y puesta en servicio de las unidades de potencia interrumpida -(10) UPS conformadas por (2) Modulos Redundantes . | G17: SI | H17: SI | I17: SI | J17: Comware S. A | K17: 30/10/2013 | L17: 4.5418221e+09 | M17: 7704.53 | N17: 1 | O17: =IF(AND(H17="SI",I17="SI")=TRUE,M17*N17,"") -> 7704.53 | P17: CUMPLE
B18: CTO 4 | C18: 305 | D18: Secretaria distrital de hacienda 170332-0-2017 | E18: Prestar los servicios de mantenimiento preventivo y correctivo de elementos que soportan la infraestructura tecnológica del Centro de cómputo y centros de cableado de la SDH. | G18: SI | H18: SI | I18: SI | J18: Comware S. A | K18: 30/11/2020 | L18: 1.1878985e+09 | M18: 2653.45 | N18: 0.51 | O18: =IF(AND(H18="SI",I18="SI")=TRUE,M18*N18,"") -> 1353.2595 | P18: CUMPLE
B19: CTO 5 | O19: =IF(AND(H19="SI",I19="SI")=TRUE,M19*N19,"")
B20: CTO 6 | O20: =IF(AND(H20="SI",I20="SI")=TRUE,M20*N20,"")
K21: SUMATORIA CONTRATO EN SMMLV | O21: =SUMIF(P15:P20,"CUMPLE",O15:O20) -> 12819.329
A22: OBSERVACIONES:
A23: EVALUACION EXPERIENCIA ESPECIFICA PROPONENTE | O23: EVALUACIÓN
A24: La AEROCIVIL verificará la experiencia específica del proponente con hasta cuatro (4) certificaciones de contratos o actas de liquidación o actas de terminación de contratos celebrados con entidades públicas o privadas, ejecutados y terminados; debidamente registrados en el RUP e identificados en al menos dos (2) de los códigos UNSPSC requeridos en la experiencia general; que sumados su valor total, expresado en SMMLV, sea igual o mayor al cien por ciento (100%) del presupuesto oficial (o del lote al que se presenta) (Lote 1 correspondiente a 613,74 SMMLV) y (Lote 2 correspondiente a 1.482,66 SMMLV), y cuyo objeto, actividades u obligaciones contractuales esté relacionadas con: PRESTACIÓN DE SERVICIO DE MANTENIMIENTO DE UPS MÍNIMO DE 160 KVA Y/O • INSTALACIÓN Y PUESTA EN FUNCIONAMIENTO DE UPS MÍNIMO DE 160 KVA Las consideraciones a tener en cuenta para la acreditación de la experiencia específica se encuentran definidas en el complementario al pliego de condiciones. | O24: =IF(AND(O32>=$P$10,O32<>0),"CUMPLE","NO CUMPLE") -> CUMPLE
A25: CERTIFICACION No. | B25: CTO´S | C25: N° CONSECUTIVO EN EL RUP | D25: CONTRATANTE | E25: OBJETO | G25: PRESENTA DOCUMENTOS ENLISTADOS | H25: CUMPLE CODIGOS? | I25: OBJETO, ACTIVI U OBLIGACIONES RELACIONADAS CON ACTIVI REQUERIDAS | J25: QUIEN APORTA LA EXPERIENCIA? | K25: AÑO DE TERMINACION DEL CONTRATO | L25: VALOR TOTAL PESOS | M25: VALOR TOTAL SMMLV - RUP | N25: % PARTICIPACION | O25: VALOR TOTAL AFECTADO | P25: CUMPLE / NO CUMPLE
A26: 1 | B26: CTO 1 | C26: 160 | D26: CONSORCIO CONSTRUCTOR NUEVO DORADO-CCND-CO-ST-SU-004-2013 | E26: Instalacion , Sumnistro y puesta en marcha de UPS para la Red Subestacion de la Torre de Control | G26: NO | H26: SI | I26: SI | J26: Comware S. A | K26: 30/04/2014 | L26: 1921764312 | M26: 3119.75 | N26: 1 | O26: =IF(AND(H26="SI",I26="SI")=TRUE,M26*N26,"") -> 3119.75 | P26: CUMPLE
A27: 2 | B27: CTO 2 | C27: 159 | D27: CONSORCIO CONSTRUCTOR NUEVO DORADO-CCND-CO-PMA7-SI-035-2013 | E27: Suministro e Instalacion y puesta en marcha de Ups conforme a la oferta para el plan maestro Hito 7 del aeropuerto internacional el Dorado de la Ciudad de Bogota | G27: NO | H27: SI | I27: SI | J27: Comware S. A | K27: 30/09/2013 | L27: 0 | M27: 0 | N27: 0 | O27: 0 | P27: NO CUMPLE
A28: 3 | B28: CTO 3 | O28: =IF(AND(H28="SI",I28="SI")=TRUE,M28*N28,"")
A29: 4 | B29: CTO 4 | O29: =IF(AND(H29="SI",I29="SI")=TRUE,M29*N29,"")
A30: 5 | B30: CTO 5 | O30: =IF(AND(H30="SI",I30="SI")=TRUE,M30*N30,"")
A31: 6 | B31: CTO 6 | O31: =IF(AND(H31="SI",I31="SI")=TRUE,M31*N31,"")
K32: SUMATORIA CONTRATO EN SMMLV | O32: =SUMIF(P26:P31,"CUMPLE",O26:O31) -> 3119.75
A33: OBSERVACIONES: | C33: RESULTADO DE EVALUACION PRELIMINAR El documento aportado por el proponente para CTO1 y CTO2 indican UPS de 400 y 160 kVA respectivamente que "hacen parte del contrato" , no siendo claro el porcentaje sobre el total del presupuesto de los contratos certificados que corresponde a dichas UPS, la certificacion no cumple con lo solicitado en el pliego de condiciones en el item 4.4.3.1 que indica: "iii. En el caso de que en los contratos acreditados, adicionalmente se hayan ejecutado otras adquisiciones o servicios, diferentes o no similares a los solicitados en el presente proceso de contratación, no se tendrán en cuenta estos valores para efectos de acreditar la experiencia requerida. Para lo anterior el proponente debe aportar los documentos contractuales que considere y en donde se pueda verificar claramente el valor discriminado de los bienes suministrados y/o servicios prestados". Se solicita la relacion del total de las actividades, bienes y/o servicios ejecutados en el contrato con el fin de discriminar los valores de cada una de las UPS. RESULTADO DE EVALUACION SUBSANACIÓN EL contrato con numero de consecutivo RUP 159 indica instalación de ups de 150 KVA, el mínimo requerido es de 160 KVA según. Por ende la certificación no cumple con lo solicitado en el pliego de condiciones 4.4.3. Experiencia especifica del proponente, ¨La AEROCIVIL verificará la experiencia específica del proponente con hasta cuatro (4) certificaciones de contratos o actas de liquidación o actas de terminación de contratos celebrados con entidades públicas o privadas, ejecutados y terminados; debidamente registrados en el RUP e identificados en al menos dos (2) de los códigos UNSPSC requeridos en la experiencia general; que sumados su valor total, expresado en SMMLV, sea igual o mayor al cien por ciento (100%) del presupuesto oficial (o del lote al que se presenta) (Lote 1 correspondiente a 613,74 SMMLV) y (Lote 2 correspondiente a 1.482,66 SMMLV), y cuyo objeto, actividades u obligaciones contractuales esté relacionadas con: • PRESTACIÓN DE SERVICIO DE MANTENIMIENTO DE UPS MÍNIMO DE 160 KVA Y/O • INSTALACIÓN Y PUESTA EN FUNCIONAMIENTO DE UPS MÍNIMO DE 160 KVÄ
A34: OTROS ASPECTOS TÉCNICOS DE OBLIGATORIO CUMPLIMIENTO
A35: FORMATO No. 8 | P35: EVALUACIÓN
A36: Contiene la totalidad de condiciones y especificaciones técnicas de los bienes y/o servicios solicitados por la Entidad y que debe cumplir el contratista para el logro del objeto del presente proceso. Los requerimientos descritos en dicho formato técnico son los mínimos exigidos por la Entidad, de obligatorio cumplimiento y se constituirán en obligaciones para el contratista. Con la presentación y firma del “Formato 14 - Carta de Presentación de la Oferta”, se entiende que el proponente conoce y acepta todos los requisitos allí establecidos. En tal sentido, no será necesario aportar el “Formato No. 8 – Especificaciones Técnicas” con la propuesta y en consecuencia no será objeto de verificación del comité evaluador. | P36: CUMPLE
A37: OBSERVACIONES:
A38: CARTA DE COMPROMISO | P38: EVALUACIÓN
A39: El proponente debe anexar junto con la propuesta una Carta de Compromiso, suscrita por parte del representante legal, donde se compromete a presentar el personal requerido del formato 8 – Especificaciones Técnicas, el cual corresponde a: REVISAR TAMBIÉN Numeral 4.4.5 | P39: CUMPLE
A40: OBSERVACIONES:
A41: Certificado de Representación y Distribución Autorizada de los Bienes. | P41: EVALUACIÓN
A42: El proponente debe anexar junto con la propuesta el Certificado de Representación y Distribución Autorizada de los Bienes, expedido por el Fabricante o por el Distribuidor Autorizado por el Fabricante de los bienes ofrecidos, en el cual se indique que está autorizado para distribuir estos bienes objeto de la presente contratación. La fecha de expedición de la certificación debe ser de máximo seis (6) meses anteriores a la fecha de cierre del presente proceso de contratación. Este Certificado puede estar dirigido a cualquiera de los integrantes del Consorcio o Unión Temporal en caso de presentar la oferta bajo esta modalidad. En caso de que el proponente no sea fabricante y de presentarse más de un (1) distribuidor autorizado, el proponente deberá aportar toda la cadena de certificaciones que demuestren las autorizaciones iniciando desde el fabricante del bien. El certificado debe ser presentado por los fabricantes de las UPS objeto del contrato. | P42: CUMPLE
...

Sheet 2
A1: UNIDAD ADMINISTRATIVA ESPECIAL DE AERONAUTICA CIVIL
A2: =+[2]RESUMEN!C5 -> 24001216 H3 DE 2024
A3: =+[2]RESUMEN!G5 -> REALIZAR MANTENIMIENTO A LOS SISTEMAS UPS DEL CENTRO DE GESTION AERONAUTICA DE COLOMBIA CGAC, INCLUYE RENOVAR BANCOS DE BATERÍAS POR LOTES. (VIGENCIA FUTURA).
A4: =+[2]RESUMEN!B9 -> 7 | B4: =+RESUMEN!C14 -> GOURIYU SAS | J4: CONFORMACIÓN | P4: % PARTICIPACIÓN
J5: =+B4 -> GOURIYU SAS | P5: 1
J9: TOTAL | P9: =SUM(P5:P8) -> 1
A10: CÓDIGOS | B10: 72151500 81101700 26111700 | D10: PRESUPUESTO A EVALUAR (P.O) | J10: =+RESUMEN!U5 -> 1927454798 | L10: PUNTAJE OBTENIDO: | N10: =P69 -> 19.25 | O10: PO SMMLV | P10: =+J10/'Serie Historica SMMLV'!C47 -> 1482.6575
A11: REQUISITOS HABILITANTES (CUMPLE /NO CUMPLE)
A12: EXPERIENCIA GENERAL PROPONENTE | O12: EVALUACIÓN
A13: La AEROCIVIL verificará la experiencia general del proponente con la información relacionada en el Formato No.19A – Experiencia General del Proponente, donde debe diligenciar la información de hasta cuatro (4) contratos registrados en el RUP e identificados en al menos dos (2) de los códigos UNSPSC requeridos y que, sumados su valor total, expresado en SMMLV, sea igual o mayor al cien por ciento (100%) del presupuesto del lote al que se presenta (Lote 1 correspondiente a 613,74 SMMLV) y (Lote 2 correspondiente a 1.482,66 SMMLV) Las consideraciones a tener en cuenta para la acreditación de la experiencia general se encuentran definidas en el complementario al pliego de condiciones. Nota 1: Los contratos presentados para la experiencia general podrán ser los mismos para acreditar la experiencia específica, siempre que cumplan los requisitos para dicha experiencia. Nota 2: Si el oferente se presenta a los dos (2) lotes deberá acreditar el 100% del presupuesto total de los dos lotes (2.096,4 SMMLV) con un máximo de cinco (5) contratos. | O13: RECHAZADO
A14: 100% PO EN SMMLV | B14: CTO´S | C14: N° CONSECUTIVO EN EL RUP | D14: CONTRATANTE | E14: OBJETO | G14: PRESENTA DOCUMENTOS EN LISTADOS | H14: ="CUMPLE CODIGOS? "&B10 -> CUMPLE CODIGOS? 72151500 81101700 26111700 | I14: CUMPLE EXPERIENCIA? | J14: QUIEN APORTA LA EXPERIENCIA? | K14: AÑO DE TERMINACION DEL CONTRATO | L14: VALOR TOTAL EN PESOS | M14: VALOR TOTAL SMMLV - RUP | N14: % PARTICIPACION | O14: VALOR TOTAL AFECTADO | P14: CUMPLE / NO CUMPLE
A15: =+P10 -> 1482.6575 | B15: CTO 1 | O15: =IF(AND(H15="SI",I15="SI")=TRUE,M15*N15,"")
B16: CTO 2 | O16: =IF(AND(H16="SI",I16="SI")=TRUE,M16*N16,"")
B17: CTO 3 | O17: =IF(AND(H17="SI",I17="SI")=TRUE,M17*N17,"")
B18: CTO 4 | O18: =IF(AND(H18="SI",I18="SI")=TRUE,M18*N18,"")
B19: CTO 5 | O19: =IF(AND(H19="SI",I19="SI")=TRUE,M19*N19,"")
B20: CTO 6 | O20: =IF(AND(H20="SI",I20="SI")=TRUE,M20*N20,"")
K21: SUMATORIA CONTRATO EN SMMLV | O21: =SUMIF(P15:P20,"CUMPLE",O15:O20) -> 0
A22: OBSERVACIONES: | B22: El proponente no aclaro lo solicitado por la Entidad en la evaluación preliminar por tanto incurrió en lo descrito en el numeral 3.17. CAUSALES DE RECHAZO , numeralal (i), asi: “(…)(i) Cuando al Proponente en forma individual o conjunta se le haya requerido con el propósito de subsanar o aclarar o aportar un documento de la propuesta y no lo efectúe dentro del plazo indicado o no lo realice correctamente o de acuerdo con lo solicitado, siempre que la subsanación, aclaración o aporte requerido sea necesario para cumplir un requisito habilitante en los términos establecidos en el presente documento.(…)” CONCLUSION: RECHAZO
A23: EVALUACION EXPERIENCIA ESPECIFICA PROPONENTE | O23: EVALUACIÓN
A24: La AEROCIVIL verificará la experiencia específica del proponente con hasta cuatro (4) certificaciones de contratos o actas de liquidación o actas de terminación de contratos celebrados con entidades públicas o privadas, ejecutados y terminados; debidamente registrados en el RUP e identificados en al menos dos (2) de los códigos UNSPSC requeridos en la experiencia general; que sumados su valor total, expresado en SMMLV, sea igual o mayor al cien por ciento (100%) del presupuesto oficial (o del lote al que se presenta) (Lote 1 correspondiente a 613,74 SMMLV) y (Lote 2 correspondiente a 1.482,66 SMMLV), y cuyo objeto, actividades u obligaciones contractuales esté relacionadas con: PRESTACIÓN DE SERVICIO DE MANTENIMIENTO DE UPS MÍNIMO DE 160 KVA Y/O • INSTALACIÓN Y PUESTA EN FUNCIONAMIENTO DE UPS MÍNIMO DE 160 KVA Las consideraciones a tener en cuenta para la acreditación de la experiencia específica se encuentran definidas en el complementario al pliego de condiciones. | O24: RECHAZADO
A25: CERTIFICACION No. | B25: CTO´S | C25: N° CONSECUTIVO EN EL RUP | D25: CONTRATANTE | E25: OBJETO | G25: PRESENTA DOCUMENTOS ENLISTADOS | H25: CUMPLE CODIGOS? | I25: OBJETO, ACTIVI U OBLIGACIONES RELACIONADAS CON ACTIVI REQUERIDAS | J25: QUIEN APORTA LA EXPERIENCIA? | K25: AÑO DE TERMINACION DEL CONTRATO | L25: VALOR TOTAL PESOS | M25: VALOR TOTAL SMMLV - RUP | N25: % PARTICIPACION | O25: VALOR TOTAL AFECTADO | P25: CUMPLE / NO CUMPLE
A26: 1 | B26: CTO 1 | O26: =IF(AND(H26="SI",I26="SI")=TRUE,M26*N26,"")
A27: 2 | B27: CTO 2 | O27: =IF(AND(H27="SI",I27="SI")=TRUE,M27*N27,"")
A28: 3 | B28: CTO 3 | O28: =IF(AND(H28="SI",I28="SI")=TRUE,M28*N28,"")
A29: 4 | B29: CTO 4 | O29: =IF(AND(H29="SI",I29="SI")=TRUE,M29*N29,"")
A30: 5 | B30: CTO 5 | O30: =IF(AND(H30="SI",I30="SI")=TRUE,M30*N30,"")
A31: 6 | B31: CTO 6 | O31: =IF(AND(H31="SI",I31="SI")=TRUE,M31*N31,"")
K32: SUMATORIA CONTRATO EN SMMLV | O32: =SUMIF(P26:P31,"CUMPLE",O26:O31) -> 0
A33: OBSERVACIONES: | C33: El proponente no aclaro lo solicitado por la Entidad en la evaluación preliminar por tanto incurrió en lo descrito en el numeral 3.17. CAUSALES DE RECHAZO , numeralal (i), asi: “(…)(i) Cuando al Proponente en forma individual o conjunta se le haya requerido con el propósito de subsanar o aclarar o aportar un documento de la propuesta y no lo efectúe dentro del plazo indicado o no lo realice correctamente o de acuerdo con lo solicitado, siempre que la subsanación, aclaración o aporte requerido sea necesario para cumplir un requisito habilitante en los términos establecidos en el presente documento.(…)” CONCLUSION: RECHAZO
A34: OTROS ASPECTOS TÉCNICOS DE OBLIGATORIO CUMPLIMIENTO
A35: FORMATO No. 8 | P35: EVALUACIÓN
A36: Contiene la totalidad de condiciones y especificaciones técnicas de los bienes y/o servicios solicitados por la Entidad y que debe cumplir el contratista para el logro del objeto del presente proceso. Los requerimientos descritos en dicho formato técnico son los mínimos exigidos por la Entidad, de obligatorio cumplimiento y se constituirán en obligaciones para el contratista. Con la presentación y firma del “Formato 14 - Carta de Presentación de la Oferta”, se entiende que el proponente conoce y acepta todos los requisitos allí establecidos. En tal sentido, no será necesario aportar el “Formato No. 8 – Especificaciones Técnicas” con la propuesta y en consecuencia no será objeto de verificación del comité evaluador. | P36: RECHAZADO
A37: OBSERVACIONES: | C37: ANEXA CARTA DE PRESENTACION .
A38: CARTA DE COMPROMISO | P38: EVALUACIÓN
A39: El proponente debe anexar junto con la propuesta una Carta de Compromiso, suscrita por parte del representante legal, donde se compromete a presentar el personal requerido del formato 8 – Especificaciones Técnicas, el cual corresponde a: REVISAR TAMBIÉN Numeral 4.4.5 | P39: RECHAZADO
A40: OBSERVACIONES: | C40: El proponente no aclaro lo solicitado por la Entidad en la evaluación preliminar por tanto incurrió en lo descrito en el numeral 3.17. CAUSALES DE RECHAZO , numeralal (i), asi: “(…)(i) Cuando al Proponente en forma individual o conjunta se le haya requerido con el propósito de subsanar o aclarar o aportar un documento de la propuesta y no lo efectúe dentro del plazo indicado o no lo realice correctamente o de acuerdo con lo solicitado, siempre que la subsanación, aclaración o aporte requerido sea necesario para cumplir un requisito habilitante en los términos establecidos en el presente documento.(…)” CONCLUSION: RECHAZO
A41: Certificado de Representación y Distribución Autorizada de los Bienes. | P41: EVALUACIÓN
A42: El proponente debe anexar junto con la propuesta el Certificado de Representación y Distribución Autorizada de los Bienes, expedido por el Fabricante o por el Distribuidor Autorizado por el Fabricante de los bienes ofrecidos, en el cual se indique que está autorizado para distribuir estos bienes objeto de la presente contratación. La fecha de expedición de la certificación debe ser de máximo seis (6) meses anteriores a la fecha de cierre del presente proceso de contratación. Este Certificado puede estar dirigido a cualquiera de los integrantes del Consorcio o Unión Temporal en caso de presentar la oferta bajo esta modalidad. En caso de que el proponente no sea fabricante y de presentarse más de un (1) distribuidor autorizado, el proponente deberá aportar toda la cadena de certificaciones que demuestren las autorizaciones iniciando desde el fabricante del bien. El certificado debe ser presentado por los fabricantes de las UPS objeto del contrato. | P42: RECHAZADO
A43: OBSERVACIONES: | C43: El proponente no aclaro lo solicitado por la Entidad en la evaluación preliminar por tanto incurrió en lo descrito en el numeral 3.17. CAUSALES DE RECHAZO , numeralal (i), asi: “(…)(i) Cuando al Proponente en forma individual o conjunta se le haya requerido con el propósito de subsanar o aclarar o aportar un documento de la propuesta y no lo efectúe dentro del plazo indicado o no lo realice correctamente o de acuerdo con lo solicitado, siempre que la subsanación, aclaración o aporte requerido sea necesario para cumplir un requisito habilitante en los términos establecidos en el presente documento.(…)” CONCLUSION: RECHAZO
...

Sheet 3
A1: UNIDAD ADMINISTRATIVA ESPECIAL DE AERONAUTICA CIVIL
A2: =+RESUMEN!C5 -> 24001216 H3 DE 2024
A3: =+RESUMEN!G5 -> REALIZAR MANTENIMIENTO A LOS SISTEMAS UPS DEL CENTRO DE GESTION AERONAUTICA DE COLOMBIA CGAC, INCLUYE RENOVAR BANCOS DE BATERÍAS POR LOTES. (VIGENCIA FUTURA).
A4: =+RESUMEN!B13 -> 3 | B4: =+RESUMEN!C13 -> CONSORCIO E TX 2024 | J4: CONFORMACIÓN | P4: % PARTICIPACIÓN
J9: TOTAL | P9: =SUM(P5:P8) -> 0
A10: CÓDIGOS | B10: 72151500 81101700 26111700 | D10: PRESUPUESTO A EVALUAR (P.O) | J10: =RESUMEN!U5 -> 1927454798 | L10: PUNTAJE OBTENIDO: | N10: =P69 -> 28.75 | O10: PO SMMLV | P10: =J10/'Serie Historica SMMLV'!C47 -> 1482.6575
A11: REQUISITOS HABILITANTES (CUMPLE /NO CUMPLE)
A12: EXPERIENCIA GENERAL PROPONENTE | O12: EVALUACIÓN
A13: La AEROCIVIL verificará la experiencia general del proponente con la información relacionada en el Formato No.19A – Experiencia General del Proponente, donde debe diligenciar la información de hasta cuatro (4) contratos registrados en el RUP e identificados en al menos dos (2) de los códigos UNSPSC requeridos y que, sumados su valor total, expresado en SMMLV, sea igual o mayor al cien por ciento (100%) del presupuesto del lote al que se presenta (Lote 1 correspondiente a 613,74 SMMLV) y (Lote 2 correspondiente a 1.482,66 SMMLV) Las consideraciones a tener en cuenta para la acreditación de la experiencia general se encuentran definidas en el complementario al pliego de condiciones. Nota 1: Los contratos presentados para la experiencia general podrán ser los mismos para acreditar la experiencia específica, siempre que cumplan los requisitos para dicha experiencia. Nota 2: Si el oferente se presenta a los dos (2) lotes deberá acreditar el 100% del presupuesto total de los dos lotes (2.096,4 SMMLV) con un máximo de cinco (5) contratos. | O13: =IF(AND(O21>=$P$10,O21<>0),"CUMPLE", "NO CUMPLE") -> CUMPLE
A14: 100% PO EN SMMLV | B14: CTO´S | C14: N° CONSECUTIVO EN EL RUP | D14: CONTRATANTE | E14: OBJETO | G14: PRESENTA DOCUMENTOS EN LISTADOS | H14: ="CUMPLE CODIGOS? "&B10 -> CUMPLE CODIGOS? 72151500 81101700 26111700 | I14: CUMPLE EXPERIENCIA? | J14: QUIEN APORTA LA EXPERIENCIA? | K14: AÑO DE TERMINACION DEL CONTRATO | L14: VALOR TOTAL EN PESOS | M14: VALOR TOTAL SMMLV - RUP | N14: % PARTICIPACION | O14: VALOR TOTAL AFECTADO | P14: CUMPLE / NO CUMPLE
A15: =+P10 -> 1482.6575 | B15: CTO 1 | C15: 162 | D15: 1 UNE EPM TELECOMUNICACIO NES | E15: Suministro de servicios asociados a la instalación de puntos de datos y/o eléctricos a nivel nacional y elementos de bolsa acorde con especificaciones por 12 meses | G15: SI | H15: SI | I15: SI | J15: ENETEL | K15: 45291 | L15: 4 754787583 | M15: 4098.95 | N15: 1 | O15: =IF(AND(H15="SI",I15="SI")=TRUE,M15*N15,"") -> 4098.95 | P15: CUMPLE
B16: CTO 2 | O16: =IF(AND(H16="SI",I16="SI")=TRUE,M16*N16,"")
B17: CTO 3 | O17: =IF(AND(H17="SI",I17="SI")=TRUE,M17*N17,"")
B18: CTO 4 | O18: =IF(AND(H18="SI",I18="SI")=TRUE,M18*N18,"")
B19: CTO 5 | O19: =IF(AND(H19="SI",I19="SI")=TRUE,M19*N19,"")
B20: CTO 6 | O20: =IF(AND(H20="SI",I20="SI")=TRUE,M20*N20,"")
K21: SUMATORIA CONTRATO EN SMMLV | O21: =SUMIF(P15:P20,"CUMPLE",O15:O20) -> 4098.95
A22: OBSERVACIONES:
A23: EVALUACION EXPERIENCIA ESPECIFICA PROPONENTE | O23: EVALUACIÓN
A24: La AEROCIVIL verificará la experiencia específica del proponente con hasta cuatro (4) certificaciones de contratos o actas de liquidación o actas de terminación de contratos celebrados con entidades públicas o privadas, ejecutados y terminados; debidamente registrados en el RUP e identificados en al menos dos (2) de los códigos UNSPSC requeridos en la experiencia general; que sumados su valor total, expresado en SMMLV, sea igual o mayor al cien por ciento (100%) del presupuesto oficial (o del lote al que se presenta) (Lote 1 correspondiente a 613,74 SMMLV) y (Lote 2 correspondiente a 1.482,66 SMMLV), y cuyo objeto, actividades u obligaciones contractuales esté relacionadas con: PRESTACIÓN DE SERVICIO DE MANTENIMIENTO DE UPS MÍNIMO DE 160 KVA Y/O • INSTALACIÓN Y PUESTA EN FUNCIONAMIENTO DE UPS MÍNIMO DE 160 KVA Las consideraciones a tener en cuenta para la acreditación de la experiencia específica se encuentran definidas en el complementario al pliego de condiciones. | O24: RECHAZADO
A25: CERTIFICACION No. | B25: CTO´S | C25: N° CONSECUTIVO EN EL RUP | D25: CONTRATANTE | E25: OBJETO | G25: PRESENTA DOCUMENTOS ENLISTADOS | H25: CUMPLE CODIGOS? | I25: OBJETO, ACTIVI U OBLIGACIONES RELACIONADAS CON ACTIVI REQUERIDAS | J25: QUIEN APORTA LA EXPERIENCIA? | K25: AÑO DE TERMINACION DEL CONTRATO | L25: VALOR TOTAL PESOS | M25: VALOR TOTAL SMMLV - RUP | N25: % PARTICIPACION | O25: VALOR TOTAL AFECTADO | P25: CUMPLE / NO CUMPLE
A26: 1 | B26: CTO 1 | C26: 11 | D26: UNE EPM TELECOMUNICACIONES S.A | E26: Mantenimiento preventivo, correctivo, adecuaciones y reformas a la infraestructura eléctrica, aire acondicionado y civil (infraestructura DC a sistemas de rectificación, baterías, UPS, inversores, etc.), ubicadas en las zonas de influencia de UNE EPM Telecomunicaciones S.A. A nivel nacional, además de suministros y servicios conexos (Grupo 3). | G26: SI | H26: SI | I26: NO | J26: TRONEX S.A.S. | K26: 31/12/2013 | L26: 29999888034 | M26: =+L26/589500 -> 50890.395 | N26: 1 | O26: =IF(AND(H26="SI",I26="SI")=TRUE,M26*N26,"") | P26: NO CUMPLE
A27: 2 | B27: CTO 2 | C27: 41 | D27: UNE EPM TELECOMUNICACIONES S.A | E27: Suministro e instalacion de 4 UPS de 150 kVA 480 VAC | G27: SI | H27: SI | I27: NO | J27: TRONEX S.A.S. | K27: 31/07/2019 | L27: 549822894 | M27: 484.62 | N27: 1 | O27: =IF(AND(H27="SI",I27="SI")=TRUE,M27*N27,"") | P27: NO CUMPLE
A28: 3 | B28: CTO 3 | C28: 39 | D28: ECOPETROL | E28: SERVICIO PARA EL MANTENIMIENTO INTEGRAL DE LOS CUARTOS TÉCNICOS DE LA REFINERÍA DE CARTAGENA. | G28: SI | H28: SI | I28: NO | J28: TRONEX S.A.S. | K28: 30/09/2018 | L28: 5629408125 | M28: 7205 | N28: 0.5 | O28: =IF(AND(H28="SI",I28="SI")=TRUE,M28*N28,"") | P28: NO CUMPLE
A29: 4 | B29: CTO 4 | C29: 85 | D29: INSOL S.A.S | E29: SUMINISTRO E INSTALACION DE UPS DE 300 KVA PARA LA PRESIDENCIA DE LA REPUBLICA COLOMBIANA | G29: SI | H29: SI | I29: SI | J29: TRONEX S.A.S. | K29: 22/06/2022 | L29: 265644414 | M29: 265.64 | N29: 1 | P29: NO CUMPLE
A30: 5 | B30: CTO 5 | O30: =IF(AND(H30="SI",I30="SI")=TRUE,M30*N30,"")
A31: 6 | B31: CTO 6 | O31: =IF(AND(H31="SI",I31="SI")=TRUE,M31*N31,"")
K32: SUMATORIA CONTRATO EN SMMLV | O32: =SUMIF(P26:P31,"CUMPLE",O26:O31) -> 0
A33: OBSERVACIONES: | C33: Contrato 1(RUP 11), Esta experiencia en el formato 19B no guarda relación con el RUP y la certificación aportada, dado que el valor en SMMLV del RUP no coincide con los SMMLV en la certificación. Adicionalmente no es posible validar que el objeto de este contrato cumpla con lo solicitado por la Entidad (INSTALACIÓN Y PUESTA EN FUNCIONAMIENTO DE UPS MÍNIMO DE 160 KVA), dado que, aunque la certificación menciona: "(...)UPS: Equipos con capacidad desde 5 kVA hasta 160 kVA; diferentes marcas tales como: APC, Liebert, Delta, Powerware, Chloride, Trimax, AEC, etc.(...)" no establece una cantidad real de las UPS de 160 kVA. Contrato 2 (RUP 41). Esta experiencia en el formato 19B no guarda relación con el RUP y la certificación aportada, dado que el valor en SMMLV del RUP no coincide con los SMMLV en la certificación. En cuanto al formalismo de la certificación no cumple con lo descrito en el Pliego de Condiciones en el numeral 4.4.3.1. Consideraciones para la Acreditación de la Experiencia Específica, literal ii, porque no indica el día de la fecha inicio y terminación del contrato. Adicionalmente el objeto del contrato NO cumple con lo solicitado por la Entidad “(…) INSTALACIÓN Y PUESTA EN FUNCIONAMIENTO DE UPS MÍNIMO DE 160 KVA(…)", dado que menciona la instalación de UPS de 150 kVA Contrato 3: Esta experiencia relacionada en el formato 19B, el proponente no tuvo en cuenta el porcentaje de participación dentro del CONSORCIO SIEP 01. Adicionalmente el objeto contractual no guarda relación con el solicitado por la Entidad. Para validar esta experiencia se requiere que el proponente allegue lo dispuesto en el numeral 4.4.3.1. Consideraciones para la Acreditación de la Experiencia Específica, “(…) literal iii. En el caso de que, en los contratos acreditados, adicionalmente se hayan ejecutado otras adquisiciones o servicios, diferentes o no similares a los solicitados en el presente proceso de contratación, no se tendrán en cuenta estos valores para efectos de acreditar la experiencia requerida. Para lo anterior el proponente debe aportar los documentos contractuales que considere y en donde se pueda verificar claramente el valor discriminado de los bienes suministrados y/o servicios prestados (…).” Nota: Se le solicita al proponente que en el termino para descorrer el informe aclara lo descrito anteriormente El proponente no aclaro lo solicitado por la Entidad en la evaluación preliminar por tanto incurrió en lo descrito en el numeral 3.17. CAUSALES DE RECHAZO , numeralal (i), asi: “(…)(i) Cuando al Proponente en forma individual o conjunta se le haya requerido con el propósito de subsanar o aclarar o aportar un documento de la propuesta y no lo efectúe dentro del plazo indicado o no lo realice correctamente o de acuerdo con lo solicitado, siempre que la subsanación, aclaración o aporte requerido sea necesario para cumplir un requisito habilitante en los términos establecidos en el presente documento.(…)” CONCLUSION: RECHAZO Dada las observaciones presentadas por el oferente UT INVER TES AEROCIVIL MATTOS fechado el 27 noviembre 2024 y subido a la plataforma Secop ll el 29 de noviembre, se realiza nuevamente revisión del parrafo indicado en el formato 2A complementario al pliego de condiciones: “4.4.3.1. Consideraciones para la Acreditación de la Experiencia Específica: “(...)xi. Para efectos de la acreditación de la experiencia requerida en el presente proceso de selección, no se aceptarán Subcontratos, ni contratos ejecutados bajo la modalidad de administración delegada u oferta mercantil. (...)” Fuera de texto. El subrayo es nuestro.” Teniendo en cuenta lo anterior, se le aclara al oferente CONSORCIO E TX 2024 que la certificacion aportada de objeto “SUMINISTRO E INSTALACION DE UPS DE 300 KVA PARA LA PRESIDENCIA DE LA REPLUBLICA COLOMBIANA” certificado por la empresa INSOL, la cual estaba en estado “Cumple” pasa al estado “No cumple”.
A34: OTROS ASPECTOS TÉCNICOS DE OBLIGATORIO CUMPLIMIENTO
A35: FORMATO No. 8 | P35: EVALUACIÓN
A36: Contiene la totalidad de condiciones y especificaciones técnicas de los bienes y/o servicios solicitados por la Entidad y que debe cumplir el contratista para el logro del objeto del presente proceso. Los requerimientos descritos en dicho formato técnico son los mínimos exigidos por la Entidad, de obligatorio cumplimiento y se constituirán en obligaciones para el contratista. Con la presentación y firma del “Formato 14 - Carta de Presentación de la Oferta”, se entiende que el proponente conoce y acepta todos los requisitos allí establecidos. En tal sentido, no será necesario aportar el “Formato No. 8 – Especificaciones Técnicas” con la propuesta y en consecuencia no será objeto de verificación del comité evaluador. | P36: CUMPLE
A37: OBSERVACIONES: | C37: En los documentos aportados por el proponente se encontro el Formato 14, el cual cumple con el formalismo solicitado
A38: CARTA DE COMPROMISO | P38: EVALUACIÓN
A39: El proponente debe anexar junto con la propuesta una Carta de Compromiso, suscrita por parte del representante legal, donde se compromete a presentar el personal requerido del formato 8 – Especificaciones Técnicas, el cual corresponde a: REVISAR TAMBIÉN Numeral 4.4.5 | P39: CUMPLE
A40: OBSERVACIONES:
A41: Certificado de Representación y Distribución Autorizada de los Bienes. | P41: EVALUACIÓN
A42: El proponente debe anexar junto con la propuesta el Certificado de Representación y Distribución Autorizada de los Bienes, expedido por el Fabricante o por el Distribuidor Autorizado por el Fabricante de los bienes ofrecidos, en el cual se indique que está autorizado para distribuir estos bienes objeto de la presente contratación. La fecha de expedición de la certificación debe ser de máximo seis (6) meses anteriores a la fecha de cierre del presente proceso de contratación. Este Certificado puede estar dirigido a cualquiera de los integrantes del Consorcio o Unión Temporal en caso de presentar la oferta bajo esta modalidad. En caso de que el proponente no sea fabricante y de presentarse más de un (1) distribuidor autorizado, el proponente deberá aportar toda la cadena de certificaciones que demuestren las autorizaciones iniciando desde el fabricante del bien. El certificado debe ser presentado por los fabricantes de las UPS objeto del contrato. | P42: RECHAZADO
A43: OBSERVACIONES: | C43: Es claro en la estructura del proceso que los bienes a adquirir son las baterías y repuestos para las UPS descritas en los documentos del presente proceso, la certificación aportada por el interesado fue únicamente de las baterias, faltando la certificación de representación y distribución autorizada por el fabricante de los repuestos de las UPS. Se le informa al proponente que una vez revisadas las certificación de representación y distribución autorizada de los baterias, no cumple con lo solicitado en el numeral 10.3.5 literal c del formato 1A Estudio previo que indica: “(…)El proponente debe anexar junto con la propuesta el Certificado de Representación y Distribución Autorizada de los Bienes, expedido por el Fabricante o por el Distribuidor Autorizado por el Fabricante de los bienes ofrecidos, en el cual se indique que está autorizado para distribuir estos bienes objeto de la presente contratación. La fecha de expedición de la certificación debe ser de máximo seis (6) meses anteriores a la fecha de cierre del presente proceso de contratación. Este Certificado puede estar dirigido a cualquiera de los integrantes del Consorcio o Unión Temporal en caso de presentar la oferta bajo esta modalidad. En caso de que el proponente no sea fabricante y de presentarse más de un (1) distribuidor autorizado, el proponente deberá aportar toda la cadena de certificaciones que demuestren las autorizaciones iniciando desde el fabricante del bien(…)”. El mencionado certificado tiene como fecha el 25 de agosto de 2023 y no cumple adicionalmente con lo solicitado en el complementario al respecto de certificaciones que provienen del exterior, asi: “(…) Los documentos públicos expedidos en el exterior, que se pretendan hacer valer en el presente proceso, deben cumplir con el requisito de apostilla o legalización (consularización), dependiendo si el país de origen es signatario del Convenio de La Haya de 1961, o es un país signatario de la Convención de Viena de 1963. Los documentos privados otorgados en el extranjero requieren reconocimiento de firma de la persona que expide o firma el documento ante un Notario o autoridad competente y la posterior apostille o legalización, según corresponda, de la firma de ese Notario o funcionario público que realiza dicho reconocimiento. Es decir, se debe apostillar o legalizar el acto notarial o de reconocimiento de firma. Para el trámite de apostilla o legalización de documentos otorgados en el exterior, las Entidades aplicarán los parámetros establecidos en las normas que regulen la materia, en especial los previstos en el artículo 480 del Código de Comercio y artículo 251 del Código General del Proceso, la Resolución No. 1959 de 2020 del Ministerio de Relaciones Exteriores, o la norma que la modifique, sustituya o complemente y la Circular Única emitida por Colombia Compra Eficiente. Los Manuales, fichas técnicas, catálogos, Data sheets, no serán objeto de apostilla o legalización, ni de traducción oficial, salvo las certificaciones, aclaraciones, o demás documentos expedidos en el exterior. Los sellos no serán objeto de traducción. NOTA: El proponente tendrá la oportunidad de acreditar el requisito de Apostilla o Legalización hasta el día hábil anterior a la instalación de la audiencia pública de adjudicación. Si el (los) documento(s) objeto de apostilla o legalización, aportado(s) con la oferta o durante el término de traslado del informe de evaluación, no cumple finalmente con este requisito, la propuesta será RECHAZADA.(…)”.
A44: Certificado de Garantía de los Bienes o Servicios. | P44: EVALUACIÓN
...

Sheet 4
A1: UNIDAD ADMINISTRATIVA ESPECIAL DE AERONAUTICA CIVIL
A2: =+RESUMEN!C5 -> 24001216 H3 DE 2024
A3: =+RESUMEN!G5 -> REALIZAR MANTENIMIENTO A LOS SISTEMAS UPS DEL CENTRO DE GESTION AERONAUTICA DE COLOMBIA CGAC, INCLUYE RENOVAR BANCOS DE BATERÍAS POR LOTES. (VIGENCIA FUTURA).
A4: =+RESUMEN!B12 -> 4 | B4: =+RESUMEN!C12 -> ASAC SAS | J4: CONFORMACIÓN | P4: % PARTICIPACIÓN
J5: ASESORÍAS Y ACABADOS ÁVILA S.A.S | P5: 1
J9: TOTAL | P9: =SUM(P5:P8) -> 1
A10: CÓDIGOS | B10: 72151500 81101700 26111700 | D10: PRESUPUESTO A EVALUAR (P.O) | J10: =RESUMEN!U5 -> 1927454798 | L10: PUNTAJE OBTENIDO: | N10: =P69 -> 29.25 | O10: PO SMMLV | P10: =J10/'Serie Historica SMMLV'!C47 -> 1482.6575
A11: REQUISITOS HABILITANTES (CUMPLE /NO CUMPLE)
A12: EXPERIENCIA GENERAL PROPONENTE | O12: EVALUACIÓN
A13: La AEROCIVIL verificará la experiencia general del proponente con la información relacionada en el Formato No.19A – Experiencia General del Proponente, donde debe diligenciar la información de hasta cuatro (4) contratos registrados en el RUP e identificados en al menos dos (2) de los códigos UNSPSC requeridos y que, sumados su valor total, expresado en SMMLV, sea igual o mayor al cien por ciento (100%) del presupuesto del lote al que se presenta (Lote 1 correspondiente a 613,74 SMMLV) y (Lote 2 correspondiente a 1.482,66 SMMLV) Las consideraciones a tener en cuenta para la acreditación de la experiencia general se encuentran definidas en el complementario al pliego de condiciones. Nota 1: Los contratos presentados para la experiencia general podrán ser los mismos para acreditar la experiencia específica, siempre que cumplan los requisitos para dicha experiencia. Nota 2: Si el oferente se presenta a los dos (2) lotes deberá acreditar el 100% del presupuesto total de los dos lotes (2.096,4 SMMLV) con un máximo de cinco (5) contratos. | O13: RECHAZADO
A14: 100% PO EN SMMLV | B14: CTO´S | C14: N° CONSECUTIVO EN EL RUP | D14: CONTRATANTE | E14: OBJETO | G14: PRESENTA DOCUMENTOS EN LISTADOS | H14: ="CUMPLE CODIGOS? "&B10 -> CUMPLE CODIGOS? 72151500 81101700 26111700 | I14: CUMPLE EXPERIENCIA? | J14: QUIEN APORTA LA EXPERIENCIA? | K14: AÑO DE TERMINACION DEL CONTRATO | L14: VALOR TOTAL EN PESOS | M14: VALOR TOTAL SMMLV - RUP | N14: % PARTICIPACION | O14: VALOR TOTAL AFECTADO | P14: CUMPLE / NO CUMPLE
A15: =+P10 -> 1482.6575 | B15: CTO 1 | O15: =IF(AND(H15="SI",I15="SI")=TRUE,M15*N15,"")
B16: CTO 2 | O16: =IF(AND(H16="SI",I16="SI")=TRUE,M16*N16,"")
B17: CTO 3 | O17: =IF(AND(H17="SI",I17="SI")=TRUE,M17*N17,"")
B18: CTO 4 | O18: =IF(AND(H18="SI",I18="SI")=TRUE,M18*N18,"")
B19: CTO 5 | O19: =IF(AND(H19="SI",I19="SI")=TRUE,M19*N19,"")
B20: CTO 6 | O20: =IF(AND(H20="SI",I20="SI")=TRUE,M20*N20,"")
K21: SUMATORIA CONTRATO EN SMMLV | O21: =SUMIF(P15:P20,"CUMPLE",O15:O20) -> 0
A22: OBSERVACIONES: | B22: El proponente no aclaro lo solicitado por la Entidad en la evaluación preliminar por tanto incurrió en lo descrito en el numeral 3.17. CAUSALES DE RECHAZO , numeralal (i), asi: “(…)(i) Cuando al Proponente en forma individual o conjunta se le haya requerido con el propósito de subsanar o aclarar o aportar un documento de la propuesta y no lo efectúe dentro del plazo indicado o no lo realice correctamente o de acuerdo con lo solicitado, siempre que la subsanación, aclaración o aporte requerido sea necesario para cumplir un requisito habilitante en los términos establecidos en el presente documento.(…)” CONCLUSION: RECHAZO
A23: EVALUACION EXPERIENCIA ESPECIFICA PROPONENTE | O23: EVALUACIÓN
A24: La AEROCIVIL verificará la experiencia específica del proponente con hasta cuatro (4) certificaciones de contratos o actas de liquidación o actas de terminación de contratos celebrados con entidades públicas o privadas, ejecutados y terminados; debidamente registrados en el RUP e identificados en al menos dos (2) de los códigos UNSPSC requeridos en la experiencia general; que sumados su valor total, expresado en SMMLV, sea igual o mayor al cien por ciento (100%) del presupuesto oficial (o del lote al que se presenta) (Lote 1 correspondiente a 613,74 SMMLV) y (Lote 2 correspondiente a 1.482,66 SMMLV), y cuyo objeto, actividades u obligaciones contractuales esté relacionadas con: PRESTACIÓN DE SERVICIO DE MANTENIMIENTO DE UPS MÍNIMO DE 160 KVA Y/O • INSTALACIÓN Y PUESTA EN FUNCIONAMIENTO DE UPS MÍNIMO DE 160 KVA Las consideraciones a tener en cuenta para la acreditación de la experiencia específica se encuentran definidas en el complementario al pliego de condiciones. | O24: RECHAZADO
A25: CERTIFICACION No. | B25: CTO´S | C25: N° CONSECUTIVO EN EL RUP | D25: CONTRATANTE | E25: OBJETO | G25: PRESENTA DOCUMENTOS ENLISTADOS | H25: CUMPLE CODIGOS? | I25: OBJETO, ACTIVI U OBLIGACIONES RELACIONADAS CON ACTIVI REQUERIDAS | J25: QUIEN APORTA LA EXPERIENCIA? | K25: AÑO DE TERMINACION DEL CONTRATO | L25: VALOR TOTAL PESOS | M25: VALOR TOTAL SMMLV - RUP | N25: % PARTICIPACION | O25: VALOR TOTAL AFECTADO | P25: CUMPLE / NO CUMPLE
A26: 1 | B26: CTO 1 | O26: =IF(AND(H26="SI",I26="SI")=TRUE,M26*N26,"")
A27: 2 | B27: CTO 2 | O27: =IF(AND(H27="SI",I27="SI")=TRUE,M27*N27,"")
A28: 3 | B28: CTO 3 | O28: =IF(AND(H28="SI",I28="SI")=TRUE,M28*N28,"")
A29: 4 | B29: CTO 4 | O29: =IF(AND(H29="SI",I29="SI")=TRUE,M29*N29,"")
A30: 5 | B30: CTO 5 | O30: =IF(AND(H30="SI",I30="SI")=TRUE,M30*N30,"")
A31: 6 | B31: CTO 6 | O31: =IF(AND(H31="SI",I31="SI")=TRUE,M31*N31,"")
K32: SUMATORIA CONTRATO EN SMMLV | O32: =SUMIF(P26:P31,"CUMPLE",O26:O31) -> 0
A33: OBSERVACIONES: | B33: El proponente no aclaro lo solicitado por la Entidad en la evaluación preliminar por tanto incurrió en lo descrito en el numeral 3.17. CAUSALES DE RECHAZO , numeralal (i), asi: “(…)(i) Cuando al Proponente en forma individual o conjunta se le haya requerido con el propósito de subsanar o aclarar o aportar un documento de la propuesta y no lo efectúe dentro del plazo indicado o no lo realice correctamente o de acuerdo con lo solicitado, siempre que la subsanación, aclaración o aporte requerido sea necesario para cumplir un requisito habilitante en los términos establecidos en el presente documento.(…)” CONCLUSION: RECHAZO
A34: OTROS ASPECTOS TÉCNICOS DE OBLIGATORIO CUMPLIMIENTO
A35: FORMATO No. 8 | P35: EVALUACIÓN
A36: Contiene la totalidad de condiciones y especificaciones técnicas de los bienes y/o servicios solicitados por la Entidad y que debe cumplir el contratista para el logro del objeto del presente proceso. Los requerimientos descritos en dicho formato técnico son los mínimos exigidos por la Entidad, de obligatorio cumplimiento y se constituirán en obligaciones para el contratista. Con la presentación y firma del “Formato 14 - Carta de Presentación de la Oferta”, se entiende que el proponente conoce y acepta todos los requisitos allí establecidos. En tal sentido, no será necesario aportar el “Formato No. 8 – Especificaciones Técnicas” con la propuesta y en consecuencia no será objeto de verificación del comité evaluador. | P36: CUMPLE
A37: OBSERVACIONES:
A38: CARTA DE COMPROMISO | P38: EVALUACIÓN
A39: El proponente debe anexar junto con la propuesta una Carta de Compromiso, suscrita por parte del representante legal, donde se compromete a presentar el personal requerido del formato 8 – Especificaciones Técnicas, el cual corresponde a: REVISAR TAMBIÉN Numeral 4.4.5 | P39: RECHAZADO
A40: OBSERVACIONES: | B40: El proponente no aclaro lo solicitado por la Entidad en la evaluación preliminar por tanto incurrió en lo descrito en el numeral 3.17. CAUSALES DE RECHAZO , numeralal (i), asi: “(…)(i) Cuando al Proponente en forma individual o conjunta se le haya requerido con el propósito de subsanar o aclarar o aportar un documento de la propuesta y no lo efectúe dentro del plazo indicado o no lo realice correctamente o de acuerdo con lo solicitado, siempre que la subsanación, aclaración o aporte requerido sea necesario para cumplir un requisito habilitante en los términos establecidos en el presente documento.(…)” CONCLUSION: RECHAZO
A41: Certificado de Representación y Distribución Autorizada de los Bienes. | P41: EVALUACIÓN
A42: El proponente debe anexar junto con la propuesta el Certificado de Representación y Distribución Autorizada de los Bienes, expedido por el Fabricante o por el Distribuidor Autorizado por el Fabricante de los bienes ofrecidos, en el cual se indique que está autorizado para distribuir estos bienes objeto de la presente contratación. La fecha de expedición de la certificación debe ser de máximo seis (6) meses anteriores a la fecha de cierre del presente proceso de contratación. Este Certificado puede estar dirigido a cualquiera de los integrantes del Consorcio o Unión Temporal en caso de presentar la oferta bajo esta modalidad. En caso de que el proponente no sea fabricante y de presentarse más de un (1) distribuidor autorizado, el proponente deberá aportar toda la cadena de certificaciones que demuestren las autorizaciones iniciando desde el fabricante del bien. El certificado debe ser presentado por los fabricantes de las UPS objeto del contrato. | P42: RECHAZADO
A43: OBSERVACIONES: | B43: El proponente no aclaro lo solicitado por la Entidad en la evaluación preliminar por tanto incurrió en lo descrito en el numeral 3.17. CAUSALES DE RECHAZO , numeralal (i), asi: “(…)(i) Cuando al Proponente en forma individual o conjunta se le haya requerido con el propósito de subsanar o aclarar o aportar un documento de la propuesta y no lo efectúe dentro del plazo indicado o no lo realice correctamente o de acuerdo con lo solicitado, siempre que la subsanación, aclaración o aporte requerido sea necesario para cumplir un requisito habilitante en los términos establecidos en el presente documento.(…)” CONCLUSION: RECHAZO
...

Sheet 5
A1: UNIDAD ADMINISTRATIVA ESPECIAL DE AERONAUTICA CIVIL
A2: =+RESUMEN!C5 -> 24001216 H3 DE 2024
A3: =+RESUMEN!G5 -> REALIZAR MANTENIMIENTO A LOS SISTEMAS UPS DEL CENTRO DE GESTION AERONAUTICA DE COLOMBIA CGAC, INCLUYE RENOVAR BANCOS DE BATERÍAS POR LOTES. (VIGENCIA FUTURA).
A4: =+RESUMEN!B11 -> 5 | B4: =+RESUMEN!C11 -> COTEL SAS | J4: CONFORMACIÓN | P4: % PARTICIPACIÓN
J9: TOTAL | P9: =SUM(P5:P8) -> 0
A10: CÓDIGOS | B10: 72151500 81101700 26111700 | D10: PRESUPUESTO A EVALUAR (P.O) | J10: =RESUMEN!U5 -> 1927454798 | L10: PUNTAJE OBTENIDO: | N10: =P69 -> 28.75 | O10: PO SMMLV | P10: =J10/'Serie Historica SMMLV'!C47 -> 1482.6575
A11: REQUISITOS HABILITANTES (CUMPLE /NO CUMPLE)
A12: EXPERIENCIA GENERAL PROPONENTE | O12: EVALUACIÓN
A13: La AEROCIVIL verificará la experiencia general del proponente con la información relacionada en el Formato No.19A – Experiencia General del Proponente, donde debe diligenciar la información de hasta cuatro (4) contratos registrados en el RUP e identificados en al menos dos (2) de los códigos UNSPSC requeridos y que, sumados su valor total, expresado en SMMLV, sea igual o mayor al cien por ciento (100%) del presupuesto del lote al que se presenta (Lote 1 correspondiente a 613,74 SMMLV) y (Lote 2 correspondiente a 1.482,66 SMMLV) Las consideraciones a tener en cuenta para la acreditación de la experiencia general se encuentran definidas en el complementario al pliego de condiciones. Nota 1: Los contratos presentados para la experiencia general podrán ser los mismos para acreditar la experiencia específica, siempre que cumplan los requisitos para dicha experiencia. Nota 2: Si el oferente se presenta a los dos (2) lotes deberá acreditar el 100% del presupuesto total de los dos lotes (2.096,4 SMMLV) con un máximo de cinco (5) contratos. | O13: =IF(AND(O21>=$P$10,O21<>0),"CUMPLE", "NO CUMPLE") -> CUMPLE
