Workbook

Sheet FDLS-SAMC-009-2024 01 al 05
I1: Código: GCO-GCI-F107 Versión: 02 Vigencia: 23 de diciembre de 2021 Caso HOLA: 209033
B6: MENOR CUANTIA FDLS-SAMC-009-2024
B7: OBJETO: CONTRATAR LAS OBRAS DE DEMOLICIÓN ORDENADAS EN LOS PROCESOS ADMINISTRATIVOS Y/O POLICIVOS EMITIDOS POR AUTORIDAD LOCAL O POR ORDEN JUDICIAL, ASÍ COMO LOS IMPARTIDOS EN LOS OPERATIVOS POR EL ALCALDE LOCAL
B8: CONCEPTO | C8: MB CONSTRUCCIONES Y DISEÑOS SAS | D8: GAYRA CONSTRUCCIONES SAS | E8: AVANXA SOLUCIONES INTEGRALES S.A.S NIT:901330763-5 | F8: RAELJA INGENIERIA S.A.S. NIT:813003916-4 | G8: CONSORCIO LA PLATA | H8: G&V ASOCIADOS SAS | I8: INFRAESTRUCTURA INTEGRAL SAS | K8: Datos para validación financiera
C9: 1 | D9: =C9+1 -> 2 | E9: A | F9: B | G9: =D9+1 -> 3 | H9: =G9+1 -> 4 | I9: =H9+1 -> 5
B10: BALANCE GENERAL CON CORTE A 31 DE DICIEMBRE DEL AÑO: 2020, 2021 o 2022 | C10: =IF(YEAR(C70)=2024,"31-DIC.-2023 RUP","31-DIC.-2022 RUP") -> 31-DIC.-2023 RUP | D10: =IF(YEAR(D70)=2024,"31-DIC.-2023 RUP","31-DIC.-2022 RUP") -> 31-DIC.-2023 RUP | E10: =IF(YEAR(E70)=2024,"31-DIC.-2023 RUP","31-DIC.-2022 RUP") -> 31-DIC.-2023 RUP | F10: =IF(YEAR(F70)=2024,"31-DIC.-2023 RUP","31-DIC.-2022 RUP") -> 31-DIC.-2023 RUP | H10: =IF(YEAR(H70)=2024,"31-DIC.-2023 RUP","31-DIC.-2022 RUP") -> 31-DIC.-2023 RUP | I10: =IF(YEAR(I70)=2024,"31-DIC.-2023 RUP","31-DIC.-2022 RUP") -> 31-DIC.-2023 RUP
B11: PRESENTACIÓN DE RUP VIGENTE | C11: =IF(C73<=$B$74,"VIGENTE","NO VIGENTE") -> VIGENTE | D11: =IF(D73<=$B$74,"VIGENTE","NO VIGENTE") -> VIGENTE | E11: =IF(E73<=$B$74,"VIGENTE","NO VIGENTE") -> VIGENTE | F11: =IF(F73<=$B$74,"VIGENTE","NO VIGENTE") -> VIGENTE | G11: =IF(G73<=$B$74,"VIGENTE","NO VIGENTE") -> VIGENTE | H11: =IF(H73<=$B$74,"VIGENTE","NO VIGENTE") -> VIGENTE | I11: =IF(I73<=$B$74,"VIGENTE","NO VIGENTE") -> VIGENTE
B12: INFORMACION TOMADA DEL RUP VIGENTE | C12: 1 | D12: 1 | E12: 0.8 | F12: 0.2 | G12: =SUM(E12:F12) -> 1 | H12: 1 | I12: 1
B13: ACTIVO CORRIENTE | C13: 386662880 | D13: 890927420 | E13: 43145560 | F13: 2840863003 | G13: =SUM((E13*E$12),(F13*F$12)) -> 6.0268905e+08 | H13: 3169722598 | I13: 12302254094
B14: PASIVO CORRIENTE | C14: 25659421 | D14: 50663185 | E14: 5913395 | F14: 8978340 | G14: =SUM((E14*E$12),(F14*F$12)) -> 6526384 | H14: 659277834 | I14: 2482952372
B15: ACTIVO TOTAL | C15: 471861983 | D15: 899010777 | E15: 46278394 | F15: 3052561414 | G15: =SUM((E15*E$12),(F15*F$12)) -> 6.47535e+08 | H15: 7499638659 | I15: 17340173183
B16: PASIVO TOTAL | C16: 43897660 | D16: 125354221 | E16: 5913395 | F16: 493782557 | G16: =SUM((E16*E$12),(F16*F$12)) -> 1.0348723e+08 | H16: 2657819519 | I16: 8892844409
B17: PATRIMONIO | C17: 427964323 | D17: 773656556 | E17: 40364999 | F17: 2558778857 | G17: =SUM((E17*E$12),(F17*F$12)) -> 5.4404777e+08 | H17: 4841819140 | I17: 8447328774
B18: Activo total-Pasivo total-Patrimonio | C18: =+C15-C16-C17 -> 0 | D18: =+D15-D16-D17 -> 0 | E18: =+E15-E16-E17 -> 0 | F18: =+F15-F16-F17 -> 0 | G18: =+G15-G16-G17 -> 0 | H18: =+H15-H16-H17 -> 0 | I18: =+I15-I16-I17 -> 0
B19: UTILIDAD OPERACIONAL | C19: 142588035 | D19: 189667687 | E19: 7.29 | F19: 583716596 | G19: =SUM((E19*E$12),(F19*F$12)) -> 1.1674333e+08 | H19: 886585643 | I19: 2386822123
B20: GASTOS DE INTERESES | C20: 230 | D20: 52780 | E20: 0.12 | F20: 13038382 | G20: =SUM((E20*E$12),(F20*F$12)) -> 2607676.5 | H20: 92200804 | I20: 539040246
B21: Rentabilidad del Patrimonio = Utilidad Operacional / Patrimonio | C21: =+C19/C17 -> 0.33317739 | D21: =+D19/D17 -> 0.24515747 | E21: =+E19/E17 -> 1.8060201e-07 | F21: =+F19/F17 -> 0.22812311 | G21: =+G19/G17 -> 0.21458286 | H21: =+H19/H17 -> 0.18311003 | I21: =+I19/I17 -> 0.28255348
B22: Rentabilidad del Activo = Utilidad Operacional / Activo Total | C22: =+C19/C15 -> 0.30218166 | D22: =+D19/D15 -> 0.21097376 | E22: =+E19/E15 -> 1.5752491e-07 | F22: =+F19/F15 -> 0.1912219 | G22: =+G19/G15 -> 0.18028883 | H22: =+H19/H15 -> 0.11821711 | I22: =+I19/I15 -> 0.13764696 | K22: MiPyME | L22: Gran Empresa
B23: VALOR DEL PRESUPUESTO OFICIAL | C23: =IF(C12=1,$K$23,"") -> 180000000 | D23: =IF(D12=1,$K$23,"") -> 180000000 | E23: =IF(E12=1,$K$23,"") | F23: =IF(F12=1,$K$23,"") | G23: =IF(G12=1,$K$23,"") -> 180000000 | H23: =IF(H12=1,$K$23,"") -> 180000000 | I23: =IF(I12=1,$K$23,"") -> 180000000 | K23: 180000000 | L23: 180000000
B24: CRITERIO DE VERIFICACIÓN FINANCIERA
B25: HÁBIL
B26: NO HÁBIL
B27: CRITERIO DE VERIFICACIÓN FINANCIERA
B28: =CONCATENATE("Índice de Liquidez: Mayor o Igual a ",K28) -> Índice de Liquidez: Mayor o Igual a 1,9 | C28: =IF(C75="MiPyME",IF(C29>=$K$28,$B$25,$B$26),IF(C29>=$L$28,$B$25,$B$26)) -> HÁBIL | D28: =IF(D75="MiPyME",IF(D29>=$K$28,$B$25,$B$26),IF(D29>=$L$28,$B$25,$B$26)) -> HÁBIL | G28: =IF(G75="MiPyME",IF(G29>=$K$28,$B$25,$B$26),IF(G29>=$L$28,$B$25,$B$26)) -> HÁBIL | H28: =IF(H75="MiPyME",IF(H29>=$K$28,$B$25,$B$26),IF(H29>=$L$28,$B$25,$B$26)) -> HÁBIL | I28: =IF(I75="MiPyME",IF(I29>=$K$28,$B$25,$B$26),IF(I29>=$L$28,$B$25,$B$26)) -> HÁBIL | K28: 1.9 | L28: 1.9
B29: Activo corriente / Pasivo corriente | C29: =C13/C14 -> 15.069042 | D29: =D13/D14 -> 17.585302 | G29: =G13/G14 -> 92.34655 | H29: =H13/H14 -> 4.8078707 | I29: =I13/I14 -> 4.9546879
B30: =CONCATENATE("Endeudamiento total: Menor o Igual a ",K30) -> Endeudamiento total: Menor o Igual a 0,6 | C30: =IF(C75="MiPyME",IF(C31<=$K$30,$B$25,$B$26),IF(C31<=$L$30,$B$25,$B$26)) -> HÁBIL | D30: =IF(D75="MiPyME",IF(D31<=$K$30,$B$25,$B$26),IF(D31<=$L$30,$B$25,$B$26)) -> HÁBIL | G30: =IF(G75="MiPyME",IF(G31<=$K$30,$B$25,$B$26),IF(G31<=$L$30,$B$25,$B$26)) -> HÁBIL | H30: =IF(H75="MiPyME",IF(H31<=$K$30,$B$25,$B$26),IF(H31<=$L$30,$B$25,$B$26)) -> HÁBIL | I30: =IF(I75="MiPyME",IF(I31<=$K$30,$B$25,$B$26),IF(I31<=$L$30,$B$25,$B$26)) -> HÁBIL | K30: 0.6 | L30: 0.6
B31: (Pasivo total / Activo total)*100 | C31: =C16/C15 -> 0.09303072 | D31: =D16/D15 -> 0.13943573 | G31: =G16/G15 -> 0.1598172 | H31: =H16/H15 -> 0.35439301 | I31: =I16/I15 -> 0.51284634
B32: =CONCATENATE("Razón de Cobertura de Intereses Mayor o Igual a ",K32," o Indeterminado") -> Razón de Cobertura de Intereses Mayor o Igual a 2 o Indeterminado | C32: =IF(C75="MiPyME",IF(AND(C33="Indeterminado",C19<=0),$B$26,IF(C33>=$K$32,$B$25,$B$26)),IF(AND(C33="Indeterminado",C19<=0),$B$26,IF(C33>=$L$32,$B$25,$B$26))) -> HÁBIL | D32: =IF(D75="MiPyME",IF(AND(D33="Indeterminado",D19<=0),$B$26,IF(D33>=$K$32,$B$25,$B$26)),IF(AND(D33="Indeterminado",D19<=0),$B$26,IF(D33>=$L$32,$B$25,$B$26))) -> HÁBIL | G32: =IF(G75="MiPyME",IF(AND(G33="Indeterminado",G19<=0),$B$26,IF(G33>=$K$32,$B$25,$B$26)),IF(AND(G33="Indeterminado",G19<=0),$B$26,IF(G33>=$L$32,$B$25,$B$26))) -> HÁBIL | H32: =IF(H75="MiPyME",IF(AND(H33="Indeterminado",H19<=0),$B$26,IF(H33>=$K$32,$B$25,$B$26)),IF(AND(H33="Indeterminado",H19<=0),$B$26,IF(H33>=$L$32,$B$25,$B$26))) -> HÁBIL | I32: =IF(I75="MiPyME",IF(AND(I33="Indeterminado",I19<=0),$B$26,IF(I33>=$K$32,$B$25,$B$26)),IF(AND(I33="Indeterminado",I19<=0),$B$26,IF(I33>=$L$32,$B$25,$B$26))) -> HÁBIL | K32: 2 | L32: 2
B33: RC= (Utilidad Operacional) / (Gastos de Intereses) | C33: =IFERROR(C19/C20,"Indeterminado") -> 619947.98 | D33: =IFERROR(D19/D20,"Indeterminado") -> 3593.5522 | G33: =IFERROR(G19/G20,"Indeterminado") -> 44.769098 | H33: =IFERROR(H19/H20,"Indeterminado") -> 9.6158125 | I33: =IFERROR(I19/I20,"Indeterminado") -> 4.4279108
B34: =CONCATENATE("CAPITAL DE TRABAJO ≥ A ",TEXT(K34,"#,0#%")," DEL PPTO OFICIAL") -> CAPITAL DE TRABAJO ≥ A 50,0% DEL PPTO OFICIAL | C34: =IF(C75="MiPyME",IF(C35>(C23*$K$34),$B$25,$B$26),IF(C35>(C23*$L$34),$B$25,$B$26)) -> HÁBIL | D34: =IF(D75="MiPyME",IF(D35>(D23*$K$34),$B$25,$B$26),IF(D35>(D23*$L$34),$B$25,$B$26)) -> HÁBIL | G34: =IF(G75="MiPyME",IF(G35>(G23*$K$34),$B$25,$B$26),IF(G35>(G23*$L$34),$B$25,$B$26)) -> HÁBIL | H34: =IF(H75="MiPyME",IF(H35>(H23*$K$34),$B$25,$B$26),IF(H35>(H23*$L$34),$B$25,$B$26)) -> HÁBIL | I34: =IF(I75="MiPyME",IF(I35>(I23*$K$34),$B$25,$B$26),IF(I35>(I23*$L$34),$B$25,$B$26)) -> HÁBIL | K34: 0.5 | L34: 0.5
B35: =CONCATENATE("CT = Activo Corriente - Pasivo Corriente ≥ ",TEXT((K23*K34),"$###.###.###.##0")) -> CT = Activo Corriente - Pasivo Corriente ≥ $90.000.000 | C35: =C13-C14 -> 361003459 | D35: =D13-D14 -> 840264235 | G35: =G13-G14 -> 5.9616266e+08 | H35: =H13-H14 -> 2510444764 | I35: =I13-I14 -> 9819301722
B36: CRITERIO DE VERIFICACIÓN CAPACIDAD ORGANIZACIONAL
B38: =CONCATENATE("Indicador Rentabilidad del Patrimonio",CHAR(10),"Mayor o Igual a ",K38) -> Indicador Rentabilidad del Patrimonio Mayor o Igual a 0,08 | C38: =IF(C75="MiPyME",IF(C39>=$K$38,$B$25,$B$26),IF(C39>=$L$38,$B$25,$B$26)) -> HÁBIL | D38: =IF(D75="MiPyME",IF(D39>=$K$38,$B$25,$B$26),IF(D39>=$L$38,$B$25,$B$26)) -> HÁBIL | G38: =IF(G75="MiPyME",IF(G39>=$K$38,$B$25,$B$26),IF(G39>=$L$38,$B$25,$B$26)) -> HÁBIL | H38: =IF(H75="MiPyME",IF(H39>=$K$38,$B$25,$B$26),IF(H39>=$L$38,$B$25,$B$26)) -> HÁBIL | I38: =IF(I75="MiPyME",IF(I39>=$K$38,$B$25,$B$26),IF(I39>=$L$38,$B$25,$B$26)) -> HÁBIL | K38: 0.08 | L38: 0.08
B39: RP = (Utilidad Operacional / Patrimonio) | C39: =C19/C17 -> 0.33317739 | D39: =D19/D17 -> 0.24515747 | G39: =G19/G17 -> 0.21458286 | H39: =H19/H17 -> 0.18311003 | I39: =I19/I17 -> 0.28255348
B40: =CONCATENATE("Indicador Rentabilidad del Activo",CHAR(10),"Mayor o Igual a ",K40) -> Indicador Rentabilidad del Activo Mayor o Igual a 0,034 | C40: =IF(C75="MiPyME",IF(C41>=$K$40,$B$25,$B$26),IF(C41>=$L$40,$B$25,$B$26)) -> HÁBIL | D40: =IF(D75="MiPyME",IF(D41>=$K$40,$B$25,$B$26),IF(D41>=$L$40,$B$25,$B$26)) -> HÁBIL | G40: =IF(G75="MiPyME",IF(G41>=$K$40,$B$25,$B$26),IF(G41>=$L$40,$B$25,$B$26)) -> HÁBIL | H40: =IF(H75="MiPyME",IF(H41>=$K$40,$B$25,$B$26),IF(H41>=$L$40,$B$25,$B$26)) -> HÁBIL | I40: =IF(I75="MiPyME",IF(I41>=$K$40,$B$25,$B$26),IF(I41>=$L$40,$B$25,$B$26)) -> HÁBIL | K40: 0.034 | L40: 0.034
B41: RA = (Utilidad Operacional / Activo Total) | C41: =C19/C15 -> 0.30218166 | D41: =D19/D15 -> 0.21097376 | G41: =G19/G15 -> 0.18028883 | H41: =H19/H15 -> 0.11821711 | I41: =I19/I15 -> 0.13764696
B42: CUMPLIMIENTO REQUISITOS HABLITANTES | C42: =+IF(COUNTIF(C28:C41,"NO HÁBIL")>=1,"NO HABILITADO","HABILITADO") -> HABILITADO | D42: =+IF(COUNTIF(D28:D41,"NO HÁBIL")>=1,"NO HABILITADO","HABILITADO") -> HABILITADO | G42: =+IF(COUNTIF(G28:G41,"NO HÁBIL")>=1,"NO HABILITADO","HABILITADO") -> HABILITADO | H42: =+IF(COUNTIF(H28:H41,"NO HÁBIL")>=1,"NO HABILITADO","HABILITADO") -> HABILITADO | I42: =+IF(COUNTIF(I28:I41,"NO HÁBIL")>=1,"NO HABILITADO","HABILITADO") -> HABILITADO
B44: NOTA: Una vez verificada la Información Financiera presentada por cada uno de los proponentes, se informa que las sociedades arriba descritas, que cumplen con lo solicitado en los pliegos de condiciones definitivos en cuanto a los Indicadores Financieros requeridos, se encuentran HABILITADAS.
B47: =B72 -> Fecha de cierre del proceso:
B48: 45638
...

Sheet FDLS-LP-006-2024 11 al 20
Q1: Código: GCO-GCI-F107 Versión: 02 Vigencia: 23 de diciembre de 2021 Caso HOLA: 209033
C3: VERIFICACIÓN FINANCIERA Y CAPACIDAD ORGANIZACIONAL
B6: LICITACIÓN PÚBLICA FDLS-LP-006-2024
B7: OBJETO: REPARACIONES LOCATIVAS Y/O MANTENIMIENTO PARA SALONES COMUNALES DE LAS JUNTAS DE ACCIÓN COMUNAL DE LA LOCALIDAD DE SUBA, A PRECIOS UNITARIOS FIJOS Y A MONTO AGOTABLE
B8: CONCEPTO | F8: UNION TEMPORAL y/o CONSORCIO | I8: UNION TEMPORAL y/o CONSORCIO | N8: UNION TEMPORAL y/o CONSORCIO | Q8: UNION TEMPORAL y/o CONSORCIO | S8: Datos para validación financiera
C9: 1 | D9: A | E9: B | F9: =+C9+1 -> 2 | G9: A | H9: B | I9: =+F9+1 -> 3 | J9: =I9+1 -> 4 | K9: =+J9+1 -> 5 | L9: A | M9: B | N9: =+K9+1 -> 6 | O9: A | P9: B | Q9: =N9+1 -> 7
B10: BALANCE GENERAL CON CORTE A 31 DE DICIEMBRE DEL AÑO: 2020, 2021 o 2022 | C10: =IF(YEAR(C70)=2023,"31-DIC.-2022 RUP","31-DIC.-2021 RUP") -> 31-DIC.-2022 RUP | D10: 31-DIC.-2022 RUP | E10: 31-DIC.-2022 RUP | G10: 31-DIC.-2022 RUP | H10: 31-DIC.-2022 RUP | J10: =IF(YEAR(J70)=2023,"31-DIC.-2022 RUP","31-DIC.-2021 RUP") -> 31-DIC.-2022 RUP | K10: =IF(YEAR(K70)=2023,"31-DIC.-2022 RUP","31-DIC.-2021 RUP") -> 31-DIC.-2022 RUP | L10: 31-DIC.-2022 RUP | M10: 31-DIC.-2022 RUP | O10: 31-DIC.-2022 RUP | P10: 31-DIC.-2022 RUP
B11: PRESENTACIÓN DE RUP VIGENTE | C11: =IF(C73<=$B$74,"VIGENTE","NO VIGENTE") -> NO VIGENTE | D11: =IF(D73<=$B$74,"VIGENTE","NO VIGENTE") -> NO VIGENTE | E11: =IF(E73<=$B$74,"VIGENTE","NO VIGENTE") -> NO VIGENTE | F11: =IF(F73<=$B$74,"VIGENTE","NO VIGENTE") -> VIGENTE | G11: =IF(G73<=$B$74,"VIGENTE","NO VIGENTE") -> NO VIGENTE | H11: =IF(H73<=$B$74,"VIGENTE","NO VIGENTE") -> NO VIGENTE | I11: =IF(I73<=$B$74,"VIGENTE","NO VIGENTE") -> VIGENTE | J11: =IF(J73<=$B$74,"VIGENTE","NO VIGENTE") -> NO VIGENTE | ... Q11: =IF(Q73<=$B$74,"VIGENTE","NO VIGENTE") -> VIGENTE
B12: INFORMACION TOMADA DEL RUP VIGENTE | C12: 1 | D12: 0.5 | E12: 0.5 | F12: =SUM(D12:E12) -> 1 | G12: 0.5 | H12: 0.5 | I12: =SUM(G12:H12) -> 1 | J12: 1 | K12: 1 | L12: 0.55 | M12: 0.45 | N12: =SUM(L12:M12) -> 1 | O12: 0.95 | P12: 0.05 | Q12: =SUM(O12:P12) -> 1
B13: ACTIVO CORRIENTE | F13: =SUM((D13*D$12),(E13*E$12)) -> 0 | I13: =SUM((G13*G$12),(H13*H$12)) -> 0 | N13: =SUM((L13*L$12),(M13*M$12)) -> 0 | Q13: =SUM((O13*O$12),(P13*P$12)) -> 0
B14: PASIVO CORRIENTE | F14: =SUM((D14*D$12),(E14*E$12)) -> 0 | I14: =SUM((G14*G$12),(H14*H$12)) -> 0 | N14: =SUM((L14*L$12),(M14*M$12)) -> 0 | Q14: =SUM((O14*O$12),(P14*P$12)) -> 0
B15: ACTIVO TOTAL | F15: =SUM((D15*D$12),(E15*E$12)) -> 0 | I15: =SUM((G15*G$12),(H15*H$12)) -> 0 | N15: =SUM((L15*L$12),(M15*M$12)) -> 0 | Q15: =SUM((O15*O$12),(P15*P$12)) -> 0
B16: PASIVO TOTAL | F16: =SUM((D16*D$12),(E16*E$12)) -> 0 | I16: =SUM((G16*G$12),(H16*H$12)) -> 0 | N16: =SUM((L16*L$12),(M16*M$12)) -> 0 | Q16: =SUM((O16*O$12),(P16*P$12)) -> 0
B17: PATRIMONIO | F17: =SUM((D17*D$12),(E17*E$12)) -> 0 | I17: =SUM((G17*G$12),(H17*H$12)) -> 0 | N17: =SUM((L17*L$12),(M17*M$12)) -> 0 | Q17: =SUM((O17*O$12),(P17*P$12)) -> 0
B18: Activo total-Pasivo total-Patrimonio | C18: =+C15-C16-C17 -> 0 | D18: =+D15-D16-D17 -> 0 | E18: =+E15-E16-E17 -> 0 | F18: =+F15-F16-F17 -> 0 | G18: =+G15-G16-G17 -> 0 | H18: =+H15-H16-H17 -> 0 | I18: =+I15-I16-I17 -> 0 | J18: =+J15-J16-J17 -> 0 | K18: =+K15-K16-K17 -> 0 | N18: =+N15-N16-N17 -> 0 | O18: =+O15-O16-O17 -> 0 | P18: =+P15-P16-P17 -> 0 | Q18: =+Q15-Q16-Q17 -> 0
B19: UTILIDAD OPERACIONAL | F19: =SUM((D19*D$12),(E19*E$12)) -> 0 | I19: =SUM((G19*G$12),(H19*H$12)) -> 0 | N19: =SUM((L19*L$12),(M19*M$12)) -> 0 | Q19: =SUM((O19*O$12),(P19*P$12)) -> 0
B20: GASTOS DE INTERESES | F20: =SUM((D20*D$12),(E20*E$12)) -> 0 | I20: =SUM((G20*G$12),(H20*H$12)) -> 0 | L20: 0 | M20: 0 | N20: =SUM((L20*L$12),(M20*M$12)) -> 0 | Q20: =SUM((O20*O$12),(P20*P$12)) -> 0
B21: Rentabilidad del Patrimonio = Utilidad Operacional / Patrimonio | C21: =+C19/C17 -> #DIV/0! | D21: =+D19/D17 -> #DIV/0! | E21: =+E19/E17 -> #DIV/0! | F21: =+F19/F17 -> #DIV/0! | G21: =+G19/G17 -> #DIV/0! | H21: =+H19/H17 -> #DIV/0! | I21: =+I19/I17 -> #DIV/0! | J21: =+J19/J17 -> #DIV/0! | ... Q21: =+Q19/Q17 -> #DIV/0!
B22: Rentabilidad del Activo = Utilidad Operacional / Activo Total | C22: =+C19/C15 -> #DIV/0! | D22: =+D19/D15 -> #DIV/0! | E22: =+E19/E15 -> #DIV/0! | F22: =+F19/F15 -> #DIV/0! | G22: =+G19/G15 -> #DIV/0! | H22: =+H19/H15 -> #DIV/0! | I22: =+I19/I15 -> #DIV/0! | J22: =+J19/J15 -> #DIV/0! | ... Q22: =+Q19/Q15 -> #DIV/0! | S22: MiPyME | T22: Gran Empresa
B23: VALOR DEL PRESUPUESTO OFICIAL | C23: =IF(C12=1,$S$23,"") -> 800794589 | D23: =IF(D12=1,$S$23,"") | E23: =IF(E12=1,$S$23,"") | F23: =IF(F12=1,$S$23,"") -> 800794589 | G23: =IF(G12=1,$S$23,"") | H23: =IF(H12=1,$S$23,"") | I23: =IF(I12=1,$S$23,"") -> 800794589 | J23: =IF(J12=1,$S$23,"") -> 800794589 | ... N23: =IF(N12=1,$S$23,"") -> 800794589 | Q23: =IF(Q12=1,$S$23,"") -> 800794589 | S23: 800794589 | T23: 800794589
B24: CRITERIO DE VERIFICACIÓN FINANCIERA
B25: HÁBIL
B26: NO HÁBIL
B27: CRITERIO DE VERIFICACIÓN FINANCIERA
B28: =CONCATENATE("Índice de Liquidez: Mayor o Igual a ",S28) -> Índice de Liquidez: Mayor o Igual a 1,03 | C28: =IF(C75="MiPyME",IF(C29>=$S$28,$B$25,$B$26),IF(C29>=$T$28,$B$25,$B$26)) -> #DIV/0! | F28: =IF(F75="MiPyME",IF(F29>=$S$28,$B$25,$B$26),IF(F29>=$T$28,$B$25,$B$26)) -> #DIV/0! | I28: =IF(I75="MiPyME",IF(I29>=$S$28,$B$25,$B$26),IF(I29>=$T$28,$B$25,$B$26)) -> #DIV/0! | J28: =IF(J75="MiPyME",IF(J29>=$S$28,$B$25,$B$26),IF(J29>=$T$28,$B$25,$B$26)) -> #DIV/0! | K28: =IF(K75="MiPyME",IF(K29>=$S$28,$B$25,$B$26),IF(K29>=$T$28,$B$25,$B$26)) -> #DIV/0! | N28: =IF(N75="MiPyME",IF(N29>=$S$28,$B$25,$B$26),IF(N29>=$T$28,$B$25,$B$26)) -> #DIV/0! | Q28: =IF(Q75="MiPyME",IF(Q29>=$S$28,$B$25,$B$26),IF(Q29>=$T$28,$B$25,$B$26)) -> #DIV/0! | S28: 1.03 | T28: 1.19
B29: Activo corriente / Pasivo corriente | C29: =C13/C14 -> #DIV/0! | F29: =F13/F14 -> #DIV/0! | I29: =I13/I14 -> #DIV/0! | J29: =J13/J14 -> #DIV/0! | K29: =K13/K14 -> #DIV/0! | N29: =N13/N14 -> #DIV/0! | Q29: =Q13/Q14 -> #DIV/0!
B30: =CONCATENATE("Endeudamiento total: Menor o Igual a ",S30) -> Endeudamiento total: Menor o Igual a 0,74 | C30: =IF(C75="MiPyME",IF(C31<=$S$30,$B$25,$B$26),IF(C31<=$T$30,$B$25,$B$26)) -> #DIV/0! | F30: =IF(F75="MiPyME",IF(F31<=$S$30,$B$25,$B$26),IF(F31<=$T$30,$B$25,$B$26)) -> #DIV/0! | I30: =IF(I75="MiPyME",IF(I31<=$S$30,$B$25,$B$26),IF(I31<=$T$30,$B$25,$B$26)) -> #DIV/0! | J30: =IF(J75="MiPyME",IF(J31<=$S$30,$B$25,$B$26),IF(J31<=$T$30,$B$25,$B$26)) -> #DIV/0! | K30: =IF(K75="MiPyME",IF(K31<=$S$30,$B$25,$B$26),IF(K31<=$T$30,$B$25,$B$26)) -> #DIV/0! | N30: =IF(N75="MiPyME",IF(N31<=$S$30,$B$25,$B$26),IF(N31<=$T$30,$B$25,$B$26)) -> #DIV/0! | Q30: =IF(Q75="MiPyME",IF(Q31<=$S$30,$B$25,$B$26),IF(Q31<=$T$30,$B$25,$B$26)) -> #DIV/0! | S30: 0.74 | T30: 0.7
B31: (Pasivo total / Activo total)*100 | C31: =C16/C15 -> #DIV/0! | F31: =F16/F15 -> #DIV/0! | I31: =I16/I15 -> #DIV/0! | J31: =J16/J15 -> #DIV/0! | K31: =K16/K15 -> #DIV/0! | N31: =N16/N15 -> #DIV/0! | Q31: =Q16/Q15 -> #DIV/0!
B32: =CONCATENATE("Razón de Cobertura de Intereses Mayor o Igual a ",S32," o Indeterminado") -> Razón de Cobertura de Intereses Mayor o Igual a 0 o Indeterminado | C32: =IF(C75="MiPyME",IF(AND(C33="Indeterminado",C19<=0),$B$26,IF(C33>=$S$32,$B$25,$B$26)),IF(AND(C33="Indeterminado",C19<=0),$B$26,IF(C33>=$T$32,$B$25,$B$26))) -> NO HÁBIL | F32: =IF(F75="MiPyME",IF(AND(F33="Indeterminado",F19<=0),$B$26,IF(F33>=$S$32,$B$25,$B$26)),IF(AND(F33="Indeterminado",F19<=0),$B$26,IF(F33>=$T$32,$B$25,$B$26))) -> NO HÁBIL | I32: =IF(I75="MiPyME",IF(AND(I33="Indeterminado",I19<=0),$B$26,IF(I33>=$S$32,$B$25,$B$26)),IF(AND(I33="Indeterminado",I19<=0),$B$26,IF(I33>=$T$32,$B$25,$B$26))) -> NO HÁBIL | J32: =IF(J75="MiPyME",IF(AND(J33="Indeterminado",J19<=0),$B$26,IF(J33>=$S$32,$B$25,$B$26)),IF(AND(J33="Indeterminado",J19<=0),$B$26,IF(J33>=$T$32,$B$25,$B$26))) -> NO HÁBIL | K32: =IF(K75="MiPyME",IF(AND(K33="Indeterminado",K19<=0),$B$26,IF(K33>=$S$32,$B$25,$B$26)),IF(AND(K33="Indeterminado",K19<=0),$B$26,IF(K33>=$T$32,$B$25,$B$26))) -> NO HÁBIL | N32: =IF(N75="MiPyME",IF(AND(N33="Indeterminado",N19<=0),$B$26,IF(N33>=$S$32,$B$25,$B$26)),IF(AND(N33="Indeterminado",N19<=0),$B$26,IF(N33>=$T$32,$B$25,$B$26))) -> NO HÁBIL | Q32: =IF(Q75="MiPyME",IF(AND(Q33="Indeterminado",Q19<=0),$B$26,IF(Q33>=$S$32,$B$25,$B$26)),IF(AND(Q33="Indeterminado",Q19<=0),$B$26,IF(Q33>=$T$32,$B$25,$B$26))) -> NO HÁBIL | S32: 0 | T32: 1
B33: RC= (Utilidad Operacional) / (Gastos de Intereses) | C33: =IFERROR(C19/C20,"Indeterminado") -> Indeterminado | F33: =IFERROR(F19/F20,"Indeterminado") -> Indeterminado | I33: =IFERROR(I19/I20,"Indeterminado") -> Indeterminado | J33: =IFERROR(J19/J20,"Indeterminado") -> Indeterminado | K33: =IFERROR(K19/K20,"Indeterminado") -> Indeterminado | N33: =IFERROR(N19/N20,"Indeterminado") -> Indeterminado | Q33: =IFERROR(Q19/Q20,"Indeterminado") -> Indeterminado
B34: =CONCATENATE("CAPITAL DE TRABAJO ≥ A ",TEXT(S34,"#,0#%")," DEL PPTO OFICIAL") -> CAPITAL DE TRABAJO ≥ A 30,0% DEL PPTO OFICIAL | C34: =IF(C75="MiPyME",IF(C35>(C23*$S$34),$B$25,$B$26),IF(C35>(C23*$T$34),$B$25,$B$26)) -> NO HÁBIL | F34: =IF(F75="MiPyME",IF(F35>(F23*$S$34),$B$25,$B$26),IF(F35>(F23*$T$34),$B$25,$B$26)) -> NO HÁBIL | I34: =IF(I75="MiPyME",IF(I35>(I23*$S$34),$B$25,$B$26),IF(I35>(I23*$T$34),$B$25,$B$26)) -> NO HÁBIL | J34: =IF(J75="MiPyME",IF(J35>(J23*$S$34),$B$25,$B$26),IF(J35>(J23*$T$34),$B$25,$B$26)) -> NO HÁBIL | K34: =IF(K75="MiPyME",IF(K35>(K23*$S$34),$B$25,$B$26),IF(K35>(K23*$T$34),$B$25,$B$26)) -> NO HÁBIL | N34: =IF(N75="MiPyME",IF(N35>(N23*$S$34),$B$25,$B$26),IF(N35>(N23*$T$34),$B$25,$B$26)) -> NO HÁBIL | Q34: =IF(Q75="MiPyME",IF(Q35>(Q23*$S$34),$B$25,$B$26),IF(Q35>(Q23*$T$34),$B$25,$B$26)) -> NO HÁBIL | S34: 0.3 | T34: 0.2
B35: =CONCATENATE("CT = Activo Corriente - Pasivo Corriente ≥ ",TEXT((S23*S34),"$###.###.###.##0")) -> CT = Activo Corriente - Pasivo Corriente ≥ $240.238.377 | C35: =C13-C14 -> 0 | F35: =F13-F14 -> 0 | I35: =I13-I14 -> 0 | J35: =J13-J14 -> 0 | K35: =K13-K14 -> 0 | N35: =N13-N14 -> 0 | Q35: =Q13-Q14 -> 0
B36: CRITERIO DE VERIFICACIÓN CAPACIDAD ORGANIZACIONAL
B38: =CONCATENATE("Indicador Rentabilidad del Patrimonio",CHAR(10),"Mayor o Igual a ",S38) -> Indicador Rentabilidad del Patrimonio Mayor o Igual a 0 | C38: =IF(C75="MiPyME",IF(C39>=$S$38,$B$25,$B$26),IF(C39>=$T$38,$B$25,$B$26)) -> #DIV/0! | F38: =IF(F75="MiPyME",IF(F39>=$S$38,$B$25,$B$26),IF(F39>=$T$38,$B$25,$B$26)) -> #DIV/0! | I38: =IF(I75="MiPyME",IF(I39>=$S$38,$B$25,$B$26),IF(I39>=$T$38,$B$25,$B$26)) -> #DIV/0! | J38: =IF(J75="MiPyME",IF(J39>=$S$38,$B$25,$B$26),IF(J39>=$T$38,$B$25,$B$26)) -> #DIV/0! | K38: =IF(K75="MiPyME",IF(K39>=$R$38,$B$25,$B$26),IF(K39>=$T$38,$B$25,$B$26)) -> #DIV/0! | N38: =IF(N75="MiPyME",IF(N39>=$S$38,$B$25,$B$26),IF(N39>=$T$38,$B$25,$B$26)) -> #DIV/0! | Q38: =IF(Q75="MiPyME",IF(Q39>=$S$38,$B$25,$B$26),IF(Q39>=$T$38,$B$25,$B$26)) -> #DIV/0! | S38: 0 | T38: 0.04
B39: RP = (Utilidad Operacional / Patrimonio) | C39: =C19/C17 -> #DIV/0! | F39: =F19/F17 -> #DIV/0! | I39: =I19/I17 -> #DIV/0! | J39: =J19/J17 -> #DIV/0! | K39: =K19/K17 -> #DIV/0! | N39: =N19/N17 -> #DIV/0! | Q39: =Q19/Q17 -> #DIV/0!
B40: =CONCATENATE("Indicador Rentabilidad del Activo",CHAR(10),"Mayor o Igual a ",S40) -> Indicador Rentabilidad del Activo Mayor o Igual a 0,06 | C40: =IF(C75="MiPyME",IF(C41>=$S$40,$B$25,$B$26),IF(C41>=$T$40,$B$25,$B$26)) -> #DIV/0! | F40: =IF(F75="MiPyME",IF(F41>=$S$40,$B$25,$B$26),IF(F41>=$T$40,$B$25,$B$26)) -> #DIV/0! | I40: =IF(I75="MiPyME",IF(I41>=$S$40,$B$25,$B$26),IF(I41>=$T$40,$B$25,$B$26)) -> #DIV/0! | J40: =IF(J75="MiPyME",IF(J41>=$S$40,$B$25,$B$26),IF(J41>=$T$40,$B$25,$B$26)) -> #DIV/0! | K40: =IF(K75="MiPyME",IF(K41>=$R$40,$B$25,$B$26),IF(K41>=$T$40,$B$25,$B$26)) -> #DIV/0! | N40: =IF(N75="MiPyME",IF(N41>=$S$40,$B$25,$B$26),IF(N41>=$T$40,$B$25,$B$26)) -> #DIV/0! | Q40: =IF(Q75="MiPyME",IF(Q41>=$S$40,$B$25,$B$26),IF(Q41>=$T$40,$B$25,$B$26)) -> #DIV/0! | S40: 0.06 | T40: 0.02
B41: RA = (Utilidad Operacional / Activo Total) | C41: =C19/C15 -> #DIV/0! | F41: =F19/F15 -> #DIV/0! | I41: =I19/I15 -> #DIV/0! | J41: =J19/J15 -> #DIV/0! | K41: =K19/K15 -> #DIV/0! | N41: =N19/N15 -> #DIV/0! | Q41: =Q19/Q15 -> #DIV/0!
B42: CUMPLIMIENTO REQUISITOS HABLITANTES | C42: =+IF(COUNTIF(C28:C41,"NO HÁBIL")>=1,"NO HABILITADO","HABILITADO") -> NO HABILITADO | F42: =+IF(COUNTIF(F28:F41,"NO HÁBIL")>=1,"NO HABILITADO","HABILITADO") -> NO HABILITADO | I42: =+IF(COUNTIF(I28:I41,"NO HÁBIL")>=1,"NO HABILITADO","HABILITADO") -> NO HABILITADO | J42: =+IF(COUNTIF(J28:J41,"NO HÁBIL")>=1,"NO HABILITADO","HABILITADO") -> NO HABILITADO | K42: =+IF(COUNTIF(K28:K41,"NO HÁBIL")>=1,"NO HABILITADO","HABILITADO") -> NO HABILITADO | N42: =+IF(COUNTIF(N28:N41,"NO HÁBIL")>=1,"NO HABILITADO","HABILITADO") -> NO HABILITADO | Q42: =+IF(COUNTIF(Q28:Q41,"NO HÁBIL")>=1,"NO HABILITADO","HABILITADO") -> NO HABILITADO
B44: NOTA: Una vez verificada la Información Financiera presentada por cada uno de los proponentes, se informa que las sociedades arriba descritas, que cumplen con lo solicitado en los pliegos de condiciones definitivos en cuanto a los Indicadores Financieros requeridos, se encuentran HABILITADAS.
B47: =B72 -> Fecha de cierre del proceso:
...

Sheet Consolidado 01 a 05
B1: Alcaldía de Bogotá D.C.
B2: Secretaría Distrital de Gobierno
B3: Alcaldía Local de Suba
B5: ='FDLS-SAMC-009-2024 01 al 05'!B6 -> MENOR CUANTIA FDLS-SAMC-009-2024
B6: ='FDLS-SAMC-009-2024 01 al 05'!B7 -> OBJETO: CONTRATAR LAS OBRAS DE DEMOLICIÓN ORDENADAS EN LOS PROCESOS ADMINISTRATIVOS Y/O POLICIVOS EMITIDOS POR AUTORIDAD LOCAL O POR ORDEN JUDICIAL, ASÍ COMO LOS IMPARTIDOS EN LOS OPERATIVOS POR EL ALCALDE LOCAL
B7: Presupuesto Oficial del Proceso | C7: ='FDLS-SAMC-009-2024 01 al 05'!K23 -> 180000000
B8: Fecha corte Información Financiera | C8: 45291 | D8: 44926 | E8: 44561
B9: Fecha cierre del proceso de selección | C9: ='FDLS-SAMC-009-2024 01 al 05'!E72 -> 45638
B10: VERIFICACIóN DE LOS INDICADORES | I10: RUP | J10: RESULTADO FINANCIERO | K10: OBERVACIONES
B11: NOMBRE DEL PROPONENTE | C11: Índice de liquidez | D11: Índice de endeudamiento | E11: Razón de Cobertura de intereses | F11: Capital de trabajo | G11: Rentabilidad del patrimonio | H11: Rentabilidad del activo | I11: VIGENTE; EN FIRME Y 30 DÍAS ANTERIORES
A12: ='FDLS-SAMC-009-2024 01 al 05'!C9 -> 1 | B12: ='FDLS-SAMC-009-2024 01 al 05'!C8 -> MB CONSTRUCCIONES Y DISEÑOS SAS | C12: CUMPLE | D12: CUMPLE | E12: CUMPLE | F12: CUMPLE | G12: CUMPLE | H12: CUMPLE | I12: VIGENTE | J12: HABILITADO
A13: =A12+1 -> 2 | B13: ='FDLS-SAMC-009-2024 01 al 05'!D8 -> GAYRA CONSTRUCCIONES SAS | C13: CUMPLE | D13: CUMPLE | E13: CUMPLE | F13: CUMPLE | G13: CUMPLE | H13: CUMPLE | I13: VIGENTE | J13: HABILITADO
A14: =A13+1 -> 3 | B14: ='FDLS-SAMC-009-2024 01 al 05'!G8 -> CONSORCIO LA PLATA | C14: CUMPLE | D14: CUMPLE | E14: CUMPLE | F14: CUMPLE | G14: CUMPLE | H14: CUMPLE | I14: VIGENTE | J14: HABILITADO
A15: =A14+1 -> 4 | B15: ='FDLS-SAMC-009-2024 01 al 05'!H8 -> G&V ASOCIADOS SAS | C15: CUMPLE | D15: CUMPLE | E15: CUMPLE | F15: CUMPLE | G15: CUMPLE | H15: CUMPLE | I15: VIGENTE | J15: HABILITADO
A16: =A15+1 -> 5 | B16: ='FDLS-SAMC-009-2024 01 al 05'!I8 -> INFRAESTRUCTURA INTEGRAL SAS | C16: CUMPLE | D16: CUMPLE | E16: CUMPLE | F16: CUMPLE | G16: CUMPLE | H16: CUMPLE | I16: VIGENTE | J16: HABILITADO
A17: =A16+1 -> 6
A18: =A17+1 -> 7
A19: =A18+1 -> 8
A20: =A19+1 -> 9
A21: =A20+1 -> 10
A22: =A21+1 -> 11
A23: =A22+1 -> 12
A24: =A23+1 -> 13
A25: =A24+1 -> 14
A26: =A25+1 -> 15
A27: =A26+1 -> 16
A28: =A27+1 -> 17
... A31: =A30+1 -> 20
A33: * Se realiza la Evaluación Financiera y Organizacional de acuerdo a lo establecido con el pliego de condiciones definitivo del proceso; la evaluación es puesta a disposición de la Oficina de Contratación y Despacho para que se continúe con el proceso de evaluación.
B35: ='FDLS-SAMC-009-2024 01 al 05'!B48 -> 45638
E38: Jonatan Ovalle Diaz
E39: Profesional Área de Contratación - FDL Suba
E40: Comité Evaluador Financiero
