Workbook
Name PRINT_AREA: #N/A
Name PRINT_AREA_MI: #N/A
Name PRINT_AREA_MI: #N/A
Name PRINT_TITLES: #N/A
Name PRINT_TITLES_MI: #N/A
Name PRINT_TITLES_MI: #N/A

Sheet LISTA DE OFERENTES
A1: FONDO DE DESARROLLO LOCAL DE FONTIBÓN
A2: FDLF-CMA-001-2024
A3: No. | B3: NOMBRE | C3: REPRESENTANTE LEGAL | D3: TIPO DE OFERENTE | E3: CONSORCIADO 1 | F3: CONSORCIADO 2 | G3: CONSORCIADO 3 | H3: CONSORCIADO 4 | I3: OBSERVACIONES
A4: 1 | B4: CONSORCIO INTERVIALES PCI-PC | C4: PEDRO JOSÉ CORREDOR BECERRA | D4: CONSORCIO | E4: PC PROYECCION E INGENIERIA SAS 50% | F4: JORGE WILLAN CORZO GARCIA 10% | G4: GERMAN ALONSO PUENTES GORDO 30% | H4: INCORDIS SAS 10%
A5: 2 | B5: CONSORCIO VÍAS FONTIBÓN 2025 | C5: SANTIAGO CARRILLO VARGAS | D5: CONSORCIO | E5: SANDRA MONICA CARDOZO 50% | F5: SAVIMAC SAS 50%
A6: 3 | B6: MORALBA SANCHEZ ORDOÑEZ | C6: MORALBA SANCHEZ ORDOÑEZ | D6: PERSONA NATURAL | E6: MORALBA SANCHEZ ORDOÑEZ (100%)
A7: 4 | B7: GRUPO METRO COLOMBIA SAS | C7: OSCAR ALFREDO MONTOYA CASTRO | D7: PERSONA JURIDICA NACIONAL | E7: GRUPO METRO COLOMBIA SAS (100%)
A8: 5 | B8: CONSORCIO INTER CGS F1 | C8: RICAUTE ALVAREZ PARRADO | D8: CONSORCIO | E8: CONSULTORIA VIAL S.A.S 50% | F8: GRUPO INFRAESTRUCTURA COLOMBIA SAS 40% | G8: SL SENDAS INGENIERIA SAS 10%
A9: 6 | B9: INGENIEROS CONSTRUCTORES Y ASESORES SAS | C9: ESTHER PAULINA MARTINEZ MENDOZA | D9: PERSONA JURIDICA NACIONAL | E9: INGENIEROS CONSTRUCTORES Y ASESORES SAS (100%)
A10: 7 | B10: GPM PROYECTOS DE INGENIERIA SAS | C10: GONZALO EDUARDO PAZ MATALLANA | D10: PERSONA JURIDICA NACIONAL | E10: GPM PROYECTOS DE INGENIERIA SAS (100%)
A11: 8 | B11: CONSORCIO MODELIA 24 | C11: CARLOS MARIO ROLÓN AMAYA | D11: CONSORCIO | E11: INGECO INGENIERIA DE CONSTRUCCIONES S.A.S 50% | F11: INGENIERIA DE PROYECTOS S.A.S. 50%
A12: 9 | B12: UNIÓN TEMPORAL ROADS 402 | C12: ANTONIO JOSE PEDRAZA JIMENEZ | D12: UNION TEMPORAL | E12: ANTONIO JOSE PEDRAZA JIMENEZ 50% | F12: CONTRERAS CORTES SERVICIOS DE INGENIERIA SAS 40% | G12: TERRA NOVO CONSTRUCCIONES SAS 10%
A13: 10 | B13: CONSORCIO MALLA VIAL 206 | C13: PAOLA DEL PILAR LÓPEZ ROJAS | D13: CONSORCIO | E13: LUPSA INGENIERIA Y CONSTRUCCIONES S.A.S. 70% | F13: SUCA CONSTRUCCIONES S.A.S. 30%
A14: 11 | B14: INTERVENTORIA Y CONSTRUCIVILES SAS | C14: CARLOS ALBERTO ARAMBULA CURREA | D14: PERSONA JURIDICA NACIONAL | E14: INTERVENTORIA Y CONSTRUCIVILES SAS (100%)
A15: 12 | B15: EMPROCIV SAS | C15: NESTOR ANIBAL ESPINOSA NIÑO | D15: PERSONA JURIDICA NACIONAL | E15: EMPROCIV SAS (100%)
A16: 13 | B16: CONSORCIO NOGAALL-LITORAL | C16: JORGE HERNANDO BELTRÁN CATUMBA | D16: CONSORCIO | E16: NOGALL SAS (60%) | F16: LITORAL CONSULTING SAS (40%)
A17: 14 | B17: GRUCOING SAS | C17: LUZ ANGELA JARAMILLO DIAZ | D17: PERSONA JURIDICA NACIONAL | E17: GRUCOING SAS (100%)
A18: 15 | B18: CONSORCIO ESPACIOS TVH | C18: FABIAN ANDRES VALLEJO PACHÓN | D18: CONSORCIO | E18: COMPAÑÍA CONSULTORA COLOMBIANA TRIPLE C S.A.S BIC (50%) | F18: VALLEJO H INGENIEROS CONSULTORES CONSTRUCTORES S.A.S (50%)
A19: 16 | B19: CONSORCIO VIAS Y ESP | C19: FABIO MERCK RAMIREZ POVEDA | D19: CONSORCIO | E19: MIRS LATINOAMERICA S.A.S. (90%) | F19: ACM ESTUDIOS SOCIO AMBIENTALES S.A.S (10%)
A20: 17 | B20: CONSORCIO FONTIBON GM | C20: DANIEL ERNESTO RUIZ PARRA | D20: CONSORCIO | E20: MSING SAS (90%) | F20: GRMM S.A.S. (10%)
A21: 18 | B21: CONSORCIO I.D. FONTIBÓN | C21: JULIAN DARIO OCHOA NIÑO | D21: CONSORCIO | E21: DISEÑOS INTERVENTORIAS Y SERVICIOS S.A.S. (90%) | F21: INGENIERIA DESARROLLO Y CONSULTORIA INDESCO S.A.S. BIC (10%)
A22: 19 | B22: CONSORCIO LG FONTIBÓN | C22: BLANCA LILLYAM TABARES MESA | D22: CONSORCIO | E22: LÍNEA GLOBAL INGENIERÍA S. A. S. (50%) | F22: GERARDO DÍAZ MANJARRÉS (50%)
A23: 20 | B23: INTERSA S.A | C23: ISABEL VICTORIA LEON REYES | D23: PERSONA JURIDICA NACIONAL | E23: INTERSA S.A (100%)
A24: 21 | B24: CODIPRO INGENIERIA Y ARQUITECTURA LTDA. CONSTRUCCIONES, DISEÑOS Y PROYECTOS | C24: JESUS MARIA BERDUGO LEAL | D24: PERSONA JURIDICA NACIONAL | E24: CODIPRO INGENIERIA Y ARQUITECTURA LTDA. CONSTRUCCIONES, DISEÑOS Y PROYECTOS (100%)
A25: 22 | B25: CONSORCIO INGESCOR R 2024 | C25: AURA ELENA LÓPEZ MENDOZA | D25: CONSORCIO | I25: no presento documento consorcial
A26: 23 | B26: CONSORCIO INTERVIAL URBANO | C26: RAFAEL VILLAR OSPINA | D26: CONSORCIO | E26: IAR PROYECTOS SAS (50%) | F26: BATEMAN INGENIERIA SAS (50%)
A27: 24 | B27: VELNEC SA | C27: PAULA ANDREA MARTINEZ MORA | D27: PERSONA JURIDICA NACIONAL | E27: VELNEC SA (100%)
A28: 25 | B28: CONSORCIO INTERFONTIBON 2024 | C28: LADY MERCEDES AGUIRRE ORTIZ | D28: CONSORCIO | E28: AESA PROYECTOS SAS (50%) | F28: BALER INGENIERIA SAS BIC (50%)
A29: 26 | B29: ING INGENIERIA S.A.S | C29: CARLOS ALBERTO BELLO AVENA | D29: PERSONA JURIDICA NACIONAL | E29: ING INGENIERIA S.A.S (100%)
A30: 27 | B30: CONSORCIO FATIMA | C30: ERLY GIOVANNA CUÉLLAR OBREGÓN | D30: CONSORCIO | E30: ARA INGENIERIA SAS (90%) | F30: JOSE ALBERTO ROJAS PRIETO (10%)
A31: 28 | B31: GEOTECNIA Y CIMIENTOS INGEOCIM S.A.S. | C31: ALEXANDRA LILIANA RINCON ROSAS | D31: PERSONA JURIDICA NACIONAL | E31: GEOTECNIA Y CIMIENTOS INGEOCIM S.A.S.(100%)
A32: 29 | B32: CONSORCIO FONTIBON JINT 001 | C32: CESAR AUGUSTO PALACIOS WILCHES | D32: CONSORCIO | E32: JPS INGENIERIA S.A.S.(90%) | F32: INTING S.A.S. (10%)
A33: 30 | B33: CONSORCIO ALIANZA BOGOTA | C33: DIEGO ALEJANDRO LEIVA ORTIZ | D33: CONSORCIO | E33: MSC INGENIERIA SAS (90%) | F33: CORTES LEIVA ASOCIADOS SAS (10%)
A34: 31 | B34: CONSORCIO FEM – 34 | C34: CAMILO ALBERTO HERRERA BERNAL, | D34: CONSORCIO | E34: MONTENEGRO Y COMPAÑIA S.A.S. 60% | F34: FLAVIO RICARDO JIMÉNEZ MEJÍA 30% | G34: EJECUCIÓN Y GERENCIA DE PROYECTOS S.A.S. 10%
A35: 32 | B35: CONSORCIO INTER FONTIBON | C35: ANGELA MARIA DAVILA MORALES | D35: CONSORCIO | E35: INGENIERIA Y CONSULTORIA INGECON S.A.S.(50%) | F35: ECG INGENIERIA S.A.S (50%)
A36: 33 | B36: CONSORCIO ID FONTIBON 001 | C36: LUZ MARINA ORTEGA OCHOA | D36: CONSORCIO | E36: NTERVENTORIAS Y DISEÑOS S.A- INTERDISEÑOS 20% | F36: INTERDISEÑOS ASOCIADOS S.A.S 80%
A37: 34 | B37: CTV FONTIBON | C37: RAFAEL PAOLA PASSO DE LA HOZ | D37: CONSORCIO | E37: INGENIERIA MASTER 50% | F37: JET INGENIERIA 50%
A38: 35 | B38: ESTUDIOS TÉCNICOS Y CONSTRUCCIONES SAS | C38: MANUEL LEOPOLDO GONGORA SIERRA | D38: PERSONA JURIDICA NACIONAL | E38: ESTUDIOS TÉCNICOS Y CONSTRUCCIONES SAS 100%
A39: 36 | B39: ALIANZA INTEGRAL DE PROYECTOS SAS BIC | C39: YURI VIVIANA ARCILA RODRIGUEZ | D39: PERSONA JURIDICA NACIONAL | E39: ALIANZA INTEGRAL DE PROYECTOS SAS BIC 100%
A40: 37 | B40: CONSORCIO EPSILON FONTIBON | C40: WILSON GIOVANNI URREA URREA | D40: CONSORCIO | E40: PROYECTOS E INTERVENTORÍAS S.A.S – PI S.A.S. 70% | F40: INGENIERÍA DE ESTUDIOS Y ASESORIAS S.A.S. INESAS S.A.S 30%
...

Sheet EXPERIENCIA DEL PROPONENTE
A1: FONDO DE DESARROLLO LOCAL DE FONTIBÓN
A2: FDLF-CMA-001-2023
A3: REQUISITOS PONDERABLE FACTOR No. 1
A6: 1 | E6: =VLOOKUP(A6,'REQUISITOS HAB. TECNICOS'!$A$5:$B$66,2,FALSE) -> CONSORCIO INTERVIALES PCI-PC
A7: NÚMERO DE CONTRATOS PRESENTADOS | B7: 5 | C7: PRESUPUESTO OFICIAL EN SMMLV | D7: =$D$899 -> 618.89672
A8: PROMEDIO DE SMMLV | C8: =H24/B7 -> 1380.2986
A9: TERMINO DE EJECUCION EXIGIDO | C9: 45631
A10: TOTAL SALARIOS MINIMOS ACREDITADOS | C10: =+IF(H24>D7,"CUMPLE","NO CUMPLE") -> CUMPLE
A11: CONDICIONES DE EXPERIENCIA | I11: CONDICION N°. 1 (VER TABLA AL FINAL DE LA HOJA) | J11: CONDICION N°. 2 (VER TABLA AL FINAL DE LA HOJA) | K11: CONDICION N°. 4 (VER TABLA AL FINAL DE LA HOJA) | M11: CONCLUSIÓN EXPERIENCIA GENERAL | N11: CONCLUSIÓN EXPERIENCIA ESPECIFICA 1 intervención de la estructura de pavimento (asfáltico o hidráulico). | O11: CONCLUSIÓN EXPERIENCIA ESPECIFIC 2 intervención de redes de servicios públicos. | P11: CONCLUSIÓN EXPERIENCIA ESPECIFICA 3 CONSTRUCCIÓN O RECONSTRUCCIÓN O REHABILITACIÓN O MEJORAMIENTO O REPAVIMENTACIÓN O PAVIMENTACIÓN en pavimento hidráulico o concreto hidráulico para tráfico vehicular. | Q11: CONCLUSIÓN EXPERIENCIA ESPECIFIC 4 CONSTRUCCIÓN O RECONSTRUCCIÓN REHABILITACIÓN O MEJORAMIENTO O REPAVIMENTACIÓN O PAVIMENTACIÓN en pavimento articulado o adoquinado. | R11: OBSERVACIÓN Y RESPUESTA OBSERVACIONES
A12: Objeto del Contrato | B12: Entidad Contratante | D12: Valor Contrato | E12: Año de ejecución aportado | F12: Valor del Contrato en SMMLV | G12: Participación UT/CONSORCIO | H12: Participación en SMMLV | I12: Término de ejecución aportado | J12: CODIGO UNSPSC SEGMENTOS 80 Y 81 | K12: validez del contrato | L12: Valor exigido 100%SMMLV (618,90)
A13: =VLOOKUP(A6,'LISTA DE OFERENTES'!$A$4:$F$82,5,FALSE) -> PC PROYECCION E INGENIERIA SAS 50%
A14: “INTERVENTORIA PARA EL MEJORAMIENTO, MANTENIMIENTO Y REHABILITACION DE LA CARRETERA SOGAMOSO-EL CRUCERO- AGUAZUL, RUTA 6211 Y 62BY05 DEL PR13+0000- PR14+1300, EN LOS DEPARTAMENTOS DE BOYACÁ Y CASANARE A CARGO INVIAS. | B14: INVIAS | D14: 2180080116 | E14: 2021 | F14: =D14/(VLOOKUP(E14,$D$929:$E$962,2,FALSE)) -> 2399.5792 | G14: 0.2 | H14: =F14*G14 -> 479.91585 | I14: 44269 | J14: CUMPLE | K14: CUMPLE | L14: =IF(K14="CUMPLE",H14,0) -> 479.91585 | M14: CUMPLE | N14: CUMPLE | O14: CUMPLE | P14: NO CUMPLE | Q14: CUMPLE
A15: INTERVENTORÍA TÉCNICA, ADMINISTRATIVA, FINANCIERA, LEGAL Y AMBIENTAL AL CONTRATO DE OBRA CUYO OBJETO ES CONSTRUCCIÓN DE PAVIMENTO RÍGIDO DE LAS VÍAS ALTERNAS DEL MUNICIPIO DE PISBA DEPARTAMENTO DE BOYACÁ | B15: MUNICIPIO DE PISBA | D15: 109994720 | E15: 2014 | F15: =D15/(VLOOKUP(E15,$D$929:$E$962,2,FALSE)) -> 178.56286 | G15: 0.7 | H15: =F15*G15 -> 124.994 | I15: 41992 | J15: CUMPLE | K15: CUMPLE | L15: =IF(K15="CUMPLE",H15,0) -> 124.994 | M15: CUMPLE | N15: CUMPLE | O15: CUMPLE | P15: CUMPLE | Q15: NO CUMPLE
A16: INTERVENTORIA PARA EL MEJORAMIENTO Y MANTENIMIENTO DE LA CARRETERA BUCARAMANGA - SAN ALBERTO, RUTA 45A, TRAMO 08, SECTOR RIONEGRO- SAN ALBERTOPR 18+000 - PR93+694, EN EL DEPARTAMENTO DE SANTANDER | B16: INVIAS | D16: 1015436044 | E16: 2019 | F16: =D16/(VLOOKUP(E16,$D$929:$E$962,2,FALSE)) -> 1226.2002 | G16: 0.15 | H16: =F16*G16 -> 183.93004 | I16: 2&/06/2019 | J16: CUMPLE | K16: CUMPLE | L16: =IF(K16="CUMPLE",H16,0) -> 183.93004 | M16: CUMPLE | N16: CUMPLE | O16: CUMPLE | P16: NO CUMPLE | Q16: NO CUMPLE
A17: =VLOOKUP(A6,'LISTA DE OFERENTES'!$A$4:$I$82,7,FALSE) -> GERMAN ALONSO PUENTES GORDO 30%
A18: “INTERVENTORIA PARA EL MEJORAMIENTO, MANTENIMIENTO Y REHABILITACION DE LA CARRETERA SOGAMOSO-EL CRUCERO- AGUAZUL, RUTA 6211 Y 62BY05 DEL PR13+0000- PR14+1300, EN LOS DEPARTAMENTOS DE BOYACÁ Y CASANARE A CARGO INVIAS. | B18: INVIAS | D18: 2180080116 | E18: 2021 | F18: =D18/(VLOOKUP(E18,$D$929:$E$962,2,FALSE)) -> 2399.5792 | G18: 0.6 | H18: =F18*G18 -> 1439.7475 | I18: 44269 | J18: CUMPLE | K18: CUMPLE | L18: =IF(K18="CUMPLE",H18,0) -> 1439.7475 | M18: CUMPLE | N18: CUMPLE | O18: CUMPLE | P18: NO CUMPLE | Q18: CUMPLE
A19: INTERVENTORIA PARA LA REHABILITACIÓN, MEJORAMIENTO Y PAVIMENTACIÓN DE LA VÍA ZANJÓN - PUEBLO BELLO INCLUYE AMPLIACIÓN, ESTRIBOS Y PLACA DE 2 PUENTES DE LUCES DE 21 Y 22 METROS, UN TABLERO DE 9 METROS, EN EL DEPARTAMENTO DEL CESAR: MODULO 1 | B19: INVIAS | D19: 2866431040 | E19: 2016 | F19: =D19/(VLOOKUP(E19,$D$929:$E$962,2,FALSE)) -> 4157.5317 | G19: 0.4 | H19: =F19*G19 -> 1663.0127 | I19: 42628 | J19: CUMPLE | K19: CUMPLE | L19: =IF(K19="CUMPLE",H19,0) -> 1663.0127 | M19: CUMPLE | N19: CUMPLE | O19: NO CUMPLE | P19: CUMPLE | Q19: NO CUMPLE
A20: INTERVENTORIA DE LAS OBRAS ENCAMINADAS AL MEJORAMIENTO DE LA CARRETERA YOPAL - TILO - ALGARROBO- OROCUE SECTOR YOPAL TILODRIAN (PAVIMENTACIÓN DEL K21+650 AL K37+650 L = 16 KM. | B20: Organización de Estados Iberoamericana | D20: 645885070 | E20: 2002 | F20: =D20/(VLOOKUP(E20,$D$929:$E$962,2,FALSE)) -> 2090.2429 | G20: 1 | H20: =F20*G20 -> 2090.2429 | I20: 37516 | J20: CUMPLE | K20: CUMPLE | L20: =IF(K20="CUMPLE",H20,0) -> 2090.2429 | M20: CUMPLE | N20: CUMPLE | O20: NO CUMPLE | P20: CUMPLE | Q20: NO CUMPLE
A21: INTERVENTORIA PARA EL MEJORAMIENTO Y MANTENIMIENTO DE LA CARRETERA BUCARAMANGA - SAN ALBERTO, RUTA 45A, TRAMO 08, SECTOR RIONEGRO- SAN ALBERTOPR 18+000 - PR93+694, EN EL DEPARTAMENTO DE SANTANDER | B21: INVIAS | D21: 1015436044 | E21: 2019 | F21: =D21/(VLOOKUP(E21,$D$929:$E$962,2,FALSE)) -> 1226.2002 | G21: 0.6 | H21: =F21*G21 -> 735.72015 | I21: 2&/06/2019 | J21: CUMPLE | K21: CUMPLE | L21: =IF(K21="CUMPLE",H21,0) -> 735.72015 | M21: CUMPLE | N21: CUMPLE | O21: CUMPLE | P21: NO CUMPLE | Q21: NO CUMPLE
A22: =VLOOKUP(A6,'LISTA DE OFERENTES'!$A$4:$I$82,6,FALSE) -> JORGE WILLAN CORZO GARCIA 10%
A23: INTERVENTORIA PARA EL MEJORAMIENTO Y MANTENIMIENTO DE LA CARRETERA BUCARAMANGA - SAN ALBERTO, RUTA 45A, TRAMO 08, SECTOR RIONEGRO- SAN ALBERTOPR 18+000 - PR93+694, EN EL DEPARTAMENTO DE SANTANDER | B23: INVIAS | D23: 1015436044 | E23: 2019 | F23: =D23/(VLOOKUP(E23,$D$929:$E$962,2,FALSE)) -> 1226.2002 | G23: 0.15 | H23: =F23*G23 -> 183.93004 | I23: 2&/06/2019 | J23: CUMPLE | K23: CUMPLE | L23: =IF(K23="CUMPLE",H23,0) -> 183.93004 | M23: CUMPLE | N23: CUMPLE | O23: CUMPLE | P23: NO CUMPLE | Q23: NO CUMPLE
A24: TOTALES | F24: =+SUM(F14:F16)+SUM(F18:F21)+F23 -> 14904.097 | H24: =SUM(H14:H23) -> 6901.4932 | R24: CUMPLE
A26: =1+A6 -> 2 | E26: =VLOOKUP(A26,'REQUISITOS HAB. TECNICOS'!$A$5:$B$66,2,FALSE) -> CONSORCIO VÍAS FONTIBÓN 2025
A27: NÚMERO DE CONTRATOS PRESENTADOS | B27: 3 | C27: PRESUPUESTO OFICIAL EN SMMLV | D27: =$D$899 -> 618.89672
A28: PROMEDIO DE SMMLV | C28: =+AVERAGE(H34:H37) -> 880.85895
A29: TERMINO DE EJECUCION EXIGIDO | C29: 45631
A30: TOTAL SALARIOS MINIMOS ACREDITADOS | C30: =+IF(H38>D27,"CUMPLE","NO CUMPLE") -> CUMPLE
A31: CONDICIONES DE EXPERIENCIA | I31: CONDICION N°. 1 (VER TABLA AL FINAL DE LA HOJA) | J31: CONDICION N°. 2 (VER TABLA AL FINAL DE LA HOJA) | K31: CONDICION N°. 4 (VER TABLA AL FINAL DE LA HOJA) | M31: CONCLUSIÓN EXPERIENCIA GENERAL | N31: CONCLUSIÓN EXPERIENCIA ESPECIFICA 1 intervención de la estructura de pavimento (asfáltico o hidráulico). | O31: CONCLUSIÓN EXPERIENCIA ESPECIFIC 2 intervención de redes de servicios públicos. | P31: CONCLUSIÓN EXPERIENCIA ESPECIFICA 3 CONSTRUCCIÓN O RECONSTRUCCIÓN O REHABILITACIÓN O MEJORAMIENTO O REPAVIMENTACIÓN O PAVIMENTACIÓN en pavimento hidráulico o concreto hidráulico para tráfico vehicular. | Q31: CONCLUSIÓN EXPERIENCIA ESPECIFIC 4 CONSTRUCCIÓN O RECONSTRUCCIÓN REHABILITACIÓN O MEJORAMIENTO O REPAVIMENTACIÓN O PAVIMENTACIÓN en pavimento articulado o adoquinado. | R31: OBSERVACIÓN Y RESPUESTA OBSERVACIONES
A32: Objeto del Contrato | B32: Entidad Contratante | D32: Valor Contrato | E32: Año de ejecución aportado | F32: Valor del Contrato en SMMLV | G32: Participación UT/CONSORCIO | H32: Participación en SMMLV | I32: Término de ejecución aportado | J32: CODIGO UNSPSC SEGMENTOS 80 Y 81 | K32: validez del contrato | L32: Valor exigido 100%SMMLV (618,90)
A33: =VLOOKUP(A26,'[1]LISTA DE OFERENTES'!$A$4:$F$82,5,FALSE) -> SANDRA MONICA CARDOZO 50%
A34: Interventoría técnica, Administariva, Legal, Financiera, social, ambiental y siso, a los dos contratos de obra pública derivados dela licitación pública Nº FDLUSA-LP-007-2014, convocada por} la alcaldía Local-FDLU | B34: FONDO DE DESARROLLO LOCAL DE USAQUÉN | D34: 2196942792 | E34: 2015 | F34: =D34/(VLOOKUP(E34,$D$929:$E$962,2,FALSE)) -> 3409.5488 | G34: 0.425 | H34: =F34*G34 -> 1449.0583 | I34: 42343 | J34: CUMPLE | K34: CUMPLE | L34: =IF(K34="CUMPLE",H34,0) -> 1449.0583 | M34: CUMPLE | N34: CUMPLE | O34: CUMPLE | P34: CUMPLE | Q34: NO CUMPLE
A35: Contratar la interventoría técnica, administrativa, financiera, legal, ambiental y social a la ejecución del contrato de obra pública que suscriba el fondo de desarrollo local de los mártires como resultado de la adjudicación de la licitación pública no. fdlm-lp-004-2014. | B35: FONDO DE DESARROLLO LOCAL DE LOS MARTIRES | D35: 785941819 | E35: 2016 | F35: =D35/(VLOOKUP(E35,$D$929:$E$962,2,FALSE)) -> 1139.9465 | G35: 0.5 | H35: =F35*G35 -> 569.97325 | I35: 42417 | J35: CUMPLE | K35: CUMPLE | L35: =IF(K35="CUMPLE",H35,0) -> 569.97325 | M35: CUMPLE | N35: CUMPLE | O35: CUMPLE | P35: CUMPLE | Q35: CUMPLE
A36: =VLOOKUP(A26,'LISTA DE OFERENTES'!$A$4:$I$82,6,FALSE) -> SAVIMAC SAS 50%
A37: REALIZAR LA INTERVENTORÍA TÉCNICA, ADMINISTRATIVA, FINANCIERA, JURÍDICA, SOCIAL, AMBIENTAL Y SISO AL CONTRATO DE OBRA PUBLICA No. COP-171-2016, QUE TIENE POR OBJETO REALIZAR BAJO LA MODALIDAD DE PRECIOS UNITARIOS, SIN FÓRMULA DE REAJUSTE, LA CONSTRUCCIÓN DE LA MALLA VIAL RURAL Y LA REHABILITACIÓN DE LA MALLA VIAL URBANA DE LA LOCALIDAD DE CIUDAD BOLÍVAR D.C | B37: FONDO DE DESARROLLO LOCAL DE CIUDAD BOLIVAR | D37: 919999997 | E37: 2017 | F37: =D37/(VLOOKUP(E37,$D$929:$E$962,2,FALSE)) -> 1247.0907 | G37: 0.5 | H37: =F37*G37 -> 623.54534 | I37: 43073 | J37: CUMPLE | K37: CUMPLE | L37: =IF(K37="CUMPLE",H37,0) -> 623.54534 | M37: CUMPLE | N37: CUMPLE | O37: CUMPLE | P37: NO CUMPLE | Q37: CUMPLE
A38: TOTALES | F38: =+SUM(F34:F37) -> 5796.586 | H38: =+SUM(H34:H37) -> 2642.5768 | R38: CUMPLE
A40: =1+A26 -> 3 | E40: =VLOOKUP(A40,'REQUISITOS HAB. TECNICOS'!$A$5:$B$66,2,FALSE) -> MORALBA SANCHEZ ORDOÑEZ
A41: NÚMERO DE CONTRATOS PRESENTADOS | B41: 2 | C41: PRESUPUESTO OFICIAL EN SMMLV | D41: =$D$899 -> 618.89672
A42: PROMEDIO DE SMMLV | C42: =+AVERAGE(H48:H49) -> #DIV/0!
A43: TERMINO DE EJECUCION EXIGIDO | C43: 45631
A44: TOTAL SALARIOS MINIMOS ACREDITADOS | C44: =+IF(H50>D41,"CUMPLE","NO CUMPLE") -> NO CUMPLE
...

Sheet REQUISITOS HAB. TECNICOS
A1: FONDO DE DESARROLLO LOCAL DE FONTIBÓN
A2: FDLF-CMA-001-2024
A3: REQUISITOS HABILITANTES TÉCNICOS
A4: No. | B4: OFERENTE | C4: FORMATO 8 - ACEPTACIÓN Y CUMPLIMIENTO PERSONAL CLAVE | D4: EXIGENCIA MINIMA DE LA EXPERIENCIA | E4: OFERTA ECONOMICA | F4: CONSOLIDADO | G4: OBSERVACIONES
A5: 1 | B5: ='LISTA DE OFERENTES'!B4 -> CONSORCIO INTERVIALES PCI-PC | C5: CUMPLE | D5: =+'EXPERIENCIA DEL PROPONENTE'!R24 -> CUMPLE | E5: CUMPLE | F5: CUMPLE
A6: =A5+1 -> 2 | B6: ='LISTA DE OFERENTES'!B5 -> CONSORCIO VÍAS FONTIBÓN 2025 | C6: CUMPLE | D6: =+'EXPERIENCIA DEL PROPONENTE'!R38 -> CUMPLE | E6: CUMPLE | F6: CUMPLE
A7: =A6+1 -> 3 | B7: ='LISTA DE OFERENTES'!B6 -> MORALBA SANCHEZ ORDOÑEZ | C7: CUMPLE | D7: =+'EXPERIENCIA DEL PROPONENTE'!R50 -> NO CUMPLE | E7: CUMPLE | F7: NO CUMPLE
A8: =A7+1 -> 4 | B8: ='LISTA DE OFERENTES'!B7 -> GRUPO METRO COLOMBIA SAS | C8: CUMPLE | D8: =+'EXPERIENCIA DEL PROPONENTE'!R65 -> CUMPLE | E8: CUMPLE | F8: CUMPLE
A9: =A8+1 -> 5 | B9: ='LISTA DE OFERENTES'!B8 -> CONSORCIO INTER CGS F1 | C9: CUMPLE | D9: =+'EXPERIENCIA DEL PROPONENTE'!R81 -> NO CUMPLE | E9: CUMPLE | F9: NO CUMPLE
A10: =A9+1 -> 6 | B10: ='LISTA DE OFERENTES'!B9 -> INGENIEROS CONSTRUCTORES Y ASESORES SAS | C10: CUMPLE | D10: =+'EXPERIENCIA DEL PROPONENTE'!R94 -> NO CUMPLE | E10: CUMPLE | F10: NO CUMPLE
A11: =A10+1 -> 7 | B11: ='LISTA DE OFERENTES'!B10 -> GPM PROYECTOS DE INGENIERIA SAS | C11: CUMPLE | D11: =+'EXPERIENCIA DEL PROPONENTE'!R107 -> CUMPLE | E11: CUMPLE | F11: CUMPLE
A12: =A11+1 -> 8 | B12: ='LISTA DE OFERENTES'!B11 -> CONSORCIO MODELIA 24 | C12: CUMPLE | D12: =+'EXPERIENCIA DEL PROPONENTE'!R122 -> NO CUMPLE | E12: CUMPLE | F12: NO CUMPLE
A13: =A12+1 -> 9 | B13: ='LISTA DE OFERENTES'!B12 -> UNIÓN TEMPORAL ROADS 402 | C13: CUMPLE | D13: =+'EXPERIENCIA DEL PROPONENTE'!R136 -> CUMPLE | E13: CUMPLE | F13: CUMPLE
A14: =A13+1 -> 10 | B14: ='LISTA DE OFERENTES'!B13 -> CONSORCIO MALLA VIAL 206 | C14: CUMPLE | D14: =+'EXPERIENCIA DEL PROPONENTE'!R148 -> NO CUMPLE | E14: CUMPLE | F14: NO CUMPLE
A15: =A14+1 -> 11 | B15: ='LISTA DE OFERENTES'!B14 -> INTERVENTORIA Y CONSTRUCIVILES SAS | C15: CUMPLE | D15: =+'EXPERIENCIA DEL PROPONENTE'!R161 -> NO CUMPLE | E15: CUMPLE | F15: NO CUMPLE
A16: =A15+1 -> 12 | B16: ='LISTA DE OFERENTES'!B15 -> EMPROCIV SAS | C16: CUMPLE | D16: =+'EXPERIENCIA DEL PROPONENTE'!R174 -> CUMPLE | E16: CUMPLE | F16: CUMPLE
A17: =A16+1 -> 13 | B17: ='LISTA DE OFERENTES'!B16 -> CONSORCIO NOGAALL-LITORAL | C17: CUMPLE | D17: =+'EXPERIENCIA DEL PROPONENTE'!R189 -> CUMPLE | E17: CUMPLE | F17: CUMPLE
A18: =A17+1 -> 14 | B18: ='LISTA DE OFERENTES'!B17 -> GRUCOING SAS | C18: CUMPLE | D18: =+'EXPERIENCIA DEL PROPONENTE'!R201 -> CUMPLE | E18: CUMPLE | F18: CUMPLE
A19: =A18+1 -> 15 | B19: ='LISTA DE OFERENTES'!B18 -> CONSORCIO ESPACIOS TVH | C19: CUMPLE | D19: =+'EXPERIENCIA DEL PROPONENTE'!R216 -> CUMPLE | E19: CUMPLE | F19: CUMPLE
A20: =A19+1 -> 16 | B20: ='LISTA DE OFERENTES'!B19 -> CONSORCIO VIAS Y ESP | C20: CUMPLE | D20: =+'EXPERIENCIA DEL PROPONENTE'!R228 -> NO CUMPLE | E20: CUMPLE | F20: NO CUMPLE
A21: =A20+1 -> 17 | B21: ='LISTA DE OFERENTES'!B20 -> CONSORCIO FONTIBON GM | C21: CUMPLE | D21: =+'EXPERIENCIA DEL PROPONENTE'!R240 -> NO CUMPLE | E21: CUMPLE | F21: NO CUMPLE
A22: =A21+1 -> 18 | B22: ='LISTA DE OFERENTES'!B21 -> CONSORCIO I.D. FONTIBÓN | C22: CUMPLE | D22: =+'EXPERIENCIA DEL PROPONENTE'!R253 -> NO CUMPLE | E22: CUMPLE | F22: NO CUMPLE
A23: =A22+1 -> 19 | B23: ='LISTA DE OFERENTES'!B22 -> CONSORCIO LG FONTIBÓN | C23: CUMPLE | D23: =+'EXPERIENCIA DEL PROPONENTE'!R268 -> CUMPLE | E23: CUMPLE | F23: CUMPLE
A24: =A23+1 -> 20 | B24: ='LISTA DE OFERENTES'!B23 -> INTERSA S.A | C24: CUMPLE | D24: =+'EXPERIENCIA DEL PROPONENTE'!R283 -> NO CUMPLE | E24: CUMPLE | F24: NO CUMPLE
A25: =A24+1 -> 21 | B25: ='LISTA DE OFERENTES'!B24 -> CODIPRO INGENIERIA Y ARQUITECTURA LTDA. CONSTRUCCIONES, DISEÑOS Y PROYECTOS | C25: CUMPLE | D25: =+'EXPERIENCIA DEL PROPONENTE'!R297 -> NO CUMPLE | E25: CUMPLE | F25: NO CUMPLE
A26: =A25+1 -> 22 | B26: ='LISTA DE OFERENTES'!B25 -> CONSORCIO INGESCOR R 2024 | C26: CUMPLE | D26: =+'EXPERIENCIA DEL PROPONENTE'!R313 -> NO CUMPLE | E26: CUMPLE | F26: CUMPLE
A27: =A26+1 -> 23 | B27: ='LISTA DE OFERENTES'!B26 -> CONSORCIO INTERVIAL URBANO | C27: CUMPLE | D27: =+'EXPERIENCIA DEL PROPONENTE'!R327 -> CUMPLE | E27: CUMPLE | F27: CUMPLE
A28: =A27+1 -> 24 | B28: ='LISTA DE OFERENTES'!B27 -> VELNEC SA | C28: CUMPLE | D28: =+'EXPERIENCIA DEL PROPONENTE'!R342 -> CUMPLE | E28: CUMPLE | F28: CUMPLE
A29: =A28+1 -> 25 | B29: ='LISTA DE OFERENTES'!B28 -> CONSORCIO INTERFONTIBON 2024 | C29: CUMPLE | D29: =+'EXPERIENCIA DEL PROPONENTE'!R357 -> NO CUMPLE | E29: CUMPLE | F29: NO CUMPLE
A30: =A29+1 -> 26 | B30: ='LISTA DE OFERENTES'!B29 -> ING INGENIERIA S.A.S | C30: CUMPLE | D30: =+'EXPERIENCIA DEL PROPONENTE'!R369 -> NO CUMPLE | E30: CUMPLE | F30: NO CUMPLE
A31: =A30+1 -> 27 | B31: ='LISTA DE OFERENTES'!B30 -> CONSORCIO FATIMA | C31: CUMPLE | D31: =+'EXPERIENCIA DEL PROPONENTE'!R383 -> NO CUMPLE | E31: CUMPLE | F31: NO CUMPLE
A32: =A31+1 -> 28 | B32: ='LISTA DE OFERENTES'!B31 -> GEOTECNIA Y CIMIENTOS INGEOCIM S.A.S. | C32: CUMPLE | D32: =+'EXPERIENCIA DEL PROPONENTE'!R398 -> NO CUMPLE | E32: CUMPLE | F32: NO CUMPLE
A33: =A32+1 -> 29 | B33: ='LISTA DE OFERENTES'!B32 -> CONSORCIO FONTIBON JINT 001 | C33: CUMPLE | D33: =+'EXPERIENCIA DEL PROPONENTE'!R415 -> NO CUMPLE | E33: CUMPLE | F33: NO CUMPLE
A34: =A33+1 -> 30 | B34: ='LISTA DE OFERENTES'!B33 -> CONSORCIO ALIANZA BOGOTA | C34: CUMPLE | D34: =+'EXPERIENCIA DEL PROPONENTE'!R427 -> CUMPLE | E34: CUMPLE | F34: CUMPLE
A35: =A34+1 -> 31 | B35: ='LISTA DE OFERENTES'!B34 -> CONSORCIO FEM – 34 | C35: CUMPLE | D35: =+'EXPERIENCIA DEL PROPONENTE'!R442 -> CUMPLE | E35: NO CUMPLE | F35: NO CUMPLE | G35: DENTRO DE LA DOCUMENTACION APORTADA NO SE ENCUENTRA LA OFERTA ECONOMICA
A36: =A35+1 -> 32 | B36: ='LISTA DE OFERENTES'!B35 -> CONSORCIO INTER FONTIBON | C36: CUMPLE | D36: NO CUMPLE | E36: CUMPLE | F36: NO CUMPLE
A37: =A36+1 -> 33 | B37: ='LISTA DE OFERENTES'!B36 -> CONSORCIO ID FONTIBON 001 | C37: CUMPLE | D37: CUMPLE | E37: CUMPLE | F37: CUMPLE
A38: =A37+1 -> 34 | B38: ='LISTA DE OFERENTES'!B37 -> CTV FONTIBON | C38: CUMPLE | D38: CUMPLE | E38: CUMPLE | F38: CUMPLE
A39: =A38+1 -> 35 | B39: ='LISTA DE OFERENTES'!B38 -> ESTUDIOS TÉCNICOS Y CONSTRUCCIONES SAS | C39: CUMPLE | D39: NO CUMPLE | E39: CUMPLE | F39: NO CUMPLE
A40: =A39+1 -> 36 | B40: ='LISTA DE OFERENTES'!B39 -> ALIANZA INTEGRAL DE PROYECTOS SAS BIC | C40: CUMPLE | D40: CUMPLE | E40: CUMPLE | F40: CUMPLE
...

Sheet CONDICIONES GENERALES
M3: cada contrato debe cumplir con alguno de estos códigos 81101500, 81102200, 80101600
A6: OBJETO: REALIZAR LA INTERVENTORIA, TECNICA ADMINISTRATIVA JURÍDICA FINANCIERA SOCIAL AMBIENTAL Y DE SEGURIDAD Y SALUD EN EL TRABAJO AL CONTRATO cuyo objeto es REALIZAR LAS OBRAS DE CONSERVACION DE LA MALLA VIAL Y ESPACIO PUBLICO ASOCIADO EN LA LOCALIDAD DE FONTIBON BOGOTA DC A TRAVES DEL SISTEMA DE PRECIOS UNITARIOS FIJOS Y A MONTO AGOTABLE
A8: Los contratos para acreditar la experiencia deben cumplir las siguientes características:
A9: EXPERIENCIA GENERAL
A10: INTERVENTORÍA A PROYECTOS DE: CONSTRUCCIÓN O RECONSTRUCCIÓN O REHABILITACIÓN O ADECUACIÓN O AMPLIACIÓN O MEJORAMIENTO O MANTENIMIENTO O RECONSTRUCCIÓN O REPAVIMENTACIÓN O PAVIMENTACIÓN O CONSERVACIÓN DE INFRAESTRUCTURA VIAL PARA TRÁFICO VEHICULAR DE VÍAS URBANAS O DE VÍAS PRIMARIAS O SECUNDARIAS
A11: Nota 1: No se aceptará experiencia en contratos cuyo objeto o alcance sea exclusivamente en cualquiera de las siguientes actividades de interventoría de obra: componentes de seguridad vial o semaforización o puentes.
A12: Nota 2: En todo caso la obra civil en infraestructura vial que se pretenda acreditar como experiencia, debe demostrar la interventoría a la intervención en la estructura del pavimento.
A13: EXPERIENCIA ESPECIFICA
A14: Por lo menos uno (1) de los contratos válidos aportados como experiencia general debe acreditar que se hayan realizado actividades de interventoría para el diagnóstico y/o estudios y diseños, para actividades de Conservación de vías.
A15: Y
A16: Por lo menos uno (1) de los contratos válidos aportados como experiencia general debe acreditar la intervención de redes de servicios públicos
A17: NÚMERO DE CONTRATOS: C. Se podrán aportar mínimo uno (1) y máximo seis (6) contratos para la evaluación y asignación de puntaje por concepto de experiencia, siempre y cuando cumplan con lo establecido en este documento.
A19: CONDICIÓN 1: E. Los contratos acreditados deben haber terminado antes de la fecha de cierre del presente proceso de contratación
... A23: CONDICIÓN 5: H. Cuando el contrato que se aporte para la experiencia haya sido ejecutado por un Consorcio o por una Unión Temporal, y dos (2) o más de sus integrantes conformen un Proponente Plural para participar en el presente proceso, dicho contrato se entenderá aportado como un (1) solo contrato y se tendrá en cuenta para el aporte de la experiencia la sumatoria de los porcentajes de los integrantes del Consorcio o de la Unión Temporal que ejecutaron el contrato y que están participando en el Proceso de Contratación, siempre y cuando en el “Formato 3 – Experiencia” se indique qué integrantes y porcentajes de participación se ofrecen como experiencia

Sheet RESUMEN EVALUACIÓN
A1: FONDO DE DESARROLLO LOCAL DE FONTIBÓN
A2: FDLF-CMA-001-2023
A3: REALIZAR LA INTERVENTORIA, TECNICA ADMINISTRATIVA JURÍDICA FINANCIERA SOCIAL AMBIENTAL Y DE SEGURIDAD Y SALUD EN EL TRABAJO AL CONTRATO cuyo objeto es "REALIZAR LAS OBRAS DE CONSERVACION DE LA MALLA VIAL Y ESPACIO PUBLICO ASOCIADO EN LA LOCALIDAD DE FONTIBON BOGOTA DC A TRAVES DEL SISTEMA DE PRECIOS UNITARIOS FIJOS Y A MONTO AGOTABLE"
A5: No. | B5: Nombre de Oferente : | C5: CAPACIDAD FINANCIERA | D5: CAPACIDAD JURIDICA | E5: CAPACIDAD TÉCNICA | F5: OFERTA ECONOMICA | G5: INFORME FINAL | H5: OBSERVACIONES
A6: 1 | B6: ='LISTA DE OFERENTES'!B4 -> CONSORCIO INTERVIALES PCI-PC | C6: CUMPLE | D6: =+'EXPERIENCIA DEL PROPONENTE'!Q48 -> NO CUMPLE | E6: =+'EXPERIENCIA DEL PROPONENTE'!R24 -> CUMPLE | F6: CUMPLE | G6: NO HABILITADO | H6: SE REQUIERE AL PROPONENTE PARA QUE SUBSANE O PRESENTE OBSERVACIONES EN EL TERMINO DEL TRASLADO DEL INFORME DE EVALUACIÓN PRELIMINAR
A7: 2 | B7: ='LISTA DE OFERENTES'!B5 -> CONSORCIO VÍAS FONTIBÓN 2025 | C7: CUMPLE | D7: CUMPLE | E7: =+'EXPERIENCIA DEL PROPONENTE'!R38 -> CUMPLE | F7: CUMPLE | G7: HABILITADO
A8: 3 | B8: ='LISTA DE OFERENTES'!B6 -> MORALBA SANCHEZ ORDOÑEZ | C8: CUMPLE | D8: CUMPLE | E8: =+'EXPERIENCIA DEL PROPONENTE'!R50 -> NO CUMPLE | F8: CUMPLE | G8: NO HABILITADO | H8: SE REQUIERE AL PROPONENTE PARA QUE SUBSANE O PRESENTE OBSERVACIONES EN EL TERMINO DEL TRASLADO DEL INFORME DE EVALUACIÓN PRELIMINAR
A9: 4 | B9: ='LISTA DE OFERENTES'!B7 -> GRUPO METRO COLOMBIA SAS | C9: CUMPLE | D9: CUMPLE | E9: =+'EXPERIENCIA DEL PROPONENTE'!R65 -> CUMPLE | F9: CUMPLE | G9: HABILITADO
A10: 5 | B10: ='LISTA DE OFERENTES'!B8 -> CONSORCIO INTER CGS F1 | C10: CUMPLE | D10: NO CUMPLE | E10: =+'EXPERIENCIA DEL PROPONENTE'!R81 -> NO CUMPLE | F10: CUMPLE | G10: NO HABILITADO | H10: SE REQUIERE AL PROPONENTE PARA QUE SUBSANE O PRESENTE OBSERVACIONES EN EL TERMINO DEL TRASLADO DEL INFORME DE EVALUACIÓN PRELIMINAR
A11: 6 | B11: ='LISTA DE OFERENTES'!B9 -> INGENIEROS CONSTRUCTORES Y ASESORES SAS | C11: CUMPLE | D11: NO CUMPLE | E11: NO CUMPLE | F11: CUMPLE | G11: NO HABILITADO | H11: SE REQUIERE AL PROPONENTE PARA QUE SUBSANE O PRESENTE OBSERVACIONES EN EL TERMINO DEL TRASLADO DEL INFORME DE EVALUACIÓN PRELIMINAR
A12: 7 | B12: ='LISTA DE OFERENTES'!B10 -> GPM PROYECTOS DE INGENIERIA SAS | C12: CUMPLE | D12: NO CUMPLE | E12: CUMPLE | F12: CUMPLE | G12: NO HABILITADO | H12: SE REQUIERE AL PROPONENTE PARA QUE SUBSANE O PRESENTE OBSERVACIONES EN EL TERMINO DEL TRASLADO DEL INFORME DE EVALUACIÓN PRELIMINAR
A13: 8 | B13: ='LISTA DE OFERENTES'!B11 -> CONSORCIO MODELIA 24 | C13: CUMPLE | D13: NO CUMPLE | E13: NO CUMPLE | F13: CUMPLE | G13: NO HABILITADO | H13: SE REQUIERE AL PROPONENTE PARA QUE SUBSANE O PRESENTE OBSERVACIONES EN EL TERMINO DEL TRASLADO DEL INFORME DE EVALUACIÓN PRELIMINAR
A14: 9 | B14: ='LISTA DE OFERENTES'!B12 -> UNIÓN TEMPORAL ROADS 402 | C14: CUMPLE | D14: CUMPLE | E14: CUMPLE | F14: CUMPLE | G14: HABILITADO
A15: 10 | B15: ='LISTA DE OFERENTES'!B13 -> CONSORCIO MALLA VIAL 206 | C15: CUMPLE | D15: CUMPLE | E15: CUMPLE | F15: CUMPLE | G15: HABILITADO
A16: 11 | B16: ='LISTA DE OFERENTES'!B14 -> INTERVENTORIA Y CONSTRUCIVILES SAS | C16: CUMPLE | D16: NO CUMPLE | E16: CUMPLE | F16: CUMPLE | G16: NO HABILITADO | H16: SE REQUIERE AL PROPONENTE PARA QUE SUBSANE O PRESENTE OBSERVACIONES EN EL TERMINO DEL TRASLADO DEL INFORME DE EVALUACIÓN PRELIMINAR
A17: 12 | B17: ='LISTA DE OFERENTES'!B15 -> EMPROCIV SAS | C17: CUMPLE | D17: CUMPLE | E17: CUMPLE | F17: CUMPLE | G17: HABILITADO
A18: 13 | B18: ='LISTA DE OFERENTES'!B16 -> CONSORCIO NOGAALL-LITORAL | C18: CUMPLE | D18: NO CUMPLE | E18: CUMPLE | F18: CUMPLE | G18: NO HABILITADO | H18: SE REQUIERE AL PROPONENTE PARA QUE SUBSANE O PRESENTE OBSERVACIONES EN EL TERMINO DEL TRASLADO DEL INFORME DE EVALUACIÓN PRELIMINAR
A19: 14 | B19: ='LISTA DE OFERENTES'!B17 -> GRUCOING SAS | C19: CUMPLE | D19: CUMPLE | E19: CUMPLE | F19: CUMPLE | G19: HABILITADO
A20: 15 | B20: ='LISTA DE OFERENTES'!B18 -> CONSORCIO ESPACIOS TVH | C20: CUMPLE | D20: CUMPLE | E20: NO CUMPLE | F20: CUMPLE | G20: NO HABILITADO | H20: SE REQUIERE AL PROPONENTE PARA QUE SUBSANE O PRESENTE OBSERVACIONES EN EL TERMINO DEL TRASLADO DEL INFORME DE EVALUACIÓN PRELIMINAR
A21: 16 | B21: ='LISTA DE OFERENTES'!B19 -> CONSORCIO VIAS Y ESP | C21: CUMPLE | D21: CUMPLE | E21: CUMPLE | F21: CUMPLE | G21: HABILITADO
A22: 17 | B22: ='LISTA DE OFERENTES'!B20 -> CONSORCIO FONTIBON GM | C22: CUMPLE | D22: CUMPLE | E22: NO CUMPLE | F22: CUMPLE | G22: NO HABILITADO | H22: SE REQUIERE AL PROPONENTE PARA QUE SUBSANE O PRESENTE OBSERVACIONES EN EL TERMINO DEL TRASLADO DEL INFORME DE EVALUACIÓN PRELIMINAR
A23: 18 | B23: ='LISTA DE OFERENTES'!B21 -> CONSORCIO I.D. FONTIBÓN | C23: CUMPLE | D23: CUMPLE | E23: CUMPLE | F23: CUMPLE | G23: HABILITADO
A24: 19 | B24: ='LISTA DE OFERENTES'!B22 -> CONSORCIO LG FONTIBÓN | C24: CUMPLE | D24: CUMPLE | E24: CUMPLE | F24: CUMPLE | G24: HABILITADO
A25: 20 | B25: ='LISTA DE OFERENTES'!B23 -> INTERSA S.A | C25: CUMPLE | D25: CUMPLE | E25: NO CUMPLE | F25: CUMPLE | G25: NO HABILITADO | H25: SE REQUIERE AL PROPONENTE PARA QUE SUBSANE O PRESENTE OBSERVACIONES EN EL TERMINO DEL TRASLADO DEL INFORME DE EVALUACIÓN PRELIMINAR
A26: 21 | B26: ='LISTA DE OFERENTES'!B24 -> CODIPRO INGENIERIA Y ARQUITECTURA LTDA. CONSTRUCCIONES, DISEÑOS Y PROYECTOS | C26: CUMPLE | D26: CUMPLE | E26: NO CUMPLE | F26: CUMPLE | G26: NO HABILITADO | H26: SE REQUIERE AL PROPONENTE PARA QUE SUBSANE O PRESENTE OBSERVACIONES EN EL TERMINO DEL TRASLADO DEL INFORME DE EVALUACIÓN PRELIMINAR
A27: 22 | B27: ='LISTA DE OFERENTES'!B25 -> CONSORCIO INGESCOR R 2024 | C27: CUMPLE | D27: NO CUMPLE | E27: CUMPLE | F27: CUMPLE | G27: NO HABILITADO | H27: SE REQUIERE AL PROPONENTE PARA QUE SUBSANE O PRESENTE OBSERVACIONES EN EL TERMINO DEL TRASLADO DEL INFORME DE EVALUACIÓN PRELIMINAR
A28: 23 | B28: ='LISTA DE OFERENTES'!B26 -> CONSORCIO INTERVIAL URBANO | C28: CUMPLE | D28: CUMPLE | E28: NO CUMPLE | F28: CUMPLE | G28: NO HABILITADO | H28: SE REQUIERE AL PROPONENTE PARA QUE SUBSANE O PRESENTE OBSERVACIONES EN EL TERMINO DEL TRASLADO DEL INFORME DE EVALUACIÓN PRELIMINAR
A29: 24 | B29: ='LISTA DE OFERENTES'!B27 -> VELNEC SA | C29: CUMPLE | D29: CUMPLE | E29: CUMPLE | F29: CUMPLE | G29: HABILITADO
A30: 25 | B30: ='LISTA DE OFERENTES'!B28 -> CONSORCIO INTERFONTIBON 2024 | C30: CUMPLE | D30: CUMPLE | E30: CUMPLE | F30: CUMPLE | G30: HABILITADO
A31: 26 | B31: ='LISTA DE OFERENTES'!B29 -> ING INGENIERIA S.A.S | C31: CUMPLE | D31: CUMPLE | E31: CUMPLE | F31: CUMPLE | G31: HABILITADO
A32: 27 | B32: ='LISTA DE OFERENTES'!B30 -> CONSORCIO FATIMA | C32: CUMPLE | D32: CUMPLE | E32: CUMPLE | F32: CUMPLE | G32: HABILITADO
A33: 28 | B33: ='LISTA DE OFERENTES'!B31 -> GEOTECNIA Y CIMIENTOS INGEOCIM S.A.S. | C33: CUMPLE | D33: CUMPLE | E33: NO CUMPLE | F33: CUMPLE | G33: NO HABILITADO | H33: SE REQUIERE AL PROPONENTE PARA QUE SUBSANE O PRESENTE OBSERVACIONES EN EL TERMINO DEL TRASLADO DEL INFORME DE EVALUACIÓN PRELIMINAR
A34: 29 | B34: ='LISTA DE OFERENTES'!B32 -> CONSORCIO FONTIBON JINT 001 | C34: CUMPLE | D34: CUMPLE | E34: CUMPLE | F34: CUMPLE | G34: HABILITADO
A35: 30 | B35: ='LISTA DE OFERENTES'!B33 -> CONSORCIO ALIANZA BOGOTA | C35: CUMPLE | D35: NO CUMPLE | E35: CUMPLE | F35: CUMPLE | G35: NO HABILITADO | H35: SE REQUIERE AL PROPONENTE PARA QUE SUBSANE O PRESENTE OBSERVACIONES EN EL TERMINO DEL TRASLADO DEL INFORME DE EVALUACIÓN PRELIMINAR
A36: 31 | B36: ='LISTA DE OFERENTES'!B34 -> CONSORCIO FEM – 34 | C36: CUMPLE | D36: CUMPLE | E36: NO CUMPLE | F36: NO CUMPLE | G36: NO HABILITADO | H36: SE REQUIERE AL PROPONENTE PARA QUE SUBSANE O PRESENTE OBSERVACIONES EN EL TERMINO DEL TRASLADO DEL INFORME DE EVALUACIÓN PRELIMINAR
A37: 32 | B37: ='LISTA DE OFERENTES'!B35 -> CONSORCIO INTER FONTIBON | C37: CUMPLE | D37: NO CUMPLE | E37: NO CUMPLE | F37: CUMPLE | G37: NO HABILITADO | H37: SE REQUIERE AL PROPONENTE PARA QUE SUBSANE O PRESENTE OBSERVACIONES EN EL TERMINO DEL TRASLADO DEL INFORME DE EVALUACIÓN PRELIMINAR
A38: 33 | B38: ='LISTA DE OFERENTES'!B36 -> CONSORCIO ID FONTIBON 001 | C38: CUMPLE | D38: NO CUMPLE | E38: CUMPLE | F38: CUMPLE | G38: NO HABILITADO | H38: SE REQUIERE AL PROPONENTE PARA QUE SUBSANE O PRESENTE OBSERVACIONES EN EL TERMINO DEL TRASLADO DEL INFORME DE EVALUACIÓN PRELIMINAR
A39: 34 | B39: ='LISTA DE OFERENTES'!B37 -> CTV FONTIBON | C39: CUMPLE | D39: NO CUMPLE | E39: NO CUMPLE | F39: CUMPLE | G39: NO HABILITADO | H39: SE REQUIERE AL PROPONENTE PARA QUE SUBSANE O PRESENTE OBSERVACIONES EN EL TERMINO DEL TRASLADO DEL INFORME DE EVALUACIÓN PRELIMINAR
A40: 35 | B40: ='LISTA DE OFERENTES'!B38 -> ESTUDIOS TÉCNICOS Y CONSTRUCCIONES SAS | C40: CUMPLE | D40: CUMPLE | E40: NO CUMPLE | F40: CUMPLE | G40: NO HABILITADO | H40: SE REQUIERE AL PROPONENTE PARA QUE SUBSANE O PRESENTE OBSERVACIONES EN EL TERMINO DEL TRASLADO DEL INFORME DE EVALUACIÓN PRELIMINAR
A41: 36 | B41: ='LISTA DE OFERENTES'!B39 -> ALIANZA INTEGRAL DE PROYECTOS SAS BIC | C41: CUMPLE | D41: CUMPLE | E41: NO CUMPLE | F41: CUMPLE | G41: NO HABILITADO | H41: SE REQUIERE AL PROPONENTE PARA QUE SUBSANE O PRESENTE OBSERVACIONES EN EL TERMINO DEL TRASLADO DEL INFORME DE EVALUACIÓN PRELIMINAR
...

Sheet MEDIA GEOMETRICA
A1: EXPERIENCIA DEL PROPONENTE
A2: CANTIDAD DE SMMLV QUE REPRESENTAN EL PROMEDIO DE LOS CONTRATOS VALIDOS PARA ACREDITAR EXPERIENCIA | G2: FECHA DE CIERRE | H2: 45631
A3: FDLF-CMA-001-2024 | G3: PUNTAJE MAXIMO | H3: 67.5
G4: TRM VIGENTE 09/12/2024 | H4: 4396.52
G5: PRIMERAS DOS CIFRAS DEC.TRM | H5: 52
E9: 67.5
A10: OFERENTES | C10: Promedio SMMLV | D10: MEDIA GEOMETRICA | E10: PUNTAJE
A11: 1 | B11: =VLOOKUP(A11,'LISTA DE OFERENTES'!$A$4:$B$65,2,FALSE) -> CONSORCIO INTERVIALES PCI-PC | C11: =+'EXPERIENCIA DEL PROPONENTE'!C8 -> 1380.2986 | D11: =+GEOMEAN(C11:C72) -> 1199.4038 | E11: =+$E$9*((1-ABS($D$11-C11)/$D$11)) -> 57.319606
A12: 2 | B12: =VLOOKUP(A12,'LISTA DE OFERENTES'!$A$4:$B$65,2,FALSE) -> CONSORCIO VÍAS FONTIBÓN 2025 | C12: =+'EXPERIENCIA DEL PROPONENTE'!C28 -> 880.85895 | E12: =+$E$9*((1-ABS($D$11-C12)/$D$11)) -> 49.572946
A13: 3 | B13: =VLOOKUP(A13,'LISTA DE OFERENTES'!$A$4:$B$65,2,FALSE) -> MORALBA SANCHEZ ORDOÑEZ | E13: =+$E$9*((1-ABS($D$11-C13)/$D$11)) -> 0
A14: 4 | B14: =VLOOKUP(A14,'LISTA DE OFERENTES'!$A$4:$B$65,2,FALSE) -> GRUPO METRO COLOMBIA SAS | C14: =+'EXPERIENCIA DEL PROPONENTE'!C54 -> 2199.2607 | E14: =+$E$9*((1-ABS($D$11-C14)/$D$11)) -> 11.23009
A15: 5 | B15: =VLOOKUP(A15,'LISTA DE OFERENTES'!$A$4:$B$65,2,FALSE) -> CONSORCIO INTER CGS F1 | E15: =+$E$9*((1-ABS($D$11-C15)/$D$11)) -> 0
A16: 6 | B16: =VLOOKUP(A16,'LISTA DE OFERENTES'!$A$4:$B$65,2,FALSE) -> INGENIEROS CONSTRUCTORES Y ASESORES SAS | E16: =+$E$9*((1-ABS($D$11-C16)/$D$11)) -> 0
A17: 7 | B17: =VLOOKUP(A17,'LISTA DE OFERENTES'!$A$4:$B$65,2,FALSE) -> GPM PROYECTOS DE INGENIERIA SAS | C17: =+'EXPERIENCIA DEL PROPONENTE'!C98 -> 1427.777 | E17: =+$E$9*((1-ABS($D$11-C17)/$D$11)) -> 54.647622
A18: 8 | B18: =VLOOKUP(A18,'LISTA DE OFERENTES'!$A$4:$B$65,2,FALSE) -> CONSORCIO MODELIA 24 | E18: =+$E$9*((1-ABS($D$11-C18)/$D$11)) -> 0
A19: 9 | B19: =VLOOKUP(A19,'LISTA DE OFERENTES'!$A$4:$B$65,2,FALSE) -> UNIÓN TEMPORAL ROADS 402 | C19: =+'EXPERIENCIA DEL PROPONENTE'!C126 -> 1123.8475 | E19: =+$E$9*((1-ABS($D$11-C19)/$D$11)) -> 63.247844
A20: 10 | B20: =VLOOKUP(A20,'LISTA DE OFERENTES'!$A$4:$B$65,2,FALSE) -> CONSORCIO MALLA VIAL 206 | E20: =+$E$9*((1-ABS($D$11-C20)/$D$11)) -> 0
A21: 11 | B21: =VLOOKUP(A21,'LISTA DE OFERENTES'!$A$4:$B$65,2,FALSE) -> INTERVENTORIA Y CONSTRUCIVILES SAS | E21: =+$E$9*((1-ABS($D$11-C21)/$D$11)) -> 0
A22: 12 | B22: =VLOOKUP(A22,'LISTA DE OFERENTES'!$A$4:$B$65,2,FALSE) -> EMPROCIV SAS | C22: =+'EXPERIENCIA DEL PROPONENTE'!C165 -> 1441.6966 | E22: =+$E$9*((1-ABS($D$11-C22)/$D$11)) -> 53.864253
A23: 13 | B23: =VLOOKUP(A23,'LISTA DE OFERENTES'!$A$4:$B$65,2,FALSE) -> CONSORCIO NOGAALL-LITORAL | C23: =+'EXPERIENCIA DEL PROPONENTE'!C178 -> 1153.449 | E23: =+$E$9*((1-ABS($D$11-C23)/$D$11)) -> 64.913757
A24: 14 | B24: =VLOOKUP(A24,'LISTA DE OFERENTES'!$A$4:$B$65,2,FALSE) -> GRUCOING SAS | C24: =+'EXPERIENCIA DEL PROPONENTE'!C193 -> 987.9705 | E24: =+$E$9*((1-ABS($D$11-C24)/$D$11)) -> 55.600966
A25: 15 | B25: =VLOOKUP(A25,'LISTA DE OFERENTES'!$A$4:$B$65,2,FALSE) -> CONSORCIO ESPACIOS TVH | C25: =+'EXPERIENCIA DEL PROPONENTE'!C205 -> 1432.7822 | E25: =+$E$9*((1-ABS($D$11-C25)/$D$11)) -> 54.365938
A26: 16 | B26: =VLOOKUP(A26,'LISTA DE OFERENTES'!$A$4:$B$65,2,FALSE) -> CONSORCIO VIAS Y ESP | E26: =+$E$9*((1-ABS($D$11-C26)/$D$11)) -> 0
A27: 17 | B27: =VLOOKUP(A27,'LISTA DE OFERENTES'!$A$4:$B$65,2,FALSE) -> CONSORCIO FONTIBON GM | E27: =+$E$9*((1-ABS($D$11-C27)/$D$11)) -> 0
A28: 18 | B28: =VLOOKUP(A28,'LISTA DE OFERENTES'!$A$4:$B$65,2,FALSE) -> CONSORCIO I.D. FONTIBÓN | E28: =+$E$9*((1-ABS($D$11-C28)/$D$11)) -> 0
A29: 19 | B29: =VLOOKUP(A29,'LISTA DE OFERENTES'!$A$4:$B$65,2,FALSE) -> CONSORCIO LG FONTIBÓN | C29: =+'EXPERIENCIA DEL PROPONENTE'!C257 -> 1211.9118 | E29: 67.5
A30: 20 | B30: =VLOOKUP(A30,'LISTA DE OFERENTES'!$A$4:$B$65,2,FALSE) -> INTERSA S.A | E30: =+$E$9*((1-ABS($D$11-C30)/$D$11)) -> 0
A31: 21 | B31: =VLOOKUP(A31,'LISTA DE OFERENTES'!$A$4:$B$65,2,FALSE) -> CODIPRO INGENIERIA Y ARQUITECTURA LTDA. CONSTRUCCIONES, DISEÑOS Y PROYECTOS | E31: =+$E$9*((1-ABS($D$11-C31)/$D$11)) -> 0
A32: 22 | B32: =VLOOKUP(A32,'LISTA DE OFERENTES'!$A$4:$B$65,2,FALSE) -> CONSORCIO INGESCOR R 2024 | E32: =+$E$9*((1-ABS($D$11-C32)/$D$11)) -> 0
A33: 23 | B33: =VLOOKUP(A33,'LISTA DE OFERENTES'!$A$4:$B$65,2,FALSE) -> CONSORCIO INTERVIAL URBANO | C33: =+'EXPERIENCIA DEL PROPONENTE'!C317 -> 1972.5972 | E33: =+$E$9*((1-ABS($D$11-C33)/$D$11)) -> 23.986252
A34: 24 | B34: =VLOOKUP(A34,'LISTA DE OFERENTES'!$A$4:$B$65,2,FALSE) -> VELNEC SA | C34: =+'EXPERIENCIA DEL PROPONENTE'!C331 -> 1092.2885 | E34: =+$E$9*((1-ABS($D$11-C34)/$D$11)) -> 61.47177
A35: 25 | B35: =VLOOKUP(A35,'LISTA DE OFERENTES'!$A$4:$B$65,2,FALSE) -> CONSORCIO INTERFONTIBON 2024 | E35: =+$E$9*((1-ABS($D$11-C35)/$D$11)) -> 0
A36: 26 | B36: =VLOOKUP(A36,'LISTA DE OFERENTES'!$A$4:$B$65,2,FALSE) -> ING INGENIERIA S.A.S | E36: =+$E$9*((1-ABS($D$11-C36)/$D$11)) -> 0
A37: 27 | B37: =VLOOKUP(A37,'LISTA DE OFERENTES'!$A$4:$B$65,2,FALSE) -> CONSORCIO FATIMA | E37: =+$E$9*((1-ABS($D$11-C37)/$D$11)) -> 0
A38: 28 | B38: =VLOOKUP(A38,'LISTA DE OFERENTES'!$A$4:$B$65,2,FALSE) -> GEOTECNIA Y CIMIENTOS INGEOCIM S.A.S. | E38: =+$E$9*((1-ABS($D$11-C38)/$D$11)) -> 0
A39: 29 | B39: =VLOOKUP(A39,'LISTA DE OFERENTES'!$A$4:$B$65,2,FALSE) -> CONSORCIO FONTIBON JINT 001 | E39: =+$E$9*((1-ABS($D$11-C39)/$D$11)) -> 0
A40: 30 | B40: =VLOOKUP(A40,'LISTA DE OFERENTES'!$A$4:$B$65,2,FALSE) -> CONSORCIO ALIANZA BOGOTA | C40: =+'EXPERIENCIA DEL PROPONENTE'!C419 -> 1176.949 | E40: =+$E$9*((1-ABS($D$11-C40)/$D$11)) -> 66.23629
A41: 31 | B41: =VLOOKUP(A41,'LISTA DE OFERENTES'!$A$4:$B$65,2,FALSE) -> CONSORCIO FEM – 34 | C41: =+'EXPERIENCIA DEL PROPONENTE'!C431 -> 1646.9471 | E41: =+$E$9*((1-ABS($D$11-C41)/$D$11)) -> 42.313175
A42: 32 | B42: =VLOOKUP(A42,'LISTA DE OFERENTES'!$A$4:$B$65,2,FALSE) -> CONSORCIO INTER FONTIBON | E42: =+$E$9*((1-ABS($D$11-C42)/$D$11)) -> 0
A43: 33 | B43: =VLOOKUP(A43,'LISTA DE OFERENTES'!$A$4:$B$65,2,FALSE) -> CONSORCIO ID FONTIBON 001 | C43: ='EXPERIENCIA DEL PROPONENTE'!C458 -> 2245.8772 | E43: =+$E$9*((1-ABS($D$11-C43)/$D$11)) -> 8.6066117
...

Sheet OBRAS INCONCLUSAS
A1: FONDO DE DESARROLLO LOCAL DE FONTIBÓN
A2: FDLF-CMA-001-2023
A3: REALIZAR LA INTERVENTORIA, TECNICA ADMINISTRATIVA JURÍDICA FINANCIERA SOCIAL AMBIENTAL Y DE SEGURIDAD Y SALUD EN EL TRABAJO AL CONTRATO cuyo objeto es "REALIZAR LAS OBRAS DE CONSERVACION DE LA MALLA VIAL Y ESPACIO PUBLICO ASOCIADO EN LA LOCALIDAD DE FONTIBON BOGOTA DC A TRAVES DEL SISTEMA DE PRECIOS UNITARIOS FIJOS Y A MONTO AGOTABLE"
A5: No. | B5: Nombre de Oferente : | C5: VERIFICACIÓN REGISTRO NACIONAL DE OBRAS INCONCLUSAS
A6: 1 | B6: ='LISTA DE OFERENTES'!B4 -> CONSORCIO INTERVIALES PCI-PC | C6: NO REGISTRA OBRAS INCONCLUSAS
A7: 2 | B7: ='LISTA DE OFERENTES'!B5 -> CONSORCIO VÍAS FONTIBÓN 2025 | C7: NO REGISTRA OBRAS INCONCLUSAS
A8: 3 | B8: ='LISTA DE OFERENTES'!B6 -> MORALBA SANCHEZ ORDOÑEZ | C8: NO REGISTRA OBRAS INCONCLUSAS
A9: 4 | B9: ='LISTA DE OFERENTES'!B7 -> GRUPO METRO COLOMBIA SAS | C9: NO REGISTRA OBRAS INCONCLUSAS
A10: 5 | B10: ='LISTA DE OFERENTES'!B8 -> CONSORCIO INTER CGS F1 | C10: NO REGISTRA OBRAS INCONCLUSAS
A11: 6 | B11: ='LISTA DE OFERENTES'!B9 -> INGENIEROS CONSTRUCTORES Y ASESORES SAS | C11: NO REGISTRA OBRAS INCONCLUSAS
A12: 7 | B12: ='LISTA DE OFERENTES'!B10 -> GPM PROYECTOS DE INGENIERIA SAS | C12: NO REGISTRA OBRAS INCONCLUSAS
A13: 8 | B13: ='LISTA DE OFERENTES'!B11 -> CONSORCIO MODELIA 24 | C13: NO REGISTRA OBRAS INCONCLUSAS
A14: 9 | B14: ='LISTA DE OFERENTES'!B12 -> UNIÓN TEMPORAL ROADS 402 | C14: NO REGISTRA OBRAS INCONCLUSAS
A15: 10 | B15: ='LISTA DE OFERENTES'!B13 -> CONSORCIO MALLA VIAL 206 | C15: NO REGISTRA OBRAS INCONCLUSAS
A16: 11 | B16: ='LISTA DE OFERENTES'!B14 -> INTERVENTORIA Y CONSTRUCIVILES SAS | C16: NO REGISTRA OBRAS INCONCLUSAS
A17: 12 | B17: ='LISTA DE OFERENTES'!B15 -> EMPROCIV SAS | C17: NO REGISTRA OBRAS INCONCLUSAS
... A67: 62 | B67: ='LISTA DE OFERENTES'!B65 -> CONCIC SAS | C67: NO REGISTRA OBRAS INCONCLUSAS

Sheet F. PONDERABLES
A1: FONDO DE DESARROLLO LOCAL DE FONTIBÓN
A2: CONCURSO DE MERITOS ABIERTO FDLF-CMA-001-2023
A3: FACTORES PONDERABLES
A7: FACTORES PONDERABLES / PUNTAJE FINAL | C7: EXPERIENCIA DEL PROPONENTE (67,5 PUNTOS) | D7: EQUIPO DE TRABAJO (PERSONAL CLAVE EVALUABLE) (10 PUNTOS) | E7: FACTOR DE SOSTENIBILIDAD (1 PUNTO) | F7: APOYO A LA INDUSTRIA NACIONAL (20 PUNTOS) | G7: VINCULACIÓN DE PERSONAS CON DISCAPACIDAD (1 PUNTO) | H7: EMPRENDIMIENTO Y EMPRESAS DE MUJERES (0,25 PUNTOS) | I7: MIPYME (0,25 PUNTOS) | J7: ANOTACIONES REGISTRO NACIONAL DE OBRAS INCONCLUSAS ( -1 PUNTO) | K7: MULTAS Y SANCIONES ( -2 PUNTOS) | L7: PUNTAJE TOTAL | M7: OBSERVACIONES
A8: 1 | B8: ='LISTA DE OFERENTES'!B4 -> CONSORCIO INTERVIALES PCI-PC | C8: =+'MEDIA GEOMETRICA'!E11 -> 57.319606 | D8: 10 | E8: 1 | F8: 20 | G8: 1 | H8: 0.25 | I8: 0.25 | L8: =D8+E8+F8+G8+H8+I8 -> 32.5
A9: 2 | B9: ='LISTA DE OFERENTES'!B5 -> CONSORCIO VÍAS FONTIBÓN 2025 | C9: =+'MEDIA GEOMETRICA'!E12 -> 49.572946 | D9: 10 | E9: 1 | F9: 20 | G9: 1 | H9: 0.25 | I9: 0.25 | L9: =SUM(D9:I9) -> 32.5
A10: 3 | B10: ='LISTA DE OFERENTES'!B6 -> MORALBA SANCHEZ ORDOÑEZ | C10: =+'MEDIA GEOMETRICA'!E13 -> 0 | D10: 10 | E10: 1 | F10: 20 | G10: 1 | H10: 0.25 | I10: 0.25 | L10: =SUM(D10:I10) -> 32.5
A11: 4 | B11: ='LISTA DE OFERENTES'!B7 -> GRUPO METRO COLOMBIA SAS | C11: =+'MEDIA GEOMETRICA'!E14 -> 11.23009 | D11: 10 | E11: 1 | F11: 20 | G11: 1 | H11: 0.25 | I11: 0.25 | L11: =SUM(D11:I11) -> 32.5
A12: 5 | B12: ='LISTA DE OFERENTES'!B8 -> CONSORCIO INTER CGS F1 | C12: =+'MEDIA GEOMETRICA'!E15 -> 0 | D12: 10 | E12: 1 | F12: 20 | G12: 1 | H12: 0.25 | I12: 0.25 | L12: =SUM(D12:I12) -> 32.5
A13: 6 | B13: ='LISTA DE OFERENTES'!B9 -> INGENIEROS CONSTRUCTORES Y ASESORES SAS | C13: =+'MEDIA GEOMETRICA'!E16 -> 0 | D13: 10 | E13: 1 | F13: 20 | G13: 1 | H13: 0.25 | I13: 0.25 | L13: =SUM(D13:I13) -> 32.5
A14: 7 | B14: ='LISTA DE OFERENTES'!B10 -> GPM PROYECTOS DE INGENIERIA SAS | C14: =+'MEDIA GEOMETRICA'!E17 -> 54.647622 | D14: 10 | E14: 1 | F14: 20 | G14: 1 | H14: 0.25 | I14: 0.25 | L14: =SUM(D14:I14) -> 32.5
A15: 8 | B15: ='LISTA DE OFERENTES'!B11 -> CONSORCIO MODELIA 24 | C15: =+'MEDIA GEOMETRICA'!E18 -> 0 | D15: 10 | E15: 1 | F15: 20 | G15: 1 | H15: 0.25 | I15: 0.25 | L15: =SUM(D15:I15) -> 32.5
A16: 9 | B16: ='LISTA DE OFERENTES'!B12 -> UNIÓN TEMPORAL ROADS 402 | C16: =+'MEDIA GEOMETRICA'!E19 -> 63.247844 | D16: 10 | E16: 1 | F16: 20 | G16: 1 | H16: 0.25 | I16: 0.25 | L16: =SUM(D16:I16) -> 32.5
A17: 10 | B17: ='LISTA DE OFERENTES'!B13 -> CONSORCIO MALLA VIAL 206 | C17: =+'MEDIA GEOMETRICA'!E20 -> 0 | D17: 10 | E17: 1 | F17: 20 | G17: 0 | H17: 0.25 | I17: 0.25 | L17: =SUM(D17:I17) -> 31.5 | M17: EL PROPONENTE NO ADJUNTA EL FORMATO DE VINCULACIÓN DE PERSONAS EN SITUACIÓN DE DISCAPACIDAD
A18: 11 | B18: ='LISTA DE OFERENTES'!B14 -> INTERVENTORIA Y CONSTRUCIVILES SAS | C18: =+'MEDIA GEOMETRICA'!E21 -> 0 | D18: 10 | E18: 1 | F18: 20 | G18: 1 | H18: 0.25 | I18: 0.25 | L18: =SUM(D18:I18) -> 32.5
A19: 12 | B19: ='LISTA DE OFERENTES'!B15 -> EMPROCIV SAS | C19: =+'MEDIA GEOMETRICA'!E22 -> 53.864253 | D19: 10 | E19: 1 | F19: 20 | G19: 1 | H19: 0.25 | I19: 0.25 | L19: =SUM(D19:I19) -> 32.5
A20: 13 | B20: ='LISTA DE OFERENTES'!B16 -> CONSORCIO NOGAALL-LITORAL | C20: =+'MEDIA GEOMETRICA'!E23 -> 64.913757 | D20: 10 | E20: 1 | F20: 20 | G20: 1 | H20: 0.25 | I20: 0.25 | L20: =SUM(D20:I20) -> 32.5
A21: 14 | B21: ='LISTA DE OFERENTES'!B17 -> GRUCOING SAS | C21: =+'MEDIA GEOMETRICA'!E24 -> 55.600966 | D21: 10 | E21: 1 | F21: 20 | G21: 1 | H21: 0.25 | I21: 0.25 | L21: =SUM(D21:I21) -> 32.5
A22: 15 | B22: ='LISTA DE OFERENTES'!B18 -> CONSORCIO ESPACIOS TVH | C22: =+'MEDIA GEOMETRICA'!E25 -> 54.365938 | D22: 10 | E22: 1 | F22: 20 | G22: 1 | H22: 0.25 | I22: 0.25 | L22: =SUM(D22:I22) -> 32.5
A23: 16 | B23: ='LISTA DE OFERENTES'!B19 -> CONSORCIO VIAS Y ESP | C23: =+'MEDIA GEOMETRICA'!E26 -> 0 | D23: 10 | E23: 1 | F23: 20 | G23: 1 | H23: 0.25 | I23: 0.25 | L23: =SUM(D23:I23) -> 32.5
A24: 17 | B24: ='LISTA DE OFERENTES'!B20 -> CONSORCIO FONTIBON GM | C24: =+'MEDIA GEOMETRICA'!E27 -> 0 | D24: 10 | E24: 1 | F24: 20 | G24: 1 | H24: 0.25 | I24: 0.25 | L24: =SUM(D24:I24) -> 32.5
A25: 18 | B25: ='LISTA DE OFERENTES'!B21 -> CONSORCIO I.D. FONTIBÓN | C25: =+'MEDIA GEOMETRICA'!E28 -> 0 | D25: 10 | E25: 1 | F25: 20 | G25: 1 | H25: 0.25 | I25: 0.25 | L25: =SUM(D25:I25) -> 32.5
A26: 19 | B26: ='LISTA DE OFERENTES'!B22 -> CONSORCIO LG FONTIBÓN | C26: =+'MEDIA GEOMETRICA'!E29 -> 67.5 | D26: 10 | E26: 1 | F26: 20 | G26: 1 | H26: 0.25 | I26: 0.25 | L26: =SUM(D26:I26) -> 32.5
A27: 20 | B27: ='LISTA DE OFERENTES'!B23 -> INTERSA S.A | C27: =+'MEDIA GEOMETRICA'!E30 -> 0 | D27: 10 | E27: 1 | F27: 20 | G27: 1 | H27: 0.25 | I27: 0.25 | L27: =SUM(D27:I27) -> 32.5
A28: 21 | B28: ='LISTA DE OFERENTES'!B24 -> CODIPRO INGENIERIA Y ARQUITECTURA LTDA. CONSTRUCCIONES, DISEÑOS Y PROYECTOS | C28: =+'MEDIA GEOMETRICA'!E31 -> 0 | D28: 10 | E28: 1 | F28: 20 | G28: 1 | H28: 0 | I28: 0.25 | L28: =SUM(D28:I28) -> 32.25 | M28: no presentaron formato para puntaje de emprendimiento de mujeres
A29: 22 | B29: ='LISTA DE OFERENTES'!B25 -> CONSORCIO INGESCOR R 2024 | C29: =+'MEDIA GEOMETRICA'!E32 -> 0 | D29: 10 | E29: 1 | F29: 20 | G29: 1 | H29: 0.25 | I29: 0.25 | L29: =SUM(D29:I29) -> 32.5
A30: 23 | B30: ='LISTA DE OFERENTES'!B26 -> CONSORCIO INTERVIAL URBANO | C30: =+'MEDIA GEOMETRICA'!E33 -> 23.986252 | D30: 10 | E30: 1 | F30: 20 | G30: 1 | H30: 0.25 | I30: 0.25 | L30: =SUM(D30:I30) -> 32.5
A31: 24 | B31: ='LISTA DE OFERENTES'!B27 -> VELNEC SA | C31: =+'MEDIA GEOMETRICA'!E34 -> 61.47177 | D31: 10 | E31: 1 | F31: 20 | G31: 1 | H31: 0.25 | I31: 0.25 | L31: =SUM(D31:I31) -> 32.5
A32: 25 | B32: ='LISTA DE OFERENTES'!B28 -> CONSORCIO INTERFONTIBON 2024 | C32: =+'MEDIA GEOMETRICA'!E35 -> 0 | D32: 10 | E32: 1 | F32: 20 | G32: 1 | H32: 0.25 | I32: 0.25 | L32: =SUM(D32:I32) -> 32.5
A33: 26 | B33: ='LISTA DE OFERENTES'!B29 -> ING INGENIERIA S.A.S | C33: =+'MEDIA GEOMETRICA'!E36 -> 0 | D33: 10 | E33: 1 | F33: 20 | G33: 1 | H33: 0.25 | I33: 0.25 | L33: =SUM(D33:I33) -> 32.5
A34: 27 | B34: ='LISTA DE OFERENTES'!B30 -> CONSORCIO FATIMA | C34: =+'MEDIA GEOMETRICA'!E37 -> 0 | D34: 10 | E34: 1 | F34: 20 | G34: 1 | H34: 0.25 | I34: 0.25 | L34: =SUM(D34:I34) -> 32.5
A35: 28 | B35: ='LISTA DE OFERENTES'!B31 -> GEOTECNIA Y CIMIENTOS INGEOCIM S.A.S. | C35: =+'MEDIA GEOMETRICA'!E38 -> 0 | D35: 10 | E35: 1 | F35: 20 | G35: 1 | H35: 0.25 | I35: 0.25 | L35: =SUM(D35:I35) -> 32.5
A36: 29 | B36: ='LISTA DE OFERENTES'!B32 -> CONSORCIO FONTIBON JINT 001 | C36: =+'MEDIA GEOMETRICA'!E39 -> 0 | D36: 10 | E36: 1 | F36: 20 | G36: 1 | H36: 0.25 | I36: 0.25 | L36: =SUM(D36:I36) -> 32.5
A37: 30 | B37: ='LISTA DE OFERENTES'!B33 -> CONSORCIO ALIANZA BOGOTA | C37: =+'MEDIA GEOMETRICA'!E40 -> 66.23629 | D37: 10 | E37: 1 | F37: 20 | G37: 1 | H37: 0.25 | I37: 0.25 | L37: =SUM(D37:I37) -> 32.5
A38: 31 | B38: ='LISTA DE OFERENTES'!B34 -> CONSORCIO FEM – 34 | C38: =+'MEDIA GEOMETRICA'!E41 -> 42.313175 | D38: 10 | E38: 1 | F38: 20 | G38: 1 | H38: 0.25 | I38: 0.25 | L38: =SUM(D38:I38) -> 32.5
A39: 32 | B39: ='LISTA DE OFERENTES'!B35 -> CONSORCIO INTER FONTIBON | C39: =+'MEDIA GEOMETRICA'!E42 -> 0 | D39: 10 | E39: 1 | F39: 20 | G39: 1 | H39: 0.25 | I39: 0.25 | L39: =SUM(D39:I39) -> 32.5
A40: 33 | B40: ='LISTA DE OFERENTES'!B36 -> CONSORCIO ID FONTIBON 001 | C40: =+'MEDIA GEOMETRICA'!E43 -> 8.6066117 | D40: 10 | E40: 1 | F40: 20 | G40: 1 | H40: 0.25 | I40: 0.25 | L40: =SUM(D40:I40) -> 32.5
... A54: 47 | B54: ='LISTA DE OFERENTES'!B50 -> CONSORCIO INTERVIAL PH | C54: =+'MEDIA GEOMETRICA'!E57 -> 0 | D54: 10 | E54: 1 | F54: 20 | G54: 1 | H54: 0.25 | I54: 0.25 | L54: =SUM(D54:I54) -> 32.5
A55: 48 | B55: ='LISTA DE OFERENTES'!B51 -> CONSORCIO SETEC VIAL FONTIBON | C55: =+'MEDIA GEOMETRICA'!E58 -> 0 | D55: 10 | E55: 1 | F55: 20 | G55: 1 | H55: 0.25 | I55: 0.25 | L55: =SUM(D55:I55) -> 32.25
A56: 49 | B56: ='LISTA DE OFERENTES'!B52 -> CONSORCIO CCP | C56: =+'MEDIA GEOMETRICA'!E59 -> 0 | D56: 10 | E56: 1 | F56: 20 | G56: 1 | H56: 0.25 | I56: 0.25 | L56: =SUM(D56:I56) -> 32.5
...
