Workbook

Sheet FINANCIERA
B2: EVALUACION FINANCIERA
B3: FDLF-CMA-001-2024
B4: OBJETO: “REALIZAR LA INTERVENTORIA, TECNICA, ADMINISTRATIVA, JURIDICA, FINANCIERA, SOCIAL, AMBIENTAL Y DE SEGURIDAD Y SALUD EN EL TRABAJO AL CONTRATO QUE TIENE COMO OBJETO “CONTRATAR A PRECIOS FIJOS Y A MONTO AGOTABLE LAS ACTIVIDADES DE CONSTRUCCIÓN DE LA MALLA VIAL Y ESPACIO PÚBLICO, DERIVADOS DEL CONTRATO DE CONSULTORÍA 440 DE 2022, EN LA LOCALIDAD DE FONTIBÓN, BOGOTÁ D.C.”
B5: PRESUPUESTO OFICIAL | D5: 804565730
B7: CONCEPTO | D7: 1 | H7: 2 | J7: 3 | K7: 4 | L7: 5 | O7: 6 | P7: 7 | Q7: 8 | S7: 9 | V7: 10 | X7: 11 | Y7: 12 | Z7: 13 | AB7: 14 | AC7: 15 | AE7: 16 | AG7: 17 | AI7: 18 | AK7: 19 | AM7: 20 | AN7: 21 | AO7: 22 | AP7: 23 | AR7: 24 | AS7: 25 | AU7: 26 | AV7: 27 | AX7: 28 | AY7: 29 | BA7: 30 | BC7: 31 | BF7: 32 | BH7: 33 | BJ7: 34 | BL7: 35 | BM7: 36 | BN7: 37 | BP7: 38 | BQ7: 39 | BR7: 40 | BT7: 41 | BV7: 42 | BX7: 43 | BZ7: 44 | CA7: 45 | CB7: 46 | CC7: 47 | CE7: 48 | CG7: 49 | CJ7: 50 | CM7: 51 | CO7: 52 | CQ7: 53 | CS7: 54 | CU7: 55 | CW7: 56 | CY7: 57 | CZ7: 58 | DB7: 59 | DE7: 60 | DG7: 61 | DI7: 62
B8: PROPONENTE | D8: CONSORCIO INTERVIALES PCI-PC | H8: CONSORCIO VÍAS FONTIBÓN 2025 | J8: MORALBA SANCHEZ ORDOÑEZ | K8: GRUPO METRO COLOMBIA S.A.S | L8: CONSORCIO INTER CGS F1 | O8: INGENIEROS CONSTRUCTORES Y ASESORES SAS | P8: GPM PROYECTOS DE INGENIERIA S.A.S. | Q8: CONSORCIO MODELIA 24 | S8: UNIÓN TEMPORAL ROADS 402 | V8: CONSORCIO MALLA VIAL 206 | X8: INTERVENTORIA Y CONSTRUCIVILES S.A.S | Y8: EMPRESA DE PROYECTOS CIVILES SAS | Z8: CONSORCIO NOGAALL-LITORAL | AB8: GRUPO CONSULTOR E INGENIEROS SAS | AC8: CONSORCIO ESPACIOS TVH | AE8: CONSORCIO VIAS Y ESP | AG8: CONSORCIO FONTIBON GM | AI8: CONSORCIO I.D. FONTIBÓN | AK8: CONSORCIO LG FONTIBÓN | AM8: INTERSA S.A. | AN8: CODIPRO INGENIERIA Y ARQUITECTURA LTDA | AO8: INGESCOR LTDA | AP8: CONSORCIO INTERVIAL URBANO | AR8: VELNEC S A | AS8: CONSORCIO INTER-FONTIBON 2024 | AU8: ING INGENIERIA SAS | AV8: CONSORCIO FATIMA | AX8: GEOTECNIA Y CIMIENTOS INGEOCIM SAS | AY8: CONSORCIO FONTIBON JINT 001 | BA8: CONSORCIO ALIANZA BOGOTA | BC8: CONSORCIO FEM – 34 | BF8: CONSORCIO INTER FONTIBON | BH8: CONSORCIO ID FONTIBON 001 | BJ8: CONSORCIO TRANSFORMAR VIAL FONTIBON | BL8: ESTUDIOS TECNICOS Y CONSTRUCCIONES S.A.S | BM8: ALIANZA INTEGRAL DE PROYECTOS SAS BIC | BN8: CONSORCIO EPSILON FONTIBON | BP8: PEB CONSULTORES S.A.S. | BQ8: ALMA INTERVENTORÍA & CONSULTORÍA SAS | BR8: CONSORCIO COING F001 | BT8: CONSORCIO FONTIBON KM 2024 | BV8: CONSORCIO INTER FONTIBON JG | BX8: CONSORCIO INTER VIAL G&L. | BZ8: ECOVIAS SAS | CA8: PROJEKTA LIMITADA INGENIEROS CONSULTORES | CB8: SOLUCIONES PARA LA INGENIERÍA S.A.S. | CC8: CONSORCIO INTERNOVAC – LERI | CE8: CONSORCIO INTERNOVAC – LERI | CG8: CONSORCIO CCP. | CJ8: CONSORCIO FONTIBON | CM8: CONSORCIO TECNOLOGICO | CO8: CONSORCIO INTERVIAL PH | CQ8: CONSORCIO VIAS FONTIBON PC | CS8: CONSORCIO MALLA VIAL FDLF | CU8: CONSORCIO INTER FONTIBON | CW8: CONSORCIO VIAS IC 2024 | CY8: ORBITA DESARROLLO S.A.S. | CZ8: CONSORCIO CONSTRUCCIÓN Y DESARROLLO FONTIBÓN | DB8: CONSORCIO ESPACIO PÚBLICO INT 2024 | DE8: CONSORCIO VÍAS PROTEV | DG8: CONSORCIO INTERVENTORES FONTIBON | DI8: CONSULTORES INTERVENTORES COLOMBIANOS SAS
B9: NIT / CC | D9: PC PROYECCION E INGENIERIA SAS 901757531-7 | E9: JORGE WILLAN CORZO GARCIA 5689243-9 | F9: GERMAN ALONSO PUENTES GORDO 7162821-0 | G9: INCORDIS SAS 900869939-5 | H9: SANDRA MONICA CARDOZO 51976458-3 | I9: SAVIMAC SAS 900984598-9 | J9: 34.526.385-2 | K9: 830010109-8 | L9: SL SENDAS INGENIERIA S.A.S. 900 547 077 - 1 | M9: CONSULTORIA VIAL S.A.S. NIT 900 411 896 - 0 | N9: GRUPO INFRAESTRUCTURA COLOMBIA S.A.S. 901 602 066 – 8 | O9: 900104908-4 | P9: 900237861 - 8 | Q9: INGECO INGENIERÍA DE CONSTRUCCIONES S.A.S 890115120-1 | R9: INGENIERÍA DE PROYECTOS S.A.S 890.116.722-8 | S9: ANTONIO JOSE PEDRAZA JIMENEZ 6768550-8 | T9: CCONTRERAS CORTES SERVICIOS DE INGENIERIA SAS 900104779-0 | U9: TERRA NOVO CONSTRUCCIONES SAS 901417315 4 | V9: LUPSA INGENIERIA Y CONSTRUCCIONES S.A.S. 901525021-7 | W9: SUCA CONSTRUCCIONES S.A.S. 900568398-9 | X9: 900096419-9 | Y9: 900107376-1 | Z9: NOGAALL SAS 830.090.010-1 | AA9: LITORAL CONSULTING SAS 901.499.397-9 | AB9: 830509427-9 | AC9: COMPAÑÍA CONSULTORA COLOMBIANA TRIPLE C S.A.S BIC 901256066-3 | AD9: VALLEJO H INGENIEROS CONSULTORES CONSTRUCTORES S.A.S BIC 900416314-9 | AE9: MIRS LATINOAMERICA S.A.S. 900.241.875-6 | AF9: ACM ESTUDIOS SOCIO AMBIENTALES S.A.S 901.315.271-0 | AG9: MSING S.A.S 900574741-7 | AH9: GRMM S.A.S. 901124527-0 | AI9: INGENIERIA DESARROLLO Y CONSULTORIA INDESCO S.A.S. BIC 901471535-7 | AJ9: DISEÑOS INTERVENTORIAS Y SERVICIOS S.A.S. 80001.028-0 | AK9: LÍNEA GLOBAL INGENIERÍA S. A. S. 900178419-1 | AL9: GERARDO DÍAZ MANJARRÉS 70077994-1 | AM9: 860450644-3 | AN9: 800172033-2 | AO9: 812002469-5 | AP9: IAR PROYECTOS SAS 900709306-8 | AQ9: BATEMAN INGENIERIA SAS 800061409-1 | AR9: 800028455-1 | AS9: AESA PROYECTOS SAS 901580432-4 | AT9: BALER INGENIERIA SAS BIC 900264015 8 | AU9: 890405995-1 | AV9: ARA INGENIERIA S.A.S 830068724-8 | AW9: JOSE ALBERTO ROJAS PRIETO 79442593-1 | AX9: 800155100-6 | AY9: JPS INGENIERIA S.A.S. (LIDER) 830035398-8 | AZ9: INTING S.A.S. 901693111-0 | BA9: MSC INGENIERIA SAS 830090285-8 | BB9: CORTES LEIVA ASOCIADOS SAS 900859890-0 | BC9: MONTENEGRO Y COMPAÑIA S.A.S. 901367472-7 | BD9: EJECUCIÓN Y GERENCIA DE PROYECTOS S.A.S. 900599732-9 | BE9: FLAVIO RICARDO JIMÉNEZ MEJÍA 3.226.596-1 | BF9: INGENIERIA Y CONSULTORIA INGECON S.A.S. 810002747-0 | BG9: ECG INGENIERIA S.A.S 901289190-0 | BH9: INTERVENTORIAS Y DISEÑOS S.A. – INTERDISEÑOS 860027091-8 | BI9: INTERDISEÑOS ASOCIADOS S.A.S. 901682746-1 | BJ9: JET INGENIERIS SAS 802024876-8 | BK9: INGENIERIA MASTER SAS 900915689-6 | BL9: 800032277-2 | BM9: 901506750-7 | BN9: PROYECTOS E INTERVENTORÍAS S.A.S 860403102-3 | BO9: INGENIERÍA DE ESTUDIOS Y ASESORIAS S.A.S. INESAS S.A.S 860034155-1 | BP9: 891500627-6 | BQ9: 901573477 6 | BR9: ICING S.A.S. 901691885-3 | BS9: COPEBA S.A.S. 830011122-9 | BT9: KALPA INGENIERIA SAS 901506984-3 | BU9: MEDINA & RIVERA INGENIEROS ASOCIADOS SAS 830013230-5 | BV9: GAVINCO INGENIEROS CONSULTORES SAS 900916608-4 | BW9: JGF INGENIERIA S.A.S 900916608-4 | BX9: GNG SERVICIOS DE INGENIERÍA S.A.S. 901383717-3 | BY9: LUIS GUILLERMO NARVAEZ RICARDO 9050725-8 | BZ9: 890104625-1 | CA9: 860531577-6 | CB9: 900389180-2 | CC9: INTERNOVAC GROUP S.A.S 901719021-0 | CD9: LEMOINE RIVERA INGENIEROS ASOCIADOS S.A.S 800175083-4 | CE9: GOMEZ CAJIAO Y ASOCIADOS S.A.S 860034335 - 9 | CF9: SETEC ANDINA S.A.S. 901399529-5 | CG9: PROCIVING SAS 8.638.502-4 | CH9: CIAF LTDA INGENIERIA 800130967-6 | CI9: CONSULTORIA Y OBRAS CIVILES DE COLOMBIA SAS 900956142-5 | CJ9: INFRALAR S.A.S. 900284623-1 | CK9: OBRAS Y PROYECTOS RP S.A.S. 800245246-9 | CL9: INGTECNOVA S.A.S. BIC. 901642556 6 | CM9: INTERVENTORIA Y CONSTRUCCIONES S.A.S 813003402-0 | CN9: RAFAEL JAVIER GUISA RUEDA 91261497-7 | CO9: HUMBERTO JAUREGUI & CIAS SAS 901793808-4 | CP9: PROYECTOS VIALES SAS 900325581-8 | CQ9: PROYECTOS TECNICOS DE COLOMBIA S.A.S 900181247-2 | CR9: COMPAÑÍA TECNICA DE INGENIERIA S.A.S 901531042-6 | CS9: INPROTEKTO LIMITADA N 800032486-5 | CT9: BRAIN INGENIERÍA VIAL S.A.S. 900779202-1 | CU9: INGE PR SAS 901262481-1 | CV9: INTERVENTORIA Y GESTION INTERGES SAS 901145450-2 | CW9: CAYCO S.A.S 900334140-1 | CX9: INGEORBE SAS BIC 901402216-8 | CY9: 901515287-6 | CZ9: R&M CONSTRUCCIONES E INTERVENTORIAS SAS 830028126-2 | DA9: MAIRA ALEJANDRA PICON GARCIA 37331288-9 | DB9: INGENIERÍA Y GESTIÓN VIAL SAS – GEVIAL SAS 830504592-3 | DC9: GEOINTERVENTORIAS SAS - GEOINTER SAS 830505044 - 3 | DD9: DISEÑOS VÍAS Y PAVIMENTOS SAS 900403072-5 | DE9: PROYECTISTAS ASOCIADOS SAS 900426155-7 | DF9: CONSTRUCTORA TEATINO VARGAS – CONSTRUTEV SAS 830512601-5 | DG9: CAP QUALITY PROJECT S.A.S 901708022-0 | DH9: OPH INGENIEROS ASOCIADOS SAS 901048528-2 | DI9: 900378119-5
B10: PORCENTAJE DE PARTICIPACION | D10: 0.5 | E10: 0.1 | F10: 0.3 | G10: 0.1 | H10: 0.5 | I10: 0.5 | J10: 1 | K10: 1 | L10: 0.1 | M10: 0.5 | N10: 0.4 | O10: 1 | P10: 1 | Q10: 0.5 | R10: 0.5 | S10: 0.5 | T10: 0.4 | U10: 0.1 | V10: 0.7 | W10: 0.3 | X10: 1 | Y10: 1 | Z10: 0.6 | AA10: 0.4 | AB10: 1 | AC10: 0.5 | AD10: 0.5 | AE10: 0.9 | AF10: 0.1 | AG10: 0.9 | AH10: 0.1 | AI10: 0.1 | AJ10: 0.9 | AK10: 0.5 | AL10: 0.5 | AM10: 1 | AN10: 1 | AO10: 1 | AP10: 0.5 | AQ10: 0.5 | AR10: 1 | AS10: 0.5 | AT10: 0.5 | AU10: 1 | AV10: 0.9 | AW10: 0.1 | AX10: 1 | AY10: 0.9 | AZ10: 0.1 | BA10: 0.9 | BB10: 0.1 | BC10: 0.6 | BD10: 0.1 | BE10: 0.3 | BF10: 0.5 | BG10: 0.5 | BH10: 0.2 | BI10: 0.8 | BJ10: 0.5 | BK10: 0.5 | BL10: 1 | BM10: 1 | BN10: 0.7 | BO10: 0.3 | BP10: 1 | BQ10: 1 | BR10: 0.9 | BS10: 0.1 | BT10: 0.99 | BU10: 0.01 | BV10: 0.9 | BW10: 0.1 | BX10: 0.5 | BY10: 0.5 | BZ10: 1 | CA10: 1 | CB10: 1 | CC10: 0.25 | CD10: 0.75 | CE10: 0.5 | CF10: 0.5 | CG10: 0.45 | CH10: 0.45 | CI10: 0.1 | CJ10: 0.75 | CK10: 0.15 | CL10: 0.1 | CM10: 0.5 | CN10: 0.5 | CO10: 0.5 | CP10: 0.5 | CQ10: 0.5 | CR10: 0.5 | CS10: 0.9 | CT10: 0.1 | CU10: 0.5 | CV10: 0.5 | CW10: 0.5 | CX10: 0.5 | CY10: 1 | CZ10: 0.5 | DA10: 0.5 | DB10: 0.5 | DC10: 0.25 | DD10: 0.25 | DE10: 0.91 | DF10: 0.09 | DG10: 0.5 | DH10: 0.5 | DI10: 1
B11: REPRESENTANTE LEGAL | D11: CORREDOR BECERRA PEDRO JOSE | E11: CORZO GARCIA JORGE WILLAN | F11: GERMAN ALONSO PUENTES GORDO | G11: CORREDOR BECERRA JAIRO EDUARDO | H11: SANDRA MONICA CARDOZO | I11: CARRILLO VARGAS SANTIAGO | J11: MORALBA SANCHEZ ORDOÑEZ | K11: OSCAR ALFREDO MONTOYA | L11: ALVAREZ PARRADO RICAUTE | M11: MANUEL JOSE MEZA SOTO | N11: RICAUTE ALVAREZ PARRADO | O11: ESTHER PAULINA MARTINEZ | P11: GONZALO EDUARDO PAZ MATALLANA | Q11: CARLOS MARIO ROLON | R11: CARLOS ANDRES MARTIBEZ | S11: ANTONIO JOSE PEDRAZA JIMENEZ | T11: CONTRERAS CORTES JOSE JOAQUIN | U11: IVONNE CONSTANZA FIGUEROA | V11: LOPEZ ROJAS PAOLA DEL PILAR | W11: LOPEZ ROJAS PAOLA DEL PILAR | X11: ARAMBULA CURREA CARLOS ALBERTO | Y11: NESTOR ANIBAL ESPINOSA | Z11: JORGE HERNANDO BELTRAN | AA11: JORGE HERNANDO BELTRAN CATUMBA | AB11: JARAMILLO DIAZ LUZ ANGELA | AC11: MEBYS SEGRIT DE LA OSSA | AD11: FABIAN ANDRES VALLEJO | AE11: NICK RANDY ALMEIDA | AF11: RAMIREZ POVEDA FABIO MERCK | AG11: RUIZ PARRA DANIEL ERNESTO | AH11: MORENO MORENO GERMAN RODRIGO | AI11: JULIAN DARIO OCHOA NIÑO | AJ11: FRANCISCO JAVIER DAZA | AK11: BLANCA LILLYAM TABARES | AL11: GERARDO DÍAZ MANJARRÉS | AM11: ISABEL VICTORIA LEON | AN11: BERDUGO LEAL JESUS MARIA | AO11: RIOS URUETA JUAN CARLOS | AP11: CAROLINA ALVAREZ | AQ11: JAIME DUDLEY PIO | AR11: ANDRES GERMAN NEIRA | AS11: ANTONIO ESTEBAN SANCHEZ | AT11: LADY MERCEDES AGUIRRE | AU11: CARLOS ALBERTO BELLO AVENA | AV11: KERLY GIOVANNA CUELLAR | AW11: JOSE ALBERTO ROJAS PRIETO | AX11: NAGED RODRIGUEZ CAMILO ADOLFO | AY11: CESAR AUGUSTO PALACIOS | AZ11: JORGE ELIECER PARRA | BA11: DIEGO ALEJANDRO LEIVA | BB11: DIEGO ALEJANDRO LEIVA | BC11: GOMEZ MONTENEGRO CARLOS ALBERTO | BD11: HERRERA BERNAL CAMILO ALBERTO | BE11: FLAVIO RICARDO JIMÉNEZ MEJÍA | BF11: ANGELA MARIA DAVILA | BG11: JULIAN PASTOR VALBUENA | BH11: LUZ AMPARO VALENCIA | BI11: LUZ MARINA ORTEGA OCHOA | BJ11: LINA MARGARITA OSIO | BK11: DANIELA CAROLINA SSINNING | BL11: GONGORA SIERRA MANUEL LEOPOLDO | BM11: YURI VIVIANA ARCILA | BN11: WILSON GIOVANNI URREA | BO11: HENRY ALEXANDER URREA | BP11: MANUEL JOSE BRAVO FERNANDEZ | BQ11: ALVARO HERNANDO VERA | BR11: ANDREA DEL PILAR PEÑA | BS11: ANDREA DEL PILAR PEÑA | BT11: CESAR AUGUSTO CAMARGO | BU11: CESAR AUGUSTO CAMARGO | BV11: MARIA ISABEL LORA MUÑOZ | BW11: LUZ ANDREA FAJARDO | BX11: JORGE GOMEZ FALLA | BY11: LUIS GUILLERMO NARVAEZ RICARDO | BZ11: LUIGGI ABERTO PUBLIESE | CA11: SERGIO RAFAEL FIDEL PABON | CB11: IVAN AUGUSTO BARRETO | CC11: PADILLA MEJÍA SINDY | CD11: CRISTIAN MAURICIO CUELLAR | CE11: SETEC CONSULTANTS S.A.S | CF11: SETEC CONSULTANTS S.A.S | CG11: EDWIN JAVIER LINARES | CH11: FRANCISCO EDUARDO VASQUEZ | CI11: GREYS ALEJANDRA GUZMAN | CJ11: LARA GUZMAN EDGAR | CK11: FRANCISCO EDUARDO VASQUEZ | CL11: LINDA DANIELA HERNANDEZ | CM11: GUIZA RUEDA LEONEL | CN11: RAFAEL JAVIER GUISA RUEDA | CO11: JAUREGUI MARTINEZ CARLOS HUMBERTO | CP11: MARTINEZ ESTRADA MARIA ISABEL | CQ11: CAMPO VILLOTA VIVIAN | CR11: CAMPO VILLOTA VIVIAN PAOLA | CS11: CARLOS ENRIQUE BARRAGAN | CT11: MAURICIO FERNANDO PRIETO | CU11: PERDOMO VELASCO LUIS MIGUEL | CV11: SAAVEDRA ARIAS SULMA YANIRA | CW11: ASTRID LILIANA MARIN | CX11: ADRIANA LUCIA ORTIZ | CY11: PAULA VANESA FLOREZ SANZON | CZ11: GOMEZ GOMEZ CESAR EDUARDO | DA11: MAIRA ALEJANDRA PICON GARCIA | DB11: DONALDO ELIAS CASTILLA | DC11: LARA CASTRO VIANEY | DD11: LARA RUIZ JOSE | DE11: OSCAR ANDRES PLAZAS | DF11: OSCAR EDUARDO TEATINO | DG11: PALTA MUÑOZ CARLOS ALBERTO | DH11: ANA ISABEL HENDE | DI11: JORGE RICHAR RODRIGUEZ
B12: DOCUMENTACION FINANCIERA: CERTIFICADO DE INSCRIPCIÓN EN EL REGISTRO ÚNICO DE PROPONENTES-RUP | D12: Anexa Rup | E12: Anexa Rup | F12: Anexa Rup | G12: Anexa Rup | H12: Anexa Rup | I12: Anexa Rup | J12: Anexa Rup | K12: Anexa Rup | L12: Anexa Rup | M12: Anexa Rup | N12: Anexa Rup | O12: Anexa Rup | P12: Anexa Rup | Q12: Anexa Rup | R12: Anexa Rup | S12: Anexa Rup | T12: Anexa Rup | U12: Anexa Rup | V12: Anexa Rup | W12: Anexa Rup | X12: Anexa Rup | Y12: Anexa Rup | Z12: Anexa Rup | AA12: Anexa Rup | AB12: Anexa Rup | AC12: Anexa Rup | AD12: Anexa Rup | AE12: Anexa Rup | AF12: Anexa Rup | AG12: Anexa Rup | AH12: Anexa Rup | AI12: Anexa Rup | AJ12: Anexa Rup | AK12: Anexa Rup | AL12: Anexa Rup | AM12: Anexa Rup | AN12: Anexa Rup | AO12: Anexa Rup | AP12: Anexa Rup | AQ12: Anexa Rup | AR12: Anexa Rup | AS12: Anexa Rup | AT12: Anexa Rup | AU12: Anexa Rup | AV12: Anexa Rup | AW12: Anexa Rup | AX12: Anexa Rup | AY12: Anexa Rup | AZ12: Anexa Rup | BA12: Anexa Rup | BB12: Anexa Rup | BC12: Anexa Rup | BD12: Anexa Rup | BE12: Anexa Rup | BF12: Anexa Rup | BG12: Anexa Rup | BH12: Anexa Rup | BI12: Anexa Rup | BJ12: Anexa Rup | BK12: Anexa Rup | BL12: Anexa Rup | BM12: Anexa Rup | BN12: Anexa Rup | BO12: Anexa Rup | BP12: Anexa Rup | BQ12: Anexa Rup | BR12: Anexa Rup | BS12: Anexa Rup | BT12: Anexa Rup | BU12: Anexa Rup | BV12: Anexa Rup | BW12: Anexa Rup | BX12: Anexa Rup | BY12: Anexa Rup | BZ12: Anexa Rup | CA12: Anexa Rup | CB12: Anexa Rup | CC12: Anexa Rup | CD12: Anexa Rup | CE12: Anexa Rup | CF12: Anexa Rup | CG12: Anexa Rup | CH12: Anexa Rup | CI12: Anexa Rup | CJ12: Anexa Rup con subsanación | CK12: Anexa Rup | CL12: Anexa Rup | CM12: Anexa Rup | CN12: Anexa Rup | CO12: Anexa Rup | CP12: Anexa Rup | CQ12: Anexa Rup | CR12: Anexa Rup | CS12: Anexa Rup | CT12: Anexa Rup | CU12: Anexa Rup | CV12: Anexa Rup | CW12: Anexa Rup | CX12: Anexa Rup | CY12: Anexa Rup | CZ12: Anexa Rup | DA12: Anexa Rup | DB12: Anexa Rup | DC12: Anexa Rup | DD12: Anexa Rup | DE12: Anexa Rup | DF12: Anexa Rup | DG12: Anexa Rup | DH12: Anexa Rup | DI12: Anexa Rup
B13: Para tal efecto, la información financiera deberá estar actualizada en el RUP mínimo a 31 de diciembre del año 2023 y en firme. Para el caso de los proponentes extranjeros persona jurídica con sucursal y persona natural con domicilio en Colombia, la verificación de la capacidad financiera se realizará con base en la información financiera contenida en el RUP, de acuerdo a la fecha de corte establecida en los países de origen o en sus estatutos sociales. Así mismo, la inscripción en el RUP deberá estar vigente y la información financiera en firme.
B15: INDICADORES FINANCIEROS
B17: a. INDICE DE LIQUIDEZ (IL) | C17: Se considerará HÁBIL el proponente que presente un IL mayor o igual a 1,21
B18: b. INDICE DE ENDEUDAMIENTO (IE) | C18: Se considerará HÁBIL el proponente que presente un IE menor o igual a 0,70
B19: c. RAZÓN DE COBERTURA DE INTERESES (RCI): | C19: Se considerará HÁBIL el proponente que presente una RCI mayor o igual 1,00
B20: d. CAPITAL DE TRABAJO (CT): | C20: Se considerará HÁBIL el proponente que presente una CT mayor o igual $80.456.573
B22: Los Proponentes cuyos gastos de intereses sean cero (0), no podrán calcular el indicador de razón de cobertura de intereses. En este caso el Proponente cumple el indicador, salvo que la utilidad operacional sea negativa, caso en el cual no cumple con el indicador de razón de cobertura de intereses.
B24: INDICADORES CAPACIDAD FINANCIERA | D24: =D8 -> CONSORCIO INTERVIALES PCI-PC | H24: =H8 -> CONSORCIO VÍAS FONTIBÓN 2025 | J24: =J8 -> MORALBA SANCHEZ ORDOÑEZ | K24: =K8 -> GRUPO METRO COLOMBIA S.A.S | L24: =L8 -> CONSORCIO INTER CGS F1 | O24: =O8 -> INGENIEROS CONSTRUCTORES Y ASESORES SAS | P24: =P8 -> GPM PROYECTOS DE INGENIERIA S.A.S. | Q24: =Q8 -> CONSORCIO MODELIA 24 | S24: =S8 -> UNIÓN TEMPORAL ROADS 402 | V24: =V8 -> CONSORCIO MALLA VIAL 206 | X24: =X8 -> INTERVENTORIA Y CONSTRUCIVILES S.A.S | Y24: =Y8 -> EMPRESA DE PROYECTOS CIVILES SAS | Z24: =Z8 -> CONSORCIO NOGAALL-LITORAL | AB24: =AB8 -> GRUPO CONSULTOR E INGENIEROS SAS | AC24: =AC8 -> CONSORCIO ESPACIOS TVH | AE24: =AE8 -> CONSORCIO VIAS Y ESP | AG24: =AG8 -> CONSORCIO FONTIBON GM | AI24: =AI8 -> CONSORCIO I.D. FONTIBÓN | AK24: =AK8 -> CONSORCIO LG FONTIBÓN | AM24: =AM8 -> INTERSA S.A. | AN24: =AN8 -> CODIPRO INGENIERIA Y ARQUITECTURA LTDA | AO24: =AO8 -> INGESCOR LTDA | AP24: =AP8 -> CONSORCIO INTERVIAL URBANO | AR24: =AR8 -> VELNEC S A | AS24: =AS8 -> CONSORCIO INTER-FONTIBON 2024 | AU24: =AU8 -> ING INGENIERIA SAS | AV24: =AV8 -> CONSORCIO FATIMA | AX24: =AX8 -> GEOTECNIA Y CIMIENTOS INGEOCIM SAS | AY24: =AY8 -> CONSORCIO FONTIBON JINT 001 | BA24: =BA8 -> CONSORCIO ALIANZA BOGOTA | BC24: =BC8 -> CONSORCIO FEM – 34 | BF24: =BF8 -> CONSORCIO INTER FONTIBON | BH24: =BH8 -> CONSORCIO ID FONTIBON 001 | BJ24: =BJ8 -> CONSORCIO TRANSFORMAR VIAL FONTIBON | BL24: =BL8 -> ESTUDIOS TECNICOS Y CONSTRUCCIONES S.A.S | BM24: =BM8 -> ALIANZA INTEGRAL DE PROYECTOS SAS BIC | BN24: =BN8 -> CONSORCIO EPSILON FONTIBON | BP24: =BP8 -> PEB CONSULTORES S.A.S. | BQ24: =BQ8 -> ALMA INTERVENTORÍA & CONSULTORÍA SAS | BR24: =BR8 -> CONSORCIO COING F001 | BT24: =BT8 -> CONSORCIO FONTIBON KM 2024 | BV24: =BV8 -> CONSORCIO INTER FONTIBON JG | BX24: =BX8 -> CONSORCIO INTER VIAL G&L. | BZ24: =BZ8 -> ECOVIAS SAS | CA24: =CA8 -> PROJEKTA LIMITADA INGENIEROS CONSULTORES | CB24: =CB8 -> SOLUCIONES PARA LA INGENIERÍA S.A.S. | CC24: =CC8 -> CONSORCIO INTERNOVAC – LERI | CE24: =CE8 -> CONSORCIO INTERNOVAC – LERI | CG24: =CG8 -> CONSORCIO CCP. | CJ24: =CJ8 -> CONSORCIO FONTIBON | CM24: =CM8 -> CONSORCIO TECNOLOGICO | CO24: =CO8 -> CONSORCIO INTERVIAL PH | CQ24: =CQ8 -> CONSORCIO VIAS FONTIBON PC | CS24: =CS8 -> CONSORCIO MALLA VIAL FDLF | CU24: =CU8 -> CONSORCIO INTER FONTIBON | CW24: =CW8 -> CONSORCIO VIAS IC 2024 | CY24: =CY8 -> ORBITA DESARROLLO S.A.S. | CZ24: =CZ8 -> CONSORCIO CONSTRUCCIÓN Y DESARROLLO FONTIBÓN | DB24: =DB8 -> CONSORCIO ESPACIO PÚBLICO INT 2024 | DE24: =DE8 -> CONSORCIO VÍAS PROTEV | DG24: =DG8 -> CONSORCIO INTERVENTORES FONTIBON | DI24: =DI8 -> CONSULTORES INTERVENTORES COLOMBIANOS SAS
D25: =D9 -> PC PROYECCION E INGENIERIA SAS 901757531-7 | E25: =E9 -> JORGE WILLAN CORZO GARCIA 5689243-9 | F25: =F9 -> GERMAN ALONSO PUENTES GORDO 7162821-0 | G25: =G9 -> INCORDIS SAS 900869939-5 | H25: =H9 -> SANDRA MONICA CARDOZO 51976458-3 | I25: =I9 -> SAVIMAC SAS 900984598-9 | J25: =J9 -> 34.526.385-2 | K25: =K9 -> 830010109-8 | ... DI25: =DI9 -> 900378119-5
B26: INDICE DE LIQUIDEZ O SOLVENCIA (ACTIVO CORRIENTE / PASIVO CORRIENTE) | D26: =D45/D49 -> 10.201275 | H26: =H45/H49 -> 12.316826 | J26: =J44/J48 -> 19.629175 | K26: =K44/K48 -> 21.490029 | L26: =L45/L49 -> 4.930026 | O26: =O44/O48 -> 6.4464695 | P26: =P44/P48 -> 3.6779422 | Q26: =Q45/Q49 -> 7.2934539 | S26: =S45/S49 -> 2.5891518 | V26: =V45/V49 -> 19.162607 | X26: =X44/X48 -> 4.1381293 | Y26: =Y44/Y48 -> 3.2326834 | Z26: =Z45/Z49 -> 3.9042494 | AB26: =AB44/AB48 -> 11.310621 | AC26: =AC45/AC49 -> 4.7884456 | AE26: =AE45/AE49 -> 34.904877 | AG26: =AG45/AG49 -> 2.4723378 | AI26: =AI45/AI49 -> 2.35227 | AK26: =AK45/AK49 -> 4.8368148 | AM26: =AM44/AM48 -> 3.3319651 | AN26: =AN44/AN48 -> 3.3515898 | AO26: =AO44/AO48 -> 20.874378 | AP26: =AP45/AP49 -> 6.5485073 | AR26: =AR44/AR48 -> 2.4518036 | AS26: =AS45/AS49 -> 6.6660601 | AU26: =AU44/AU48 -> 5.1091808 | AV26: =AV45/AV49 -> 5.0554867 | AX26: =AX44/AX48 -> 3.4461372 | AY26: =AY45/AY49 -> 6.2803975 | BA26: =BA45/BA49 -> 20.251571 | BC26: =BC45/BC49 -> 6.2519316 | BF26: =BF45/BF49 -> 1.7803772 | BH26: =BH45/BH49 -> 3.2965761 | BJ26: =BJ45/BJ49 -> 4.9020541 | BL26: =BL44/BL48 -> 4.9079231 | BM26: =BM44/BM48 -> 3.885528 | BN26: =BN45/BN49 -> 4.8955815 | BP26: =BP44/BP48 -> 2.9836865 | BQ26: =BQ44/BQ48 -> 3.8519312 | BR26: =BR45/BR49 -> 8.9818915 | BT26: =BT45/BT49 -> 2.5958326 | BV26: =BV45/BV49 -> 3.2310728 | BX26: =BX45/BX49 -> 5.9808835 | BZ26: =BZ44/BZ48 -> 5.3057741 | CA26: =CA44/CA48 -> 2.0674989 | CB26: =CB44/CB48 -> 118.90029 | CC26: =CC45/CC49 -> 26.460689 | CE26: =CE45/CE49 -> 2.1614585 | CG26: =CG45/CG49 -> 2.9589257 | CJ26: =CJ45/CJ49 -> 5.2814406 | CM26: =CM45/CM49 -> 3.0855962 | CO26: =CO45/CO49 -> 7.0308825 | CQ26: =CQ45/CQ49 -> 6.6230498 | CS26: =CS45/CS49 -> 3.2169802 | CU26: =CU45/CU49 -> 9.8137038 | CW26: =CW45/CW49 -> 13.711505 | CY26: =CY44/CY48 -> 61.686116 | CZ26: =CZ45/CZ49 -> 4.1512729 | DB26: =DB45/DB49 -> 1.8970206 | DE26: =DE45/DE49 -> 8.4453895 | DG26: =IF(ISERROR((DG45/DG49)),"INDETERMINADO",(DG45/DG49)) -> INDETERMINADO | DI26: =DI44/DI48 -> 15.200739
B27: INDICE DE ENDEUDAMIENTO (PASIVO TOTAL / ACTIVO TOTAL) | D27: =ROUND(D51/D47,2) -> 0.42 | H27: =ROUND(H51/H47,2) -> 0.05 | J27: =ROUND(J50/J46,2) -> 0.03 | K27: =ROUND(K50/K46,2) -> 0.05 | L27: =ROUND(L51/L47,2) -> 0.24 | O27: =ROUND(O50/O46,2) -> 0.28 | P27: =ROUND(P50/P46,2) -> 0.24 | Q27: =ROUND(Q51/Q47,2) -> 0.19 | S27: =ROUND(S51/S47,2) -> 0.62 | V27: =ROUND(V51/V47,2) -> 0.59 | X27: =ROUND(X50/X46,2) -> 0.15 | Y27: =ROUND(Y50/Y46,2) -> 0.63 | Z27: =ROUND(Z51/Z47,2) -> 0.48 | AB27: =ROUND(AB50/AB46,2) -> 0.38 | AC27: =ROUND(AC51/AC47,2) -> 0.26 | AE27: =(AE51/AE47) -> 0.28495146 | AG27: =(AG51/AG47) -> 0.39692299 | AI27: =(AI51/AI47) -> 0.60009194 | AK27: =(AK51/AK47) -> 0.14414107 | AM27: =ROUND(AM50/AM46,2) -> 0.4 | AN27: =ROUND(AN50/AN46,2) -> 0.48 | AO27: =ROUND(AO50/AO46,2) -> 0.42 | AP27: =(AP51/AP47) -> 0.24761453 | AR27: =ROUND(AR50/AR46,2) -> 0.43 | AS27: =(AS51/AS47) -> 0.44519024 | AU27: =ROUND(AU50/AU46,2) -> 0.65 | AV27: =(AV51/AV47) -> 0.39393405 | AX27: =ROUND(AX50/AX46,2) -> 0.45 | AY27: =(AY51/AY47) -> 0.26769242 | BA27: =(BA51/BA47) -> 0.071546277 | BC27: =ROUND(BC51/BC47,2) -> 0.18 | BF27: =(BF51/BF47) -> 0.54289919 | BH27: =(BH51/BH47) -> 0.54460114 | BJ27: =(BJ51/BJ47) -> 0.20837198 | BL27: =ROUND(BL50/BL46,2) -> 0.29 | BM27: =ROUND(BM50/BM46,2) -> 0.24 | BN27: =(BN51/BN47) -> 0.22486631 | BP27: =ROUND(BP50/BP46,2) -> 0.35 | BQ27: =ROUND(BQ50/BQ46,2) -> 0.64 | BR27: =(BR51/BR47) -> 0.41223829 | BT27: =(BT51/BT47) -> 0.49189207 | BV27: =(BV51/BV47) -> 0.42748515 | BX27: =(BX51/BX47) -> 0.31131217 | BZ27: =ROUND(BZ50/BZ46,2) -> 0.47 | CA27: =ROUND(CA50/CA46,2) -> 0.46 | CB27: =ROUND(CB50/CB46,2) -> 0.01 | CC27: =(CC51/CC47) -> 0.035494477 | CE27: =(CE51/CE47) -> 0.60078329 | CG27: =ROUND(CG51/CG47,2) -> 0.37 | CJ27: =ROUND(CJ51/CJ47,2) -> 0.36 | CM27: =(CM51/CM47) -> 0.39541062 | CO27: =(CO51/CO47) -> 0.10781069 | CQ27: =(CQ51/CQ47) -> 0.52954412 | CS27: =(CS51/CS47) -> 0.34034134 | CU27: =(CU51/CU47) -> 0.12717438 | CW27: =(CW51/CW47) -> 0.39100838 | CY27: =ROUND(CY50/CY46,2) -> 0.38 | CZ27: =(CZ51/CZ47) -> 0.17631258 | DB27: =ROUND(DB51/DB47,2) -> 0.51 | DE27: =(DE51/DE47) -> 0.51413899 | DG27: =(DG51/DG47) -> 0 | DI27: =ROUND(DI50/DI46,2) -> 0.48
B28: RAZÓN DE COBERTURA DE INTERESES: (UTILIDAD OPERACIONAL / GASTOS DE INTERESES) | D28: =D55/D57 -> 1 | H28: =IF(ISERROR((H55/H57)),"INDETERMINADO",(H55/H57)) -> INDETERMINADO | J28: =J54/J56 -> 52.268298 | K28: =K54/K56 -> 14094.518 | L28: =L55/L57 -> 13.118912 | O28: =O54/O56 -> 576.14641 | P28: =P54/P56 -> 24.088204 | Q28: =Q55/Q57 -> 6.5232608 | S28: =S55/S57 -> 58.009586 | V28: =V55/V57 -> 149.42006 | X28: =IF(ISERROR((X54/X56)),"INDETERMINADO",(X54/X56)) -> INDETERMINADO | Y28: =Y54/Y56 -> 4.7804676 | Z28: =Z55/Z57 -> 29.938669 | AB28: =AB54/AB56 -> 34.672562 | AC28: =AC55/AC57 -> 50.624109 | AE28: =AE55/AE57 -> 256.63682 | AG28: =AG55/AG57 -> 4611.9398 | AI28: =AI55/AI57 -> 130.04984 | AK28: =AK55/AK57 -> 9.6199327 | AM28: =AM54/AM56 -> 3.4550675 | AN28: =AN54/AN56 -> 21.228229 | AO28: =AO54/AO56 -> 6.1917134 | AP28: =AP55/AP57 -> 4.418119 | AR28: =AR54/AR56 -> 4.9629809 | AS28: =AS55/AS57 -> 141.52008 | AU28: =IF(ISERROR((AU54/AU56)),"INDETERMINADO",(AU54/AU56)) -> INDETERMINADO | AV28: =AV55/AV57 -> 2.2773358 | AX28: =AX54/AX56 -> 514.37561 | AY28: =IF(ISERROR((AY55/AY57)),"INDETERMINADO",(AY55/AY57)) -> 71.050733 | BA28: =BA55/BA57 -> #DIV/0! | BC28: =BC55/BC57 -> 9.9680296 | BF28: =BF55/BF57 -> 15.517552 | BH28: =BH55/BH57 -> 1076.0144 | BJ28: =BJ55/BJ57 -> 55.21829 | BL28: =IF(ISERROR((BL54/BL56)),"INDETERMINADO",(BL54/BL56)) -> 7.5154485 | BM28: =IF(ISERROR((BM54/BM56)),"INDETERMINADO",(BM54/BM56)) -> INDETERMINADO | BN28: =IF(ISERROR((BN55/BN57)),"INDETERMINADO",(BN55/BN57)) -> 3533.4787 | BP28: =BP54/BP56 -> 21.883306 | BQ28: =BQ54/BQ56 -> 625.93057 | BR28: =IF(ISERROR((BR55/BR57)),"INDETERMINADO",(BR55/BR57)) -> INDETERMINADO | BT28: =BT55/BT57 -> 15.250753 | BV28: =BV55/BV57 -> 5.3218967 | BX28: =BX55/BX57 -> 206.08051 | BZ28: =BZ54/BZ56 -> 54023.217 | CA28: =CA54/CA56 -> 486.37103 | CB28: =CB54/CB56 -> 38.288783 | CC28: =IF(ISERROR((CC55/CC57)),"INDETERMINADO",(CC55/CC57)) -> 553.46499 | CE28: =IF(ISERROR((CE55/CE57)),"INDETERMINADO",(CE55/CE57)) -> 3.8726679 | CG28: =CG55/CG57 -> 15.429133 | CJ28: =CJ55/CJ57 -> 324.19686 | CM28: =IF(ISERROR((CM55/CM57)),"INDETERMINADO",(CM55/CM57)) -> 13.26702 | CO28: =IF(ISERROR((CO55/CO57)),"INDETERMINADO",(CO55/CO57)) -> 73.89021 | CQ28: =IF(ISERROR((CQ55/CQ57)),"INDETERMINADO",(CQ55/CQ57)) -> 8.4605668 | CS28: =IF(ISERROR((CS55/CS57)),"INDETERMINADO",(CS55/CS57)) -> 388.48281 | CU28: =IF(ISERROR((CU55/CU57)),"INDETERMINADO",(CU55/CU57)) -> 72.585368 | CW28: =IF(ISERROR((CW55/CW57)),"INDETERMINADO",(CW55/CW57)) -> 1533.6312 | CY28: =IF(ISERROR((CY54/CY56)),"INDETERMINADO",(CY54/CY56)) -> INDETERMINADO | CZ28: =IF(ISERROR((CZ55/CZ57)),"INDETERMINADO",(CZ55/CZ57)) -> 61.065547 | DB28: =IF(ISERROR((BR55/BR57)),"INDETERMINADO",(BR55/BR57)) -> INDETERMINADO | DE28: =IF(ISERROR((DE55/DE57)),"INDETERMINADO",(DE55/DE57)) -> 6.4723132 | DG28: =IF(ISERROR((DG55/DG57)),"INDETERMINADO",(DG55/DG57)) -> 38.102816 | DI28: =IF(ISERROR((DI54/DI56)),"INDETERMINADO",(DI54/DI56)) -> 23.014207
B29: CAPITAL DE TRABAJO: (ACTIVO CORRIENTE - PASIVO CORRIENTE) | D29: =D45-D49 -> 4292870636 | H29: =H45-H49 -> 4158266000 | J29: =J44-J48 -> 1622237887 | K29: =K44-K48 -> 5021200072 | L29: =L45-L49 -> 1735552639 | O29: =O44-O48 -> 5996437506 | P29: =P44-P48 -> 1762039091 | Q29: =Q45-Q49 -> 23738416296 | S29: =S45-S49 -> 4757018599 | V29: =V45-V49 -> 3266291997 | X29: =X44-X48 -> 1843693450 | Y29: =Y44-Y48 -> 1506687330 | Z29: =Z45-Z49 -> 5090981094 | AB29: =AB44-AB48 -> 2347171566 | AC29: =AC45-AC49 -> 3128500082 | AE29: =AE45-AE49 -> 12185744708 | AG29: =AG45-AG49 -> 2547031593 | AI29: =AI45-AI49 -> 4062331891 | AK29: =AK45-AK49 -> 1992992766 | AM29: =AM44-AM48 -> 2266213000 | AN29: =AN44-AN48 -> 2157893136 | AO29: =AO44-AO48 -> 9459250000 | AP29: =AP45-AP49 -> 9800148568 | AR29: =AR44-AR48 -> 3978170140 | AS29: =AS45-AS49 -> 1961270595 | AU29: =AU44-AU48 -> 6290056496 | AV29: =AV45-AV49 -> 6348603481 | AX29: =AX44-AX48 -> 11930563028 | AY29: =AY45-AY49 -> 5661035000 | BA29: =BA45-BA49 -> 1207789683 | BC29: =BC45-BC49 -> 835652705 | BF29: =BF45-BF49 -> 6540259242 | BH29: =BH45-BH49 -> 14879114813 | BJ29: =BJ45-BJ49 -> 12539703350 | BL29: =BL44-BL48 -> 5871671306 | BM29: =BM44-BM48 -> 981932844 | BN29: =BN45-BN49 -> 10164241507 | BP29: =BP44-BP48 -> 4571955127 | BQ29: =BQ44-BQ48 -> 1337630761 | BR29: =BR45-BR49 -> 3841977309 | BT29: =BT45-BT49 -> 12664575416 | BV29: =BV45-BV49 -> 9032484542 | BX29: =BX45-BX49 -> 4459264082 | BZ29: =BZ44-BZ48 -> 14044388168 | CA29: =CA44-CA48 -> 1225044904 | CB29: =CB44-CB48 -> 1237953000 | CC29: =CC45-CC49 -> 2467342249 | CE29: =CE45-CE49 -> 11442718000 | CG29: =CG45-CG49 -> 3537910650 | CJ29: =CJ45-CJ49 -> 5732704931 | CM29: =CM45-CM49 -> 2711882800 | CO29: =CO45-CO49 -> 1196888937 | CQ29: =CQ45-CQ49 -> 11119321797 | CS29: =CS45-CS49 -> 6264405532 | CU29: =CU45-CU49 -> 535243294 | CW29: =CW45-CW49 -> 3651809820 | CY29: =CY44-CY48 -> 148523200 | CZ29: =CZ45-CZ49 -> 3822753283 | DB29: =DB45-DB49 -> 3837234723 | DE29: =DE45-DE49 -> 7484985971 | DG29: =DG45-DG49 -> 748100234 | DI29: =DI44-DI48 -> 6366373416
B30: PATRIMONIO: (ACTIVO TOTAL - PASIVO TOTAL) | D30: =D53 -> 2425721130 | H30: =H53 -> 7757717000 | J30: =J52 -> 3002077264 | K30: =K52 -> 5030072952 | L30: =L53 -> 1824048787 | O30: =O52 -> 6522116285 | P30: =P52 -> 2344797131 | Q30: =Q53 -> 24259951688 | S30: =S53 -> 3188292784 | V30: =V53 -> 1416918604 | X30: =X52 -> 3245414338 | Y30: =Y52 -> 1786707300 | Z30: =Z53 -> 5311375705 | AB30: =AB52 -> 1706817250 | AC30: =AC53 -> 4155226194 | AE30: =AE53 -> 9091272216 | AG30: =AG53 -> 2628411666 | AI30: =AI53 -> 5578187255 | AK30: =AK53 -> 4279932616 | AM30: =AM52 -> 1982776000 | AN30: =AN52 -> 1627413644 | AO30: =AO52 -> 7076010000 | AP30: =AP53 -> 9822422626 | AR30: =AR52 -> 6560805226 | AS30: =AS53 -> 1420685187 | AU30: =AU52 -> 3355616828 | AV30: =AV53 -> 5853135834 | AX30: =AX52 -> 9381807308 | AY30: =AY53 -> 5555557000 | BA30: =BA53 -> 1280350228 | BC30: =BC53 -> 1389093398 | BF30: =BF53 -> 7140458232 | BH30: =BH53 -> 9837326129 | BJ30: =BJ53 -> 13678086945 | BL30: =BL52 -> 8371790488 | BM30: =BM52 -> 1057051476 | BN30: =BN53 -> 10811996776 | BP30: =BP52 -> 4826941053 | BQ30: =BQ52 -> 1097310449 | BR30: =BR53 -> 3898407378 | BT30: =BT53 -> 10484729418 | BV30: =BV53 -> 8542830151 | BX30: =BX53 -> 4566091071 | BZ30: =BZ52 -> 10329822139 | CA30: =CA52 -> 1373905904 | CB30: =CB52 -> 1925317000 | CC30: =CC53 -> 2633317166 | CE30: =CE53 -> 9940021000 | CG30: =CG53 -> 4299846858 | CJ30: =CJ53 -> 4687024814 | CM30: =CM53 -> 3525253648 | CO30: =CO53 -> 1642359256 | CQ30: =CQ53 -> 6297619788 | CS30: =CS53 -> 6684335172 | CU30: =CU53 -> 546834775 | CW30: =CW53 -> 2634149288 | CY30: =CY52 -> 160879700 | CZ30: =CZ53 -> 6726511446 | DB30: =DB53 -> 5216526803 | DE30: =DE53 -> 5559986329 | DG30: =DG53 -> 808030594 | DI30: =DI52 -> 5742360980
B32: CAPACIDAD ORGANIZACIONAL
B33: RENTABILIDAD DEL PATRIMONIO (ROE) | C33: Se considerará HÁBIL el proponente que presente una rentabilidad del patrimonio mayor o igual 0,04
B34: RENTABILIDAD DEL ACTIVO (ROA) | C34: Se considerará HÁBIL el proponente que presente una rentabilidad del patrimonio mayor o igual 0,02
B35: El no cumplimiento de estos indicadores financieros no será subsanable, y en consecuencia se rechazara la propuesta.
B37: INDICADORES CAPACIDAD ORGANIZACIONAL | D37: =D8 -> CONSORCIO INTERVIALES PCI-PC | H37: =H8 -> CONSORCIO VÍAS FONTIBÓN 2025 | J37: =J8 -> MORALBA SANCHEZ ORDOÑEZ | K37: =K8 -> GRUPO METRO COLOMBIA S.A.S | L37: =L8 -> CONSORCIO INTER CGS F1 | O37: =O8 -> INGENIEROS CONSTRUCTORES Y ASESORES SAS | Q37: =Q8 -> CONSORCIO MODELIA 24 | S37: =S8 -> UNIÓN TEMPORAL ROADS 402 | V37: =V8 -> CONSORCIO MALLA VIAL 206 | X37: =X8 -> INTERVENTORIA Y CONSTRUCIVILES S.A.S | Y37: =Y8 -> EMPRESA DE PROYECTOS CIVILES SAS | Z37: =Z8 -> CONSORCIO NOGAALL-LITORAL | AB37: =AB8 -> GRUPO CONSULTOR E INGENIEROS SAS | AC37: =AC8 -> CONSORCIO ESPACIOS TVH | AE37: =AE8 -> CONSORCIO VIAS Y ESP | AG37: =AG8 -> CONSORCIO FONTIBON GM | AI37: =AI8 -> CONSORCIO I.D. FONTIBÓN | AK37: =AK8 -> CONSORCIO LG FONTIBÓN | AM37: =AM8 -> INTERSA S.A. | AN37: =AN8 -> CODIPRO INGENIERIA Y ARQUITECTURA LTDA | AO37: =AO8 -> INGESCOR LTDA | AP37: =AP8 -> CONSORCIO INTERVIAL URBANO | AR37: =AR8 -> VELNEC S A | AS37: =AS8 -> CONSORCIO INTER-FONTIBON 2024 | AU37: =AU8 -> ING INGENIERIA SAS | AV37: =AV8 -> CONSORCIO FATIMA | AX37: =AX8 -> GEOTECNIA Y CIMIENTOS INGEOCIM SAS | AY37: =AY8 -> CONSORCIO FONTIBON JINT 001 | BA37: =BA8 -> CONSORCIO ALIANZA BOGOTA | BC37: =BC8 -> CONSORCIO FEM – 34 | BF37: =BF8 -> CONSORCIO INTER FONTIBON | BH37: =BH8 -> CONSORCIO ID FONTIBON 001 | BJ37: =BJ8 -> CONSORCIO TRANSFORMAR VIAL FONTIBON | BL37: =BL8 -> ESTUDIOS TECNICOS Y CONSTRUCCIONES S.A.S | BM37: =BM8 -> ALIANZA INTEGRAL DE PROYECTOS SAS BIC | BN37: =BN8 -> CONSORCIO EPSILON FONTIBON | BP37: =BP8 -> PEB CONSULTORES S.A.S. | BQ37: =BQ8 -> ALMA INTERVENTORÍA & CONSULTORÍA SAS | BR37: =BR8 -> CONSORCIO COING F001 | BT37: =BT8 -> CONSORCIO FONTIBON KM 2024 | BV37: =BV8 -> CONSORCIO INTER FONTIBON JG | BX37: =BX8 -> CONSORCIO INTER VIAL G&L. | BZ37: =BZ8 -> ECOVIAS SAS | CA37: =CA8 -> PROJEKTA LIMITADA INGENIEROS CONSULTORES | CB37: =CB8 -> SOLUCIONES PARA LA INGENIERÍA S.A.S. | CC37: =CC8 -> CONSORCIO INTERNOVAC – LERI | CE37: =CE8 -> CONSORCIO INTERNOVAC – LERI | CG37: =CG8 -> CONSORCIO CCP. | CJ37: =CJ8 -> CONSORCIO FONTIBON | CM37: =CM8 -> CONSORCIO TECNOLOGICO | CO37: =CO8 -> CONSORCIO INTERVIAL PH | CQ37: =CQ8 -> CONSORCIO VIAS FONTIBON PC | CS37: =CS8 -> CONSORCIO MALLA VIAL FDLF | CU37: =CU8 -> CONSORCIO INTER FONTIBON | CW37: =CW8 -> CONSORCIO VIAS IC 2024 | CY37: =CY8 -> ORBITA DESARROLLO S.A.S. | CZ37: =CZ8 -> CONSORCIO CONSTRUCCIÓN Y DESARROLLO FONTIBÓN | DB37: =DB8 -> CONSORCIO ESPACIO PÚBLICO INT 2024 | DE37: =DE8 -> CONSORCIO VÍAS PROTEV | DG37: =DG8 -> CONSORCIO INTERVENTORES FONTIBON | DI37: =DI8 -> CONSULTORES INTERVENTORES COLOMBIANOS SAS
D38: =D9 -> PC PROYECCION E INGENIERIA SAS 901757531-7 | E38: =E9 -> JORGE WILLAN CORZO GARCIA 5689243-9 | F38: =F9 -> GERMAN ALONSO PUENTES GORDO 7162821-0 | G38: =G9 -> INCORDIS SAS 900869939-5 | H38: =H9 -> SANDRA MONICA CARDOZO 51976458-3 | I38: =I9 -> SAVIMAC SAS 900984598-9 | J38: =J9 -> 34.526.385-2 | K38: =K9 -> 830010109-8 | ... DI38: =DI9 -> 900378119-5
B39: RENTABILIDAD SOBRE PATRIMONIO (UTILIDAD OPERACIONAL / PATRIMONIO) | D39: =D55/D53 -> 1 | H39: =H55/H53 -> 0.16557049 | J39: =J54/J52 -> 0.094919398 | K39: =K54/K52 -> 0.24095112 | L39: =L55/L53 -> 0.083392793 | O39: =O54/O52 -> 0.23219435 | P39: =P54/P52 -> 0.39869774 | Q39: =Q55/Q53 -> 0.064460217 | S39: =S55/S53 -> 0.40530074 | V39: =V55/V53 -> 0.27531979 | X39: =X54/X52 -> 0.12632486 | Y39: =Y54/Y52 -> 0.110523 | Z39: =Z55/Z53 -> 0.33991426 | AB39: =AB54/AB52 -> 0.63742946 | AC39: =AC55/AC53 -> 0.32842582 | AE39: =AE55/AE53 -> 0.13451081 | AG39: =AG55/AG53 -> 0.21209144 | AI39: =AI55/AI53 -> 0.18589966 | AK39: =AK55/AK53 -> 0.06681923 | AM39: =AM54/AM52 -> 0.093773074 | AN39: =AN54/AN52 -> 0.1123549 | AO39: =AO54/AO52 -> 0.10238538 | AP39: =AP55/AP53 -> 0.061687714 | AR39: =AR54/AR52 -> 0.091973178 | AS39: =AS55/AS53 -> 0.22303626 | AU39: =AU54/AU52 -> 0.44927426 | AV39: =AV55/AV53 -> 0.077095541 | AX39: =AX54/AX52 -> 0.16548147 | AY39: =AY55/AY53 -> 0.034517871 | BA39: =BA55/BA53 -> 0.077826807 | BC39: =BC55/BC53 -> 0.15838908 | BF39: =BF55/BF53 -> 0.17553148 | BH39: =BH55/BH53 -> 0.22070395 | BJ39: =BJ55/BJ53 -> 0.288254 | BL39: =BL54/BL52 -> 0.18403286 | BM39: =BM54/BM52 -> 0.13035314 | BN39: =BN55/BN53 -> 0.18083821 | BP39: =BP54/BP52 -> 0.15217366 | BQ39: =BQ54/BQ52 -> 0.50733377 | BR39: =BR55/BR53 -> 0.041774067 | BT39: =BT55/BT53 -> 0.33124229 | BV39: =BV55/BV53 -> 0.49661475 | BX39: =BX55/BX53 -> 0.1557646 | BZ39: =BZ54/BZ52 -> 0.30756632 | CA39: =CA54/CA52 -> 0.028816094 | CB39: =CB54/CB52 -> 0.20921126 | CC39: =CC55/CC53 -> 0.40972074 | CE39: =CE55/CE53 -> 0.19587554 | CG39: =CG55/CG53 -> 0.31192699 | CJ39: =CJ55/CJ53 -> 0.20840906 | CM39: =CM55/CM53 -> 0.24573529 | CO39: =CO55/CO53 -> 0.049370089 | CQ39: =CQ55/CQ53 -> 0.26019491 | CS39: =CS55/CS53 -> 0.29454808 | CU39: =CU55/CU53 -> 0.22574631 | CW39: =CW55/CW53 -> 0.8187234 | CY39: =CY54/CY52 -> 0.18596628 | CZ39: =CZ55/CZ53 -> 0.22872389 | DB39: =DB55/DB53 -> 0.13494851 | DE39: =DE55/DE53 -> 0.26521124 | DG39: =DG55/DG53 -> 0.013590779 | DI39: =DI54/DI52 -> 0.25360769
B40: RENTABILIDAD SOBRE ACTIVOS (UTILIDAD OPERACIONAL / ACTIVO TOTAL) | D40: =D55/D47 -> 0.4173463 | H40: =H55/H47 -> 0.1568053 | J40: =J54/J46 -> 0.092243708 | K40: =K54/K46 -> 0.22975775 | L40: =L55/L47 -> 0.063295612 | O40: =O54/O46 -> 0.16742902 | P40: =P54/P46 -> 0.3033713 | Q40: =Q55/Q47 -> 0.052397835 | S40: =S55/S47 -> 0.15235293 | V40: =V55/V47 -> 0.11195101 | X40: =X54/X46 -> 0.1069617 | Y40: =Y54/Y46 -> 0.040392903 | Z40: =Z55/Z47 -> 0.17564975 | AB40: =AB54/AB46 -> 0.39669228 | AC40: =AC55/AC47 -> 0.24224333 | AE40: =AE55/AE47 -> 0.096181762 | AG40: =AG55/AG47 -> 0.12790747 | AI40: =AI55/AI47 -> 0.074342771 | AK40: =AK55/AK47 -> 0.057187834 | AM40: =AM54/AM46 -> 0.056553535 | AN40: =AN54/AN46 -> 0.058909359 | AO40: =AO54/AO46 -> 0.05902188 | AP40: =AP55/AP47 -> 0.04641294 | AR40: =AR54/AR46 -> 0.052521443 | AS40: =AS55/AS47 -> 0.12374269 | AU40: =AU54/AU46 -> 0.15831441 | AV40: =AV55/AV47 -> 0.046724982 | AX40: =AX54/AX46 -> 0.091209799 | AY40: =AY55/AY47 -> 0.025277699 | BA40: =BA55/BA47 -> 0.072258589 | BC40: =BC55/BC47 -> 0.12951867 | BF40: =BF55/BF47 -> 0.080235582 | BH40: =BH55/BH47 -> 0.10050833 | BJ40: =BJ55/BJ47 -> 0.22818994 | BL40: =BL54/BL46 -> 0.13076664 | BM40: =BM54/BM46 -> 0.09860826 | BN40: =BN55/BN47 -> 0.14017379 | BP40: =BP54/BP46 -> 0.099135532 | BQ40: =BQ54/BQ46 -> 0.18228584 | BR40: =BR55/BR47 -> 0.024553197 | BT40: =BT55/BT47 -> 0.16830683 | BV40: =BV55/BV47 -> 0.28431932 | BX40: =BX55/BX47 -> 0.10727319 | BZ40: =BZ54/BZ46 -> 0.1619024 | CA40: =CA54/CA46 -> 0.015701272 | CB40: =CB54/CB46 -> 0.20807649 | CC40: =CC55/CC47 -> 0.39517792 | CE40: =CE55/CE47 -> 0.078196789 | CG40: =CG55/CG47 -> 0.1975834 | CJ40: =CJ55/CJ47 -> 0.13358826 | CM40: =CM55/CM47 -> 0.14856895 | CO40: =CO55/CO47 -> 0.044047465 | CQ40: =CQ55/CQ47 -> 0.12241022 | CS40: =CS55/CS47 -> 0.19430119 | CU40: =CU55/CU47 -> 0.19703717 | CW40: =CW55/CW47 -> 0.49859569 | CY40: =CY54/CY46 -> 0.11464203 | CZ40: =CZ55/CZ47 -> 0.18839699 | DB40: =DB55/DB47 -> 0.065725519 | DE40: =DE55/DE47 -> 0.1288558 | DG40: =DG55/DG47 -> 0.013590779 | DI40: =DI54/DI46 -> 0.13172382
B42: INFORMACIÓN FINANCIERA | D42: =D8 -> CONSORCIO INTERVIALES PCI-PC | H42: =H8 -> CONSORCIO VÍAS FONTIBÓN 2025 | J42: =J8 -> MORALBA SANCHEZ ORDOÑEZ | K42: =K8 -> GRUPO METRO COLOMBIA S.A.S | L42: =L8 -> CONSORCIO INTER CGS F1 | O42: =O8 -> INGENIEROS CONSTRUCTORES Y ASESORES SAS | P42: =P8 -> GPM PROYECTOS DE INGENIERIA S.A.S. | Q42: =Q8 -> CONSORCIO MODELIA 24 | S42: =S8 -> UNIÓN TEMPORAL ROADS 402 | V42: =V8 -> CONSORCIO MALLA VIAL 206 | X42: =X8 -> INTERVENTORIA Y CONSTRUCIVILES S.A.S | Y42: =Y8 -> EMPRESA DE PROYECTOS CIVILES SAS | Z42: =Z8 -> CONSORCIO NOGAALL-LITORAL | AB42: =AB8 -> GRUPO CONSULTOR E INGENIEROS SAS | AC42: =AC8 -> CONSORCIO ESPACIOS TVH | AE42: =AE8 -> CONSORCIO VIAS Y ESP | AG42: =AG8 -> CONSORCIO FONTIBON GM | AI42: =AI8 -> CONSORCIO I.D. FONTIBÓN | AK42: =AK8 -> CONSORCIO LG FONTIBÓN | AM42: =AM8 -> INTERSA S.A. | AN42: =AN8 -> CODIPRO INGENIERIA Y ARQUITECTURA LTDA | AO42: =AO8 -> INGESCOR LTDA | AP42: =AP8 -> CONSORCIO INTERVIAL URBANO | AR42: =AR8 -> VELNEC S A | AS42: =AS8 -> CONSORCIO INTER-FONTIBON 2024 | AU42: =AU8 -> ING INGENIERIA SAS | AV42: =AV8 -> CONSORCIO FATIMA | AX42: =AX8 -> GEOTECNIA Y CIMIENTOS INGEOCIM SAS | AY42: =AY8 -> CONSORCIO FONTIBON JINT 001 | BA42: =BA8 -> CONSORCIO ALIANZA BOGOTA | BC42: =BC8 -> CONSORCIO FEM – 34 | BF42: =BF8 -> CONSORCIO INTER FONTIBON | BH42: =BH8 -> CONSORCIO ID FONTIBON 001 | BJ42: =BJ8 -> CONSORCIO TRANSFORMAR VIAL FONTIBON | BL42: =BL8 -> ESTUDIOS TECNICOS Y CONSTRUCCIONES S.A.S | BM42: =BM8 -> ALIANZA INTEGRAL DE PROYECTOS SAS BIC | BN42: =BN8 -> CONSORCIO EPSILON FONTIBON | BP42: =BP8 -> PEB CONSULTORES S.A.S. | BQ42: =BQ8 -> ALMA INTERVENTORÍA & CONSULTORÍA SAS | BR42: =BR8 -> CONSORCIO COING F001 | BT42: =BT8 -> CONSORCIO FONTIBON KM 2024 | BV42: =BV8 -> CONSORCIO INTER FONTIBON JG | BX42: =BX8 -> CONSORCIO INTER VIAL G&L. | BZ42: =BZ8 -> ECOVIAS SAS | CA42: =CA8 -> PROJEKTA LIMITADA INGENIEROS CONSULTORES | CB42: =CB8 -> SOLUCIONES PARA LA INGENIERÍA S.A.S. | CC42: =CC8 -> CONSORCIO INTERNOVAC – LERI | CE42: =CE8 -> CONSORCIO INTERNOVAC – LERI | CG42: =CG8 -> CONSORCIO CCP. | CJ42: =CJ8 -> CONSORCIO FONTIBON | CM42: =CM8 -> CONSORCIO TECNOLOGICO | CO42: =CO8 -> CONSORCIO INTERVIAL PH | CQ42: =CQ8 -> CONSORCIO VIAS FONTIBON PC | CS42: =CS8 -> CONSORCIO MALLA VIAL FDLF | CU42: =CU8 -> CONSORCIO INTER FONTIBON | CW42: =CW8 -> CONSORCIO VIAS IC 2024 | CY42: =CY8 -> ORBITA DESARROLLO S.A.S. | CZ42: =CZ8 -> CONSORCIO CONSTRUCCIÓN Y DESARROLLO FONTIBÓN | DB42: =DB8 -> CONSORCIO ESPACIO PÚBLICO INT 2024 | DE42: =DE8 -> CONSORCIO VÍAS PROTEV | DG42: =DG8 -> CONSORCIO INTERVENTORES FONTIBON | DI42: =DI8 -> CONSULTORES INTERVENTORES COLOMBIANOS SAS
D43: =D9 -> PC PROYECCION E INGENIERIA SAS 901757531-7 | E43: =E9 -> JORGE WILLAN CORZO GARCIA 5689243-9 | F43: =F9 -> GERMAN ALONSO PUENTES GORDO 7162821-0 | G43: =G9 -> INCORDIS SAS 900869939-5 | H43: =H9 -> SANDRA MONICA CARDOZO 51976458-3 | I43: =I9 -> SAVIMAC SAS 900984598-9 | J43: =J9 -> 34.526.385-2 | K43: =K9 -> 830010109-8 | ... DI43: =DI9 -> 900378119-5
B44: ACTIVO CORRIENTE | D44: 300000000 | E44: 530913244 | F44: 1662339732 | G44: 2266169374 | H44: 3063737000 | I44: 1461970000 | J44: 1709318387 | K44: 5266255849 | L44: 485860532 | M44: 1349293516 | N44: 342012119 | O44: 7097414473 | P44: 2420021597 | Q44: 4403790144 | R44: 23106548000 | S44: 587427051 | T44: 2567399485 | U44: 4595624536 | V44: 106677356 | W44: 3339450720 | X44: 2431206980 | Y44: 2181519837 | Z44: 5426605201 | AA44: 1417318032 | AB44: 2574817566 | AC44: 1241407113 | AD44: 2712893424 | AE44: 12508739606 | AF44: 36414895 | AG44: 3877047467 | AH44: 399907538 | AI44: 1222131446 | AJ44: 5844283905 | AK44: 1461598687 | AL44: 1050833481 | AM44: 3238017000 | AN44: 3075524764 | AO44: 9935202000 | AP44: 1355912527 | AQ44: 10210503613 | AR44: 6718327378 | AS44: 1225542219 | AT44: 1081872006 | AU44: 7820788987 | AV44: 4508671140 | AW44: 3405367978 | AX44: 16807870436 | AY44: 6022562000 | AZ44: 710558000 | BA44: 862565892 | BB44: 407960992 | BC44: 270016819 | BD44: 251921180 | BE44: 472828108 | BF44: 11299785689 | BG44: 3621368015 | BH44: 20914315967 | BI44: 443623888 | BJ44: 3368364361 | BK44: 12384954953 | BL44: 7374175628 | BM44: 1322228572 | BN44: 9778924633 | BO44: 2994488682 | BP44: 6876732216 | BQ44: 1806657067 | BR44: 1379172995 | BS44: 2944141014 | BT44: 2812952317 | BU44: 17787653213 | BV44: 250000000 | BW44: 12830978401 | BX44: 3747897000 | BY44: 1606642812 | BZ44: 17306145049 | CA44: 2372629126 | CB44: 1248453000 | CC44: 1580957000 | CD44: 983293161 | CE44: 20096903000 | CF44: 1197840000 | CG44: 1869054045 | CH44: 1121346000 | CI44: 2353557000 | CJ44: 3351741008 | CK44: 3645161109 | CL44: 74769187 | CM44: 2536252725 | CN44: 1475921481 | CO44: 150000000 | CP44: 1245348937 | CQ44: 12852333730 | CR44: 244441978 | CS44: 5126393501 | CT44: 3963660000 | CU44: 159604996 | CV44: 436366830 | CW44: 3713848418 | CX44: 225245236 | CY44: 150970600 | CZ44: 4491555369 | DA44: 544280194 | DB44: 6894783530 | DC44: 570256833 | DD44: 649949783 | DE44: 4884570147 | DF44: 3605734079 | DG44: 500000000 | DH44: 248100234 | DI44: 6814686234
D45: =(D44+E44+F44+G44) -> 4759422350 | H45: =(H44+I44) -> 4525707000 | L45: =(L44+M44+N44) -> 2177166167 | Q45: =(Q44+R44) -> 27510338144 | S45: =(S44+T44+U44) -> 7750451072 | V45: =(V44+W44) -> 3446128076 | Z45: =(Z44+AA44) -> 6843923233 | AC45: =(AC44+AD44) -> 3954300537 | AE45: =(AE44+AF44) -> 12545154501 | AG45: =(AG44+AH44) -> 4276955005 | AI45: =(AI44+AJ44) -> 7066415351 | AK45: =(AK44+AL44) -> 2512432168 | AP45: =(AP44+AQ44) -> 11566416140 | AS45: =(AS44+AT44) -> 2307414225 | AV45: =(AV44+AW44) -> 7914039118 | AY45: =(AY44+AZ44) -> 6733120000 | BA45: =(BA44+BB44) -> 1270526884 | BC45: =(BC44+BD44+BE44) -> 994766107 | BF45: =(BF44+BG44) -> 14921153704 | BH45: =(BH44+BI44) -> 21357939855 | BJ45: =(BJ44+BK44) -> 15753319314 | BN45: =(BN44+BO44) -> 12773413315 | BR45: =(BR44+BS44) -> 4323314009 | BT45: =(BT44+BU44) -> 20600605530 | BV45: =(BV44+BW44) -> 13080978401 | BX45: =(BX44+BY44) -> 5354539812 | CC45: =(CC44+CD44) -> 2564250161 | CE45: =(CE44+CF44) -> 21294743000 | CG45: =(CG44+CH44+CI44) -> 5343957045 | CJ45: =(CJ44+CK44+CL44) -> 7071671304 | CM45: =(CM44+CN44) -> 4012174206 | CO45: =(CO44+CP44) -> 1395348937 | CQ45: =(CQ44+CR44) -> 13096775708 | CS45: =(CS44+CT44) -> 9090053501 | CU45: =(CU44+CV44) -> 595971826 | CW45: =(CW44+CX44) -> 3939093654 | CZ45: =(CZ44+DA44) -> 5035835563 | DB45: =(DB44+DC44+DD44) -> 8114990146 | DE45: =(DE44+DF44) -> 8490304226 | DG45: =(DG44+DH44) -> 748100234
B46: ACTIVO TOTAL | D46: 300000000 | E46: 1041070266 | F46: 2045458832 | G46: 2425721130 | H46: 4584322000 | I46: 3607040000 | J46: 3089157764 | K46: 5275128729 | L46: 502730745 | M46: 1558465173 | N46: 342012119 | O46: 9045018085 | P46: 3081587842 | Q46: 5003523704 | R46: 24841254000 | S46: 726500217 | T46: 2669313536 | U46: 5085922560 | V46: 106677356 | W46: 3377933638 | X46: 3832927868 | Y46: 4888785917 | Z46: 8861161094 | AA46: 1417318032 | AB46: 2742618566 | AC46: 1687907113 | AD46: 3945616638 | AE46: 12676187938 | AF46: 38014895 | AG46: 3956856390 | AH46: 401478688 | AI46: 1253529506 | AJ46: 12695144835 | AK46: 2587212294 | AL46: 2413533145 | AM46: 3287699000 | AN46: 3103885489 | AO46: 12274770000 | AP46: 1855912527 | AQ46: 11199127780 | AR46: 11488985605 | AS46: 1242746309 | AT46: 1317924544 | AU46: 9522773343 | AV46: 5276533239 | AW46: 4381055800 | AX46: 17021364369 | AY46: 6875813000 | AZ46: 710558000 | BA46: 862565892 | BB46: 516447619 | BC46: 279669019 | BD46: 282354090 | BE46: 1136706632 | BF46: 11983462756 | BG46: 3637726504 | BH46: 21157936606 | BI46: 443623888 | BJ46: 4113446523 | BK46: 13164980456 | BL46: 11781938822 | BM46: 1397347204 | BN46: 10738224868 | BO46: 3210332601 | BP46: 7409384474 | BQ46: 3054009333 | BR46: 1685339662 | BS46: 4947292817 | BT46: 2812952317 | BU46: 17821894725 | BV46: 250000000 | BW46: 14671587094 | BX46: 3838806000 | BY46: 2791325801 | BZ46: 19623584870 | CA46: 2521490126 | CB46: 1935817000 | CC46: 1708285000 | CD46: 1021940078 | CE46: 23693233000 | CF46: 1205577000 | CG46: 2829635381 | CH46: 1596994000 | CI46: 2361584000 | CJ46: 3379614813 | CK46: 3849599206 | CL46: 82943987 | CM46: 3197139511 | CN46: 2633683501 | CO46: 500000000 | CP46: 1340819256 | CQ46: 13045586728 | CR46: 340620303 | CS46: 5241378141 | CT46: 4891643000 | CU46: 174014281 | CV46: 452496632 | CW46: 3952528138 | CX46: 372899659 | CY46: 260970600 | CZ46: 7010958887 | DA46: 1155381039 | DB46: 8566074471 | DC46: 1017991482 | DD46: 1126576525 | DE46: 7271055023 | DF46: 4172518844 | DG46: 500000000 | DH46: 308030594 | DI46: 11055759512
D47: =(D46+E46+F46+G46) -> 5812250228 | H47: =(H46+I46) -> 8191362000 | L47: =(L46+M46+N46) -> 2403208037 | Q47: =(Q46+R46) -> 29844777704 | S47: =(S46+T46+U46) -> 8481736313 | V47: =(V46+W46) -> 3484610994 | Z47: =(Z46+AA46) -> 10278479126 | AC47: =(AC46+AD46) -> 5633523751 | AE47: =(AE46+AF46) -> 12714202833 | AG47: =(AG46+AH46) -> 4358335078 | AI47: =(AI46+AJ46) -> 13948674341 | AK47: =(AK46+AL46) -> 5000745439 | AP47: =(AP46+AQ46) -> 13055040307 | AS47: =(AS46+AT46) -> 2560670853 | AV47: =(AV46+AW46) -> 9657589039 | AY47: =(AY46+AZ46) -> 7586371000 | BA47: =(BA46+BB46) -> 1379013511 | BC47: =(BC46+BD46+BE46) -> 1698729741 | BF47: =(BF46+BG46) -> 15621189260 | BH47: =(BH46+BI46) -> 21601560494 | BJ47: =(BJ46+BK46) -> 17278426979 | BN47: =(BN46+BO46) -> 13948557469 | BR47: =(BR46+BS46) -> 6632632479 | BT47: =(BT46+BU46) -> 20634847042 | BV47: =(BV46+BW46) -> 14921587094 | BX47: =(BX46+BY46) -> 6630131801 | CC47: =(CC46+CD46) -> 2730225078 | CE47: =(CE46+CF46) -> 24898810000 | CG47: =(CG46+CH46+CI46) -> 6788213381 | CJ47: =(CJ46+CK46+CL46) -> 7312158006 | CM47: =(CM46+CN46) -> 5830823012 | CO47: =(CO46+CP46) -> 1840819256 | CQ47: =(CQ46+CR46) -> 13386207031 | CS47: =(CS46+CT46) -> 10133021141 | CU47: =(CU46+CV46) -> 626510913 | CW47: =(CW46+CX46) -> 4325427797 | CZ47: =(CZ46+DA46) -> 8166339926 | DB47: =(DB46+DC46+DD46) -> 10710642478 | DE47: =(DE46+DF46) -> 11443573867 | DG47: =(DG46+DH46) -> 808030594
B48: PASIVO CORRIENTE | D48: 0 | E48: 23500000 | F48: 178134181 | G48: 264917533 | H48: 71014000 | I48: 296427000 | J48: 87080500 | K48: 245055777 | L48: 157759672 | M48: 180621118 | N48: 103232738 | O48: 1100976967 | P48: 657982506 | Q48: 470920848 | R48: 3301001000 | S48: 156000 | T48: 480740369 | U48: 2512536104 | V48: 20557827 | W48: 159278252 | X48: 587513530 | Y48: 674832507 | Z48: 1459159314 | AA48: 293782825 | AB48: 227646000 | AC48: 399487666 | AD48: 426312789 | AE48: 358985793 | AF48: 424000 | AG48: 1549179632 | AH48: 180743780 | AI48: 183167604 | AJ48: 2820915856 | AK48: 482256016 | AL48: 37183386 | AM48: 971804000 | AN48: 917631628 | AO48: 475952000 | AP48: 393310016 | AQ48: 1372957556 | AR48: 2740157238 | AS48: 220837026 | AT48: 125306604 | AU48: 1530732491 | AV48: 623902435 | AW48: 941533202 | AX48: 4877307408 | AY48: 933559000 | AZ48: 138526000 | BA48: 29332549 | BB48: 33404652 | BC48: 5052891 | BD48: 126152106 | BE48: 27908405 | BF48: 6174693875 | BG48: 2206200587 | BH48: 6287732748 | BI48: 191092294 | BJ48: 1000994390 | BK48: 2212621574 | BL48: 1502504322 | BM48: 340295728 | BN48: 1984570592 | BO48: 624601216 | BP48: 2304777089 | BQ48: 469026306 | BR48: 0 | BS48: 481336700 | BT48: 1254702230 | BU48: 6681327884 | BV48: 0 | BW48: 4048493859 | BX48: 785263000 | BY48: 110012730 | BZ48: 3261756881 | CA48: 1147584222 | CB48: 10500000 | CC48: 20903300 | CD48: 76004612 | CE48: 8963603000 | CF48: 888422000 | CG48: 858339395 | CH48: 106704000 | CI48: 841003000 | CJ48: 759663522 | CK48: 551214351 | CL48: 28088500 | CM48: 1228262567 | CN48: 72028839 | CP48: 198460000 | CQ48: 1949241128 | CR48: 28212783 | CS48: 2370739969 | CT48: 454908000 | CU48: 21057679 | CV48: 39670853 | CW48: 76452782 | CX48: 210831052 | CY48: 2447400 | CZ48: 1212508964 | DA48: 573316 | DB48: 3840577252 | DC48: 186141113 | DD48: 251037058 | DE48: 770674324 | DF48: 234643931 | DG48: 0 | DH48: 0 | DI48: 448312818
D49: =(D48+E48+F48+G48) -> 466551714 | H49: =(H48+I48) -> 367441000 | J49: =(J48+#REF!) -> #REF! | L49: =(L48+M48+N48) -> 441613528 | Q49: =(Q48+R48) -> 3771921848 | S49: =(S48+T48+U48) -> 2993432473 | V49: =(V48+W48) -> 179836079 | Z49: =(Z48+AA48) -> 1752942139 | AC49: =(AC48+AD48) -> 825800455 | AE49: =(AE48+AF48) -> 359409793 | AG49: =(AG48+AH48) -> 1729923412 | AI49: =(AI48+AJ48) -> 3004083460 | AK49: =(AK48+AL48) -> 519439402 | AP49: =(AP48+AQ48) -> 1766267572 | AS49: =(AS48+AT48) -> 346143630 | AV49: =(AV48+AW48) -> 1565435637 | AY49: =(AY48+AZ48) -> 1072085000 | BA49: =(BA48+BB48) -> 62737201 | BC49: =(BC48+BD48+BE48) -> 159113402 | BF49: =(BF48+BG48) -> 8380894462 | BH49: =(BH48+BI48) -> 6478825042 | BJ49: =(BJ48+BK48) -> 3213615964 | BN49: =(BN48+BO48) -> 2609171808 | BR49: =(BR48+BS48) -> 481336700 | BT49: =(BT48+BU48) -> 7936030114 | BV49: =(BV48+BW48) -> 4048493859 | BX49: =(BX48+BY48) -> 895275730 | CC49: =(CC48+CD48) -> 96907912 | CE49: =(CE48+CF48) -> 9852025000 | CG49: =(CG48+CH48+CI48) -> 1806046395 | CJ49: =(CJ48+CK48+CL48) -> 1338966373 | CM49: =(CM48+CN48) -> 1300291406 | CO49: =(CO48+CP48) -> 198460000 | CQ49: =(CQ48+CR48) -> 1977453911 | CS49: =(CS48+CT48) -> 2825647969 | CU49: =(CU48+CV48) -> 60728532 | CW49: =(CW48+CX48) -> 287283834 | CZ49: =(CZ48+DA48) -> 1213082280 | DB49: =(DB48+DC48+DD48) -> 4277755423 | DE49: =(DE48+DF48) -> 1005318255 | DG49: =(DG48+DH48) -> 0
...

Sheet RESULTADO FINANCIERA
B2: FONDO DE DESARROLLO LOCAL DE FONTIBON
B3: =FINANCIERA!B3 -> FDLF-CMA-001-2024
B4: =FINANCIERA!B4 -> OBJETO: “REALIZAR LA INTERVENTORIA, TECNICA, ADMINISTRATIVA, JURIDICA, FINANCIERA, SOCIAL, AMBIENTAL Y DE SEGURIDAD Y SALUD EN EL TRABAJO AL CONTRATO QUE TIENE COMO OBJETO “CONTRATAR A PRECIOS FIJOS Y A MONTO AGOTABLE LAS ACTIVIDADES DE CONSTRUCCIÓN DE LA MALLA VIAL Y ESPACIO PÚBLICO, DERIVADOS DEL CONTRATO DE CONSULTORÍA 440 DE 2022, EN LA LOCALIDAD DE FONTIBÓN, BOGOTÁ D.C.”
B5: INDICES FINANCIEROS Y DE CAPACIDAD ORGANIZACIONAL
B7: NOMBRE DE OFERENTE | D7: INDICE DE LIQUIDEZ | E7: INDICE DE ENDEUDAMIENTO | F7: RAZON DE COBERTURA DE INTERESES | G7: RENTABILIDAD PATRIMONIO | H7: RENTABILIDAD ACTIVOS | I7: OBSERVACIONES
D8: MATRIZ 2 – INDICADORES FINANCIEROS Y ORGANIZACIONALES OBRAS PARA INFRAESTRUCTURA DE TRANSPORTE
B9: 1 | C9: =HLOOKUP(B9,FINANCIERA!$7:$8,2,0) -> CONSORCIO INTERVIALES PCI-PC | D9: Habilitado | E9: Habilitado | F9: Habilitado | G9: Habilitado | H9: Habilitado
B10: 2 | C10: =HLOOKUP(B10,FINANCIERA!$7:$8,2,0) -> CONSORCIO VÍAS FONTIBÓN 2025 | D10: Habilitado | E10: Habilitado | F10: Habilitado | G10: Habilitado | H10: Habilitado
B11: 3 | C11: =HLOOKUP(B11,FINANCIERA!$7:$8,2,0) -> MORALBA SANCHEZ ORDOÑEZ | D11: Habilitado | E11: Habilitado | F11: Habilitado | G11: Habilitado | H11: Habilitado
B12: 4 | C12: =HLOOKUP(B12,FINANCIERA!$7:$8,2,0) -> GRUPO METRO COLOMBIA S.A.S | D12: Habilitado | E12: Habilitado | F12: Habilitado | G12: Habilitado | H12: Habilitado
B13: 5 | C13: =HLOOKUP(B13,FINANCIERA!$7:$8,2,0) -> CONSORCIO INTER CGS F1 | D13: Habilitado | E13: Habilitado | F13: Habilitado | G13: Habilitado | H13: Habilitado
B14: 6 | C14: =HLOOKUP(B14,FINANCIERA!$7:$8,2,0) -> INGENIEROS CONSTRUCTORES Y ASESORES SAS | D14: Habilitado | E14: Habilitado | F14: Habilitado | G14: Habilitado | H14: Habilitado
B15: 7 | C15: =HLOOKUP(B15,FINANCIERA!$7:$8,2,0) -> GPM PROYECTOS DE INGENIERIA S.A.S. | D15: Habilitado | E15: Habilitado | F15: Habilitado | G15: Habilitado | H15: Habilitado
B16: 8 | C16: =HLOOKUP(B16,FINANCIERA!$7:$8,2,0) -> CONSORCIO MODELIA 24 | D16: Habilitado | E16: Habilitado | F16: Habilitado | G16: Habilitado | H16: Habilitado
B17: 9 | C17: =HLOOKUP(B17,FINANCIERA!$7:$8,2,0) -> UNIÓN TEMPORAL ROADS 402 | D17: Habilitado | E17: Habilitado | F17: Habilitado | G17: Habilitado | H17: Habilitado
B18: 10 | C18: =HLOOKUP(B18,FINANCIERA!$7:$8,2,0) -> CONSORCIO MALLA VIAL 206 | D18: Habilitado | E18: Habilitado | F18: Habilitado | G18: Habilitado | H18: Habilitado
B19: 11 | C19: =HLOOKUP(B19,FINANCIERA!$7:$8,2,0) -> INTERVENTORIA Y CONSTRUCIVILES S.A.S | D19: Habilitado | E19: Habilitado | F19: Habilitado | G19: Habilitado | H19: Habilitado
B20: 12 | C20: =HLOOKUP(B20,FINANCIERA!$7:$8,2,0) -> EMPRESA DE PROYECTOS CIVILES SAS | D20: Habilitado | E20: Habilitado | F20: Habilitado | G20: Habilitado | H20: Habilitado
... B70: 62 | C70: =HLOOKUP(B70,FINANCIERA!$7:$8,2,0) -> CONSULTORES INTERVENTORES COLOMBIANOS SAS | D70: Habilitado | E70: Habilitado | F70: Habilitado | G70: Habilitado | H70: Habilitado
B73: =FINANCIERA!B72 -> Original firmado:
B77: =FINANCIERA!B77 -> MARTHA LUCÍA VEGA RAMÍREZ
B78: =FINANCIERA!B78 -> Evaluador Financiero
B79: =FINANCIERA!B79 -> Diciembre 10 de 2024
