Workbook
Name _Toc530481013: 'FORMATO. BUENAS PRAC. AMBIENT'!#REF!

Sheet VERIFICACION EXPERIENCIA
A1: FDLCB-LP-006-2024 "PRESTAR LOS SERVICIOS PARA DESARROLLAR LAS ACCIONES ENCAMINADAS A LA PREVENCIÓN DE VIOLENCIA INTRAFAMILIAR Y/O VIOLENCIA SEXUAL, LA VIOLENCIA CONTRA LA MUJER Y EL FEMINICIDIO EN LA LOCALIDAD DE CIUDAD BOLÍVAR, EN EL MARCO DEL PLAN DE DESARROLLO LOCAL DE CIUDAD BOLÍVAR 2021-2024" | B1: PROPONENTE No. 1 | C1: PROPONENTE No. 2 | D1: PROPONENTE No. 3 | E1: PROPONENTE No. 4 | F1: PROPONENTE No. 5 | G1: PROPONENTE No. 6 | H1: PROPONENTE No. 7 | I1: PROPONENTE No. 8 | J1: PROPONENTE No. 9 | K1: PROPONENTE No. 10 | L1: PROPONENTE No. 11
B2: UT CAMINOS DE EMPODERAMIENTO | C2: FUNDESCO | D2: UT BUEN TRATO EUFEES | E2: UT MUJERES | F2: UT MERANI | G2: UT GARANTIA DE DERECHOS | H2: UT-DH | I2: UT MUJER Y GENERO CB | J2: UT IKAFAR 2024 | K2: CORPORACIÓN ESCALANDO FUTURO | L2: FUNDACIÓN INTEGRAL SOCIAL DE LAS AMERICAS
A3: CONTRATO No. 1 GENERAL
A4: NO. DE CONTRATO | B4: 566-2020 | C4: 96-2016 | D4: 565-2020 | E4: 086-2019 | F4: 529 de 2021 | G4: 156 DE 2021 | H4: 487-2022 | I4: SM-CM-029 DE 2017 | J4: 4600054155 DE 2014 | L4: 18-2019
A5: No. CONSECUTIVO EN EL RUP | B5: 251 | C5: 16 | D5: 68 | E5: 27 | F5: 175 | G5: 98 | H5: 79 | I5: 109 | J5: 92 | K5: 78
A6: OBJETO: | B6: PRESTAR EL SERVICIO INTEGRAL PARA LA PUESTA EN MARCHA Y FUNCIONAMIENTO DE LAS CASAS REFUGIO PARA LA ATENCIÓN A MUJERES VÍCTIMAS DE VIOLENCIAS Y SUS PERSONAS A CARGO, DE ACUERDO CON LAS CARACTERÍSTICAS TÉCNICAS DESCRITAS EN EL ANEXO TÉCNICO Y LAS NORMAS VIGENTES QUE REGULAN LA MATERIA | C6: REALIZAR ACCIONES PARA LA PREVENCION DE LA VIOLENCIA INTRAFAMILIAR Y SEXUAL DE LA LOCALIDAD DE BARRIOS UNIDOS | D6: PRESTAR EL SERVICIO INTEGRAL PARA LA PUESTA EN MARCHA Y FUNCIONAMIENTO DE LAS CASAS REFUGIO PARA LA ATENCIÓN A MUJERES VÍCTIMAS DE VIOLENCIAS Y SUS PERSONAS A CARGO, DE ACUERDO CON LAS CARACTERÍSTICAS TÉCNICAS DESCRITAS EN EL ANEXO TÉCNICO Y LAS NORMAS VIGENTES QUE REGULAN LA MATERIA | E6: PRESTAR EL SERVICIO DE ACOMPAÑAMIENTO PSICOSOCIAL, FAMILIAR Y COMUNITARIO DE LA DIRECCIÓN DE FAMILIAS Y COMUNIDADES PARA IMPLEMENTAR LA MODALIDAD MI FAMILIA, CUYO OBJETIVO ES FORTALECER A LAS FAMILIAS PARA PROMOVER LA PROTECCIÓN INTEGRAL DE LOS NIÑOS, NIÑAS Y ADOLESCENTES Y CONTRIBUIR A LA PREVENCIÓN DE LA VIOLENCIA, NEGLIGENCIA O ABUSOS EN SU CONTRA, A TRAVÉS DEL MODELO DE ATENCIÓN URBANA. | F6: CONTRATAR LOS SERVICIOS TÉCNICOS LOGÍSTICOS Y PROFESIONALES PARA LA FORMACIÓN DE PERSONAS EN ESTRATEGIAS INDIVIDUALES Y COMUNITARIAS PARA LA PREVENCIÓN DE LA VIOLENCIA INTRAFAMILIAR Y/O VIOLENCIA SEXUAL EN LA LOCALIDAD DE SUBA | G6: PRESTAR SERVICIOS PARA REALIZAR ACTIVIDADES QUE PROMUEVAN LA PREVENCION DE VIOLENCIA INTRAFAMILIAR Y SEXUAL SOBRE POBLACIONES EN SITUACIONES DE RIESGO Y VULNERACIÓN DE DERECHOS EN EL MARCO DEL PROYECTO 1662 LA CANDELARIA TERRITORIO LIBRE DE VIOLENCIA INTRAFAMILIAR Y SEXUAL | H6: REALIZAR ACCIONES QUE FORTALEZCAN LA PROMOCIÓN DEL BUEN TRATO, LA PROMOCIÓN DE LA VIOLENCIA INTRAFAMILIAR, VIOLENCIA SEXUAL Y VIOLENCIA DE GÉNERO EN LA LOCALIDAD DE ENGATIVÁ | I6: DISEÑAR E IMPLEMENTAR UNA ESTRATEGIA INTEGRAL QUE PERMITA DESARROLLAR LAS ACCIONES DE PROMOCION DE LOS DERECHOS HUMANOS DE LAS MUJERES, PREVENCIÓN DE VIOLENCIAS BASADAS EN GÉNERO Y LA VINCULACIÓN DE HOMBRES EN LA DEFENSA DE LA IGUALDAD Y EQUIDAD DE GÉNERO DE ACUERDO CON LAS ACTIVIDADES DEFINIDAS POR LA SECRETARÍA DE LA MUJER Y EQUIDAD DE GÉNERO | J6: PRESTACIÓN DE SERVICIOS PARA LA ATENCIÓN TERAPÉUTICA GRUPAL PARA MUJERES VÍCTIMAS DE VIOLENCIA BASADAS EN GÉNERO (UNIÓN TEMPORAL ATENCIÓN TERAPÉUTICA IKASF). | K6: PROMOVER Y PREVENIR MEDIANTE ATENCIÓN ESPECIALIZADA LA GARANTÍA DE LOS DERECHOS Y LA PROTECCIÓN INTEGRAL DE LOS NIÑOS, NIÑAS Y ADOLESCENTES, VELAR POR EL CUMPLIMIENTO DE LOS MISMOS; LA PREVENCIÓN DE SU AMENAZA O VULNERACIÓN Y LA ACTIVACIÓN DE LA RESPUESTA INSTITUCIONAL MEDIANTE LA IMPLEMENTACIÓN Y OPERACIÓN DEL PROGRAMA DE PROMOCIÓN Y PREVENCIÓN PARA LA PROTECCIÓN INTEGRAL DE NIÑOS, NIÑAS Y ADOLESCENTES -GENERACIONES CON BIENESTAR- | L6: PRESTAR SERVICIOS PROFESIONALES CON EL FIN DE ERRADICAR CUALQUIER FORMA DE VIOLENCIA SEXUAL Y GARANTIZAR LA SEGURIDAD Y BIENESTAR DE TODAS LAS PERSONAS INVOLUCRADAS EN EL DEPARTAMENTO DE SANTANDER
A7: ENTIDAD QUE EXPIDE LA CERTIFICACIÓN: | B7: SECRETARIA DISTRITAL DE LA MUJER | C7: FONDO DE DESARROLLO LOCAL DE BARRIOS UNIDOS | D7: SECRETARIA DE LA MUJER | E7: ICBF REEGIONAL VICHADA | F7: FONDO DE DESARROLLO LOCAL DE SUBA | G7: ALCALDIA LOCAL DE LA CANDELARIA | H7: FONDO DE DESARROLLO LOCAL DE ENGATIVÁ | I7: GOBERNACIÓN DE CUNDINAMARCA | J7: MUNICIPIO DE MEDELLIN - SECRETARIA DE LAS MUJERES | K7: INSTITUTO COLOMBIANA DE BIENESTAR FAMILIAR ICBF | L7: CORPORACIÓN DUOS
A8: SMMLV DEL PRESUPUESTO DEL CONTRATO | B8: =1861.98*0.5 -> 930.99 | C8: 188.77 | D8: =877.97*0.5 -> 438.985 | E8: 971.21 | F8: 1222 | G8: =G9/908526 -> 116.33789 | H8: =H9/1160000 -> 1855.4426 | I8: 173.5 | J8: =1774.3*0.33 -> 585.519 | K8: =2020.39*0.7 -> 1414.273
A9: VALOR EN $ DEL PRESUPUESTO | B9: =1691664659*0.5 -> 8.4583233e+08 | C9: 139257000 | D9: =797660103*0.5 -> 3.9883005e+08 | E9: 852533369 | F9: 1110320512 | G9: 105696000 | H9: 2152313414 | I9: 128000000 | J9: =1092970448*0.33 -> 3.6068025e+08 | K9: =+K8*1160000 -> 1640556680 | L9: 798892000
A10: SMMLV PRESUPUESTO OFICIAL | B10: 1171 | C10: 1171 | D10: 1171 | E10: 1171 | F10: 1171 | G10: 1171 | H10: 1171 | I10: 1171 | J10: 1171 | K10: 1171 | L10: 1171
A11: VALOR PRESUPUESTO OFICIAL $ | B11: 1522911450 | C11: 1522911450 | D11: 1522911450 | E11: 1522911450 | F11: 1522911450 | G11: 1522911450 | H11: 1522911450 | I11: 1522911450 | J11: 1522911450 | K11: 1522911450 | L11: 1522911450
A12: Códigos UNSPSC | B12: 80101600 | C12: 60121600 | D12: 80101600 | E12: 80101600 | F12: 80111600 | G12: 60124100 | H12: 60121600 | I12: 80101600 | J12: 80101600 | K12: 80101600
B13: 86101700 | C13: 80101600 | D13: 80111600 | E13: 80111600 | F13: 80101600 | G13: 80101600 | H13: 60124100 | I13: 80111600 | J13: 80111600 | K13: 80111600
B14: 86111600 | C14: 80141900 | D14: 86101700 | E14: 80141900 | F14: 86111600 | G14: 80111600 | H14: 80101600 | I14: 86111600 | J14: 86101700 | K14: 86111600
B15: 90101600 | C15: 86101700 | D15: 90101600 | E15: 86101700 | F15: 90101600 | G15: 93141600 | H15: 80111600 | I15: 93141500 | J15: 86111600 | K15: 93141500
B16: 93141500 | C16: 86101700 | D16: 93141600 | E16: 86111600 | F16: 93141500 | G16: 93141700 | H16: 80141900 | I16: 93141600 | J16: 93141700 | K16: 94132000
A17: OBSERVACIÓN | C17: SEGÚN LA CERTIFICACIÓN ALLEGADA CUMPLE CON LA EXPERIENCIA GENERAL SOLICITADA, TODA VEZ QUE, CORRESPONDE A ACCIONES EN TORNO A LA PREVENSIÓN DE LA VIOLENCIA INTRAFAMILIAR | D17: SEGÚN LA CERTIFICACIÓN ALLEGADA CUMPLE CON LA EXPERIENCIA GENERAL SOLICITADA, TODA VEZ QUE, CORRESPONDE A ACCIONES Y ATENCIÓN A MUJERES VICTIMAS DE VIOLENCIAS | E17: SEGÚN LA CERTIFICACIÓN ALLEGADA CUMPLE CON LA EXPERIENCIA GENERAL SOLICITADA, TODA VEZ QUE, CORRESPONDE A ACCIONES EN TORNO A LA PREVENSIÓN DE LA VIOLENCIA INTRAFAMILIAR | F17: SEGÚN LA CERTIFICACIÓN ALLEGADA CUMPLE CON LA EXPERIENCIA GENERAL SOLICITADA, TODA VEZ QUE, CORRESPONDE A ACCIONES EN TORNO A LA PREVENSIÓN DE LA VIOLENCIA INTRAFAMILIAR | G17: SEGÚN LA CERTIFICACIÓN ALLEGADA CUMPLE CON LA EXPERIENCIA GENERAL SOLICITADA, TODA VEZ QUE, CORRESPONDE A ACCIONES EN TORNO A LA PREVENSIÓN DE LA VIOLENCIA INTRAFAMILIAR | H17: SEGÚN LA CERTIFICACIÓN ALLEGADA CUMPLE CON LA EXPERIENCIA GENERAL SOLICITADA, TODA VEZ QUE, CORRESPONDE A ACCIONES EN TORNO A LA PREVENSIÓN DE LA VIOLENCIA INTRAFAMILIAR, VIOLENCIA SEXUAL Y VIOLENCIA DE GENERO. | I17: SEGÚN LA CERTIFICACIÓN ALLEGADA CUMPLE CON LA EXPERIENCIA GENERAL SOLICITADA, TODA VEZ QUE, CORRESPONDE A ACCIONES EN TORNO A LA PREVENSIÓN DEVIOLENCIAS BASADAS EN GENERO, LO CUAL INCLUYE VIOLENCIA INTRAFAMILIAR. | J17: SEGÚN LA CERTIFICACIÓN ALLEGADA CUMPLE CON LA EXPERIENCIA GENERAL SOLICITADA, TODA VEZ QUE, CORRESPONDE A ACCIONES Y ATENCIÓN A MUJERES VICTIMAS DE VIOLENCIAS | K17: SEGÚN LA CERTIFICACIÓN ALLEGADA CUMPLE CON LA EXPERIENCIA GENERAL SOLICITADA, TODA VEZ QUE, CORRESPONDE A ACCIONES EN TORNO A LA PREVENSIÓN DE LA VIOLENCIA INTRAFAMILIAR | L17: SEGÚN LA CERTIFICACIÓN ALLEGADA NO CUMPLE, TODA VEZ QUE NO APORTAN EL RUP LO CUAL ES NECESARIO PARA ESTE PROCESO.
A18: CONTRATO No. 2 GENERAL
A19: NO. DE CONTRATO | B19: 3878-2011 | C19: 323-2022 | D19: 33-210 | E19: 73003312021 | F19: 327 de 2018 | G19: 536-2022 | H19: 4600087078 de 2020 | I19: CPS 422 2018 | J19: 46000076136 DE 2018 | L19: BNP 09/2017
A20: No. CONSECUTIVO EN EL RUP | B20: 69 | C20: 71 | D20: 58 | E20: 90 | F20: 159 | G20: 114 | H20: 67 | I20: 122 | J20: 121 | K20: 79
A21: OBJETO: | B21: BRINDAR ATENCIÓN INTEGRAL A TRAVÉS DE ACCIONES TERAPÉUTICAS, PREVENCIÓN DE LA VIOLENCIA (MALTRATO INFANTIL, VIOLENCIA INTRAFAMILIAR, CONFLICTO FAMILIAR, VIOLENCIA DE GÉNERO, VIOLENCIA Y EXPLOTACIÓN SEXUAL COMERCIAL DE NIÑOS, NIÑAS Y ADOLESCENTES,) Y PROMOCIÓN Y GARANTÍA DE LOS DERECHOS, MEDIANTE EL DESARROLLO DEL PROGRAMA SUR DE CONVIVENCIA. EN LAS LOCALIDADES DE CIUDAD BOLÍVAR, RAFAEL URIBE URIBE, SAN CRISTÓBAL Y USME, ZONAS DE INTERVENCIÓN DEL PROGRAMA SUR DE CONVIVENCIA - PSC. | C21: CONTRATAR LA PRESTACIÓN DE SERVICIOS INTEGRALES PARA EL DESARROLLO DE ACCIONES EN PREVENCIÓN DE VIOLENCIA INTRAFAMILIAR, VIOLENCIA SEXUAL Y OTRAS VULNERACIONES DE DERECHOS DE LOS NIÑOS, NIÑAS, ADOLESCENTES Y SUS FAMILIAS; PROMOVIENDO EL BUEN TRATO CON ENTORNOS PROTECTORES Y TERRITORIOS SEGUROS EN LA LOCALIDAD DE SANTA FE | D21: SERVICIOS DE PROTECCION A NNA ATENDIDOS EN CENTROS DE PROTECCION SOCIAL DE LA NIÑEZ Y LA ADOLESCENCIA DE PROPIEDAD DE LA BENEFICIENCIA DE CUNDINAMARCA, EXPUESTOS A CONDICIONES DE VULNERACION DE DERECHOS POR VIOLENCIA INTRAFAMILIAR, VILENCIA FISICA, PSICOLOGICA Y SEXUAL, TRABAJO INFANTIL, DESPLAZAMIENTO FORZADO, RIESGO DE RECLUTAMIENTO POR GRUPOS AL MARGEN DE LA LEY Y AQUELLOS RIESGOS QUE ATENTEN CONTRA LA DIGNIDAD, LA EXISTENCIA Y EL DESARROLLO PERSONAL | E21: PRESTAR EL SERVICIO DE ACOMPAÑAMIENTO PSICOSOCIAL, FAMILIAR Y COMUNITARIO DE LA DIRECCIÓN DE FAMILIAS Y COMUNIDADES PARA IMPLEMENTAR LA MODALIDAD MI FAMILIA, CUYO OBJETIVO ES FORTALECER A LAS FAMILIAS PARA PROMOVER LA PROTECCIÓN INTEGRAL DE LOS NIÑOS, NIÑAS Y ADOLESCENTES Y CONTRIBUIR A LA PREVENCIÓN DE VIOLENCIA, NEGLIGENCIA O ABUSOS EN SU CONTRA, A TRAVÉS DEL MODELO DE ATENCIÓN URBANA RURAL. | F21: PRESTAR SERVICIOS PARA LA REALIZACIÓN DE ACCIONES DE PROMOCIÓN DEL BUEN TRATO Y PREVENCIÓN DE VIOLENCIAS EN LAS QUE SE VEN INVOLUCRADOS LOS NIÑOS Y NIÑAS DE LA LOCALIDAD DE SUBA | G21: CONTRATAR LOS SERVICIOS INTEGRALES Y ESPECIALIZADOS PARA LA FORMACIÓN DE PERSONAS EN ESTRATEGIAS PERSONALES Y COMUNITARIAS DE PREVENCIÓN DE LA VIOLENCIA INTRAFAMILIAR Y/O VIOLENCIA SEXUAL EN LA LOCALIDAD DE SUBA | H21: CONVENIO DE ASOCIACIÓN PARA DESARROLLAR ACCIONES CONJUNTAS PARA LA ATENCIÓN PSICOSOCIAL, ORIENTACIÓN JURÍDICA Y LABORAL A POBLACIÓN ADULTA EN EJERCICIO DE PROSTITUCIÓN | I21: CONTRATAR LA PRESTACIÓN DE SERVICIOS PORFESIONALES DE ASESORÍA, ORIENTACIÓN Y SEGUIMIENTO PARA LA PREVENCIÓN DE VIOLENCIA INFANTIL E INTRAFAMILIAR Y LA PROMOCIÓN DEL BUEN TRATO, LOS SERVICIOS PROFESIONALES PARA EL DESARROLLO DE LOS COMPONENTES DE PREVENCIÓN, ASESORÍA Y SEGUIMIENTO DE LA ESTRATEGIA ENTORNOS PROTECTORES, PREVENCIÓN DE LA MATERNIDAD TEMPRANA Y LA REALIZACIÓN DE LAS JORNADAS LOCALES DE POSICIONAMIENTO Y PROMOCION DEL BUEN TRATO | J21: PRESTACIÓN DE SERVICIOS PARA LA ATENCIÓN DE EMERGENCIA, PROTECCIÓN TEMPORAL Y ATENCIÓN PSICOJURÍDICA EN TERRITORIO A MUJERES EN RIESGO - COMPONENTE 1. | K21: PROMOVER Y PREVENIR MEDIANTE ATENCIÓN ESPECIALIZADA LA GARANTÍA DE LOS DERECHOS Y LA PROTECCIÓN INTEGRAL DE LOS NIÑOS, NIÑAS Y ADOLESCENTES, VELAR POR EL CUMPLIMIENTO DE LOS MISMOS; LA PREVENCIÓN DE SU AMENAZA O VULNERACIÓN Y LA ACTIVACIÓN DE LA RESPUESTA INSTITUCIONAL MEDIANTE LA IMPLEMENTACIÓN Y OPERACIÓN DEL PROGRAMA DE PROMOCIÓN Y PREVENCIÓN PARA LA PROTECCIÓN INTEGRAL DE NIÑOS, NIÑAS Y ADOLESCENTES -GENERACIONES CON BIENESTAR- | L21: PRESTACIÓN DE SERVICIOS PROFESIONALES PARA LA IMPLEMENTACIÓN, EJECUCIÓN Y GESTIÓN DE PROYECTOS ORIENTADOS A LA PREVENCIÓN DE LA VIOLENCIA INTRAFAMILIAR, EL FEMINICIDIO Y LA VIOLENCIA CONTRA LA MUJER
A22: ENTIDAD QUE EXPIDE LA CERTIFICACIÓN: | B22: SECRETARIA DISTRITAL DE INTEGRACIÓN SOCIAL | C22: FONDO DE DESARROLLO LOCAL DE SANTA FE | D22: BENEFICIENCIA DE CUNDINAMARCA | E22: ICBF REGIONAL TOLIMA | F22: FONDO DE DESARROLLO LOCAL DE SUBA | G22: FONDO DE DESARROLLO LOCAL DE SUBA | H22: MUNICIPIO DE MEDELLIN | I22: ALCALDIA LOCAL DE KENNEDY | J22: MUNICIPIO DE MEDELLIN - SECRETARIA DE SUMINISTROS Y SERVICIOS | K22: INSTITUTO COLOMBIANA DE BIENESTAR FAMILIAR ICBF | L22: FUNDACION MISION GLOBAL
A23: SMMLV DEL PRESUPUESTO DEL CONTRATO | B23: 570.95 | C23: 106.74 | D23: 2684.4 | E23: 5271.88 | F23: =F24/781.242 -> 572282.67 | G23: =G24/1160000 -> 1121.2313 | H23: =H24/877803 -> 578.57651 | I23: 778.1 | J23: 2586.64 | K23: =783.8*0.7 -> 548.66
A24: VALOR EN $ DEL PRESUPUESTO | B24: 323558348 | C24: 123828194 | D24: 1.4377656e+09 | E24: 5271882428 | F24: 447091260 | G24: 1300628278 | H24: 507876198 | I24: 644414923 | J24: 2142043844 | K24: =+K23*1160000 -> 636445600 | L24: 717353683
A25: SMMLV PRESUPUESTO OFICIAL | B25: 1171 | C25: 1171 | D25: 1171 | E25: 1171 | F25: 1171 | G25: 1171 | H25: 1171 | I25: 1171 | J25: 1171 | K25: 1171 | L25: 1171
A26: VALOR PRESUPUESTO OFICIAL $ | B26: 1522911450 | C26: 1522911450 | D26: 1522911450 | E26: 1522911450 | F26: 1522911450 | G26: 1522911450 | H26: 1522911450 | I26: 1522911450 | J26: 1522911450 | K26: 1522911450 | L26: 1522911450
A27: Códigos UNSPSC | B27: 80101600 | C27: 80111600 | D27: 86111600 | E27: 80101600 | F27: 80101600 | G27: 60124100 | H27: 60124100 | I27: 80101600 | J27: 80101600 | K27: 80101600
B28: 80111600 | C28: 86101700 | D28: 90101600 | E28: 80111600 | F28: 80111600 | G28: 80101600 | H28: 80101600 | I28: 80111600 | J28: 80111600 | K28: 80111600
B29: 86101700 | C29: 86111600 | D29: 93141500 | E29: 80141900 | F29: 86101700 | G29: 90101600 | H29: 86101700 | I29: 93141500 | J29: 80141900 | K29: 86101700
B30: 93141500 | C30: 90101600 | D30: 93141600 | E30: 86111600 | F30: 90101600 | G30: 93141500 | H30: 90101600 | I30: 93141600 | J30: 86101700 | K30: 86111600
B31: 93141700 | C31: 93141700 | D31: 93141700 | E31: 90101600 | F31: 93141500 | G31: 801419 | H31: 93141500 | I31: 90101600 | J31: 86111600 | K31: 93141700
A32: OBSERVACIÓN | B32: EL OFERENTE NO UTILIZO EL FORMATO DE PROPUESTA ECONOMICA DEFINITIVA PUBLICADO POR LA ENTIDAD , YA QUE EN EL FORMATO DEFINITIVO PUBLICADO , NO SE ESTABLECEN CANTIDADES COMO LA ESPECIFICO EL OFERENTE ASI MISMO EL PROPONENTE PRESENTA UN FORMATO EN PDF EL CUAL TIENE SOLO UNA DE LAS HOJAS QUE SE DEBIA DILIGENCIAR EN EL EXCEL DE NOMBRE PROPUESTA ECONOMICA VIOLENCIAS - CAUSAL DE RECHAZO NUMERO 17 "CUANDO EL PROPONENTE MODIFIQUE, CONDICIONE, ALTERE, EXCLUYA O INCLUYA APARTES QUE IMPIDAN LA EVALUACIÓN CORRESPONDIENTE A LA OFERTA ECONÓMICA. NO SE ACEPTARÁN MODIFICACIONES EN LOS ÍTEMS, NI EN LAS UNIDADES, NI EN LAS CANTIDADES, NI LAS PROPUESTAS CUYOS CAPÍTULOS NO CONTENGAN LA TOTALIDAD DE LOS ÍTEMS ENUNCIADOS EN LOS ANEXOS." | C32: SEGÚN LA CERTIFICACIÓN ALLEGADA CUMPLE CON LA EXPERIENCIA GENERAL SOLICITADA, TODA VEZ QUE, CORRESPONDE A ACCIONES EN TORNO A LA PREVENSIÓN DE LA VIOLENCIA INTRAFAMILIAR | D32: SEGÚN LA CERTIFICACIÓN ALLEGADA CUMPLE CON LA EXPERIENCIA GENERAL SOLICITADA, TODA VEZ QUE, CORRESPONDE A ACCIONES EN TORNO A LA PREVENSIÓN DE LA VIOLENCIA INTRAFAMILIAR | E32: EL OFERENTE NO UTILIZO EL FORMATO DE PROPUESTA ECONOMICA DEFINITIVA PUBLICADO POR LA ENTIDAD , YA QUE EN EL FORMATO DEFINITIVO PUBLICADO , NO SE ESTABLECEN CANTIDADES COMO LA ESPECIFICO EL OFERENTE - CAUSAL DE RECHAZO NUMERO 17 " CUANDO EL PROPONENTE MODIFIQUE, CONDICIONE, ALTERE, EXCLUYA O INCLUYA APARTES QUE IMPIDAN LA EVALUACIÓN CORRESPONDIENTE A LA OFERTA ECONÓMICA. NO SE ACEPTARÁN MODIFICACIONES EN LOS ÍTEMS, NI EN LAS UNIDADES, NI EN LAS CANTIDADES, NI LAS PROPUESTAS CUYOS CAPÍTULOS NO CONTENGAN LA TOTALIDAD DE LOS ÍTEMS ENUNCIADOS EN LOS ANEXOS." | F32: SEGÚN LA CERTIFICACIÓN ALLEGADA CUMPLE CON LA EXPERIENCIA GENERAL SOLICITADA, TODA VEZ QUE, CORRESPONDE A ACCIONES EN TORNO A LA PREVENSIÓN DE LA VIOLENCIA INTRAFAMILIAR | G32: SEGÚN LA CERTIFICACIÓN ALLEGADA CUMPLE CON LA EXPERIENCIA GENERAL SOLICITADA, TODA VEZ QUE, CORRESPONDE A ACCIONES EN TORNO A LA PREVENSIÓN DE LA VIOLENCIA INTRAFAMILIAR Y/O VIOLENCIA SEXUAL | H32: SEGÚN LA CERTIFICACIÓN ALLEGADA CUMPLE CON LA EXPERIENCIA GENERAL SOLICITADA, TODA VEZ QUE, CORRESPONDE A ACCIONES EN TORNO A LA PREVENSIÓN DE LA VIOLENCIA INTRAFAMILIAR, VIOLENCIA SEXUAL Y VIOLENCIA DE GENERO, VERIFICADO EN EL ANEXO TECNICO APORTADO. | I32: SEGÚN LA CERTIFICACIÓN ALLEGADA CUMPLE CON LA EXPERIENCIA GENERAL SOLICITADA, TODA VEZ QUE, CORRESPONDE A ACCIONES EN TORNO A LA PREVENSIÓN DE LA VIOLENCIA INTRAFAMILIAR. | J32: SEGÚN LA CERTIFICACIÓN ALLEGADA CUMPLE CON LA EXPERIENCIA GENERAL SOLICITADA, TODA VEZ QUE, CORRESPONDE A ACCIONES Y ATENCIÓN A MUJERES VICTIMAS DE VIOLENCIAS Y/O PREVENCIÓN DE VIOLENCIA INTRA FAMILAR. | K32: SEGÚN LA CERTIFICACIÓN ALLEGADA CUMPLE CON LA EXPERIENCIA GENERAL SOLICITADA, TODA VEZ QUE, CORRESPONDE A ACCIONES EN TORNO A LA PREVENSIÓN DE LA VIOLENCIA INTRAFAMILIAR | L32: EL OFERENTE NO UTILIZO EL FORMATO DE PROPUESTA ECONOMICA DEFINITIVA PUBLICADO POR LA ENTIDAD , YA QUE EN EL FORMATO DEFINITIVO PUBLICADO , NO SE ESTABLECEN CANTIDADES COMO LA ESPECIFICO EL OFERENTE - CAUSAL DE RECHAZO NUMERO 17 " CUANDO EL PROPONENTE MODIFIQUE, CONDICIONE, ALTERE, EXCLUYA O INCLUYA APARTES QUE IMPIDAN LA EVALUACIÓN CORRESPONDIENTE A LA OFERTA ECONÓMICA. NO SE ACEPTARÁN MODIFICACIONES EN LOS ÍTEMS, NI EN LAS UNIDADES, NI EN LAS CANTIDADES, NI LAS PROPUESTAS CUYOS CAPÍTULOS NO CONTENGAN LA TOTALIDAD DE LOS ÍTEMS ENUNCIADOS EN LOS ANEXOS."
A33: RESULTADO EXPERIENCIA GENERAL | B33: CUMPLE | C33: HABILITADO | D33: CUMPLE | E33: CUMPLE | F33: HABILITADO | G33: CUMPLE | H33: CUMPLE | I33: CUMPLE | J33: CUMPLE | K33: CUMPLE | L33: RECHAZADO
A34: CONTRATO No. 3 ESPECIFICA
A35: NO. DE CONTRATO | B35: 272-2014 | C35: 327-2022 | D35: 245 - 2021 | E35: 50001892021 | F35: 372-2017 | G35: 512-2021 | H35: 506-2023 | I35: 4600075140 - 2018 | J35: GJ 178-2020 | L35: SCS 14/2015
A36: No. CONSECUTIVO EN EL RUP | B36: 170 | C36: 67 | D36: 111 | E36: 88 | F36: 136 | G36: 102 | H36: 81 | I36: 119 | J36: 129 | K36: 47
A37: OBJETO: | B37: PRESTACIÓN DE SERVICIOS PARA REALIZAR LOS PROCESOS DE PROMOCIÓN DEL BUEN TRATO DONDE SE INTEGREN ACCIONES DE PREVENCIÓN, ORIENTACIÓN Y ASESORÍA INDIVIDUAL Y FAMILIAR A VÍCTIMAS DE VIOLENCIA INTRAFAMILIAR Y SEXUAL DIRIGIDA A LOS HABITANTES DE LA LOCALIDAD DE ENGATIVÁ. | C37: PRESTAR SERVICIOS ENFOCADOS A LA REALIZACIÒN DE ACCIONES EN DERECHOS DE LAS MUJERES, PREVENCIÒN DEL FEMINICIDIO Y VIOLENCIA CONTRA LAS MUJERES DE LA LOCALIDAD RAFAEL URIBE URIBE" | D37: PRESTAR SERVICIOS INTEGRALES PARA REALIZAR ACTIVIDADES EN EL DESARROLLO DE CAPACIDADES QUE FOMENTEN LA ESTRATEGIA DE CUIDADO A LAS MUJERES CUIDADORAS, CAPACITACLON PARA LA CONSTRUCCION DE CIUDADANIA EN LA PROMOCION DE LOS DERECHOS DE LAS MUJERES Y APOYO A INICIATIVAS RELACIONADAS CON EL DERECHO A UNA VIDA LIBRE DE VIOLENCES PARA LAS MUJERES EN TODAS SUS DIVERSIDADES DE LA LOCALIDAD DE SANTA FE | E37: PRESTAR EL SERVICIO DE ACOMPAÑAMIENTO PSICOSOCIAL, FAMILIAR Y COMUNITARIO DE LA DIRECCIÓN DE FAMILIAS Y COMUNIDADES PARA IMPLEMENTAR LA MODALIDAD MI FAMILIA, CUYO OBJETIVO ES “FORTALECER A LAS FAMILIAS PARA PROMOVER LA PROTECCIÓN INTEGRAL DE LOS NIÑOS, NIÑAS Y ADOLESCENTES Y CONTRIBUIR A LA PREVENCIÓN DE VIOLENCIA, NEGLIGENCIA O ABUSOS EN SU CONTRA | F37: CONTRATAR LA PRESTACIÓN DE SERVICIOS A TODO COSTO, PARA EL DESARROLLO DE PROCESOS FORMATIVOS DE PREVENCIÓN, SENSIBILIZACIÓN Y FORTALECIMIENTO DEL PLAN INTEGRAL DE SEGURIDAD Y CONVIVENCIA CIUDADANA. | G37: VINCULAR PERSONAS EN SU DIVERSIDAD, ESPECIALMENTE MUJERES, DE LA LOCALIDAD DE KENNEDY EN ACCIONES PARA LA PREVENCIÓN DEL FEMINICIDIO Y LA VIOLENCIA, QUE CONTRIBUYA A LA GARANTÍA DE SUS DERECHOS EN EL MARCO DEL PROYECTO NO. 2111: KENNEDY POR LOS DERECHOS DE LAS MUJERES. | H37: REALIZAR ACCIONES QUE FORTALEZCAN LA PROMOCIÓN DEL BUEN TRATO, LA PREVENCIÓN DE LA VIOLENCIA, INTRAFAMILIAR, VIOLENCIA SEXUAL Y VIOLENCIA DE GÉNERO EN LA LOCALIDAD DE ENGATIVÁ | I37: DINAMIZAR LOS CENTROS DE EQUIDAD DE GÉNERO CON ENFOQUE DE GÉNERO - ALCANCE DEL OBJETO: MUJERES DE LA CIUDAD DE MEDELLIN Y SUS CORREGIMIENTOS, ESPECIALMENTE AQUELLAS CON SECUELAS DE LAS VIOLENCIAS BASADAS EN EL GÉNERO, O EN CONDICIONES DE EXCLUSIÓN Y VULNERABILIDAD. | J37: PRESTACIÓN DE SERVICIOS PROFESIONALES DE APOYO TÉCNICO Y LOGÍSTICO PARA DESARROLLAR LAS ACTIVIDADES NECESARIAS DE PREVENCIÓN Y ATENCIÓN DE LAS VIOLENCIAS BASADAS EN GÉNERO EN LA COMUNA 16 EN EL MARCO DEL CONTRATO INTERADMINISTRATIVO 4600085513 DE 2020 SUSCRITO POR LA IU PASCUAL BRAVO CON EL MUNICIPIO DE MEDELLÍN. | K37: DESARROLLAR EL PROYECTO “MUJERES AHORRADORAS EN ACCIÓN” PARA EL MEJORAMIENTO DE LA CALIDAD DE VIDA, BIENESTAR Y PROSPERIDAD DE LAS MUJERES EN SITUACIÓN DE VULNERABILIDAD SOCIAL Y/O DESPLAZAMIENTO, A TRAVÉS DE LA VINCULACIÓN A LOS SERVICIOS MICRO FINANCIEROS, EL ACOMPAÑAMIENTO PARA LA GENERACIÓN DE LA CULTURA DEL AHORRO Y DEL ASEGURAMIENTO, LA INSTALACIÓN DE CAPACIDADES SOCIO EMPRESARIALES, LA FORMACIÓN INTEGRAL CON ENFOQUE DE GÉNERO, EL FORTALECIMIENTO DE GRUPOS DE MUJERES, LA ARTICULACIÓN INSTITUCIONAL Y LA PROMOCIÓN Y GESTIÓN DEL CONOCIMIENTO, QUE PERMITAN LA FORMACIÓN DE CIUDADANAS CAPACES DE TOMAR DECISIONES Y QUE PROMUEVAN EL EMPRENDIMIENTO, AUTOEMPLEO, GENERACIÓN DE INGRESOS LÍCITOS Y EL DESARROLLO ECONÓMICO, CULTURAL Y SOCIAL DE SUS COMUNIDADES. | L37: PRESTACIÓN DE SERVICIOS PROFESIONALES PARA LA IMPLEMENTACIÓN Y EJECUCIÓN DE PROYECTOS DESTINADOS A LA PREVENCIÓN DEL FEMINICIDIO Y LA VIOLENCIA CONTRA LA MUJER
A38: ENTIDAD QUE EXPIDE LA CERTIFICACIÓN: | B38: ALCALDIA LOCAL DE ENGATIVA | C38: FONDO DE DESARROLLO LOCAL DE RAFAEL URIBE URIBE | D38: FONDO DE DESARROLLO LOCAL DE SANTA FE | E38: ICBF REGIONAL META | F38: FONDO DE DESARROLLO LOCAL DE SUBA | G38: ALCALDIA LOCAL DE KENNEDY | H38: FONDO DE SESARROLLO LOCAL DE ENGATIVÁ | I38: ALCALDIA DE MEDELLIN | J38: IU PASCUAL BRAVO | K38: DEPARTAMENTO ADMINISTRATIVO PARA LA PROSPERIDAD SOCIAL | L38: FUNDACION VISION GLOBAL
A39: SMMLV DEL PRESUPUESTO DEL CONTRATO | B39: 675.56 | C39: 1308.83 | D39: =723.48*50/100 -> 361.74 | E39: 2397.59 | F39: =F40/737.717 -> 777226.46 | G39: =G40/908526 -> 1023.6361 | H39: =H40/1160000 -> 2581.2844 | I39: 525.99 | J39: 374.65 | K39: =55945.47*0.3 -> 16783.641
A40: VALOR EN $ DEL PRESUPUESTO | B40: 435296000 | C40: 1518249989 | D40: =723486000*0.5 -> 361743000 | E40: 2397599780 | F40: 573373174 | G40: 930000000 | H40: 2994289940 | I40: 410933007 | J40: 340385945 | L40: 842500000
...

Sheet EXPERIENCIA GENERAL
B1: EXPERIENCIA GENERAL LOTE 3 | C1: PROPONENTE No. 1 | D1: PROPONENTE No. 2 | E1: PROPONENTE No. 3 | F1: PROPONENTE No. 4 | G1: PROPONENTE No. 5
C2: 5. COMPAÑIA MAYFER SB SAS | D2: 6. INGFRACOL S.A.S | E2: 8. UT CAPITAL GROUP | F2: 9. NATURAL DE COLOMBIA S.A.S | G2: 12. GNSAS
B3: CONTRATO No. 1 GENERAL
B4: NO. DE CONTRATO | C4: Contrato No. 185091 de 2018 | D4: 1468 DE 2017 | E4: LGN-DEP31-2023 | F4: CPS-JD07-2017 | G4: CSU No.556 DE 2021
B5: No. CONSECUTIVO EN EL RUP | C5: 20 | D5: 130 | E5: 1 | F5: 5 | G5: 3
B6: OBJETO: | C6: SUMINISTRO DE ELEMENTOS MOBILIARIO, EJEMPLARES Y/O LIBROS, Y PAPELERIA PARA DESARROLLAR LOS PROYECTOS DE LA VIGENCIA 2018 | D6: CONTRATAR LA ADQUISICIÓN DE MATERIAL DIDÁCTICO, TECNOLÓGICO, MAQUINARIA, HERRAMIENTA Y EQUIPO INDUSTRIAL DE APOYO LOGÍSTICO Y ACADÉMICO A LOS ESTABLECIMIENTOS EDUCATIVOS DEL DEPARTAMENTO DEL GUAVIARE | E6: SUMINISTRO DE ARTICULOS DE MOBILIARIO, LITERATURA INFANTIL, Y PARA TODA CLASE DE PUBLICO, ELEMENTOS ARTISTICOS Y CULTURALES, TECNOLOGIA. | F6: SUMINISTRO DE LIBROS, CARTILLAS Y MATERIAL BIBLIOGRÁFICO, CON EL PROPÓSITO SOCIAL DE FOMENTAR LA LECTURA EN LAS COMUNIDADES VULNERABLES CON MENOS RECURSOS MÁS VULNERABLES Y MARGINADAS | G6: ADQUIRIR LOS MATERIALES Y EQUIPOS PARA DOTAR LOS PROCESOS ARTISTICOS Y CULTURALES, EN EL MARCO DEL PROYECTO DE INVERSION 2054 KENNEDY CULTURA EN MI BARRIO.
B7: ENTIDAD QUE EXPIDE LA CERTIFICACIÓN: | C7: ASNEA | D7: GUAVIARE - GOBERNACIÓN | E7: LOGISTICA Y GESTION DE NEGOCIOS SAS | F7: JORGE DIDIER MUÑOZ OLARTE | G7: FONDO DE DESARROLLO LOCAL DE KENNEDY
B8: SMMLV DEL PRESUPUESTO DEL CONTRATO | C8: =C9/781242 -> 288.57255 | D8: 999.95 | E8: 3461.53 | G8: 110.28
B9: VALOR EN $ DEL PRESUPUESTO | C9: 225445000 | D9: 1953891619 | E9: 4015374800 | F9: 117156837 | G9: 100197493
B10: SMMLV PRESUPUESTO OFICIAL | C10: 45 | D10: 45 | E10: 45 | F10: 45 | G10: 45
B11: VALOR PRESUPUESTO OFICIAL $ | C11: 58000000 | D11: 58000000 | E11: 58000000 | F11: 58000000 | G11: 58000000
B12: Códigos UNSPSC | C12: 55101500 | D12: 14111500 | F12: 55101500 | G12: xx
C13: 14111500 | D13: 55101500 | E13: 55101500 | F13: 60102300 | G13: xx
C14: 60101700 | D14: 60101700 | E14: 60101700 | F14: 60102300 | G14: xx
E15: 60101900
B17: OBSERVACIÓN | C17: La experiencia aportada por el oferete CUMPLE, toda vez que el objeto se relaciona con el suministro de libros. | D17: La experiencia aportada por el oferete CUMPLE, toda vez que se evidencia dentro de las actividad realizadas en el contrato la entrega o suministro de libros. | E17: La experiencia aportada por el oferete CUMPLE, toda vez que el objeto se relaciona con el suministro de literatura. | F17: La experiencia aportada por el oferete CUMPLE, toda vez que el objeto se relaciona con el suministro de libros. | G17: El oferente no aporta la certificación refrenciada en el formato, igualmente el consecutivo del RUP qe referencia en el formato no coincide con la verificación realizada, por tal motivo NO CUMPLE
B18: CONTRATO No. 2 GENERAL
B19: NO. DE CONTRATO | C19: 202915 de 2019 | D19: 573-2021-CCV | E19: 01 de 2021 | F19: 012-2016 | G19: 292 del 24 de agosto de 2017
B20: No. CONSECUTIVO EN EL RUP | C20: 21 | D20: 216 | E20: 12 | F20: 13 | G20: 60
B21: OBJETO: | C21: CONTRATAR EL SUMINISTRO DE MATERIAL DE LITERATURA PARA LA EJECUCIÓN DEL PROYECTO AFRO INDIGENA DEL ACUERDO 28/2019 | D21: ADQUISICIÓN Y ENTREGA DE ELEMENTOS DE DOTACIÓN A LAS CASAS DE JUVENTUD OPERADAS POR LA SECRETARÍA DISTRITAL DE INTEGRACIÓN SOCIAL EN LA LOCALIDAD DE CIUDAD BOLÍVAR | E21: ADQUISICIÓN DE MATERIALES Y ELEMENTOS ARTÍSTICOS, MOBILIARIO PARA OFICINA Y LITERATURA INFANTIL | F21: DISEÑO, DIAGRAMACIÓN, IMPRESIÓN Y ENTREGA DE LIBROS, MATERIAL IMPRESO Y SUMINISTRO DE DEMÁS INSUMOS REQUERIDOS PARA LA EJECUCIÓN DE NUESTROS PROYECTOS CORPORATIVOS Y SOCIALES | G21: “REALIZAR EL DISEÑO, DIAGRAMACIÓN, ADAPTACIÓN LITERARIA Y PEDAGÓGICA, EN MEDIO MAGNÉTICO E IMPRESO DE LAS PUBLICACIONES DE LA SDP
B22: ENTIDAD QUE EXPIDE LA CERTIFICACIÓN: | C22: FUNDACION COLOMBIA PLURIÉTNICA | D22: ALCALDIA LOCAL DE CIUDAD BOLÍVAR | E22: JORGE URREGO LOBATON | F22: GRUPO EMPRESARIAL SOLUCIONES CUATRO EN UNO SAS | G22: SECRETARIA DISTRITAL DE PLANEACION
B23: SMMLV DEL PRESUPUESTO DEL CONTRATO | C23: 83 | D23: 312.13 | E23: 550.34 | F23: 1003.09
B24: VALOR EN $ DEL PRESUPUESTO | C24: 68445200 | D24: 327693300 | E24: 500000000 | F24: 691585416 | G24: 381738433
B25: SMMLV PRESUPUESTO OFICIAL | C25: 45 | D25: 45 | E25: 45 | F25: 45 | G25: 45
B26: VALOR PRESUPUESTO OFICIAL $ | C26: 58000000 | D26: 58000000 | E26: 58000000 | F26: 58000000 | G26: 58000000
B27: Códigos UNSPSC | C27: 14111500 | D27: 14111500 | E27: 14111500 | F27: 14111500 | G27: 14111500
C28: 55101500 | D28: 55101500 | E28: 55101500 | F28: 55101500 | G28: 55101500
C29: 60101700 | D29: 60102300 | E29: 60102300 | F29: 60102300 | G29: 60102300
B32: OBSERVACIÓN | C32: La experiencia aportada por el oferete CUMPLE, toda vez que el objeto se relaciona con el suministro de literatura. | D32: La experiencia aportada por el oferete CUMPLE, toda vez que se evidencia dentro de las actividad realizadas en el contrato la entrega o suministro de libros. | E32: La experiencia aportada por el oferete CUMPLE, toda vez que el objeto se relaciona con el suministro de literatura. | F32: La experiencia aportada por el oferete CUMPLE, toda vez que el objeto se relaciona con el suministro de libros. | G32: El oferente no aporta la certificación refrenciada en el formato, por tal motivo NO CUMPLE
B33: RESULTADO EXPERIENCIA | C33: CUMPLE | D33: CUMPLE | E33: CUMPLE | F33: CUMPLE | G33: NO CUMPLE
B35: SUMATORIA SMMLV CONTRATOS PROPONENTES EXP GENERAL | C35: =+C23+C8 -> 371.57255 | D35: =+D23+D8 -> 1312.08 | E35: =+E23+E8 -> 4011.87 | F35: =+F23+F8 -> 1003.09 | G35: =+G23+G8 -> 110.28
B36: SMMLV PRESUPUESTO OFICIAL | C36: =+C10+C25 -> 90 | D36: =+D10 -> 45 | E36: =+E10 -> 45 | F36: =+F10 -> 45 | G36: =+G10 -> 45
B39: RESULTADO SMMLV : | C39: CUMPLE | D39: CUMPLE | E39: CUMPLE | F39: CUMPLE | G39: CUMPLE
B42: Elaboro: Lorena Inchima - Contratista Planeación Social CPS 1339-2024
B49: CUMPLE
B50: NO CUMPLE
B51: HABILITADO
B53: RECHAZADO

Sheet FORMATO EXP. HABILITANTE 
B1: “FORMATO EXPERIENCIA HABILITANTE DEL PROPONENTE”
B3: ÍTEM | C3: OFERENTES | D3: RESULTADO | E3: OBSERVACIÓN
B4: 1 | C4: PROPONENTE No. 1 | D4: CUMPLE | E4: N/A
C5: =+'EXPERIENCIA GENERAL'!C2 -> 5. COMPAÑIA MAYFER SB SAS
B6: 2 | C6: PROPONENTE No. 2 | D6: NO CUMPLE | E6: El OFERENTE NO APORTA EL FORMATO EN DEBIDA FORMA, COMO SE SOLICITA DE ACUERDO AL FORMATO DE EXPERIENCIA CALIFICADA
C7: =+'EXPERIENCIA GENERAL'!D2 -> 6. INGFRACOL S.A.S
B8: 3 | C8: PROPONENTE No. 3 | D8: CUMPLE | E8: N/A
C9: =+'EXPERIENCIA GENERAL'!E2 -> 8. UT CAPITAL GROUP
B10: 4 | C10: PROPONENTE No. 4 | D10: CUMPLE | E10: N/A
C11: ='EXPERIENCIA GENERAL'!F2 -> 9. NATURAL DE COLOMBIA S.A.S
B12: 5 | C12: PROPONENTE No. 5 | D12: CUMPLE | E12: N/A
C13: ='EXPERIENCIA GENERAL'!G2 -> 12. GNSAS
B16: Elaboro: Lorena Inchima - Contratista Planeación Social CPS 1339-2024

Sheet FORMATO ESPEC. TECNICAS
B2: "FORMATO DE ACEPTACIÓN DE LAS ESPECIFICACIONES TÉCNICAS"
B4: ÍTEM | C4: OFERENTES | D4: RESULTADO | E4: OBSERVACIÓN
B5: 1 | C5: PROPONENTE No. 1 | D5: CUMPLE | E5: N/A
C6: =+'EXPERIENCIA GENERAL'!C2 -> 5. COMPAÑIA MAYFER SB SAS
B7: 2 | C7: PROPONENTE No. 2 | D7: NO CUMPLE | E7: N/A
C8: =+'EXPERIENCIA GENERAL'!D2 -> 6. INGFRACOL S.A.S
B9: 3 | C9: PROPONENTE No. 3 | D9: NO CUMPLE | E9: N/A
C10: =+'EXPERIENCIA GENERAL'!E2 -> 8. UT CAPITAL GROUP
B11: 4 | C11: PROPONENTE No. 4 | D11: NO CUMPLE | E11: EL OFERENTE NO APORTA EL DOCUMENTO SOLICITADO
C12: ='EXPERIENCIA GENERAL'!F2 -> 9. NATURAL DE COLOMBIA S.A.S
B13: 5 | C13: PROPONENTE No. 5 | D13: NO CUMPLE | E13: N/A
C14: ='EXPERIENCIA GENERAL'!G2 -> 12. GNSAS
B17: Elaboro: Lorena Inchima - Contratista Planeación Social CPS 1339-2024

Sheet FORMATO. BUENAS PRAC. AMBIENT
A1: BUENAS PRÁCTICAS AMBIENTALES
B2: PROPONENTE No. 1 | C2: PROPONENTE No. 2 | D2: PROPONENTE No. 3 | E2: PROPONENTE No. 4 | F2: PROPONENTE No. 5
B3: =+'EXPERIENCIA GENERAL'!C2 -> 5. COMPAÑIA MAYFER SB SAS | C3: =+'EXPERIENCIA GENERAL'!D2 -> 6. INGFRACOL S.A.S | D3: =+'EXPERIENCIA GENERAL'!E2 -> 8. UT CAPITAL GROUP | E3: =+'EXPERIENCIA GENERAL'!F2 -> 9. NATURAL DE COLOMBIA S.A.S | F3: =+'EXPERIENCIA GENERAL'!G2 -> 12. GNSAS
A4: ANEXO - “COMPROMISOS AMBIENTALES” | B4: SI | C4: SI | D4: NO | E4: SI | F4: SI
A5: Observación: | B5: - | C5: El formato allegado por el oferente NO CUMPLE, toda vez que en la certificación se relaciona otro objeto contractual | D5: El oferente no allega formato de buenas paracticas ambielntales | F5: El formato allegado por el oferente NO CUMPLE, toda vez que en la certificación se relaciona otro objeto contractual
A6: RESULTADO | B6: CUMPLE | C6: NO CUMPLE | D6: NO CUMPLE | E6: CUMPLE | F6: NO CUMPLE
A8: Elaboro: Lorena Inchima - Contratista Planeación Social CPS 1339-2024

Sheet CONSOLIDADO TÉCNICO-FINAL
A2: CONSOLIDADO TÉCNICO
A4: ÍTEM | B4: OFERENTES | C4: VERIFICACION EXPERIENCIA GENERAL | D4: FORMATO DE EXPERIENCIA GENERAL | E4: VERIFICACIÓN CAPACIDAD TÉCNICA | F4: BUENAS PRACTICAS AMBIENTALES
A5: 1 | B5: ='EXPERIENCIA GENERAL'!C2 -> 5. COMPAÑIA MAYFER SB SAS | C5: CUMPLE | D5: CUMPLE | E5: CUMPLE | F5: CUMPLE
A7: 2 | B7: ='EXPERIENCIA GENERAL'!D2 -> 6. INGFRACOL S.A.S | C7: CUMPLE | D7: CUMPLE | E7: CUMPLE | F7: NO CUMPLE
A9: 3 | B9: ='EXPERIENCIA GENERAL'!E2 -> 8. UT CAPITAL GROUP | C9: CUMPLE | D9: CUMPLE | E9: CUMPLE | F9: NO CUMPLE
A11: 4 | B11: ='EXPERIENCIA GENERAL'!F2 -> 9. NATURAL DE COLOMBIA S.A.S | C11: CUMPLE | D11: CUMPLE | E11: NO CUMPLE | F11: CUMPLE
A13: 5 | B13: ='EXPERIENCIA GENERAL'!G2 -> 12. GNSAS | C13: NO CUMPLE | D13: CUMPLE | E13: CUMPLE | F13: NO CUMPLE
A15: Elaboro: Lorena Inchima - Contratista Planeación Social CPS 1339-2024
