Workbook
Name \a: #REF!
Name \a: #REF!
Name \a: #REF!
Name \b: #REF!
Name \b: #REF!
Name \b: #REF!
Name \c: #REF!
Name \c: #REF!
Name \c: #REF!
Name \l: #REF!
Name \l: #REF!
Name \l: #REF!
Name A_impresión_IM: #REF!
Name A_impresión_IM: #REF!
Name A_impresión_IM: #REF!
Name aiu_mat: [1]PRESUPUESTO!$AD$891
Name BASURA: [2]ANEXO2!$B$90:$M$133
Name campamentos: [1]PRESUPUESTO!$AD$883
Name carreteras: #REF!
Name CONTRATACIÓN: #REF!
Name CONTRATACIÓN: #REF!
Name CONTRATACIÓN: #REF!
Name CUAESTRUCT: #REF!
Name CUAESTRUCT: #REF!
Name CUAESTRUCT: #REF!
Name CUAPRUEBAS: #REF!
Name CUAPRUEBAS: #REF!
Name CUAPRUEBAS: #REF!
Name equipos: [1]PRESUPUESTO!$AD$876
Name Excel_BuiltIn__FilterDatabase: '3. Practicas Ambientales'!#REF!
Name Excel_BuiltIn_Print_Titles: '3. Practicas Ambientales'!#REF!
Name FM: #REF!
Name FM: #REF!
Name FM: #REF!
Name FMA: #REF!
Name FMA: #REF!
Name FMA: #REF!
Name FMB: #REF!
Name FMB: #REF!
Name FMB: #REF!
Name FMC: #REF!
Name FMC: #REF!
Name FMC: #REF!
Name FMD: #REF!
Name FMD: #REF!
Name FMD: #REF!
Name FME: #REF!
Name FME: #REF!
Name FME: #REF!
Name FSADKJFLKASD: #REF!
Name FSADKJFLKASD: #REF!
Name FSADKJFLKASD: #REF!
Name gastos_contrato: [1]PRESUPUESTO!$AD$885
Name GUILLERMO: [3]SMMV!$A$2:$B$7
Name HABILITADO: #REF!
Name HABILITADO: #REF!
Name HABILITADO: #REF!
Name herramientas: [1]PRESUPUESTO!$AD$878
Name INDI1: #REF!
Name INDI1: #REF!

Sheet Datos
A1: DATOS GENERALES
A2: Objeto | B2: “ADQUIRIR A TITULO DE COMPRAVENTA A MONTO AGOTABLE ELEMENTOS DE MOBILIARIO INSTITUCIONAL , TECNOLOGIA, AUDIOVISUALES Y TECNOLOGIA COMPUTADORES PARA LA DOTACION PEDAGOGICA DE LAS INSTITUCIONES EDUCATIVAS DE LA LOCALIDAD DE TEUSAQUILLO EN EL MARCO DE LOS PROYECTOS: 2049 “TEUSAQUILLO ENTORNO PROTECTOR PARA LOS NIÑOS Y LAS NIÑAS Y LAS NIÑAS DE CONFORMIDAD CON LAS DISPOSICIONES TÉCNICAS ESTABLECIDAS” Y 2157 “TEUSAQUILLO RESPIRA EDUCACION” DE CONFORMIDAD CON LAS ESPECIFICACIONES TÉCNICAS ”.
A3: No de Proceso | B3: FDLT-SASI-388-2024 (120880) LOTE 1
A4: Presupuesto Oficial | B4: 407797240
A5: LOTE 1 | B5: 56074180
A6: Presupuesto Solicitado | B6: 1
A7: Fecha de Cierre del Proceso
A8: Comité Evaluador - Técnico | B8: LAURA ISABEL BUITRAGO PEÑA
A10: Comité Evaluador - Económico | B10: MAROLYM YISELH BERNAL TORO
C11: =+UPPER(B11)
A12: Comité Evaluador - Financiero | B12: JAIME CAMILO RONCANCIO JARAMILLO
A14: Comité Evaluador - Juridico | B14: VALENTINA CIFUENTES MUÑOZ
A16: Comité Evaluador - Consolidado | B16: LAURA ISABEL BUITRAGO PEÑA
B17: JAIME CAMILO RONCANCIO JARAMILLO
B18: MAROLYM YISELH BERNAL TORO
B19: VALENTINA CIFUENTES MUÑOZ

Sheet Listas
A2: PROPONENTE | B2: SMMLV 2023 | C2: Método | D2: Rango (inclusive) | E2: Rango (inclusive) | F2: Método
A3: Persona Natural | B3: 1160000 | C3: Mediana con Valor Absoluto | D3: De 0.00 a 0.33 | E3: 0 | F3: Mediana con Valor Absoluto
A4: Persona Juridica | C4: Media Geométrica con presupuesto oficial | D4: De 0.34 a 0.67 | E4: 0.01 | F4: Mediana con Valor Absoluto
A5: Consorcio | C5: Media Aritmética | D5: De 0.68 a 0.99 | E5: 0.02 | F5: Mediana con Valor Absoluto
A6: Union Temporal | E6: 0.03 | F6: Mediana con Valor Absoluto
E7: 0.04 | F7: Mediana con Valor Absoluto
E8: 0.05 | F8: Mediana con Valor Absoluto
E9: 0.06 | F9: Mediana con Valor Absoluto
E10: 0.07 | F10: Mediana con Valor Absoluto
E11: 0.08 | F11: Mediana con Valor Absoluto
E12: 0.09 | F12: Mediana con Valor Absoluto
E13: 0.1 | F13: Mediana con Valor Absoluto
E14: 0.11 | F14: Mediana con Valor Absoluto
E15: 0.12 | F15: Mediana con Valor Absoluto
E16: 0.13 | F16: Mediana con Valor Absoluto
E17: 0.14 | F17: Mediana con Valor Absoluto
E18: 0.15 | F18: Mediana con Valor Absoluto
... E102: 0.99 | F102: Media Aritmética

Sheet 1. Exp.Habilitante general
B2: FONDO DE DESARROLLO LOCAL DE TEUSAQUILLO
B3: FORMATO: EVALUACIÓN EXPERIENCIA MINIMA HABILITANTE PROPONENTES
B4: SELECCIÓN ABREVIADA SUBASTA INVERSA
B5: =Datos!B3 -> FDLT-SASI-388-2024 (120880) LOTE 1
B7: OBJETO: | E7: =+Datos!B2 -> “ADQUIRIR A TITULO DE COMPRAVENTA A MONTO AGOTABLE ELEMENTOS DE MOBILIARIO INSTITUCIONAL , TECNOLOGIA, AUDIOVISUALES Y TECNOLOGIA COMPUTADORES PARA LA DOTACION PEDAGOGICA DE LAS INSTITUCIONES EDUCATIVAS DE LA LOCALIDAD DE TEUSAQUILLO EN EL MARCO DE LOS PROYECTOS: 2049 “TEUSAQUILLO ENTORNO PROTECTOR PARA LOS NIÑOS Y LAS NIÑAS Y LAS NIÑAS DE CONFORMIDAD CON LAS DISPOSICIONES TÉCNICAS ESTABLECIDAS” Y 2157 “TEUSAQUILLO RESPIRA EDUCACION” DE CONFORMIDAD CON LAS ESPECIFICACIONES TÉCNICAS ”.
B9: 1. | C9: COMERCIALIZADORA E&T S.A.S.
G11: NO CUMPLE
G12: REFERENCIA DEL MENSAJE:CO1.MSG.7339710.FECHA:11-12-2024 CODIGO DEL MENSJAE 7358582 DEL 13 DE DICIEMBRE DEL 2024 NO APORTA EL FORMATO DE ACEPTACION DE LAS CONDICIONES TECNICAS EN EL FORMATO A CRITERIOS LOTE 1 del proceso SASI-388.
B14: PROPONENTE (Persona Natural, Jurídica, Consorcio o Unión Temporal): | E14: COMERCIALIZADORA E&T S.A.S. | L14: COMERCIALIZADORA E&T S.A.S. | O14: % DE PARTICIPACIÓN: | Q14: 1 | R14: TAMAÑO | T14: MICRO EMPRESA
L15: N/A | O15: % DE PARTICIPACIÓN: | Q15: 0 | R15: TAMAÑO | T15: N/A
L16: N/A | O16: % DE PARTICIPACIÓN: | Q16: 0 | R16: TAMAÑO | T16: N/A
B18: PRESUPUESTO OFICIAL ESTIMADO: | E18: 56074180 | G18: PRESUPUESTO OFICIAL EN SMLMV 2024 SOLICITADO: | L18: 1 | M18: =((E18/1300000)*L18) -> 43.133985
B19: REQUISITO EXPERIENCIA GENERAL: | E19: EXPERIENCIA DEL PROPONENTE (FORMATO B) Por experiencia se entiende: “Los contratos celebrados por el interesado para cada uno de los bienes, obras y servicios que ofrecerá a las Entidades Estatales, identificados con el Clasificador de Bienes y Servicios en el tercer nivel y su valor expresado en SMMLV. Los contratos celebrados por consorcios, uniones temporales y sociedades en las cuales el interesado tenga o haya tenido participación, para cada uno de los bienes, obras y servicios que ofrecerá a las Entidades Estatales, identificados con el Clasificador de Bienes y Servicios en el tercer nivel y su valor expresado en SMMLV.” (Decreto 1082 de 2015). Teniendo en cuenta lo contemplado en el artículo 2.2.1.1.1.5.1 del Decreto 1082 de 2015, las personas naturales, jurídicas y cada uno de los integrantes del Consorcio o Unión Temporal interesados en participar en este proceso, deberán estar inscritos en el Registro Único de Proponentes de acuerdo con lo dispuesto por la Ley 1150 de 2007, modificado por el artículo 221 del Decreto 019 de 2012 y cumplir con una de las clasificaciones solicitadas. En el caso de propuesta plural (Consorcio o Unión Temporal) la clasificación se obtiene cuando cada integrante cumpla con una de las clasificaciones solicitadas. Los proponentes deben allegar el certificado de inscripción en el RUP, expedido por respectiva Cámara de Comercio dentro de los treinta (30) días anteriores al cierre del presente proceso de selección. En caso de propuestas presentadas en Consorcio o Unión Temporal, cada uno de sus integrantes deberá anexar dicho certificado en igualdad de condiciones treinta (30) días anteriores al cierre. para garantizar que los proponentes hábiles para contratar tengan experiencia en la ejecución de dotación de elementos de igual o similares características a los del presente proceso de selección. Para acreditar la experiencia deberá diligenciar en su totalidad el FORMATO B. DE EXPERIENCIA DEL PROPONENTE. La Entidad considerará la experiencia del proponente mediante la presentación de certificaciones de contratos ejecutados por el proponente, que acrediten el cumplimiento de la experiencia en contratos celebrados con entidades públicas o privadas, que se encuentren EJECUTADOS, TERMINADOS Y LIQUIDADOS antes de la fecha de cierre del proceso. Los proponentes deberán acreditar experiencia certificada mediante la presentación de máximo CUATRO (4) CERTIFICACIONES DE CONTRATOS, inscritos en el Registro único de Proponentes (RUP), cuyo objeto, actividades y/o alcance contemple. OBJETO Y ALCANCE Lote 1: Suministro de mobiliario institucional, escolar y educativo y accesorios. Que la SUMATORIA SEA IGUAL O SUPERIOR AL 100% DEL PRESUPUESTO OFICIAL expresado en SMMLV La experiencia que acredite el proponente deberá constar en contratos registrados en el RUP, codificados en por lo menos cinco (5) de las siguientes actividades del clasificador de bienes y servicios de Naciones Unidas-UNSPSC hasta el tercer nivel, teniendo en cuenta el lote de interés para presentarse BUENAS PRÁCTICAS AMBIENTALES Dentro de las buenas prácticas ambientales se debe incluir todas aquellas acciones que disminuyan el uso de recursos, como agua, energía, papel, entre otros, •Los materiales de papelería utilizados en la prestación de los servicios del contrato deben ser de materiales reciclados o biodegradables tales como los libros de minutas, las carpetas, libros de control de entradas y salidas entre otros. •Solamente imprimir los documentos que sean necesarios y estrictamente obligatorio, estos deberán estar impresos por ambas caras. •Evitar el uso de plásticos de un solo uso para el embalaje de los elementos •Garantizar que la disposición final o aprovechamiento de los residuos peligrosos o especiales que se puedan generar se realice de manera adecuada, con las medidas pertinentes que no genere impactos ambientales negativos.
B20: CÓDIGOS RUP SOLICITADOS | D20: 5 | E20: 56121506 | F20: 56101700 | G20: 56112100 | H20: 56121501 | I20: 56121503 | J20: 56121510 | K20: 56121015 | L20: Conteo de Codigos | M20: Cumple / NO Cumple
B21: CÓDIGOS RUP: | D21: Contrato 1 | E21: 1 | F21: 1 | G21: 1 | H21: 1 | I21: 1 | J21: 1 | K21: 1 | L21: =COUNTA(E21:K21) -> 7 | M21: =IF(L21>=4,"CUMPLE","NO CUMPLE") -> CUMPLE
B22: CÓDIGOS RUP: | D22: Contrato 2 | E22: 1 | F22: 1 | G22: 1 | H22: 1 | I22: 1 | J22: 1 | K22: 1 | L22: =COUNTA(E22:K22) -> 7 | M22: =IF(L22>=4,"CUMPLE","NO CUMPLE") -> CUMPLE
B23: CÓDIGOS RUP: | D23: Contrato 3 | E23: 1 | F23: 1 | G23: 1 | H23: 1 | I23: 1 | J23: 1 | K23: 1 | L23: =COUNTA(E23:K23) -> 7 | M23: =IF(L23>=4,"CUMPLE","NO CUMPLE") -> CUMPLE
E24: =COUNTA(E21:E23) -> 3 | F24: =COUNTA(F21:F23) -> 3 | G24: =COUNTA(G21:G23) -> 3 | H24: =COUNTA(H21:H23) -> 3 | I24: =COUNTA(I21:I23) -> 3 | J24: =COUNTA(J21:J23) -> 3 | K24: =COUNTA(K21:K23) -> 3 | L24: =COUNTA(E24:K24) -> 7 | M24: =IF(L24>=4,"CUMPLE","NO CUMPLE") -> CUMPLE
B25: CÓDIGOS RUP: | D25: Contrato 4 | E25: 1 | F25: 1 | G25: 1 | H25: 1 | I25: 1 | J25: 1 | K25: 1 | L25: =COUNTA(E25:K25) -> 7 | M25: =IF(L25>=4,"CUMPLE","NO CUMPLE") -> CUMPLE
B26: CONSOLIDADO | E26: =IF(E24>0,1,0) -> 1 | F26: =IF(F24>0,1,0) -> 1 | G26: =IF(G24>0,1,0) -> 1 | H26: =IF(H24>0,1,0) -> 1 | I26: =IF(I24>0,1,0) -> 1 | J26: =IF(J24>0,1,0) -> 1 | K26: =IF(K24>0,1,0) -> 1 | L26: =SUM(E26:K26) -> 7 | M26: =IF(L26>=4,"CUMPLE","NO CUMPLE") -> CUMPLE
B28: EXPERIENCIA GENERAL Y ESPECIFICA
B29: No. | C29: NÚMERO DEL CONSECUTIVO DEL REPORTE DEL CONTRATO EJECUTADO (Escriba el No. de consecutivo asignado por la Camara de Comercio al contrato en el RUP) | D29: # PAGINA DEL RUP (PDF) DONDE SE ENCUENTRA EL CONSECUTIVO | E29: ENTIDAD CONTRATANTE (Escriba el Nombre de la entidad con la cual suscribió la experiencia ante la Camara de Comercio.) | F29: OBJETO DEL CONTRATO (Indique tal como aparece en la certificación y/o acta de liquidación, y/o acta de terminación) | L29: NOMBRE DEL ARCHIVO SOPORTE APORTADO PARA VALIDAR LOS REQUERIMIENTOS SOLICITADOS. (Certificaciones, Contratos, Acta de Liquidacion y/o Facturas y/o cualquier otro documento que considere necesario) | N29: NOMBRE INTEGRANTE QUE APORTA LA EXPERIENCIA | O29: % PARTICIPACION EN EL CONSORCIO O UNIÓN TEMPORAL | P29: VALOR DEL CONTRATO EN SMMLV RELACIONADOS EN EL RUP | Q29: VALOR DEL CONTRATO EN SMMLV X PORCENTAJE PARTICIPACIÓN | R29: OBSERVACIONES
B32: 1 | C32: 23 | D32: 236 | E32: SECRETARIA DE EDUCACION | F32: COMPRA DE ELEMENTOS DE DOTACIÓN PEDAGOGICA PARA EL INSTITUCION EDUCATIVA LA ARMONIA Y SU SEDE PARA EL AÑO 2018 | L32: EXPERIENCIA_1.PDF | N32: COMERCIALIZADORA E&T SAS | O32: 1 | P32: 44.87 | Q32: =P32*O32 -> 44.87 | R32: CUMPLE
B33: 2 | C33: 61 | D33: 489 | E33: MUNICIPIO DE SESQUILÉ | F33: SUMINISTRO DE ELEMENTOS Y JUEGOS DIDACTICOS PARA FORTALECER EL DESARROLLO PSICOMOTRIZ Y DE LOS HOGARES COMUNITARIOS, LAS LUDOTECAS E INTRITUCIONES EDUCATIVAS DEL MUNICIPIO DE SESQULÉ CUNDINAMARCA | L33: EXPERIENCIA_1.PDF | N33: COMERCIALIZADORA E&T SAS | O33: 1 | P33: 78.91 | Q33: =P33*O33 -> 78.91 | R33: CUMPLE
B34: 3 | C34: 80 | D34: 724 | E34: FONDO DESARROLLO LOCAL DE LA CANDELARIA | F34: ADQUIRIR BIENES PARA DOTAR LA CASA CULTURAL DEL ZIPA EN LA LOCALIDAD DE LA CANDELARIA | L34: EXPERIENCIA_1.PDF | N34: COMERCIALIZADORA E&T SAS | O34: 1 | P34: 135.98 | Q34: =P34*O34 -> 135.98 | R34: CUMPLE
B35: 4 | C35: 83 | D35: 757 | E35: MUNICIPIO DE TENJO | F35: COMPRA DE MATERIALES PEDAGOGICOS Y DIDACTICOS PARA DESARROLLAR LAS ACTIVIDADES PROPIAS DE LOS PROGRAMAS DE LA ADMINITRACIÓN MUNICIPAL ENMARCADOS EN EL PLAN DE DESARROLLO TENJO ES DE TODOS 2020-2023. | L35: EXPERIENCIA_1.PDF | N35: COMERCIALIZADORA E&T SAS | O35: 1 | P35: 39.37 | Q35: =P35*O35 -> 39.37 | R35: NO CUMPLE La Entidad considerará la experiencia del proponente mediante la presentación de certificaciones de contratos ejecutados por el proponente, que acrediten el cumplimiento de la experiencia en contratos celebrados con entidades públicas o privadas, que se encuentren EJECUTADOS, TERMINADOS Y LIQUIDADOS antes de la fecha de cierre del proceso. Los proponentes deberán acreditar experiencia certificada mediante la presentación de máximo CUATRO (4) CERTIFICACIONES DE CONTRATOS, inscritos en el Registro único de Proponentes (RUP), cuyo objeto, actividades y/o alcance contemple.
B37: VALOR SUMATORIA CONTRATOS ACREDITADOS PARA EXPERIENCIA HABILITANTE DEL PROPONENTE: | R37: =SUM(Q32:Q35) -> 299.13 | S37: =IF(R37>M18,"CUMPLE","NO CUMPLE") -> CUMPLE
B40: 2. | C40: GRUPO EMPRESARIAL SACSU S.A.S
G42: CUMPLE
G43: SUBSANÓ BAJO REFERENCIA DEL MENSAJE: CO1.MSG.7309570 FORMATO B EXPERIENCIA LOTE 1 FECHA 6/12/2024
B45: PROPONENTE (Persona Natural, Jurídica, Consorcio o Unión Temporal): | E45: GRUPO EMPRESARIAL SACSU S.A.S | L45: GRUPO EMPRESARIAL SACSU S.A.S | O45: % DE PARTICIPACIÓN: | Q45: 0.8 | R45: TAMAÑO | T45: MICRO EMPRESA
L46: N/A | O46: % DE PARTICIPACIÓN: | Q46: 0 | R46: TAMAÑO | T46: N/A
L47: N/A | O47: % DE PARTICIPACIÓN: | Q47: 0 | R47: TAMAÑO | T47: N/A
B49: PRESUPUESTO OFICIAL ESTIMADO: | E49: 56074180 | G49: PRESUPUESTO OFICIAL EN SMLMV 2024 SOLICITADO: | L49: 1 | M49: =((E49/1300000)*L49) -> 43.133985
B50: REQUISITO EXPERIENCIA GENERAL: | E50: EXPERIENCIA DEL PROPONENTE (FORMATO B) Por experiencia se entiende: “Los contratos celebrados por el interesado para cada uno de los bienes, obras y servicios que ofrecerá a las Entidades Estatales, identificados con el Clasificador de Bienes y Servicios en el tercer nivel y su valor expresado en SMMLV. Los contratos celebrados por consorcios, uniones temporales y sociedades en las cuales el interesado tenga o haya tenido participación, para cada uno de los bienes, obras y servicios que ofrecerá a las Entidades Estatales, identificados con el Clasificador de Bienes y Servicios en el tercer nivel y su valor expresado en SMMLV.” (Decreto 1082 de 2015). Teniendo en cuenta lo contemplado en el artículo 2.2.1.1.1.5.1 del Decreto 1082 de 2015, las personas naturales, jurídicas y cada uno de los integrantes del Consorcio o Unión Temporal interesados en participar en este proceso, deberán estar inscritos en el Registro Único de Proponentes de acuerdo con lo dispuesto por la Ley 1150 de 2007, modificado por el artículo 221 del Decreto 019 de 2012 y cumplir con una de las clasificaciones solicitadas. En el caso de propuesta plural (Consorcio o Unión Temporal) la clasificación se obtiene cuando cada integrante cumpla con una de las clasificaciones solicitadas. Los proponentes deben allegar el certificado de inscripción en el RUP, expedido por respectiva Cámara de Comercio dentro de los treinta (30) días anteriores al cierre del presente proceso de selección. En caso de propuestas presentadas en Consorcio o Unión Temporal, cada uno de sus integrantes deberá anexar dicho certificado en igualdad de condiciones treinta (30) días anteriores al cierre. para garantizar que los proponentes hábiles para contratar tengan experiencia en la ejecución de dotación de elementos de igual o similares características a los del presente proceso de selección. Para acreditar la experiencia deberá diligenciar en su totalidad el FORMATO B. DE EXPERIENCIA DEL PROPONENTE. La Entidad considerará la experiencia del proponente mediante la presentación de certificaciones de contratos ejecutados por el proponente, que acrediten el cumplimiento de la experiencia en contratos celebrados con entidades públicas o privadas, que se encuentren EJECUTADOS, TERMINADOS Y LIQUIDADOS antes de la fecha de cierre del proceso. Los proponentes deberán acreditar experiencia certificada mediante la presentación de máximo CUATRO (4) CERTIFICACIONES DE CONTRATOS, inscritos en el Registro único de Proponentes (RUP), cuyo objeto, actividades y/o alcance contemple. OBJETO Y ALCANCE Lote 1: Suministro de mobiliario institucional, escolar y educativo y accesorios. Que la SUMATORIA SEA IGUAL O SUPERIOR AL 100% DEL PRESUPUESTO OFICIAL expresado en SMMLV La experiencia que acredite el proponente deberá constar en contratos registrados en el RUP, codificados en por lo menos cinco (5) de las siguientes actividades del clasificador de bienes y servicios de Naciones Unidas-UNSPSC hasta el tercer nivel, teniendo en cuenta el lote de interés para presentarse BUENAS PRÁCTICAS AMBIENTALES Dentro de las buenas prácticas ambientales se debe incluir todas aquellas acciones que disminuyan el uso de recursos, como agua, energía, papel, entre otros, •Los materiales de papelería utilizados en la prestación de los servicios del contrato deben ser de materiales reciclados o biodegradables tales como los libros de minutas, las carpetas, libros de control de entradas y salidas entre otros. •Solamente imprimir los documentos que sean necesarios y estrictamente obligatorio, estos deberán estar impresos por ambas caras. •Evitar el uso de plásticos de un solo uso para el embalaje de los elementos •Garantizar que la disposición final o aprovechamiento de los residuos peligrosos o especiales que se puedan generar se realice de manera adecuada, con las medidas pertinentes que no genere impactos ambientales negativos.
B51: CÓDIGOS RUP SOLICITADOS | D51: 5 | E51: 56121506 | F51: 56101700 | G51: 56112100 | H51: 56121501 | I51: 56121503 | J51: 56121510 | K51: 56121015 | L51: Conteo de Codigos | M51: Cumple / NO Cumple
B52: CÓDIGOS RUP: | D52: Contrato 1 | E52: 1 | F52: 1 | G52: 1 | H52: 1 | I52: 1 | J52: 1 | K52: 1 | L52: =COUNTA(E52:K52) -> 7 | M52: =IF(L52>=5,"CUMPLE","NO CUMPLE") -> CUMPLE
B53: CÓDIGOS RUP: | D53: Contrato 2 | L53: =COUNTA(E53:K53) -> 0 | M53: =IF(L53>=4,"CUMPLE","NO CUMPLE") -> NO CUMPLE
B54: CÓDIGOS RUP: | D54: Contrato 3 | L54: =COUNTA(E54:K54) -> 0 | M54: =IF(L54>=4,"CUMPLE","NO CUMPLE") -> NO CUMPLE
L55: =COUNTA(E55:K55) -> 0 | M55: =IF(L55>=4,"CUMPLE","NO CUMPLE") -> NO CUMPLE
...

Sheet 2. Ficha Anexo Técnico
A3: FONDO DE DESARROLLO LOCAL DE TEUSAQUILLO
A4: FORMATO: EVALUACIÓN CUMPLIMIENTO DE FICHAS TÉCNICAS
A5: SELECCIÓN ABREVIADA SUBASTA INVERSA
A6: =+Datos!B3 -> FDLT-SASI-388-2024 (120880) LOTE 1
A8: OBJETO DEL CONTRATO
A9: =+Datos!B2 -> “ADQUIRIR A TITULO DE COMPRAVENTA A MONTO AGOTABLE ELEMENTOS DE MOBILIARIO INSTITUCIONAL , TECNOLOGIA, AUDIOVISUALES Y TECNOLOGIA COMPUTADORES PARA LA DOTACION PEDAGOGICA DE LAS INSTITUCIONES EDUCATIVAS DE LA LOCALIDAD DE TEUSAQUILLO EN EL MARCO DE LOS PROYECTOS: 2049 “TEUSAQUILLO ENTORNO PROTECTOR PARA LOS NIÑOS Y LAS NIÑAS Y LAS NIÑAS DE CONFORMIDAD CON LAS DISPOSICIONES TÉCNICAS ESTABLECIDAS” Y 2157 “TEUSAQUILLO RESPIRA EDUCACION” DE CONFORMIDAD CON LAS ESPECIFICACIONES TÉCNICAS ”.
A11: VERIFICACIÓN DE CUMPLIMIENTO DE LOS REQUERIMIENTOS Y ESPECIFICACIONES MÍNIMAS (FICHA TÉCNICA y/o ANEXO TÉCNICO)
A12: REQUISITO: De conformidad con el Anexo: Formato B “Aceptación anexo técnico” del presente proceso de selección. El proponente deberá allegar debidamente suscrito y sin modificación alguna los documentos: • (Formato Aceptación Ficha Técnica Y/O ANEXO TÉCNICO) publicado por la Entidad, lo cual refleja su conocimiento, aceptación y compromiso en desarrollar la totalidad de las actividades y aspectos técnicos y ambientales descritos. El proponente para el cabal desarrollo del objeto contractual deberá ofrecer y acreditar todas las especificaciones técnicas detalladas en el presente estudio previo y ficha técnica.
A13: No. | B13: Contratista | C13: Nombre del documento soporte / Nombre Archivo / No.Folio | D13: CUMPLE / NO CUMPLE | E13: Observaciones
A16: 1 | B16: COMERCIALIZADORA EYT SAS | D16: NO CUMPLE | E16: NO ADJUNTA FIRMADO EL ANEXO TÉCNICO ACEPTANDO LAS CONDICIONES ESTABLECIDAS EN EL MISMO.
A17: 2 | B17: GRUPO EMPRESARIAL SACSU SAS | C17: Formato A. CRITERIOS LOTE 1.pdf | D17: CUMPLE
A18: 3 | B18: UNION TEMPORAL CAPITAL GROUP | C18: Formato A. CRITERIOS LOTE 1.xlsx | D18: CUMPLE
A19: 4 | B19: SECURYTI VIDEO EQUIPMENT SAS | C19: Formato A. CRITERIOS LOTE 2.pdf | D19: CUMPLE
A20: 7 | B20: COMERCIALIZADORA SERLE.COM | C20: Formato A. CRITERIOS LOTE 1 Y LOTE 2.pdf | D20: CUMPLE
A21: 9 | B21: SERVICOL-SISCOM | C21: Formato A. CRITERIOS LOTE 1 (1).pdf | D21: CUMPLE
B27: LAURA ISABEL BUITRAGO PEÑA
A29: NOMBRE(S) PROFESIONALES DE EVALUACIÓN
A30: Profesional(es) de Planeación
A31: Comité Evaluador
A32: =A6 -> FDLT-SASI-388-2024 (120880) LOTE 1

Sheet 3. Practicas Ambientales
B1: FONDO DE DESARROLLO LOCAL DE TEUSAQUILLO
B2: SELECCIÓN ABREVIADA SUBASTA INVERSA
B3: =+Datos!B3 -> FDLT-SASI-388-2024 (120880) LOTE 1
B4: FORMATO VERIFICACIÓN COMPROMISO AMBIENTAL
B7: OBJETO | D7: =+Datos!B2 -> “ADQUIRIR A TITULO DE COMPRAVENTA A MONTO AGOTABLE ELEMENTOS DE MOBILIARIO INSTITUCIONAL , TECNOLOGIA, AUDIOVISUALES Y TECNOLOGIA COMPUTADORES PARA LA DOTACION PEDAGOGICA DE LAS INSTITUCIONES EDUCATIVAS DE LA LOCALIDAD DE TEUSAQUILLO EN EL MARCO DE LOS PROYECTOS: 2049 “TEUSAQUILLO ENTORNO PROTECTOR PARA LOS NIÑOS Y LAS NIÑAS Y LAS NIÑAS DE CONFORMIDAD CON LAS DISPOSICIONES TÉCNICAS ESTABLECIDAS” Y 2157 “TEUSAQUILLO RESPIRA EDUCACION” DE CONFORMIDAD CON LAS ESPECIFICACIONES TÉCNICAS ”.
B9: BUENAS PRACTICAS AMBIENTALES
B10: No. | C10: Proponente | D10: Nombre del documento soporte / Nombre Archivo / No.Folio | E10: CUMPLE / NO CUMPLE | F10: Observaciones
B12: 1 | C12: COMERCIALIZADORA EYT SAS | D12: Criterios sostenibles.pdf | E12: CUMPLE
B13: 2 | C13: GRUPO EMPRESARIAL SACSU SAS | D13: Formato C. COMPROMISO BUENAS PRACTICAS AMBIENTALES.pdf | E13: CUMPLE | F13: ANEXO ADICIONAL: FORMATO DE NOMBRE ARCHIVO CRITERIOS SOSTENIBLES DE SELECCIÓN
B14: 3 | C14: UNION TEMPORAL CAPITAL GROUP | D14: COMPROMISO BUENAS PRACTICAS AMBIENTALES.pdf | E14: CUMPLE
B15: 4 | C15: SECURYTI VIDEO EQUIPMENT SAS | D15: COMPROMISO BUENAS PRACTICAS AMBIENTALES.pdf | E15: CUMPLE
B16: 7 | C16: COMERCIALIZADORA SERLE.COM | D16: Formato C - COMPROMISO BUENAS PRACTICAS AMBIENTALES.pdf | E16: CUMPLE
B17: 9 | C17: SERVICOL-SISCOM | D17: Formato C. COMPROMISO BUENAS PRACTICAS AMBIENTALES.pdf | E17: CUMPLE
B19: COMITÉ EVALUADOR
D27: LAURA ISABEL BUITRAGO PEÑA
B28: NOMBRE(S) PROFESIONALES DE EVALUACIÓN
B29: Profesional(es) de Planeación
B30: =+Datos!B3 -> FDLT-SASI-388-2024 (120880) LOTE 1

Sheet 4. CALCULOS
F2: FONDO DE DESARROLLO LOCAL DE TEUSAQUILLO
F3: PROCESO FDLT-SASI-388-2024 (120880)-LOTE 1
F4: SELECCIÓN ABREVIADA POR SUBASTA INVERSA
F5: FORMATO EVALUACIÓN CAPACIDAD FINANCIERA Y ORGANIZACIONAL DEL PROPONENTE
B7: OBJETO: | E7: “ADQUIRIR A TITULO DE COMPRAVENTA A MONTO AGOTABLE ELEMENTOS DE MOBILIARIO INSTITUCIONAL, TECNOLOGIA, AUDIOVISUALES Y TECNOLOGIA COMPUTADORES PARA LA DOTACION PEDAGOGICA DE LAS INSTITUCIONES EDUCATIVAS DE LA LOCALIDAD DE TEUSAQUILLO EN EL MARCO DE LOS PROYECTOS: 2049 “TEUSAQUILLO ENTORNO PROTECTOR PARA LOS NIÑOS Y LAS NIÑAS Y LAS NIÑAS DE CONFORMIDAD CON LAS DISPOSICIONES TÉCNICAS ESTABLECIDAS” Y 2157 “TEUSAQUILLO RESPIRA EDUCACION” DE CONFORMIDAD CON LAS ESPECIFICACIONES TÉCNICAS”.
B9: PRESUPUESTO OFICIAL | E9: 56074180
B11: ANTICIPO | E11: 0
H12: INDICE DE LIQUIDEZ | I12: INDICE DE ENDEUDAMIENTO | J12: RAZON DE COBERTURA DE INTERES | K12: RENTABILIDAD DEL PATRIMONIO | L12: RENTABILIDAD DEL ACTIVO | M12: CAPITAL DE TRABAJO DEMANDADO REQUERIDO | N12: PATRIMONIO
B13: INDICADORES SOLICITADOS DEL PROCESO | F13: ESTANDAR | H13: > O = a 1,88 | I13: < O = a 0,48% | J13: > O = a 2,34 | K13: > O = a 0,19 | L13: > O = a 0,08 | M13: =E9*100% -> 56074180 | N13: N.A.
H14: 1.88 | I14: 0.48 | J14: 2.34 | K14: 0.19 | L14: 0.08 | M14: =M13 -> 56074180 | N14: N.A.
H15: INDICADORES SOLICITADOS CRITERIO DIFERENCIAL DE EMPRENDIMIENTO Y EMPRESAS DE MUJERES Y/O MIPYMES
H16: INDICE DE LIQUIDEZ | I16: INDICE DE ENDEUDAMIENTO | J16: RAZON DE COBERTURA DE INTERES | K16: RENTABILIDAD DEL PATRIMONIO | L16: RENTABILIDAD DEL ACTIVO | M16: CAPITAL DE TRABAJO DEMANDADO REQUERIDO
F17: DIFERENCIALES
H21: ESTADOS FINANCIEROS | O21: CALCULOS PROPIOS | T21: INDICADORES FINANCIEROS | Y21: REVISION ( CALCULOS VS RUP ) | AE21: RESULTADOS
B22: OFERTA | C22: AÑO | D22: AÑO_NIT | E22: NIT PROPONENTE | F22: NOMBRE DEL PROPONENTE | G22: % ACCIONARIA | H22: ACTIVO CORRIENTE | I22: ACTIVO TOTAL | J22: PASIVO CORRIENTE | K22: PASIVO TOTAL | L22: PATRIMONIO | M22: UTILIDAD OPERACIONAL | N22: GASTOS DE INTERESES | O22: INDICE DE LIQUIDEZ | P22: INDICE DE ENDEUDAMIENTO | Q22: RAZON DE COBERTURA DE INTERES | R22: RENTABILIDAD DEL PATRIMONIO | S22: RENTABILIDAD DEL ACTIVO | T22: INDICE DE LIQUIDEZ | U22: INDICE DE ENDEUDAMIENTO | V22: RAZON DE COBERTURA DE INTERES | W22: RENTABILIDAD DEL PATRIMONIO | X22: RENTABILIDAD DEL ACTIVO | Y22: INDICE DE LIQUIDEZ | Z22: INDICE DE ENDEUDAMIENTO | AA22: RAZON DE COBERTURA DE INTERES | AB22: RENTABILIDAD DEL PATRIMONIO | AC22: RENTABILIDAD DEL ACTIVO | AD22: CAPITAL DE TRABAJO | AE22: HABILITADO/ NO HABILITADO | AF22: OBSERVACIONES
B23: 1 | C23: 2023 | D23: =CONCATENATE(C23,F23) -> 2023COMERCIALIZADORA E&T SAS | E23: 900300970-1 | F23: COMERCIALIZADORA E&T SAS | G23: 1 | O23: =O24 -> 45.194834 | P23: =P24 -> 0.17354364 | Q23: =Q24 -> 55.263942 | R23: =R24 -> 0.48172399 | S23: =S24 -> 0.39812386 | AD23: =AD24 -> 960558463 | AE23: =IF(O23<$H$14,"NO HABILITADO",IF(P23>$I$14,"NO HABILITADO",IF(Q23<$J$14,"NO HABILITADO",IF(R23<$K$14,"NO HABILITADO",IF(S23<$L$14,"NO HABILITADO",IF(AD23<$M$14,"NO HABILITADO","HABILITADO")))))) -> HABILITADO | AF23: MICROEMPRESA
B24: 1.1 | C24: 2023 | E24: 900300970-1 | F24: COMERCIALIZADORA E&T SAS | G24: 1 | H24: 982293095 | I24: 989739124 | J24: 21734632 | K24: 171762926 | L24: 817976198 | M24: 394038761 | N24: 7130124 | O24: =+H24/J24 -> 45.194834 | P24: =+K24/I24 -> 0.17354364 | Q24: =+M24/N24 -> 55.263942 | R24: =+M24/L24 -> 0.48172399 | S24: =+M24/I24 -> 0.39812386 | T24: 45.19 | U24: 0.17 | V24: 55.26 | W24: 0.48 | X24: 0.39 | Y24: =+O24-T24 -> 0.0048344467 | Z24: =+P24-U24 -> 0.0035436357 | AA24: =+Q24-V24 -> 0.003942254 | AB24: =+R24-W24 -> 0.0017239939 | AC24: =+S24-X24 -> 0.0081238606 | AD24: =H24-J24 -> 960558463 | AE24: =IF(O24<$H$14,"NO HABILITADO",IF(P24>$I$14,"NO HABILITADO",IF(Q24<$J$14,"NO HABILITADO",IF(R24<$K$14,"NO HABILITADO",IF(S24<$L$14,"NO HABILITADO",IF(AD24<$M$14,"NO HABILITADO","HABILITADO")))))) -> HABILITADO | AF24: MICROEMPRESA
B25: 2 | C25: 2023 | D25: =CONCATENATE(C25,F25) -> 2023GRUPO EMPRESARIAL SACSU SAS | F25: GRUPO EMPRESARIAL SACSU SAS | G25: 1 | O25: =O26 -> 14.911864 | P25: =P26 -> 0.080894776 | Q25: =Q26 -> #DIV/0! | R25: =R26 -> 0.47601383 | S25: =S26 -> 0.4375068 | AD25: =AD26 -> 539502088 | AE25: =IF(O25<$H$14,"NO HABILITADO",IF(P25>$I$14,"NO HABILITADO",IF(Q25<$J$14,"NO HABILITADO",IF(R25<$K$14,"NO HABILITADO",IF(S25<$L$14,"NO HABILITADO",IF(AD25<$M$14,"NO HABILITADO","HABILITADO")))))) -> #DIV/0! | AF25: MICROEMPRESA
B26: 2.1 | C26: 2023 | F26: GRUPO EMPRESARIAL SACSU SAS | G26: 1 | H26: 578282088 | I26: 578282088 | J26: 38780000 | K26: 46780000 | L26: 531502088 | M26: 253002346 | N26: 0 | O26: =+H26/J26 -> 14.911864 | P26: =+K26/I26 -> 0.080894776 | Q26: =+M26/N26 -> #DIV/0! | R26: =+M26/L26 -> 0.47601383 | S26: =+M26/I26 -> 0.4375068 | T26: 14.91 | U26: 0.08 | V26: IND | W26: 0.47 | X26: 0.43 | Y26: =+O26-T26 -> 0.0018640536 | Z26: =+P26-U26 -> 0.00089477605 | AA26: =+Q26-V26 -> #DIV/0! | AB26: =+R26-W26 -> 0.0060138327 | AC26: =+S26-X26 -> 0.0075068003 | AD26: =H26-J26 -> 539502088 | AE26: =IF(O26<$H$14,"NO HABILITADO",IF(P26>$I$14,"NO HABILITADO",IF(Q26<$J$14,"NO HABILITADO",IF(R26<$K$14,"NO HABILITADO",IF(S26<$L$14,"NO HABILITADO",IF(AD26<$M$14,"NO HABILITADO","HABILITADO")))))) -> #DIV/0! | AF26: MICROEMPRESA
B27: 3 | C27: 2023 | D27: =CONCATENATE(C27,F27) -> 2023UNIÓN TEMPORAL CAPITAL GROUP | F27: UNIÓN TEMPORAL CAPITAL GROUP | G27: 1 | O27: =O28 -> 6.957783 | P27: =P28 -> 0.13518154 | Q27: =Q28 -> #DIV/0! | R27: =R28 -> 0.22073401 | S27: =S28 -> 0.19089484 | AD27: =AD28 -> 1121970199 | AE27: =IF(O27<$H$14,"NO HABILITADO",IF(P27>$I$14,"NO HABILITADO",IF(Q27<$J$14,"NO HABILITADO",IF(R27<$K$14,"NO HABILITADO",IF(S27<$L$14,"NO HABILITADO",IF(AD27<$M$14,"NO HABILITADO","HABILITADO")))))) -> #DIV/0! | AF27: UNIÓN TEMPORAL
B28: 3.1 | C28: 2023 | F28: UNIÓN TEMPORAL CAPITAL GROUP | G28: 1 | H28: 1310290284 | I28: 1393090284 | J28: 188320085 | K28: 188320085 | L28: 1204770199 | M28: 265933753 | N28: 0 | O28: =+H28/J28 -> 6.957783 | P28: =+K28/I28 -> 0.13518154 | Q28: =+M28/N28 -> #DIV/0! | R28: =+M28/L28 -> 0.22073401 | S28: =+M28/I28 -> 0.19089484 | Y28: =+O28-T28 -> 6.957783 | Z28: =+P28-U28 -> 0.13518154 | AA28: =+Q28-V28 -> #DIV/0! | AB28: =+R28-W28 -> 0.22073401 | AC28: =+S28-X28 -> 0.19089484 | AD28: =H28-J28 -> 1121970199 | AE28: =IF(O28<$H$14,"NO HABILITADO",IF(P28>$I$14,"NO HABILITADO",IF(Q28<$J$14,"NO HABILITADO",IF(R28<$K$14,"NO HABILITADO",IF(S28<$L$14,"NO HABILITADO",IF(AD28<$M$14,"NO HABILITADO","HABILITADO")))))) -> #DIV/0! | AF28: UNIÓN TEMPORAL
B29: 4 | C29: 2023 | D29: =CONCATENATE(C29,F29) -> 2023SECURITY VIDEO EQUIPMENT SAS | F29: SECURITY VIDEO EQUIPMENT SAS | G29: 1 | O29: =O30 -> 3.9326867 | P29: =P30 -> 0.24306813 | Q29: =Q30 -> 211.12149 | R29: =R30 -> 0.13357508 | S29: =S30 -> 0.10110724 | AD29: =AD30 -> 17886195085 | AE29: =IF(O29<$H$14,"NO HABILITADO",IF(P29>$I$14,"NO HABILITADO",IF(Q29<$J$14,"NO HABILITADO",IF(R29<$K$14,"NO HABILITADO",IF(S29<$L$14,"NO HABILITADO",IF(AD29<$M$14,"NO HABILITADO","HABILITADO")))))) -> NO HABILITADO | AF29: MEDIANA EMPRESA
B30: 4.1 | C30: 2023 | F30: SECURITY VIDEO EQUIPMENT SAS | G30: 1 | H30: 23985106141 | I30: 25669233191 | J30: 6098911056 | K30: 6239372439 | L30: 19429860752 | M30: 2595345225 | N30: 12293136 | O30: =+H30/J30 -> 3.9326867 | P30: =+K30/I30 -> 0.24306813 | Q30: =+M30/N30 -> 211.12149 | R30: =+M30/L30 -> 0.13357508 | S30: =+M30/I30 -> 0.10110724 | T30: 3.93 | U30: 0.24 | V30: 2.1112 | W30: 0.13 | X30: 0.1 | Y30: =+O30-T30 -> 0.0026866584 | Z30: =+P30-U30 -> 0.0030681272 | AA30: =+Q30-V30 -> 209.01029 | AB30: =+R30-W30 -> 0.0035750811 | AC30: =+S30-X30 -> 0.0011072363 | AD30: =H30-J30 -> 17886195085 | AE30: =IF(O30<$H$14,"NO HABILITADO",IF(P30>$I$14,"NO HABILITADO",IF(Q30<$J$14,"NO HABILITADO",IF(R30<$K$14,"NO HABILITADO",IF(S30<$L$14,"NO HABILITADO",IF(AD30<$M$14,"NO HABILITADO","HABILITADO")))))) -> NO HABILITADO | AF30: MEDIANA EMPRESA
B31: 5 | C31: 2023 | D31: =CONCATENATE(C31,F31) -> 2023COMERCIALIZADORA SERLE.COM S.A.S | F31: COMERCIALIZADORA SERLE.COM S.A.S | G31: 1 | O31: =O32 -> 5.0965479 | P31: =P32 -> 0.24577854 | Q31: =Q32 -> 62.08638 | R31: =R32 -> 0.3112158 | S31: =S32 -> 0.23472563 | AD31: =AD32 -> 3926304385 | AE31: =IF(O31<$H$14,"NO HABILITADO",IF(P31>$I$14,"NO HABILITADO",IF(Q31<$J$14,"NO HABILITADO",IF(R31<$K$14,"NO HABILITADO",IF(S31<$L$14,"NO HABILITADO",IF(AD31<$M$14,"NO HABILITADO","HABILITADO")))))) -> HABILITADO | AF31: PEQUEÑA EMPRESA
B32: 5.1 | C32: 2023 | F32: COMERCIALIZADORA SERLE.COM S.A.S | G32: 1 | H32: 4884746590 | I32: 7907801502 | J32: 958442205 | K32: 1943567913 | L32: 5964233589 | M32: 1856163724 | N32: 29896472 | O32: =+H32/J32 -> 5.0965479 | P32: =+K32/I32 -> 0.24577854 | Q32: =+M32/N32 -> 62.08638 | R32: =+M32/L32 -> 0.3112158 | S32: =+M32/I32 -> 0.23472563 | T32: 5.09 | U32: 0.24 | V32: 0.6208 | W32: 0.31 | X32: 0.23 | Y32: =+O32-T32 -> 0.0065478821 | Z32: =+P32-U32 -> 0.0057785407 | AA32: =+Q32-V32 -> 61.46558 | AB32: =+R32-W32 -> 0.0012157994 | AC32: =+S32-X32 -> 0.0047256344 | AD32: =H32-J32 -> 3926304385 | AE32: =IF(O32<$H$14,"NO HABILITADO",IF(P32>$I$14,"NO HABILITADO",IF(Q32<$J$14,"NO HABILITADO",IF(R32<$K$14,"NO HABILITADO",IF(S32<$L$14,"NO HABILITADO",IF(AD32<$M$14,"NO HABILITADO","HABILITADO")))))) -> HABILITADO | AF32: PEQUEÑA EMPRESA
B33: 6 | C33: 2023 | D33: =CONCATENATE(C33,F33) -> 2023CONSORCIO SERVICOL-SISCOM | F33: CONSORCIO SERVICOL-SISCOM | G33: 1 | O33: =O34 -> 8.5165875 | P33: =P34 -> 0.13439607 | Q33: =Q34 -> 71.468416 | R33: =R34 -> 1.1881288 | S33: =S34 -> 1.028449 | AD33: =AD34 -> 1314262987 | AE33: =IF(O33<$H$14,"NO HABILITADO",IF(P33>$I$14,"NO HABILITADO",IF(Q33<$J$14,"NO HABILITADO",IF(R33<$K$14,"NO HABILITADO",IF(S33<$L$14,"NO HABILITADO",IF(AD33<$M$14,"NO HABILITADO","HABILITADO")))))) -> HABILITADO | AF33: CONSORCIO
B34: 6.1 | C34: 2023 | F34: CONSORCIO SERVICOL-SISCOM | G34: 1 | H34: 1489111345 | I34: 1701562776 | J34: 174848358 | K34: 228683357 | L34: 1472879419 | M34: 1749970496 | N34: 24485928 | O34: =+H34/J34 -> 8.5165875 | P34: =+K34/I34 -> 0.13439607 | Q34: =+M34/N34 -> 71.468416 | R34: =+M34/L34 -> 1.1881288 | S34: =+M34/I34 -> 1.028449 | Y34: =+O34-T34 -> 8.5165875 | Z34: =+P34-U34 -> 0.13439607 | AA34: =+Q34-V34 -> 71.468416 | AB34: =+R34-W34 -> 1.1881288 | AC34: =+S34-X34 -> 1.028449 | AD34: =H34-J34 -> 1314262987 | AE34: =IF(O34<$H$14,"NO HABILITADO",IF(P34>$I$14,"NO HABILITADO",IF(Q34<$J$14,"NO HABILITADO",IF(R34<$K$14,"NO HABILITADO",IF(S34<$L$14,"NO HABILITADO",IF(AD34<$M$14,"NO HABILITADO","HABILITADO")))))) -> HABILITADO | AF34: CONSORCIO

Sheet 4.1. EVALUACIÓN
C1: ='4. CALCULOS'!F2 -> FONDO DE DESARROLLO LOCAL DE TEUSAQUILLO
C2: =+'4. CALCULOS'!F4 -> SELECCIÓN ABREVIADA POR SUBASTA INVERSA
C3: ='4. CALCULOS'!F3 -> PROCESO FDLT-SASI-388-2024 (120880)-LOTE 1
C4: FORMATO EVALUACIÓN PRELIMINAR CAPACIDAD FINANCIERA Y ORGANIZACIONAL DEL PROPONENTE
C6: OBJETO: | G6: ='4. CALCULOS'!E7 -> “ADQUIRIR A TITULO DE COMPRAVENTA A MONTO AGOTABLE ELEMENTOS DE MOBILIARIO INSTITUCIONAL, TECNOLOGIA, AUDIOVISUALES Y TECNOLOGIA COMPUTADORES PARA LA DOTACION PEDAGOGICA DE LAS INSTITUCIONES EDUCATIVAS DE LA LOCALIDAD DE TEUSAQUILLO EN EL MARCO DE LOS PROYECTOS: 2049 “TEUSAQUILLO ENTORNO PROTECTOR PARA LOS NIÑOS Y LAS NIÑAS Y LAS NIÑAS DE CONFORMIDAD CON LAS DISPOSICIONES TÉCNICAS ESTABLECIDAS” Y 2157 “TEUSAQUILLO RESPIRA EDUCACION” DE CONFORMIDAD CON LAS ESPECIFICACIONES TÉCNICAS”.
C8: INDICADORES DEL PROCESO | G8: INDICE DE LIQUIDEZ | H8: INDICE DE ENDEUDAMIENTO | I8: RAZON DE COBERTURA DE INTERES | J8: RENTABILIDAD DEL PATRIMONIO | K8: RENTABILIDAD DEL ACTIVO | L8: CAPITAL DE TRABAJO
G9: =+'4. CALCULOS'!H13 -> > O = a 1,88 | H9: =+'4. CALCULOS'!I13 -> < O = a 0,48% | I9: =+'4. CALCULOS'!J13 -> > O = a 2,34 | J9: =+'4. CALCULOS'!K13 -> > O = a 0,19 | K9: =+'4. CALCULOS'!L13 -> > O = a 0,08 | L9: =+'4. CALCULOS'!M13 -> 56074180
G10: 1.88 | H10: 0.48 | I10: 2.34 | J10: 0.19 | K10: 0.08 | L10: =L9 -> 56074180
C11: INDICADORES DEL PROCESO CUMPLIMIENTO AL DECRETO 1860 DE 2021 | G11: INDICE DE LIQUIDEZ | H11: INDICE DE ENDEUDAMIENTO | I11: RAZON DE COBERTURA DE INTERES | J11: RENTABILIDAD DEL PATRIMONIO | K11: RENTABILIDAD DEL ACTIVO | L11: CAPITAL DE TRABAJO
G15: INDICADORES FINANCIEROS | M15: RESULTADOS
C16: OFERTA | D16: AÑO | E16: AÑO_NOMBRE | F16: NOMBRE DEL PROPONENTE | G16: INDICE DE LIQUIDEZ | H16: INDICE DE ENDEUDAMIENTO | I16: RAZON DE COBERTURA DE INTERES | J16: RENTABILIDAD DEL PATRIMONIO | K16: RENTABILIDAD DEL ACTIVO | L16: CAPITAL DE TRABAJO | M16: CUMPLE/ NO CUMPLE | N16: OBSERVACIONES
C17: 1 | D17: 2023 | E17: =CONCATENATE(D17,F17) -> 2023COMERCIALIZADORA E&T SAS | F17: COMERCIALIZADORA E&T SAS | G17: =VLOOKUP(E17,'4. CALCULOS'!D22:O34,12,FALSE) -> 45.194834 | H17: =VLOOKUP(E17,'4. CALCULOS'!D22:P34,13,FALSE) -> 0.17354364 | I17: =VLOOKUP(E17,'4. CALCULOS'!D22:Q34,14,FALSE) -> 55.263942 | J17: =VLOOKUP(E17,'4. CALCULOS'!D22:R34,15,FALSE) -> 0.48172399 | K17: =VLOOKUP(E17,'4. CALCULOS'!D22:S34,16,FALSE) -> 0.39812386 | L17: =VLOOKUP(E17,'4. CALCULOS'!D22:AD34,27,FALSE) -> 960558463 | M17: =IF(G17<$G$10,"NO CUMPLE",IF(H17>$H$10,"NO CUMPLE",IF(I17<$I$10,"NO CUMPLE",IF(J17<$J$10,"NO CUMPLE",IF(K17<$K$10,"NO CUMPLE",IF(L17<$L$10,"NO CUMPLE","CUMPLE")))))) -> CUMPLE
C18: 2 | D18: 2023 | E18: =CONCATENATE(D18,F18) -> 2023GRUPO EMPRESARIAL SACSU SAS | F18: GRUPO EMPRESARIAL SACSU SAS | G18: =VLOOKUP(E18,'4. CALCULOS'!D23:O35,12,FALSE) -> 14.911864 | H18: =VLOOKUP(E18,'4. CALCULOS'!D23:P35,13,FALSE) -> 0.080894776 | I18: IND | J18: =VLOOKUP(E18,'4. CALCULOS'!D23:R35,15,FALSE) -> 0.47601383 | K18: =VLOOKUP(E18,'4. CALCULOS'!D23:S35,16,FALSE) -> 0.4375068 | L18: =VLOOKUP(E18,'4. CALCULOS'!D23:AD35,27,FALSE) -> 539502088 | M18: =IF(G18<$G$10,"NO CUMPLE",IF(H18>$H$10,"NO CUMPLE",IF(I18<$I$10,"NO CUMPLE",IF(J18<$J$10,"NO CUMPLE",IF(K18<$K$10,"NO CUMPLE",IF(L18<$L$10,"NO CUMPLE","CUMPLE")))))) -> CUMPLE
C19: 3 | D19: 2023 | E19: =CONCATENATE(D19,F19) -> 2023UNIÓN TEMPORAL CAPITAL GROUP | F19: UNIÓN TEMPORAL CAPITAL GROUP | G19: =VLOOKUP(E19,'4. CALCULOS'!D24:O36,12,FALSE) -> 6.957783 | H19: =VLOOKUP(E19,'4. CALCULOS'!D24:P36,13,FALSE) -> 0.13518154 | I19: IND | J19: =VLOOKUP(E19,'4. CALCULOS'!D24:R36,15,FALSE) -> 0.22073401 | K19: =VLOOKUP(E19,'4. CALCULOS'!D24:S36,16,FALSE) -> 0.19089484 | L19: =VLOOKUP(E19,'4. CALCULOS'!D24:AD36,27,FALSE) -> 1121970199 | M19: =IF(G19<$G$10,"NO CUMPLE",IF(H19>$H$10,"NO CUMPLE",IF(I19<$I$10,"NO CUMPLE",IF(J19<$J$10,"NO CUMPLE",IF(K19<$K$10,"NO CUMPLE",IF(L19<$L$10,"NO CUMPLE","CUMPLE")))))) -> CUMPLE
C20: 4 | D20: 2023 | E20: =CONCATENATE(D20,F20) -> 2023SECURITY VIDEO EQUIPMENT SAS | F20: SECURITY VIDEO EQUIPMENT SAS | G20: =VLOOKUP(E20,'4. CALCULOS'!D25:O37,12,FALSE) -> 3.9326867 | H20: =VLOOKUP(E20,'4. CALCULOS'!D25:P37,13,FALSE) -> 0.24306813 | I20: =VLOOKUP(E20,'4. CALCULOS'!D25:Q37,14,FALSE) -> 211.12149 | J20: =VLOOKUP(E20,'4. CALCULOS'!D25:R37,15,FALSE) -> 0.13357508 | K20: =VLOOKUP(E20,'4. CALCULOS'!D25:S37,16,FALSE) -> 0.10110724 | L20: =VLOOKUP(E20,'4. CALCULOS'!D25:AD37,27,FALSE) -> 17886195085 | M20: =IF(G20<$G$10,"NO CUMPLE",IF(H20>$H$10,"NO CUMPLE",IF(I20<$I$10,"NO CUMPLE",IF(J20<$J$10,"NO CUMPLE",IF(K20<$K$10,"NO CUMPLE",IF(L20<$L$10,"NO CUMPLE","CUMPLE")))))) -> NO CUMPLE | N20: EL OFERENTE NO CUMPLE CON EL ROE RENTABILIDAD DEL PATRIMONIO
C21: 5 | D21: 2023 | E21: =CONCATENATE(D21,F21) -> 2023COMERCIALIZADORA SERLE.COM S.A.S | F21: COMERCIALIZADORA SERLE.COM S.A.S | G21: =VLOOKUP(E21,'4. CALCULOS'!D26:O38,12,FALSE) -> 5.0965479 | H21: =VLOOKUP(E21,'4. CALCULOS'!D26:P38,13,FALSE) -> 0.24577854 | I21: =VLOOKUP(E21,'4. CALCULOS'!D26:Q38,14,FALSE) -> 62.08638 | J21: =VLOOKUP(E21,'4. CALCULOS'!D26:R38,15,FALSE) -> 0.3112158 | K21: =VLOOKUP(E21,'4. CALCULOS'!D26:S38,16,FALSE) -> 0.23472563 | L21: =VLOOKUP(E21,'4. CALCULOS'!D26:AD38,27,FALSE) -> 3926304385 | M21: =IF(G21<$G$10,"NO CUMPLE",IF(H21>$H$10,"NO CUMPLE",IF(I21<$I$10,"NO CUMPLE",IF(J21<$J$10,"NO CUMPLE",IF(K21<$K$10,"NO CUMPLE",IF(L21<$L$10,"NO CUMPLE","CUMPLE")))))) -> CUMPLE
C22: 6 | D22: 2023 | E22: =CONCATENATE(D22,F22) -> 2023CONSORCIO SERVICOL-SISCOM | F22: CONSORCIO SERVICOL-SISCOM | G22: =VLOOKUP(E22,'4. CALCULOS'!D27:O39,12,FALSE) -> 8.5165875 | H22: =VLOOKUP(E22,'4. CALCULOS'!D27:P39,13,FALSE) -> 0.13439607 | I22: =VLOOKUP(E22,'4. CALCULOS'!D27:Q39,14,FALSE) -> 71.468416 | J22: =VLOOKUP(E22,'4. CALCULOS'!D27:R39,15,FALSE) -> 1.1881288 | K22: =VLOOKUP(E22,'4. CALCULOS'!D27:S39,16,FALSE) -> 1.028449 | L22: =VLOOKUP(E22,'4. CALCULOS'!D27:AD39,27,FALSE) -> 1314262987 | M22: =IF(G22<$G$10,"NO CUMPLE",IF(H22>$H$10,"NO CUMPLE",IF(I22<$I$10,"NO CUMPLE",IF(J22<$J$10,"NO CUMPLE",IF(K22<$K$10,"NO CUMPLE",IF(L22<$L$10,"NO CUMPLE","CUMPLE")))))) -> CUMPLE
C24: * Nota: Nota: Si el proponente es un consorcio, unión temporal o cualquier otra modalidad de asociación, cada uno de sus integrantes deberá allegar el Correspondiente Certificado de Registro Único de Proponentes con la información financiera a 31 de diciembre de 2023. La evaluación financiera y organizacional de las propuestas se efectuará a partir de la información contenida en el RUP vigente y en firme. En tal sentido, la evaluación de la capacidad financiera se realizará de acuerdo con la información reportada en el Registro, de acuerdo con las disposiciones establecidas en la Subsección 5, de la Sección 1, del Capítulo 1, del Título 1, de la Parte 2 del Decreto 1082 de 2015, o las normas que las modifiquen, adicionen o sustituyan. En todo caso, “Si el interesado no tiene antigüedad suficiente para tener estados financieros auditados a 31 de diciembre, debe inscribirse con estados financieros de corte trimestral, suscritos por el representante legal y el auditor o contador o estados financieros de apertura”. En este contexto, los indicadores de capacidad financiera y organizacional ya no corresponderán a los últimos tres (3) años fiscales anteriores a la inscripción o renovación. Asimismo, con la pérdida de vigencia de los parágrafo transitorios de los artículos 2.2.1.1.1.5.2 y 2.2.1.1.1.5.6 del Decreto 1082 de 2015, el parágrafo transitorio del artículo 2.2.1.1.1.6.2 ibidem –adicionados por el art. 6 del Decreto 399 de 2021 y sustituido por el art. 3 del Decreto 579 de 2021– es inaplicable por sustracción de materia. En consecuencia, cesa la posibilidad de acreditar los indicadores de los numerales 3 y 4 artículo 2.2.1.1.1.5.3 ibidem teniendo en cuenta el mejor año fiscal que se refleje en el registro de cada proponente. Estas normas transitorias no perdieron su vigencia con la finalización de la emergencia sanitaria, pues el Decreto 1041 de 2022 –al prorrogar las medidas de los Decretos 399 y 579 de 2021– las extendió durante el 2023, vigencia fiscal que finalizó el 31 de diciembre pasado. En consecuencia, una interpretación razonable permite concluir que a partir del 1° de enero de 2024 los indicadores deben acreditarse frente a la Cámara de Comercio conforme a las reglas de generales del Decreto 1082 de 2015, es decir, con la información contable del año inmediatamente anterior –nums. 1.3 y 2.3 del artículo 2.2.1.1.1.5.2 del Decreto 1082 de 2015–.
C25: COMITÉ EVALUADOR
C30: JAIME CAMILO RONCANCIO JARAMILLO
C31: Profesional(es) de Planeación

Sheet 6. Consolidado Habilitantes pre
B1: FONDO DE DESARROLLO LOCAL DE TEUSAQUILLO
B2: SELECCIÓN ABREVIADA SUBASTA INVERSA
B3: =+Datos!B3 -> FDLT-SASI-388-2024 (120880) LOTE 1
B4: CONSOLIDADO VERIFICACIÓN PRELIMINAR HABILITANTE
B6: OBJETO: | D6: =+Datos!B2 -> “ADQUIRIR A TITULO DE COMPRAVENTA A MONTO AGOTABLE ELEMENTOS DE MOBILIARIO INSTITUCIONAL , TECNOLOGIA, AUDIOVISUALES Y TECNOLOGIA COMPUTADORES PARA LA DOTACION PEDAGOGICA DE LAS INSTITUCIONES EDUCATIVAS DE LA LOCALIDAD DE TEUSAQUILLO EN EL MARCO DE LOS PROYECTOS: 2049 “TEUSAQUILLO ENTORNO PROTECTOR PARA LOS NIÑOS Y LAS NIÑAS Y LAS NIÑAS DE CONFORMIDAD CON LAS DISPOSICIONES TÉCNICAS ESTABLECIDAS” Y 2157 “TEUSAQUILLO RESPIRA EDUCACION” DE CONFORMIDAD CON LAS ESPECIFICACIONES TÉCNICAS ”.
B8: No. | C8: PROPONENTE | D8: REQUISITOS HABILITANTES TÉCNICOS | I8: RESUMEN HABILITADO / NO HABILITADO | K8: OBSERVACIONES
D9: 1. REQUISITOS EXPERIENCIA MÍNIMA HABILITANTE-GENERAL | E9: 2. ACEPTACIÓN ANEXO TÉCNICO | F9: 3. REQUISITO BUENAS PRÁCTICAS AMBIENTALES | G9: 4. REQUISITOS INDICADORES FINANCIEROS | H9: 5. REQUISITOS JURIDICOS
D10: CRITERIO | E10: CRITERIO | F10: CRITERIO | G10: CRITERIO | H10: CRITERIO
B11: 1 | C11: COMERCIALIZADORA EYT SAS | D11: NO CUMPLE | E11: NO CUMPLE | F11: CUMPLE | G11: CUMPLE | H11: CUMPLE | I11: NO HABILITADO | K11: * Ver evaluación experiencia mínima habilitante-general * Ver aceptación anexo técnico
B12: 2 | C12: GRUPO EMPRESARIAL SACSU SAS | D12: CUMPLE | E12: CUMPLE | F12: CUMPLE | G12: CUMPLE | H12: CUMPLE | I12: HABILITADO
B13: 3 | C13: UNION TEMPORAL CAPITAL GROUP | D13: CUMPLE | E13: CUMPLE | F13: CUMPLE | G13: CUMPLE | H13: CUMPLE | I13: HABILITADO
B14: 4 | C14: SECURYTI VIDEO EQUIPMENT SAS | D14: CUMPLE | E14: CUMPLE | F14: CUMPLE | G14: NO CUMPLE | H14: CUMPLE | I14: NO HABILITADO | K14: *vVer evvaluación financiiera
B15: 5 | C15: COMERCIALIZADORA SERLE.COM | D15: CUMPLE | E15: CUMPLE | F15: CUMPLE | G15: CUMPLE | H15: CUMPLE | I15: HABILITADO
B16: 6 | C16: SERVICOL-SISCOM | D16: CUMPLE | E16: CUMPLE | F16: CUMPLE | G16: CUMPLE | H16: CUMPLE | I16: HABILITADO
B18: COMITÉ EVALUADOR
C22: LAURA ISABEL BUITRAGO PEÑA | D22: JAIME CAMILO RONCANCIO JARAMILLO | I22: VALENTINA CIFUENTES MUÑOZ
C23: Evaluador Técnico | D23: Evaluador Financiero | I23: Evaluador Juridico
B26: Profesional(es) de Planeación
B27: =Datos!B3 -> FDLT-SASI-388-2024 (120880) LOTE 1
