Workbook
Name \0: #REF!
Name \0: #REF!
Name \0: #REF!
Name \b: #REF!
Name \b: #REF!
Name \b: #REF!
Name \b: #REF!
Name \c: #REF!
Name \d: #REF!
Name \d: #REF!
Name \d: #REF!
Name \e: #REF!
Name \g: #REF!
Name \g: #REF!
Name \g: #REF!
Name \i: #REF!
Name \i: #REF!
Name \i: #REF!
Name \i: #REF!
Name \m: #REF!
Name \m: #REF!
Name \m: #REF!
Name \m: #REF!
Name \n: #REF!
Name \n: #REF!
Name \n: #REF!
Name \PX: #REF!
Name \PX: #REF!
Name \PX: #REF!
Name \PX: #REF!
Name \r: #REF!
Name \r: #REF!
Name \r: #REF!
Name \t: #REF!
Name \t: #REF!
Name \t: #REF!
Name \X: #N/A
Name \Z: #N/A
Name ____________________________________APU221: #REF!
Name ____________________________________APU221: #REF!
Name ____________________________________APU221: #REF!
Name ____________________________________APU465: #REF!
Name ____________________________________APU465: #REF!
Name ____________________________________APU465: #REF!
Name ____________________________________APU465: #REF!
Name ____________________________________APU465: #REF!
Name ____________________________________APU465: #REF!
Name ____________________________________APU465: #REF!
Name ____________________________________APU465: #REF!
Name ____________________________________APU465: #REF!
Name ____________________________________APU465: #REF!
Name ____________________________________PJ50: #REF!
Name ____________________________________pj51: #REF!
Name __________________________________APU221: #REF!
Name __________________________________APU465: #REF!
Name __________________________________APU465: #REF!
Name __________________________________APU465: #REF!
Name __________________________________APU465: #REF!
Name __________________________________APU465: #REF!
Name __________________________________APU465: #REF!

Sheet PPTO PRIORIZADA
A1: =I2 -> PAVIMENTACIÓN DE VÍAS URBANAS DEL MUNICIPIO DE CHAPARRAL – DEPARTAMENTO DEL TOLIMA
I2: PAVIMENTACIÓN DE VÍAS URBANAS DEL MUNICIPIO DE CHAPARRAL – DEPARTAMENTO DEL TOLIMA
A5: ITEM | B5: ITEM DE PAGO | C5: DESCRIPCION | D5: UN | E5: CANTIDAD | F5: VR UNITARIO | G5: VALOR TOTAL
C6: PRELIMINARES Y EXPLANACIONES
A7: 1 | B7: 1P | C7: LOCALIZACIÓN Y REPLANTEO | D7: M2 | E7: =_xlfn.IFNA(VLOOKUP(B7,'C.1'!$B$7:$E$206,4,0),0)+_xlfn.IFNA(VLOOKUP(B7,'C.2'!$B$7:$E$206,4,0),0)+_xlfn.IFNA(VLOOKUP(B7,'C.3'!$B$7:$E$206,4,0),0)+_xlfn.IFNA(VLOOKUP(B7,'C.4'!$B$7:$E$206,4,0),0)+_xlfn.IFNA(VLOOKUP(B7,#REF!,4,0),0)+_xlfn.IFNA(VLOOKUP(B7,'C.6'!$B$7:$E$206,4,0),0)+_xlfn.IFNA(VLOOKUP(B7,'C.7'!$B$7:$E$206,4,0),0)+_xlfn.IFNA(VLOOKUP(B7,'C.8'!$B$7:$E$206,4,0),0)+_xlfn.IFNA(VLOOKUP(B7,'C.9'!$B$7:$E$205,4,0),0)+_xlfn.IFNA(VLOOKUP(B7,'C.10'!$B$7:$E$206,4,0),0)+_xlfn.IFNA(VLOOKUP(B7,'C.11'!$B$7:$E$206,4,0),0)+_xlfn.IFNA(VLOOKUP(B7,'C.12'!$B$7:$E$205,4,0),0)+_xlfn.IFNA(VLOOKUP(B7,'C.13'!$B$7:$E$207,4,0),0)+_xlfn.IFNA(VLOOKUP(B7,'C.14'!$B$7:$E$205,4,0),0)+_xlfn.IFNA(VLOOKUP(B7,'C.15'!$B$7:$E$206,4,0),0)+_xlfn.IFNA(VLOOKUP(B7,'C.16'!$B$7:$E$207,4,0),0) -> #REF! | F7: =+#REF! -> #REF! | G7: =F7*E7 -> #REF! | I7: =_xlfn.IFNA(VLOOKUP(B7,'C.6'!$B$7:$E$207,4,0),0) -> 0 | J7: =F7*I7 -> #REF!
A8: 2 | B8: 5P | C8: EXPLANACION Y CAJEO | D8: M3 | E8: =_xlfn.IFNA(VLOOKUP(B8,'C.1'!$B$7:$E$206,4,0),0)+_xlfn.IFNA(VLOOKUP(B8,'C.2'!$B$7:$E$206,4,0),0)+_xlfn.IFNA(VLOOKUP(B8,'C.3'!$B$7:$E$206,4,0),0)+_xlfn.IFNA(VLOOKUP(B8,'C.4'!$B$7:$E$206,4,0),0)+_xlfn.IFNA(VLOOKUP(B8,#REF!,4,0),0)+_xlfn.IFNA(VLOOKUP(B8,'C.6'!$B$7:$E$206,4,0),0)+_xlfn.IFNA(VLOOKUP(B8,'C.7'!$B$7:$E$206,4,0),0)+_xlfn.IFNA(VLOOKUP(B8,'C.8'!$B$7:$E$206,4,0),0)+_xlfn.IFNA(VLOOKUP(B8,'C.9'!$B$7:$E$205,4,0),0)+_xlfn.IFNA(VLOOKUP(B8,'C.10'!$B$7:$E$206,4,0),0)+_xlfn.IFNA(VLOOKUP(B8,'C.11'!$B$7:$E$206,4,0),0)+_xlfn.IFNA(VLOOKUP(B8,'C.12'!$B$7:$E$205,4,0),0)+_xlfn.IFNA(VLOOKUP(B8,'C.13'!$B$7:$E$207,4,0),0)+_xlfn.IFNA(VLOOKUP(B8,'C.14'!$B$7:$E$205,4,0),0)+_xlfn.IFNA(VLOOKUP(B8,'C.15'!$B$7:$E$206,4,0),0)+_xlfn.IFNA(VLOOKUP(B8,'C.16'!$B$7:$E$207,4,0),0) -> #REF! | F8: =#REF! -> #REF! | G8: =F8*E8 -> #REF! | I8: =_xlfn.IFNA(VLOOKUP(B8,'C.6'!$B$7:$E$207,4,0),0) -> 0 | J8: =F8*I8 -> #REF!
A9: 3 | B9: 6P | C9: CARGUE Y DISPOSICIÓN DE SOBRANTES A MÁQUINA. (NO INCLUYE TRANSPORTE) | D9: M3/COMP | E9: =_xlfn.IFNA(VLOOKUP(B9,'C.1'!$B$7:$E$206,4,0),0)+_xlfn.IFNA(VLOOKUP(B9,'C.2'!$B$7:$E$206,4,0),0)+_xlfn.IFNA(VLOOKUP(B9,'C.3'!$B$7:$E$206,4,0),0)+_xlfn.IFNA(VLOOKUP(B9,'C.4'!$B$7:$E$206,4,0),0)+_xlfn.IFNA(VLOOKUP(B9,#REF!,4,0),0)+_xlfn.IFNA(VLOOKUP(B9,'C.6'!$B$7:$E$206,4,0),0)+_xlfn.IFNA(VLOOKUP(B9,'C.7'!$B$7:$E$206,4,0),0)+_xlfn.IFNA(VLOOKUP(B9,'C.8'!$B$7:$E$206,4,0),0)+_xlfn.IFNA(VLOOKUP(B9,'C.9'!$B$7:$E$205,4,0),0)+_xlfn.IFNA(VLOOKUP(B9,'C.10'!$B$7:$E$206,4,0),0)+_xlfn.IFNA(VLOOKUP(B9,'C.11'!$B$7:$E$206,4,0),0)+_xlfn.IFNA(VLOOKUP(B9,'C.12'!$B$7:$E$205,4,0),0)+_xlfn.IFNA(VLOOKUP(B9,'C.13'!$B$7:$E$207,4,0),0)+_xlfn.IFNA(VLOOKUP(B9,'C.14'!$B$7:$E$205,4,0),0)+_xlfn.IFNA(VLOOKUP(B9,'C.15'!$B$7:$E$206,4,0),0)+_xlfn.IFNA(VLOOKUP(B9,'C.16'!$B$7:$E$207,4,0),0) -> #REF! | F9: =#REF! -> #REF! | G9: =F9*E9 -> #REF! | I9: =_xlfn.IFNA(VLOOKUP(B9,'C.6'!$B$7:$E$207,4,0),0) -> 0 | J9: =F9*I9 -> #REF!
A10: 4 | B10: 7P | C10: SUMINISTRO EXTENDIDA Y COMPACTACIÓN DE RECEBO EN ZANJA COMPACTADA C/15CM. MEDIO MECANICO. (NO INCLUYE TRANSPORTE) | D10: M3/COMP | E10: =_xlfn.IFNA(VLOOKUP(B10,'C.1'!$B$7:$E$206,4,0),0)+_xlfn.IFNA(VLOOKUP(B10,'C.2'!$B$7:$E$206,4,0),0)+_xlfn.IFNA(VLOOKUP(B10,'C.3'!$B$7:$E$206,4,0),0)+_xlfn.IFNA(VLOOKUP(B10,'C.4'!$B$7:$E$206,4,0),0)+_xlfn.IFNA(VLOOKUP(B10,#REF!,4,0),0)+_xlfn.IFNA(VLOOKUP(B10,'C.6'!$B$7:$E$206,4,0),0)+_xlfn.IFNA(VLOOKUP(B10,'C.7'!$B$7:$E$206,4,0),0)+_xlfn.IFNA(VLOOKUP(B10,'C.8'!$B$7:$E$206,4,0),0)+_xlfn.IFNA(VLOOKUP(B10,'C.9'!$B$7:$E$205,4,0),0)+_xlfn.IFNA(VLOOKUP(B10,'C.10'!$B$7:$E$206,4,0),0)+_xlfn.IFNA(VLOOKUP(B10,'C.11'!$B$7:$E$206,4,0),0)+_xlfn.IFNA(VLOOKUP(B10,'C.12'!$B$7:$E$205,4,0),0)+_xlfn.IFNA(VLOOKUP(B10,'C.13'!$B$7:$E$207,4,0),0)+_xlfn.IFNA(VLOOKUP(B10,'C.14'!$B$7:$E$205,4,0),0)+_xlfn.IFNA(VLOOKUP(B10,'C.15'!$B$7:$E$206,4,0),0)+_xlfn.IFNA(VLOOKUP(B10,'C.16'!$B$7:$E$207,4,0),0) -> #REF! | F10: =#REF! -> #REF! | G10: =F10*E10 -> #REF! | I10: =_xlfn.IFNA(VLOOKUP(B10,'C.6'!$B$7:$E$207,4,0),0) -> 0 | J10: =F10*I10 -> #REF!
A11: 5 | B11: 8P | C11: ACARREO INTERNO EN OBRA HASTA 50M | D11: M3 | E11: =_xlfn.IFNA(VLOOKUP(B11,'C.1'!$B$7:$E$206,4,0),0)+_xlfn.IFNA(VLOOKUP(B11,'C.2'!$B$7:$E$206,4,0),0)+_xlfn.IFNA(VLOOKUP(B11,'C.3'!$B$7:$E$206,4,0),0)+_xlfn.IFNA(VLOOKUP(B11,'C.4'!$B$7:$E$206,4,0),0)+_xlfn.IFNA(VLOOKUP(B11,#REF!,4,0),0)+_xlfn.IFNA(VLOOKUP(B11,'C.6'!$B$7:$E$206,4,0),0)+_xlfn.IFNA(VLOOKUP(B11,'C.7'!$B$7:$E$206,4,0),0)+_xlfn.IFNA(VLOOKUP(B11,'C.8'!$B$7:$E$206,4,0),0)+_xlfn.IFNA(VLOOKUP(B11,'C.9'!$B$7:$E$205,4,0),0)+_xlfn.IFNA(VLOOKUP(B11,'C.10'!$B$7:$E$206,4,0),0)+_xlfn.IFNA(VLOOKUP(B11,'C.11'!$B$7:$E$206,4,0),0)+_xlfn.IFNA(VLOOKUP(B11,'C.12'!$B$7:$E$205,4,0),0)+_xlfn.IFNA(VLOOKUP(B11,'C.13'!$B$7:$E$207,4,0),0)+_xlfn.IFNA(VLOOKUP(B11,'C.14'!$B$7:$E$205,4,0),0)+_xlfn.IFNA(VLOOKUP(B11,'C.15'!$B$7:$E$206,4,0),0)+_xlfn.IFNA(VLOOKUP(B11,'C.16'!$B$7:$E$207,4,0),0) -> #REF! | F11: =#REF! -> #REF! | G11: =F11*E11 -> #REF! | I11: =_xlfn.IFNA(VLOOKUP(B11,'C.6'!$B$7:$E$207,4,0),0) -> 0 | J11: =F11*I11 -> #REF!
A12: 6 | B12: 201.3P | C12: ROTURA DE PAVIMENTO FLEXIBLE e=10 CM | D12: M2 | E12: =_xlfn.IFNA(VLOOKUP(B12,'C.1'!$B$7:$E$206,4,0),0)+_xlfn.IFNA(VLOOKUP(B12,'C.2'!$B$7:$E$206,4,0),0)+_xlfn.IFNA(VLOOKUP(B12,'C.3'!$B$7:$E$206,4,0),0)+_xlfn.IFNA(VLOOKUP(B12,'C.4'!$B$7:$E$206,4,0),0)+_xlfn.IFNA(VLOOKUP(B12,#REF!,4,0),0)+_xlfn.IFNA(VLOOKUP(B12,'C.6'!$B$7:$E$206,4,0),0)+_xlfn.IFNA(VLOOKUP(B12,'C.7'!$B$7:$E$206,4,0),0)+_xlfn.IFNA(VLOOKUP(B12,'C.8'!$B$7:$E$206,4,0),0)+_xlfn.IFNA(VLOOKUP(B12,'C.9'!$B$7:$E$205,4,0),0)+_xlfn.IFNA(VLOOKUP(B12,'C.10'!$B$7:$E$206,4,0),0)+_xlfn.IFNA(VLOOKUP(B12,'C.11'!$B$7:$E$206,4,0),0)+_xlfn.IFNA(VLOOKUP(B12,'C.12'!$B$7:$E$205,4,0),0)+_xlfn.IFNA(VLOOKUP(B12,'C.13'!$B$7:$E$207,4,0),0)+_xlfn.IFNA(VLOOKUP(B12,'C.14'!$B$7:$E$205,4,0),0)+_xlfn.IFNA(VLOOKUP(B12,'C.15'!$B$7:$E$206,4,0),0)+_xlfn.IFNA(VLOOKUP(B12,'C.16'!$B$7:$E$207,4,0),0) -> #REF! | F12: ='201.3P'!N50 -> #REF! | G12: =F12*E12 -> #REF! | I12: =_xlfn.IFNA(VLOOKUP(B12,'C.6'!$B$7:$E$207,4,0),0) -> 0 | J12: =F12*I12 -> #REF!
A13: 7 | B13: 201.3 | C13: DEMOLICIÓN DE PAVIMENTO RIGIDO | D13: M3 | E13: =_xlfn.IFNA(VLOOKUP(B13,'C.1'!$B$7:$E$206,4,0),0)+_xlfn.IFNA(VLOOKUP(B13,'C.2'!$B$7:$E$206,4,0),0)+_xlfn.IFNA(VLOOKUP(B13,'C.3'!$B$7:$E$206,4,0),0)+_xlfn.IFNA(VLOOKUP(B13,'C.4'!$B$7:$E$206,4,0),0)+_xlfn.IFNA(VLOOKUP(B13,#REF!,4,0),0)+_xlfn.IFNA(VLOOKUP(B13,'C.6'!$B$7:$E$206,4,0),0)+_xlfn.IFNA(VLOOKUP(B13,'C.7'!$B$7:$E$206,4,0),0)+_xlfn.IFNA(VLOOKUP(B13,'C.8'!$B$7:$E$206,4,0),0)+_xlfn.IFNA(VLOOKUP(B13,'C.9'!$B$7:$E$205,4,0),0)+_xlfn.IFNA(VLOOKUP(B13,'C.10'!$B$7:$E$206,4,0),0)+_xlfn.IFNA(VLOOKUP(B13,'C.11'!$B$7:$E$206,4,0),0)+_xlfn.IFNA(VLOOKUP(B13,'C.12'!$B$7:$E$205,4,0),0)+_xlfn.IFNA(VLOOKUP(B13,'C.13'!$B$7:$E$207,4,0),0)+_xlfn.IFNA(VLOOKUP(B13,'C.14'!$B$7:$E$205,4,0),0)+_xlfn.IFNA(VLOOKUP(B13,'C.15'!$B$7:$E$206,4,0),0)+_xlfn.IFNA(VLOOKUP(B13,'C.16'!$B$7:$E$207,4,0),0) -> #REF! | F13: ='201.3'!N50 -> #REF! | G13: =F13*E13 -> #REF! | I13: =_xlfn.IFNA(VLOOKUP(B13,'C.6'!$B$7:$E$207,4,0),0) -> 0 | J13: =F13*I13 -> #REF!
A14: 8 | B14: 201.9 | C14: DEMOLICION DE PISOS, ANDENES Y BORDILLOS DE CONCRETO | D14: M3 | E14: =_xlfn.IFNA(VLOOKUP(B14,'C.1'!$B$7:$E$206,4,0),0)+_xlfn.IFNA(VLOOKUP(B14,'C.2'!$B$7:$E$206,4,0),0)+_xlfn.IFNA(VLOOKUP(B14,'C.3'!$B$7:$E$206,4,0),0)+_xlfn.IFNA(VLOOKUP(B14,'C.4'!$B$7:$E$206,4,0),0)+_xlfn.IFNA(VLOOKUP(B14,#REF!,4,0),0)+_xlfn.IFNA(VLOOKUP(B14,'C.6'!$B$7:$E$206,4,0),0)+_xlfn.IFNA(VLOOKUP(B14,'C.7'!$B$7:$E$206,4,0),0)+_xlfn.IFNA(VLOOKUP(B14,'C.8'!$B$7:$E$206,4,0),0)+_xlfn.IFNA(VLOOKUP(B14,'C.9'!$B$7:$E$205,4,0),0)+_xlfn.IFNA(VLOOKUP(B14,'C.10'!$B$7:$E$206,4,0),0)+_xlfn.IFNA(VLOOKUP(B14,'C.11'!$B$7:$E$206,4,0),0)+_xlfn.IFNA(VLOOKUP(B14,'C.12'!$B$7:$E$205,4,0),0)+_xlfn.IFNA(VLOOKUP(B14,'C.13'!$B$7:$E$207,4,0),0)+_xlfn.IFNA(VLOOKUP(B14,'C.14'!$B$7:$E$205,4,0),0)+_xlfn.IFNA(VLOOKUP(B14,'C.15'!$B$7:$E$206,4,0),0)+_xlfn.IFNA(VLOOKUP(B14,'C.16'!$B$7:$E$207,4,0),0) -> #REF! | F14: ='201.9'!N50 -> #REF! | G14: =F14*E14 -> #REF! | I14: =_xlfn.IFNA(VLOOKUP(B14,'C.6'!$B$7:$E$207,4,0),0) -> 0 | J14: =F14*I14 -> #REF!
E15: =_xlfn.IFNA(VLOOKUP(B15,'C.1'!$B$7:$E$206,4,0),0)+_xlfn.IFNA(VLOOKUP(B15,'C.2'!$B$7:$E$206,4,0),0)+_xlfn.IFNA(VLOOKUP(B15,'C.3'!$B$7:$E$206,4,0),0)+_xlfn.IFNA(VLOOKUP(B15,'C.4'!$B$7:$E$206,4,0),0)+_xlfn.IFNA(VLOOKUP(B15,#REF!,4,0),0)+_xlfn.IFNA(VLOOKUP(B15,'C.6'!$B$7:$E$206,4,0),0)+_xlfn.IFNA(VLOOKUP(B15,'C.7'!$B$7:$E$206,4,0),0)+_xlfn.IFNA(VLOOKUP(B15,'C.8'!$B$7:$E$206,4,0),0)+_xlfn.IFNA(VLOOKUP(B15,'C.9'!$B$7:$E$205,4,0),0)+_xlfn.IFNA(VLOOKUP(B15,'C.10'!$B$7:$E$206,4,0),0)+_xlfn.IFNA(VLOOKUP(B15,'C.11'!$B$7:$E$206,4,0),0)+_xlfn.IFNA(VLOOKUP(B15,'C.12'!$B$7:$E$205,4,0),0)+_xlfn.IFNA(VLOOKUP(B15,'C.13'!$B$7:$E$207,4,0),0)+_xlfn.IFNA(VLOOKUP(B15,'C.14'!$B$7:$E$205,4,0),0)+_xlfn.IFNA(VLOOKUP(B15,'C.15'!$B$7:$E$206,4,0),0)+_xlfn.IFNA(VLOOKUP(B15,'C.16'!$B$7:$E$207,4,0),0) -> #REF! | G15: =SUM(G7:G14) -> #REF! | I15: =_xlfn.IFNA(VLOOKUP(B15,'C.6'!$B$7:$E$207,4,0),0) -> 0 | J15: =F15*I15 -> 0
C16: EXCAVACIONES | E16: =_xlfn.IFNA(VLOOKUP(B16,'C.1'!$B$7:$E$206,4,0),0)+_xlfn.IFNA(VLOOKUP(B16,'C.2'!$B$7:$E$206,4,0),0)+_xlfn.IFNA(VLOOKUP(B16,'C.3'!$B$7:$E$206,4,0),0)+_xlfn.IFNA(VLOOKUP(B16,'C.4'!$B$7:$E$206,4,0),0)+_xlfn.IFNA(VLOOKUP(B16,#REF!,4,0),0)+_xlfn.IFNA(VLOOKUP(B16,'C.6'!$B$7:$E$206,4,0),0)+_xlfn.IFNA(VLOOKUP(B16,'C.7'!$B$7:$E$206,4,0),0)+_xlfn.IFNA(VLOOKUP(B16,'C.8'!$B$7:$E$206,4,0),0)+_xlfn.IFNA(VLOOKUP(B16,'C.9'!$B$7:$E$205,4,0),0)+_xlfn.IFNA(VLOOKUP(B16,'C.10'!$B$7:$E$206,4,0),0)+_xlfn.IFNA(VLOOKUP(B16,'C.11'!$B$7:$E$206,4,0),0)+_xlfn.IFNA(VLOOKUP(B16,'C.12'!$B$7:$E$205,4,0),0)+_xlfn.IFNA(VLOOKUP(B16,'C.13'!$B$7:$E$207,4,0),0)+_xlfn.IFNA(VLOOKUP(B16,'C.14'!$B$7:$E$205,4,0),0)+_xlfn.IFNA(VLOOKUP(B16,'C.15'!$B$7:$E$206,4,0),0)+_xlfn.IFNA(VLOOKUP(B16,'C.16'!$B$7:$E$207,4,0),0) -> #REF! | G16: =F16*E16 -> #REF! | I16: =_xlfn.IFNA(VLOOKUP(B16,'C.6'!$B$7:$E$207,4,0),0) -> 0 | J16: =F16*I16 -> 0
A17: 9 | B17: 210.2.1P | C17: EXCAVACIONES EN MATERIAL COMUN Y CONGLOMERADO EN SECO A MAQUINA (DE 0 A 2 MTS) | D17: M3 | E17: =_xlfn.IFNA(VLOOKUP(B17,'C.1'!$B$7:$E$206,4,0),0)+_xlfn.IFNA(VLOOKUP(B17,'C.2'!$B$7:$E$206,4,0),0)+_xlfn.IFNA(VLOOKUP(B17,'C.3'!$B$7:$E$206,4,0),0)+_xlfn.IFNA(VLOOKUP(B17,'C.4'!$B$7:$E$206,4,0),0)+_xlfn.IFNA(VLOOKUP(B17,#REF!,4,0),0)+_xlfn.IFNA(VLOOKUP(B17,'C.6'!$B$7:$E$206,4,0),0)+_xlfn.IFNA(VLOOKUP(B17,'C.7'!$B$7:$E$206,4,0),0)+_xlfn.IFNA(VLOOKUP(B17,'C.8'!$B$7:$E$206,4,0),0)+_xlfn.IFNA(VLOOKUP(B17,'C.9'!$B$7:$E$205,4,0),0)+_xlfn.IFNA(VLOOKUP(B17,'C.10'!$B$7:$E$206,4,0),0)+_xlfn.IFNA(VLOOKUP(B17,'C.11'!$B$7:$E$206,4,0),0)+_xlfn.IFNA(VLOOKUP(B17,'C.12'!$B$7:$E$205,4,0),0)+_xlfn.IFNA(VLOOKUP(B17,'C.13'!$B$7:$E$207,4,0),0)+_xlfn.IFNA(VLOOKUP(B17,'C.14'!$B$7:$E$205,4,0),0)+_xlfn.IFNA(VLOOKUP(B17,'C.15'!$B$7:$E$206,4,0),0)+_xlfn.IFNA(VLOOKUP(B17,'C.16'!$B$7:$E$207,4,0),0) -> #REF! | F17: =+#REF! -> #REF! | G17: =F17*E17 -> #REF! | I17: =_xlfn.IFNA(VLOOKUP(B17,'C.6'!$B$7:$E$207,4,0),0) -> 0 | J17: =F17*I17 -> #REF!
A18: 10 | B18: 210.2.2P | C18: EXCAVACIONES EN MATERIAL COMUN Y CONGLOMERADO EN SECO A MAQUINA (DE 2 A 4 MTS) | D18: M3 | E18: =_xlfn.IFNA(VLOOKUP(B18,'C.1'!$B$7:$E$206,4,0),0)+_xlfn.IFNA(VLOOKUP(B18,'C.2'!$B$7:$E$206,4,0),0)+_xlfn.IFNA(VLOOKUP(B18,'C.3'!$B$7:$E$206,4,0),0)+_xlfn.IFNA(VLOOKUP(B18,'C.4'!$B$7:$E$206,4,0),0)+_xlfn.IFNA(VLOOKUP(B18,#REF!,4,0),0)+_xlfn.IFNA(VLOOKUP(B18,'C.6'!$B$7:$E$206,4,0),0)+_xlfn.IFNA(VLOOKUP(B18,'C.7'!$B$7:$E$206,4,0),0)+_xlfn.IFNA(VLOOKUP(B18,'C.8'!$B$7:$E$206,4,0),0)+_xlfn.IFNA(VLOOKUP(B18,'C.9'!$B$7:$E$205,4,0),0)+_xlfn.IFNA(VLOOKUP(B18,'C.10'!$B$7:$E$206,4,0),0)+_xlfn.IFNA(VLOOKUP(B18,'C.11'!$B$7:$E$206,4,0),0)+_xlfn.IFNA(VLOOKUP(B18,'C.12'!$B$7:$E$205,4,0),0)+_xlfn.IFNA(VLOOKUP(B18,'C.13'!$B$7:$E$207,4,0),0)+_xlfn.IFNA(VLOOKUP(B18,'C.14'!$B$7:$E$205,4,0),0)+_xlfn.IFNA(VLOOKUP(B18,'C.15'!$B$7:$E$206,4,0),0)+_xlfn.IFNA(VLOOKUP(B18,'C.16'!$B$7:$E$207,4,0),0) -> #REF! | F18: =#REF! -> #REF! | G18: =F18*E18 -> #REF! | I18: =_xlfn.IFNA(VLOOKUP(B18,'C.6'!$B$7:$E$207,4,0),0) -> 0 | J18: =F18*I18 -> #REF!
A19: 11 | B19: 600.2.3P | C19: EXCAVACIONES VARIAS EN MATERIAL COMUN EN SECO A MANO (DE 0 A 2 MTS) | D19: M3 | E19: =_xlfn.IFNA(VLOOKUP(B19,'C.1'!$B$7:$E$206,4,0),0)+_xlfn.IFNA(VLOOKUP(B19,'C.2'!$B$7:$E$206,4,0),0)+_xlfn.IFNA(VLOOKUP(B19,'C.3'!$B$7:$E$206,4,0),0)+_xlfn.IFNA(VLOOKUP(B19,'C.4'!$B$7:$E$206,4,0),0)+_xlfn.IFNA(VLOOKUP(B19,#REF!,4,0),0)+_xlfn.IFNA(VLOOKUP(B19,'C.6'!$B$7:$E$206,4,0),0)+_xlfn.IFNA(VLOOKUP(B19,'C.7'!$B$7:$E$206,4,0),0)+_xlfn.IFNA(VLOOKUP(B19,'C.8'!$B$7:$E$206,4,0),0)+_xlfn.IFNA(VLOOKUP(B19,'C.9'!$B$7:$E$205,4,0),0)+_xlfn.IFNA(VLOOKUP(B19,'C.10'!$B$7:$E$206,4,0),0)+_xlfn.IFNA(VLOOKUP(B19,'C.11'!$B$7:$E$206,4,0),0)+_xlfn.IFNA(VLOOKUP(B19,'C.12'!$B$7:$E$205,4,0),0)+_xlfn.IFNA(VLOOKUP(B19,'C.13'!$B$7:$E$207,4,0),0)+_xlfn.IFNA(VLOOKUP(B19,'C.14'!$B$7:$E$205,4,0),0)+_xlfn.IFNA(VLOOKUP(B19,'C.15'!$B$7:$E$206,4,0),0)+_xlfn.IFNA(VLOOKUP(B19,'C.16'!$B$7:$E$207,4,0),0) -> #REF! | F19: =#REF! -> #REF! | G19: =F19*E19 -> #REF! | I19: =_xlfn.IFNA(VLOOKUP(B19,'C.6'!$B$7:$E$207,4,0),0) -> 0 | J19: =F19*I19 -> #REF!
A20: 12 | B20: 600.2.4P | C20: EXCAVACIONES VARIAS EN MATERIAL COMUN EN SECO A MANO (DE 2 A 4 MTS) | D20: M3 | E20: =_xlfn.IFNA(VLOOKUP(B20,'C.1'!$B$7:$E$206,4,0),0)+_xlfn.IFNA(VLOOKUP(B20,'C.2'!$B$7:$E$206,4,0),0)+_xlfn.IFNA(VLOOKUP(B20,'C.3'!$B$7:$E$206,4,0),0)+_xlfn.IFNA(VLOOKUP(B20,'C.4'!$B$7:$E$206,4,0),0)+_xlfn.IFNA(VLOOKUP(B20,#REF!,4,0),0)+_xlfn.IFNA(VLOOKUP(B20,'C.6'!$B$7:$E$206,4,0),0)+_xlfn.IFNA(VLOOKUP(B20,'C.7'!$B$7:$E$206,4,0),0)+_xlfn.IFNA(VLOOKUP(B20,'C.8'!$B$7:$E$206,4,0),0)+_xlfn.IFNA(VLOOKUP(B20,'C.9'!$B$7:$E$205,4,0),0)+_xlfn.IFNA(VLOOKUP(B20,'C.10'!$B$7:$E$206,4,0),0)+_xlfn.IFNA(VLOOKUP(B20,'C.11'!$B$7:$E$206,4,0),0)+_xlfn.IFNA(VLOOKUP(B20,'C.12'!$B$7:$E$205,4,0),0)+_xlfn.IFNA(VLOOKUP(B20,'C.13'!$B$7:$E$207,4,0),0)+_xlfn.IFNA(VLOOKUP(B20,'C.14'!$B$7:$E$205,4,0),0)+_xlfn.IFNA(VLOOKUP(B20,'C.15'!$B$7:$E$206,4,0),0)+_xlfn.IFNA(VLOOKUP(B20,'C.16'!$B$7:$E$207,4,0),0) -> #REF! | F20: =#REF! -> #REF! | G20: =F20*E20 -> #REF! | I20: =_xlfn.IFNA(VLOOKUP(B20,'C.6'!$B$7:$E$207,4,0),0) -> 0 | J20: =F20*I20 -> #REF!
A21: 13 | B21: 3P | C21: SUMINISTRO, EXTENDIDA Y COMPACTACIÓN DE MATERIAL PARA RELLENO ESTRUCTURAL RECEBO (NO INCLUYE TRANSPORTE) | D21: M3/COMP | E21: =_xlfn.IFNA(VLOOKUP(B21,'C.1'!$B$7:$E$206,4,0),0)+_xlfn.IFNA(VLOOKUP(B21,'C.2'!$B$7:$E$206,4,0),0)+_xlfn.IFNA(VLOOKUP(B21,'C.3'!$B$7:$E$206,4,0),0)+_xlfn.IFNA(VLOOKUP(B21,'C.4'!$B$7:$E$206,4,0),0)+_xlfn.IFNA(VLOOKUP(B21,#REF!,4,0),0)+_xlfn.IFNA(VLOOKUP(B21,'C.6'!$B$7:$E$206,4,0),0)+_xlfn.IFNA(VLOOKUP(B21,'C.7'!$B$7:$E$206,4,0),0)+_xlfn.IFNA(VLOOKUP(B21,'C.8'!$B$7:$E$206,4,0),0)+_xlfn.IFNA(VLOOKUP(B21,'C.9'!$B$7:$E$205,4,0),0)+_xlfn.IFNA(VLOOKUP(B21,'C.10'!$B$7:$E$206,4,0),0)+_xlfn.IFNA(VLOOKUP(B21,'C.11'!$B$7:$E$206,4,0),0)+_xlfn.IFNA(VLOOKUP(B21,'C.12'!$B$7:$E$205,4,0),0)+_xlfn.IFNA(VLOOKUP(B21,'C.13'!$B$7:$E$207,4,0),0)+_xlfn.IFNA(VLOOKUP(B21,'C.14'!$B$7:$E$205,4,0),0)+_xlfn.IFNA(VLOOKUP(B21,'C.15'!$B$7:$E$206,4,0),0)+_xlfn.IFNA(VLOOKUP(B21,'C.16'!$B$7:$E$207,4,0),0) -> #REF! | F21: =#REF! -> #REF! | G21: =F21*E21 -> #REF! | I21: =_xlfn.IFNA(VLOOKUP(B21,'C.6'!$B$7:$E$207,4,0),0) -> 0 | J21: =F21*I21 -> #REF!
E22: =_xlfn.IFNA(VLOOKUP(B22,'C.1'!$B$7:$E$206,4,0),0)+_xlfn.IFNA(VLOOKUP(B22,'C.2'!$B$7:$E$206,4,0),0)+_xlfn.IFNA(VLOOKUP(B22,'C.3'!$B$7:$E$206,4,0),0)+_xlfn.IFNA(VLOOKUP(B22,'C.4'!$B$7:$E$206,4,0),0)+_xlfn.IFNA(VLOOKUP(B22,#REF!,4,0),0)+_xlfn.IFNA(VLOOKUP(B22,'C.6'!$B$7:$E$206,4,0),0)+_xlfn.IFNA(VLOOKUP(B22,'C.7'!$B$7:$E$206,4,0),0)+_xlfn.IFNA(VLOOKUP(B22,'C.8'!$B$7:$E$206,4,0),0)+_xlfn.IFNA(VLOOKUP(B22,'C.9'!$B$7:$E$205,4,0),0)+_xlfn.IFNA(VLOOKUP(B22,'C.10'!$B$7:$E$206,4,0),0)+_xlfn.IFNA(VLOOKUP(B22,'C.11'!$B$7:$E$206,4,0),0)+_xlfn.IFNA(VLOOKUP(B22,'C.12'!$B$7:$E$205,4,0),0)+_xlfn.IFNA(VLOOKUP(B22,'C.13'!$B$7:$E$207,4,0),0)+_xlfn.IFNA(VLOOKUP(B22,'C.14'!$B$7:$E$205,4,0),0)+_xlfn.IFNA(VLOOKUP(B22,'C.15'!$B$7:$E$206,4,0),0)+_xlfn.IFNA(VLOOKUP(B22,'C.16'!$B$7:$E$207,4,0),0) -> #REF! | G22: =SUM(G17:G21) -> #REF! | I22: =_xlfn.IFNA(VLOOKUP(B22,'C.6'!$B$7:$E$207,4,0),0) -> 0 | J22: =F22*I22 -> 0
C23: BASES, SUBBASES Y AFIRMADOS | E23: =_xlfn.IFNA(VLOOKUP(B23,'C.1'!$B$7:$E$206,4,0),0)+_xlfn.IFNA(VLOOKUP(B23,'C.2'!$B$7:$E$206,4,0),0)+_xlfn.IFNA(VLOOKUP(B23,'C.3'!$B$7:$E$206,4,0),0)+_xlfn.IFNA(VLOOKUP(B23,'C.4'!$B$7:$E$206,4,0),0)+_xlfn.IFNA(VLOOKUP(B23,#REF!,4,0),0)+_xlfn.IFNA(VLOOKUP(B23,'C.6'!$B$7:$E$206,4,0),0)+_xlfn.IFNA(VLOOKUP(B23,'C.7'!$B$7:$E$206,4,0),0)+_xlfn.IFNA(VLOOKUP(B23,'C.8'!$B$7:$E$206,4,0),0)+_xlfn.IFNA(VLOOKUP(B23,'C.9'!$B$7:$E$205,4,0),0)+_xlfn.IFNA(VLOOKUP(B23,'C.10'!$B$7:$E$206,4,0),0)+_xlfn.IFNA(VLOOKUP(B23,'C.11'!$B$7:$E$206,4,0),0)+_xlfn.IFNA(VLOOKUP(B23,'C.12'!$B$7:$E$205,4,0),0)+_xlfn.IFNA(VLOOKUP(B23,'C.13'!$B$7:$E$207,4,0),0)+_xlfn.IFNA(VLOOKUP(B23,'C.14'!$B$7:$E$205,4,0),0)+_xlfn.IFNA(VLOOKUP(B23,'C.15'!$B$7:$E$206,4,0),0)+_xlfn.IFNA(VLOOKUP(B23,'C.16'!$B$7:$E$207,4,0),0) -> #REF! | G23: =F23*E23 -> #REF! | I23: =_xlfn.IFNA(VLOOKUP(B23,'C.6'!$B$7:$E$207,4,0),0) -> 0 | J23: =F23*I23 -> 0
A24: 14 | B24: 310.1P | C24: NIVELACION Y COMPACTACION DE SUBRASANTE | D24: M2 | E24: =_xlfn.IFNA(VLOOKUP(B24,'C.1'!$B$7:$E$206,4,0),0)+_xlfn.IFNA(VLOOKUP(B24,'C.2'!$B$7:$E$206,4,0),0)+_xlfn.IFNA(VLOOKUP(B24,'C.3'!$B$7:$E$206,4,0),0)+_xlfn.IFNA(VLOOKUP(B24,'C.4'!$B$7:$E$206,4,0),0)+_xlfn.IFNA(VLOOKUP(B24,#REF!,4,0),0)+_xlfn.IFNA(VLOOKUP(B24,'C.6'!$B$7:$E$206,4,0),0)+_xlfn.IFNA(VLOOKUP(B24,'C.7'!$B$7:$E$206,4,0),0)+_xlfn.IFNA(VLOOKUP(B24,'C.8'!$B$7:$E$206,4,0),0)+_xlfn.IFNA(VLOOKUP(B24,'C.9'!$B$7:$E$205,4,0),0)+_xlfn.IFNA(VLOOKUP(B24,'C.10'!$B$7:$E$206,4,0),0)+_xlfn.IFNA(VLOOKUP(B24,'C.11'!$B$7:$E$206,4,0),0)+_xlfn.IFNA(VLOOKUP(B24,'C.12'!$B$7:$E$205,4,0),0)+_xlfn.IFNA(VLOOKUP(B24,'C.13'!$B$7:$E$207,4,0),0)+_xlfn.IFNA(VLOOKUP(B24,'C.14'!$B$7:$E$205,4,0),0)+_xlfn.IFNA(VLOOKUP(B24,'C.15'!$B$7:$E$206,4,0),0)+_xlfn.IFNA(VLOOKUP(B24,'C.16'!$B$7:$E$207,4,0),0) -> #REF! | F24: =+#REF! -> #REF! | G24: =F24*E24 -> #REF! | I24: =_xlfn.IFNA(VLOOKUP(B24,'C.6'!$B$7:$E$207,4,0),0) -> 0 | J24: =F24*I24 -> #REF!
B25: 311.1 | C25: SUMINISTRO, EXTENDIDA Y COMPACTACIÓN DE AFIRMADO (NO INCLUYE TRANSPORTE) | D25: M3/COMP | E25: =_xlfn.IFNA(VLOOKUP(B25,'C.1'!$B$7:$E$206,4,0),0)+_xlfn.IFNA(VLOOKUP(B25,'C.2'!$B$7:$E$206,4,0),0)+_xlfn.IFNA(VLOOKUP(B25,'C.3'!$B$7:$E$206,4,0),0)+_xlfn.IFNA(VLOOKUP(B25,'C.4'!$B$7:$E$206,4,0),0)+_xlfn.IFNA(VLOOKUP(B25,#REF!,4,0),0)+_xlfn.IFNA(VLOOKUP(B25,'C.6'!$B$7:$E$206,4,0),0)+_xlfn.IFNA(VLOOKUP(B25,'C.7'!$B$7:$E$206,4,0),0)+_xlfn.IFNA(VLOOKUP(B25,'C.8'!$B$7:$E$206,4,0),0)+_xlfn.IFNA(VLOOKUP(B25,'C.9'!$B$7:$E$205,4,0),0)+_xlfn.IFNA(VLOOKUP(B25,'C.10'!$B$7:$E$206,4,0),0)+_xlfn.IFNA(VLOOKUP(B25,'C.11'!$B$7:$E$206,4,0),0)+_xlfn.IFNA(VLOOKUP(B25,'C.12'!$B$7:$E$205,4,0),0)+_xlfn.IFNA(VLOOKUP(B25,'C.13'!$B$7:$E$207,4,0),0)+_xlfn.IFNA(VLOOKUP(B25,'C.14'!$B$7:$E$205,4,0),0)+_xlfn.IFNA(VLOOKUP(B25,'C.15'!$B$7:$E$206,4,0),0)+_xlfn.IFNA(VLOOKUP(B25,'C.16'!$B$7:$E$207,4,0),0) -> #REF! | F25: =#REF! -> #REF! | G25: =F25*E25 -> #REF! | I25: =_xlfn.IFNA(VLOOKUP(B25,'C.6'!$B$7:$E$207,4,0),0) -> 0 | J25: =F25*I25 -> #REF!
A26: 15 | B26: 320.1 | C26: SUBBASE GRANULAR CLASE A | D26: M3/COMP | E26: =_xlfn.IFNA(VLOOKUP(B26,'C.1'!$B$7:$E$206,4,0),0)+_xlfn.IFNA(VLOOKUP(B26,'C.2'!$B$7:$E$206,4,0),0)+_xlfn.IFNA(VLOOKUP(B26,'C.3'!$B$7:$E$206,4,0),0)+_xlfn.IFNA(VLOOKUP(B26,'C.4'!$B$7:$E$206,4,0),0)+_xlfn.IFNA(VLOOKUP(B26,#REF!,4,0),0)+_xlfn.IFNA(VLOOKUP(B26,'C.6'!$B$7:$E$206,4,0),0)+_xlfn.IFNA(VLOOKUP(B26,'C.7'!$B$7:$E$206,4,0),0)+_xlfn.IFNA(VLOOKUP(B26,'C.8'!$B$7:$E$206,4,0),0)+_xlfn.IFNA(VLOOKUP(B26,'C.9'!$B$7:$E$205,4,0),0)+_xlfn.IFNA(VLOOKUP(B26,'C.10'!$B$7:$E$206,4,0),0)+_xlfn.IFNA(VLOOKUP(B26,'C.11'!$B$7:$E$206,4,0),0)+_xlfn.IFNA(VLOOKUP(B26,'C.12'!$B$7:$E$205,4,0),0)+_xlfn.IFNA(VLOOKUP(B26,'C.13'!$B$7:$E$207,4,0),0)+_xlfn.IFNA(VLOOKUP(B26,'C.14'!$B$7:$E$205,4,0),0)+_xlfn.IFNA(VLOOKUP(B26,'C.15'!$B$7:$E$206,4,0),0)+_xlfn.IFNA(VLOOKUP(B26,'C.16'!$B$7:$E$207,4,0),0) -> #REF! | F26: =+'320.1'!N51 -> #REF! | G26: =F26*E26 -> #REF! | I26: =_xlfn.IFNA(VLOOKUP(B26,'C.6'!$B$7:$E$207,4,0),0) -> 0 | J26: =F26*I26 -> #REF!
A27: 16 | B27: 330.1 | C27: BASE GRANULAR CLASE A | D27: M3/COMP | E27: =_xlfn.IFNA(VLOOKUP(B27,'C.1'!$B$7:$E$206,4,0),0)+_xlfn.IFNA(VLOOKUP(B27,'C.2'!$B$7:$E$206,4,0),0)+_xlfn.IFNA(VLOOKUP(B27,'C.3'!$B$7:$E$206,4,0),0)+_xlfn.IFNA(VLOOKUP(B27,'C.4'!$B$7:$E$206,4,0),0)+_xlfn.IFNA(VLOOKUP(B27,#REF!,4,0),0)+_xlfn.IFNA(VLOOKUP(B27,'C.6'!$B$7:$E$206,4,0),0)+_xlfn.IFNA(VLOOKUP(B27,'C.7'!$B$7:$E$206,4,0),0)+_xlfn.IFNA(VLOOKUP(B27,'C.8'!$B$7:$E$206,4,0),0)+_xlfn.IFNA(VLOOKUP(B27,'C.9'!$B$7:$E$205,4,0),0)+_xlfn.IFNA(VLOOKUP(B27,'C.10'!$B$7:$E$206,4,0),0)+_xlfn.IFNA(VLOOKUP(B27,'C.11'!$B$7:$E$206,4,0),0)+_xlfn.IFNA(VLOOKUP(B27,'C.12'!$B$7:$E$205,4,0),0)+_xlfn.IFNA(VLOOKUP(B27,'C.13'!$B$7:$E$207,4,0),0)+_xlfn.IFNA(VLOOKUP(B27,'C.14'!$B$7:$E$205,4,0),0)+_xlfn.IFNA(VLOOKUP(B27,'C.15'!$B$7:$E$206,4,0),0)+_xlfn.IFNA(VLOOKUP(B27,'C.16'!$B$7:$E$207,4,0),0) -> #REF! | F27: =+#REF! -> #REF! | G27: =F27*E27 -> #REF! | I27: =_xlfn.IFNA(VLOOKUP(B27,'C.6'!$B$7:$E$207,4,0),0) -> 0 | J27: =F27*I27 -> #REF!
E28: =_xlfn.IFNA(VLOOKUP(B28,'C.1'!$B$7:$E$206,4,0),0)+_xlfn.IFNA(VLOOKUP(B28,'C.2'!$B$7:$E$206,4,0),0)+_xlfn.IFNA(VLOOKUP(B28,'C.3'!$B$7:$E$206,4,0),0)+_xlfn.IFNA(VLOOKUP(B28,'C.4'!$B$7:$E$206,4,0),0)+_xlfn.IFNA(VLOOKUP(B28,#REF!,4,0),0)+_xlfn.IFNA(VLOOKUP(B28,'C.6'!$B$7:$E$206,4,0),0)+_xlfn.IFNA(VLOOKUP(B28,'C.7'!$B$7:$E$206,4,0),0)+_xlfn.IFNA(VLOOKUP(B28,'C.8'!$B$7:$E$206,4,0),0)+_xlfn.IFNA(VLOOKUP(B28,'C.9'!$B$7:$E$205,4,0),0)+_xlfn.IFNA(VLOOKUP(B28,'C.10'!$B$7:$E$206,4,0),0)+_xlfn.IFNA(VLOOKUP(B28,'C.11'!$B$7:$E$206,4,0),0)+_xlfn.IFNA(VLOOKUP(B28,'C.12'!$B$7:$E$205,4,0),0)+_xlfn.IFNA(VLOOKUP(B28,'C.13'!$B$7:$E$207,4,0),0)+_xlfn.IFNA(VLOOKUP(B28,'C.14'!$B$7:$E$205,4,0),0)+_xlfn.IFNA(VLOOKUP(B28,'C.15'!$B$7:$E$206,4,0),0)+_xlfn.IFNA(VLOOKUP(B28,'C.16'!$B$7:$E$207,4,0),0) -> #REF! | G28: =SUM(G24:G27) -> #REF! | I28: =_xlfn.IFNA(VLOOKUP(B28,'C.6'!$B$7:$E$207,4,0),0) -> 0 | J28: =F28*I28 -> 0
C29: PAVIMENTOS HIDRAULICOS | E29: =_xlfn.IFNA(VLOOKUP(B29,'C.1'!$B$7:$E$206,4,0),0)+_xlfn.IFNA(VLOOKUP(B29,'C.2'!$B$7:$E$206,4,0),0)+_xlfn.IFNA(VLOOKUP(B29,'C.3'!$B$7:$E$206,4,0),0)+_xlfn.IFNA(VLOOKUP(B29,'C.4'!$B$7:$E$206,4,0),0)+_xlfn.IFNA(VLOOKUP(B29,#REF!,4,0),0)+_xlfn.IFNA(VLOOKUP(B29,'C.6'!$B$7:$E$206,4,0),0)+_xlfn.IFNA(VLOOKUP(B29,'C.7'!$B$7:$E$206,4,0),0)+_xlfn.IFNA(VLOOKUP(B29,'C.8'!$B$7:$E$206,4,0),0)+_xlfn.IFNA(VLOOKUP(B29,'C.9'!$B$7:$E$205,4,0),0)+_xlfn.IFNA(VLOOKUP(B29,'C.10'!$B$7:$E$206,4,0),0)+_xlfn.IFNA(VLOOKUP(B29,'C.11'!$B$7:$E$206,4,0),0)+_xlfn.IFNA(VLOOKUP(B29,'C.12'!$B$7:$E$205,4,0),0)+_xlfn.IFNA(VLOOKUP(B29,'C.13'!$B$7:$E$207,4,0),0)+_xlfn.IFNA(VLOOKUP(B29,'C.14'!$B$7:$E$205,4,0),0)+_xlfn.IFNA(VLOOKUP(B29,'C.15'!$B$7:$E$206,4,0),0)+_xlfn.IFNA(VLOOKUP(B29,'C.16'!$B$7:$E$207,4,0),0) -> #REF! | G29: =F29*E29 -> #REF! | I29: =_xlfn.IFNA(VLOOKUP(B29,'C.6'!$B$7:$E$207,4,0),0) -> 0 | J29: =F29*I29 -> 0
A30: 17 | B30: 500.1.1P | C30: CONSTRUCCIÓN PLACA DE CONCRETO PREMEZCLADO MR-40 , INCLUYE ALISTADO JUNTAS Y SELLANTES. | D30: M3 | E30: =_xlfn.IFNA(VLOOKUP(B30,'C.1'!$B$7:$E$206,4,0),0)+_xlfn.IFNA(VLOOKUP(B30,'C.2'!$B$7:$E$206,4,0),0)+_xlfn.IFNA(VLOOKUP(B30,'C.3'!$B$7:$E$206,4,0),0)+_xlfn.IFNA(VLOOKUP(B30,'C.4'!$B$7:$E$206,4,0),0)+_xlfn.IFNA(VLOOKUP(B30,#REF!,4,0),0)+_xlfn.IFNA(VLOOKUP(B30,'C.6'!$B$7:$E$206,4,0),0)+_xlfn.IFNA(VLOOKUP(B30,'C.7'!$B$7:$E$206,4,0),0)+_xlfn.IFNA(VLOOKUP(B30,'C.8'!$B$7:$E$206,4,0),0)+_xlfn.IFNA(VLOOKUP(B30,'C.9'!$B$7:$E$205,4,0),0)+_xlfn.IFNA(VLOOKUP(B30,'C.10'!$B$7:$E$206,4,0),0)+_xlfn.IFNA(VLOOKUP(B30,'C.11'!$B$7:$E$206,4,0),0)+_xlfn.IFNA(VLOOKUP(B30,'C.12'!$B$7:$E$205,4,0),0)+_xlfn.IFNA(VLOOKUP(B30,'C.13'!$B$7:$E$207,4,0),0)+_xlfn.IFNA(VLOOKUP(B30,'C.14'!$B$7:$E$205,4,0),0)+_xlfn.IFNA(VLOOKUP(B30,'C.15'!$B$7:$E$206,4,0),0)+_xlfn.IFNA(VLOOKUP(B30,'C.16'!$B$7:$E$207,4,0),0) -> #REF! | F30: ='500.1.1P'!N56 -> #REF! | G30: =F30*E30 -> #REF! | I30: =_xlfn.IFNA(VLOOKUP(B30,'C.6'!$B$7:$E$207,4,0),0) -> 0 | J30: =F30*I30 -> #REF!
A31: 18 | B31: 500.1.1.1P | C31: CONSTRUCCIÓN PLACA DE CONCRETO MEZCLADO EN SITIO MR-40 , INCLUYE ALISTADO JUNTAS Y SELLANTES. | D31: M3 | E31: =_xlfn.IFNA(VLOOKUP(B31,'C.1'!$B$7:$E$206,4,0),0)+_xlfn.IFNA(VLOOKUP(B31,'C.2'!$B$7:$E$206,4,0),0)+_xlfn.IFNA(VLOOKUP(B31,'C.3'!$B$7:$E$206,4,0),0)+_xlfn.IFNA(VLOOKUP(B31,'C.4'!$B$7:$E$206,4,0),0)+_xlfn.IFNA(VLOOKUP(B31,#REF!,4,0),0)+_xlfn.IFNA(VLOOKUP(B31,'C.6'!$B$7:$E$206,4,0),0)+_xlfn.IFNA(VLOOKUP(B31,'C.7'!$B$7:$E$206,4,0),0)+_xlfn.IFNA(VLOOKUP(B31,'C.8'!$B$7:$E$206,4,0),0)+_xlfn.IFNA(VLOOKUP(B31,'C.9'!$B$7:$E$205,4,0),0)+_xlfn.IFNA(VLOOKUP(B31,'C.10'!$B$7:$E$206,4,0),0)+_xlfn.IFNA(VLOOKUP(B31,'C.11'!$B$7:$E$206,4,0),0)+_xlfn.IFNA(VLOOKUP(B31,'C.12'!$B$7:$E$205,4,0),0)+_xlfn.IFNA(VLOOKUP(B31,'C.13'!$B$7:$E$207,4,0),0)+_xlfn.IFNA(VLOOKUP(B31,'C.14'!$B$7:$E$205,4,0),0)+_xlfn.IFNA(VLOOKUP(B31,'C.15'!$B$7:$E$206,4,0),0)+_xlfn.IFNA(VLOOKUP(B31,'C.16'!$B$7:$E$207,4,0),0) -> #REF! | F31: ='500.1.1.1P'!N56 -> #REF! | G31: =F31*E31 -> #REF! | I31: =_xlfn.IFNA(VLOOKUP(B31,'C.6'!$B$7:$E$207,4,0),0) -> 0 | J31: =F31*I31 -> #REF!
A32: 19 | B32: 500.1.2P | C32: CONSTRUCCIÓN PLACA DE CONCRETO PREMEZCLADO MR-42 , INCLUYE ALISTADO JUNTAS Y SELLANTES. | D32: M3 | E32: =_xlfn.IFNA(VLOOKUP(B32,'C.1'!$B$7:$E$206,4,0),0)+_xlfn.IFNA(VLOOKUP(B32,'C.2'!$B$7:$E$206,4,0),0)+_xlfn.IFNA(VLOOKUP(B32,'C.3'!$B$7:$E$206,4,0),0)+_xlfn.IFNA(VLOOKUP(B32,'C.4'!$B$7:$E$206,4,0),0)+_xlfn.IFNA(VLOOKUP(B32,#REF!,4,0),0)+_xlfn.IFNA(VLOOKUP(B32,'C.6'!$B$7:$E$206,4,0),0)+_xlfn.IFNA(VLOOKUP(B32,'C.7'!$B$7:$E$206,4,0),0)+_xlfn.IFNA(VLOOKUP(B32,'C.8'!$B$7:$E$206,4,0),0)+_xlfn.IFNA(VLOOKUP(B32,'C.9'!$B$7:$E$205,4,0),0)+_xlfn.IFNA(VLOOKUP(B32,'C.10'!$B$7:$E$206,4,0),0)+_xlfn.IFNA(VLOOKUP(B32,'C.11'!$B$7:$E$206,4,0),0)+_xlfn.IFNA(VLOOKUP(B32,'C.12'!$B$7:$E$205,4,0),0)+_xlfn.IFNA(VLOOKUP(B32,'C.13'!$B$7:$E$207,4,0),0)+_xlfn.IFNA(VLOOKUP(B32,'C.14'!$B$7:$E$205,4,0),0)+_xlfn.IFNA(VLOOKUP(B32,'C.15'!$B$7:$E$206,4,0),0)+_xlfn.IFNA(VLOOKUP(B32,'C.16'!$B$7:$E$207,4,0),0) -> #REF! | F32: =#REF! -> #REF! | G32: =F32*E32 -> #REF! | I32: =_xlfn.IFNA(VLOOKUP(B32,'C.6'!$B$7:$E$207,4,0),0) -> 0 | J32: =F32*I32 -> #REF!
A33: 20 | B33: 500.1.3P | C33: CONSTRUCCIÓN PLACA DE CONCRETO PREMEZCLADO MR-45 , INCLUYE ALISTADO JUNTAS Y SELLANTES. | D33: M3 | E33: =_xlfn.IFNA(VLOOKUP(B33,'C.1'!$B$7:$E$206,4,0),0)+_xlfn.IFNA(VLOOKUP(B33,'C.2'!$B$7:$E$206,4,0),0)+_xlfn.IFNA(VLOOKUP(B33,'C.3'!$B$7:$E$206,4,0),0)+_xlfn.IFNA(VLOOKUP(B33,'C.4'!$B$7:$E$206,4,0),0)+_xlfn.IFNA(VLOOKUP(B33,#REF!,4,0),0)+_xlfn.IFNA(VLOOKUP(B33,'C.6'!$B$7:$E$206,4,0),0)+_xlfn.IFNA(VLOOKUP(B33,'C.7'!$B$7:$E$206,4,0),0)+_xlfn.IFNA(VLOOKUP(B33,'C.8'!$B$7:$E$206,4,0),0)+_xlfn.IFNA(VLOOKUP(B33,'C.9'!$B$7:$E$205,4,0),0)+_xlfn.IFNA(VLOOKUP(B33,'C.10'!$B$7:$E$206,4,0),0)+_xlfn.IFNA(VLOOKUP(B33,'C.11'!$B$7:$E$206,4,0),0)+_xlfn.IFNA(VLOOKUP(B33,'C.12'!$B$7:$E$205,4,0),0)+_xlfn.IFNA(VLOOKUP(B33,'C.13'!$B$7:$E$207,4,0),0)+_xlfn.IFNA(VLOOKUP(B33,'C.14'!$B$7:$E$205,4,0),0)+_xlfn.IFNA(VLOOKUP(B33,'C.15'!$B$7:$E$206,4,0),0)+_xlfn.IFNA(VLOOKUP(B33,'C.16'!$B$7:$E$207,4,0),0) -> #REF! | F33: ='500.1.3P'!N56 -> #REF! | G33: =F33*E33 -> #REF! | I33: =_xlfn.IFNA(VLOOKUP(B33,'C.6'!$B$7:$E$207,4,0),0) -> 0 | J33: =F33*I33 -> #REF!
A34: 21 | B34: 9P | C34: CANASTILLA PARA BARRA PASA JUNTA | D34: ML | E34: =_xlfn.IFNA(VLOOKUP(B34,'C.1'!$B$7:$E$206,4,0),0)+_xlfn.IFNA(VLOOKUP(B34,'C.2'!$B$7:$E$206,4,0),0)+_xlfn.IFNA(VLOOKUP(B34,'C.3'!$B$7:$E$206,4,0),0)+_xlfn.IFNA(VLOOKUP(B34,'C.4'!$B$7:$E$206,4,0),0)+_xlfn.IFNA(VLOOKUP(B34,#REF!,4,0),0)+_xlfn.IFNA(VLOOKUP(B34,'C.6'!$B$7:$E$206,4,0),0)+_xlfn.IFNA(VLOOKUP(B34,'C.7'!$B$7:$E$206,4,0),0)+_xlfn.IFNA(VLOOKUP(B34,'C.8'!$B$7:$E$206,4,0),0)+_xlfn.IFNA(VLOOKUP(B34,'C.9'!$B$7:$E$205,4,0),0)+_xlfn.IFNA(VLOOKUP(B34,'C.10'!$B$7:$E$206,4,0),0)+_xlfn.IFNA(VLOOKUP(B34,'C.11'!$B$7:$E$206,4,0),0)+_xlfn.IFNA(VLOOKUP(B34,'C.12'!$B$7:$E$205,4,0),0)+_xlfn.IFNA(VLOOKUP(B34,'C.13'!$B$7:$E$207,4,0),0)+_xlfn.IFNA(VLOOKUP(B34,'C.14'!$B$7:$E$205,4,0),0)+_xlfn.IFNA(VLOOKUP(B34,'C.15'!$B$7:$E$206,4,0),0)+_xlfn.IFNA(VLOOKUP(B34,'C.16'!$B$7:$E$207,4,0),0) -> #REF! | F34: =#REF! -> #REF! | G34: =F34*E34 -> #REF! | I34: =_xlfn.IFNA(VLOOKUP(B34,'C.6'!$B$7:$E$207,4,0),0) -> 0 | J34: =F34*I34 -> #REF!
A35: 22 | B35: 10P | C35: CORTE DE PAVIMENTO RIGIDO CON CORTADORA | D35: ML | E35: =_xlfn.IFNA(VLOOKUP(B35,'C.1'!$B$7:$E$206,4,0),0)+_xlfn.IFNA(VLOOKUP(B35,'C.2'!$B$7:$E$206,4,0),0)+_xlfn.IFNA(VLOOKUP(B35,'C.3'!$B$7:$E$206,4,0),0)+_xlfn.IFNA(VLOOKUP(B35,'C.4'!$B$7:$E$206,4,0),0)+_xlfn.IFNA(VLOOKUP(B35,#REF!,4,0),0)+_xlfn.IFNA(VLOOKUP(B35,'C.6'!$B$7:$E$206,4,0),0)+_xlfn.IFNA(VLOOKUP(B35,'C.7'!$B$7:$E$206,4,0),0)+_xlfn.IFNA(VLOOKUP(B35,'C.8'!$B$7:$E$206,4,0),0)+_xlfn.IFNA(VLOOKUP(B35,'C.9'!$B$7:$E$205,4,0),0)+_xlfn.IFNA(VLOOKUP(B35,'C.10'!$B$7:$E$206,4,0),0)+_xlfn.IFNA(VLOOKUP(B35,'C.11'!$B$7:$E$206,4,0),0)+_xlfn.IFNA(VLOOKUP(B35,'C.12'!$B$7:$E$205,4,0),0)+_xlfn.IFNA(VLOOKUP(B35,'C.13'!$B$7:$E$207,4,0),0)+_xlfn.IFNA(VLOOKUP(B35,'C.14'!$B$7:$E$205,4,0),0)+_xlfn.IFNA(VLOOKUP(B35,'C.15'!$B$7:$E$206,4,0),0)+_xlfn.IFNA(VLOOKUP(B35,'C.16'!$B$7:$E$207,4,0),0) -> #REF! | F35: =#REF! -> #REF! | G35: =F35*E35 -> #REF! | I35: =_xlfn.IFNA(VLOOKUP(B35,'C.6'!$B$7:$E$207,4,0),0) -> 0 | J35: =F35*I35 -> #REF!
E36: =_xlfn.IFNA(VLOOKUP(B36,'C.1'!$B$7:$E$206,4,0),0)+_xlfn.IFNA(VLOOKUP(B36,'C.2'!$B$7:$E$206,4,0),0)+_xlfn.IFNA(VLOOKUP(B36,'C.3'!$B$7:$E$206,4,0),0)+_xlfn.IFNA(VLOOKUP(B36,'C.4'!$B$7:$E$206,4,0),0)+_xlfn.IFNA(VLOOKUP(B36,#REF!,4,0),0)+_xlfn.IFNA(VLOOKUP(B36,'C.6'!$B$7:$E$206,4,0),0)+_xlfn.IFNA(VLOOKUP(B36,'C.7'!$B$7:$E$206,4,0),0)+_xlfn.IFNA(VLOOKUP(B36,'C.8'!$B$7:$E$206,4,0),0)+_xlfn.IFNA(VLOOKUP(B36,'C.9'!$B$7:$E$205,4,0),0)+_xlfn.IFNA(VLOOKUP(B36,'C.10'!$B$7:$E$206,4,0),0)+_xlfn.IFNA(VLOOKUP(B36,'C.11'!$B$7:$E$206,4,0),0)+_xlfn.IFNA(VLOOKUP(B36,'C.12'!$B$7:$E$205,4,0),0)+_xlfn.IFNA(VLOOKUP(B36,'C.13'!$B$7:$E$207,4,0),0)+_xlfn.IFNA(VLOOKUP(B36,'C.14'!$B$7:$E$205,4,0),0)+_xlfn.IFNA(VLOOKUP(B36,'C.15'!$B$7:$E$206,4,0),0)+_xlfn.IFNA(VLOOKUP(B36,'C.16'!$B$7:$E$207,4,0),0) -> #REF! | G36: =SUM(G30:G35) -> #REF! | I36: =_xlfn.IFNA(VLOOKUP(B36,'C.6'!$B$7:$E$207,4,0),0) -> 0 | J36: =F36*I36 -> 0
C37: CONCRETOS | E37: =_xlfn.IFNA(VLOOKUP(B37,'C.1'!$B$7:$E$206,4,0),0)+_xlfn.IFNA(VLOOKUP(B37,'C.2'!$B$7:$E$206,4,0),0)+_xlfn.IFNA(VLOOKUP(B37,'C.3'!$B$7:$E$206,4,0),0)+_xlfn.IFNA(VLOOKUP(B37,'C.4'!$B$7:$E$206,4,0),0)+_xlfn.IFNA(VLOOKUP(B37,#REF!,4,0),0)+_xlfn.IFNA(VLOOKUP(B37,'C.6'!$B$7:$E$206,4,0),0)+_xlfn.IFNA(VLOOKUP(B37,'C.7'!$B$7:$E$206,4,0),0)+_xlfn.IFNA(VLOOKUP(B37,'C.8'!$B$7:$E$206,4,0),0)+_xlfn.IFNA(VLOOKUP(B37,'C.9'!$B$7:$E$205,4,0),0)+_xlfn.IFNA(VLOOKUP(B37,'C.10'!$B$7:$E$206,4,0),0)+_xlfn.IFNA(VLOOKUP(B37,'C.11'!$B$7:$E$206,4,0),0)+_xlfn.IFNA(VLOOKUP(B37,'C.12'!$B$7:$E$205,4,0),0)+_xlfn.IFNA(VLOOKUP(B37,'C.13'!$B$7:$E$207,4,0),0)+_xlfn.IFNA(VLOOKUP(B37,'C.14'!$B$7:$E$205,4,0),0)+_xlfn.IFNA(VLOOKUP(B37,'C.15'!$B$7:$E$206,4,0),0)+_xlfn.IFNA(VLOOKUP(B37,'C.16'!$B$7:$E$207,4,0),0) -> #REF! | G37: =F37*E37 -> #REF! | I37: =_xlfn.IFNA(VLOOKUP(B37,'C.6'!$B$7:$E$207,4,0),0) -> 0 | J37: =F37*I37 -> 0
A38: 23 | B38: 11P | C38: ANDEN EN CONCRETO (E=0.15) INCLUYE ALISTADO Y NIVELACION | D38: M2 | E38: =_xlfn.IFNA(VLOOKUP(B38,'C.1'!$B$7:$E$206,4,0),0)+_xlfn.IFNA(VLOOKUP(B38,'C.2'!$B$7:$E$206,4,0),0)+_xlfn.IFNA(VLOOKUP(B38,'C.3'!$B$7:$E$206,4,0),0)+_xlfn.IFNA(VLOOKUP(B38,'C.4'!$B$7:$E$206,4,0),0)+_xlfn.IFNA(VLOOKUP(B38,#REF!,4,0),0)+_xlfn.IFNA(VLOOKUP(B38,'C.6'!$B$7:$E$206,4,0),0)+_xlfn.IFNA(VLOOKUP(B38,'C.7'!$B$7:$E$206,4,0),0)+_xlfn.IFNA(VLOOKUP(B38,'C.8'!$B$7:$E$206,4,0),0)+_xlfn.IFNA(VLOOKUP(B38,'C.9'!$B$7:$E$205,4,0),0)+_xlfn.IFNA(VLOOKUP(B38,'C.10'!$B$7:$E$206,4,0),0)+_xlfn.IFNA(VLOOKUP(B38,'C.11'!$B$7:$E$206,4,0),0)+_xlfn.IFNA(VLOOKUP(B38,'C.12'!$B$7:$E$205,4,0),0)+_xlfn.IFNA(VLOOKUP(B38,'C.13'!$B$7:$E$207,4,0),0)+_xlfn.IFNA(VLOOKUP(B38,'C.14'!$B$7:$E$205,4,0),0)+_xlfn.IFNA(VLOOKUP(B38,'C.15'!$B$7:$E$206,4,0),0)+_xlfn.IFNA(VLOOKUP(B38,'C.16'!$B$7:$E$207,4,0),0) -> #REF! | F38: =#REF! -> #REF! | G38: =F38*E38 -> #REF! | I38: =_xlfn.IFNA(VLOOKUP(B38,'C.6'!$B$7:$E$207,4,0),0) -> 0 | J38: =F38*I38 -> #REF!
A39: 24 | B39: 12P | C39: SARDINEL PREFABRICADO (0,50*0,165*1) 3000 PSI INCLUYE EXCAVACION Y CONCRETO DE NIVELACION DE 5CM | D39: ML | E39: =_xlfn.IFNA(VLOOKUP(B39,'C.1'!$B$7:$E$206,4,0),0)+_xlfn.IFNA(VLOOKUP(B39,'C.2'!$B$7:$E$206,4,0),0)+_xlfn.IFNA(VLOOKUP(B39,'C.3'!$B$7:$E$206,4,0),0)+_xlfn.IFNA(VLOOKUP(B39,'C.4'!$B$7:$E$206,4,0),0)+_xlfn.IFNA(VLOOKUP(B39,#REF!,4,0),0)+_xlfn.IFNA(VLOOKUP(B39,'C.6'!$B$7:$E$206,4,0),0)+_xlfn.IFNA(VLOOKUP(B39,'C.7'!$B$7:$E$206,4,0),0)+_xlfn.IFNA(VLOOKUP(B39,'C.8'!$B$7:$E$206,4,0),0)+_xlfn.IFNA(VLOOKUP(B39,'C.9'!$B$7:$E$205,4,0),0)+_xlfn.IFNA(VLOOKUP(B39,'C.10'!$B$7:$E$206,4,0),0)+_xlfn.IFNA(VLOOKUP(B39,'C.11'!$B$7:$E$206,4,0),0)+_xlfn.IFNA(VLOOKUP(B39,'C.12'!$B$7:$E$205,4,0),0)+_xlfn.IFNA(VLOOKUP(B39,'C.13'!$B$7:$E$207,4,0),0)+_xlfn.IFNA(VLOOKUP(B39,'C.14'!$B$7:$E$205,4,0),0)+_xlfn.IFNA(VLOOKUP(B39,'C.15'!$B$7:$E$206,4,0),0)+_xlfn.IFNA(VLOOKUP(B39,'C.16'!$B$7:$E$207,4,0),0) -> #REF! | F39: ='12P'!N56 -> #REF! | G39: =F39*E39 -> #REF! | I39: =_xlfn.IFNA(VLOOKUP(B39,'C.6'!$B$7:$E$207,4,0),0) -> 0 | J39: =F39*I39 -> #REF!
A40: 25 | B40: 13P | C40: VIGA DE CONFINAMIENTO PARA TRANSICIÒN DE PAVIMENTO NUEVO CON ANTIGUO | D40: ML | E40: =_xlfn.IFNA(VLOOKUP(B40,'C.1'!$B$7:$E$206,4,0),0)+_xlfn.IFNA(VLOOKUP(B40,'C.2'!$B$7:$E$206,4,0),0)+_xlfn.IFNA(VLOOKUP(B40,'C.3'!$B$7:$E$206,4,0),0)+_xlfn.IFNA(VLOOKUP(B40,'C.4'!$B$7:$E$206,4,0),0)+_xlfn.IFNA(VLOOKUP(B40,#REF!,4,0),0)+_xlfn.IFNA(VLOOKUP(B40,'C.6'!$B$7:$E$206,4,0),0)+_xlfn.IFNA(VLOOKUP(B40,'C.7'!$B$7:$E$206,4,0),0)+_xlfn.IFNA(VLOOKUP(B40,'C.8'!$B$7:$E$206,4,0),0)+_xlfn.IFNA(VLOOKUP(B40,'C.9'!$B$7:$E$205,4,0),0)+_xlfn.IFNA(VLOOKUP(B40,'C.10'!$B$7:$E$206,4,0),0)+_xlfn.IFNA(VLOOKUP(B40,'C.11'!$B$7:$E$206,4,0),0)+_xlfn.IFNA(VLOOKUP(B40,'C.12'!$B$7:$E$205,4,0),0)+_xlfn.IFNA(VLOOKUP(B40,'C.13'!$B$7:$E$207,4,0),0)+_xlfn.IFNA(VLOOKUP(B40,'C.14'!$B$7:$E$205,4,0),0)+_xlfn.IFNA(VLOOKUP(B40,'C.15'!$B$7:$E$206,4,0),0)+_xlfn.IFNA(VLOOKUP(B40,'C.16'!$B$7:$E$207,4,0),0) -> #REF! | F40: =#REF! -> #REF! | G40: =F40*E40 -> #REF! | I40: =_xlfn.IFNA(VLOOKUP(B40,'C.6'!$B$7:$E$207,4,0),0) -> 0 | J40: =F40*I40 -> #REF!
A41: 26 | B41: 630.3 | C41: SUMINISTRO E INSTALACION CONCRETO RESISTENCIA 28MPa (C ) PREMEZCLADO | D41: M3 | E41: =_xlfn.IFNA(VLOOKUP(B41,'C.1'!$B$7:$E$206,4,0),0)+_xlfn.IFNA(VLOOKUP(B41,'C.2'!$B$7:$E$206,4,0),0)+_xlfn.IFNA(VLOOKUP(B41,'C.3'!$B$7:$E$206,4,0),0)+_xlfn.IFNA(VLOOKUP(B41,'C.4'!$B$7:$E$206,4,0),0)+_xlfn.IFNA(VLOOKUP(B41,#REF!,4,0),0)+_xlfn.IFNA(VLOOKUP(B41,'C.6'!$B$7:$E$206,4,0),0)+_xlfn.IFNA(VLOOKUP(B41,'C.7'!$B$7:$E$206,4,0),0)+_xlfn.IFNA(VLOOKUP(B41,'C.8'!$B$7:$E$206,4,0),0)+_xlfn.IFNA(VLOOKUP(B41,'C.9'!$B$7:$E$205,4,0),0)+_xlfn.IFNA(VLOOKUP(B41,'C.10'!$B$7:$E$206,4,0),0)+_xlfn.IFNA(VLOOKUP(B41,'C.11'!$B$7:$E$206,4,0),0)+_xlfn.IFNA(VLOOKUP(B41,'C.12'!$B$7:$E$205,4,0),0)+_xlfn.IFNA(VLOOKUP(B41,'C.13'!$B$7:$E$207,4,0),0)+_xlfn.IFNA(VLOOKUP(B41,'C.14'!$B$7:$E$205,4,0),0)+_xlfn.IFNA(VLOOKUP(B41,'C.15'!$B$7:$E$206,4,0),0)+_xlfn.IFNA(VLOOKUP(B41,'C.16'!$B$7:$E$207,4,0),0) -> #REF! | F41: =#REF! -> #REF! | G41: =F41*E41 -> #REF! | I41: =_xlfn.IFNA(VLOOKUP(B41,'C.6'!$B$7:$E$207,4,0),0) -> 0 | J41: =F41*I41 -> #REF!
A42: 27 | B42: 630.4 | C42: SUMINISTRO E INSTALACION CONCRETO RESISTENCIA 21MPa (D) PREMEZCLADO | D42: M3 | E42: =_xlfn.IFNA(VLOOKUP(B42,'C.1'!$B$7:$E$206,4,0),0)+_xlfn.IFNA(VLOOKUP(B42,'C.2'!$B$7:$E$206,4,0),0)+_xlfn.IFNA(VLOOKUP(B42,'C.3'!$B$7:$E$206,4,0),0)+_xlfn.IFNA(VLOOKUP(B42,'C.4'!$B$7:$E$206,4,0),0)+_xlfn.IFNA(VLOOKUP(B42,#REF!,4,0),0)+_xlfn.IFNA(VLOOKUP(B42,'C.6'!$B$7:$E$206,4,0),0)+_xlfn.IFNA(VLOOKUP(B42,'C.7'!$B$7:$E$206,4,0),0)+_xlfn.IFNA(VLOOKUP(B42,'C.8'!$B$7:$E$206,4,0),0)+_xlfn.IFNA(VLOOKUP(B42,'C.9'!$B$7:$E$205,4,0),0)+_xlfn.IFNA(VLOOKUP(B42,'C.10'!$B$7:$E$206,4,0),0)+_xlfn.IFNA(VLOOKUP(B42,'C.11'!$B$7:$E$206,4,0),0)+_xlfn.IFNA(VLOOKUP(B42,'C.12'!$B$7:$E$205,4,0),0)+_xlfn.IFNA(VLOOKUP(B42,'C.13'!$B$7:$E$207,4,0),0)+_xlfn.IFNA(VLOOKUP(B42,'C.14'!$B$7:$E$205,4,0),0)+_xlfn.IFNA(VLOOKUP(B42,'C.15'!$B$7:$E$206,4,0),0)+_xlfn.IFNA(VLOOKUP(B42,'C.16'!$B$7:$E$207,4,0),0) -> #REF! | F42: =#REF! -> #REF! | G42: =F42*E42 -> #REF! | I42: =_xlfn.IFNA(VLOOKUP(B42,'C.6'!$B$7:$E$207,4,0),0) -> 0 | J42: =F42*I42 -> #REF!
...

Sheet PRESUPUESTO CDO
A1: =Q2 -> PAVIMENTACIÓN DE VÍAS URBANAS DEL MUNICIPIO DE CHAPARRAL – DEPARTAMENTO DEL TOLIMA
Q2: PAVIMENTACIÓN DE VÍAS URBANAS DEL MUNICIPIO DE CHAPARRAL – DEPARTAMENTO DEL TOLIMA
A5: ITEM | B5: ITEM DE PAGO | C5: DESCRIPCION | D5: UN | E5: CANTIDAD | F5: VR UNITARIO | G5: VALOR TOTAL
C6: PRELIMINARES Y EXPLANACIONES
B7: 1P | C7: LOCALIZACIÓN Y REPLANTEO | D7: M2 | E7: =_xlfn.IFNA(VLOOKUP(B7,'C.1'!$B$7:$E$206,4,0),0)+_xlfn.IFNA(VLOOKUP(B7,'C.2'!$B$7:$E$206,4,0),0)+_xlfn.IFNA(VLOOKUP(B7,'C.3'!$B$7:$E$206,4,0),0)+_xlfn.IFNA(VLOOKUP(B7,'C.4'!$B$7:$E$206,4,0),0)+_xlfn.IFNA(VLOOKUP(B7,#REF!,4,0),0)+_xlfn.IFNA(VLOOKUP(B7,'C.6'!$B$7:$E$206,4,0),0)+_xlfn.IFNA(VLOOKUP(B7,'C.7'!$B$7:$E$206,4,0),0)+_xlfn.IFNA(VLOOKUP(B7,'C.8'!$B$7:$E$206,4,0),0)+_xlfn.IFNA(VLOOKUP(B7,'C.9'!$B$7:$E$205,4,0),0)+_xlfn.IFNA(VLOOKUP(B7,'C.10'!$B$7:$E$206,4,0),0)+_xlfn.IFNA(VLOOKUP(B7,'C.11'!$B$7:$E$206,4,0),0)+_xlfn.IFNA(VLOOKUP(B7,'C.12'!$B$7:$E$205,4,0),0)+_xlfn.IFNA(VLOOKUP(B7,'C.13'!$B$7:$E$207,4,0),0)+_xlfn.IFNA(VLOOKUP(B7,'C.14'!$B$7:$E$205,4,0),0)+_xlfn.IFNA(VLOOKUP(B7,'C.15'!$B$7:$E$206,4,0),0)+_xlfn.IFNA(VLOOKUP(B7,'C.16'!$B$7:$E$207,4,0),0) -> #REF! | F7: =+#REF! -> #REF! | G7: =E7*F7 -> #REF!
B8: 5P | C8: EXPLANACION Y CAJEO | D8: M3 | E8: =_xlfn.IFNA(VLOOKUP(B8,'C.1'!$B$7:$E$206,4,0),0)+_xlfn.IFNA(VLOOKUP(B8,'C.2'!$B$7:$E$206,4,0),0)+_xlfn.IFNA(VLOOKUP(B8,'C.3'!$B$7:$E$206,4,0),0)+_xlfn.IFNA(VLOOKUP(B8,'C.4'!$B$7:$E$206,4,0),0)+_xlfn.IFNA(VLOOKUP(B8,#REF!,4,0),0)+_xlfn.IFNA(VLOOKUP(B8,'C.6'!$B$7:$E$206,4,0),0)+_xlfn.IFNA(VLOOKUP(B8,'C.7'!$B$7:$E$206,4,0),0)+_xlfn.IFNA(VLOOKUP(B8,'C.8'!$B$7:$E$206,4,0),0)+_xlfn.IFNA(VLOOKUP(B8,'C.9'!$B$7:$E$205,4,0),0)+_xlfn.IFNA(VLOOKUP(B8,'C.10'!$B$7:$E$206,4,0),0)+_xlfn.IFNA(VLOOKUP(B8,'C.11'!$B$7:$E$206,4,0),0)+_xlfn.IFNA(VLOOKUP(B8,'C.12'!$B$7:$E$205,4,0),0)+_xlfn.IFNA(VLOOKUP(B8,'C.13'!$B$7:$E$207,4,0),0)+_xlfn.IFNA(VLOOKUP(B8,'C.14'!$B$7:$E$205,4,0),0)+_xlfn.IFNA(VLOOKUP(B8,'C.15'!$B$7:$E$206,4,0),0)+_xlfn.IFNA(VLOOKUP(B8,'C.16'!$B$7:$E$207,4,0),0) -> #REF! | F8: =#REF! -> #REF! | G8: =E8*F8 -> #REF!
B9: 6P | C9: CARGUE Y DISPOSICIÓN DE SOBRANTES A MÁQUINA. (NO INCLUYE TRANSPORTE) | D9: M3/COMP | E9: =_xlfn.IFNA(VLOOKUP(B9,'C.1'!$B$7:$E$206,4,0),0)+_xlfn.IFNA(VLOOKUP(B9,'C.2'!$B$7:$E$206,4,0),0)+_xlfn.IFNA(VLOOKUP(B9,'C.3'!$B$7:$E$206,4,0),0)+_xlfn.IFNA(VLOOKUP(B9,'C.4'!$B$7:$E$206,4,0),0)+_xlfn.IFNA(VLOOKUP(B9,#REF!,4,0),0)+_xlfn.IFNA(VLOOKUP(B9,'C.6'!$B$7:$E$206,4,0),0)+_xlfn.IFNA(VLOOKUP(B9,'C.7'!$B$7:$E$206,4,0),0)+_xlfn.IFNA(VLOOKUP(B9,'C.8'!$B$7:$E$206,4,0),0)+_xlfn.IFNA(VLOOKUP(B9,'C.9'!$B$7:$E$205,4,0),0)+_xlfn.IFNA(VLOOKUP(B9,'C.10'!$B$7:$E$206,4,0),0)+_xlfn.IFNA(VLOOKUP(B9,'C.11'!$B$7:$E$206,4,0),0)+_xlfn.IFNA(VLOOKUP(B9,'C.12'!$B$7:$E$205,4,0),0)+_xlfn.IFNA(VLOOKUP(B9,'C.13'!$B$7:$E$207,4,0),0)+_xlfn.IFNA(VLOOKUP(B9,'C.14'!$B$7:$E$205,4,0),0)+_xlfn.IFNA(VLOOKUP(B9,'C.15'!$B$7:$E$206,4,0),0)+_xlfn.IFNA(VLOOKUP(B9,'C.16'!$B$7:$E$207,4,0),0) -> #REF! | F9: =#REF! -> #REF! | G9: =E9*F9 -> #REF! | U9: 6500000
B10: 7P | C10: SUMINISTRO EXTENDIDA Y COMPACTACIÓN DE RECEBO EN ZANJA COMPACTADA C/15CM. MEDIO MECANICO. (NO INCLUYE TRANSPORTE) | D10: M3/COMP | E10: =_xlfn.IFNA(VLOOKUP(B10,'C.1'!$B$7:$E$206,4,0),0)+_xlfn.IFNA(VLOOKUP(B10,'C.2'!$B$7:$E$206,4,0),0)+_xlfn.IFNA(VLOOKUP(B10,'C.3'!$B$7:$E$206,4,0),0)+_xlfn.IFNA(VLOOKUP(B10,'C.4'!$B$7:$E$206,4,0),0)+_xlfn.IFNA(VLOOKUP(B10,#REF!,4,0),0)+_xlfn.IFNA(VLOOKUP(B10,'C.6'!$B$7:$E$206,4,0),0)+_xlfn.IFNA(VLOOKUP(B10,'C.7'!$B$7:$E$206,4,0),0)+_xlfn.IFNA(VLOOKUP(B10,'C.8'!$B$7:$E$206,4,0),0)+_xlfn.IFNA(VLOOKUP(B10,'C.9'!$B$7:$E$205,4,0),0)+_xlfn.IFNA(VLOOKUP(B10,'C.10'!$B$7:$E$206,4,0),0)+_xlfn.IFNA(VLOOKUP(B10,'C.11'!$B$7:$E$206,4,0),0)+_xlfn.IFNA(VLOOKUP(B10,'C.12'!$B$7:$E$205,4,0),0)+_xlfn.IFNA(VLOOKUP(B10,'C.13'!$B$7:$E$207,4,0),0)+_xlfn.IFNA(VLOOKUP(B10,'C.14'!$B$7:$E$205,4,0),0)+_xlfn.IFNA(VLOOKUP(B10,'C.15'!$B$7:$E$206,4,0),0)+_xlfn.IFNA(VLOOKUP(B10,'C.16'!$B$7:$E$207,4,0),0) -> #REF! | F10: =#REF! -> #REF! | G10: =E10*F10 -> #REF! | U10: =U9/30 -> 216666.67
B11: 8P | C11: ACARREO INTERNO EN OBRA HASTA 50M | D11: M3 | E11: =_xlfn.IFNA(VLOOKUP(B11,'C.1'!$B$7:$E$206,4,0),0)+_xlfn.IFNA(VLOOKUP(B11,'C.2'!$B$7:$E$206,4,0),0)+_xlfn.IFNA(VLOOKUP(B11,'C.3'!$B$7:$E$206,4,0),0)+_xlfn.IFNA(VLOOKUP(B11,'C.4'!$B$7:$E$206,4,0),0)+_xlfn.IFNA(VLOOKUP(B11,#REF!,4,0),0)+_xlfn.IFNA(VLOOKUP(B11,'C.6'!$B$7:$E$206,4,0),0)+_xlfn.IFNA(VLOOKUP(B11,'C.7'!$B$7:$E$206,4,0),0)+_xlfn.IFNA(VLOOKUP(B11,'C.8'!$B$7:$E$206,4,0),0)+_xlfn.IFNA(VLOOKUP(B11,'C.9'!$B$7:$E$205,4,0),0)+_xlfn.IFNA(VLOOKUP(B11,'C.10'!$B$7:$E$206,4,0),0)+_xlfn.IFNA(VLOOKUP(B11,'C.11'!$B$7:$E$206,4,0),0)+_xlfn.IFNA(VLOOKUP(B11,'C.12'!$B$7:$E$205,4,0),0)+_xlfn.IFNA(VLOOKUP(B11,'C.13'!$B$7:$E$207,4,0),0)+_xlfn.IFNA(VLOOKUP(B11,'C.14'!$B$7:$E$205,4,0),0)+_xlfn.IFNA(VLOOKUP(B11,'C.15'!$B$7:$E$206,4,0),0)+_xlfn.IFNA(VLOOKUP(B11,'C.16'!$B$7:$E$207,4,0),0) -> #REF! | F11: =#REF! -> #REF! | G11: =E11*F11 -> #REF! | U11: =U10*13 -> 2816666.7
B12: 201.3P | C12: ROTURA DE PAVIMENTO FLEXIBLE e=10 CM | D12: M2 | E12: =_xlfn.IFNA(VLOOKUP(B12,'C.1'!$B$7:$E$206,4,0),0)+_xlfn.IFNA(VLOOKUP(B12,'C.2'!$B$7:$E$206,4,0),0)+_xlfn.IFNA(VLOOKUP(B12,'C.3'!$B$7:$E$206,4,0),0)+_xlfn.IFNA(VLOOKUP(B12,'C.4'!$B$7:$E$206,4,0),0)+_xlfn.IFNA(VLOOKUP(B12,#REF!,4,0),0)+_xlfn.IFNA(VLOOKUP(B12,'C.6'!$B$7:$E$206,4,0),0)+_xlfn.IFNA(VLOOKUP(B12,'C.7'!$B$7:$E$206,4,0),0)+_xlfn.IFNA(VLOOKUP(B12,'C.8'!$B$7:$E$206,4,0),0)+_xlfn.IFNA(VLOOKUP(B12,'C.9'!$B$7:$E$205,4,0),0)+_xlfn.IFNA(VLOOKUP(B12,'C.10'!$B$7:$E$206,4,0),0)+_xlfn.IFNA(VLOOKUP(B12,'C.11'!$B$7:$E$206,4,0),0)+_xlfn.IFNA(VLOOKUP(B12,'C.12'!$B$7:$E$205,4,0),0)+_xlfn.IFNA(VLOOKUP(B12,'C.13'!$B$7:$E$207,4,0),0)+_xlfn.IFNA(VLOOKUP(B12,'C.14'!$B$7:$E$205,4,0),0)+_xlfn.IFNA(VLOOKUP(B12,'C.15'!$B$7:$E$206,4,0),0)+_xlfn.IFNA(VLOOKUP(B12,'C.16'!$B$7:$E$207,4,0),0) -> #REF! | F12: ='201.3P'!N50 -> #REF! | G12: =E12*F12 -> #REF! | U12: =U11+3900000 -> 6716666.7
B13: 201.3 | C13: DEMOLICIÓN DE PAVIMENTO RIGIDO | D13: M3 | E13: =_xlfn.IFNA(VLOOKUP(B13,'C.1'!$B$7:$E$206,4,0),0)+_xlfn.IFNA(VLOOKUP(B13,'C.2'!$B$7:$E$206,4,0),0)+_xlfn.IFNA(VLOOKUP(B13,'C.3'!$B$7:$E$206,4,0),0)+_xlfn.IFNA(VLOOKUP(B13,'C.4'!$B$7:$E$206,4,0),0)+_xlfn.IFNA(VLOOKUP(B13,#REF!,4,0),0)+_xlfn.IFNA(VLOOKUP(B13,'C.6'!$B$7:$E$206,4,0),0)+_xlfn.IFNA(VLOOKUP(B13,'C.7'!$B$7:$E$206,4,0),0)+_xlfn.IFNA(VLOOKUP(B13,'C.8'!$B$7:$E$206,4,0),0)+_xlfn.IFNA(VLOOKUP(B13,'C.9'!$B$7:$E$205,4,0),0)+_xlfn.IFNA(VLOOKUP(B13,'C.10'!$B$7:$E$206,4,0),0)+_xlfn.IFNA(VLOOKUP(B13,'C.11'!$B$7:$E$206,4,0),0)+_xlfn.IFNA(VLOOKUP(B13,'C.12'!$B$7:$E$205,4,0),0)+_xlfn.IFNA(VLOOKUP(B13,'C.13'!$B$7:$E$207,4,0),0)+_xlfn.IFNA(VLOOKUP(B13,'C.14'!$B$7:$E$205,4,0),0)+_xlfn.IFNA(VLOOKUP(B13,'C.15'!$B$7:$E$206,4,0),0)+_xlfn.IFNA(VLOOKUP(B13,'C.16'!$B$7:$E$207,4,0),0) -> #REF! | F13: ='201.3'!N50 -> #REF! | G13: =E13*F13 -> #REF! | U13: =U12*0.4 -> 2686666.7
B14: 201.9 | C14: DEMOLICION DE PISOS, ANDENES Y BORDILLOS DE CONCRETO | D14: M3 | E14: =_xlfn.IFNA(VLOOKUP(B14,'C.1'!$B$7:$E$206,4,0),0)+_xlfn.IFNA(VLOOKUP(B14,'C.2'!$B$7:$E$206,4,0),0)+_xlfn.IFNA(VLOOKUP(B14,'C.3'!$B$7:$E$206,4,0),0)+_xlfn.IFNA(VLOOKUP(B14,'C.4'!$B$7:$E$206,4,0),0)+_xlfn.IFNA(VLOOKUP(B14,#REF!,4,0),0)+_xlfn.IFNA(VLOOKUP(B14,'C.6'!$B$7:$E$206,4,0),0)+_xlfn.IFNA(VLOOKUP(B14,'C.7'!$B$7:$E$206,4,0),0)+_xlfn.IFNA(VLOOKUP(B14,'C.8'!$B$7:$E$206,4,0),0)+_xlfn.IFNA(VLOOKUP(B14,'C.9'!$B$7:$E$205,4,0),0)+_xlfn.IFNA(VLOOKUP(B14,'C.10'!$B$7:$E$206,4,0),0)+_xlfn.IFNA(VLOOKUP(B14,'C.11'!$B$7:$E$206,4,0),0)+_xlfn.IFNA(VLOOKUP(B14,'C.12'!$B$7:$E$205,4,0),0)+_xlfn.IFNA(VLOOKUP(B14,'C.13'!$B$7:$E$207,4,0),0)+_xlfn.IFNA(VLOOKUP(B14,'C.14'!$B$7:$E$205,4,0),0)+_xlfn.IFNA(VLOOKUP(B14,'C.15'!$B$7:$E$206,4,0),0)+_xlfn.IFNA(VLOOKUP(B14,'C.16'!$B$7:$E$207,4,0),0) -> #REF! | F14: ='201.9'!N50 -> #REF! | G14: =E14*F14 -> #REF!
E15: =_xlfn.IFNA(VLOOKUP(B15,'C.1'!$B$7:$E$206,4,0),0)+_xlfn.IFNA(VLOOKUP(B15,'C.2'!$B$7:$E$206,4,0),0)+_xlfn.IFNA(VLOOKUP(B15,'C.3'!$B$7:$E$206,4,0),0)+_xlfn.IFNA(VLOOKUP(B15,'C.4'!$B$7:$E$206,4,0),0)+_xlfn.IFNA(VLOOKUP(B15,#REF!,4,0),0)+_xlfn.IFNA(VLOOKUP(B15,'C.6'!$B$7:$E$206,4,0),0)+_xlfn.IFNA(VLOOKUP(B15,'C.7'!$B$7:$E$206,4,0),0)+_xlfn.IFNA(VLOOKUP(B15,'C.8'!$B$7:$E$206,4,0),0)+_xlfn.IFNA(VLOOKUP(B15,'C.9'!$B$7:$E$205,4,0),0)+_xlfn.IFNA(VLOOKUP(B15,'C.10'!$B$7:$E$206,4,0),0)+_xlfn.IFNA(VLOOKUP(B15,'C.11'!$B$7:$E$206,4,0),0)+_xlfn.IFNA(VLOOKUP(B15,'C.12'!$B$7:$E$205,4,0),0)+_xlfn.IFNA(VLOOKUP(B15,'C.13'!$B$7:$E$207,4,0),0)+_xlfn.IFNA(VLOOKUP(B15,'C.14'!$B$7:$E$205,4,0),0)+_xlfn.IFNA(VLOOKUP(B15,'C.15'!$B$7:$E$206,4,0),0)+_xlfn.IFNA(VLOOKUP(B15,'C.16'!$B$7:$E$207,4,0),0) -> #REF! | G15: =SUM(G7:G14) -> #REF!
C16: EXCAVACIONES | E16: =_xlfn.IFNA(VLOOKUP(B16,'C.1'!$B$7:$E$206,4,0),0)+_xlfn.IFNA(VLOOKUP(B16,'C.2'!$B$7:$E$206,4,0),0)+_xlfn.IFNA(VLOOKUP(B16,'C.3'!$B$7:$E$206,4,0),0)+_xlfn.IFNA(VLOOKUP(B16,'C.4'!$B$7:$E$206,4,0),0)+_xlfn.IFNA(VLOOKUP(B16,#REF!,4,0),0)+_xlfn.IFNA(VLOOKUP(B16,'C.6'!$B$7:$E$206,4,0),0)+_xlfn.IFNA(VLOOKUP(B16,'C.7'!$B$7:$E$206,4,0),0)+_xlfn.IFNA(VLOOKUP(B16,'C.8'!$B$7:$E$206,4,0),0)+_xlfn.IFNA(VLOOKUP(B16,'C.9'!$B$7:$E$205,4,0),0)+_xlfn.IFNA(VLOOKUP(B16,'C.10'!$B$7:$E$206,4,0),0)+_xlfn.IFNA(VLOOKUP(B16,'C.11'!$B$7:$E$206,4,0),0)+_xlfn.IFNA(VLOOKUP(B16,'C.12'!$B$7:$E$205,4,0),0)+_xlfn.IFNA(VLOOKUP(B16,'C.13'!$B$7:$E$207,4,0),0)+_xlfn.IFNA(VLOOKUP(B16,'C.14'!$B$7:$E$205,4,0),0)+_xlfn.IFNA(VLOOKUP(B16,'C.15'!$B$7:$E$206,4,0),0)+_xlfn.IFNA(VLOOKUP(B16,'C.16'!$B$7:$E$207,4,0),0) -> #REF! | U16: =7000000 -> 7000000
B17: 210.2.1P | C17: EXCAVACIONES EN MATERIAL COMUN Y CONGLOMERADO EN SECO A MAQUINA (DE 0 A 2 MTS) | D17: M3 | E17: =_xlfn.IFNA(VLOOKUP(B17,'C.1'!$B$7:$E$206,4,0),0)+_xlfn.IFNA(VLOOKUP(B17,'C.2'!$B$7:$E$206,4,0),0)+_xlfn.IFNA(VLOOKUP(B17,'C.3'!$B$7:$E$206,4,0),0)+_xlfn.IFNA(VLOOKUP(B17,'C.4'!$B$7:$E$206,4,0),0)+_xlfn.IFNA(VLOOKUP(B17,#REF!,4,0),0)+_xlfn.IFNA(VLOOKUP(B17,'C.6'!$B$7:$E$206,4,0),0)+_xlfn.IFNA(VLOOKUP(B17,'C.7'!$B$7:$E$206,4,0),0)+_xlfn.IFNA(VLOOKUP(B17,'C.8'!$B$7:$E$206,4,0),0)+_xlfn.IFNA(VLOOKUP(B17,'C.9'!$B$7:$E$205,4,0),0)+_xlfn.IFNA(VLOOKUP(B17,'C.10'!$B$7:$E$206,4,0),0)+_xlfn.IFNA(VLOOKUP(B17,'C.11'!$B$7:$E$206,4,0),0)+_xlfn.IFNA(VLOOKUP(B17,'C.12'!$B$7:$E$205,4,0),0)+_xlfn.IFNA(VLOOKUP(B17,'C.13'!$B$7:$E$207,4,0),0)+_xlfn.IFNA(VLOOKUP(B17,'C.14'!$B$7:$E$205,4,0),0)+_xlfn.IFNA(VLOOKUP(B17,'C.15'!$B$7:$E$206,4,0),0)+_xlfn.IFNA(VLOOKUP(B17,'C.16'!$B$7:$E$207,4,0),0) -> #REF! | F17: =+#REF! -> #REF! | G17: =E17*F17 -> #REF! | U17: =U16*0.4 -> 2800000
B18: 210.2.2P | C18: EXCAVACIONES EN MATERIAL COMUN Y CONGLOMERADO EN SECO A MAQUINA (DE 2 A 4 MTS) | D18: M3 | E18: =_xlfn.IFNA(VLOOKUP(B18,'C.1'!$B$7:$E$206,4,0),0)+_xlfn.IFNA(VLOOKUP(B18,'C.2'!$B$7:$E$206,4,0),0)+_xlfn.IFNA(VLOOKUP(B18,'C.3'!$B$7:$E$206,4,0),0)+_xlfn.IFNA(VLOOKUP(B18,'C.4'!$B$7:$E$206,4,0),0)+_xlfn.IFNA(VLOOKUP(B18,#REF!,4,0),0)+_xlfn.IFNA(VLOOKUP(B18,'C.6'!$B$7:$E$206,4,0),0)+_xlfn.IFNA(VLOOKUP(B18,'C.7'!$B$7:$E$206,4,0),0)+_xlfn.IFNA(VLOOKUP(B18,'C.8'!$B$7:$E$206,4,0),0)+_xlfn.IFNA(VLOOKUP(B18,'C.9'!$B$7:$E$205,4,0),0)+_xlfn.IFNA(VLOOKUP(B18,'C.10'!$B$7:$E$206,4,0),0)+_xlfn.IFNA(VLOOKUP(B18,'C.11'!$B$7:$E$206,4,0),0)+_xlfn.IFNA(VLOOKUP(B18,'C.12'!$B$7:$E$205,4,0),0)+_xlfn.IFNA(VLOOKUP(B18,'C.13'!$B$7:$E$207,4,0),0)+_xlfn.IFNA(VLOOKUP(B18,'C.14'!$B$7:$E$205,4,0),0)+_xlfn.IFNA(VLOOKUP(B18,'C.15'!$B$7:$E$206,4,0),0)+_xlfn.IFNA(VLOOKUP(B18,'C.16'!$B$7:$E$207,4,0),0) -> #REF! | F18: =#REF! -> #REF! | G18: =E18*F18 -> #REF!
B19: 600.2.3P | C19: EXCAVACIONES VARIAS EN MATERIAL COMUN EN SECO A MANO (DE 0 A 2 MTS) | D19: M3 | E19: =_xlfn.IFNA(VLOOKUP(B19,'C.1'!$B$7:$E$206,4,0),0)+_xlfn.IFNA(VLOOKUP(B19,'C.2'!$B$7:$E$206,4,0),0)+_xlfn.IFNA(VLOOKUP(B19,'C.3'!$B$7:$E$206,4,0),0)+_xlfn.IFNA(VLOOKUP(B19,'C.4'!$B$7:$E$206,4,0),0)+_xlfn.IFNA(VLOOKUP(B19,#REF!,4,0),0)+_xlfn.IFNA(VLOOKUP(B19,'C.6'!$B$7:$E$206,4,0),0)+_xlfn.IFNA(VLOOKUP(B19,'C.7'!$B$7:$E$206,4,0),0)+_xlfn.IFNA(VLOOKUP(B19,'C.8'!$B$7:$E$206,4,0),0)+_xlfn.IFNA(VLOOKUP(B19,'C.9'!$B$7:$E$205,4,0),0)+_xlfn.IFNA(VLOOKUP(B19,'C.10'!$B$7:$E$206,4,0),0)+_xlfn.IFNA(VLOOKUP(B19,'C.11'!$B$7:$E$206,4,0),0)+_xlfn.IFNA(VLOOKUP(B19,'C.12'!$B$7:$E$205,4,0),0)+_xlfn.IFNA(VLOOKUP(B19,'C.13'!$B$7:$E$207,4,0),0)+_xlfn.IFNA(VLOOKUP(B19,'C.14'!$B$7:$E$205,4,0),0)+_xlfn.IFNA(VLOOKUP(B19,'C.15'!$B$7:$E$206,4,0),0)+_xlfn.IFNA(VLOOKUP(B19,'C.16'!$B$7:$E$207,4,0),0) -> #REF! | F19: =#REF! -> #REF! | G19: =E19*F19 -> #REF!
B20: 600.2.4P | C20: EXCAVACIONES VARIAS EN MATERIAL COMUN EN SECO A MANO (DE 2 A 4 MTS) | D20: M3 | E20: =_xlfn.IFNA(VLOOKUP(B20,'C.1'!$B$7:$E$206,4,0),0)+_xlfn.IFNA(VLOOKUP(B20,'C.2'!$B$7:$E$206,4,0),0)+_xlfn.IFNA(VLOOKUP(B20,'C.3'!$B$7:$E$206,4,0),0)+_xlfn.IFNA(VLOOKUP(B20,'C.4'!$B$7:$E$206,4,0),0)+_xlfn.IFNA(VLOOKUP(B20,#REF!,4,0),0)+_xlfn.IFNA(VLOOKUP(B20,'C.6'!$B$7:$E$206,4,0),0)+_xlfn.IFNA(VLOOKUP(B20,'C.7'!$B$7:$E$206,4,0),0)+_xlfn.IFNA(VLOOKUP(B20,'C.8'!$B$7:$E$206,4,0),0)+_xlfn.IFNA(VLOOKUP(B20,'C.9'!$B$7:$E$205,4,0),0)+_xlfn.IFNA(VLOOKUP(B20,'C.10'!$B$7:$E$206,4,0),0)+_xlfn.IFNA(VLOOKUP(B20,'C.11'!$B$7:$E$206,4,0),0)+_xlfn.IFNA(VLOOKUP(B20,'C.12'!$B$7:$E$205,4,0),0)+_xlfn.IFNA(VLOOKUP(B20,'C.13'!$B$7:$E$207,4,0),0)+_xlfn.IFNA(VLOOKUP(B20,'C.14'!$B$7:$E$205,4,0),0)+_xlfn.IFNA(VLOOKUP(B20,'C.15'!$B$7:$E$206,4,0),0)+_xlfn.IFNA(VLOOKUP(B20,'C.16'!$B$7:$E$207,4,0),0) -> #REF! | F20: =#REF! -> #REF! | G20: =E20*F20 -> #REF! | Q20: =5/0.15 -> 33.333333
B21: 3P | C21: SUMINISTRO, EXTENDIDA Y COMPACTACIÓN DE MATERIAL PARA RELLENO ESTRUCTURAL AFIRMADO (NO INCLUYE TRANSPORTE) | D21: M3/COMP | E21: =_xlfn.IFNA(VLOOKUP(B21,'C.1'!$B$7:$E$206,4,0),0)+_xlfn.IFNA(VLOOKUP(B21,'C.2'!$B$7:$E$206,4,0),0)+_xlfn.IFNA(VLOOKUP(B21,'C.3'!$B$7:$E$206,4,0),0)+_xlfn.IFNA(VLOOKUP(B21,'C.4'!$B$7:$E$206,4,0),0)+_xlfn.IFNA(VLOOKUP(B21,#REF!,4,0),0)+_xlfn.IFNA(VLOOKUP(B21,'C.6'!$B$7:$E$206,4,0),0)+_xlfn.IFNA(VLOOKUP(B21,'C.7'!$B$7:$E$206,4,0),0)+_xlfn.IFNA(VLOOKUP(B21,'C.8'!$B$7:$E$206,4,0),0)+_xlfn.IFNA(VLOOKUP(B21,'C.9'!$B$7:$E$205,4,0),0)+_xlfn.IFNA(VLOOKUP(B21,'C.10'!$B$7:$E$206,4,0),0)+_xlfn.IFNA(VLOOKUP(B21,'C.11'!$B$7:$E$206,4,0),0)+_xlfn.IFNA(VLOOKUP(B21,'C.12'!$B$7:$E$205,4,0),0)+_xlfn.IFNA(VLOOKUP(B21,'C.13'!$B$7:$E$207,4,0),0)+_xlfn.IFNA(VLOOKUP(B21,'C.14'!$B$7:$E$205,4,0),0)+_xlfn.IFNA(VLOOKUP(B21,'C.15'!$B$7:$E$206,4,0),0)+_xlfn.IFNA(VLOOKUP(B21,'C.16'!$B$7:$E$207,4,0),0) -> #REF! | F21: =+#REF! -> #REF! | G21: =E21*F21 -> #REF!
E22: =_xlfn.IFNA(VLOOKUP(B22,'C.1'!$B$7:$E$206,4,0),0)+_xlfn.IFNA(VLOOKUP(B22,'C.2'!$B$7:$E$206,4,0),0)+_xlfn.IFNA(VLOOKUP(B22,'C.3'!$B$7:$E$206,4,0),0)+_xlfn.IFNA(VLOOKUP(B22,'C.4'!$B$7:$E$206,4,0),0)+_xlfn.IFNA(VLOOKUP(B22,#REF!,4,0),0)+_xlfn.IFNA(VLOOKUP(B22,'C.6'!$B$7:$E$206,4,0),0)+_xlfn.IFNA(VLOOKUP(B22,'C.7'!$B$7:$E$206,4,0),0)+_xlfn.IFNA(VLOOKUP(B22,'C.8'!$B$7:$E$206,4,0),0)+_xlfn.IFNA(VLOOKUP(B22,'C.9'!$B$7:$E$205,4,0),0)+_xlfn.IFNA(VLOOKUP(B22,'C.10'!$B$7:$E$206,4,0),0)+_xlfn.IFNA(VLOOKUP(B22,'C.11'!$B$7:$E$206,4,0),0)+_xlfn.IFNA(VLOOKUP(B22,'C.12'!$B$7:$E$205,4,0),0)+_xlfn.IFNA(VLOOKUP(B22,'C.13'!$B$7:$E$207,4,0),0)+_xlfn.IFNA(VLOOKUP(B22,'C.14'!$B$7:$E$205,4,0),0)+_xlfn.IFNA(VLOOKUP(B22,'C.15'!$B$7:$E$206,4,0),0)+_xlfn.IFNA(VLOOKUP(B22,'C.16'!$B$7:$E$207,4,0),0) -> #REF! | G22: =SUM(G17:G21) -> #REF!
C23: BASES, SUBBASES Y AFIRMADOS | E23: =_xlfn.IFNA(VLOOKUP(B23,'C.1'!$B$7:$E$206,4,0),0)+_xlfn.IFNA(VLOOKUP(B23,'C.2'!$B$7:$E$206,4,0),0)+_xlfn.IFNA(VLOOKUP(B23,'C.3'!$B$7:$E$206,4,0),0)+_xlfn.IFNA(VLOOKUP(B23,'C.4'!$B$7:$E$206,4,0),0)+_xlfn.IFNA(VLOOKUP(B23,#REF!,4,0),0)+_xlfn.IFNA(VLOOKUP(B23,'C.6'!$B$7:$E$206,4,0),0)+_xlfn.IFNA(VLOOKUP(B23,'C.7'!$B$7:$E$206,4,0),0)+_xlfn.IFNA(VLOOKUP(B23,'C.8'!$B$7:$E$206,4,0),0)+_xlfn.IFNA(VLOOKUP(B23,'C.9'!$B$7:$E$205,4,0),0)+_xlfn.IFNA(VLOOKUP(B23,'C.10'!$B$7:$E$206,4,0),0)+_xlfn.IFNA(VLOOKUP(B23,'C.11'!$B$7:$E$206,4,0),0)+_xlfn.IFNA(VLOOKUP(B23,'C.12'!$B$7:$E$205,4,0),0)+_xlfn.IFNA(VLOOKUP(B23,'C.13'!$B$7:$E$207,4,0),0)+_xlfn.IFNA(VLOOKUP(B23,'C.14'!$B$7:$E$205,4,0),0)+_xlfn.IFNA(VLOOKUP(B23,'C.15'!$B$7:$E$206,4,0),0)+_xlfn.IFNA(VLOOKUP(B23,'C.16'!$B$7:$E$207,4,0),0) -> #REF!
B24: 310.1P | C24: NIVELACION Y COMPACTACION DE SUBRASANTE | D24: M2 | E24: =_xlfn.IFNA(VLOOKUP(B24,'C.1'!$B$7:$E$206,4,0),0)+_xlfn.IFNA(VLOOKUP(B24,'C.2'!$B$7:$E$206,4,0),0)+_xlfn.IFNA(VLOOKUP(B24,'C.3'!$B$7:$E$206,4,0),0)+_xlfn.IFNA(VLOOKUP(B24,'C.4'!$B$7:$E$206,4,0),0)+_xlfn.IFNA(VLOOKUP(B24,#REF!,4,0),0)+_xlfn.IFNA(VLOOKUP(B24,'C.6'!$B$7:$E$206,4,0),0)+_xlfn.IFNA(VLOOKUP(B24,'C.7'!$B$7:$E$206,4,0),0)+_xlfn.IFNA(VLOOKUP(B24,'C.8'!$B$7:$E$206,4,0),0)+_xlfn.IFNA(VLOOKUP(B24,'C.9'!$B$7:$E$205,4,0),0)+_xlfn.IFNA(VLOOKUP(B24,'C.10'!$B$7:$E$206,4,0),0)+_xlfn.IFNA(VLOOKUP(B24,'C.11'!$B$7:$E$206,4,0),0)+_xlfn.IFNA(VLOOKUP(B24,'C.12'!$B$7:$E$205,4,0),0)+_xlfn.IFNA(VLOOKUP(B24,'C.13'!$B$7:$E$207,4,0),0)+_xlfn.IFNA(VLOOKUP(B24,'C.14'!$B$7:$E$205,4,0),0)+_xlfn.IFNA(VLOOKUP(B24,'C.15'!$B$7:$E$206,4,0),0)+_xlfn.IFNA(VLOOKUP(B24,'C.16'!$B$7:$E$207,4,0),0) -> #REF! | F24: =+#REF! -> #REF! | G24: =E24*F24 -> #REF!
B25: 311.1 | C25: afirmado | E25: =_xlfn.IFNA(VLOOKUP(B25,'C.1'!$B$7:$E$206,4,0),0)+_xlfn.IFNA(VLOOKUP(B25,'C.2'!$B$7:$E$206,4,0),0)+_xlfn.IFNA(VLOOKUP(B25,'C.3'!$B$7:$E$206,4,0),0)+_xlfn.IFNA(VLOOKUP(B25,'C.4'!$B$7:$E$206,4,0),0)+_xlfn.IFNA(VLOOKUP(B25,#REF!,4,0),0)+_xlfn.IFNA(VLOOKUP(B25,'C.6'!$B$7:$E$206,4,0),0)+_xlfn.IFNA(VLOOKUP(B25,'C.7'!$B$7:$E$206,4,0),0)+_xlfn.IFNA(VLOOKUP(B25,'C.8'!$B$7:$E$206,4,0),0)+_xlfn.IFNA(VLOOKUP(B25,'C.9'!$B$7:$E$205,4,0),0)+_xlfn.IFNA(VLOOKUP(B25,'C.10'!$B$7:$E$206,4,0),0)+_xlfn.IFNA(VLOOKUP(B25,'C.11'!$B$7:$E$206,4,0),0)+_xlfn.IFNA(VLOOKUP(B25,'C.12'!$B$7:$E$205,4,0),0)+_xlfn.IFNA(VLOOKUP(B25,'C.13'!$B$7:$E$207,4,0),0)+_xlfn.IFNA(VLOOKUP(B25,'C.14'!$B$7:$E$205,4,0),0)+_xlfn.IFNA(VLOOKUP(B25,'C.15'!$B$7:$E$206,4,0),0)+_xlfn.IFNA(VLOOKUP(B25,'C.16'!$B$7:$E$207,4,0),0) -> #REF! | F25: =+#REF! -> #REF!
B26: 320.1 | C26: SUBBASE GRANULAR CLASE A | D26: M3/COMP | E26: =_xlfn.IFNA(VLOOKUP(B26,'C.1'!$B$7:$E$206,4,0),0)+_xlfn.IFNA(VLOOKUP(B26,'C.2'!$B$7:$E$206,4,0),0)+_xlfn.IFNA(VLOOKUP(B26,'C.3'!$B$7:$E$206,4,0),0)+_xlfn.IFNA(VLOOKUP(B26,'C.4'!$B$7:$E$206,4,0),0)+_xlfn.IFNA(VLOOKUP(B26,#REF!,4,0),0)+_xlfn.IFNA(VLOOKUP(B26,'C.6'!$B$7:$E$206,4,0),0)+_xlfn.IFNA(VLOOKUP(B26,'C.7'!$B$7:$E$206,4,0),0)+_xlfn.IFNA(VLOOKUP(B26,'C.8'!$B$7:$E$206,4,0),0)+_xlfn.IFNA(VLOOKUP(B26,'C.9'!$B$7:$E$205,4,0),0)+_xlfn.IFNA(VLOOKUP(B26,'C.10'!$B$7:$E$206,4,0),0)+_xlfn.IFNA(VLOOKUP(B26,'C.11'!$B$7:$E$206,4,0),0)+_xlfn.IFNA(VLOOKUP(B26,'C.12'!$B$7:$E$205,4,0),0)+_xlfn.IFNA(VLOOKUP(B26,'C.13'!$B$7:$E$207,4,0),0)+_xlfn.IFNA(VLOOKUP(B26,'C.14'!$B$7:$E$205,4,0),0)+_xlfn.IFNA(VLOOKUP(B26,'C.15'!$B$7:$E$206,4,0),0)+_xlfn.IFNA(VLOOKUP(B26,'C.16'!$B$7:$E$207,4,0),0) -> #REF! | F26: =+'320.1'!N51 -> #REF! | G26: =E26*F26 -> #REF!
B27: 330.1 | C27: BASE GRANULAR CLASE A | D27: M3/COMP | E27: =_xlfn.IFNA(VLOOKUP(B27,'C.1'!$B$7:$E$206,4,0),0)+_xlfn.IFNA(VLOOKUP(B27,'C.2'!$B$7:$E$206,4,0),0)+_xlfn.IFNA(VLOOKUP(B27,'C.3'!$B$7:$E$206,4,0),0)+_xlfn.IFNA(VLOOKUP(B27,'C.4'!$B$7:$E$206,4,0),0)+_xlfn.IFNA(VLOOKUP(B27,#REF!,4,0),0)+_xlfn.IFNA(VLOOKUP(B27,'C.6'!$B$7:$E$206,4,0),0)+_xlfn.IFNA(VLOOKUP(B27,'C.7'!$B$7:$E$206,4,0),0)+_xlfn.IFNA(VLOOKUP(B27,'C.8'!$B$7:$E$206,4,0),0)+_xlfn.IFNA(VLOOKUP(B27,'C.9'!$B$7:$E$205,4,0),0)+_xlfn.IFNA(VLOOKUP(B27,'C.10'!$B$7:$E$206,4,0),0)+_xlfn.IFNA(VLOOKUP(B27,'C.11'!$B$7:$E$206,4,0),0)+_xlfn.IFNA(VLOOKUP(B27,'C.12'!$B$7:$E$205,4,0),0)+_xlfn.IFNA(VLOOKUP(B27,'C.13'!$B$7:$E$207,4,0),0)+_xlfn.IFNA(VLOOKUP(B27,'C.14'!$B$7:$E$205,4,0),0)+_xlfn.IFNA(VLOOKUP(B27,'C.15'!$B$7:$E$206,4,0),0)+_xlfn.IFNA(VLOOKUP(B27,'C.16'!$B$7:$E$207,4,0),0) -> #REF! | F27: =+#REF! -> #REF! | G27: =E27*F27 -> #REF!
E28: =_xlfn.IFNA(VLOOKUP(B28,'C.1'!$B$7:$E$206,4,0),0)+_xlfn.IFNA(VLOOKUP(B28,'C.2'!$B$7:$E$206,4,0),0)+_xlfn.IFNA(VLOOKUP(B28,'C.3'!$B$7:$E$206,4,0),0)+_xlfn.IFNA(VLOOKUP(B28,'C.4'!$B$7:$E$206,4,0),0)+_xlfn.IFNA(VLOOKUP(B28,#REF!,4,0),0)+_xlfn.IFNA(VLOOKUP(B28,'C.6'!$B$7:$E$206,4,0),0)+_xlfn.IFNA(VLOOKUP(B28,'C.7'!$B$7:$E$206,4,0),0)+_xlfn.IFNA(VLOOKUP(B28,'C.8'!$B$7:$E$206,4,0),0)+_xlfn.IFNA(VLOOKUP(B28,'C.9'!$B$7:$E$205,4,0),0)+_xlfn.IFNA(VLOOKUP(B28,'C.10'!$B$7:$E$206,4,0),0)+_xlfn.IFNA(VLOOKUP(B28,'C.11'!$B$7:$E$206,4,0),0)+_xlfn.IFNA(VLOOKUP(B28,'C.12'!$B$7:$E$205,4,0),0)+_xlfn.IFNA(VLOOKUP(B28,'C.13'!$B$7:$E$207,4,0),0)+_xlfn.IFNA(VLOOKUP(B28,'C.14'!$B$7:$E$205,4,0),0)+_xlfn.IFNA(VLOOKUP(B28,'C.15'!$B$7:$E$206,4,0),0)+_xlfn.IFNA(VLOOKUP(B28,'C.16'!$B$7:$E$207,4,0),0) -> #REF! | G28: =SUM(G24:G27) -> #REF!
C29: PAVIMENTOS HIDRAULICOS | E29: =_xlfn.IFNA(VLOOKUP(B29,'C.1'!$B$7:$E$206,4,0),0)+_xlfn.IFNA(VLOOKUP(B29,'C.2'!$B$7:$E$206,4,0),0)+_xlfn.IFNA(VLOOKUP(B29,'C.3'!$B$7:$E$206,4,0),0)+_xlfn.IFNA(VLOOKUP(B29,'C.4'!$B$7:$E$206,4,0),0)+_xlfn.IFNA(VLOOKUP(B29,#REF!,4,0),0)+_xlfn.IFNA(VLOOKUP(B29,'C.6'!$B$7:$E$206,4,0),0)+_xlfn.IFNA(VLOOKUP(B29,'C.7'!$B$7:$E$206,4,0),0)+_xlfn.IFNA(VLOOKUP(B29,'C.8'!$B$7:$E$206,4,0),0)+_xlfn.IFNA(VLOOKUP(B29,'C.9'!$B$7:$E$205,4,0),0)+_xlfn.IFNA(VLOOKUP(B29,'C.10'!$B$7:$E$206,4,0),0)+_xlfn.IFNA(VLOOKUP(B29,'C.11'!$B$7:$E$206,4,0),0)+_xlfn.IFNA(VLOOKUP(B29,'C.12'!$B$7:$E$205,4,0),0)+_xlfn.IFNA(VLOOKUP(B29,'C.13'!$B$7:$E$207,4,0),0)+_xlfn.IFNA(VLOOKUP(B29,'C.14'!$B$7:$E$205,4,0),0)+_xlfn.IFNA(VLOOKUP(B29,'C.15'!$B$7:$E$206,4,0),0)+_xlfn.IFNA(VLOOKUP(B29,'C.16'!$B$7:$E$207,4,0),0) -> #REF!
