Workbook
Name _________key2: #REF!
Name _________key2: #REF!
Name _________key2: #REF!
Name _________key2: #REF!
Name _________key2: #REF!
Name _________key2: #REF!
Name _________PJ50: #REF!
Name _________PJ50: #REF!
Name _________PJ50: #REF!
Name _________PJ50: #REF!
Name _________PJ50: #REF!
Name _________PJ50: #REF!
Name ________key2: #REF!
Name ________key2: #REF!
Name ________key2: #REF!
Name ________key2: #REF!
Name ________key2: #REF!
Name ________key2: #REF!
Name ________key3: #REF!
Name ________key3: #REF!
Name ________MA2: #REF!
Name ________MA2: #REF!
Name ________PJ50: #REF!
Name ________PJ50: #REF!
Name _______MA2: #REF!
Name _______MA2: #REF!
Name _______PJ50: #REF!
Name _______PJ50: #REF!
Name ______MA2: #REF!
Name ______MA2: #REF!
Name ______PJ50: #REF!
Name ______PJ50: #REF!
Name ______pr01: #REF!
Name ______pr01: #REF!
Name ______pr02: #REF!
Name ______pr02: #REF!
Name ______pr03: #REF!
Name ______pr03: #REF!
Name ______pr04: #REF!
Name ______pr04: #REF!
Name ______pr05: #REF!
Name ______pr05: #REF!
Name ______pr06: #REF!
Name ______pr06: #REF!
Name ______pr07: #REF!
Name ______pr07: #REF!
Name ______pr08: #REF!
Name ______pr08: #REF!
Name ______pr09: #REF!
Name ______pr09: #REF!
Name ______pr10: #REF!
Name ______pr10: #REF!
Name ______pr11: #REF!
Name ______pr11: #REF!
Name ______pr12: #REF!
Name ______pr12: #REF!
Name ______pr13: #REF!
Name ______pr13: #REF!
Name ______pr14: #REF!
Name ______pr14: #REF!

Sheet CONSOLIDADO (2)
B1: PROPONENTE | O1: FACTOR DE CALIDAD | P1: APOYO A INDUSTRIA NACIONAL | Q1: VINCULACIÓN DE PERSONAS CON DISCAPACIDAD | R1: PUNTAJE TOTAL
D2: REPRESENTANTE LEGAL | E2: AVAL | F2: EXPERIENCIA REQUERIDA | G2: UNO DE LOS INTEGRANTES DEBE APORTAR LA EXPERIENCIA MINIMA REQUERIDA ≥50% | H2: LOS DEMAS INTEGRANTES DEBEN ACREDITAR ≥ 5% DE LA EXPERIENCIA MINIMA REQUERIDA | I2: INTEGRANTE QUE APORTA DISCAPACITADO DEBE APORTAR ≥ 40% DE EXPERIENCIA REQUERIDA (SMMLV) | J2: EXPERIENCIA ESPECIFICA CRITERIO 1 LONGITUD ACREDITADA (m) | K2: EXPERIENCIA ESPECIFICA Por lo menos uno (1) de los contratos válidos aportados debe acreditar experiencia general en alguno de estos componentes tales como: cámaras de caída, sifones invertidos, disipadores de energía, entre otras estructuras hidráulicas asociadas con el objeto del proceso de selección. | L2: EXPERIENCIA ESPECIFICA Por lo menos uno (1) de los contratos válidos aportados debe acreditar experiencia general en entibados para construcción de acueductos y/o alcantarillados. | M2: CUMPLIMIENTO ARTICULO 17 LEY 842 DE 2003 | N2: RESUMEN | O2: FORMATO 7B - DISPONIBILIDAD Y CONDICIONES FUNCIONALES DE LA MAQUINARIA DE OBRA
B3: 1 | C3: =+#REF! -> #REF! | D3: =+#REF! -> #REF! | E3: =+#REF! -> #REF! | F3: =+#REF! -> #REF! | G3: =+#REF! -> #REF! | H3: =+#REF! -> #REF! | I3: =+#REF! -> #REF! | J3: =+#REF! -> #REF! | ... L3: =+#REF! -> #REF! | M3: CUMPLE | N3: =+#REF! -> #REF! | O3: =+#REF! -> #REF! | P3: =+#REF! -> #REF! | Q3: =+#REF! -> #REF! | R3: =SUM(O3:Q3) -> #REF!
B4: 2 | C4: =+#REF! -> #REF! | D4: =+#REF! -> #REF! | E4: =+#REF! -> #REF! | F4: =+#REF! -> #REF! | G4: =+#REF! -> #REF! | H4: =+#REF! -> #REF! | I4: =+#REF! -> #REF! | J4: =+#REF! -> #REF! | ... L4: =+#REF! -> #REF! | M4: CUMPLE | N4: =+#REF! -> #REF! | O4: =+#REF! -> #REF! | P4: =+#REF! -> #REF! | Q4: =+#REF! -> #REF! | R4: =SUM(O4:Q4) -> #REF!
B5: 3 | C5: =+#REF! -> #REF! | D5: =+#REF! -> #REF! | E5: =+#REF! -> #REF! | F5: =+#REF! -> #REF! | G5: =+#REF! -> #REF! | H5: =+#REF! -> #REF! | I5: =+#REF! -> #REF! | J5: =+#REF! -> #REF! | ... L5: =+#REF! -> #REF! | M5: CUMPLE | N5: =+#REF! -> #REF! | O5: =+#REF! -> #REF! | P5: =+#REF! -> #REF! | Q5: =+#REF! -> #REF! | R5: =SUM(O5:Q5) -> #REF!
B6: 4 | C6: =+#REF! -> #REF! | D6: =+#REF! -> #REF! | E6: =+#REF! -> #REF! | F6: =+#REF! -> #REF! | G6: =+#REF! -> #REF! | H6: =+#REF! -> #REF! | I6: =+#REF! -> #REF! | J6: =+#REF! -> #REF! | ... L6: =+#REF! -> #REF! | M6: CUMPLE | N6: =+#REF! -> #REF! | O6: =+#REF! -> #REF! | P6: =+#REF! -> #REF! | Q6: =+#REF! -> #REF! | R6: =SUM(O6:Q6) -> #REF!
B7: 5 | C7: =+#REF! -> #REF! | D7: =+#REF! -> #REF! | E7: =+#REF! -> #REF! | F7: =+#REF! -> #REF! | G7: =+#REF! -> #REF! | H7: =+#REF! -> #REF! | I7: =+#REF! -> #REF! | J7: =+#REF! -> #REF! | ... L7: =+#REF! -> #REF! | M7: CUMPLE | N7: =+#REF! -> #REF! | O7: =+#REF! -> #REF! | P7: =+#REF! -> #REF! | Q7: =+#REF! -> #REF! | R7: =SUM(O7:Q7) -> #REF!
B8: 6 | C8: =+#REF! -> #REF! | D8: =+#REF! -> #REF! | E8: =+#REF! -> #REF! | F8: =+#REF! -> #REF! | G8: =+#REF! -> #REF! | H8: =+#REF! -> #REF! | I8: =+#REF! -> #REF! | J8: =+#REF! -> #REF! | ... L8: =+#REF! -> #REF! | M8: CUMPLE | N8: =+#REF! -> #REF! | O8: =+#REF! -> #REF! | P8: =+#REF! -> #REF! | Q8: =+#REF! -> #REF! | R8: =SUM(O8:Q8) -> #REF!
B9: 7 | C9: =+#REF! -> #REF! | D9: =+#REF! -> #REF! | E9: =+#REF! -> #REF! | F9: =+#REF! -> #REF! | G9: =+#REF! -> #REF! | H9: =+#REF! -> #REF! | I9: =+#REF! -> #REF! | J9: =+#REF! -> #REF! | ... L9: =+#REF! -> #REF! | M9: CUMPLE | N9: =+#REF! -> #REF! | O9: =+#REF! -> #REF! | P9: =+#REF! -> #REF! | Q9: =+#REF! -> #REF! | R9: =SUM(O9:Q9) -> #REF!
B10: 8 | C10: =+#REF! -> #REF! | D10: =+#REF! -> #REF! | E10: =+#REF! -> #REF! | F10: =+#REF! -> #REF! | G10: =+#REF! -> #REF! | H10: =+#REF! -> #REF! | I10: =+#REF! -> #REF! | J10: =+#REF! -> #REF! | ... L10: =+#REF! -> #REF! | M10: CUMPLE | N10: =+#REF! -> #REF! | O10: =+#REF! -> #REF! | P10: =+#REF! -> #REF! | Q10: =+#REF! -> #REF! | R10: =SUM(O10:Q10) -> #REF!
B11: 9 | C11: =+#REF! -> #REF! | D11: =+#REF! -> #REF! | E11: =+#REF! -> #REF! | F11: =+#REF! -> #REF! | G11: =+#REF! -> #REF! | H11: =+#REF! -> #REF! | I11: =+#REF! -> #REF! | J11: =+#REF! -> #REF! | ... L11: =+#REF! -> #REF! | M11: CUMPLE | N11: =+#REF! -> #REF! | O11: =+#REF! -> #REF! | P11: =+#REF! -> #REF! | Q11: =+#REF! -> #REF! | R11: =SUM(O11:Q11) -> #REF!
B12: 10 | C12: =+#REF! -> #REF! | D12: =+#REF! -> #REF! | E12: =+#REF! -> #REF! | F12: =+#REF! -> #REF! | G12: =+#REF! -> #REF! | H12: =+#REF! -> #REF! | I12: =+#REF! -> #REF! | J12: =+#REF! -> #REF! | ... L12: =+#REF! -> #REF! | M12: CUMPLE | N12: =+#REF! -> #REF! | O12: =+#REF! -> #REF! | P12: =+#REF! -> #REF! | Q12: =+#REF! -> #REF! | R12: =SUM(O12:Q12) -> #REF!
B13: 11 | C13: =+#REF! -> #REF! | D13: =+#REF! -> #REF! | E13: =+#REF! -> #REF! | F13: =+#REF! -> #REF! | G13: =+#REF! -> #REF! | H13: =+#REF! -> #REF! | I13: =+#REF! -> #REF! | J13: =+#REF! -> #REF! | ... L13: =+#REF! -> #REF! | M13: CUMPLE | N13: =+#REF! -> #REF! | O13: =+#REF! -> #REF! | P13: =+#REF! -> #REF! | Q13: =+#REF! -> #REF! | R13: =SUM(O13:Q13) -> #REF!
B14: 12 | C14: =+#REF! -> #REF! | D14: =+#REF! -> #REF! | E14: =+#REF! -> #REF! | F14: =+#REF! -> #REF! | G14: =+#REF! -> #REF! | H14: =+#REF! -> #REF! | I14: =+#REF! -> #REF! | J14: =+#REF! -> #REF! | ... L14: =+#REF! -> #REF! | M14: CUMPLE | N14: =+#REF! -> #REF! | O14: =+#REF! -> #REF! | P14: =+#REF! -> #REF! | Q14: =+#REF! -> #REF! | R14: =SUM(O14:Q14) -> #REF!
... B16: 14 | C16: =+#REF! -> #REF! | D16: =+#REF! -> #REF! | E16: =+#REF! -> #REF! | F16: =+#REF! -> #REF! | G16: =+#REF! -> #REF! | H16: =+#REF! -> #REF! | I16: =+#REF! -> #REF! | J16: =+#REF! -> #REF! | ... L16: =+#REF! -> #REF! | M16: CUMPLE | N16: =+#REF! -> #REF! | O16: =+#REF! -> #REF! | P16: =+#REF! -> #REF! | Q16: =+#REF! -> #REF! | R16: =SUM(O16:Q16) -> #REF!

Sheet CONSOLIDADO 
B2: PROPONENTE | D2: EVALUACION JURIDICA HABILITANTE | E2: EVALUACIÓN TÉCNICA HABILITANTE DEL PROPONENTE | G2: EVALUACIÓN FINANCIERA HABILITANTE | J2: PROUESTA HABILITADA O NO HABILITADA | L2: PUNTAJE PRELIMINAR NOTA: SOLO SE ASIGNARA A QUIEN CONTINUE HABILITADO EN LA SIGUIENTE ETAPA.
D3: CAPACIDAD JURIDICA | E3: CAPACIDAD TECNICA | F3: CAPACIDAD OPERATIVA Residente de Obra | G3: CAPACIDAD FINANCIERA | H3: CAPACIDAD RESIDUAL | I3: OFERTA ECONOMICA
B4: 1 | C4: JAIME ALBERTO ANGEL LONDOÑO | D4: NO CUMPLE | E4: CUMPLE | F4: CUMPLE | G4: CUMPLE | H4: CUMPLE | J4: RECHAZADO | K4: Incurrio en causal de rechazo NUMERAL 4.9 del pliego de condiciones.Subnumeral 3.1 Cuando el proponente no subsane o no subsane correctamente o no lo realice dentro del plazo fijado por la ley, información o documentación solicitada por DEPARTAMENTO DEL QUINDÍO. | L4: =+PUNTUACION!N4 -> 0
B5: 2 | C5: MARIA AMERICA GARCIA PRIETO | D5: CUMPLE | E5: CUMPLE | F5: CUMPLE | G5: CUMPLE | H5: NO CUMPLE | I5: NO CUMPLE | J5: RECHAZADA | K5: Incurrio en causal de rechazo NUMERAL 4.9 del pliego de condiciones. Cuando las especificaciones y cantidades no concuerden completamente con lo requerido por el DEPARTAMENTO DEL QUINDIO , la informacion sea ilegible o no corresponda a la relacionada por la entidda en el presupuesto oficial. | L5: =+PUNTUACION!N5 -> 0
B6: 3 | C6: INCORES CIVILES SAS | D6: CUMPLE | E6: CUMPLE | F6: CUMPLE | G6: CUMPLE | H6: CUMPLE | I6: CUMPLE | J6: HABIL | L6: =+PUNTUACION!N6 -> 100
B7: 4 | C7: SANCAR INGENIEROS SAS | D7: CUMPLE | E7: CUM´PLE | F7: CUMPLE | G7: CUMPLE | H7: CUMPLE | I7: CUMPLE | J7: HABIL | L7: =+PUNTUACION!N7 -> 99.987094
B8: 5 | C8: MARLON SALAZAR ARBOLEDA | D8: CUMPLE | E8: CUMPLE | F8: CUMPLE | G8: CUMPLE | H8: CUMPLE | I8: CUMPLE | J8: HABIL | L8: =+PUNTUACION!N8 -> 99.473886
B9: 6 | C9: CONSORCIO INGENIERIA HORIZONTAL 2025 | D9: CUMP,E | E9: NO CUMPLE | F9: NO CUMPLE | G9: CUMPLE | H9: CUMPLE | I9: CUMPLE | J9: RECHAZADA | K9: Incurrio en causal de rechazo NUMERAL 4.9 del pliego de condiciones.Subnumeral 3.1 Cuando el proponente no subsane o no subsane correctamente o no lo realice dentro del plazo fijado por la ley, información o documentación solicitada por DEPARTAMENTO DEL QUINDÍO. | L9: =+PUNTUACION!N9 -> 0
B10: 7 | C10: CONSORCIO JACA 2024 | D10: CUMPLE | E10: CUMPLE | F10: CUMPLE | G10: CUMPLE | H10: CUMPLE | I10: CUMPLE | J10: HABIL | L10: =+PUNTUACION!N10 -> 99.190369
B11: 8 | C11: JORGE VARGAS OROZCO | D11: CUMPLE | E11: CUMPLE | F11: CUMPLE | G11: CUMPLE | H11: CUMPLE | I11: CUMPLE | J11: HABIL | L11: =+PUNTUACION!N11 -> 99.360038

Sheet PUNTUACION
R1: RESUMEN
B2: PROPONENTE | D2: CONDICIONES TECNICAS HABILITANTES DEL PROPONENTE | H2: PROUESTA HABILITADA O NO HABILITADA | J2: CRITERIOS DE CALIFICACION | N2: PUNTAJE TOTAL | O2: VALOR OFERTA ECONOMICA | P2: VERIFICACION ITEMS, UND, CANTIDAD | Q2: OBSERVACIONES | R2: COMPONENTE TECNICO | S2: COMPONENTE JURIDICO | T2: COMPONENTE FINANCIERO
D3: INGENIERÍA CIVIL, Y/O ARQUITECTO | E3: EXPERIENCIA GENERAL IGUAL O MAYOR A DOS (2) AÑOS | F3: EXPERIENCIA ESPECIFICA REQUERIDA: 03 CERTIFICADOS DE OBRA | G3: CAPACIDAD OPERATIVA | I3: OBSERVACION | J3: CRITERIO DE CALIDAD | K3: APOYO A LA INDUSTRIA NACIONAL | L3: Puntaje adicional artículo 2.2.1.2.4.2.15 del decreto 1082 de 2015 adicionado por el decreto 1860 de 2021. | M3: OFERTA ECONOMICA | T3: CAPACIDAD FINANCIERA | U3: CAPACIDAD RESIDUAL
B4: 1 | C4: JAIME ALBERTO ANGEL LONDOÑO | D4: CUMPLE | E4: CUMPLE | F4: CUMPLE | G4: CUMPLE | H4: HABILITADO | R4: HABILITADO
B5: 2 | C5: MARIA AMERICA GARCIA PRIETO | D5: CUMPLE | E5: CUMPLE | F5: CUMPLE | G5: CUMPLE | H5: RECHAZADO | R5: RECHAZADO
B6: 3 | C6: INCORES CIVILES SAS | D6: CUMPLE | E6: CUMPLE | F6: CUMPLE | G6: CUMPLE | H6: HABILITADO | J6: 20 | K6: 10 | L6: 0.25 | M6: =+'MEDIANA VALOR ABST'!H6 -> 69.75 | N6: =SUM(J6:M6) -> 100 | O6: 3.2360446e+08 | P6: CUMPLE | R6: HABILITADO
B7: 4 | C7: SANCAR INGENIEROS SAS | D7: CUMPLE | E7: CUMPLE | F7: CUMPLE | G7: CUMPLE | H7: HABILITADO | J7: 20 | K7: 10 | L7: 0.25 | M7: =+'MEDIANA VALOR ABST'!H5 -> 69.737094 | N7: =SUM(J7:M7) -> 99.987094 | O7: 3.2354458e+08 | P7: CUMPLE | R7: HABILITADO
B8: 5 | C8: MARLON SALAZAR ARBOLEDA | D8: CUMPLE | E8: CUMPLE | F8: CUMPLE | G8: CUMPLE | H8: HABILITADO | J8: 20 | K8: 10 | L8: 0 | M8: =+'MEDIANA VALOR ABST'!H7 -> 69.473886 | N8: =SUM(J8:M8) -> 99.473886 | O8: 324885489 | P8: CUMPLE | R8: HABILITADO
B9: 6 | C9: CONSORCIO INGENIERIA HORIZONTAL 2025 | D9: CUMPLE | E9: CUMPLE | F9: NO CUMPLE | G9: NO CUMPLE | H9: NO HABILITADO | N9: =SUM(J9:M9) -> 0 | R9: NO HABILITADO
B10: 7 | C10: CONSORCIO JACA 2024 | D10: CUMPLE | E10: CUMPLE | F10: CUMPLE | G10: CUMPLE | H10: NO HABILITADO | I10: NO CUMPLE. DEBE SUBSANAR El proponente adjunta FORMATO 2 – CONFORMACIÓN DE PROPONENTE PLURAL donde manifiesta que la duración del consorcio entra en vida a partir de la fecha de su firma y en caso de adjudicación su duración será igual al término de duración del contrato, y un (01) año más, sin embargo el numeral "4.1.3 Acreditación Legal de Constitución de Consorcio o Unión Temporal" del pliego de condiciones exige que la duración del Consorcio o Unión Temporal no será inferior a la del plazo de ejecución y LIQUIDACIÓN del contrato y un (1) año más. | J10: 20 | K10: 10 | L10: 0 | M10: =+'MEDIANA VALOR ABST'!H4 -> 69.190369 | N10: =SUM(J10:M10) -> 99.190369 | O10: 3.2100806e+08 | P10: CUMPLE | R10: NO HABILITADO
B11: 8 | C11: JORGE VARGAS OROZCO | D11: CUMPLE | E11: CUMPLE | F11: CUMPLE | G11: CUMPLE | H11: HABILITADO | J11: 20 | K11: 10 | L11: 0 | M11: =+'MEDIANA VALOR ABST'!H8 -> 69.360038 | N11: =SUM(J11:M11) -> 99.360038 | O11: 3.2541368e+08 | P11: CUMPLE | R11: HABILITADO

Sheet MEDIANA VALOR ABST
A2: Nro. DE PROPONENTE U OFERENTE | B2: Nro. | C2: PROPONENTE U OFERENTE (Persona Natural o Persona Jurídica) | D2: Proponente u Oferente HABIL | E2: VALOR TOTAL OFERTA ECONOMICA PRESENTADA POR EL PROPONENTE | F2: VALOR TOTAL OFERTA ECONOMICA CORRECCIÓN ARITMETICA | H2: PUNTAJE OFERTA ECONOMICA
A4: 1 | C4: CONSORCIO JACA 2024 | D4: HABIL | E4: 3.2100806e+08 | F4: =+E4 -> 3.2100806e+08 | G4: =1-(ABS(($C$12-F4)/$C$12)) -> 0.99197661 | H4: =69.75*G4 -> 69.190369
A5: 2 | B5: 3 | C5: SANCAR INGENIEROS SAS | D5: HÁBIL | E5: 3.2354458e+08 | F5: =+E5 -> 3.2354458e+08 | G5: =1-(ABS(($C$12-F5)/$C$12)) -> 0.99981497 | H5: =69.75*G5 -> 69.737094 | I5: 0.25
A6: 3 | B6: 3 | C6: INCORES CIVILES SAS | D6: HÁBIL | E6: 3.2360446e+08 | F6: =+E6 -> 3.2360446e+08 | G6: =1-(ABS(($C$12-F6)/$C$12)) -> 1 | H6: 69.75 | I6: 0.25
A7: 4 | B7: 3 | C7: MARLON SALAZAR ARBOLEDA | D7: HÁBIL | E7: 324885489 | F7: =+E7 -> 324885489 | G7: =1-(ABS(($C$12-F7)/$C$12)) -> 0.99604137 | H7: =69.75*G7 -> 69.473886
A8: 5 | C8: JORGE VARGAS OROZCO | D8: HABIL | E8: 3.2541368e+08 | F8: =+E8 -> 3.2541368e+08 | G8: =1-(ABS(($C$12-F8)/$C$12)) -> 0.99440915 | H8: =69.75*G8 -> 69.360038
G9: =SUM(G6:G7) -> 1.9960414
A11: PO | C11: 220434651
A12: MEDIANA | C12: =+MEDIAN(F4:F8) -> 3.2360446e+08

Sheet Capacidad Juridica
A1: No. | B1: PROPONENTE | C1: CARTA PRESENTACIÓN - COMPROMISO ANTICORRUPCION | F1: CERTIFICADO DE EXISTENCIA Y REPRESENTACIÓN LEGAL | M1: CONFORMACIÓN CONSORCIAL | V1: CEDULA DE CIUDADANIA | Y1: ANTECEDENTES DEL PROPONENTE | AE1: PAZ Y SALVO APORTES SEGURIDAD SOCIAL Y PARAFISCALES | AG1: CERTIFICADO DE INSCRIPCIÓN EN EL REGISTRO UNICO DE PROPONENTES (RUP) | AL1: GARANTIA DE SERIEDAD | AV1: FORMATO 06 MULTAS Y SANCIONES / INHABILIDADES E INCOMPATIBILIDADES | AW1: REQUISITOS PARA PERSONA JURIDICA EXTRANJERA | BD1: APODERADOS | BE1: CUMPLE/NO CUMPLE | BF1: OBSERVACIONES
C2: CARTA DE PRESENTACIÓN- | F2: CERTIFICADO DE EXISTENCIA Y REPRESENTACIÓN LEGAL | M2: CONFORMACIÓN CONSORCIAL | V2: CEDULA DE CIUDADANIA | Y2: ANTECEDENTES DEL PROPONENTE | AE2: PAZ Y SALVO APORTES SEGURIDAD SOCIAL Y PARAFISCALES | AG2: CERTIFICADO DE INSCRIPCIÓN EN EL REGISTRO UNICO DE PROPONENTES (RUP) | AO2: GARANTÍA DE SERIEDAD | AW2: REQUISITOS PARA PERSONA JURIDICA EXTRANJERA
C3: FIRMA LA PERSONA NATURAL | D3: FIRMA EL REPRESENTANTE LEGAL (CONSORIO O PERSONA JURIDICA) | E3: FIRMA DE QUIEN AVALA LA PROPUESTA | F3: PRESENTA | G3: FECHA DE EXPEDICION 60 DIAS CONTADOS DESDE EL MOMENTO DEL CIERRE DEL PROCESO | H3: OBJETO SOCIAL | I3: DURACIÓN DE LA SOCIEDAD | J3: REPRESENTANTE LEGAL | K3: LIMITACIONES AL REPRESENTANTE LEGAL | L3: AUTORIZACIÓN DEL ORGANO SOCIAL | M3: PRESENTA DOCUMENTO DE CONFORMACION | N3: No de participantes | O3: % PARTICIPACIÓN MAYOR A 30 (EXCEPTO MIPYME O EMPRESA DE MUJERES - MÍNIMO 10%) | P3: DURACION POR EL TERMINO FIJADO, Y 1 AÑO MAS | Q3: REPRESENTANTE | R3: INTEGRANTES | S3: OBJETO SOCIAL O ACTIVIDAD MERCANTIL RELACIONADA CON EL OBJETO DEL PROCESO VERIFICADO EN EL DOCUMENTO DE REPRESENTACION LEGAL QUE CORRESPONDA | T3: FIRMADO POR RL Y POR INTEGRANTES | U3: IDENTIFICACION DE LOS INTEGRANTES | V3: PERSONA NATURAL | W3: REPRESENTANTE LEGAL PERSONA JURIDICA | X3: AVAL (En caso de que aplique) | Y3: FISCALES | Z3: DISCIPLINARIOS | AA3: JUDICIALES | AB3: MEDIDAS CORRECTIVAS | AC3: REDAM | AD3: ANTECEDENTES DE QUIEN AVALA (Cuando aplique) | AE3: PERSONA JURIDICA | AF3: PERSONA NATURAL | AG3: PRESENTA (SI/NO/NA) | AH3: RENOVADO | AI3: FIRMEZA RUP | AJ3: SANCIONES-MULTAS CONSIGNADAS EN EL RUP | AK3: FECHA DE EXPEDICION 60 DIAS CALENDARIO ANTERIORES A LA PRESENTACIÓN DE LA OFERTA | AL3: TOMADOR | AM3: COMPAÑÍA | AN3: PÓLIZA | AO3: VALOR (CUANTIA 10% DEL VALOR DE LA OFERTA) | AP3: VIGENCIA INICIAL | AQ3: VIGENCIA FINAL | AR3: CUMPLE CON 3 MESES A PARTIR DE SU PRESENTACION | AS3: BENEFICIARIO DEPARTAMENTO DEL QUINDIO | AT3: ESPECIFICA N° DE RADICADO Y OBJETO | AU3: NOTA EN CASO DE GARANTIA BANCARIA | AW3: DOCUMENTO DE IDENTIFICACION | AX3: CERTIFICADO DE EXISTENCIA Y REPRESENTACION | AY3: EXISTENCIA DE LA REPRESENTACION LEGAL DE LA SUCURSAL | AZ3: OBJETO SOCIAL | BA3: REPRESENTANTE LEGAL | BB3: LIMITACIONES AL REPRESENTANTE LEGAL | BC3: ACREDITACION DE APODERADO DOMICILIADO EN EL PAIS
A4: 1 | B4: JAIME ALBERTO ANGEL LONDOÑO | C4: CUMPLE | D4: NO APLICA | E4: NO APLICA | F4: N/A | M4: NO APLICA NOTA: El oferente se presenta en calidad de persona natural | V4: CUMPLE | W4: N/A | X4: N/A | Y4: VERIFICADOS POR LA ENTIDAD | AD4: NO APLICA | AE4: NO APLICA | AF4: CUMPLE | AG4: CUMPLE | AH4: CUMPLE | AI4: CUMPLE | AJ4: NO TIENE | AK4: 45608 | AL4: JAIME ALBERTO ANGEL LONDOÑO | AM4: SEGUROS DEL ESTADO S.A. | AN4: 21-44-101459414 | AO4: 34215164 | AP4: 45639 | AQ4: 45395 | AR4: CUMPLE CON 3 MESES A PARTIR DE SU PRESENTACION | AS4: CUMPLE | AT4: CUMPLE | AU4: N/A | AV4: NO CUMPLE | AW4: N/A | BD4: N/A | BE4: NO CUMPLE | BF4: EL OFERENTE DENTRO DEL FORMATO DE MULTAS, SANCIONES E INHABILIDADES SEÑALA EN EL NUMERAL 7 QUE “Se ha abstenido de suscribir contrato estatal adjudicado, sin existir justa causa”. NO OBSTATE, DENTRO DEL RUP NO SE EXPRESA DICHA ACTUACION QUE SE REGISTRE, POR LO TANTO, EL OFERENTE DENTRO DEL TERMINO DE TRASLADO DEL INFORME DE EVALUACION DEBERA DE EXPLICAR Y ACLARAR ESTA SITUACIÓN LA CUAL DEPENDERÁ SI SE ENCUENTRA HABILITADO PARA PARTICIPAR DENTRO DEL PROCESO DE SELECCIÓN del mismo modo la pregunta numero 20 no fue contestada NO SUBSANO
A5: 2 | B5: MARIA AMERICA GARCÍA PRIETO | C5: CUMPLE | D5: NO APLICA | E5: NO APLICA | F5: N/A | M5: NO APLICA NOTA: La oferente se presenta en calidad de persona natural | V5: CUMPLE | W5: N/A | X5: N/A | Y5: VERIFICADOS POR LA ENTIDAD | AD5: NO APLICA | AE5: NO APLICA | AF5: CUMPLE | AG5: CUMPLE | AH5: CUMPLE | AI5: CUMPLE | AJ5: NO TIENE | AK5: 18/11/24 | AL5: MARIA AMERICA GARCÍA PRIETO | AM5: SEGUROS DEL ESTADO S.A. | AN5: 45-44-101162095 | AO5: 34215164 | AP5: 45639 | AQ5: 45395 | AR5: CUMPLE CON 3 MESES A PARTIR DE SU PRESENTACION | AS5: CUMPLE | AT5: CUMPLE | AU5: N/A | AV5: CUMPLE | AW5: N/A | BD5: N/A | BE5: CUMPLE | BF5: ELOFERENTE CUMPLE CON LA TOTALIDAD DE REQUISITOS SOLICITADOS Y VERIFICADOS POR PARTE DEL COMPONENTE JURÍDICO. EN CONSECUENCIA, SE ENCUENTRA HABILITADO DESDE EL COMPONENTE JURÍDICO.
A7: 3 | B7: INCORES CIVILES SAS | C7: CUMPLE | D7: N/A | E7: CUMPLE | F7: N/A | G7: 13/12/2024 - 10:33:47 | H7: CUMPLE | I7: INDEFINIDO | J7: LUISA FERNANDA TORRES GARCIA | K7: NO TIENE | L7: N/A | M7: NO APLICA NOTA: La oferente se presenta en calidad de persona juridica | V7: N/A | W7: CUMPLE | X7: CUMPLE | Y7: VERIFICADOS POR LA ENTIDAD | AD7: NO CUMPLE EL REDAM NO SE APORTO | AE7: CUMPLE | AF7: N/A | AG7: CUMPLE | AH7: CUMPLE | AI7: CUMPLE | AJ7: NO TIENE | AK7: 45639 | AL7: INCORES CIVILES S.A.S. | AM7: SEGUROS DEL ESTADO | AN7: 21-44-101459293 | AO7: $34,215,165.00 | AP7: 45638 | AQ7: 45777 | AR7: CUMPLE CON 3 MESES A PARTIR DE SU PRESENTACION | AS7: CUMPLE | AT7: CUMPLE | AU7: N/A | AV7: CUMPLE | AW7: N/A | BD7: N/A | BE7: NO CUMPLE | BF7: DEBE DE SUBSANAR TODA VEZ QUE LA CATA DE PRESENTACION ESTA FIRMADA POR UN AVAL EL CUAL NO APORTA LOS DOCUEMENTOS REQUERIDOS POR EL PLIEGO DE CONDICIONES
A8: 4 | B8: SANCAR INGENIEROS SAS | C8: NA | D8: CUMPLE | E8: CUMPLE | F8: CUMPLE | G8: 2024/11/18 - 09:34:19 | H8: CUMPLE | I8: INDEFINIDO | J8: JUAN CARLOS SANCHEZ GALVEZ | K8: NO TIENE | L8: N/A | M8: NO APLICA NOTA: La oferente se presenta en calidad de persona juridica | V8: N/A | W8: CUMPLE | X8: N/A | Y8: VERIFICADOS POR LA ENTIDAD | AD8: N/A | AE8: CUMPLE | AF8: N/A | AG8: CUMPLE | AH8: CUMPLE. (11/04/2024) | AI8: CUMPLE | AJ8: NO TIENE | AK8: 45639 | AL8: SANCAR INGENIEROS SAS | AM8: SEGUROS DEL ESTADO | AN8: 60-44-101014292 | AO8: 34215164 | AP8: 45639 | AQ8: 45746 | AR8: CUMPLE CON 3 MESES A PARTIR DE SU PRESENTACION | AS8: CUMPLE | AT8: CUMPLE | AU8: N/A | AV8: CUMPLE | AW8: N/A | BD8: N/A | BE8: CUMPLE | BF8: ELOFERENTE CUMPLE CON LA TOTALIDAD DE REQUISITOS SOLICITADOS Y VERIFICADOS POR PARTE DEL COMPONENTE JURÍDICO. EN CONSECUENCIA, SE ENCUENTRA HABILITADO DESDE EL COMPONENTE JURÍDICO.
A9: 5 | B9: MARLON SALAZAR ARBOLEDA | C9: CUMPLE | D9: N/A | E9: CUMPLE | F9: N/A | M9: NO APLICA NOTA: La oferente se presenta en calidad de persona natural | V9: CUMPLE | W9: N/A | X9: N/A | Y9: VERIFICADOS POR LA ENTIDAD | AD9: N/A | AE9: N/A | AF9: CUMPLE | AG9: CUMPLE | AH9: CUMPLE (18/04/2024) | AI9: CUMPLE | AJ9: NO TIENE | AK9: 45637 | AL9: MARLON SALAZAR ARBOLEDA | AM9: SEGUROS DEL ESTADO | AN9: 60-44-101014300 | AO9: 34215164 | AP9: 45639 | AQ9: 45746 | AR9: CUMPLE CON 3 MESES A PARTIR DE SU PRESENTACION | AS9: CUMPLE | AT9: CUMPLE | AU9: N/A | AV9: CUMPLE | AW9: N/A | BD9: N/A | BE9: CUMPLE | BF9: ELOFERENTE CUMPLE CON LA TOTALIDAD DE REQUISITOS SOLICITADOS Y VERIFICADOS POR PARTE DEL COMPONENTE JURÍDICO. EN CONSECUENCIA, SE ENCUENTRA HABILITADO DESDE EL COMPONENTE JURÍDICO.
A10: 6 | B10: INGENIERIA HORIZONTAL 2025 | C10: N/A | D10: CUMPLE | E10: CUMPLE | F10: N/A | M10: CUMPLE | N10: 2 | O10: 0.1 | P10: CUMPLE | Q10: JAIRO IVAN CASTILLO | R10: GRUPO TRUMEJ S.A.S. RL: CARLOS ANDRES TRUJILLO HENAO | S10: CUMPLE | T10: CUMPLE | U10: 9.731.782 de Armenia-Quindio | V10: CUMPLE | W10: CUMPLE | X10: N/A | Y10: VERIFICADOS POR LA ENTIDAD | AD10: NO CUMPLE | AE10: CUMPLE | AF10: N/A | AG10: CUMPLE | AH10: CUMPLE | AI10: CUMPLE | AJ10: NO TIENE | AK10: 45639 | AL10: CONSORCIO INGENIERIA HORIZONTAL 2025 | AM10: SEGUROS DEL ESTADO | AN10: 11-44-101243565 | AO10: 34,215,164,05 | AP10: 45639 | AQ10: 45395 | AR10: CUMPLE CON 3 MESES A PARTIR DE SU PRESENTACION | AS10: CUMPLE | AT10: CUMPLE | AU10: N/A | AV10: CUMPLE | AW10: N/A | BD10: N/A | BE10: CUMPLE | BF10: ELOFERENTE CUMPLE CON LA TOTALIDAD DE REQUISITOS SOLICITADOS Y VERIFICADOS POR PARTE DEL COMPONENTE JURÍDICO. EN CONSECUENCIA, SE ENCUENTRA HABILITADO DESDE EL COMPONENTE JURÍDICO.
F11: N/A | M11: CUMPLE | N11: 2 | O11: 0.9 | P11: CUMPLE | R11: V Y T CONSTRUCCIONES S.A.S. RL: JAIME ANDRES VILLANUEVA | S11: CUMPLE | T11: CUMPLE | U11: 9.732.076 de Armenia-Quindio | V11: CUMPLE | W11: CUMPLE | X11: N/A | Y11: VERIFICADOS POR LA ENTIDAD | AD11: NO CUMPLE | AE11: CUMPLE | AF11: N/A | AG11: CUMPLE | AH11: CUMPLE | AI11: CUMPLE | AJ11: NO TIENE | AK11: 45639 | AW11: N/A | BD11: N/A
A12: 7 | B12: CONSORCIO JACA 2024 | C12: N/A | D12: CUMPLE | E12: N/A | F12: N/A | M12: CUMPLE | N12: 2 | O12: CUMPLE (10%) | P12: NO CUMPLE | Q12: JAIRO IVAN CASTILLO | R12: JAIRO IVAN CASTILLO | S12: CUMPLE | T12: CUMPLE | U12: 18.418.225 de Montenegro-Quindio | V12: CUMPLE | W12: N/A | X12: N/A | Y12: VERIFICADOS POR LA ENTIDAD | AD12: N/A | AE12: N/A | AF12: CUMPLE | AG12: CUMPLE | AH12: CUMPLE | AI12: CUMPLE | AJ12: NO TIENE | AK12: 45636 | AL12: CONSORCIO JACA 2024 | AM12: SEGUROS DEL ESTADO | AN12: 60-44-101014293 | AO12: 34215164 | AP12: 45639 | AQ12: 45381 | AR12: CUMPLE CON 3 MESES A PARTIR DE SU PRESENTACION | AS12: CUMPLE | AT12: CUMPLE | AU12: N/A | AV12: CUMPLE | AW12: N/A | BD12: N/A | BE12: CUMPLE | BF12: ELOFERENTE CUMPLE CON LA TOTALIDAD DE REQUISITOS SOLICITADOS Y VERIFICADOS POR PARTE DEL COMPONENTE JURÍDICO. EN CONSECUENCIA, SE ENCUENTRA HABILITADO DESDE EL COMPONENTE JURÍDICO.
F13: N/A | M13: CUMPLE | N13: 2 | O13: CUMPLE (90%) | R13: JAVIER MARTINEZ BURITICA | S13: CUMPLE | T13: CUMPLE | U13: 7.529.115 de Armenia-Quindio | V13: CUMPLE | W13: N/A | X13: N/A | Y13: VERIFICADOS POR LA ENTIDAD | AE13: N/A | AF13: CUMPLE | AG13: CUMPLE | AH13: CUMPLE | AI13: CUMPLE | AJ13: NO TIENE | AK13: 45636 | AW13: N/A | BD13: N/A
A14: 8 | B14: JORGE VARGAS OROZCO | C14: CUMPLE | D14: N/A | E14: N/A | F14: N/A | M14: N/A | V14: CUMPLE | W14: N/A | X14: N/A | Y14: VERIFICADOS POR LA ENTIDAD | AD14: N/A | AE14: N/A | AF14: CUMPLE | AG14: CUMPLE | AH14: CUMPLE | AI14: CUMPLE | AJ14: NO TIENE | AK14: 45639 | AL14: JORGE VARGAS OROZCO | AM14: SEGUROS DEL ESTADO | AN14: 60-44-101014291 | AO14: 34215164 | AP14: 45639 | AQ14: 45381 | AR14: CUMPLE CON 3 MESES A PARTIR DE SU PRESENTACION | AS14: CUMPLE | AT14: CUMPLE | AU14: N/A | AV14: CUMPLE | AW14: N/A | BD14: N/A | BE14: CUMPLE | BF14: ELOFERENTE CUMPLE CON LA TOTALIDAD DE REQUISITOS SOLICITADOS Y VERIFICADOS POR PARTE DEL COMPONENTE JURÍDICO. EN CONSECUENCIA, SE ENCUENTRA HABILITADO DESDE EL COMPONENTE JURÍDICO.

Sheet C. FINANCIERA
A1: ANEXO 1 EVALUACION FINANCIERA PRELIMINAR
A2: SELECCIÓN ABREVIADA DE MENOR CUANTÍA No. SAMC-038-2024
A3: MANTENIMIENTO Y/O MEJORAMIENTO DE LA INSTITUCIÓN EDUCATIVA INSTITUTO MONTENEGRO Y LA INSTITUCIÓN EDUCATIVA GENERAL SANTANDER EN SU SEDE PRINCIPAL, SEDE LA ISABELA Y SEDE OBANDO”.
E5: 1.54 | G5: 0.64 | I5: 2.21 | K5: 0.06 | M5: 0.03
A6: OFERENTE | C6: INFORMACIÓN RUP | D6: VALOR | E6: INDICADOR | O6: HABILITADO/NO HABILITADO
E7: LIQUIDEZ (IL) | G7: ENDEUDAMIENTO (NE) | I7: COBERTURA DE INTERESES (RCI) | K7: RENTABILIDAD DEL PATRIMONIO (RP) | M7: RENTABILIDAD DEL ACTIVO (RSA)
E8: Indicador | F8: Part. | G8: Indicador | H8: Part. | I8: Indicador | J8: Part. | K8: Indicador | L8: Part. | M8: Indicador
A9: JAIME ALBERTO ANGEL LONDOÑO | B9: JAIME ALBERTO ANGEL LONDOÑO 100% | C9: Activo Corriente | D9: 129682341 | E9: =D9/D11 -> 24.795859 | F9: =E9*100% -> 24.795859 | G9: =D12/D10 -> 0.023763833 | H9: =G9*100% -> 0.023763833 | I9: =D14/D15 -> 238.05262 | J9: =I9*100% -> 238.05262 | K9: =D14/D13 -> 0.36081115 | L9: =K9*100% -> 0.36081115 | M9: =D14/D10 -> 0.3522369 | N9: =M9*100% -> 0.3522369 | O9: HABILITADO
C10: Total Activo | D10: 220082341
C11: Pasivo Corriente | D11: 5230000
C12: Total Pasivo | D12: 5230000 | R12: Fecha expedición: 18/11/2024 - 08:29:55
C13: Patrimonio | D13: 214852341
C14: Utilidad/pérdida Operacional | D14: 77521121
C15: Gasto de Intereses | D15: 325647
B16: TOTAL INDICADOR PROPONENTE | E16: =((D9*100%))/((D11*100%)) -> 24.795859 | G16: =((D12*100%))/((D10*100%)) -> 0.023763833 | I16: =((D14*100%))/((D15*100%)) -> 238.05262 | K16: =((D14*100%))/((D13*100%)) -> 0.36081115 | M16: =((D14*100%))/((D10*100%)) -> 0.3522369
A17: MARIA AMÉRICA GARCÍA PRIETO | B17: MARIA AMÉRICA GARCÍA PRIETO 100% | C17: Activo Corriente | D17: 272720478 | E17: =D17/D19 -> 27.272048 | F17: =E17*100% -> 27.272048 | G17: =D20/D18 -> 0.27813788 | H17: =G17*100% -> 0.27813788 | I17: =D22/D23 -> 19.154142 | J17: =I17*100% -> 19.154142 | K17: =D22/D21 -> 0.17025465 | L17: =K17*100% -> 0.17025465 | M17: =D22/D18 -> 0.12290038 | N17: =M17*100% -> 0.12290038 | O17: HABILITADO
C18: Total Activo | D18: 503347478
C19: Pasivo Corriente | D19: 10000000
C20: Total Pasivo | D20: 140000000
C21: Patrimonio | D21: 363347478
C22: Utilidad/pérdida Operacional | D22: 61861596
C23: Gasto de Intereses | D23: 3229672
B24: TOTAL INDICADOR PROPONENTE | E24: =((D17*100%))/((D19*100%)) -> 27.272048 | G24: =((D20*100%))/((D18*100%)) -> 0.27813788 | I24: =+J17 -> 19.154142 | K24: =((D22*100%))/((D21*100%)) -> 0.17025465 | M24: =((D22*100%))/((D18*100%)) -> 0.12290038
A25: INCORES CIVILES SAS | B25: INCORES CIVILES SAS 100% | C25: Activo Corriente | D25: 5956182880 | E25: =D25/D27 -> 28.246482 | F25: =E25*100% -> 28.246482 | G25: =D28/D26 -> 0.57221325 | H25: =G25*100% -> 0.57221325 | I25: =D30/D31 -> #DIV/0! | J25: =I25*100% -> #DIV/0! | K25: =D30/D29 -> 0.62182449 | L25: =K25*100% -> 0.62182449 | M25: =D30/D26 -> 0.26600828 | N25: =M25*100% -> 0.26600828 | O25: HABILITADO
C26: Total Activo | D26: 5957732880
C27: Pasivo Corriente | D27: 210864594
C28: Total Pasivo | D28: 3409093666 | R28: Fecha expedición: 17/10/2024 - 14:32:37
C29: Patrimonio | D29: 2548639214
C30: Utilidad/pérdida Operacional | D30: 1584806271
C31: Gasto de Intereses | D31: 0
B32: TOTAL INDICADOR PROPONENTE | E32: =((D25*100%))/((D27*100%)) -> 28.246482 | G32: =((D28*100%))/((D26*100%)) -> 0.57221325 | I32: INDERTERMINADO | K32: =((D30*100%))/((D29*100%)) -> 0.62182449 | M32: =((D30*100%))/((D26*100%)) -> 0.26600828
A33: SANCAR INGENIEROS SAS | B33: SANCAR INGENIEROS SAS 100% | C33: Activo Corriente | D33: 576206163 | E33: =D33/D35 -> #DIV/0! | F33: =E33*100% -> #DIV/0! | G33: =D35/D33 -> 0 | H33: =G33*100% -> 0 | I33: =D38/D39 -> 61567.343 | J33: =I33*100% -> 61567.343 | K33: =D38/D37 -> 0.33644063 | L33: =K33*100% -> 0.33644063 | M33: =D38/D33 -> 0.27353473 | N33: =M33*100% -> 0.27353473 | O33: HABILITADO
C34: Total Activo | D34: 643026163
C35: Pasivo Corriente | D35: 0
C36: Total Pasivo | D36: 174556000 | R36: Fecha expedición: 15/11/2024 - 12:00:16
C37: Patrimonio | D37: 468470163
C38: Utilidad/pérdida Operacional | D38: 157612399
C39: Gasto de Intereses | D39: 2560
B40: TOTAL INDICADOR PROPONENTE | E40: INDETERMINADO | G40: =((D36*100%))/((D34*100%)) -> 0.27146018 | I40: =+J33 -> 61567.343 | K40: =((D38*100%))/((D37*100%)) -> 0.33644063 | M40: 0.25
A41: MARLON SALAZAR ARBOLEDA | B41: MARLON SALAZAR ARBOLEDA 100% | C41: Activo Corriente | D41: 134066105 | E41: =D41/D43 -> 30.6087 | F41: =E41*100% -> 30.6087 | G41: =D44/D42 -> 0.031769966 | H41: =G41*100% -> 0.031769966 | I41: =D46/D47 -> 73522.51 | J41: =I41*100% -> 73522.51 | K41: =D46/D45 -> 0.26973386 | L41: =K41*100% -> 0.26973386 | M41: 0.26 | N41: =M41*100% -> 0.26 | O41: HABILITADO
...

Sheet C. RESIDUAL
A1: ANEXO CAPACIDAD RESIDUAL
A2: SELECCIÓN ABREVIADA DE MENOR CUANTÍA No. SAMC-038-2024
A3: MANTENIMIENTO Y/O MEJORAMIENTO DE LA INSTITUCIÓN EDUCATIVA INSTITUTO MONTENEGRO Y LA INSTITUCIÓN EDUCATIVA GENERAL SANTANDER EN SU SEDE PRINCIPAL, SEDE LA ISABELA Y SEDE OBANDO”.
A4: Orden de entrega Nro. | B4: PROPONENTE U OFERENTE (Persona Natural / Persona Juridica o Consorcio) | C4: INFORMACION DE CONTRATOS EN EJECUCION PARA CALCULAR LA CAPACIDAD RESIDUAL / CAPACIDAD TECNICA E INFORMACION FINANCIERA CERTIFICADA POR EL CONTADOR | E4: ESTADO (Habilitado/ No Habilitado) | F4: OBSERVACIONES:
C5: Capacidad Residual del Proceso de Contratacion (CRPC) | D5: CAPACIDAD RESIDUAL DEL PROPONENTE (CRP)
A6: 1 | B6: JAIME ALBERTO ANGEL LONDOÑO | C6: 3.4215164e+08 | D6: 3.6824707e+09 | E6: HABILITADO
A7: 2 | B7: MARIA AMERICA GARCÍA PRIETO | C7: 3.4215164e+08 | E7: NO HABILITADO | F7: Debe subsanar aportando certificado de antecedentes disciplinarios vigentes de la contadora SONIA ARBELAEZ DE ARBELAEZTP 7663-T. Asi mismo debe subsanar aportando los siguientes formatos: 1) Formato contratos en ejecucion 2) Capacidad Tecnica 3)Formato de Experiencia (Valor total contratado en $COP) Lo anterior de conformidad al numeral 4.8 CAPACIDAD RESIDUAL DEL PROPONENTE, del pliego de condiciones definitivo.
A8: 3 | B8: INCORES CIVILES SAS | C8: 3.4215164e+08 | D8: 2.2427246e+10 | E8: HABILITADO
A9: 4 | B9: SANCAR INGENIEROS SAS | C9: 3.4215164e+08 | D9: 1150522065 | E9: HABILITADO
A10: 5 | B10: MARLON SALAZAR ARBOLEDA | C10: 3.4215164e+08 | D10: 9.5820857e+08 | E10: HABILITADO
A11: 6 | B11: CONSORCIO INGENIERÍA HORIZONTAL 2025 | C11: 3.4215164e+08 | D11: 3.6641222e+09 | E11: HABILITADO
A12: 7 | B12: CONSORCIO JACA 2024 | C12: 3.4215164e+08 | D12: 5.5567149e+09 | E12: HABILITADO
A13: 8 | B13: JORGE VARGAS OROZCO | C13: 3.4215164e+08 | D13: 1.7509961e+09 | E13: HABILITADO

Sheet Ofertas
B1: INFORME PRELIMINAR DE OFERTA PROCESO CONTRACTUAL: SELECCIÓN ABREVIADA DE MENOR CUANTÍA No. SAMC-038 DE 2024
A2: LISTA DE OFERTAS
A3: ITEMS | B3: Oferente | D3: valor presupuesto oficial | E3: Valor oferta económica
A4: 1 | B4: JAIME ALBERTO ANGEL LONDOÑO | D4: 3.4215164e+08 | E4: 3.1734572e+08
A5: 2 | B5: MARIA AMERICA GARCIA PRIETO | E5: 3.2689176e+08
A6: 3 | B6: INCORES CIVILES SAS | E6: 3.2360446e+08
A7: 4 | B7: SANCAR INGENIEROS SAS | E7: 3.2354458e+08
A8: 5 | B8: MARLON SALAZAR ARBOLEDA | E8: =[2]CONSOLIDADO!O8 -> 324885489
A9: 6 | B9: CONSORCIO INGENIERIA HORIZONTAL 2025 | E9: 3.1790327e+08
A10: 7 | B10: CONSORCIO JACA 2024 | E10: 3.2100806e+08
A11: 8 | B11: JORGE VARGAS OROZCO | E11: =[2]CONSOLIDADO!O11 -> 3.2541368e+08

Sheet E. TECNICA P1
D1: EVALUACION TECNICA
D2: SAMC 038 DE 2024 - MANTENIMIENTO Y/O MEJORAMIENTO DE LA INSTITUCIÓN EDUCATIVA INSTITUTO MONTENEGRO Y LA INSTITUCIÓN EDUCATIVA GENERAL SANTANDER EN SU SEDE PRINCIPAL, SEDE LA ISABELA Y SEDE OBANDO.
W5: CRITERIO | X5: PERSONA
W6: CUMPLE | X6: NATURAL
W7: NO CUMPLE | X7: JURIDICA
A8: CRITERIOS GENERALES | K8: VALORES OFICIALES
A9: PROPONENTE : | C9: NOMBRE | E9: JAIME ALBERTO ANGEL LONDOÑO | K9: PRESUPUESTO OFICIAL | Q9: 3.4215164e+08 | U9: CUMPLE | W9: CUMPLE | X9: NATURAL
C10: P. NATURAL | E10: P. JURIDICA | G10: PROP. PLURAL | K10: SMMLV 2024 | Q10: 1300000 | U10: NO CUMPLE | W10: NO CUMPLE | X10: JURIDICA
C11: X | K11: PRES. OFICIAL EN SMMLV 2024 | Q11: =+Q9/Q10 -> 263.19357 | U11: NO APLICA
A12: INTEGRANTES: | C12: NO APLICA | K12: FECHA DE CIERRE | Q12: 45639 | W12: NOMBRE
A13: REPRESENTANTE LEGAL: | C13: NO APLICA | W13: =+A24 -> JAIME ALBERTO ANGEL LONDOÑO
A14: AVAL | C14: NO APLICA TODA VEZ QUE EL REPRESENTANTE LEGAL CUMPLE CON LA PROFESIÓN DE INGENIERO CIVIL Y/O ARQUITECTO
A15: COPIA TARJETA PROFESIONAL: | C15: CUMPLE
A16: MATRICULA VIGENTE: | C16: CUMPLE
A17: EXPERIENCIA GENERAL : P NATURAL .Para el caso de la experiencia general para las personas naturales plenamente capaces deberán acreditar el título profesional de INGENIERÍA CIVIL, Y/O ARQUITECTO, con experiencia profesional de DOS (2) AÑOS contada a partir de la expedición de la tarjeta y/o matrícula profesional del respectivo profesional, copia de la matrícula profesional y certificado de vigencia expedida por la autoridad competente máxima de SEIS (06) MESES, contados a partir de la fecha de cierre del presente proceso de selección. P JURIDICA Para el caso de experiencia general de las personas jurídica la experiencia general será de DOS (02) AÑOS, la cual se contará a partir de la fecha de constitución registrada en el Certificado de Existencia y Representación Legal expedido por la Cámara de Comercio y que dentro de su actividad social y comercial comprenda ACTIVIDADES RELACIONADAS CON LA CONSTRUCCIÓN DE INFRAESTRUCTURA Y/O DE OBRAS CIVILES. Tratándose de personas jurídicas, el representante legal o quien avala su oferta, deberá acreditar ser profesional en INGENIERÍA CIVIL, Y/O ARQUITECTURA, con experiencia profesional de DOS (2) AÑOS contada a partir de la expedición de la tarjeta y/o matrícula profesional del respectivo profesional, copia de la matrícula profesional y certificado de vigencia expedida por la autoridad competente máxima de SEIS (06) MESES, contados a partir de la fecha de cierre del presente proceso de selección. P PLURAL Para el caso de Consorcios y/o Uniones temporales, si uno o varios de los integrantes son personas naturales, estos deberán de acreditar título profesional de INGENIERÍA CIVIL, Y/O ARQUITECTO , con experiencia profesional de DOS (2) AÑOS contada a partir de la expedición de la tarjeta y/o matricula profesional del respectivo profesional, copia de la matricula profesional y certificado de vigencia expedida por la autoridad competente máxima de SEIS (06) MESES, contados a partir de la fecha de cierre del presente proceso de selección. Para el caso de Consorcios y/o Uniones temporales, si uno o varios de los integrantes son personas jurídicas deberá acreditar como mínimo DOS (02) AÑOS de constitución y deberá de cumplir con los mismos requisitos señalados en el literal denominado “Experiencia general para personas jurídicas”. Para el caso de CONSORCIOS Y/O UNIONES TEMPORALES, al menos uno de los integrantes deberá acreditar como mínimo DOS (02) AÑOS de experiencia general, sin embargo, deberá de verificar los anteriores numerales para efectos de determinar cómo acreditará la condición de experiencia general (Experiencia general para personas jurídicas y Experiencia general y/o profesional para personas naturales). | W17: =+A25 -> 0
A18: P. JURÍDICA | C18: N/A | G18: AÑOS | H18: CUMPLE
A19: P. NATURAL/ REP. LEGAL/AVAL | C19: =2024-2005 -> 19 | G19: AÑOS | H19: CUMPLE | W19: =+A26 -> 0
A20: COPIA TARJETA PROFESIONAL: | C20: CUMPLE | W20: =+A27 -> 0
A21: MATRICULA VIGENTE: | C21: CUMPLE
A22: CERTIFICADO DE VIGENCIA PROFESIONAL | C22: CUMPLE
A23: NOMBRE | D23: PROPONENTE | E23: % PARTICIPACION | G23: CEDULA - CERTIFICADO | H23: MATRICULA - OBJETO SOCIAL | I23: AÑOS DE EXPERIENCIA
A24: JAIME ALBERTO ANGEL LONDOÑO | D24: NATURAL | E24: 1 | G24: CUMPLE | H24: CUMPLE | I24: CUMPLE | W24: CONTRATO 1 | Z24: CUMPLE - FORMATO 7B
W25: CONTRATO 2 | Z25: NO CUMPLE - FORMATO 7B | AP25: j
W26: CONTRATO 3
W27: CONTRATO 4
W28: CONTRATO 5
A30: EXPERIENCIA ESPECIFICA: El proponente deberá acreditar en máximo tres (03) contratos de obra, cuyo objeto o alcance del objeto, tenga relación con la “CONSTRUCCIÓN Y/O RECONSTRUCCIÓN Y/O AMPLIACIÓN Y/O TERMINACIÓN Y/O REHABILITACIÓN Y/O ADECUACIÓN Y/O MEJORAMIENTO Y/O MANTENIMIENTO DE INFRAESTRUCTURAS EDUCATIVAS cuya sumatoria sea mayor o igual al cien por ciento (100%) del valor del presente proceso de selección en Salarios Mínimos Mensuales Legales Vigentes para el presente año, es decir, 263,19 SMMLV. Todas las certificaciones aportadas para acreditar la experiencia requerida deberán estar debidamente registradas en el RUP y clasificadas en uno de los siguientes códigos: CÓDIGO UNSPSC SEGMENTO FAMILIA CLASE NOMBRE DEL PRODUCTO 72 10 15 00 Servicios de apoyo para la construcción 72 10 33 00 Servicio de mantenimiento y reparación de Infraestructura 95 12 19 00 Edificios y estructuras educacionales y de administración | W30: CONTRATO 6
A31: VALIDACION EXPERIENCIA ESPECIFICA | W31: SUBCONTRATO 1
A32: INFORMACION BASE | E32: CONTRATO 1 | W32: SUBCONTRATO 2
A33: INTEGRANTE QUE APORTA EXPERIENCIA | E33: JAIME ALBERTO ANGEL LONDOÑO | Q33: CUMPLE
A34: OBJETO Y/O ALCANCE | E34: OBRA CIVIL PARA LA CONSTRUCCION DE LAS PLANTAS PILOTO DE ALIMENTOS DE LA UNIVERSIDAD DEL QUINDIO | W34: SUBCONTRATO 3
A35: CUMPLE/ NO CUMPLE | E35: CUMPLE
A36: % PARTICIPACION EN EL CONTRATO | E36: 0.7 | W36: SUBCONTRATO 4
A37: EQUIVALENCIA DE EXPERIENCIA | E37: 0.7
A38: VALOR DEL CONTRATO ($) | E38: 3.3709987e+09 | W38: SUBCONTRATO 5
A39: AÑO DE TERMINACION | E39: 2020 | W39: SUBCONTRATO 6
A40: VALOR DEL SMMLV EN EL AÑO DE TERMINACION | E40: =+IF(ISNUMBER(E39),LOOKUP(E39,$AB$64:$AB$111,$AC$64:$AC$111),"") -> 877803
A41: VALOR DEL CONTRATO EN SMMLV | E41: =+IF(ISBLANK(E39),0,E38/E40)-0.01 -> 3840.2579 | W41: CRITERIO FINAL
A42: VALOR DEL CONTRATO EN SMMLV AFECTADO POR %PARTICIPACION | E42: =E41*E37 -> 2688.1805 | W42: CRITERIO FINAL
A43: CONSECUTIVO RUP | E43: 13
...

Sheet E. TECNICA P2
D1: EVALUACION TECNICA
D2: SAMC 038 DE 2024 - MANTENIMIENTO Y/O MEJORAMIENTO DE LA INSTITUCIÓN EDUCATIVA INSTITUTO MONTENEGRO Y LA INSTITUCIÓN EDUCATIVA GENERAL SANTANDER EN SU SEDE PRINCIPAL, SEDE LA ISABELA Y SEDE OBANDO.
W5: CRITERIO | X5: PERSONA
W6: CUMPLE | X6: NATURAL
W7: NO CUMPLE | X7: JURIDICA
A8: CRITERIOS GENERALES | K8: VALORES OFICIALES
A9: PROPONENTE : | C9: NOMBRE | E9: MARIA AMERICA GARCIA PRIETO | K9: PRESUPUESTO OFICIAL | Q9: 3.4215164e+08 | U9: CUMPLE | W9: CUMPLE | X9: NATURAL
C10: P. NATURAL | E10: P. JURIDICA | G10: PROP. PLURAL | K10: SMMLV 2024 | Q10: 1300000 | U10: NO CUMPLE | W10: NO CUMPLE | X10: JURIDICA
C11: X | K11: PRES. OFICIAL EN SMMLV 2024 | Q11: =+Q9/Q10 -> 263.19357 | U11: NO APLICA
A12: INTEGRANTES: | C12: NO APLICA | K12: FECHA DE CIERRE | Q12: 45639 | W12: NOMBRE
A13: REPRESENTANTE LEGAL: | C13: NO APLICA | W13: =+A24 -> MARIA AMERICA GARCIA PRIETO
A14: AVAL | C14: NO APLICA TODA VEZ QUE EL REPRESENTANTE LEGAL CUMPLE CON LA PROFESIÓN DE INGENIERO CIVIL Y/O ARQUITECTO
A15: COPIA TARJETA PROFESIONAL: | C15: CUMPLE
A16: MATRICULA VIGENTE: | C16: CUMPLE
A17: EXPERIENCIA GENERAL : P NATURAL .Para el caso de la experiencia general para las personas naturales plenamente capaces deberán acreditar el título profesional de INGENIERÍA CIVIL, Y/O ARQUITECTO, con experiencia profesional de DOS (2) AÑOS contada a partir de la expedición de la tarjeta y/o matrícula profesional del respectivo profesional, copia de la matrícula profesional y certificado de vigencia expedida por la autoridad competente máxima de SEIS (06) MESES, contados a partir de la fecha de cierre del presente proceso de selección. P JURIDICA Para el caso de experiencia general de las personas jurídica la experiencia general será de DOS (02) AÑOS, la cual se contará a partir de la fecha de constitución registrada en el Certificado de Existencia y Representación Legal expedido por la Cámara de Comercio y que dentro de su actividad social y comercial comprenda ACTIVIDADES RELACIONADAS CON LA CONSTRUCCIÓN DE INFRAESTRUCTURA Y/O DE OBRAS CIVILES. Tratándose de personas jurídicas, el representante legal o quien avala su oferta, deberá acreditar ser profesional en INGENIERÍA CIVIL, Y/O ARQUITECTURA, con experiencia profesional de DOS (2) AÑOS contada a partir de la expedición de la tarjeta y/o matrícula profesional del respectivo profesional, copia de la matrícula profesional y certificado de vigencia expedida por la autoridad competente máxima de SEIS (06) MESES, contados a partir de la fecha de cierre del presente proceso de selección. P PLURAL Para el caso de Consorcios y/o Uniones temporales, si uno o varios de los integrantes son personas naturales, estos deberán de acreditar título profesional de INGENIERÍA CIVIL, Y/O ARQUITECTO , con experiencia profesional de DOS (2) AÑOS contada a partir de la expedición de la tarjeta y/o matricula profesional del respectivo profesional, copia de la matricula profesional y certificado de vigencia expedida por la autoridad competente máxima de SEIS (06) MESES, contados a partir de la fecha de cierre del presente proceso de selección. Para el caso de Consorcios y/o Uniones temporales, si uno o varios de los integrantes son personas jurídicas deberá acreditar como mínimo DOS (02) AÑOS de constitución y deberá de cumplir con los mismos requisitos señalados en el literal denominado “Experiencia general para personas jurídicas”. Para el caso de CONSORCIOS Y/O UNIONES TEMPORALES, al menos uno de los integrantes deberá acreditar como mínimo DOS (02) AÑOS de experiencia general, sin embargo, deberá de verificar los anteriores numerales para efectos de determinar cómo acreditará la condición de experiencia general (Experiencia general para personas jurídicas y Experiencia general y/o profesional para personas naturales). | W17: =+A25 -> 0
A18: P. JURÍDICA | C18: N/A | G18: AÑOS | H18: CUMPLE
A19: P. NATURAL/ REP. LEGAL/AVAL | C19: =2024-1986 -> 38 | G19: AÑOS | H19: CUMPLE | W19: =+A26 -> 0
A20: COPIA TARJETA PROFESIONAL: | C20: CUMPLE | W20: =+A27 -> 0
A21: MATRICULA VIGENTE: | C21: CUMPLE
A22: CERTIFICADO DE VIGENCIA PROFESIONAL | C22: CUMPLE
A23: NOMBRE | D23: PROPONENTE | E23: % PARTICIPACION | G23: CEDULA - CERTIFICADO | H23: MATRICULA - OBJETO SOCIAL | I23: AÑOS DE EXPERIENCIA
A24: MARIA AMERICA GARCIA PRIETO | D24: NATURAL | E24: 1 | G24: CUMPLE | H24: CUMPLE | I24: CUMPLE | W24: CONTRATO 1 | Z24: CUMPLE - FORMATO 7B
W25: CONTRATO 2 | Z25: NO CUMPLE - FORMATO 7B | AP25: j
W26: CONTRATO 3
W27: CONTRATO 4
W28: CONTRATO 5
A30: EXPERIENCIA ESPECIFICA: El proponente deberá acreditar en máximo tres (03) contratos de obra, cuyo objeto o alcance del objeto, tenga relación con la “CONSTRUCCIÓN Y/O RECONSTRUCCIÓN Y/O AMPLIACIÓN Y/O TERMINACIÓN Y/O REHABILITACIÓN Y/O ADECUACIÓN Y/O MEJORAMIENTO Y/O MANTENIMIENTO DE INFRAESTRUCTURAS EDUCATIVAS cuya sumatoria sea mayor o igual al cien por ciento (100%) del valor del presente proceso de selección en Salarios Mínimos Mensuales Legales Vigentes para el presente año, es decir, 263,19 SMMLV. Todas las certificaciones aportadas para acreditar la experiencia requerida deberán estar debidamente registradas en el RUP y clasificadas en uno de los siguientes códigos: CÓDIGO UNSPSC SEGMENTO FAMILIA CLASE NOMBRE DEL PRODUCTO 72 10 15 00 Servicios de apoyo para la construcción 72 10 33 00 Servicio de mantenimiento y reparación de Infraestructura 95 12 19 00 Edificios y estructuras educacionales y de administración | W30: CONTRATO 6
A31: VALIDACION EXPERIENCIA ESPECIFICA | W31: SUBCONTRATO 1
A32: INFORMACION BASE | E32: CONTRATO 1 | W32: SUBCONTRATO 2
A33: INTEGRANTE QUE APORTA EXPERIENCIA | E33: MARIA AMERICA GARCIA PRIETO | Q33: CUMPLE
A34: OBJETO Y/O ALCANCE | E34: RECONSTRUCCION CON ADECUACION A LANSR-98 DE LAS ESCUELAS LUISGRANADA MEJIA, LA PRADERA NARAJAL, SAGRADA FAMILIA Y LA PALMITA SECTOR RURAL DE LOS MPIOS DE PIJAO, ARMENIA, QUIMBAYA Y LA TEBAIDA | W34: SUBCONTRATO 3
A35: CUMPLE/ NO CUMPLE | E35: CUMPLE
A36: % PARTICIPACION EN EL CONTRATO | E36: 1 | W36: SUBCONTRATO 4
A37: EQUIVALENCIA DE EXPERIENCIA | E37: 1
A38: VALOR DEL CONTRATO ($) | E38: 476621860 | W38: SUBCONTRATO 5
A39: AÑO DE TERMINACION | E39: 2001 | W39: SUBCONTRATO 6
A40: VALOR DEL SMMLV EN EL AÑO DE TERMINACION | E40: =+IF(ISNUMBER(E39),LOOKUP(E39,$AB$64:$AB$111,$AC$64:$AC$111),"") -> 286000
A41: VALOR DEL CONTRATO EN SMMLV | E41: =+IF(ISBLANK(E39),0,E38/E40)-0.01 -> 1666.5 | W41: CRITERIO FINAL
A42: VALOR DEL CONTRATO EN SMMLV AFECTADO POR %PARTICIPACION | E42: =E41*E37 -> 1666.5 | W42: CRITERIO FINAL
A43: CONSECUTIVO RUP | E43: 42
...

Sheet E. TECNICA P3
D1: EVALUACION TECNICA
D2: SAMC 038 DE 2024 - MANTENIMIENTO Y/O MEJORAMIENTO DE LA INSTITUCIÓN EDUCATIVA INSTITUTO MONTENEGRO Y LA INSTITUCIÓN EDUCATIVA GENERAL SANTANDER EN SU SEDE PRINCIPAL, SEDE LA ISABELA Y SEDE OBANDO.
W5: CRITERIO | X5: PERSONA
W6: CUMPLE | X6: NATURAL
W7: NO CUMPLE | X7: JURIDICA
A8: CRITERIOS GENERALES | K8: VALORES OFICIALES
A9: PROPONENTE : | C9: NOMBRE | E9: INCORES CIVILES S.A.S | K9: PRESUPUESTO OFICIAL | Q9: 3.4215164e+08 | U9: CUMPLE | W9: CUMPLE | X9: NATURAL
C10: P. NATURAL | E10: P. JURIDICA | G10: PROP. PLURAL | K10: SMMLV 2024 | Q10: 1300000 | U10: NO CUMPLE | W10: NO CUMPLE | X10: JURIDICA
E11: X | K11: PRES. OFICIAL EN SMMLV 2024 | Q11: =+Q9/Q10 -> 263.19357 | U11: NO APLICA
A12: INTEGRANTES: | C12: LUISA FERNANDA TORRES GARCIA | K12: FECHA DE CIERRE | Q12: 45639 | W12: NOMBRE
A13: REPRESENTANTE LEGAL: | C13: LUISA FERNANDA TORRES GARCIA | W13: =+A24 -> INCORES CIVILES S.A.S
A14: AVAL | C14: FIRMO CARTA DE DE PRESENTACION DE OFERTA
A15: COPIA TARJETA PROFESIONAL: | C15: CUMPLE
A16: MATRICULA VIGENTE: | C16: CUMPLE
A17: EXPERIENCIA GENERAL : P NATURAL .Para el caso de la experiencia general para las personas naturales plenamente capaces deberán acreditar el título profesional de INGENIERÍA CIVIL, Y/O ARQUITECTO, con experiencia profesional de DOS (2) AÑOS contada a partir de la expedición de la tarjeta y/o matrícula profesional del respectivo profesional, copia de la matrícula profesional y certificado de vigencia expedida por la autoridad competente máxima de SEIS (06) MESES, contados a partir de la fecha de cierre del presente proceso de selección. P JURIDICA Para el caso de experiencia general de las personas jurídica la experiencia general será de DOS (02) AÑOS, la cual se contará a partir de la fecha de constitución registrada en el Certificado de Existencia y Representación Legal expedido por la Cámara de Comercio y que dentro de su actividad social y comercial comprenda ACTIVIDADES RELACIONADAS CON LA CONSTRUCCIÓN DE INFRAESTRUCTURA Y/O DE OBRAS CIVILES. Tratándose de personas jurídicas, el representante legal o quien avala su oferta, deberá acreditar ser profesional en INGENIERÍA CIVIL, Y/O ARQUITECTURA, con experiencia profesional de DOS (2) AÑOS contada a partir de la expedición de la tarjeta y/o matrícula profesional del respectivo profesional, copia de la matrícula profesional y certificado de vigencia expedida por la autoridad competente máxima de SEIS (06) MESES, contados a partir de la fecha de cierre del presente proceso de selección. P PLURAL Para el caso de Consorcios y/o Uniones temporales, si uno o varios de los integrantes son personas naturales, estos deberán de acreditar título profesional de INGENIERÍA CIVIL, Y/O ARQUITECTO , con experiencia profesional de DOS (2) AÑOS contada a partir de la expedición de la tarjeta y/o matricula profesional del respectivo profesional, copia de la matricula profesional y certificado de vigencia expedida por la autoridad competente máxima de SEIS (06) MESES, contados a partir de la fecha de cierre del presente proceso de selección. Para el caso de Consorcios y/o Uniones temporales, si uno o varios de los integrantes son personas jurídicas deberá acreditar como mínimo DOS (02) AÑOS de constitución y deberá de cumplir con los mismos requisitos señalados en el literal denominado “Experiencia general para personas jurídicas”. Para el caso de CONSORCIOS Y/O UNIONES TEMPORALES, al menos uno de los integrantes deberá acreditar como mínimo DOS (02) AÑOS de experiencia general, sin embargo, deberá de verificar los anteriores numerales para efectos de determinar cómo acreditará la condición de experiencia general (Experiencia general para personas jurídicas y Experiencia general y/o profesional para personas naturales). | W17: =+A25 -> 0
A18: P. JURÍDICA | C18: =2024-2019 -> 5 | G18: AÑOS | H18: CUMPLE
A19: P. NATURAL/ REP. LEGAL/AVAL | C19: 12 | G19: AÑOS | H19: CUMPLE | W19: =+A26 -> 0
A20: COPIA TARJETA PROFESIONAL: | C20: CUMPLE | W20: =+A27 -> 0
A21: MATRICULA VIGENTE: | C21: CUMPLE
A22: CERTIFICADO DE VIGENCIA PROFESIONAL | C22: CUMPLE
A23: NOMBRE | D23: PROPONENTE | E23: % PARTICIPACION | G23: CEDULA - CERTIFICADO | H23: MATRICULA - OBJETO SOCIAL | I23: AÑOS DE EXPERIENCIA
A24: INCORES CIVILES S.A.S | D24: JURIDICA | E24: 1 | G24: CUMPLE | H24: CUMPLE | I24: CUMPLE | W24: CONTRATO 1 | Z24: CUMPLE - FORMATO 7B
W25: CONTRATO 2 | Z25: NO CUMPLE - FORMATO 7B | AP25: j
W26: CONTRATO 3
W27: CONTRATO 4
W28: CONTRATO 5
A30: EXPERIENCIA ESPECIFICA: El proponente deberá acreditar en máximo tres (03) contratos de obra, cuyo objeto o alcance del objeto, tenga relación con la “CONSTRUCCIÓN Y/O RECONSTRUCCIÓN Y/O AMPLIACIÓN Y/O TERMINACIÓN Y/O REHABILITACIÓN Y/O ADECUACIÓN Y/O MEJORAMIENTO Y/O MANTENIMIENTO DE INFRAESTRUCTURAS EDUCATIVAS cuya sumatoria sea mayor o igual al cien por ciento (100%) del valor del presente proceso de selección en Salarios Mínimos Mensuales Legales Vigentes para el presente año, es decir, 263,19 SMMLV. Todas las certificaciones aportadas para acreditar la experiencia requerida deberán estar debidamente registradas en el RUP y clasificadas en uno de los siguientes códigos: CÓDIGO UNSPSC SEGMENTO FAMILIA CLASE NOMBRE DEL PRODUCTO 72 10 15 00 Servicios de apoyo para la construcción 72 10 33 00 Servicio de mantenimiento y reparación de Infraestructura 95 12 19 00 Edificios y estructuras educacionales y de administración | W30: CONTRATO 6
A31: VALIDACION EXPERIENCIA ESPECIFICA | W31: SUBCONTRATO 1
A32: INFORMACION BASE | E32: CONTRATO 1 | H32: CONTRATO 2 | K32: CONTRATO 3 | W32: SUBCONTRATO 2
A33: INTEGRANTE QUE APORTA EXPERIENCIA | E33: INCORES CIVILES S.A.S | H33: INCORES CIVILES S.A.S | K33: INCORES CIVILES S.A.S | Q33: CUMPLE
A34: OBJETO Y/O ALCANCE | E34: ADECUACION Y MANTENIMIENTO DE RESTAURANTES ESCOLARES EN DIFERENTES IE DEL MUNICIPIO DE ARMENIA | H34: CONSTRUCCION DEL RESTAURANTE ESCOLAR DE LA INSTITUCION EDUCATIVA HERMOGENES MAZA-CASD DE LA CIUDAD DE ARMENA | K34: CONSTRUCCION DE CUBIERTAS EN ESPACIOS DEPORTIVOS EN LAS INSTITUCIONES EDUCATIVAS OFICIALES DELK MUNICIPIO DE ARMENIA | W34: SUBCONTRATO 3
A35: CUMPLE/ NO CUMPLE | E35: CUMPLE | H35: CUMPLE | K35: CUMPLE
A36: % PARTICIPACION EN EL CONTRATO | E36: 0.7 | H36: 0.55 | K36: 0.7 | W36: SUBCONTRATO 4
A37: EQUIVALENCIA DE EXPERIENCIA | E37: 0.7 | H37: 0.55 | K37: 0.7
A38: VALOR DEL CONTRATO ($) | E38: 9.4511093e+08 | H38: 7.6309181e+08 | K38: 2.6737233e+09 | W38: SUBCONTRATO 5
A39: AÑO DE TERMINACION | E39: 2020 | H39: 2020 | K39: 2018 | W39: SUBCONTRATO 6
A40: VALOR DEL SMMLV EN EL AÑO DE TERMINACION | E40: =+IF(ISNUMBER(E39),LOOKUP(E39,$AB$64:$AB$111,$AC$64:$AC$111),"") -> 877803 | H40: =+IF(ISNUMBER(H39),LOOKUP(H39,$AB$64:$AB$111,$AC$64:$AC$111),"") -> 877803 | K40: =+IF(ISNUMBER(K39),LOOKUP(K39,$AB$64:$AB$111,$AC$64:$AC$111),"") -> 781242
A41: VALOR DEL CONTRATO EN SMMLV | E41: =+IF(ISBLANK(E39),0,E38/E40)-0.01 -> 1076.6677 | H41: =+IF(ISBLANK(H39),0,H38/H40)-0.01 -> 869.31013 | K41: =+IF(ISBLANK(K39),0,K38/K40)-0.01 -> 3422.3909 | W41: CRITERIO FINAL
A42: VALOR DEL CONTRATO EN SMMLV AFECTADO POR %PARTICIPACION | E42: =E41*E37 -> 753.6674 | H42: =H41*H37 -> 478.12057 | K42: =K41*K37 -> 2395.6736 | W42: CRITERIO FINAL
A43: CONSECUTIVO RUP | E43: 13 | H43: 138 | K43: 53
...

Sheet P3
C1: PUNTAJE
C2: SAMC 038 DE 2024 - MANTENIMIENTO Y/O MEJORAMIENTO DE LA INSTITUCIÓN EDUCATIVA INSTITUTO MONTENEGRO Y LA INSTITUCIÓN EDUCATIVA GENERAL SANTANDER EN SU SEDE PRINCIPAL, SEDE LA ISABELA Y SEDE OBANDO
A8: PROPONENTE : | C8: NOMBRE | E8: INCORES CIVILES S.A.S
C9: P. NATURAL | E9: P. JURIDICA | G9: PROP. PLURAL
E10: X
A11: CRITERIO DE CALIDAD | J11: PUNTAJE | Z11: 6 | AA11: =+IF(#REF!=#REF!,IF(#REF!="CUMPLE",#REF!,0),"") -> #REF! | AC11: =+IF(#REF!=#REF!,IF(#REF!="CUMPLE",#REF!,0),"") -> #REF! | AE11: =+IF(#REF!=#REF!,IF(#REF!="CUMPLE",#REF!,0),"") -> #REF! | AG11: =+IF(#REF!=#REF!,IF(#REF!="CUMPLE",#REF!,0),"") -> #REF! | AI11: =+IF(#REF!=#REF!,IF(#REF!="CUMPLE",#REF!,0),"") -> #REF!
A12: El proponente Presenta FORMATO 8 – CALIDAD DEL SERVICIO donde se compromete a instalar por cuenta 1 ciclo parqueaderos de 8 bicicletas cada uno. | J12: 20 | Y12: SUMA | AA12: =+SUM(AA11:AB11) -> #REF! | AC12: =+SUM(AC11:AD11) -> #REF! | AE12: =+SUM(AE11:AF11) -> #REF! | AG12: =+SUM(AG11:AH11) -> #REF! | AI12: =+SUM(AI11:AJ11) -> #REF!
AA13: INTEGRANTES | AB13: AVAL 50%
A14: APOYO A LA INDUSTRIA NACIONAL | J14: PUNTAJE | AA14: =+#REF! -> #REF! | AB14: =+IF(#REF!>=50%,1,0) -> #REF! | AF14: C. VAL | AG14: Lps acreditados | AH14: FINAL
A15: El proponente presenta FORMATO 7 – PROMOCIÓN DE SERVICIOS NACIONALES O CON TRATO NACIONAL donde manifiesta bajo la gravedad del juramento que en caso de resultar adjudicatario para la ejecución del objeto contractual destinará un porcentaje de empleados o contratistas por prestación de servicios colombianos, de al menos el cuarenta por ciento 40 del total del personal requerido asociados al cumplimiento del Contrato | J15: 10 | AA15: =+#REF! -> #REF! | AB15: =+IF(#REF!>=50%,1,0) -> #REF! | AF15: =+IF(#REF!="CUMPLE",1,"NC") -> #REF! | AG15: =+IF(#REF!="CUMPLE ",1,0) -> #REF! | AH15: =+IF(AF15=AG15,1,0) -> #REF!
A17: PUNTAJE ADICIONAL ARTÍCULO 2.2.1.2.4.2.15 DEL DECRETO 1082 DE 2015, ADICIONADO POR EL DECRETO 1860 DE 2021, EMPRENDIMIENTOS Y EMPRESAS DE MUJERES EN EL SISTEMA DE COMPRAS PÚBLICAS | J17: PUNTAJE | AA17: =+#REF! -> #REF! | AB17: =+IF(#REF!>=50%,1,0) -> #REF! | AF17: =+IF(#REF!="CUMPLE",1,"NC") -> #REF! | AG17: =+IF(#REF!="CUMPLE ",1,0) -> #REF! | AH17: =+IF(AF17=AG17,1,0) -> #REF!
A18: El proponente Presenta FORMATO – ACREDITACIÓN DE EMPRENDIMIENTO Y EMPRESA DE MUJERES donde manifiesta bajo la gravedad de juramento que más del cincuenta por ciento (50%) de los empleos del nivel directivo de la persona jurídica sean ejercidos por mujeres y éstas hayan estado vinculadas laboralmente a la empresa durante al menos el último año anterior a la fecha de cierre del Proceso de Selección en el mismo cargo u otro del mismo nivel. | J18: 0,25 | AF18: =+IF(#REF!="CUMPLE",1,"NC") -> #REF! | AG18: =+IF(#REF!="CUMPLE ",1,0) -> #REF! | AH18: =+IF(AF18=AG18,1,0) -> #REF!
A20: TOTAL | J20: =+J12+J15+J18 -> 30.25 | AA20: =+IF(#REF!="CUMPLE",1,"NC") -> #REF! | AB20: =IF(ISNUMBER(#REF!),#REF!,"") | AC20: =+IF(AA20=1,AB20,"") -> #REF!
AF21: 1988 | AG21: 25637
AF22: 1989 | AG22: 32560
AF23: 1990 | AG23: 41025
AF24: 1991 | AG24: 51720
AB25: 1998 | AC25: 203826
AB26: 1999 | AC26: 236460
AB27: 2000 | AC27: 260100
AF28: 1992 | AG28: 65190
AF29: 1993 | AG29: 81510
AF30: 1994 | AG30: 98700
AF31: 1995 | AG31: 118934
AF32: 1996 | AG32: 142125
AF34: 1998 | AG34: 203826
AF35: 1999 | AG35: 236460
AF36: 2000 | AG36: 260100
AF37: 2001 | AG37: 286000
AF38: 2002 | AG38: 309000
AF39: 2003 | AG39: 332000
AF40: 2004 | AG40: 358000
... AF58: 2022 | AG58: 1000000

Sheet E. TECNICA P4
D1: EVALUACION TECNICA
D2: SAMC 038 DE 2024 - MANTENIMIENTO Y/O MEJORAMIENTO DE LA INSTITUCIÓN EDUCATIVA INSTITUTO MONTENEGRO Y LA INSTITUCIÓN EDUCATIVA GENERAL SANTANDER EN SU SEDE PRINCIPAL, SEDE LA ISABELA Y SEDE OBANDO.
W5: CRITERIO | X5: PERSONA
W6: CUMPLE | X6: NATURAL
W7: NO CUMPLE | X7: JURIDICA
A8: CRITERIOS GENERALES | K8: VALORES OFICIALES
A9: PROPONENTE : | C9: NOMBRE | E9: SANCAR INGENIEROS SAS | K9: PRESUPUESTO OFICIAL | Q9: 3.4215164e+08 | U9: CUMPLE | W9: CUMPLE | X9: NATURAL
C10: P. NATURAL | E10: P. JURIDICA | G10: PROP. PLURAL | K10: SMMLV 2024 | Q10: 1300000 | U10: NO CUMPLE | W10: NO CUMPLE | X10: JURIDICA
E11: X | K11: PRES. OFICIAL EN SMMLV 2024 | Q11: =+Q9/Q10 -> 263.19357 | U11: NO APLICA
A12: INTEGRANTES: | C12: NO APLICA | K12: FECHA DE CIERRE | Q12: 45639 | W12: NOMBRE
A13: REPRESENTANTE LEGAL: | C13: JUAN CARLOS SANCHEZ GALVEZ | W13: =+A24 -> SANCAR INGENIEROS SAS
A14: AVAL | C14: NO APLICA
A15: COPIA TARJETA PROFESIONAL: | C15: CUMPLE
A16: MATRICULA VIGENTE: | C16: CUMPLE
