Workbook

Sheet DETALLE PRESUPUESTO OFICIAL
B3: FACTOR AU | C3: 1.2278
C5: ZONA 1
B6: TOTAL INTERVENCIONES | C6: Regional | D6: Valor
B7: 14 | C7: Guajira | D7: 1063596678
B8: 8 | C8: Magdalena | D8: 603044718
B9: 10 | C9: Cesar | D9: 986210648
B10: CT | C10: ZONA 1 | D10: =+ROUND(SUM(D7:D9),0) -> 2652852044
B11: CD | D11: =+ROUND(D10/$C$3,0) -> 2160654866
B12: A | C12: 0.1966 | D12: =+ROUND(D11*C12,0) -> 424784747
B13: U | C13: 0.05 | D13: =+ROUND(D11*C13,0) -> 108032743
B14: IVA | C14: 0.19 | D14: =+ROUND(D13*C14,0) -> 20526221
B15: CI | D15: =+ROUND(D12+D13+D14,0) -> 553343711
C17: ZONA 2
B18: TOTAL INTERVENCIONES | C18: Regional | D18: Valor
B19: 27 | C19: Atlántico | D19: 2418232217
B20: 10 | C20: Córdoba | D20: 1771492101
B21: 5 | C21: Sucre | D21: 146404084
B22: PO | C22: ZONA 2 | D22: =+ROUND(SUM(D19:D21),0) -> 4336128402
B23: CD | D23: =+ROUND(D22/$C$3,0) -> 3531624370
B24: A | C24: 0.175 | D24: =+ROUND(D23*C24,0) -> 618034265
B25: U | C25: 0.05 | D25: =+ROUND(D23*C25,0) -> 176581219
B26: IVA | C26: 0.19 | D26: =+ROUND(D25*C26,0) -> 33550432
B27: CI | D27: =+ROUND(D24+D25+D26,0) -> 828165916
C29: ZONA 3
B30: TOTAL INTERVENCIONES | C30: Regional | D30: Valor
B31: 19 | C31: Bolívar | D31: 3395780917
B32: PO | C32: ZONA 3 | D32: =+ROUND(SUM(D31),0) -> 3395780917
B33: CD | D33: =+ROUND(D32/$C$3,0) -> 2765744353
B34: A | C34: 0.1687 | D34: =+ROUND(D33*C34,0) -> 466581072
B35: U | C35: 0.05 | D35: =+ROUND(D33*C35,0) -> 138287218
B36: IVA | C36: 0.19 | D36: =+ROUND(D35*C36,0) -> 26274571
B37: CI | D37: =+ROUND(D34+D35+D36,0) -> 631142861
C39: ZONA 4
B40: TOTAL INTERVENCIONES | C40: Regional | D40: Valor
B41: 10 | C41: San Andrés | D41: 1400691664
B42: PO | C42: ZONA 4 | D42: =+ROUND(SUM(D41),0) -> 1400691664
B43: CD | D43: =+ROUND(D42/$C$3,0) -> 1140814191
B44: A | C44: 0.2134 | D44: =+ROUND(D43*C44,0) -> 243449748
B45: U | C45: 0.05 | D45: =+ROUND(D43*C45,0) -> 57040710
B46: IVA | C46: 0 | D46: =+ROUND(D45*C46,0) -> 0
...

Sheet AU PLAN A
C3: Realizar las obras de adecuacion a toto costo, que tiene por objeto: “OBRAS CIVILES DE ADECUACIÓN EN ESPACIOS FÍSICOS A NIVEL NACIONAL, PARA EL DESARROLLO MISIONAL DEL SERVICIO NACIONAL DE APRENDIZAJE-SENA- A MONTO AGOTABLE.”
C5: ANEXO. 05 - ANALISIS ADMINISTRACIÓN Y UTILIDAD PARA TODAS LAS ZONAS
C6: SON CRITERIOS MINIMOS. AJUSTAR SEGÚN NECESIDAD DE LA ZONA A OFERTAR, TENIENDO EN CUENTA LAS PAUTAS DEFINIDAS EN EL ESTUDIO PREVIO
C7: LP-DG-0005-2020
B11: PLAZO DE EJECUCIÓN | C11: 4.5 | H11: ZONA 1 | I11: VR. TOTAL | J11: ZONA 2 | K11: VR. TOTAL | L11: ZONA 3 | M11: VR. TOTAL | N11: ZONA 4 | O11: VR. TOTAL | P11: ZONA 5 | Q11: VR. TOTAL | R11: ZONA 6 | S11: VR. TOTAL | T11: ZONA 7 | U11: VR. TOTAL | V11: ZONA 8 | W11: VR. TOTAL | X11: ZONA 9 | Y11: VR. TOTAL | Z11: ZONA 10 | AA11: VR. TOTAL | AB11: ZONA 11 | AC11: VR. TOTAL | AD11: ZONA 12 | AE11: VR. TOTAL | AF11: ZONA 13 | AG11: VR. TOTAL | AH11: ZONA 14 | AI11: VR. TOTAL | AJ11: ZONA 15 | AK11: VR. TOTAL | AL11: SUMATORIA | AM11: VR. TOTAL
G12: CANTIDAD DE RESIDENTES --------> | H12: 3 | J12: 4 | L12: 2 | N12: 1 | P12: 2 | R12: 4 | T12: 2 | V12: 2 | X12: 3 | Z12: 2 | AB12: 3 | AD12: 2 | AF12: 4 | AH12: 4 | AJ12: 3 | AL12: =+SUM(H12:AJ12) -> 41
C13: DESCRIPCION | D13: UND | E13: PLAZO DE EJECUCIÓN | F13: % DE DEDICACIÓN | G13: VR. UNITARIO | H13: CANTIDAD / PROFESIONAL | J13: CANTIDAD / PROFESIONAL | L13: CANTIDAD / PROFESIONAL | N13: CANTIDAD / PROFESIONAL | P13: CANTIDAD / PROFESIONAL | R13: CANTIDAD / PROFESIONAL | T13: CANTIDAD / PROFESIONAL | V13: CANTIDAD / PROFESIONAL | X13: CANTIDAD / PROFESIONAL | Z13: CANTIDAD / PROFESIONAL | AB13: CANTIDAD / PROFESIONAL | AD13: CANTIDAD / PROFESIONAL | AF13: CANTIDAD / PROFESIONAL | AH13: CANTIDAD / PROFESIONAL | AJ13: CANTIDAD / PROFESIONAL | AL13: CANTIDAD / PROFESIONAL
B14: 1 | C14: PERSONAL DE OBRA (INCLUYEN PRESTACIONES)
B15: 1.1 | C15: DIRECTOR DE OBRA CON PRESTACIONES SOCIALES | D15: MES | E15: =+$C$11 -> 4.5 | F15: 1 | G15: 5000000 | H15: 1 | I15: =+$E15*$F15*$G15*H15 -> 22500000 | J15: 1 | K15: =+$E15*$F15*$G15*J15 -> 22500000 | L15: 1 | M15: =+$E15*$F15*$G15*L15 -> 22500000 | N15: 1 | O15: =+$E15*$F15*$G15*N15 -> 22500000 | P15: 1 | Q15: =+$E15*$F15*$G15*P15 -> 22500000 | R15: 1 | S15: =+$E15*$F15*$G15*R15 -> 22500000 | T15: 1 | U15: =+$E15*$F15*$G15*T15 -> 22500000 | V15: 1 | W15: =+$E15*$F15*$G15*V15 -> 22500000 | X15: 1 | Y15: =+$E15*$F15*$G15*X15 -> 22500000 | Z15: 1 | AA15: =+$E15*$F15*$G15*Z15 -> 22500000 | AB15: 1 | AC15: =+$E15*$F15*$G15*AB15 -> 22500000 | AD15: 1 | AE15: =+$E15*$F15*$G15*AD15 -> 22500000 | AF15: 1 | AG15: =+$E15*$F15*$G15*AF15 -> 22500000 | AH15: 2 | AI15: =+$E15*$F15*$G15*AH15 -> 45000000 | AJ15: 1 | AK15: =+$E15*$F15*$G15*AJ15 -> 22500000 | AL15: =+SUM(H15:AJ15) -> 337500016 | AM15: =+E15*AL15*F15*G15 -> 7.5937504e+15
B16: 1.2 | C16: RESIDENTE DE OBRA CON PRESTACIONES SOCIALES | D16: MES | E16: =+$C$11 -> 4.5 | F16: 1 | G16: 2500000 | H16: =+H12 -> 3 | I16: =+$E16*$F16*$G16*H16 -> 33750000 | J16: =+J12 -> 4 | K16: =+$E16*$F16*$G16*J16 -> 45000000 | L16: =+L12 -> 2 | M16: =+$E16*$F16*$G16*L16 -> 22500000 | N16: =+N12 -> 1 | O16: =+$E16*$F16*$G16*N16 -> 11250000 | P16: =+P12 -> 2 | Q16: =+$E16*$F16*$G16*P16 -> 22500000 | R16: =+R12 -> 4 | S16: =+$E16*$F16*$G16*R16 -> 45000000 | T16: =+T12 -> 2 | U16: =+$E16*$F16*$G16*T16 -> 22500000 | V16: =+V12 -> 2 | W16: =+$E16*$F16*$G16*V16 -> 22500000 | X16: =+X12 -> 3 | Y16: =+$E16*$F16*$G16*X16 -> 33750000 | Z16: =+Z12 -> 2 | AA16: =+$E16*$F16*$G16*Z16 -> 22500000 | AB16: =+AB12 -> 3 | AC16: =+$E16*$F16*$G16*AB16 -> 33750000 | AD16: =+AD12 -> 2 | AE16: =+$E16*$F16*$G16*AD16 -> 22500000 | AF16: =+AF12 -> 4 | AG16: =+$E16*$F16*$G16*AF16 -> 45000000 | AH16: =+AH12 -> 4 | AI16: =+$E16*$F16*$G16*AH16 -> 45000000 | AJ16: =+AJ12 -> 3 | AK16: =+$E16*$F16*$G16*AJ16 -> 33750000 | AL16: =+SUM(H16:AJ16) -> 427500041 | AM16: =+E16*AL16*F16*G16 -> 4.8093755e+15
B17: 1.3 | C17: ENCARGADO AREA ELECTRICA Y MECANICA | D17: MES | E17: =+$C$11 -> 4.5 | F17: 1 | G17: 2000000 | H17: 1 | I17: =+$E17*$F17*$G17*H17 -> 9000000 | J17: 1 | K17: =+$E17*$F17*$G17*J17 -> 9000000 | L17: 1 | M17: =+$E17*$F17*$G17*L17 -> 9000000 | N17: 1 | O17: =+$E17*$F17*$G17*N17 -> 9000000 | P17: 1 | Q17: =+$E17*$F17*$G17*P17 -> 9000000 | R17: 1 | S17: =+$E17*$F17*$G17*R17 -> 9000000 | T17: 1 | U17: =+$E17*$F17*$G17*T17 -> 9000000 | V17: 1 | W17: =+$E17*$F17*$G17*V17 -> 9000000 | X17: 1 | Y17: =+$E17*$F17*$G17*X17 -> 9000000 | Z17: 1 | AA17: =+$E17*$F17*$G17*Z17 -> 9000000 | AB17: 1 | AC17: =+$E17*$F17*$G17*AB17 -> 9000000 | AD17: 1 | AE17: =+$E17*$F17*$G17*AD17 -> 9000000 | AF17: 1 | AG17: =+$E17*$F17*$G17*AF17 -> 9000000 | AH17: 1 | AI17: =+$E17*$F17*$G17*AH17 -> 9000000 | AJ17: 1 | AK17: =+$E17*$F17*$G17*AJ17 -> 9000000 | AL17: =+SUM(H17:AJ17) -> 126000015 | AM17: =+E17*AL17*F17*G17 -> 1.1340001e+15
B18: 1.4 | C18: ENCARGADO AREA HIDROSANITARIA | D18: MES | E18: =+$C$11 -> 4.5 | F18: 1 | G18: 2000000 | H18: 1 | I18: =+$E18*$F18*$G18*H18 -> 9000000 | J18: 1 | K18: =+$E18*$F18*$G18*J18 -> 9000000 | L18: 1 | M18: =+$E18*$F18*$G18*L18 -> 9000000 | N18: 1 | O18: =+$E18*$F18*$G18*N18 -> 9000000 | P18: 1 | Q18: =+$E18*$F18*$G18*P18 -> 9000000 | R18: 1 | S18: =+$E18*$F18*$G18*R18 -> 9000000 | T18: 1 | U18: =+$E18*$F18*$G18*T18 -> 9000000 | V18: 1 | W18: =+$E18*$F18*$G18*V18 -> 9000000 | X18: 1 | Y18: =+$E18*$F18*$G18*X18 -> 9000000 | Z18: 1 | AA18: =+$E18*$F18*$G18*Z18 -> 9000000 | AB18: 1 | AC18: =+$E18*$F18*$G18*AB18 -> 9000000 | AD18: 1 | AE18: =+$E18*$F18*$G18*AD18 -> 9000000 | AF18: 1 | AG18: =+$E18*$F18*$G18*AF18 -> 9000000 | AH18: 1 | AI18: =+$E18*$F18*$G18*AH18 -> 9000000 | AJ18: 1 | AK18: =+$E18*$F18*$G18*AJ18 -> 9000000 | AL18: =+SUM(H18:AJ18) -> 126000015 | AM18: =+E18*AL18*F18*G18 -> 1.1340001e+15
B19: 1.5 | C19: ENCARGADO AMBIENTAL | D19: MES | E19: =+$C$11 -> 4.5 | F19: 1 | G19: 2000000 | H19: 1 | I19: =+$E19*$F19*$G19*H19 -> 9000000 | J19: 1 | K19: =+$E19*$F19*$G19*J19 -> 9000000 | L19: 1 | M19: =+$E19*$F19*$G19*L19 -> 9000000 | N19: 1 | O19: =+$E19*$F19*$G19*N19 -> 9000000 | P19: 1 | Q19: =+$E19*$F19*$G19*P19 -> 9000000 | R19: 1 | S19: =+$E19*$F19*$G19*R19 -> 9000000 | T19: 1 | U19: =+$E19*$F19*$G19*T19 -> 9000000 | V19: 1 | W19: =+$E19*$F19*$G19*V19 -> 9000000 | X19: 1 | Y19: =+$E19*$F19*$G19*X19 -> 9000000 | Z19: 1 | AA19: =+$E19*$F19*$G19*Z19 -> 9000000 | AB19: 1 | AC19: =+$E19*$F19*$G19*AB19 -> 9000000 | AD19: 1 | AE19: =+$E19*$F19*$G19*AD19 -> 9000000 | AF19: 1 | AG19: =+$E19*$F19*$G19*AF19 -> 9000000 | AH19: 1 | AI19: =+$E19*$F19*$G19*AH19 -> 9000000 | AJ19: 1 | AK19: =+$E19*$F19*$G19*AJ19 -> 9000000 | AL19: =+SUM(H19:AJ19) -> 126000015 | AM19: =+E19*AL19*F19*G19 -> 1.1340001e+15
B20: 1.6 | C20: ENCARGADO SEGURIDAD INDUSTRIAL CON SEGURIDAD SOCIAL | D20: MES | E20: =+$C$11 -> 4.5 | F20: 1 | G20: 1750000 | H20: 1 | I20: =+$E20*$F20*$G20*H20 -> 7875000 | J20: 1 | K20: =+$E20*$F20*$G20*J20 -> 7875000 | L20: 1 | M20: =+$E20*$F20*$G20*L20 -> 7875000 | N20: 1 | O20: =+$E20*$F20*$G20*N20 -> 7875000 | P20: 1 | Q20: =+$E20*$F20*$G20*P20 -> 7875000 | R20: 1 | S20: =+$E20*$F20*$G20*R20 -> 7875000 | T20: 1 | U20: =+$E20*$F20*$G20*T20 -> 7875000 | V20: 1 | W20: =+$E20*$F20*$G20*V20 -> 7875000 | X20: 1 | Y20: =+$E20*$F20*$G20*X20 -> 7875000 | Z20: 1 | AA20: =+$E20*$F20*$G20*Z20 -> 7875000 | AB20: 1 | AC20: =+$E20*$F20*$G20*AB20 -> 7875000 | AD20: 1 | AE20: =+$E20*$F20*$G20*AD20 -> 7875000 | AF20: 1 | AG20: =+$E20*$F20*$G20*AF20 -> 7875000 | AH20: 1 | AI20: =+$E20*$F20*$G20*AH20 -> 7875000 | AJ20: 1 | AK20: =+$E20*$F20*$G20*AJ20 -> 7875000 | AL20: =+SUM(H20:AJ20) -> 110250015 | AM20: =+E20*AL20*F20*G20 -> 868218868125000
C21: TOTAL PERSONAL DE OBRA (INCLUYEN PRESTACIONES) | I21: =SUM(I15:I20) -> 91125000 | K21: =SUM(K15:K20) -> 102375000 | M21: =SUM(M15:M20) -> 79875000 | O21: =SUM(O15:O20) -> 68625000 | Q21: =SUM(Q15:Q20) -> 79875000 | S21: =SUM(S15:S20) -> 102375000 | U21: =SUM(U15:U20) -> 79875000 | W21: =SUM(W15:W20) -> 79875000 | Y21: =SUM(Y15:Y20) -> 91125000 | AA21: =SUM(AA15:AA20) -> 79875000 | AC21: =SUM(AC15:AC20) -> 91125000 | AE21: =SUM(AE15:AE20) -> 79875000 | AG21: =SUM(AG15:AG20) -> 102375000 | AI21: =SUM(AI15:AI20) -> 124875000 | AK21: =SUM(AK15:AK20) -> 91125000 | AM21: =SUM(AM15:AM20) -> 1.6673345e+16
B23: 2 | C23: COSTOS DE SERVICIOS PUBLICOS (OBRA Y CAMPAMENTO)
B24: 2.1 | C24: ENERGIA (INCLUYE INSTALACIÓN PROVISIONAL) | D24: MES | E24: =+$C$11 -> 4.5 | G24: 250000 | H24: =+H16 -> 3 | I24: =+$E24*$G24*H24 -> 3375000 | J24: =+J16 -> 4 | K24: =+$E24*$G24*J24 -> 4500000 | L24: =+L16 -> 2 | M24: =+$E24*$G24*L24 -> 2250000 | N24: =+N16 -> 1 | O24: =+$E24*$G24*N24 -> 1125000 | P24: =+P16 -> 2 | Q24: =+$E24*$G24*P24 -> 2250000 | R24: =+R16 -> 4 | S24: =+$E24*$G24*R24 -> 4500000 | T24: =+T16 -> 2 | U24: =+$E24*$G24*T24 -> 2250000 | V24: =+V16 -> 2 | W24: =+$E24*$G24*V24 -> 2250000 | X24: =+X16 -> 3 | Y24: =+$E24*$G24*X24 -> 3375000 | Z24: =+Z16 -> 2 | AA24: =+$E24*$G24*Z24 -> 2250000 | AB24: =+AB16 -> 3 | AC24: =+$E24*$G24*AB24 -> 3375000 | AD24: =+AD16 -> 2 | AE24: =+$E24*$G24*AD24 -> 2250000 | AF24: =+AF16 -> 4 | AG24: =+$E24*$G24*AF24 -> 4500000 | AH24: =+AH16 -> 4 | AI24: =+$E24*$G24*AH24 -> 4500000 | AJ24: =+AJ16 -> 3 | AK24: =+$E24*$G24*AJ24 -> 3375000 | AL24: =+SUM(H24:AJ24) -> 42750041 | AM24: =+G24*E24*AL24 -> 48093796125000
B25: 2.2 | C25: AGUA - ALCANTARILLADO (INCLUYE INSTALACIÓN PROVISIONAL) | D25: MES | E25: =+$C$11 -> 4.5 | G25: 150000 | H25: =+H16 -> 3 | I25: =+$E25*$G25*H25 -> 2025000 | J25: =+J16 -> 4 | K25: =+$E25*$G25*J25 -> 2700000 | L25: =+L16 -> 2 | M25: =+$E25*$G25*L25 -> 1350000 | N25: =+N16 -> 1 | O25: =+$E25*$G25*N25 -> 675000 | P25: =+P16 -> 2 | Q25: =+$E25*$G25*P25 -> 1350000 | R25: =+R16 -> 4 | S25: =+$E25*$G25*R25 -> 2700000 | T25: =+T16 -> 2 | U25: =+$E25*$G25*T25 -> 1350000 | V25: =+V16 -> 2 | W25: =+$E25*$G25*V25 -> 1350000 | X25: =+X16 -> 3 | Y25: =+$E25*$G25*X25 -> 2025000 | Z25: =+Z16 -> 2 | AA25: =+$E25*$G25*Z25 -> 1350000 | AB25: =+AB16 -> 3 | AC25: =+$E25*$G25*AB25 -> 2025000 | AD25: =+AD16 -> 2 | AE25: =+$E25*$G25*AD25 -> 1350000 | AF25: =+AF16 -> 4 | AG25: =+$E25*$G25*AF25 -> 2700000 | AH25: =+AH16 -> 4 | AI25: =+$E25*$G25*AH25 -> 2700000 | AJ25: =+AJ16 -> 3 | AK25: =+$E25*$G25*AJ25 -> 2025000 | AL25: =+SUM(H25:AJ25) -> 25650041 | AM25: =+G25*E25*AL25 -> 17313777675000
B26: 2.3 | C26: INTERNET (PROVISIONAL) | D26: MES | E26: =+$C$11 -> 4.5 | G26: 150000 | H26: =+H16 -> 3 | I26: =+$E26*$G26*H26 -> 2025000 | J26: =+J16 -> 4 | K26: =+$E26*$G26*J26 -> 2700000 | L26: =+L16 -> 2 | M26: =+$E26*$G26*L26 -> 1350000 | N26: =+N16 -> 1 | O26: =+$E26*$G26*N26 -> 675000 | P26: =+P16 -> 2 | Q26: =+$E26*$G26*P26 -> 1350000 | R26: =+R16 -> 4 | S26: =+$E26*$G26*R26 -> 2700000 | T26: =+T16 -> 2 | U26: =+$E26*$G26*T26 -> 1350000 | V26: =+V16 -> 2 | W26: =+$E26*$G26*V26 -> 1350000 | X26: =+X16 -> 3 | Y26: =+$E26*$G26*X26 -> 2025000 | Z26: =+Z16 -> 2 | AA26: =+$E26*$G26*Z26 -> 1350000 | AB26: =+AB16 -> 3 | AC26: =+$E26*$G26*AB26 -> 2025000 | AD26: =+AD16 -> 2 | AE26: =+$E26*$G26*AD26 -> 1350000 | AF26: =+AF16 -> 4 | AG26: =+$E26*$G26*AF26 -> 2700000 | AH26: =+AH16 -> 4 | AI26: =+$E26*$G26*AH26 -> 2700000 | AJ26: =+AJ16 -> 3 | AK26: =+$E26*$G26*AJ26 -> 2025000 | AL26: =+SUM(H26:AJ26) -> 25650041 | AM26: =+G26*E26*AL26 -> 17313777675000
B27: 2.4 | C27: TELÉFONO (PROVISIONAL) | D27: MES | E27: =+$C$11 -> 4.5 | G27: 200000 | H27: =+H16 -> 3 | I27: =+$E27*$G27*H27 -> 2700000 | J27: =+J16 -> 4 | K27: =+$E27*$G27*J27 -> 3600000 | L27: =+L16 -> 2 | M27: =+$E27*$G27*L27 -> 1800000 | N27: =+N16 -> 1 | O27: =+$E27*$G27*N27 -> 900000 | P27: =+P16 -> 2 | Q27: =+$E27*$G27*P27 -> 1800000 | R27: =+R16 -> 4 | S27: =+$E27*$G27*R27 -> 3600000 | T27: =+T16 -> 2 | U27: =+$E27*$G27*T27 -> 1800000 | V27: =+V16 -> 2 | W27: =+$E27*$G27*V27 -> 1800000 | X27: =+X16 -> 3 | Y27: =+$E27*$G27*X27 -> 2700000 | Z27: =+Z16 -> 2 | AA27: =+$E27*$G27*Z27 -> 1800000 | AB27: =+AB16 -> 3 | AC27: =+$E27*$G27*AB27 -> 2700000 | AD27: =+AD16 -> 2 | AE27: =+$E27*$G27*AD27 -> 1800000 | AF27: =+AF16 -> 4 | AG27: =+$E27*$G27*AF27 -> 3600000 | AH27: =+AH16 -> 4 | AI27: =+$E27*$G27*AH27 -> 3600000 | AJ27: =+AJ16 -> 3 | AK27: =+$E27*$G27*AJ27 -> 2700000 | AL27: =+SUM(H27:AJ27) -> 34200041 | AM27: =+G27*E27*AL27 -> 30780036900000
C28: TOTAL COSTOS DE SERVICIOS PUBLICOS: | I28: =SUM(I24:I27) -> 10125000 | K28: =SUM(K24:K27) -> 13500000 | M28: =SUM(M24:M27) -> 6750000 | O28: =SUM(O24:O27) -> 3375000 | Q28: =SUM(Q24:Q27) -> 6750000 | S28: =SUM(S24:S27) -> 13500000 | U28: =SUM(U24:U27) -> 6750000 | W28: =SUM(W24:W27) -> 6750000 | Y28: =SUM(Y24:Y27) -> 10125000 | AA28: =SUM(AA24:AA27) -> 6750000 | AC28: =SUM(AC24:AC27) -> 10125000 | AE28: =SUM(AE24:AE27) -> 6750000 | AG28: =SUM(AG24:AG27) -> 13500000 | AI28: =SUM(AI24:AI27) -> 13500000 | AK28: =SUM(AK24:AK27) -> 10125000 | AM28: =SUM(AM24:AM27) -> 113501388375000
B30: 3 | C30: COSTOS DE DOTACION CAMPAMENTO E INSTALACIONES PROVISIONALES
B31: 3.1 | C31: COSTO PROPORCIONAL OFICINA CENTRAL | D31: MES | E31: =+$C$11 -> 4.5 | G31: 250000 | H31: =+H16 -> 3 | I31: =+$E31*$G31*H31 -> 3375000 | J31: =+J16 -> 4 | K31: =+$E31*$G31*J31 -> 4500000 | L31: =+L16 -> 2 | M31: =+$E31*$G31*L31 -> 2250000 | N31: =+N16 -> 1 | O31: =+$E31*$G31*N31 -> 1125000 | P31: =+P16 -> 2 | Q31: =+$E31*$G31*P31 -> 2250000 | R31: =+R16 -> 4 | S31: =+$E31*$G31*R31 -> 4500000 | T31: =+T16 -> 2 | U31: =+$E31*$G31*T31 -> 2250000 | V31: =+V16 -> 2 | W31: =+$E31*$G31*V31 -> 2250000 | X31: =+X16 -> 3 | Y31: =+$E31*$G31*X31 -> 3375000 | Z31: =+Z16 -> 2 | AA31: =+$E31*$G31*Z31 -> 2250000 | AB31: =+AB16 -> 3 | AC31: =+$E31*$G31*AB31 -> 3375000 | AD31: =+AD16 -> 2 | AE31: =+$E31*$G31*AD31 -> 2250000 | AF31: =+AF16 -> 4 | AG31: =+$E31*$G31*AF31 -> 4500000 | AH31: =+AH16 -> 4 | AI31: =+$E31*$G31*AH31 -> 4500000 | AJ31: =+AJ16 -> 3 | AK31: =+$E31*$G31*AJ31 -> 3375000 | AL31: =+SUM(H31:AJ31) -> 42750041 | AM31: =+G31*E31*AL31 -> 48093796125000
B32: 3.2 | C32: COMPUTADOR | D32: MES | E32: =+$C$11 -> 4.5 | G32: 150000 | H32: =+H16+H15 -> 4 | I32: =+$E32*$G32*H32 -> 2700000 | J32: =+J16+J15 -> 5 | K32: =+$E32*$G32*J32 -> 3375000 | L32: =+L16+L15 -> 3 | M32: =+$E32*$G32*L32 -> 2025000 | N32: =+N16+N15 -> 2 | O32: =+$E32*$G32*N32 -> 1350000 | P32: =+P16+P15 -> 3 | Q32: =+$E32*$G32*P32 -> 2025000 | R32: =+R16+R15 -> 5 | S32: =+$E32*$G32*R32 -> 3375000 | T32: =+T16+T15 -> 3 | U32: =+$E32*$G32*T32 -> 2025000 | V32: =+V16+V15 -> 3 | W32: =+$E32*$G32*V32 -> 2025000 | X32: =+X16+X15 -> 4 | Y32: =+$E32*$G32*X32 -> 2700000 | Z32: =+Z16+Z15 -> 3 | AA32: =+$E32*$G32*Z32 -> 2025000 | AB32: =+AB16+AB15 -> 4 | AC32: =+$E32*$G32*AB32 -> 2700000 | AD32: =+AD16+AD15 -> 3 | AE32: =+$E32*$G32*AD32 -> 2025000 | AF32: =+AF16+AF15 -> 5 | AG32: =+$E32*$G32*AF32 -> 3375000 | AH32: =+AH16+AH15 -> 6 | AI32: =+$E32*$G32*AH32 -> 4050000 | AJ32: =+AJ16+AJ15 -> 4 | AK32: =+$E32*$G32*AJ32 -> 2700000 | AL32: =+SUM(H32:AJ32) -> 35775057 | AM32: =+G32*E32*AL32 -> 24148163475000
B33: 3.3 | C33: MUEBLES | D33: GB | E33: 1 | G33: 400000 | H33: =+H16 -> 3 | I33: =+$E33*$G33*H33 -> 1200000 | J33: =+J16 -> 4 | K33: =+$E33*$G33*J33 -> 1600000 | L33: =+L16 -> 2 | M33: =+$E33*$G33*L33 -> 800000 | N33: =+N16 -> 1 | O33: =+$E33*$G33*N33 -> 400000 | P33: =+P16 -> 2 | Q33: =+$E33*$G33*P33 -> 800000 | R33: =+R16 -> 4 | S33: =+$E33*$G33*R33 -> 1600000 | T33: =+T16 -> 2 | U33: =+$E33*$G33*T33 -> 800000 | V33: =+V16 -> 2 | W33: =+$E33*$G33*V33 -> 800000 | X33: =+X16 -> 3 | Y33: =+$E33*$G33*X33 -> 1200000 | Z33: =+Z16 -> 2 | AA33: =+$E33*$G33*Z33 -> 800000 | AB33: =+AB16 -> 3 | AC33: =+$E33*$G33*AB33 -> 1200000 | AD33: =+AD16 -> 2 | AE33: =+$E33*$G33*AD33 -> 800000 | AF33: =+AF16 -> 4 | AG33: =+$E33*$G33*AF33 -> 1600000 | AH33: =+AH16 -> 4 | AI33: =+$E33*$G33*AH33 -> 1600000 | AJ33: =+AJ16 -> 3 | AK33: =+$E33*$G33*AJ33 -> 1200000 | AL33: =+SUM(H33:AJ33) -> 15200041 | AM33: =+G33*E33*AL33 -> 6080016400000
C34: TOTAL COSTOS DE DOTACION CAMPAMENTO: | I34: =SUM(I31:I33) -> 7275000 | K34: =SUM(K31:K33) -> 9475000 | M34: =SUM(M31:M33) -> 5075000 | O34: =SUM(O31:O33) -> 2875000 | Q34: =SUM(Q31:Q33) -> 5075000 | S34: =SUM(S31:S33) -> 9475000 | U34: =SUM(U31:U33) -> 5075000 | W34: =SUM(W31:W33) -> 5075000 | Y34: =SUM(Y31:Y33) -> 7275000 | AA34: =SUM(AA31:AA33) -> 5075000 | AC34: =SUM(AC31:AC33) -> 7275000 | AE34: =SUM(AE31:AE33) -> 5075000 | AG34: =SUM(AG31:AG33) -> 9475000 | AI34: =SUM(AI31:AI33) -> 10150000 | AK34: =SUM(AK31:AK33) -> 7275000 | AM34: =SUM(AM31:AM33) -> 78321976000000
B36: 4 | C36: OTROS - GASTOS GENERALES
B37: 4.1 | C37: SEGURIDAD INDUSTRIAL , DOTACIÓN Y PROTOCOLO COVID 19 | D37: % PERS | E37: 0.05 | I37: =+$E37*I$21 -> 4556250 | K37: =+$E37*K$21 -> 5118750 | M37: =+$E37*M$21 -> 3993750 | O37: =+$E37*O$21 -> 3431250 | Q37: =+$E37*Q$21 -> 3993750 | S37: =+$E37*S$21 -> 5118750 | U37: =+$E37*U$21 -> 3993750 | W37: =+$E37*W$21 -> 3993750 | Y37: =+$E37*Y$21 -> 4556250 | AA37: =+$E37*AA$21 -> 3993750 | AC37: =+$E37*AC$21 -> 4556250 | AE37: =+$E37*AE$21 -> 3993750 | AG37: =+$E37*AG$21 -> 5118750 | AI37: =+$E37*AI$21 -> 6243750 | AK37: =+$E37*AK$21 -> 4556250 | AM37: =+AM21*E37 -> 833667254718750
B38: 4.2 | C38: ENSAYOS DE LABORATORIO PARA MATERIALES, PRUEBAS DE CARGA Y OTROS QUE SEAN REQUERIDOS | D38: MES | E38: 1 | G38: 400000 | H38: =+H16 -> 3 | I38: =+$E38*$G38*H38 -> 1200000 | J38: =+J16 -> 4 | K38: =+$E38*$G38*J38 -> 1600000 | L38: =+L16 -> 2 | M38: =+$E38*$G38*L38 -> 800000 | N38: =+N16 -> 1 | O38: =+$E38*$G38*N38 -> 400000 | P38: =+P16 -> 2 | Q38: =+$E38*$G38*P38 -> 800000 | R38: =+R16 -> 4 | S38: =+$E38*$G38*R38 -> 1600000 | T38: =+T16 -> 2 | U38: =+$E38*$G38*T38 -> 800000 | V38: =+V16 -> 2 | W38: =+$E38*$G38*V38 -> 800000 | X38: =+X16 -> 3 | Y38: =+$E38*$G38*X38 -> 1200000 | Z38: =+Z16 -> 2 | AA38: =+$E38*$G38*Z38 -> 800000 | AB38: =+AB16 -> 3 | AC38: =+$E38*$G38*AB38 -> 1200000 | AD38: =+AD16 -> 2 | AE38: =+$E38*$G38*AD38 -> 800000 | AF38: =+AF16 -> 4 | AG38: =+$E38*$G38*AF38 -> 1600000 | AH38: =+AH16 -> 4 | AI38: =+$E38*$G38*AH38 -> 1600000 | AJ38: =+AJ16 -> 3 | AK38: =+$E38*$G38*AJ38 -> 1200000 | AL38: =+SUM(H38:AJ38) -> 15200041 | AM38: =+G38*E38*AL38 -> 6080016400000
B39: 4.3 | C39: MANTENIMIENTO EQUIPOS/HERRAMIENTAS | D39: MES | E39: =+$C$11 -> 4.5 | G39: 200000 | H39: =+H16 -> 3 | I39: =+$E39*$G39*H39 -> 2700000 | J39: =+J16 -> 4 | K39: =+$E39*$G39*J39 -> 3600000 | L39: =+L16 -> 2 | M39: =+$E39*$G39*L39 -> 1800000 | N39: =+N16 -> 1 | O39: =+$E39*$G39*N39 -> 900000 | P39: =+P16 -> 2 | Q39: =+$E39*$G39*P39 -> 1800000 | R39: =+R16 -> 4 | S39: =+$E39*$G39*R39 -> 3600000 | T39: =+T16 -> 2 | U39: =+$E39*$G39*T39 -> 1800000 | V39: =+V16 -> 2 | W39: =+$E39*$G39*V39 -> 1800000 | X39: =+X16 -> 3 | Y39: =+$E39*$G39*X39 -> 2700000 | Z39: =+Z16 -> 2 | AA39: =+$E39*$G39*Z39 -> 1800000 | AB39: =+AB16 -> 3 | AC39: =+$E39*$G39*AB39 -> 2700000 | AD39: =+AD16 -> 2 | AE39: =+$E39*$G39*AD39 -> 1800000 | AF39: =+AF16 -> 4 | AG39: =+$E39*$G39*AF39 -> 3600000 | AH39: =+AH16 -> 4 | AI39: =+$E39*$G39*AH39 -> 3600000 | AJ39: =+AJ16 -> 3 | AK39: =+$E39*$G39*AJ39 -> 2700000 | AL39: =+SUM(H39:AJ39) -> 34200041 | AM39: =+G39*E39*AL39 -> 30780036900000
B40: 4.4 | C40: PAPELERIA Y EMPASTES | D40: MES | E40: =+$C$11 -> 4.5 | G40: 150000 | H40: =+H16 -> 3 | I40: =+$E40*$G40*H40 -> 2025000 | J40: =+J16 -> 4 | K40: =+$E40*$G40*J40 -> 2700000 | L40: =+L16 -> 2 | M40: =+$E40*$G40*L40 -> 1350000 | N40: =+N16 -> 1 | O40: =+$E40*$G40*N40 -> 675000 | P40: =+P16 -> 2 | Q40: =+$E40*$G40*P40 -> 1350000 | R40: =+R16 -> 4 | S40: =+$E40*$G40*R40 -> 2700000 | T40: =+T16 -> 2 | U40: =+$E40*$G40*T40 -> 1350000 | V40: =+V16 -> 2 | W40: =+$E40*$G40*V40 -> 1350000 | X40: =+X16 -> 3 | Y40: =+$E40*$G40*X40 -> 2025000 | Z40: =+Z16 -> 2 | AA40: =+$E40*$G40*Z40 -> 1350000 | AB40: =+AB16 -> 3 | AC40: =+$E40*$G40*AB40 -> 2025000 | AD40: =+AD16 -> 2 | AE40: =+$E40*$G40*AD40 -> 1350000 | AF40: =+AF16 -> 4 | AG40: =+$E40*$G40*AF40 -> 2700000 | AH40: =+AH16 -> 4 | AI40: =+$E40*$G40*AH40 -> 2700000 | AJ40: =+AJ16 -> 3 | AK40: =+$E40*$G40*AJ40 -> 2025000 | AL40: =+SUM(H40:AJ40) -> 25650041 | AM40: =+G40*E40*AL40 -> 17313777675000
B41: 4.5 | C41: REGISTRO FOTOGRÁFICO / VIDEOS / INFORMES | D41: MES | E41: =+$C$11 -> 4.5 | G41: 100000 | H41: =+H16 -> 3 | I41: =+$E41*$G41*H41 -> 1350000 | J41: =+J16 -> 4 | K41: =+$E41*$G41*J41 -> 1800000 | L41: =+L16 -> 2 | M41: =+$E41*$G41*L41 -> 900000 | N41: =+N16 -> 1 | O41: =+$E41*$G41*N41 -> 450000 | P41: =+P16 -> 2 | Q41: =+$E41*$G41*P41 -> 900000 | R41: =+R16 -> 4 | S41: =+$E41*$G41*R41 -> 1800000 | T41: =+T16 -> 2 | U41: =+$E41*$G41*T41 -> 900000 | V41: =+V16 -> 2 | W41: =+$E41*$G41*V41 -> 900000 | X41: =+X16 -> 3 | Y41: =+$E41*$G41*X41 -> 1350000 | Z41: =+Z16 -> 2 | AA41: =+$E41*$G41*Z41 -> 900000 | AB41: =+AB16 -> 3 | AC41: =+$E41*$G41*AB41 -> 1350000 | AD41: =+AD16 -> 2 | AE41: =+$E41*$G41*AD41 -> 900000 | AF41: =+AF16 -> 4 | AG41: =+$E41*$G41*AF41 -> 1800000 | AH41: =+AH16 -> 4 | AI41: =+$E41*$G41*AH41 -> 1800000 | AJ41: =+AJ16 -> 3 | AK41: =+$E41*$G41*AJ41 -> 1350000 | AL41: =+SUM(H41:AJ41) -> 17100041 | AM41: =+G41*E41*AL41 -> 7695018450000
B42: 4.6 | C42: PLOTEADA PLANOS, COPIA PLANOS Y FOTOCOPIAS | D42: GB | E42: 1 | G42: 400000 | H42: =+H16 -> 3 | I42: =+$E42*$G42*H42 -> 1200000 | J42: =+J16 -> 4 | K42: =+$E42*$G42*J42 -> 1600000 | L42: =+L16 -> 2 | M42: =+$E42*$G42*L42 -> 800000 | N42: =+N16 -> 1 | O42: =+$E42*$G42*N42 -> 400000 | P42: =+P16 -> 2 | Q42: =+$E42*$G42*P42 -> 800000 | R42: =+R16 -> 4 | S42: =+$E42*$G42*R42 -> 1600000 | T42: =+T16 -> 2 | U42: =+$E42*$G42*T42 -> 800000 | V42: =+V16 -> 2 | W42: =+$E42*$G42*V42 -> 800000 | X42: =+X16 -> 3 | Y42: =+$E42*$G42*X42 -> 1200000 | Z42: =+Z16 -> 2 | AA42: =+$E42*$G42*Z42 -> 800000 | AB42: =+AB16 -> 3 | AC42: =+$E42*$G42*AB42 -> 1200000 | AD42: =+AD16 -> 2 | AE42: =+$E42*$G42*AD42 -> 800000 | AF42: =+AF16 -> 4 | AG42: =+$E42*$G42*AF42 -> 1600000 | AH42: =+AH16 -> 4 | AI42: =+$E42*$G42*AH42 -> 1600000 | AJ42: =+AJ16 -> 3 | AK42: =+$E42*$G42*AJ42 -> 1200000 | AL42: =+SUM(H42:AJ42) -> 15200041 | AM42: =+G42*E42*AL42 -> 6080016400000
B43: 4.7 | C43: PLANOS RECORD | D43: GB | E43: 1 | G43: 800000 | H43: =+H16 -> 3 | I43: =+$E43*$G43*H43 -> 2400000 | J43: =+J16 -> 4 | K43: =+$E43*$G43*J43 -> 3200000 | L43: =+L16 -> 2 | M43: =+$E43*$G43*L43 -> 1600000 | N43: =+N16 -> 1 | O43: =+$E43*$G43*N43 -> 800000 | P43: =+P16 -> 2 | Q43: =+$E43*$G43*P43 -> 1600000 | R43: =+R16 -> 4 | S43: =+$E43*$G43*R43 -> 3200000 | T43: =+T16 -> 2 | U43: =+$E43*$G43*T43 -> 1600000 | V43: =+V16 -> 2 | W43: =+$E43*$G43*V43 -> 1600000 | X43: =+X16 -> 3 | Y43: =+$E43*$G43*X43 -> 2400000 | Z43: =+Z16 -> 2 | AA43: =+$E43*$G43*Z43 -> 1600000 | AB43: =+AB16 -> 3 | AC43: =+$E43*$G43*AB43 -> 2400000 | AD43: =+AD16 -> 2 | AE43: =+$E43*$G43*AD43 -> 1600000 | AF43: =+AF16 -> 4 | AG43: =+$E43*$G43*AF43 -> 3200000 | AH43: =+AH16 -> 4 | AI43: =+$E43*$G43*AH43 -> 3200000 | AJ43: =+AJ16 -> 3 | AK43: =+$E43*$G43*AJ43 -> 2400000 | AL43: =+SUM(H43:AJ43) -> 30400041 | AM43: =+G43*E43*AL43 -> 24320032800000
B44: 4.8 | C44: TRANSPORTES Y MOVILIZACIÓN (NO INCLUIDOS EN LOS COSTOS DIRECTOS) | D44: MES | E44: =+$C$11 -> 4.5 | G44: 820428.57 | H44: 1 | I44: =+$E44*$G44*H44 -> 3691928.6 | J44: 1 | K44: =+$E44*$G44*J44 -> 3691928.6 | L44: 1 | M44: =+$E44*$G44*L44 -> 3691928.6 | N44: 1 | O44: =+$E44*$G44*N44 -> 3691928.6 | P44: 1 | Q44: =+$E44*$G44*P44 -> 3691928.6 | R44: 1 | S44: =+$E44*$G44*R44 -> 3691928.6 | T44: 1 | U44: =+$E44*$G44*T44 -> 3691928.6 | V44: 1 | W44: =+$E44*$G44*V44 -> 3691928.6 | X44: 1 | Y44: =+$E44*$G44*X44 -> 3691928.6 | Z44: 1 | AA44: =+$E44*$G44*Z44 -> 3691928.6 | AB44: 1 | AC44: =+$E44*$G44*AB44 -> 3691928.6 | AD44: 1 | AE44: =+$E44*$G44*AD44 -> 3691928.6 | AF44: 1 | AG44: =+$E44*$G44*AF44 -> 3691928.6 | AH44: 1 | AI44: =+$E44*$G44*AH44 -> 3691928.6 | AJ44: 1 | AK44: =+$E44*$G44*AJ44 -> 3691928.6 | AL44: =+SUM(H44:AJ44) -> 51687015 | AM44: =+G44*E44*AL44 -> 1.9082477e+14
B45: 4.9 | C45: VIATICOS Y MANUTENCIÓN PERSONAL ADMINISTRATIVO | D45: MES | E45: =+$C$11 -> 4.5 | G45: 1000000 | H45: =+H16 -> 3 | I45: =+$E45*$G45*H45 -> 13500000 | J45: =+J16 -> 4 | K45: =+$E45*$G45*J45 -> 18000000 | L45: =+L16 -> 2 | M45: =+$E45*$G45*L45 -> 9000000 | N45: =+N16 -> 1 | O45: =+$E45*$G45*N45 -> 4500000 | P45: =+P16 -> 2 | Q45: =+$E45*$G45*P45 -> 9000000 | R45: =+R16 -> 4 | S45: =+$E45*$G45*R45 -> 18000000 | T45: =+T16 -> 2 | U45: =+$E45*$G45*T45 -> 9000000 | V45: =+V16 -> 2 | W45: =+$E45*$G45*V45 -> 9000000 | X45: =+X16 -> 3 | Y45: =+$E45*$G45*X45 -> 13500000 | Z45: =+Z16 -> 2 | AA45: =+$E45*$G45*Z45 -> 9000000 | AB45: =+AB16 -> 3 | AC45: =+$E45*$G45*AB45 -> 13500000 | AD45: =+AD16 -> 2 | AE45: =+$E45*$G45*AD45 -> 9000000 | AF45: =+AF16 -> 4 | AG45: =+$E45*$G45*AF45 -> 18000000 | AH45: =+AH16 -> 4 | AI45: =+$E45*$G45*AH45 -> 18000000 | AJ45: =+AJ16 -> 3 | AK45: =+$E45*$G45*AJ45 -> 13500000 | AL45: =+SUM(H45:AJ45) -> 171000041 | AM45: =+G45*E45*AL45 -> 769500184500000
C46: TOTAL OTROS - GASTOS GENERALES: | I46: =SUM(I37:I45) -> 32623179 | K46: =SUM(K37:K45) -> 41310679 | M46: =SUM(M37:M45) -> 23935679 | O46: =SUM(O37:O45) -> 15248179 | Q46: =SUM(Q37:Q45) -> 23935679 | S46: =SUM(S37:S45) -> 41310679 | U46: =SUM(U37:U45) -> 23935679 | W46: =SUM(W37:W45) -> 23935679 | Y46: =SUM(Y37:Y45) -> 32623179 | AA46: =SUM(AA37:AA45) -> 23935679 | AC46: =SUM(AC37:AC45) -> 32623179 | AE46: =SUM(AE37:AE45) -> 23935679 | AG46: =SUM(AG37:AG45) -> 41310679 | AI46: =SUM(AI37:AI45) -> 42435679 | AK46: =SUM(AK37:AK45) -> 32623179 | AM46: =SUM(AM37:AM45) -> 1.8862611e+15
B48: 5 | C48: COSTOS DE LEGALIZACION DEL CONTRATO (POLIZAS)
B49: 5.1 | C49: CUMPLIMIENTO | D49: UN | E49: 1 | F49: 0.00026 | H49: 0.00026 | I49: =+$E49*$F49*I$78 -> 689741.53 | K49: =+$E49*$F49*K$78 -> 1127393.4 | M49: =+$E49*$F49*M$78 -> 882903.04 | O49: =+$E49*$F49*O$78 -> 364179.83 | Q49: =+$E49*$F49*Q$78 -> 409325.01 | S49: =+$E49*$F49*S$78 -> 1539914.3 | U49: =+$E49*$F49*U$78 -> 877925.73 | W49: =+$E49*$F49*W$78 -> 595494.22 | Y49: =+$E49*$F49*Y$78 -> 872219.67 | AA49: =+$E49*$F49*AA$78 -> 751992.01 | AC49: =+$E49*$F49*AC$78 -> 965794.86 | AE49: =+$E49*$F49*AE$78 -> 835214.12 | AG49: =+$E49*$F49*AG$78 -> 1301172.3 | AI49: =+$E49*$F49*AI$78 -> 1868398 | AK49: =+$E49*$F49*AK$78 -> 1183194.4
B50: 5.2 | C50: AMPARO DE SALARIOS Y PREST. SOCIALES | D50: UN | E50: 1 | F50: 0.00024 | H50: 0.00024 | I50: =+$E50*$F50*$I$78 -> 636684.49 | K50: =+$E50*$F50*K$78 -> 1040670.8 | M50: =+$E50*$F50*M$78 -> 814987.42 | O50: =+$E50*$F50*O$78 -> 336166 | Q50: =+$E50*$F50*Q$78 -> 377838.47 | S50: =+$E50*$F50*S$78 -> 1421459.4 | U50: =+$E50*$F50*U$78 -> 810392.98 | W50: =+$E50*$F50*W$78 -> 549686.98 | Y50: =+$E50*$F50*Y$78 -> 805125.85 | AA50: =+$E50*$F50*AA$78 -> 694146.47 | AC50: =+$E50*$F50*AC$78 -> 891502.95 | AE50: =+$E50*$F50*AE$78 -> 770966.88 | AG50: =+$E50*$F50*AG$78 -> 1201082.1 | AI50: =+$E50*$F50*AI$78 -> 1724675 | AK50: =+$E50*$F50*AK$78 -> 1092179.4
...

Sheet AU Z1
C3: Realizar las obras de adecuacion a toto costo, que tiene por objeto: “OBRAS CIVILES DE ADECUACIÓN EN ESPACIOS FÍSICOS A NIVEL NACIONAL, PARA EL DESARROLLO MISIONAL DEL SERVICIO NACIONAL DE APRENDIZAJE-SENA- A MONTO AGOTABLE.”
C5: ANEXO. 05 - ANALISIS ADMINISTRACIÓN Y UTILIDAD PARA TODAS LAS ZONAS
C6: SON CRITERIOS MINIMOS. AJUSTAR SEGÚN NECESIDAD DE LA ZONA A OFERTAR, TENIENDO EN CUENTA LAS PAUTAS DEFINIDAS EN EL ESTUDIO PREVIO
C7: LP-DG-0005-2020
B11: PLAZO DE EJECUCIÓN | C11: 4.5 | H11: ZONA 1 | I11: VR. TOTAL
G12: CANTIDAD DE RESIDENTES --------> | H12: 3
C13: DESCRIPCION | D13: UND | E13: PLAZO DE EJECUCIÓN | F13: % DE DEDICACIÓN | G13: VR. UNITARIO | H13: CANTIDAD / PROFESIONAL
B14: 1 | C14: PERSONAL DE OBRA (INCLUYEN PRESTACIONES)
B15: 1.1 | C15: DIRECTOR DE OBRA CON PRESTACIONES SOCIALES | D15: MES | E15: =+$C$11 -> 4.5 | F15: 1 | G15: 5000000 | H15: 1 | I15: =+$E15*$F15*$G15*H15 -> 22500000
B16: 1.2 | C16: RESIDENTE DE OBRA CON PRESTACIONES SOCIALES | D16: MES | E16: =+$C$11 -> 4.5 | F16: 1 | G16: 2500000 | H16: =+H12 -> 3 | I16: =+$E16*$F16*$G16*H16 -> 33750000
B17: 1.3 | C17: ENCARGADO AREA ELECTRICA Y MECANICA | D17: MES | E17: =+$C$11 -> 4.5 | F17: 1 | G17: 2000000 | H17: 1 | I17: =+$E17*$F17*$G17*H17 -> 9000000
B18: 1.4 | C18: ENCARGADO AREA HIDROSANITARIA | D18: MES | E18: =+$C$11 -> 4.5 | F18: 1 | G18: 2000000 | H18: 1 | I18: =+$E18*$F18*$G18*H18 -> 9000000
B19: 1.5 | C19: ENCARGADO AMBIENTAL | D19: MES | E19: =+$C$11 -> 4.5 | F19: 1 | G19: 2000000 | H19: 1 | I19: =+$E19*$F19*$G19*H19 -> 9000000
B20: 1.6 | C20: ENCARGADO SEGURIDAD INDUSTRIAL CON SEGURIDAD SOCIAL | D20: MES | E20: =+$C$11 -> 4.5 | F20: 1 | G20: 1750000 | H20: 1 | I20: =+$E20*$F20*$G20*H20 -> 7875000
C21: TOTAL PERSONAL DE OBRA (INCLUYEN PRESTACIONES) | I21: =SUM(I15:I20) -> 91125000
B23: 2 | C23: COSTOS DE SERVICIOS PUBLICOS (OBRA Y CAMPAMENTO)
B24: 2.1 | C24: ENERGIA (INCLUYE INSTALACIÓN PROVISIONAL) | D24: MES | E24: =+$C$11 -> 4.5 | G24: 250000 | H24: =+H16 -> 3 | I24: =+$E24*$G24*H24 -> 3375000
B25: 2.2 | C25: AGUA - ALCANTARILLADO (INCLUYE INSTALACIÓN PROVISIONAL) | D25: MES | E25: =+$C$11 -> 4.5 | G25: 150000 | H25: =+H16 -> 3 | I25: =+$E25*$G25*H25 -> 2025000
B26: 2.3 | C26: INTERNET (PROVISIONAL) | D26: MES | E26: =+$C$11 -> 4.5 | G26: 150000 | H26: =+H16 -> 3 | I26: =+$E26*$G26*H26 -> 2025000
B27: 2.4 | C27: TELÉFONO (PROVISIONAL) | D27: MES | E27: =+$C$11 -> 4.5 | G27: 200000 | H27: =+H16 -> 3 | I27: =+$E27*$G27*H27 -> 2700000
C28: TOTAL COSTOS DE SERVICIOS PUBLICOS: | I28: =SUM(I24:I27) -> 10125000
B30: 3 | C30: COSTOS DE DOTACION CAMPAMENTO E INSTALACIONES PROVISIONALES
B31: 3.1 | C31: COSTO PROPORCIONAL OFICINA CENTRAL | D31: MES | E31: =+$C$11 -> 4.5 | G31: 250000 | H31: =+H16 -> 3 | I31: =+$E31*$G31*H31 -> 3375000
B32: 3.2 | C32: COMPUTADOR | D32: MES | E32: =+$C$11 -> 4.5 | G32: 150000 | H32: =+H16+H15 -> 4 | I32: =+$E32*$G32*H32 -> 2700000
B33: 3.3 | C33: MUEBLES | D33: GB | E33: 1 | G33: 400000 | H33: =+H16 -> 3 | I33: =+$E33*$G33*H33 -> 1200000
C34: TOTAL COSTOS DE DOTACION CAMPAMENTO: | I34: =SUM(I31:I33) -> 7275000
B36: 4 | C36: OTROS - GASTOS GENERALES
B37: 4.1 | C37: SEGURIDAD INDUSTRIAL , DOTACIÓN Y PROTOCOLO COVID 19 | D37: % PERS | E37: 0.05 | I37: =+$E37*I$21 -> 4556250
B38: 4.2 | C38: ENSAYOS DE LABORATORIO PARA MATERIALES, PRUEBAS DE CARGA Y OTROS QUE SEAN REQUERIDOS | D38: MES | E38: 1 | G38: 400000 | H38: =+H16 -> 3 | I38: =+$E38*$G38*H38 -> 1200000
B39: 4.3 | C39: MANTENIMIENTO EQUIPOS/HERRAMIENTAS | D39: MES | E39: =+$C$11 -> 4.5 | G39: 200000 | H39: =+H16 -> 3 | I39: =+$E39*$G39*H39 -> 2700000
B40: 4.4 | C40: PAPELERIA Y EMPASTES | D40: MES | E40: =+$C$11 -> 4.5 | G40: 150000 | H40: =+H16 -> 3 | I40: =+$E40*$G40*H40 -> 2025000
B41: 4.5 | C41: REGISTRO FOTOGRÁFICO / VIDEOS / INFORMES | D41: MES | E41: =+$C$11 -> 4.5 | G41: 100000 | H41: =+H16 -> 3 | I41: =+$E41*$G41*H41 -> 1350000
B42: 4.6 | C42: PLOTEADA PLANOS, COPIA PLANOS Y FOTOCOPIAS | D42: GB | E42: 1 | G42: 400000 | H42: =+H16 -> 3 | I42: =+$E42*$G42*H42 -> 1200000
B43: 4.7 | C43: PLANOS RECORD | D43: GB | E43: 1 | G43: 800000 | H43: =+H16 -> 3 | I43: =+$E43*$G43*H43 -> 2400000
B44: 4.8 | C44: TRANSPORTES Y MOVILIZACIÓN (NO INCLUIDOS EN LOS COSTOS DIRECTOS) | D44: MES | E44: =+$C$11 -> 4.5 | G44: 820428.57 | H44: 1 | I44: =+$E44*$G44*H44 -> 3691928.6
B45: 4.9 | C45: VIATICOS Y MANUTENCIÓN PERSONAL ADMINISTRATIVO | D45: MES | E45: =+$C$11 -> 4.5 | G45: 1000000 | H45: =+H16 -> 3 | I45: =+$E45*$G45*H45 -> 13500000
C46: TOTAL OTROS - GASTOS GENERALES: | I46: =SUM(I37:I45) -> 32623179
B48: 5 | C48: COSTOS DE LEGALIZACION DEL CONTRATO (POLIZAS)
B49: 5.1 | C49: CUMPLIMIENTO | D49: UN | E49: 1 | F49: 0.00026 | H49: 0.00026 | I49: =+$E49*$F49*I$78 -> 689741.53
B50: 5.2 | C50: AMPARO DE SALARIOS Y PREST. SOCIALES | D50: UN | E50: 1 | F50: 0.00024 | H50: 0.00024 | I50: =+$E50*$F50*$I$78 -> 636684.49
...

Sheet AU Z2
C3: Realizar las obras de adecuacion a toto costo, que tiene por objeto: “OBRAS CIVILES DE ADECUACIÓN EN ESPACIOS FÍSICOS A NIVEL NACIONAL, PARA EL DESARROLLO MISIONAL DEL SERVICIO NACIONAL DE APRENDIZAJE-SENA- A MONTO AGOTABLE.”
C5: ANEXO. 05 - ANALISIS ADMINISTRACIÓN Y UTILIDAD PARA TODAS LAS ZONAS
C6: SON CRITERIOS MINIMOS. AJUSTAR SEGÚN NECESIDAD DE LA ZONA A OFERTAR, TENIENDO EN CUENTA LAS PAUTAS DEFINIDAS EN EL ESTUDIO PREVIO
C7: LP-DG-0005-2020
B11: PLAZO DE EJECUCIÓN | C11: 4.5 | H11: ZONA 2 | I11: VR. TOTAL
G12: CANTIDAD DE RESIDENTES --------> | H12: 4
C13: DESCRIPCION | D13: UND | E13: PLAZO DE EJECUCIÓN | F13: % DE DEDICACIÓN | G13: VR. UNITARIO | H13: CANTIDAD / PROFESIONAL
B14: 1 | C14: PERSONAL DE OBRA (INCLUYEN PRESTACIONES)
B15: 1.1 | C15: DIRECTOR DE OBRA CON PRESTACIONES SOCIALES | D15: MES | E15: =+$C$11 -> 4.5 | F15: 1 | G15: 5000000 | H15: 1 | I15: =+$E15*$F15*$G15*H15 -> 22500000
B16: 1.2 | C16: RESIDENTE DE OBRA CON PRESTACIONES SOCIALES | D16: MES | E16: =+$C$11 -> 4.5 | F16: 1 | G16: 2500000 | H16: =+H12 -> 4 | I16: =+$E16*$F16*$G16*H16 -> 45000000
B17: 1.3 | C17: ENCARGADO AREA ELECTRICA Y MECANICA | D17: MES | E17: =+$C$11 -> 4.5 | F17: 1 | G17: 2000000 | H17: 1 | I17: =+$E17*$F17*$G17*H17 -> 9000000
B18: 1.4 | C18: ENCARGADO AREA HIDROSANITARIA | D18: MES | E18: =+$C$11 -> 4.5 | F18: 1 | G18: 2000000 | H18: 1 | I18: =+$E18*$F18*$G18*H18 -> 9000000
B19: 1.5 | C19: ENCARGADO AMBIENTAL | D19: MES | E19: =+$C$11 -> 4.5 | F19: 1 | G19: 2000000 | H19: 1 | I19: =+$E19*$F19*$G19*H19 -> 9000000
B20: 1.6 | C20: ENCARGADO SEGURIDAD INDUSTRIAL CON SEGURIDAD SOCIAL | D20: MES | E20: =+$C$11 -> 4.5 | F20: 1 | G20: 1750000 | H20: 1 | I20: =+$E20*$F20*$G20*H20 -> 7875000
C21: TOTAL PERSONAL DE OBRA (INCLUYEN PRESTACIONES) | I21: =SUM(I15:I20) -> 102375000
B23: 2 | C23: COSTOS DE SERVICIOS PUBLICOS (OBRA Y CAMPAMENTO)
B24: 2.1 | C24: ENERGIA (INCLUYE INSTALACIÓN PROVISIONAL) | D24: MES | E24: =+$C$11 -> 4.5 | G24: 250000 | H24: =+H16 -> 4 | I24: =+$E24*$G24*H24 -> 4500000
B25: 2.2 | C25: AGUA - ALCANTARILLADO (INCLUYE INSTALACIÓN PROVISIONAL) | D25: MES | E25: =+$C$11 -> 4.5 | G25: 150000 | H25: =+H16 -> 4 | I25: =+$E25*$G25*H25 -> 2700000
B26: 2.3 | C26: INTERNET (PROVISIONAL) | D26: MES | E26: =+$C$11 -> 4.5 | G26: 150000 | H26: =+H16 -> 4 | I26: =+$E26*$G26*H26 -> 2700000
B27: 2.4 | C27: TELÉFONO (PROVISIONAL) | D27: MES | E27: =+$C$11 -> 4.5 | G27: 200000 | H27: =+H16 -> 4 | I27: =+$E27*$G27*H27 -> 3600000
C28: TOTAL COSTOS DE SERVICIOS PUBLICOS: | I28: =SUM(I24:I27) -> 13500000
B30: 3 | C30: COSTOS DE DOTACION CAMPAMENTO E INSTALACIONES PROVISIONALES
B31: 3.1 | C31: COSTO PROPORCIONAL OFICINA CENTRAL | D31: MES | E31: =+$C$11 -> 4.5 | G31: 250000 | H31: =+H16 -> 4 | I31: =+$E31*$G31*H31 -> 4500000
B32: 3.2 | C32: COMPUTADOR | D32: MES | E32: =+$C$11 -> 4.5 | G32: 150000 | H32: =+H16+H15 -> 5 | I32: =+$E32*$G32*H32 -> 3375000
B33: 3.3 | C33: MUEBLES | D33: GB | E33: 1 | G33: 400000 | H33: =+H16 -> 4 | I33: =+$E33*$G33*H33 -> 1600000
C34: TOTAL COSTOS DE DOTACION CAMPAMENTO: | I34: =SUM(I31:I33) -> 9475000
B36: 4 | C36: OTROS - GASTOS GENERALES
B37: 4.1 | C37: SEGURIDAD INDUSTRIAL , DOTACIÓN Y PROTOCOLO COVID 19 | D37: % PERS | E37: 0.05 | I37: =+$E37*I$21 -> 5118750
B38: 4.2 | C38: ENSAYOS DE LABORATORIO PARA MATERIALES, PRUEBAS DE CARGA Y OTROS QUE SEAN REQUERIDOS | D38: MES | E38: 1 | G38: 400000 | H38: =+H16 -> 4 | I38: =+$E38*$G38*H38 -> 1600000
B39: 4.3 | C39: MANTENIMIENTO EQUIPOS/HERRAMIENTAS | D39: MES | E39: =+$C$11 -> 4.5 | G39: 200000 | H39: =+H16 -> 4 | I39: =+$E39*$G39*H39 -> 3600000
B40: 4.4 | C40: PAPELERIA Y EMPASTES | D40: MES | E40: =+$C$11 -> 4.5 | G40: 150000 | H40: =+H16 -> 4 | I40: =+$E40*$G40*H40 -> 2700000
B41: 4.5 | C41: REGISTRO FOTOGRÁFICO / VIDEOS / INFORMES | D41: MES | E41: =+$C$11 -> 4.5 | G41: 100000 | H41: =+H16 -> 4 | I41: =+$E41*$G41*H41 -> 1800000
B42: 4.6 | C42: PLOTEADA PLANOS, COPIA PLANOS Y FOTOCOPIAS | D42: GB | E42: 1 | G42: 400000 | H42: =+H16 -> 4 | I42: =+$E42*$G42*H42 -> 1600000
B43: 4.7 | C43: PLANOS RECORD | D43: GB | E43: 1 | G43: 800000 | H43: =+H16 -> 4 | I43: =+$E43*$G43*H43 -> 3200000
B44: 4.8 | C44: TRANSPORTES Y MOVILIZACIÓN (NO INCLUIDOS EN LOS COSTOS DIRECTOS) | D44: MES | E44: =+$C$11 -> 4.5 | G44: 832407.33 | H44: 1 | I44: =+$E44*$G44*H44 -> 3745833
B45: 4.9 | C45: VIATICOS Y MANUTENCIÓN PERSONAL ADMINISTRATIVO | D45: MES | E45: =+$C$11 -> 4.5 | G45: 1000000 | H45: =+H16 -> 4 | I45: =+$E45*$G45*H45 -> 18000000
C46: TOTAL OTROS - GASTOS GENERALES: | I46: =SUM(I37:I45) -> 41364583
B48: 5 | C48: COSTOS DE LEGALIZACION DEL CONTRATO (POLIZAS)
B49: 5.1 | C49: CUMPLIMIENTO | D49: UN | E49: 1 | F49: 0.00026 | I49: =+$E49*$F49*I$78 -> 1127393.4
B50: 5.2 | C50: AMPARO DE SALARIOS Y PREST. SOCIALES | D50: UN | E50: 1 | F50: 0.00024 | I50: =+$E50*$F50*I$78 -> 1040670.8
...

Sheet AU Z3
C3: Realizar las obras de adecuacion a toto costo, que tiene por objeto: “OBRAS CIVILES DE ADECUACIÓN EN ESPACIOS FÍSICOS A NIVEL NACIONAL, PARA EL DESARROLLO MISIONAL DEL SERVICIO NACIONAL DE APRENDIZAJE-SENA- A MONTO AGOTABLE.”
C5: ANEXO. 05 - ANALISIS ADMINISTRACIÓN Y UTILIDAD PARA TODAS LAS ZONAS
C6: SON CRITERIOS MINIMOS. AJUSTAR SEGÚN NECESIDAD DE LA ZONA A OFERTAR, TENIENDO EN CUENTA LAS PAUTAS DEFINIDAS EN EL ESTUDIO PREVIO
C7: LP-DG-0005-2020
B11: PLAZO DE EJECUCIÓN | C11: 4.5 | H11: ZONA 3 | I11: VR. TOTAL
G12: CANTIDAD DE RESIDENTES --------> | H12: 2
C13: DESCRIPCION | D13: UND | E13: PLAZO DE EJECUCIÓN | F13: % DE DEDICACIÓN | G13: VR. UNITARIO | H13: CANTIDAD / PROFESIONAL
B14: 1 | C14: PERSONAL DE OBRA (INCLUYEN PRESTACIONES)
B15: 1.1 | C15: DIRECTOR DE OBRA CON PRESTACIONES SOCIALES | D15: MES | E15: =+$C$11 -> 4.5 | F15: 1 | G15: 5000000 | H15: 1 | I15: =+$E15*$F15*$G15*H15 -> 22500000
B16: 1.2 | C16: RESIDENTE DE OBRA CON PRESTACIONES SOCIALES | D16: MES | E16: =+$C$11 -> 4.5 | F16: 1 | G16: 2500000 | H16: =+H12 -> 2 | I16: =+$E16*$F16*$G16*H16 -> 22500000
B17: 1.3 | C17: ENCARGADO AREA ELECTRICA Y MECANICA | D17: MES | E17: =+$C$11 -> 4.5 | F17: 1 | G17: 2000000 | H17: 1 | I17: =+$E17*$F17*$G17*H17 -> 9000000
B18: 1.4 | C18: ENCARGADO AREA HIDROSANITARIA | D18: MES | E18: =+$C$11 -> 4.5 | F18: 1 | G18: 2000000 | H18: 1 | I18: =+$E18*$F18*$G18*H18 -> 9000000
B19: 1.5 | C19: ENCARGADO AMBIENTAL | D19: MES | E19: =+$C$11 -> 4.5 | F19: 1 | G19: 2000000 | H19: 1 | I19: =+$E19*$F19*$G19*H19 -> 9000000
B20: 1.6 | C20: ENCARGADO SEGURIDAD INDUSTRIAL CON SEGURIDAD SOCIAL | D20: MES | E20: =+$C$11 -> 4.5 | F20: 1 | G20: 1750000 | H20: 1 | I20: =+$E20*$F20*$G20*H20 -> 7875000
C21: TOTAL PERSONAL DE OBRA (INCLUYEN PRESTACIONES) | I21: =SUM(I15:I20) -> 79875000
B23: 2 | C23: COSTOS DE SERVICIOS PUBLICOS (OBRA Y CAMPAMENTO)
B24: 2.1 | C24: ENERGIA (INCLUYE INSTALACIÓN PROVISIONAL) | D24: MES | E24: =+$C$11 -> 4.5 | G24: 250000 | H24: =+H16 -> 2 | I24: =+$E24*$G24*H24 -> 2250000
B25: 2.2 | C25: AGUA - ALCANTARILLADO (INCLUYE INSTALACIÓN PROVISIONAL) | D25: MES | E25: =+$C$11 -> 4.5 | G25: 150000 | H25: =+H16 -> 2 | I25: =+$E25*$G25*H25 -> 1350000
B26: 2.3 | C26: INTERNET (PROVISIONAL) | D26: MES | E26: =+$C$11 -> 4.5 | G26: 150000 | H26: =+H16 -> 2 | I26: =+$E26*$G26*H26 -> 1350000
B27: 2.4 | C27: TELÉFONO (PROVISIONAL) | D27: MES | E27: =+$C$11 -> 4.5 | G27: 200000 | H27: =+H16 -> 2 | I27: =+$E27*$G27*H27 -> 1800000
C28: TOTAL COSTOS DE SERVICIOS PUBLICOS: | I28: =SUM(I24:I27) -> 6750000
B30: 3 | C30: COSTOS DE DOTACION CAMPAMENTO E INSTALACIONES PROVISIONALES
B31: 3.1 | C31: COSTO PROPORCIONAL OFICINA CENTRAL | D31: MES | E31: =+$C$11 -> 4.5 | G31: 250000 | H31: =+H16 -> 2 | I31: =+$E31*$G31*H31 -> 2250000
B32: 3.2 | C32: COMPUTADOR | D32: MES | E32: =+$C$11 -> 4.5 | G32: 150000 | H32: =+H16+H15 -> 3 | I32: =+$E32*$G32*H32 -> 2025000
B33: 3.3 | C33: MUEBLES | D33: GB | E33: 1 | G33: 400000 | H33: =+H16 -> 2 | I33: =+$E33*$G33*H33 -> 800000
C34: TOTAL COSTOS DE DOTACION CAMPAMENTO: | I34: =SUM(I31:I33) -> 5075000
B36: 4 | C36: OTROS - GASTOS GENERALES
B37: 4.1 | C37: SEGURIDAD INDUSTRIAL , DOTACIÓN Y PROTOCOLO COVID 19 | D37: % PERS | E37: 0.05 | I37: =+$E37*I$21 -> 3993750
B38: 4.2 | C38: ENSAYOS DE LABORATORIO PARA MATERIALES, PRUEBAS DE CARGA Y OTROS QUE SEAN REQUERIDOS | D38: MES | E38: 1 | G38: 400000 | H38: =+H16 -> 2 | I38: =+$E38*$G38*H38 -> 800000
B39: 4.3 | C39: MANTENIMIENTO EQUIPOS/HERRAMIENTAS | D39: MES | E39: =+$C$11 -> 4.5 | G39: 200000 | H39: =+H16 -> 2 | I39: =+$E39*$G39*H39 -> 1800000
B40: 4.4 | C40: PAPELERIA Y EMPASTES | D40: MES | E40: =+$C$11 -> 4.5 | G40: 150000 | H40: =+H16 -> 2 | I40: =+$E40*$G40*H40 -> 1350000
B41: 4.5 | C41: REGISTRO FOTOGRÁFICO / VIDEOS / INFORMES | D41: MES | E41: =+$C$11 -> 4.5 | G41: 100000 | H41: =+H16 -> 2 | I41: =+$E41*$G41*H41 -> 900000
B42: 4.6 | C42: PLOTEADA PLANOS, COPIA PLANOS Y FOTOCOPIAS | D42: GB | E42: 1 | G42: 400000 | H42: =+H16 -> 2 | I42: =+$E42*$G42*H42 -> 800000
B43: 4.7 | C43: PLANOS RECORD | D43: GB | E43: 1 | G43: 800000 | H43: =+H16 -> 2 | I43: =+$E43*$G43*H43 -> 1600000
B44: 4.8 | C44: TRANSPORTES Y MOVILIZACIÓN (NO INCLUIDOS EN LOS COSTOS DIRECTOS) | D44: MES | E44: =+$C$11 -> 4.5 | G44: 814942.21 | H44: 1 | I44: =+$E44*$G44*H44 -> 3667239.9
B45: 4.9 | C45: VIATICOS Y MANUTENCIÓN PERSONAL ADMINISTRATIVO | D45: MES | E45: =+$C$11 -> 4.5 | G45: 1000000 | H45: =+H16 -> 2 | I45: =+$E45*$G45*H45 -> 9000000
C46: TOTAL OTROS - GASTOS GENERALES: | I46: =SUM(I37:I45) -> 23910990
B48: 5 | C48: COSTOS DE LEGALIZACION DEL CONTRATO (POLIZAS)
B49: 5.1 | C49: CUMPLIMIENTO | D49: UN | E49: 1 | F49: 0.00026 | I49: =+$E49*$F49*I$78 -> 882903.04
B50: 5.2 | C50: AMPARO DE SALARIOS Y PREST. SOCIALES | D50: UN | E50: 1 | F50: 0.00024 | I50: =+$E50*$F50*I$78 -> 814987.42
...

Sheet AU Z4
C3: Realizar las obras de adecuacion a toto costo, que tiene por objeto: “OBRAS CIVILES DE ADECUACIÓN EN ESPACIOS FÍSICOS A NIVEL NACIONAL, PARA EL DESARROLLO MISIONAL DEL SERVICIO NACIONAL DE APRENDIZAJE-SENA- A MONTO AGOTABLE.”
C5: ANEXO. 05 - ANALISIS ADMINISTRACIÓN Y UTILIDAD PARA TODAS LAS ZONAS
C6: SON CRITERIOS MINIMOS. AJUSTAR SEGÚN NECESIDAD DE LA ZONA A OFERTAR, TENIENDO EN CUENTA LAS PAUTAS DEFINIDAS EN EL ESTUDIO PREVIO
C7: LP-DG-0005-2020
B11: PLAZO DE EJECUCIÓN | C11: 4.5 | H11: ZONA 4 | I11: VR. TOTAL
G12: CANTIDAD DE RESIDENTES --------> | H12: 1
C13: DESCRIPCION | D13: UND | E13: PLAZO DE EJECUCIÓN | F13: % DE DEDICACIÓN | G13: VR. UNITARIO | H13: CANTIDAD / PROFESIONAL
B14: 1 | C14: PERSONAL DE OBRA (INCLUYEN PRESTACIONES)
B15: 1.1 | C15: DIRECTOR DE OBRA CON PRESTACIONES SOCIALES | D15: MES | E15: =+$C$11 -> 4.5 | F15: 1 | G15: 5000000 | H15: 1 | I15: =+$E15*$F15*$G15*H15 -> 22500000
B16: 1.2 | C16: RESIDENTE DE OBRA CON PRESTACIONES SOCIALES | D16: MES | E16: =+$C$11 -> 4.5 | F16: 1 | G16: 2500000 | H16: =+H12 -> 1 | I16: =+$E16*$F16*$G16*H16 -> 11250000
B17: 1.3 | C17: ENCARGADO AREA ELECTRICA Y MECANICA | D17: MES | E17: =+$C$11 -> 4.5 | F17: 1 | G17: 2000000 | H17: 1 | I17: =+$E17*$F17*$G17*H17 -> 9000000
B18: 1.4 | C18: ENCARGADO AREA HIDROSANITARIA | D18: MES | E18: =+$C$11 -> 4.5 | F18: 1 | G18: 2000000 | H18: 1 | I18: =+$E18*$F18*$G18*H18 -> 9000000
B19: 1.5 | C19: ENCARGADO AMBIENTAL | D19: MES | E19: =+$C$11 -> 4.5 | F19: 1 | G19: 2000000 | H19: 1 | I19: =+$E19*$F19*$G19*H19 -> 9000000
B20: 1.6 | C20: ENCARGADO SEGURIDAD INDUSTRIAL CON SEGURIDAD SOCIAL | D20: MES | E20: =+$C$11 -> 4.5 | F20: 1 | G20: 1750000 | H20: 1 | I20: =+$E20*$F20*$G20*H20 -> 7875000
C21: TOTAL PERSONAL DE OBRA (INCLUYEN PRESTACIONES) | I21: =SUM(I15:I20) -> 68625000
B23: 2 | C23: COSTOS DE SERVICIOS PUBLICOS (OBRA Y CAMPAMENTO)
B24: 2.1 | C24: ENERGIA (INCLUYE INSTALACIÓN PROVISIONAL) | D24: MES | E24: =+$C$11 -> 4.5 | G24: 250000 | H24: =+H16 -> 1 | I24: =+$E24*$G24*H24 -> 1125000
B25: 2.2 | C25: AGUA - ALCANTARILLADO (INCLUYE INSTALACIÓN PROVISIONAL) | D25: MES | E25: =+$C$11 -> 4.5 | G25: 150000 | H25: =+H16 -> 1 | I25: =+$E25*$G25*H25 -> 675000
B26: 2.3 | C26: INTERNET (PROVISIONAL) | D26: MES | E26: =+$C$11 -> 4.5 | G26: 150000 | H26: =+H16 -> 1 | I26: =+$E26*$G26*H26 -> 675000
B27: 2.4 | C27: TELÉFONO (PROVISIONAL) | D27: MES | E27: =+$C$11 -> 4.5 | G27: 200000 | H27: =+H16 -> 1 | I27: =+$E27*$G27*H27 -> 900000
C28: TOTAL COSTOS DE SERVICIOS PUBLICOS: | I28: =SUM(I24:I27) -> 3375000
B30: 3 | C30: COSTOS DE DOTACION CAMPAMENTO E INSTALACIONES PROVISIONALES
B31: 3.1 | C31: COSTO PROPORCIONAL OFICINA CENTRAL | D31: MES | E31: =+$C$11 -> 4.5 | G31: 250000 | H31: =+H16 -> 1 | I31: =+$E31*$G31*H31 -> 1125000
B32: 3.2 | C32: COMPUTADOR | D32: MES | E32: =+$C$11 -> 4.5 | G32: 150000 | H32: =+H16+H15 -> 2 | I32: =+$E32*$G32*H32 -> 1350000
B33: 3.3 | C33: MUEBLES | D33: GB | E33: 1 | G33: 400000 | H33: =+H16 -> 1 | I33: =+$E33*$G33*H33 -> 400000
C34: TOTAL COSTOS DE DOTACION CAMPAMENTO: | I34: =SUM(I31:I33) -> 2875000
B36: 4 | C36: OTROS - GASTOS GENERALES
B37: 4.1 | C37: SEGURIDAD INDUSTRIAL , DOTACIÓN Y PROTOCOLO COVID 19 | D37: % PERS | E37: 0.05 | I37: =+$E37*I$21 -> 3431250
B38: 4.2 | C38: ENSAYOS DE LABORATORIO PARA MATERIALES, PRUEBAS DE CARGA Y OTROS QUE SEAN REQUERIDOS | D38: MES | E38: 1 | G38: 400000 | H38: =+H16 -> 1 | I38: =+$E38*$G38*H38 -> 400000
B39: 4.3 | C39: MANTENIMIENTO EQUIPOS/HERRAMIENTAS | D39: MES | E39: =+$C$11 -> 4.5 | G39: 200000 | H39: =+H16 -> 1 | I39: =+$E39*$G39*H39 -> 900000
B40: 4.4 | C40: PAPELERIA Y EMPASTES | D40: MES | E40: =+$C$11 -> 4.5 | G40: 150000 | H40: =+H16 -> 1 | I40: =+$E40*$G40*H40 -> 675000
B41: 4.5 | C41: REGISTRO FOTOGRÁFICO / VIDEOS / INFORMES | D41: MES | E41: =+$C$11 -> 4.5 | G41: 100000 | H41: =+H16 -> 1 | I41: =+$E41*$G41*H41 -> 450000
B42: 4.6 | C42: PLOTEADA PLANOS, COPIA PLANOS Y FOTOCOPIAS | D42: GB | E42: 1 | G42: 400000 | H42: =+H16 -> 1 | I42: =+$E42*$G42*H42 -> 400000
B43: 4.7 | C43: PLANOS RECORD | D43: GB | E43: 1 | G43: 800000 | H43: =+H16 -> 1 | I43: =+$E43*$G43*H43 -> 800000
B44: 4.8 | C44: TRANSPORTES Y MOVILIZACIÓN (NO INCLUIDOS EN LOS COSTOS DIRECTOS) | D44: MES | E44: =+$C$11 -> 4.5 | G44: 703268.97 | H44: 1 | I44: =+$E44*$G44*H44 -> 3164710.4
B45: 4.9 | C45: VIATICOS Y MANUTENCIÓN PERSONAL ADMINISTRATIVO | D45: MES | E45: =+$C$11 -> 4.5 | G45: 1000000 | H45: =+H16 -> 1 | I45: =+$E45*$G45*H45 -> 4500000
C46: TOTAL OTROS - GASTOS GENERALES: | I46: =SUM(I37:I45) -> 14720960
B48: 5 | C48: COSTOS DE LEGALIZACION DEL CONTRATO (POLIZAS)
B49: 5.1 | C49: CUMPLIMIENTO | D49: UN | E49: 1 | F49: 0.00026 | I49: =+$E49*$F49*I$78 -> 364179.83
B50: 5.2 | C50: AMPARO DE SALARIOS Y PREST. SOCIALES | D50: UN | E50: 1 | F50: 0.00024 | I50: =+$E50*$F50*I$78 -> 336166
...

Sheet AU Z5
C3: Realizar las obras de adecuacion a toto costo, que tiene por objeto: “OBRAS CIVILES DE ADECUACIÓN EN ESPACIOS FÍSICOS A NIVEL NACIONAL, PARA EL DESARROLLO MISIONAL DEL SERVICIO NACIONAL DE APRENDIZAJE-SENA- A MONTO AGOTABLE.”
C5: ANEXO. 05 - ANALISIS ADMINISTRACIÓN Y UTILIDAD PARA TODAS LAS ZONAS
C6: SON CRITERIOS MINIMOS. AJUSTAR SEGÚN NECESIDAD DE LA ZONA A OFERTAR, TENIENDO EN CUENTA LAS PAUTAS DEFINIDAS EN EL ESTUDIO PREVIO
C7: LP-DG-0005-2020
B11: PLAZO DE EJECUCIÓN | C11: 4.5 | H11: ZONA 5 | I11: VR. TOTAL
G12: CANTIDAD DE RESIDENTES --------> | H12: 2
C13: DESCRIPCION | D13: UND | E13: PLAZO DE EJECUCIÓN | F13: % DE DEDICACIÓN | G13: VR. UNITARIO | H13: CANTIDAD / PROFESIONAL
B14: 1 | C14: PERSONAL DE OBRA (INCLUYEN PRESTACIONES)
B15: 1.1 | C15: DIRECTOR DE OBRA CON PRESTACIONES SOCIALES | D15: MES | E15: =+$C$11 -> 4.5 | F15: 1 | G15: 5000000 | H15: 1 | I15: =+$E15*$F15*$G15*H15 -> 22500000
B16: 1.2 | C16: RESIDENTE DE OBRA CON PRESTACIONES SOCIALES | D16: MES | E16: =+$C$11 -> 4.5 | F16: 1 | G16: 2500000 | H16: =+H12 -> 2 | I16: =+$E16*$F16*$G16*H16 -> 22500000
B17: 1.3 | C17: ENCARGADO AREA ELECTRICA Y MECANICA | D17: MES | E17: =+$C$11 -> 4.5 | F17: 1 | G17: 2000000 | H17: 1 | I17: =+$E17*$F17*$G17*H17 -> 9000000
B18: 1.4 | C18: ENCARGADO AREA HIDROSANITARIA | D18: MES | E18: =+$C$11 -> 4.5 | F18: 1 | G18: 2000000 | H18: 1 | I18: =+$E18*$F18*$G18*H18 -> 9000000
B19: 1.5 | C19: ENCARGADO AMBIENTAL | D19: MES | E19: =+$C$11 -> 4.5 | F19: 1 | G19: 2000000 | H19: 1 | I19: =+$E19*$F19*$G19*H19 -> 9000000
B20: 1.6 | C20: ENCARGADO SEGURIDAD INDUSTRIAL CON SEGURIDAD SOCIAL | D20: MES | E20: =+$C$11 -> 4.5 | F20: 1 | G20: 1750000 | H20: 1 | I20: =+$E20*$F20*$G20*H20 -> 7875000
C21: TOTAL PERSONAL DE OBRA (INCLUYEN PRESTACIONES) | I21: =SUM(I15:I20) -> 79875000
B23: 2 | C23: COSTOS DE SERVICIOS PUBLICOS (OBRA Y CAMPAMENTO)
B24: 2.1 | C24: ENERGIA (INCLUYE INSTALACIÓN PROVISIONAL) | D24: MES | E24: =+$C$11 -> 4.5 | G24: 250000 | H24: =+H16 -> 2 | I24: =+$E24*$G24*H24 -> 2250000
B25: 2.2 | C25: AGUA - ALCANTARILLADO (INCLUYE INSTALACIÓN PROVISIONAL) | D25: MES | E25: =+$C$11 -> 4.5 | G25: 150000 | H25: =+H16 -> 2 | I25: =+$E25*$G25*H25 -> 1350000
B26: 2.3 | C26: INTERNET (PROVISIONAL) | D26: MES | E26: =+$C$11 -> 4.5 | G26: 150000 | H26: =+H16 -> 2 | I26: =+$E26*$G26*H26 -> 1350000
B27: 2.4 | C27: TELÉFONO (PROVISIONAL) | D27: MES | E27: =+$C$11 -> 4.5 | G27: 200000 | H27: =+H16 -> 2 | I27: =+$E27*$G27*H27 -> 1800000
C28: TOTAL COSTOS DE SERVICIOS PUBLICOS: | I28: =SUM(I24:I27) -> 6750000
B30: 3 | C30: COSTOS DE DOTACION CAMPAMENTO E INSTALACIONES PROVISIONALES
B31: 3.1 | C31: COSTO PROPORCIONAL OFICINA CENTRAL | D31: MES | E31: =+$C$11 -> 4.5 | G31: 250000 | H31: =+H16 -> 2 | I31: =+$E31*$G31*H31 -> 2250000
B32: 3.2 | C32: COMPUTADOR | D32: MES | E32: =+$C$11 -> 4.5 | G32: 150000 | H32: =+H16+H15 -> 3 | I32: =+$E32*$G32*H32 -> 2025000
B33: 3.3 | C33: MUEBLES | D33: GB | E33: 1 | G33: 400000 | H33: =+H16 -> 2 | I33: =+$E33*$G33*H33 -> 800000
C34: TOTAL COSTOS DE DOTACION CAMPAMENTO: | I34: =SUM(I31:I33) -> 5075000
B36: 4 | C36: OTROS - GASTOS GENERALES
B37: 4.1 | C37: SEGURIDAD INDUSTRIAL , DOTACIÓN Y PROTOCOLO COVID 19 | D37: % PERS | E37: 0.05 | I37: =+$E37*I$21 -> 3993750
B38: 4.2 | C38: ENSAYOS DE LABORATORIO PARA MATERIALES, PRUEBAS DE CARGA Y OTROS QUE SEAN REQUERIDOS | D38: MES | E38: 1 | G38: 400000 | H38: =+H16 -> 2 | I38: =+$E38*$G38*H38 -> 800000
B39: 4.3 | C39: MANTENIMIENTO EQUIPOS/HERRAMIENTAS | D39: MES | E39: =+$C$11 -> 4.5 | G39: 200000 | H39: =+H16 -> 2 | I39: =+$E39*$G39*H39 -> 1800000
B40: 4.4 | C40: PAPELERIA Y EMPASTES | D40: MES | E40: =+$C$11 -> 4.5 | G40: 150000 | H40: =+H16 -> 2 | I40: =+$E40*$G40*H40 -> 1350000
B41: 4.5 | C41: REGISTRO FOTOGRÁFICO / VIDEOS / INFORMES | D41: MES | E41: =+$C$11 -> 4.5 | G41: 100000 | H41: =+H16 -> 2 | I41: =+$E41*$G41*H41 -> 900000
B42: 4.6 | C42: PLOTEADA PLANOS, COPIA PLANOS Y FOTOCOPIAS | D42: GB | E42: 1 | G42: 400000 | H42: =+H16 -> 2 | I42: =+$E42*$G42*H42 -> 800000
B43: 4.7 | C43: PLANOS RECORD | D43: GB | E43: 1 | G43: 800000 | H43: =+H16 -> 2 | I43: =+$E43*$G43*H43 -> 1600000
B44: 4.8 | C44: TRANSPORTES Y MOVILIZACIÓN (NO INCLUIDOS EN LOS COSTOS DIRECTOS) | D44: MES | E44: =+$C$11 -> 4.5 | G44: 822811.19 | H44: 1 | I44: =+$E44*$G44*H44 -> 3702650.4
B45: 4.9 | C45: VIATICOS Y MANUTENCIÓN PERSONAL ADMINISTRATIVO | D45: MES | E45: =+$C$11 -> 4.5 | G45: 1000000 | H45: =+H16 -> 2 | I45: =+$E45*$G45*H45 -> 9000000
C46: TOTAL OTROS - GASTOS GENERALES: | I46: =SUM(I37:I45) -> 23946400
B48: 5 | C48: COSTOS DE LEGALIZACION DEL CONTRATO (POLIZAS)
B49: 5.1 | C49: CUMPLIMIENTO | D49: UN | E49: 1 | F49: 0.00026 | I49: =+$E49*$F49*I$78 -> 409325.01
B50: 5.2 | C50: AMPARO DE SALARIOS Y PREST. SOCIALES | D50: UN | E50: 1 | F50: 0.00024 | I50: =+$E50*$F50*I$78 -> 377838.47
...

Sheet AU Z6
C3: Realizar las obras de adecuacion a toto costo, que tiene por objeto: “OBRAS CIVILES DE ADECUACIÓN EN ESPACIOS FÍSICOS A NIVEL NACIONAL, PARA EL DESARROLLO MISIONAL DEL SERVICIO NACIONAL DE APRENDIZAJE-SENA- A MONTO AGOTABLE.”
C5: ANEXO. 05 - ANALISIS ADMINISTRACIÓN Y UTILIDAD PARA TODAS LAS ZONAS
C6: SON CRITERIOS MINIMOS. AJUSTAR SEGÚN NECESIDAD DE LA ZONA A OFERTAR, TENIENDO EN CUENTA LAS PAUTAS DEFINIDAS EN EL ESTUDIO PREVIO
C7: LP-DG-0005-2020
B11: PLAZO DE EJECUCIÓN | C11: 4.5 | H11: ZONA 6 | I11: VR. TOTAL
G12: CANTIDAD DE RESIDENTES --------> | H12: 4
C13: DESCRIPCION | D13: UND | E13: PLAZO DE EJECUCIÓN | F13: % DE DEDICACIÓN | G13: VR. UNITARIO | H13: CANTIDAD / PROFESIONAL
B14: 1 | C14: PERSONAL DE OBRA (INCLUYEN PRESTACIONES)
B15: 1.1 | C15: DIRECTOR DE OBRA CON PRESTACIONES SOCIALES | D15: MES | E15: =+$C$11 -> 4.5 | F15: 1 | G15: 5000000 | H15: 1 | I15: =+$E15*$F15*$G15*H15 -> 22500000
B16: 1.2 | C16: RESIDENTE DE OBRA CON PRESTACIONES SOCIALES | D16: MES | E16: =+$C$11 -> 4.5 | F16: 1 | G16: 2500000 | H16: =+H12 -> 4 | I16: =+$E16*$F16*$G16*H16 -> 45000000
B17: 1.3 | C17: ENCARGADO AREA ELECTRICA Y MECANICA | D17: MES | E17: =+$C$11 -> 4.5 | F17: 1 | G17: 2000000 | H17: 1 | I17: =+$E17*$F17*$G17*H17 -> 9000000
B18: 1.4 | C18: ENCARGADO AREA HIDROSANITARIA | D18: MES | E18: =+$C$11 -> 4.5 | F18: 1 | G18: 2000000 | H18: 1 | I18: =+$E18*$F18*$G18*H18 -> 9000000
B19: 1.5 | C19: ENCARGADO AMBIENTAL | D19: MES | E19: =+$C$11 -> 4.5 | F19: 1 | G19: 2000000 | H19: 1 | I19: =+$E19*$F19*$G19*H19 -> 9000000
B20: 1.6 | C20: ENCARGADO SEGURIDAD INDUSTRIAL CON SEGURIDAD SOCIAL | D20: MES | E20: =+$C$11 -> 4.5 | F20: 1 | G20: 1750000 | H20: 1 | I20: =+$E20*$F20*$G20*H20 -> 7875000
C21: TOTAL PERSONAL DE OBRA (INCLUYEN PRESTACIONES) | I21: =SUM(I15:I20) -> 102375000
B23: 2 | C23: COSTOS DE SERVICIOS PUBLICOS (OBRA Y CAMPAMENTO)
B24: 2.1 | C24: ENERGIA (INCLUYE INSTALACIÓN PROVISIONAL) | D24: MES | E24: =+$C$11 -> 4.5 | G24: 250000 | H24: =+H16 -> 4 | I24: =+$E24*$G24*H24 -> 4500000
B25: 2.2 | C25: AGUA - ALCANTARILLADO (INCLUYE INSTALACIÓN PROVISIONAL) | D25: MES | E25: =+$C$11 -> 4.5 | G25: 150000 | H25: =+H16 -> 4 | I25: =+$E25*$G25*H25 -> 2700000
B26: 2.3 | C26: INTERNET (PROVISIONAL) | D26: MES | E26: =+$C$11 -> 4.5 | G26: 150000 | H26: =+H16 -> 4 | I26: =+$E26*$G26*H26 -> 2700000
B27: 2.4 | C27: TELÉFONO (PROVISIONAL) | D27: MES | E27: =+$C$11 -> 4.5 | G27: 200000 | H27: =+H16 -> 4 | I27: =+$E27*$G27*H27 -> 3600000
C28: TOTAL COSTOS DE SERVICIOS PUBLICOS: | I28: =SUM(I24:I27) -> 13500000
B30: 3 | C30: COSTOS DE DOTACION CAMPAMENTO E INSTALACIONES PROVISIONALES
B31: 3.1 | C31: COSTO PROPORCIONAL OFICINA CENTRAL | D31: MES | E31: =+$C$11 -> 4.5 | G31: 250000 | H31: =+H16 -> 4 | I31: =+$E31*$G31*H31 -> 4500000
B32: 3.2 | C32: COMPUTADOR | D32: MES | E32: =+$C$11 -> 4.5 | G32: 150000 | H32: =+H16+H15 -> 5 | I32: =+$E32*$G32*H32 -> 3375000
B33: 3.3 | C33: MUEBLES | D33: GB | E33: 1 | G33: 400000 | H33: =+H16 -> 4 | I33: =+$E33*$G33*H33 -> 1600000
C34: TOTAL COSTOS DE DOTACION CAMPAMENTO: | I34: =SUM(I31:I33) -> 9475000
B36: 4 | C36: OTROS - GASTOS GENERALES
B37: 4.1 | C37: SEGURIDAD INDUSTRIAL , DOTACIÓN Y PROTOCOLO COVID 19 | D37: % PERS | E37: 0.05 | I37: =+$E37*I$21 -> 5118750
B38: 4.2 | C38: ENSAYOS DE LABORATORIO PARA MATERIALES, PRUEBAS DE CARGA Y OTROS QUE SEAN REQUERIDOS | D38: MES | E38: 1 | G38: 400000 | H38: =+H16 -> 4 | I38: =+$E38*$G38*H38 -> 1600000
B39: 4.3 | C39: MANTENIMIENTO EQUIPOS/HERRAMIENTAS | D39: MES | E39: =+$C$11 -> 4.5 | G39: 200000 | H39: =+H16 -> 4 | I39: =+$E39*$G39*H39 -> 3600000
B40: 4.4 | C40: PAPELERIA Y EMPASTES | D40: MES | E40: =+$C$11 -> 4.5 | G40: 150000 | H40: =+H16 -> 4 | I40: =+$E40*$G40*H40 -> 2700000
B41: 4.5 | C41: REGISTRO FOTOGRÁFICO / VIDEOS / INFORMES | D41: MES | E41: =+$C$11 -> 4.5 | G41: 100000 | H41: =+H16 -> 4 | I41: =+$E41*$G41*H41 -> 1800000
B42: 4.6 | C42: PLOTEADA PLANOS, COPIA PLANOS Y FOTOCOPIAS | D42: GB | E42: 1 | G42: 400000 | H42: =+H16 -> 4 | I42: =+$E42*$G42*H42 -> 1600000
B43: 4.7 | C43: PLANOS RECORD | D43: GB | E43: 1 | G43: 800000 | H43: =+H16 -> 4 | I43: =+$E43*$G43*H43 -> 3200000
B44: 4.8 | C44: TRANSPORTES Y MOVILIZACIÓN (NO INCLUIDOS EN LOS COSTOS DIRECTOS) | D44: MES | E44: =+$C$11 -> 4.5 | G44: 869264.81 | H44: 1 | I44: =+$E44*$G44*H44 -> 3911691.7
B45: 4.9 | C45: VIATICOS Y MANUTENCIÓN PERSONAL ADMINISTRATIVO | D45: MES | E45: =+$C$11 -> 4.5 | G45: 1000000 | H45: =+H16 -> 4 | I45: =+$E45*$G45*H45 -> 18000000
C46: TOTAL OTROS - GASTOS GENERALES: | I46: =SUM(I37:I45) -> 41530442
B48: 5 | C48: COSTOS DE LEGALIZACION DEL CONTRATO (POLIZAS)
B49: 5.1 | C49: CUMPLIMIENTO | D49: UN | E49: 1 | F49: 0.00026 | I49: =+$E49*$F49*I$78 -> 1539914.3
B50: 5.2 | C50: AMPARO DE SALARIOS Y PREST. SOCIALES | D50: UN | E50: 1 | F50: 0.00024 | I50: =+$E50*$F50*I$78 -> 1421459.4
...

Sheet AU Z7
C3: Realizar las obras de adecuacion a toto costo, que tiene por objeto: “OBRAS CIVILES DE ADECUACIÓN EN ESPACIOS FÍSICOS A NIVEL NACIONAL, PARA EL DESARROLLO MISIONAL DEL SERVICIO NACIONAL DE APRENDIZAJE-SENA- A MONTO AGOTABLE.”
C5: ANEXO. 05 - ANALISIS ADMINISTRACIÓN Y UTILIDAD PARA TODAS LAS ZONAS
C6: SON CRITERIOS MINIMOS. AJUSTAR SEGÚN NECESIDAD DE LA ZONA A OFERTAR, TENIENDO EN CUENTA LAS PAUTAS DEFINIDAS EN EL ESTUDIO PREVIO
C7: LP-DG-0005-2020
B11: PLAZO DE EJECUCIÓN | C11: 4.5 | H11: ZONA 7 | I11: VR. TOTAL
G12: CANTIDAD DE RESIDENTES --------> | H12: 2
C13: DESCRIPCION | D13: UND | E13: PLAZO DE EJECUCIÓN | F13: % DE DEDICACIÓN | G13: VR. UNITARIO | H13: CANTIDAD / PROFESIONAL
B14: 1 | C14: PERSONAL DE OBRA (INCLUYEN PRESTACIONES)
B15: 1.1 | C15: DIRECTOR DE OBRA CON PRESTACIONES SOCIALES | D15: MES | E15: =+$C$11 -> 4.5 | F15: 1 | G15: 5000000 | H15: 1 | I15: =+$E15*$F15*$G15*H15 -> 22500000
B16: 1.2 | C16: RESIDENTE DE OBRA CON PRESTACIONES SOCIALES | D16: MES | E16: =+$C$11 -> 4.5 | F16: 1 | G16: 2500000 | H16: =+H12 -> 2 | I16: =+$E16*$F16*$G16*H16 -> 22500000
B17: 1.3 | C17: ENCARGADO AREA ELECTRICA Y MECANICA | D17: MES | E17: =+$C$11 -> 4.5 | F17: 1 | G17: 2000000 | H17: 1 | I17: =+$E17*$F17*$G17*H17 -> 9000000
B18: 1.4 | C18: ENCARGADO AREA HIDROSANITARIA | D18: MES | E18: =+$C$11 -> 4.5 | F18: 1 | G18: 2000000 | H18: 1 | I18: =+$E18*$F18*$G18*H18 -> 9000000
B19: 1.5 | C19: ENCARGADO AMBIENTAL | D19: MES | E19: =+$C$11 -> 4.5 | F19: 1 | G19: 2000000 | H19: 1 | I19: =+$E19*$F19*$G19*H19 -> 9000000
B20: 1.6 | C20: ENCARGADO SEGURIDAD INDUSTRIAL CON SEGURIDAD SOCIAL | D20: MES | E20: =+$C$11 -> 4.5 | F20: 1 | G20: 1750000 | H20: 1 | I20: =+$E20*$F20*$G20*H20 -> 7875000
C21: TOTAL PERSONAL DE OBRA (INCLUYEN PRESTACIONES) | I21: =SUM(I15:I20) -> 79875000
B23: 2 | C23: COSTOS DE SERVICIOS PUBLICOS (OBRA Y CAMPAMENTO)
B24: 2.1 | C24: ENERGIA (INCLUYE INSTALACIÓN PROVISIONAL) | D24: MES | E24: =+$C$11 -> 4.5 | G24: 250000 | H24: =+H16 -> 2 | I24: =+$E24*$G24*H24 -> 2250000
B25: 2.2 | C25: AGUA - ALCANTARILLADO (INCLUYE INSTALACIÓN PROVISIONAL) | D25: MES | E25: =+$C$11 -> 4.5 | G25: 150000 | H25: =+H16 -> 2 | I25: =+$E25*$G25*H25 -> 1350000
