Workbook

Sheet Ref
B3: SI | C3: NO
B4: Ingeniero Civil | C4: Arquitecto | D4: Arquitecto Constructor | E4: Constructor en Arquitectura e Ingeniería | F4: Constructor Civil | G4: Constructor y Gestor en Arquitectura
B5: Director Interventoria | C5: Otro
B6: Residente Interventoría | C6: Otro
B7: X

Sheet SMMLV
A1: Salario mínimo legal en Colombia
A2: 1.1.1. Serie histórica en pesos colombianos_periodicidad anual
A4: Información disponible desde el 1 de julio de 1984.
A6: Banco de la República - Gerencia Técnica - información extraída de la bodega de datos -Serankua- el 08/10/2018 09:13:42
A8: Año | B8: Salario mínimo diario | C8: Salario mínimo mensual | D8: Variación porcentual anual ¹ | E8: Decretos del Gobierno Nacional
A9: 1984 | B9: 376.6 | C9: 11298 | D9: 0 | E9: N/A
A10: 1985 | B10: 451.92 | C10: 13558 | D10: 0.2 | E10: 0001 de enero de 1985
A11: 1986 | B11: 560.38 | C11: 16811 | D11: 0.24 | E11: 3754 de diciembre de 1985
A12: 1987 | B12: 683.66 | C12: 20510 | D12: 0.22 | E12: 3732 de diciembre de 1986
A13: 1988 | B13: 854.58 | C13: 25637 | D13: 0.25 | E13: 2545 de diciembre de 1987
A14: 1989 | B14: 1085.32 | C14: 32560 | D14: 0.27 | E14: 2662 de diciembre de 1988
A15: 1990 | B15: 1367.5 | C15: 41025 | D15: 0.26 | E15: 3000 de diciembre de 1989
A16: 1991 | B16: 1723.87 | C16: 51716 | D16: 0.261 | E16: 3074 de diciembre de 1990
A17: 1992 | B17: 2173 | C17: 65190 | D17: 0.261 | E17: 2867 de diciembre de 1991
A18: 1993 | B18: 2717 | C18: 81510 | D18: 0.25 | E18: 2061 de diciembre de 1992
A19: 1994 | B19: 3290 | C19: 98700 | D19: 0.211 | E19: 2548 de diciembre de 1993
A20: 1995 | B20: 3964.45 | C20: 118934 | D20: 0.205 | E20: 2872 de diciembre de 1994
... A43: 2018 | B43: 26041.4 | C43: 781242 | D43: 0.059 | E43: 2269 de diciembre 30 de 2017
A44: 2019 | B44: =C44/30 -> 27603.867 | C44: 828116
A45: 2020 | B45: =+C45/30 -> 29260.1 | C45: 877803
A46: 2021 | B46: =+C46/30 -> 30284.2 | C46: 908526
A47: 2022 | C47: 1000000
A48: 2023 | C48: 1160000
A49: 2024 | C49: 1300000
A54: Fuente: Ministerio del Trabajo (www.mintrabajo.gov.co) y decretos del Gobierno Nacional (www.presidencia.gov.co).
A56: Nota: desde el 1 de julio de 1984 se unificó el salario mínimo para todos los sectores de la economía.
A58: ¹ Variación porcentual con respecto al dato del año imediatamente anterior.
A60: (N/A) No aplica
A62: Banco de la República - Gerencia Técnica - información extraída de la bodega de datos -Serankua- el 08/10/2018 09:13:42

Sheet CONSOLIDADO
A1: EVALUACION TÉCNICA PROCESO CONTRACTUAL No. SCJ-SIF-CMA-003-2024
A2: “INTERVENTORÍA TÉCNICA, ADMINISTRATIVA Y FINANCIERA AL CONTRATO PARA REALIZAR EL MANTENIMIENTO Y MEJORAMIENTO DE LOS EQUIPAMIENTOS DE INFRAESTRUCTURA A CARGO DE LA SDSCJ Y AGENCIAS”
A4: OFERENTE | C4: EXPERIENCIA PROPONENTE | D4: PERSONAL HABILITANTE | E4: EQUIPO TRABAJO COMPLEMENTARIO | F4: REQUISITOS TECNICOS HABILITANTES
A5: 1 | B5: ='O1'!B7 -> R&M CONSTRUCCIONES E INTERVENTORIAS SAS | C5: ='O1'!F138 -> CUMPLE | D5: ='O1'!F255 -> CUMPLE | F5: RECHAZADO
A6: 2 | B6: ='O2'!B7 -> CONSORCIO TRANSFORMAR AGENCIAS | C6: ='O2'!F138 -> CUMPLE | D6: ='O2'!F255 -> CUMPLE | E6: ='O2'!F261 -> CUMPLE | F6: ='O2'!F263 -> HABILITADO
A7: 3 | B7: ='O3'!B7 -> CONSORCIO CICA-GEAGOR | C7: ='O3'!F138 -> CUMPLE | D7: ='O3'!F254 -> CUMPLE | E7: ='O3'!F260 -> CUMPLE | F7: ='O3'!F262 -> HABILITADO
A8: 4 | B8: ='O4'!B7 -> LOGIA 3 ASOCIADOS S.A.S - BIC | C8: ='O4'!F138 -> NO CUMPLE | D8: ='O4'!F254 -> NO CUMPLE | E8: ='O4'!F260 -> NO CUMPLE | F8: ='O4'!F262 -> NO HABILITADO
A9: 5 | B9: ='O5'!B7 -> TOTALL INC SAS BIC | C9: ='O5'!F138 -> CUMPLE | D9: ='O5'!F266 -> CUMPLE | E9: ='O5'!F275 -> CUMPLE | F9: ='O5'!F277 -> HABILITADO
A10: 6 | B10: ='O6'!B7 -> JVM INGENIERIA SAS BIC | C10: ='O6'!F138 -> CUMPLE | D10: ='O6'!F260 -> CUMPLE | E10: ='O6'!F269 -> CUMPLE | F10: HABILITADO
A11: 7 | B11: ='O7'!B7 -> CONSORCIO EQUIPAMIENTO BIO2C | C11: ='O7'!F138 -> CUMPLE | D11: ='O7'!F266 -> CUMPLE | E11: ='O7'!F275 -> CUMPLE | F11: ='O7'!F277 -> HABILITADO
A12: 8 | B12: ='O8'!B7 -> CEYCO INGENIERIA SAS | C12: ='O8'!F138 -> CUMPLE | D12: ='O8'!F266 -> NO CUMPLE | E12: ='O8'!F275 -> NO CUMPLE | F12: ='O8'!F277 -> NO HABILITADO
B14: COMITÉ TECNICO Y ECONOMICO EVALUADOR
B18: John Henry Poveda Zua | C18: Remo Fiorentino Mojica
B19: Contratista - Arquitecto | C19: Contratista - Ingeniero Civil
B20: Dirección Técnica | C20: Dirección Técnica

Sheet PONDERABLE
A1: EVALUACION TÉCNICA PROCESO CONTRACTUAL No. SCJ-SIF-CMA-003-2024
A2: “INTERVENTORÍA TÉCNICA, ADMINISTRATIVA Y FINANCIERA AL CONTRATO PARA REALIZAR EL MANTENIMIENTO Y MEJORAMIENTO DE LOS EQUIPAMIENTOS DE INFRAESTRUCTURA A CARGO DE LA SDSCJ Y AGENCIAS”
A4: P U N T A J E S
A6: OFERENTE | C6: FACTORES CALIDAD | F6: INCENTIVOS
C7: EXPERIENCIA ADICIONAL PROPONENTE | D7: EXPERIENCIA ADICIONAL DIRECTOR INT. | E7: FORMACIÓN ADICIONAL RESIDENTES INT. | F7: APOYO INDUSTRIA NACIONAL | G7: INCENTIVO DISCAPACIDAD | H7: EMPRENDIMIENTOS | J7: MULTAS / SANCIONES | K7: OBRAS INCONCLUSAS | M7: TOTAL
A8: 1 | B8: =CONSOLIDADO!B5 -> R&M CONSTRUCCIONES E INTERVENTORIAS SAS | C8: ='O1'!D305 -> 40 | D8: ='O1'!E331 -> 30 | E8: ='O1'!E335 -> 18,92 | F8: ='O1'!E340 -> 10 | G8: ='O1'!E345 -> 1 | H8: ='O1'!E353 -> 0,08 | J8: 0 | K8: 0 | M8: =SUM(C8+D8+E8+F8+G8+H8-J8-K8) -> 100
A9: 2 | B9: =CONSOLIDADO!B6 -> CONSORCIO TRANSFORMAR AGENCIAS | C9: ='O2'!D305 -> 40 | D9: ='O2'!E331 -> 30 | E9: ='O2'!E335 -> 10 | F9: ='O2'!E340 -> 10 | G9: ='O2'!E345 -> 1 | H9: ='O2'!E359 -> 0,08 | J9: 0 | K9: 0 | M9: =SUM(C9+D9+E9+F9+G9+H9-J9-K9) -> 91.08
A10: 3 | B10: =CONSOLIDADO!B7 -> CONSORCIO CICA-GEAGOR | C10: ='O3'!D304 -> 40 | D10: ='O3'!E330 -> 30 | E10: ='O3'!E334 -> 18,92 | F10: ='O3'!E339 -> 10 | G10: ='O3'!E344 -> 1 | H10: ='O3'!E352 -> 0,08 | J10: 0 | K10: 0 | M10: =SUM(C10+D10+E10+F10+G10+H10-J10-K10) -> 100
A11: 4 | B11: =CONSOLIDADO!B8 -> LOGIA 3 ASOCIADOS S.A.S - BIC | C11: ='O4'!D304 -> 40 | D11: ='O4'!E330 -> 30 | E11: ='O4'!E334 -> 18,92 | F11: ='O4'!E339 -> 10 | G11: ='O4'!E344 -> 1 | H11: ='O4'!E352 -> 0,08 | J11: 2 | K11: 0 | M11: =SUM(C11+D11+E11+F11+G11+H11-J11-K11) -> 98
A12: 5 | B12: =CONSOLIDADO!B9 -> TOTALL INC SAS BIC | C12: ='O5'!D319 -> 40 | D12: ='O5'!E345 -> 30 | E12: ='O5'!E349 -> 18,92 | F12: ='O5'!E354 -> 10 | G12: ='O5'!E359 -> 1 | H12: ='O5'!E373 -> 0,08 | J12: 0 | K12: 0 | M12: =SUM(C12+D12+E12+F12+G12+H12-J12-K12) -> 100
A13: 6 | B13: =CONSOLIDADO!B10 -> JVM INGENIERIA SAS BIC | C13: ='O6'!D313 -> 40 | D13: ='O6'!E339 -> 30 | E13: ='O6'!E343 -> 18,92 | F13: ='O6'!E348 -> 10 | G13: ='O6'!E353 -> 1 | H13: ='O6'!E361 -> 0,08 | J13: 0 | K13: 0 | M13: =SUM(C13+D13+E13+F13+G13+H13-J13-K13) -> 100
A14: 7 | B14: =CONSOLIDADO!B11 -> CONSORCIO EQUIPAMIENTO BIO2C | C14: ='O7'!D319 -> 40 | D14: ='O7'!E345 -> 30 | E14: ='O7'!E349 -> 18,92 | F14: ='O7'!E354 -> 10 | G14: ='O7'!E359 -> 1 | H14: ='O7'!E367 -> 0,08 | J14: 0 | K14: 0 | M14: =SUM(C14+D14+E14+F14+G14+H14-J14-K14) -> 100
A15: 8 | B15: =CONSOLIDADO!B12 -> CEYCO INGENIERIA SAS | C15: ='O8'!D319 -> 40 | D15: ='O8'!E345 -> 30 | E15: ='O8'!E349 -> 18,92 | F15: ='O8'!E354 -> 10 | G15: ='O8'!E359 -> 1 | H15: ='O8'!E367 -> 0 | J15: 0 | K15: 0 | M15: =SUM(C15+D15+E15+F15+G15+H15-J15-K15) -> 99.92
B18: COMITÉ TECNICO Y ECONOMICO EVALUADOR
B22: =CONSOLIDADO!B18 -> John Henry Poveda Zua | C22: =CONSOLIDADO!C18 -> Remo Fiorentino Mojica
B23: =CONSOLIDADO!B19 -> Contratista - Arquitecto | C23: =CONSOLIDADO!C19 -> Contratista - Ingeniero Civil
B24: =CONSOLIDADO!B20 -> Dirección Técnica | C24: =CONSOLIDADO!C20 -> Dirección Técnica

Sheet O1
A1: EVALUACION TÉCNICA PROCESO CONTRACTUAL No. SCJ-SIF-CMA-003-2024
A2: “INTERVENTORÍA TÉCNICA, ADMINISTRATIVA Y FINANCIERA AL CONTRATO PARA REALIZAR EL MANTENIMIENTO Y MEJORAMIENTO DE LOS EQUIPAMIENTOS DE INFRAESTRUCTURA A CARGO DE LA SDSCJ Y AGENCIAS”
A4: FECHA DE CIERRE DE PROCESO | B4: 45631
A5: PRESUPUESTO OFICIAL SMMLV | B5: =SUM(B6/1300000) -> 433.26315
A6: PRESUPUESTO OFICIAL $ | B6: 563242090
A7: NOMBRE DEL PROPONENTE: | B7: R&M CONSTRUCCIONES E INTERVENTORIAS SAS
A9: Integrante 1 | E9: 0
A10: Integrante 2 | E10: 0
A11: Integrante 3 | E11: 0
A13: 4.2. REQUISITOS TÉCNICOS HABILITANTES
A14: 4.2.1. EXPERIENCIA DEL PROPONENTE
A16: Contrato 1: 3530-2013 | B16: Contratista: R&M CONSTRUCCIONES E INTERVENTORIAS S.A.S
A17: Objeto: | B17: INTERVENTORÍA TÉCNICA, ADMINISTRATIVA Y FINANCIERA AL CONTRATO DE EJECUCION DE OBRA NUEVA, DEMOLICION TOTAL DEL COLEGIO DISTRITAL LA CONCORDIA, LOCALIDAD 17 LA CANDELARIA, DE ACUERDO CON LOS PLANOS Y ESPECIFICACIONES ENTREGADAS POR LA SECRETARIA DE EDUCAC ION DEL DISTRITO.
A18: Contratante: | B18: SECRETARIA DE EDUCACIÓN
A19: Criterio | B19: Requisito | C19: UNSPSC RUP | D19: Folio RUP | E19: Valoración | F19: Observaciones | H19: Observaciones
A20: Códigos del Clasificador de Bienes y Servicios | B20: 80101600 | C20: 80101600 | D20: 604 | E20: =IF(B21=C21,"Acredita",IF(B20=C20,"Acredita","No acredita")) -> Acredita
B21: 81101500 | C21: 81101500 | D21: 604
A22: Fecha de suscripción del contrato (inicio de contrato) | D22: 41680 | E22: =IF(D22="","No acredita","Acredita") -> Acredita
A23: Valor del proyecto o contrato | D23: 855558603 | E23: =IF(D23="","No acredita","Acredita") -> Acredita
A24: SMMLV - a la fecha de suscripción del contrato | D24: =IFERROR((D23/(VLOOKUP((YEAR(D26)),SMMLV!$A$9:$C$49,3,0)))*'O1'!D25,"0") -> 1095.1262 | E24: =IF(D24="","No acredita","Acredita") -> Acredita
A25: Porcentaje de Participación | D25: 1 | E25: =IF(D25="","No acredita","Acredita") -> Acredita
A26: Fecha de terminación del contrato | D26: 43372 | E26: =IF(D26="","No acredita","Acredita") -> Acredita
A27: Objeto y/o alcance y/o actividades y/u obligaciones, debe corresponder con INTERVENTORÍA TÉCNICA DE OBRAS DE MANTENIMIENTO Y/O CONSTRUCCIÓN Y/O TERMINACIÓN Y/O REFORZAMIENTO Y/O AMPLIACIÓN Y/O MEJORAMIENTO Y/O ADECUACIÓN Y/O REPARACIONES LOCATIVAS DE EDIFICACIONES CUBIERTAS. | D27: SI | E27: =IF(D27="","No acredita",IF(D27="","",IF(D27="SI","Acredita","No acredita"))) -> Acredita
A28: Catalogadas como parte del “Sistema del Cuidado y de Servicios Sociales”, de acuerdo con lo establecido el Decreto Distrital 555 de 2021 | D28: SI | E28: =IF(D28="","No acredita",IF(D28="","",IF(D28="SI","Acredita","No acredita"))) -> Acredita
A29: Contratante: Entidades Publicas o Privadas | D29: SI | E29: =IF(D29="","No acredita",IF(D29="","",IF(D29="SI","Acredita","No acredita"))) -> Acredita
A30: Estado de los Contratos: Ejecutados a la fecha de cierre del proceso | D30: SI | E30: =IF(D30="","No acredita",IF(D30="","",IF(D30="SI","Acredita","No acredita"))) -> Acredita
A31: Interventorías técnicas | B31: Juridica - Legal | D31: NO | E31: =IF(D31="","No acredita",IF(D31="","",IF(D31="SI","Acredita","No acredita"))) -> No acredita
B32: Financiera - Contable | D32: SI | E32: =IF(D32="","No acredita",IF(D32="","",IF(D32="SI","Acredita","No acredita"))) -> Acredita
B33: Administrativa | D33: SI | E33: =IF(D33="","No acredita",IF(D33="","",IF(D33="SI","Acredita","No acredita"))) -> Acredita
B34: Ambiental | D34: NO | E34: =IF(D34="","No acredita",IF(D34="","",IF(D34="SI","Acredita","No acredita"))) -> No acredita
A35: CONTRATO 1 - Valoración Experiencia | E35: =IF(AND(E20="acredita",E22="acredita",E23="acredita",E24="acredita",E25="acredita",E26="acredita",E27="acredita",E28="acredita",E29="acredita",E30="acredita"),"CUMPLE","NO CUMPLE") -> CUMPLE
A37: Contrato 2: 1863 del 2017 | B37: R&M CONSTRUCCIONES E INTERVENTORIAS SAS,
A38: Objeto: | B38: INTERVENTORIA TECNICA, ADMINISTRATIVA, JURIDICA, FINANCIERA Y AMBIENTAL AL CONTRATO DE OBRAS DE LAS ADECUACIÓN, MEJORAMIENTO Y MANTENIMIENTO CORRECTIVO DE LAS PLANTAS FÍSICAS ESTABLECIDAS CON EL FIN DE ATENDER LOS REQUERIMIENTOS DE SECRETARIA DISTRITAL DE SALUD EN TÉRMINOS HIGIÉNICO SANITARIOS E INFRAESTRUCTURA EN GENERAL EN LAS LOCALIDADES DEL DISTRITO CAPITAL.
A39: Contratante:
A40: Criterio | B40: Requisito | C40: UNSPSC RUP | D40: Folio RUP | E40: Valoración | F40: Observaciones | H40: Observaciones
A41: Códigos del Clasificador de Bienes y Servicios | B41: 80101600 | C41: 80101600 | D41: 535 | E41: =IF(B42=C42,"Acredita",IF(B41=C41,"Acredita","No acredita")) -> Acredita
B42: 81101500 | C42: 81101500 | D42: 535
A43: Fecha de suscripción del contrato (inicio de contrato) | D43: 42887 | E43: =IF(D43="","No acredita","Acredita") -> Acredita
A44: Valor del proyecto o contrato | D44: 120085870 | E44: =IF(D44="","No acredita","Acredita") -> Acredita
A45: SMMLV - a la fecha de suscripción del contrato | D45: =IFERROR((D44/(VLOOKUP((YEAR(D47)),SMMLV!$A$9:$C$49,3,0)))*'O1'!D46,"0") -> 153.71149 | E45: =IF(D45="","No acredita","Acredita") -> Acredita
...

Sheet O2
A1: EVALUACION TÉCNICA PROCESO CONTRACTUAL No. SCJ-SIF-CMA-003-2024
A2: “INTERVENTORÍA TÉCNICA, ADMINISTRATIVA Y FINANCIERA AL CONTRATO PARA REALIZAR EL MANTENIMIENTO Y MEJORAMIENTO DE LOS EQUIPAMIENTOS DE INFRAESTRUCTURA A CARGO DE LA SDSCJ Y AGENCIAS”
A4: FECHA DE CIERRE DE PROCESO | B4: 45631
A5: PRESUPUESTO OFICIAL SMMLV | B5: =SUM(B6/1300000) -> 433.26315
A6: PRESUPUESTO OFICIAL $ | B6: 563242090
A7: NOMBRE DEL PROPONENTE: | B7: CONSORCIO TRANSFORMAR AGENCIAS
A9: Integrante 1 | B9: JET INGENIERIA S.A.S NIT 802.024.876 - 8 | E9: 0.8
A10: Integrante 2 | B10: OEVA ORGANIZACION EMPRESARIAL VELASQUEZ ARDILA S.A.S - 901.568.643 - 2 | E10: 0.2
A11: Integrante 3 | E11: 0
A13: 4.2. REQUISITOS TÉCNICOS HABILITANTES
A14: 4.2.1. EXPERIENCIA DEL PROPONENTE
A16: Contrato 1: 1239 - 2017 | B16: Contratista: CONSORCIO INTEREDIFICACIONES 1 Integrante: JET INGENIERIA SAS Nit 802024876-8
A17: Objeto: | B17: INTERVENTORIA TECNICA, ADMINISTRATIVA, FINANCIERA, AMBIENTAL, CONTABLE Y JURIDICA A LA CONSTRUCCIÓN CASA DE REHABILITACION Y BIENESTAR ANIMAL "BOLIVAR SI AVANZA" MUNICIPIO DE SANTA ROSA
A18: Contratante: | B18: DEPARTAMENTO DE BOLIVAR
A19: Criterio | B19: Requisito | C19: UNSPSC RUP | D19: Folio RUP | E19: Valoración | F19: Observaciones | H19: Observaciones
A20: Códigos del Clasificador de Bienes y Servicios | B20: 80101600 | C20: 80101600 | D20: 32 | E20: =IF(B21=C21,"Acredita",IF(B20=C20,"Acredita","No acredita")) -> Acredita
B21: 81101500 | C21: 81101500 | D21: 32
A22: Fecha de suscripción del contrato (inicio de contrato) | D22: 42985 | E22: =IF(D22="","No acredita","Acredita") -> Acredita
A23: Valor del proyecto o contrato | D23: 231764400 | E23: =IF(D23="","No acredita","Acredita") -> Acredita
A24: SMMLV - a la fecha de suscripción del contrato | D24: =IFERROR((D23/(VLOOKUP((YEAR(D26)),SMMLV!$A$9:$C$49,3,0)))*'O2'!D25,"0") -> 69.967372 | E24: =IF(D24="","No acredita","Acredita") -> Acredita
A25: Porcentaje de Participación | D25: 0.25 | E25: =IF(D25="","No acredita","Acredita") -> Acredita
A26: Fecha de terminación del contrato | D26: 43504 | E26: =IF(D26="","No acredita","Acredita") -> Acredita
A27: Objeto y/o alcance y/o actividades y/u obligaciones, debe corresponder con INTERVENTORÍA TÉCNICA DE OBRAS DE MANTENIMIENTO Y/O CONSTRUCCIÓN Y/O TERMINACIÓN Y/O REFORZAMIENTO Y/O AMPLIACIÓN Y/O MEJORAMIENTO Y/O ADECUACIÓN Y/O REPARACIONES LOCATIVAS DE EDIFICACIONES CUBIERTAS. | D27: SI | E27: =IF(D27="","No acredita",IF(D27="","",IF(D27="SI","Acredita","No acredita"))) -> Acredita
A28: Catalogadas como parte del “Sistema del Cuidado y de Servicios Sociales”, de acuerdo con lo establecido el Decreto Distrital 555 de 2021 | D28: SI | E28: =IF(D28="","No acredita",IF(D28="","",IF(D28="SI","Acredita","No acredita"))) -> Acredita
A29: Contratante: Entidades Publicas o Privadas | D29: SI | E29: =IF(D29="","No acredita",IF(D29="","",IF(D29="SI","Acredita","No acredita"))) -> Acredita
A30: Estado de los Contratos: Ejecutados a la fecha de cierre del proceso | D30: SI | E30: =IF(D30="","No acredita",IF(D30="","",IF(D30="SI","Acredita","No acredita"))) -> Acredita
A31: Interventorías técnicas | B31: Juridica - Legal | D31: SI | E31: =IF(D31="","No acredita",IF(D31="","",IF(D31="SI","Acredita","No acredita"))) -> Acredita
B32: Financiera - Contable | D32: SI | E32: =IF(D32="","No acredita",IF(D32="","",IF(D32="SI","Acredita","No acredita"))) -> Acredita
B33: Administrativa | D33: SI | E33: =IF(D33="","No acredita",IF(D33="","",IF(D33="SI","Acredita","No acredita"))) -> Acredita
B34: Ambiental | D34: SI | E34: =IF(D34="","No acredita",IF(D34="","",IF(D34="SI","Acredita","No acredita"))) -> Acredita
A35: CONTRATO 1 - Valoración Experiencia | E35: =IF(AND(E20="acredita",E22="acredita",E23="acredita",E24="acredita",E25="acredita",E26="acredita",E27="acredita",E28="acredita",E29="acredita",E30="acredita"),"CUMPLE","NO CUMPLE") -> CUMPLE
A37: Contrato 2: 083-2022 | B37: CONSORCIO INTERHOSPITAL JET INGENIERIA SAS 802024876-8
A38: Objeto: | B38: INTERVENTORÍA TÉCNICA, ADMINISTRATIVA, FINANCIERA, JURÍDICA Y AMBIENTAL PARA LA REMODELACIÓN DE SERVICIOS DE URGENCIAS DE LA INFRAESTRUCTURA FÍSICA DE LA ESE DEL MUNICIPIO DE FOSCA, CUNDINAMARCA
A39: Contratante: | B39: CENTRO DE SALUD FOSCA E.S.E.
A40: Criterio | B40: Requisito | C40: UNSPSC RUP | D40: Folio RUP | E40: Valoración | F40: Observaciones | H40: Observaciones
A41: Códigos del Clasificador de Bienes y Servicios | B41: 80101600 | C41: 80101600 | D41: 98 | E41: =IF(B42=C42,"Acredita",IF(B41=C41,"Acredita","No acredita")) -> Acredita
B42: 81101500 | C42: 81101500 | D42: 98
A43: Fecha de suscripción del contrato (inicio de contrato) | D43: 44812 | E43: =IF(D43="","No acredita","Acredita") -> Acredita
A44: Valor del proyecto o contrato | D44: 78803400 | E44: =IF(D44="","No acredita","Acredita") -> Acredita
A45: SMMLV - a la fecha de suscripción del contrato | D45: =IFERROR((D44/(VLOOKUP((YEAR(D47)),SMMLV!$A$9:$C$49,3,0)))*'O2'!D46,"0") -> 13.586793 | E45: =IF(D45="","No acredita","Acredita") -> Acredita
...

Sheet O3
A1: EVALUACION TÉCNICA PROCESO CONTRACTUAL No. SCJ-SIF-CMA-003-2024
A2: “INTERVENTORÍA TÉCNICA, ADMINISTRATIVA Y FINANCIERA AL CONTRATO PARA REALIZAR EL MANTENIMIENTO Y MEJORAMIENTO DE LOS EQUIPAMIENTOS DE INFRAESTRUCTURA A CARGO DE LA SDSCJ Y AGENCIAS”
A4: FECHA DE CIERRE DE PROCESO | B4: 45631
A5: PRESUPUESTO OFICIAL SMMLV | B5: =SUM(B6/1300000) -> 433.26315
A6: PRESUPUESTO OFICIAL $ | B6: 563242090
A7: NOMBRE DEL PROPONENTE: | B7: CONSORCIO CICA-GEAGOR
A9: Integrante 1 | B9: CICA INGENIERIA E INTERVENTORIA S.A.S. BIC | E9: 0.5
A10: Integrante 2 | B10: GEAGOR SAS BIC | E10: 0.5
A11: Integrante 3 | E11: 0
A13: 4.2. REQUISITOS TÉCNICOS HABILITANTES
A14: 4.2.1. EXPERIENCIA DEL PROPONENTE
A16: Contrato 1: 2221119 | B16: Contratista: CONSORCIO INGE-OBRAS GEAGOR SAS 50% INGENIEROS CIVILES DE COLOMBIA SAS 50%
A17: Objeto: | B17: NTERVENTORÍA INTEGRAL A LA EJECUCIÓN DE OBRAS DE CONSTRUCCIÓN Y/O ADECUACIÓN DE ESPACIOS ADMINISTRATIVOS Y DE FORMACIÓN EN DIFERENTES REGIONALES DEL SENA EN LOS MUNICIPIOS DE: INÍRIDA (GUAINÍA), CARTAGENA (BOLÍVAR), MONTERÍA (CÓRDOBA), APARTADÓ Y MEDELLÍN (ANTIOQUIA), MANIZALES (CALDAS), SOGAMOSO (BOYACÁ), BOGOTÁ D.C., VÉLEZ (SANTANDER) Y GARZÓN (HUILA), EN EL MARCO DEL CONTRATO INTERADMINISTRATIVO N°220005
A18: Contratante: | B18: EMPRESA NACIONAL PROMOTORA DEL DESARROLLO TERRITORIAL S.A.
A19: Criterio | B19: Requisito | C19: UNSPSC RUP | D19: Folio RUP | E19: Valoración | F19: Observaciones | H19: Observaciones
A20: Códigos del Clasificador de Bienes y Servicios | B20: 80101600 | C20: 80101600 | D20: 68 | E20: =IF(B21=C21,"Acredita",IF(B20=C20,"Acredita","No acredita")) -> Acredita
B21: 81101500 | C21: 81101500 | D21: 68
A22: Fecha de suscripción del contrato (inicio de contrato) | D22: 44880 | E22: =IF(D22="","No acredita","Acredita") -> Acredita
A23: Valor del proyecto o contrato | D23: 8.1279291e+08 | E23: =IF(D23="","No acredita","Acredita") -> Acredita
A24: SMMLV - a la fecha de suscripción del contrato | D24: =IFERROR((D23/(VLOOKUP((YEAR(D26)),SMMLV!$A$9:$C$49,3,0)))*'O3'!D25,"0") -> 312.61266 | E24: =IF(D24="","No acredita","Acredita") -> Acredita
A25: Porcentaje de Participación | D25: 0.5 | E25: =IF(D25="","No acredita","Acredita") -> Acredita
A26: Fecha de terminación del contrato | D26: 45382 | E26: =IF(D26="","No acredita","Acredita") -> Acredita
A27: Objeto y/o alcance y/o actividades y/u obligaciones, debe corresponder con INTERVENTORÍA TÉCNICA DE OBRAS DE MANTENIMIENTO Y/O CONSTRUCCIÓN Y/O TERMINACIÓN Y/O REFORZAMIENTO Y/O AMPLIACIÓN Y/O MEJORAMIENTO Y/O ADECUACIÓN Y/O REPARACIONES LOCATIVAS DE EDIFICACIONES CUBIERTAS. | D27: SI | E27: =IF(D27="","No acredita",IF(D27="","",IF(D27="SI","Acredita","No acredita"))) -> Acredita
A28: Catalogadas como parte del “Sistema del Cuidado y de Servicios Sociales”, de acuerdo con lo establecido el Decreto Distrital 555 de 2021 | D28: SI | E28: =IF(D28="","No acredita",IF(D28="","",IF(D28="SI","Acredita","No acredita"))) -> Acredita
A29: Contratante: Entidades Publicas o Privadas | D29: SI | E29: =IF(D29="","No acredita",IF(D29="","",IF(D29="SI","Acredita","No acredita"))) -> Acredita
A30: Estado de los Contratos: Ejecutados a la fecha de cierre del proceso | D30: SI | E30: =IF(D30="","No acredita",IF(D30="","",IF(D30="SI","Acredita","No acredita"))) -> Acredita
A31: Interventorías técnicas | B31: Juridica - Legal | D31: SI | E31: =IF(D31="","No acredita",IF(D31="","",IF(D31="SI","Acredita","No acredita"))) -> Acredita
B32: Financiera - Contable | D32: SI | E32: =IF(D32="","No acredita",IF(D32="","",IF(D32="SI","Acredita","No acredita"))) -> Acredita
B33: Administrativa | D33: SI | E33: =IF(D33="","No acredita",IF(D33="","",IF(D33="SI","Acredita","No acredita"))) -> Acredita
B34: Ambiental | D34: SI | E34: =IF(D34="","No acredita",IF(D34="","",IF(D34="SI","Acredita","No acredita"))) -> Acredita
A35: CONTRATO 1 - Valoración Experiencia | E35: =IF(AND(E20="acredita",E22="acredita",E23="acredita",E24="acredita",E25="acredita",E26="acredita",E27="acredita",E28="acredita",E29="acredita",E30="acredita"),"CUMPLE","NO CUMPLE") -> CUMPLE
A37: Contrato 2: 001-040-2015 | B37: Contratista: CONSORCIO INTERVENTORES NACIONALES CLEMENTE BUITRAGO AMARILLO 50% (Socio CICA INGENIERIA E INTERVENTORIA SAS BIC) INPLAYCO LTDA 50%
A38: Objeto: | B38: CONTRATAR LA INTERVENTORIA TECNICA, FINANCIERA, JURIDICA, ADMINISTRATIVA Y AMBIENTAL DE OBRA PARA LA CONSTRUCCION PARA EL ESTABLECIMIENTO DE SANIDAD MILITAR UBICADO EN LA CIUDAD DE SANTIAGO DE CALI -VALLE DEL CAUCA
A39: Contratante: | B39: AGENCIA LOGISTICA DE LAS FUERZAS MILITARES
A40: Criterio | B40: Requisito | C40: UNSPSC RUP | D40: Folio RUP | E40: Valoración | F40: Observaciones | H40: Observaciones
A41: Códigos del Clasificador de Bienes y Servicios | B41: 80101600 | C41: 80101600 | D41: 70 | E41: =IF(B42=C42,"Acredita",IF(B41=C41,"Acredita","No acredita")) -> Acredita
B42: 81101500 | C42: 81101500 | D42: 70
A43: Fecha de suscripción del contrato (inicio de contrato) | D43: 42264 | E43: =IF(D43="","No acredita","Acredita") -> Acredita
A44: Valor del proyecto o contrato | D44: 1103386000 | E44: =IF(D44="","No acredita","Acredita") -> Acredita
A45: SMMLV - a la fecha de suscripción del contrato | D45: =IFERROR((D44/(VLOOKUP((YEAR(D47)),SMMLV!$A$9:$C$49,3,0)))*'O3'!D46,"0") -> 747.83826 | E45: =IF(D45="","No acredita","Acredita") -> Acredita
...

Sheet O4
A1: EVALUACION TÉCNICA PROCESO CONTRACTUAL No. SCJ-SIF-CMA-003-2024
A2: “INTERVENTORÍA TÉCNICA, ADMINISTRATIVA Y FINANCIERA AL CONTRATO PARA REALIZAR EL MANTENIMIENTO Y MEJORAMIENTO DE LOS EQUIPAMIENTOS DE INFRAESTRUCTURA A CARGO DE LA SDSCJ Y AGENCIAS”
A4: FECHA DE CIERRE DE PROCESO | B4: 45631
A5: PRESUPUESTO OFICIAL SMMLV | B5: =SUM(B6/1300000) -> 433.26315
A6: PRESUPUESTO OFICIAL $ | B6: 563242090
A7: NOMBRE DEL PROPONENTE: | B7: LOGIA 3 ASOCIADOS S.A.S - BIC
A9: Integrante 1 | E9: 0
A10: Integrante 2 | E10: 0
A11: Integrante 3 | E11: 0
A13: 4.2. REQUISITOS TÉCNICOS HABILITANTES
A14: 4.2.1. EXPERIENCIA DEL PROPONENTE
A16: Contrato 1: 02-BS-0098-2021 | B16: Contratista: LOGIA 3 ASOCIADOS SAS
A17: Objeto: | B17: INTERVENTORÍA TÉCNICA, ADMINISTRATIVA, FINANCIERA, JURÍDICA Y AMBIENTAL AL CONTRATO DE OBRA PARA EL REORDENAMIENTO Y ADECUACIÓN DEL CENTRO DE ATENCION PRIORITARIA EN SALUD CAPS ALTAMIRA DE LA SUBRED INTEGRADA DE SERVICIOS DE SALUD CENTRO ORIENTE E.S.E., EN EL MARCO DEL CONVENIO INTERADMINISTRATIVO No 1206 DE 2017 SUSCRITO ENTRE EL FONDO FINANCIERO DISTRITAL DE SALUD - SECRETARIA DISTRITAL DE SALUD Y LA SUBRED INTEGRADA DE SERVICIOS DE SALUD CENTRO ORIENTE E.S.E.
A18: Contratante: | B18: SUBRED INTEGRADA DE SERVICIO DE SALUD CENTRO ORIENTE E.S.E 1
A19: Criterio | B19: Requisito | C19: UNSPSC RUP | D19: Folio RUP | E19: Valoración | F19: Observaciones
A20: Códigos del Clasificador de Bienes y Servicios | B20: 80101600 | C20: 80101600 | D20: 205 | E20: =IF(B21=C21,"Acredita",IF(B20=C20,"Acredita","No acredita")) -> Acredita
B21: 81101500 | C21: 81101500 | D21: 205
A22: Fecha de suscripción del contrato (inicio de contrato) | D22: 44400 | E22: =IF(D22="","No acredita","Acredita") -> Acredita
A23: Valor del proyecto o contrato | D23: 485629242 | E23: =IF(D23="","No acredita","Acredita") -> Acredita
A24: SMMLV - a la fecha de suscripción del contrato | D24: =IFERROR((D23/(VLOOKUP((YEAR(D26)),SMMLV!$A$9:$C$49,3,0)))*'O4'!D25,"0") -> 418.6459 | E24: =IF(D24="","No acredita","Acredita") -> Acredita
A25: Porcentaje de Participación | D25: 1 | E25: =IF(D25="","No acredita","Acredita") -> Acredita
A26: Fecha de terminación del contrato | D26: 45076 | E26: =IF(D26="","No acredita","Acredita") -> Acredita
A27: Objeto y/o alcance y/o actividades y/u obligaciones, debe corresponder con INTERVENTORÍA TÉCNICA DE OBRAS DE MANTENIMIENTO Y/O CONSTRUCCIÓN Y/O TERMINACIÓN Y/O REFORZAMIENTO Y/O AMPLIACIÓN Y/O MEJORAMIENTO Y/O ADECUACIÓN Y/O REPARACIONES LOCATIVAS DE EDIFICACIONES CUBIERTAS. | D27: SI | E27: =IF(D27="","No acredita",IF(D27="","",IF(D27="SI","Acredita","No acredita"))) -> Acredita
A28: Catalogadas como parte del “Sistema del Cuidado y de Servicios Sociales”, de acuerdo con lo establecido el Decreto Distrital 555 de 2021 | D28: SI | E28: =IF(D28="","No acredita",IF(D28="","",IF(D28="SI","Acredita","No acredita"))) -> Acredita
A29: Contratante: Entidades Publicas o Privadas | D29: SI | E29: =IF(D29="","No acredita",IF(D29="","",IF(D29="SI","Acredita","No acredita"))) -> Acredita
A30: Estado de los Contratos: Ejecutados a la fecha de cierre del proceso | D30: SI | E30: =IF(D30="","No acredita",IF(D30="","",IF(D30="SI","Acredita","No acredita"))) -> Acredita
A31: Interventorías técnicas | B31: Juridica - Legal | D31: SI | E31: =IF(D31="","No acredita",IF(D31="","",IF(D31="SI","Acredita","No acredita"))) -> Acredita
B32: Financiera - Contable | D32: SI | E32: =IF(D32="","No acredita",IF(D32="","",IF(D32="SI","Acredita","No acredita"))) -> Acredita
B33: Administrativa | D33: SI | E33: =IF(D33="","No acredita",IF(D33="","",IF(D33="SI","Acredita","No acredita"))) -> Acredita
B34: Ambiental | D34: SI | E34: =IF(D34="","No acredita",IF(D34="","",IF(D34="SI","Acredita","No acredita"))) -> Acredita
A35: CONTRATO 1 - Valoración Experiencia | E35: =IF(AND(E20="acredita",E22="acredita",E23="acredita",E24="acredita",E25="acredita",E26="acredita",E27="acredita",E28="acredita",E29="acredita",E30="acredita"),"CUMPLE","NO CUMPLE") -> CUMPLE
A37: Contrato 2: CO1.PCCNTR 4323979 | B37: Contratista: LOGIA 3 ASOCIADOS SAS
A38: Objeto: | B38: REALIZAR LA INTERVENTORÍA INTEGRAL AL CONTRATO DE EJECUCIÓN DE LAS OBRAS DE REFORZAMIENTO ESTRUCTURAL Y ADECUACIÓN DEL BLOQUE PATRIMONIAL DEL IED LA MERCED (BLOQUE DE DOS PISOS ENTRE EJES ESTRUCTURALES A-C Y 5-10), UBICADO EN LA LOCALIDAD DE PUENTE ARANDA, DE LA CIUDAD DE BOGOTÁ, DE ACUERDO CON LOS PLANOS Y ESPECIFICACIONES ENTREGADOS POR LA SECRETARÍA DE EDUCACIÓN DEL DISTRITO.
A39: Contratante: | B39: BOGOTA DISTRITO CAPITAL SECRETARIA DE EDUCACION
A40: Criterio | B40: Requisito | C40: UNSPSC RUP | D40: Folio RUP | E40: Valoración | F40: Observaciones
A41: Códigos del Clasificador de Bienes y Servicios | B41: 80101600 | C41: 80101600 | D41: 211 | E41: =IF(B42=C42,"Acredita",IF(B41=C41,"Acredita","No acredita")) -> Acredita
B42: 81101500 | C42: 81101500 | D42: 211
A43: Fecha de suscripción del contrato (inicio de contrato) | D43: 44966 | E43: =IF(D43="","No acredita","Acredita") -> Acredita
A44: Valor del proyecto o contrato | D44: 498990133 | E44: =IF(D44="","No acredita","Acredita") -> Acredita
A45: SMMLV - a la fecha de suscripción del contrato | D45: =IFERROR((D44/(VLOOKUP((YEAR(D47)),SMMLV!$A$9:$C$49,3,0)))*'O4'!D46,"0") -> 383.83856 | E45: =IF(D45="","No acredita","Acredita") -> Acredita
...

Sheet O5
A1: EVALUACION TÉCNICA PROCESO CONTRACTUAL No. SCJ-SIF-CMA-003-2024
A2: “INTERVENTORÍA TÉCNICA, ADMINISTRATIVA Y FINANCIERA AL CONTRATO PARA REALIZAR EL MANTENIMIENTO Y MEJORAMIENTO DE LOS EQUIPAMIENTOS DE INFRAESTRUCTURA A CARGO DE LA SDSCJ Y AGENCIAS”
A4: FECHA DE CIERRE DE PROCESO | B4: 45631
A5: PRESUPUESTO OFICIAL SMMLV | B5: =SUM(B6/1300000) -> 433.26315
A6: PRESUPUESTO OFICIAL $ | B6: 563242090
A7: NOMBRE DEL PROPONENTE: | B7: TOTALL INC SAS BIC
A9: Integrante 1 | B9: TOTALL INC SAS BIC | E9: 1
A10: Integrante 2 | E10: 0
A11: Integrante 3 | E11: 0
A13: 4.2. REQUISITOS TÉCNICOS HABILITANTES
A14: 4.2.1. EXPERIENCIA DEL PROPONENTE
A16: Contrato 1: FP-303-2022 | B16: TOTALL INC SAS BIC
A17: Objeto: | B17: INTERVENTORIA INTEGRAL: TÉCNICA, ADMINISTRATIVA, FINANCIERA, LEGAL Y AMBIENTAL PARA CONSTRUCCIÓN DEL HOGAR DE PASO INDIGENA EN EL CASCO URBANO DE SAN JOSÉ DEL GUAVIARE DEPARTAMENTO DEL GUAVIARE
A18: Contratante: | B18: FONDO DE PROGRAMAS ESPECIALES PARA LA PAZ
A19: Criterio | B19: Requisito | C19: UNSPSC RUP | D19: Folio RUP | E19: Valoración | F19: Observaciones
A20: Códigos del Clasificador de Bienes y Servicios | B20: 80101600 | C20: 80101600 | D20: 69 | E20: =IF(B21=C21,"Acredita",IF(B20=C20,"Acredita","No acredita")) -> Acredita
B21: 81101500 | C21: 81101500 | D21: 69
A22: Fecha de suscripción del contrato (inicio de contrato) | D22: 44818 | E22: =IF(D22="","No acredita","Acredita") -> Acredita
A23: Valor del proyecto o contrato | D23: 195646710 | E23: =IF(D23="","No acredita","Acredita") -> Acredita
A24: SMMLV - a la fecha de suscripción del contrato | D24: =IFERROR((D23/(VLOOKUP((YEAR(D26)),[1]SMMLV!$A$9:$C$49,3,0)))*'O5'!D25,"0") -> 168.66096 | E24: =IF(D24="","No acredita","Acredita") -> Acredita
A25: Porcentaje de Participación | D25: 1 | E25: =IF(D25="","No acredita","Acredita") -> Acredita
A26: Fecha de terminación del contrato | D26: 45274 | E26: =IF(D26="","No acredita","Acredita") -> Acredita
A27: Objeto y/o alcance y/o actividades y/u obligaciones, debe corresponder con INTERVENTORÍA TÉCNICA DE OBRAS DE MANTENIMIENTO Y/O CONSTRUCCIÓN Y/O TERMINACIÓN Y/O REFORZAMIENTO Y/O AMPLIACIÓN Y/O MEJORAMIENTO Y/O ADECUACIÓN Y/O REPARACIONES LOCATIVAS DE EDIFICACIONES CUBIERTAS. | D27: SI | E27: =IF(D27="","No acredita",IF(D27="","",IF(D27="SI","Acredita","No acredita"))) -> Acredita
A28: Catalogadas como parte del “Sistema del Cuidado y de Servicios Sociales”, de acuerdo con lo establecido el Decreto Distrital 555 de 2021 | D28: SI | E28: =IF(D28="","No acredita",IF(D28="","",IF(D28="SI","Acredita","No acredita"))) -> Acredita
A29: Contratante: Entidades Publicas o Privadas | D29: SI | E29: =IF(D29="","No acredita",IF(D29="","",IF(D29="SI","Acredita","No acredita"))) -> Acredita
A30: Estado de los Contratos: Ejecutados a la fecha de cierre del proceso | D30: SI | E30: =IF(D30="","No acredita",IF(D30="","",IF(D30="SI","Acredita","No acredita"))) -> Acredita
A31: Interventorías técnicas | B31: Juridica - Legal | D31: SI | E31: =IF(D31="","No acredita",IF(D31="","",IF(D31="SI","Acredita","No acredita"))) -> Acredita
B32: Financiera - Contable | D32: SI | E32: =IF(D32="","No acredita",IF(D32="","",IF(D32="SI","Acredita","No acredita"))) -> Acredita
B33: Administrativa | D33: SI | E33: =IF(D33="","No acredita",IF(D33="","",IF(D33="SI","Acredita","No acredita"))) -> Acredita
B34: Ambiental | D34: SI | E34: =IF(D34="","No acredita",IF(D34="","",IF(D34="SI","Acredita","No acredita"))) -> Acredita
A35: CONTRATO 1 - Valoración Experiencia | E35: =IF(AND(E20="acredita",E22="acredita",E23="acredita",E24="acredita",E25="acredita",E26="acredita",E27="acredita",E28="acredita",E29="acredita",E30="acredita"),"CUMPLE","NO CUMPLE") -> CUMPLE
A37: Contrato 2: 525 DE 2007 | B37: Consorcio san antonio (SAVERA LTDA (70%) - BERNARDO STEPA E.U. (30%)
A38: Objeto: | B38: INTERVENTORÍA TÉCNICA, ADMINISTRATIVA, FINANCIERA Y AMBIENTAL A LAS OBRAS DE CONSTRUCCIÓN DEL NUEVO HOSPITAL SAN ANTONIO DE TAME, MUNICIPIO DE TAME, DEPARTAMENTO DE ARAUCA
A39: Contratante: | B39: GOBERNACIÓN DE ARAUCA
A40: Criterio | B40: Requisito | C40: UNSPSC RUP | D40: Folio RUP | E40: Valoración | F40: Observaciones
A41: Códigos del Clasificador de Bienes y Servicios | B41: 80101600 | C41: 80101600 | D41: 24 | E41: =IF(B42=C42,"Acredita",IF(B41=C41,"Acredita","No acredita")) -> Acredita
B42: 81101500 | C42: 81101500 | D42: 24
A43: Fecha de suscripción del contrato (inicio de contrato) | D43: 39510 | E43: =IF(D43="","No acredita","Acredita") -> Acredita
A44: Valor del proyecto o contrato | D44: 228000001 | E44: =IF(D44="","No acredita","Acredita") -> Acredita
A45: SMMLV - a la fecha de suscripción del contrato | D45: =IFERROR((D44/(VLOOKUP((YEAR(D47)),[1]SMMLV!$A$9:$C$49,3,0)))*'O5'!D46,"0") -> 345.82882 | E45: =IF(D45="","No acredita","Acredita") -> Acredita
...

Sheet O6
A1: EVALUACION TÉCNICA PROCESO CONTRACTUAL No. SCJ-SIF-CMA-003-2024
A2: “INTERVENTORÍA TÉCNICA, ADMINISTRATIVA Y FINANCIERA AL CONTRATO PARA REALIZAR EL MANTENIMIENTO Y MEJORAMIENTO DE LOS EQUIPAMIENTOS DE INFRAESTRUCTURA A CARGO DE LA SDSCJ Y AGENCIAS”
A4: FECHA DE CIERRE DE PROCESO | B4: 45631
A5: PRESUPUESTO OFICIAL SMMLV | B5: =SUM(B6/1300000) -> 433.26315
A6: PRESUPUESTO OFICIAL $ | B6: 563242090
A7: NOMBRE DEL PROPONENTE: | B7: JVM INGENIERIA SAS BIC
A9: Integrante 1 | B9: JVM INGENIERIA SAS BIC | E9: 1
A10: Integrante 2 | E10: 0
A11: Integrante 3 | E11: 0
A13: 4.2. REQUISITOS TÉCNICOS HABILITANTES
A14: 4.2.1. EXPERIENCIA DEL PROPONENTE
A16: Contrato 1: 4600076307 DE 2018 | B16: CARLOS VERGARA NEGRETE
A17: Objeto: | B17: INTERVENTORIA TÉCNICA ADMINISTRATIVA FINANCIERA AMBIENTAL Y LEGAL AL MANTENIMIENTO Y RENOVACIÓN DE OBRAS CIVILES OBRAS ELECTRICA VOZ Y DATOS Y EQUIPOSELECTROMECÁNICOS EN CAM Y SEDES EXTERNAS.
A18: Contratante: | B18: MUNICIPIO DE MEDELLÍN
A19: Criterio | B19: Requisito | C19: UNSPSC RUP | D19: Folio RUP | E19: Valoración | F19: Observaciones
A20: Códigos del Clasificador de Bienes y Servicios | B20: 80101600 | C20: 80101600 | D20: 143 | E20: =IF(B21=C21,"Acredita",IF(B20=C20,"Acredita","No acredita")) -> Acredita
B21: 81101500
A22: Fecha de suscripción del contrato (inicio de contrato) | D22: 43320 | E22: =IF(D22="","No acredita","Acredita") -> Acredita
A23: Valor del proyecto o contrato | D23: 805849010 | E23: =IF(D23="","No acredita","Acredita") -> Acredita
A24: SMMLV - a la fecha de suscripción del contrato | D24: =IFERROR((D23/(VLOOKUP((YEAR(D26)),[1]SMMLV!$A$9:$C$49,3,0)))*'O6'!D25,"0") -> 973.11127 | E24: =IF(D24="","No acredita","Acredita") -> Acredita
A25: Porcentaje de Participación | D25: 1 | E25: =IF(D25="","No acredita","Acredita") -> Acredita
A26: Fecha de terminación del contrato | D26: 43637 | E26: =IF(D26="","No acredita","Acredita") -> Acredita
A27: Objeto y/o alcance y/o actividades y/u obligaciones, debe corresponder con INTERVENTORÍA TÉCNICA DE OBRAS DE MANTENIMIENTO Y/O CONSTRUCCIÓN Y/O TERMINACIÓN Y/O REFORZAMIENTO Y/O AMPLIACIÓN Y/O MEJORAMIENTO Y/O ADECUACIÓN Y/O REPARACIONES LOCATIVAS DE EDIFICACIONES CUBIERTAS. | D27: SI | E27: =IF(D27="","No acredita",IF(D27="","",IF(D27="SI","Acredita","No acredita"))) -> Acredita
A28: Catalogadas como parte del “Sistema del Cuidado y de Servicios Sociales”, de acuerdo con lo establecido el Decreto Distrital 555 de 2021 | D28: SI | E28: =IF(D28="","No acredita",IF(D28="","",IF(D28="SI","Acredita","No acredita"))) -> Acredita
A29: Contratante: Entidades Publicas o Privadas | D29: SI | E29: =IF(D29="","No acredita",IF(D29="","",IF(D29="SI","Acredita","No acredita"))) -> Acredita
A30: Estado de los Contratos: Ejecutados a la fecha de cierre del proceso | D30: SI | E30: =IF(D30="","No acredita",IF(D30="","",IF(D30="SI","Acredita","No acredita"))) -> Acredita
A31: Interventorías técnicas | B31: Juridica - Legal | D31: SI | E31: =IF(D31="","No acredita",IF(D31="","",IF(D31="SI","Acredita","No acredita"))) -> Acredita
B32: Financiera - Contable | D32: SI | E32: =IF(D32="","No acredita",IF(D32="","",IF(D32="SI","Acredita","No acredita"))) -> Acredita
B33: Administrativa | D33: SI | E33: =IF(D33="","No acredita",IF(D33="","",IF(D33="SI","Acredita","No acredita"))) -> Acredita
B34: Ambiental | D34: SI | E34: =IF(D34="","No acredita",IF(D34="","",IF(D34="SI","Acredita","No acredita"))) -> Acredita
A35: CONTRATO 1 - Valoración Experiencia | E35: =IF(AND(E20="acredita",E22="acredita",E23="acredita",E24="acredita",E25="acredita",E26="acredita",E27="acredita",E28="acredita",E29="acredita",E30="acredita"),"CUMPLE","NO CUMPLE") -> CUMPLE
A37: Contrato 2: 06-3-10049-17 | B37: CARLOS VERGARA NEGRETE
A38: Objeto: | B38: INTERVENTORIA TÉCNICA ADMINISTRATIVA FINANCIERA LEGAL Y AMBIENTAL PARA EL REFORZAMIENTO ESTRUCTURAL ADECUACIÓN Y DOTACIÓN DEL COMANDO DE DEPARTAMENTO DE POLICÍA RISARALDA A PRECIOS UNITARIOS FIJOS SIN FORMULA DE REAJUSTE
A39: Contratante: | B39: POLICÍA NACIONAL DIRECCIÓN ADMINISTRATIVA Y FINANCIERA
A40: Criterio | B40: Requisito | C40: UNSPSC RUP | D40: Folio RUP | E40: Valoración | F40: Observaciones
A41: Códigos del Clasificador de Bienes y Servicios | B41: 80101600 | C41: 80101600 | D41: 150 | E41: =IF(B42=C42,"Acredita",IF(B41=C41,"Acredita","No acredita")) -> Acredita
B42: 81101500
A43: Fecha de suscripción del contrato (inicio de contrato) | D43: 42906 | E43: =IF(D43="","No acredita","Acredita") -> Acredita
A44: Valor del proyecto o contrato | D44: 713231374 | E44: =IF(D44="","No acredita","Acredita") -> Acredita
A45: SMMLV - a la fecha de suscripción del contrato | D45: =IFERROR((D44/(VLOOKUP((YEAR(D47)),[1]SMMLV!$A$9:$C$49,3,0)))*'O6'!D46,"0") -> 861.26989 | E45: =IF(D45="","No acredita","Acredita") -> Acredita
...

Sheet O7
A1: EVALUACION TÉCNICA PROCESO CONTRACTUAL No. SCJ-SIF-CMA-003-2024
A2: “INTERVENTORÍA TÉCNICA, ADMINISTRATIVA Y FINANCIERA AL CONTRATO PARA REALIZAR EL MANTENIMIENTO Y MEJORAMIENTO DE LOS EQUIPAMIENTOS DE INFRAESTRUCTURA A CARGO DE LA SDSCJ Y AGENCIAS”
A4: FECHA DE CIERRE DE PROCESO | B4: 45631
A5: PRESUPUESTO OFICIAL SMMLV | B5: =SUM(B6/1300000) -> 433.26315
A6: PRESUPUESTO OFICIAL $ | B6: 563242090
A7: NOMBRE DEL PROPONENTE: | B7: CONSORCIO EQUIPAMIENTO BIO2C
A9: Integrante 1 | B9: CONSULTORES, DESARROLLO Y AMBIENTE SAS BIC | E9: 0.5
A10: Integrante 2 | B10: 2C INGENIEROS SA | E10: 0.5
A11: Integrante 3 | E11: 0
A13: 4.2. REQUISITOS TÉCNICOS HABILITANTES
A14: 4.2.1. EXPERIENCIA DEL PROPONENTE
A16: Contrato 1: 372 DE 2013 | B16: 2C INGENIEROS SA
A17: Objeto: | B17: INTERVENTORÍA TÉCNICA, ADMINISTRATIVA, FINANCIERA, LEGAL Y AMBIENTAL PARA LA CONSTRUCCIÓN DEL CENTRO INTEGRAL DE SERVICIOS AMBULATORIOS PARA LA MUJER Y LA FAMILIA EN EL MUNICIPIO DE MEDELLÍN
A18: Contratante: | B18: ALCALDÍA DE MEDELLÍN - EDU (Empresa de Desarrollo Urbano)
A19: Criterio | B19: Requisito | C19: UNSPSC RUP | D19: Folio RUP | E19: Valoración | F19: Observaciones
A20: Códigos del Clasificador de Bienes y Servicios | B20: 80101600 | C20: 80101600 | D20: 245 | E20: =IF(B21=C21,"Acredita",IF(B20=C20,"Acredita","No acredita")) -> Acredita
B21: 81101500 | C21: 81101500 | D21: 245
A22: Fecha de suscripción del contrato (inicio de contrato) | D22: 41593 | E22: =IF(D22="","No acredita","Acredita") -> Acredita
A23: Valor del proyecto o contrato | D23: 1551178796 | E23: =IF(D23="","No acredita","Acredita") -> Acredita
A24: SMMLV - a la fecha de suscripción del contrato | D24: =IFERROR((D23/(VLOOKUP((YEAR(D26)),[1]SMMLV!$A$9:$C$49,3,0)))*'O7'!D25,"0") -> 2102.6746 | E24: =IF(D24="","No acredita","Acredita") -> Acredita
A25: Porcentaje de Participación | D25: 1 | E25: =IF(D25="","No acredita","Acredita") -> Acredita
A26: Fecha de terminación del contrato | D26: 42793 | E26: =IF(D26="","No acredita","Acredita") -> Acredita
A27: Objeto y/o alcance y/o actividades y/u obligaciones, debe corresponder con INTERVENTORÍA TÉCNICA DE OBRAS DE MANTENIMIENTO Y/O CONSTRUCCIÓN Y/O TERMINACIÓN Y/O REFORZAMIENTO Y/O AMPLIACIÓN Y/O MEJORAMIENTO Y/O ADECUACIÓN Y/O REPARACIONES LOCATIVAS DE EDIFICACIONES CUBIERTAS. | D27: SI | E27: =IF(D27="","No acredita",IF(D27="","",IF(D27="SI","Acredita","No acredita"))) -> Acredita
A28: Catalogadas como parte del “Sistema del Cuidado y de Servicios Sociales”, de acuerdo con lo establecido el Decreto Distrital 555 de 2021 | D28: SI | E28: =IF(D28="","No acredita",IF(D28="","",IF(D28="SI","Acredita","No acredita"))) -> Acredita
A29: Contratante: Entidades Publicas o Privadas | D29: SI | E29: =IF(D29="","No acredita",IF(D29="","",IF(D29="SI","Acredita","No acredita"))) -> Acredita
A30: Estado de los Contratos: Ejecutados a la fecha de cierre del proceso | D30: SI | E30: =IF(D30="","No acredita",IF(D30="","",IF(D30="SI","Acredita","No acredita"))) -> Acredita
A31: Interventorías técnicas | B31: Juridica - Legal | D31: SI | E31: =IF(D31="","No acredita",IF(D31="","",IF(D31="SI","Acredita","No acredita"))) -> Acredita
B32: Financiera - Contable | D32: SI | E32: =IF(D32="","No acredita",IF(D32="","",IF(D32="SI","Acredita","No acredita"))) -> Acredita
B33: Administrativa | D33: SI | E33: =IF(D33="","No acredita",IF(D33="","",IF(D33="SI","Acredita","No acredita"))) -> Acredita
B34: Ambiental | D34: SI | E34: =IF(D34="","No acredita",IF(D34="","",IF(D34="SI","Acredita","No acredita"))) -> Acredita
A35: CONTRATO 1 - Valoración Experiencia | E35: =IF(AND(E20="acredita",E22="acredita",E23="acredita",E24="acredita",E25="acredita",E26="acredita",E27="acredita",E28="acredita",E29="acredita",E30="acredita"),"CUMPLE","NO CUMPLE") -> CUMPLE
A37: Contrato 2: SOP-C-345 2003 | B37: 2C INGENIEROS LTDA
A38: Objeto: | B38: INTERVENTORÍA TÉCNICA ADMINISTRATIVA Y FINANCIERA PARA LA CONSTRUCCIÓN Y ADECUACIÓN ESCENARIOS DEPORTIVOS PARA LOS XVII JUEGOS NACIONALES MUNICIPALES DE GIRARDOT: TERMINACIÓN DEL COLISEO DE VOLEIBOL UNIDAD DEPORTIVA LUIS DUQUE PEÑA, CONSTRUCCIÓN COLISEO BARRIO KENNEDY Y ADECUACIÓN COLISEO SAN JORGE
A39: Contratante: | B39: DEPARTAMENTO DE CUNDINAMARCA
A40: Criterio | B40: Requisito | C40: UNSPSC RUP | D40: Folio RUP | E40: Valoración | F40: Observaciones
A41: Códigos del Clasificador de Bienes y Servicios | B41: 80101600 | C41: 80101600 | D41: 41 | E41: =IF(B42=C42,"Acredita",IF(B41=C41,"Acredita","No acredita")) -> Acredita
B42: 81101500 | C42: 81101500 | D42: 41
A43: Fecha de suscripción del contrato (inicio de contrato) | D43: 38005 | E43: =IF(D43="","No acredita","Acredita") -> Acredita
A44: Valor del proyecto o contrato | D44: 165062211 | E44: =IF(D44="","No acredita","Acredita") -> Acredita
A45: SMMLV - a la fecha de suscripción del contrato | D45: =IFERROR((D44/(VLOOKUP((YEAR(D47)),[1]SMMLV!$A$9:$C$49,3,0)))*'O7'!D46,"0") -> 461.06763 | E45: =IF(D45="","No acredita","Acredita") -> Acredita
...

Sheet O8
A1: EVALUACION TÉCNICA PROCESO CONTRACTUAL No. SCJ-SIF-CMA-003-2024
A2: “INTERVENTORÍA TÉCNICA, ADMINISTRATIVA Y FINANCIERA AL CONTRATO PARA REALIZAR EL MANTENIMIENTO Y MEJORAMIENTO DE LOS EQUIPAMIENTOS DE INFRAESTRUCTURA A CARGO DE LA SDSCJ Y AGENCIAS”
A4: FECHA DE CIERRE DE PROCESO | B4: 45631
A5: PRESUPUESTO OFICIAL SMMLV | B5: =SUM(B6/1300000) -> 433.26315
A6: PRESUPUESTO OFICIAL $ | B6: 563242090
A7: NOMBRE DEL PROPONENTE: | B7: CEYCO INGENIERIA SAS
A9: Integrante 1 | B9: CEYCO INGENIERIA SAS | E9: 1
A10: Integrante 2 | E10: 0
A11: Integrante 3 | E11: 0
A13: 4.2. REQUISITOS TÉCNICOS HABILITANTES
A14: 4.2.1. EXPERIENCIA DEL PROPONENTE
A16: Contrato 1: 088 DE 2009 | B16: CONSULTORÍA ESTRUCTURAL Y DE CONSTRUCCIÓN LIMITADA
A17: Objeto: | B17: Realizar la Interventoría técnica, administrativa y financiera de la construcción de la primera etapa de la unidad intermedia de Salud de los barrios del sur en el municipio de Ibagué, Departamento del Tolima
A18: Contratante: | B18: UNIDAD DE SALUD DE IBAGUÉ ESE
A19: Criterio | B19: Requisito | C19: UNSPSC RUP | D19: Folio RUP | E19: Valoración | F19: Observaciones
A20: Códigos del Clasificador de Bienes y Servicios | B20: 80101600 | C20: 80101600 | D20: 5 | E20: =IF(B21=C21,"Acredita",IF(B20=C20,"Acredita","No acredita")) -> Acredita
B21: 81101500 | C21: 81101500 | D21: 5
A22: Fecha de suscripción del contrato (inicio de contrato) | D22: 40025 | E22: =IF(D22="","No acredita","Acredita") -> Acredita
A23: Valor del proyecto o contrato | D23: 124782087 | E23: =IF(D23="","No acredita","Acredita") -> Acredita
A24: SMMLV - a la fecha de suscripción del contrato | D24: =IFERROR((D23/(VLOOKUP((YEAR(D26)),[1]SMMLV!$A$9:$C$49,3,0)))*'O8'!D25,"0") -> 242.29531 | E24: =IF(D24="","No acredita","Acredita") -> Acredita
A25: Porcentaje de Participación | D25: 1 | E25: =IF(D25="","No acredita","Acredita") -> Acredita
A26: Fecha de terminación del contrato | D26: 40515 | E26: =IF(D26="","No acredita","Acredita") -> Acredita
A27: Objeto y/o alcance y/o actividades y/u obligaciones, debe corresponder con INTERVENTORÍA TÉCNICA DE OBRAS DE MANTENIMIENTO Y/O CONSTRUCCIÓN Y/O TERMINACIÓN Y/O REFORZAMIENTO Y/O AMPLIACIÓN Y/O MEJORAMIENTO Y/O ADECUACIÓN Y/O REPARACIONES LOCATIVAS DE EDIFICACIONES CUBIERTAS. | D27: SI | E27: =IF(D27="","No acredita",IF(D27="","",IF(D27="SI","Acredita","No acredita"))) -> Acredita
A28: Catalogadas como parte del “Sistema del Cuidado y de Servicios Sociales”, de acuerdo con lo establecido el Decreto Distrital 555 de 2021 | D28: SI | E28: =IF(D28="","No acredita",IF(D28="","",IF(D28="SI","Acredita","No acredita"))) -> Acredita
A29: Contratante: Entidades Publicas o Privadas | D29: SI | E29: =IF(D29="","No acredita",IF(D29="","",IF(D29="SI","Acredita","No acredita"))) -> Acredita
A30: Estado de los Contratos: Ejecutados a la fecha de cierre del proceso | D30: SI | E30: =IF(D30="","No acredita",IF(D30="","",IF(D30="SI","Acredita","No acredita"))) -> Acredita
A31: Interventorías técnicas | B31: Juridica - Legal | D31: NO | E31: =IF(D31="","No acredita",IF(D31="","",IF(D31="SI","Acredita","No acredita"))) -> No acredita
B32: Financiera - Contable | D32: SI | E32: =IF(D32="","No acredita",IF(D32="","",IF(D32="SI","Acredita","No acredita"))) -> Acredita
B33: Administrativa | D33: SI | E33: =IF(D33="","No acredita",IF(D33="","",IF(D33="SI","Acredita","No acredita"))) -> Acredita
B34: Ambiental | D34: NO | E34: =IF(D34="","No acredita",IF(D34="","",IF(D34="SI","Acredita","No acredita"))) -> No acredita
A35: CONTRATO 1 - Valoración Experiencia | E35: =IF(AND(E20="acredita",E22="acredita",E23="acredita",E24="acredita",E25="acredita",E26="acredita",E27="acredita",E28="acredita",E29="acredita",E30="acredita"),"CUMPLE","NO CUMPLE") -> CUMPLE
A37: Contrato 2: 1890 DE 2015 | B37: CONSORCIO INTERVENTORIA CL 2015 (CEYCO INGENIERIA SAS 90% - DIEGO MAURICIO GODOY 10%)
A38: Objeto: | B38: Consultoría para la Interventoría técnica, administrativa y financiera al contrato de construcciones de adecuaciones, arreglos locativos de las distintas instituciones educativas de municipio de Ibagué Tolima (Institución Educativa Maximiliano Neira Lamus e Institución Educativa Musical Amina Melendro de Pulencio)
A39: Contratante: | B39: ALCALDÍA MUNICIPAL DE IBAGUÉ
A40: Criterio | B40: Requisito | C40: UNSPSC RUP | D40: Folio RUP | E40: Valoración | F40: Observaciones
A41: Códigos del Clasificador de Bienes y Servicios | B41: 80101600 | C41: 80101600 | D41: 132 | E41: =IF(B42=C42,"Acredita",IF(B41=C41,"Acredita","No acredita")) -> Acredita
B42: 81101500 | C42: 81101500 | D42: 132
A43: Fecha de suscripción del contrato (inicio de contrato) | D43: 42143 | E43: =IF(D43="","No acredita","Acredita") -> Acredita
A44: Valor del proyecto o contrato | D44: 154902143 | E44: =IF(D44="","No acredita","Acredita") -> Acredita
A45: SMMLV - a la fecha de suscripción del contrato | D45: =IFERROR((D44/(VLOOKUP((YEAR(D47)),[1]SMMLV!$A$9:$C$49,3,0)))*'O8'!D46,"0") -> 202.20599 | E45: =IF(D45="","No acredita","Acredita") -> Acredita
...

Sheet Desempate
A4: OFERENTE | C4: INTEGRANTES | D4: % Participacion | E4: Experiencia | G4: %
E5: SMMLV | F5: Total
A6: 1 | B6: ='O1'!B7 -> R&M CONSTRUCCIONES E INTERVENTORIAS SAS | C6: =B6 -> R&M CONSTRUCCIONES E INTERVENTORIAS SAS | D6: 1 | E6: ='O1'!D24+'O1'!D45 -> 1248.8377 | F6: =E6 -> 1248.8377 | G6: =SUM(E6/F6) -> 1
A7: 2 | B7: ='O2'!B7 -> CONSORCIO TRANSFORMAR AGENCIAS | C7: ='O2'!B9 -> JET INGENIERIA S.A.S NIT 802.024.876 - 8 | D7: 0.8 | E7: ='O2'!D24+'O2'!D45 -> 83.554165 | F7: =SUM(E7:E8) -> 3493.914 | G7: =E7/F7 -> 0.023914202
C8: ='O2'!B10 -> OEVA ORGANIZACION EMPRESARIAL VELASQUEZ ARDILA S.A.S - 901.568.643 - 2 | D8: 0.2 | E8: ='O2'!D66 -> 3410.3599 | G8: =E8/F7 -> 0.9760858
A9: 3 | B9: ='O3'!B7 -> CONSORCIO CICA-GEAGOR | C9: ='O3'!B9 -> CICA INGENIERIA E INTERVENTORIA S.A.S. BIC | D9: ='O3'!E9 -> 0.5 | E9: ='O3'!D45+('O3'!D87*50%) -> 1118.0818 | F9: =SUM(E9:E10) -> 1800.9381 | G9: =E9/F9 -> 0.62083303
C10: ='O3'!B10 -> GEAGOR SAS BIC | D10: ='O3'!E10 -> 0.5 | E10: ='O3'!D24+('O3'!D87*50%) -> 682.85623 | G10: =E10/F9 -> 0.37916697
A11: 4 | B11: ='O4'!B7 -> LOGIA 3 ASOCIADOS S.A.S - BIC | C11: =B11 -> LOGIA 3 ASOCIADOS S.A.S - BIC | D11: 1 | E11: ='O4'!F126 -> 802.48446 | F11: =E11 -> 802.48446 | G11: 1
A12: 5 | B12: ='O5'!B7 -> TOTALL INC SAS BIC | C12: =B12 -> TOTALL INC SAS BIC | D12: 1 | E12: ='O5'!F126 -> 1398.9979 | F12: =E12 -> 1398.9979 | G12: 1
A13: 6 | B13: ='O6'!B7 -> JVM INGENIERIA SAS BIC | C13: =B13 -> JVM INGENIERIA SAS BIC | D13: 1 | E13: ='O6'!F126 -> 1834.3812 | F13: =E13 -> 1834.3812 | G13: 1
A14: 7 | B14: ='O7'!B7 -> CONSORCIO EQUIPAMIENTO BIO2C | C14: ='O7'!B9 -> CONSULTORES, DESARROLLO Y AMBIENTE SAS BIC | D14: ='O7'!E9 -> 0.5 | E14: ='O7'!D66+'O7'!D87+'O7'!D109 -> 1123.647 | F14: =SUM(E14:E15) -> 3687.3893 | G14: =E14/F14 -> 0.30472699
C15: ='O7'!B10 -> 2C INGENIEROS SA | D15: ='O7'!E10 -> 0.5 | E15: ='O7'!D24+'O7'!D45 -> 2563.7422 | G15: =E15/F14 -> 0.69527301
A16: 8 | B16: ='O8'!B7 -> CEYCO INGENIERIA SAS | C16: =B16 -> CEYCO INGENIERIA SAS | D16: 1 | E16: ='O8'!F126 -> 742.45778 | F16: =E16 -> 742.45778 | G16: 1
