Workbook
Name _Toc530481013: 'FORMATO. BUENAS PRAC. AMBIENT'!#REF!

Sheet VERIFICACION EXPERIENCIA
A1: FDLCB-LP-006-2024 "PRESTAR LOS SERVICIOS PARA DESARROLLAR LAS ACCIONES ENCAMINADAS A LA PREVENCIÓN DE VIOLENCIA INTRAFAMILIAR Y/O VIOLENCIA SEXUAL, LA VIOLENCIA CONTRA LA MUJER Y EL FEMINICIDIO EN LA LOCALIDAD DE CIUDAD BOLÍVAR, EN EL MARCO DEL PLAN DE DESARROLLO LOCAL DE CIUDAD BOLÍVAR 2021-2024" | B1: PROPONENTE No. 1 | C1: PROPONENTE No. 2 | D1: PROPONENTE No. 3 | E1: PROPONENTE No. 4 | F1: PROPONENTE No. 5 | G1: PROPONENTE No. 6 | H1: PROPONENTE No. 7 | I1: PROPONENTE No. 8 | J1: PROPONENTE No. 9 | K1: PROPONENTE No. 10 | L1: PROPONENTE No. 11
B2: UT CAMINOS DE EMPODERAMIENTO | C2: FUNDESCO | D2: UT BUEN TRATO EUFEES | E2: UT MUJERES | F2: UT MERANI | G2: UT GARANTIA DE DERECHOS | H2: UT-DH | I2: UT MUJER Y GENERO CB | J2: UT IKAFAR 2024 | K2: CORPORACIÓN ESCALANDO FUTURO | L2: FUNDACIÓN INTEGRAL SOCIAL DE LAS AMERICAS
A3: CONTRATO No. 1 GENERAL
A4: NO. DE CONTRATO | B4: 566-2020 | C4: 96-2016 | D4: 565-2020 | E4: 086-2019 | F4: 529 de 2021 | G4: 156 DE 2021 | H4: 487-2022 | I4: SM-CM-029 DE 2017 | J4: 4600054155 DE 2014 | L4: 18-2019
A5: No. CONSECUTIVO EN EL RUP | B5: 251 | C5: 16 | D5: 68 | E5: 27 | F5: 175 | G5: 98 | H5: 79 | I5: 109 | J5: 92 | K5: 78
A6: OBJETO: | B6: PRESTAR EL SERVICIO INTEGRAL PARA LA PUESTA EN MARCHA Y FUNCIONAMIENTO DE LAS CASAS REFUGIO PARA LA ATENCIÓN A MUJERES VÍCTIMAS DE VIOLENCIAS Y SUS PERSONAS A CARGO, DE ACUERDO CON LAS CARACTERÍSTICAS TÉCNICAS DESCRITAS EN EL ANEXO TÉCNICO Y LAS NORMAS VIGENTES QUE REGULAN LA MATERIA | C6: REALIZAR ACCIONES PARA LA PREVENCION DE LA VIOLENCIA INTRAFAMILIAR Y SEXUAL DE LA LOCALIDAD DE BARRIOS UNIDOS | D6: PRESTAR EL SERVICIO INTEGRAL PARA LA PUESTA EN MARCHA Y FUNCIONAMIENTO DE LAS CASAS REFUGIO PARA LA ATENCIÓN A MUJERES VÍCTIMAS DE VIOLENCIAS Y SUS PERSONAS A CARGO, DE ACUERDO CON LAS CARACTERÍSTICAS TÉCNICAS DESCRITAS EN EL ANEXO TÉCNICO Y LAS NORMAS VIGENTES QUE REGULAN LA MATERIA | E6: PRESTAR EL SERVICIO DE ACOMPAÑAMIENTO PSICOSOCIAL, FAMILIAR Y COMUNITARIO DE LA DIRECCIÓN DE FAMILIAS Y COMUNIDADES PARA IMPLEMENTAR LA MODALIDAD MI FAMILIA, CUYO OBJETIVO ES FORTALECER A LAS FAMILIAS PARA PROMOVER LA PROTECCIÓN INTEGRAL DE LOS NIÑOS, NIÑAS Y ADOLESCENTES Y CONTRIBUIR A LA PREVENCIÓN DE LA VIOLENCIA, NEGLIGENCIA O ABUSOS EN SU CONTRA, A TRAVÉS DEL MODELO DE ATENCIÓN URBANA. | F6: CONTRATAR LOS SERVICIOS TÉCNICOS LOGÍSTICOS Y PROFESIONALES PARA LA FORMACIÓN DE PERSONAS EN ESTRATEGIAS INDIVIDUALES Y COMUNITARIAS PARA LA PREVENCIÓN DE LA VIOLENCIA INTRAFAMILIAR Y/O VIOLENCIA SEXUAL EN LA LOCALIDAD DE SUBA | G6: PRESTAR SERVICIOS PARA REALIZAR ACTIVIDADES QUE PROMUEVAN LA PREVENCION DE VIOLENCIA INTRAFAMILIAR Y SEXUAL SOBRE POBLACIONES EN SITUACIONES DE RIESGO Y VULNERACIÓN DE DERECHOS EN EL MARCO DEL PROYECTO 1662 LA CANDELARIA TERRITORIO LIBRE DE VIOLENCIA INTRAFAMILIAR Y SEXUAL | H6: REALIZAR ACCIONES QUE FORTALEZCAN LA PROMOCIÓN DEL BUEN TRATO, LA PROMOCIÓN DE LA VIOLENCIA INTRAFAMILIAR, VIOLENCIA SEXUAL Y VIOLENCIA DE GÉNERO EN LA LOCALIDAD DE ENGATIVÁ | I6: DISEÑAR E IMPLEMENTAR UNA ESTRATEGIA INTEGRAL QUE PERMITA DESARROLLAR LAS ACCIONES DE PROMOCION DE LOS DERECHOS HUMANOS DE LAS MUJERES, PREVENCIÓN DE VIOLENCIAS BASADAS EN GÉNERO Y LA VINCULACIÓN DE HOMBRES EN LA DEFENSA DE LA IGUALDAD Y EQUIDAD DE GÉNERO DE ACUERDO CON LAS ACTIVIDADES DEFINIDAS POR LA SECRETARÍA DE LA MUJER Y EQUIDAD DE GÉNERO | J6: PRESTACIÓN DE SERVICIOS PARA LA ATENCIÓN TERAPÉUTICA GRUPAL PARA MUJERES VÍCTIMAS DE VIOLENCIA BASADAS EN GÉNERO (UNIÓN TEMPORAL ATENCIÓN TERAPÉUTICA IKASF). | K6: PROMOVER Y PREVENIR MEDIANTE ATENCIÓN ESPECIALIZADA LA GARANTÍA DE LOS DERECHOS Y LA PROTECCIÓN INTEGRAL DE LOS NIÑOS, NIÑAS Y ADOLESCENTES, VELAR POR EL CUMPLIMIENTO DE LOS MISMOS; LA PREVENCIÓN DE SU AMENAZA O VULNERACIÓN Y LA ACTIVACIÓN DE LA RESPUESTA INSTITUCIONAL MEDIANTE LA IMPLEMENTACIÓN Y OPERACIÓN DEL PROGRAMA DE PROMOCIÓN Y PREVENCIÓN PARA LA PROTECCIÓN INTEGRAL DE NIÑOS, NIÑAS Y ADOLESCENTES -GENERACIONES CON BIENESTAR- | L6: PRESTAR SERVICIOS PROFESIONALES CON EL FIN DE ERRADICAR CUALQUIER FORMA DE VIOLENCIA SEXUAL Y GARANTIZAR LA SEGURIDAD Y BIENESTAR DE TODAS LAS PERSONAS INVOLUCRADAS EN EL DEPARTAMENTO DE SANTANDER
A7: ENTIDAD QUE EXPIDE LA CERTIFICACIÓN: | B7: SECRETARIA DISTRITAL DE LA MUJER | C7: FONDO DE DESARROLLO LOCAL DE BARRIOS UNIDOS | D7: SECRETARIA DE LA MUJER | E7: ICBF REEGIONAL VICHADA | F7: FONDO DE DESARROLLO LOCAL DE SUBA | G7: ALCALDIA LOCAL DE LA CANDELARIA | H7: FONDO DE DESARROLLO LOCAL DE ENGATIVÁ | I7: GOBERNACIÓN DE CUNDINAMARCA | J7: MUNICIPIO DE MEDELLIN - SECRETARIA DE LAS MUJERES | K7: INSTITUTO COLOMBIANA DE BIENESTAR FAMILIAR ICBF | L7: CORPORACIÓN DUOS
A8: SMMLV DEL PRESUPUESTO DEL CONTRATO | B8: =1861.98*0.5 -> 930.99 | C8: 188.77 | D8: =877.97*0.5 -> 438.985 | E8: 971.21 | F8: 1222 | G8: =G9/908526 -> 116.33789 | H8: =H9/1160000 -> 1855.4426 | I8: 173.5 | J8: =1774.3*0.33 -> 585.519 | K8: =2020.39*0.7 -> 1414.273
A9: VALOR EN $ DEL PRESUPUESTO | B9: =1691664659*0.5 -> 8.4583233e+08 | C9: 139257000 | D9: =797660103*0.5 -> 3.9883005e+08 | E9: 852533369 | F9: 1110320512 | G9: 105696000 | H9: 2152313414 | I9: 128000000 | J9: =1092970448*0.33 -> 3.6068025e+08 | K9: =+K8*1160000 -> 1640556680 | L9: 798892000
A10: SMMLV PRESUPUESTO OFICIAL | B10: 1171 | C10: 1171 | D10: 1171 | E10: 1171 | F10: 1171 | G10: 1171 | H10: 1171 | I10: 1171 | J10: 1171 | K10: 1171 | L10: 1171
A11: VALOR PRESUPUESTO OFICIAL $ | B11: 1522911450 | C11: 1522911450 | D11: 1522911450 | E11: 1522911450 | F11: 1522911450 | G11: 1522911450 | H11: 1522911450 | I11: 1522911450 | J11: 1522911450 | K11: 1522911450 | L11: 1522911450
A12: Códigos UNSPSC | B12: 80101600 | C12: 60121600 | D12: 80101600 | E12: 80101600 | F12: 80111600 | G12: 60124100 | H12: 60121600 | I12: 80101600 | J12: 80101600 | K12: 80101600
B13: 86101700 | C13: 80101600 | D13: 80111600 | E13: 80111600 | F13: 80101600 | G13: 80101600 | H13: 60124100 | I13: 80111600 | J13: 80111600 | K13: 80111600
B14: 86111600 | C14: 80141900 | D14: 86101700 | E14: 80141900 | F14: 86111600 | G14: 80111600 | H14: 80101600 | I14: 86111600 | J14: 86101700 | K14: 86111600
B15: 90101600 | C15: 86101700 | D15: 90101600 | E15: 86101700 | F15: 90101600 | G15: 93141600 | H15: 80111600 | I15: 93141500 | J15: 86111600 | K15: 93141500
B16: 93141500 | C16: 86101700 | D16: 93141600 | E16: 86111600 | F16: 93141500 | G16: 93141700 | H16: 80141900 | I16: 93141600 | J16: 93141700 | K16: 94132000
A17: OBSERVACIÓN | C17: SEGÚN LA CERTIFICACIÓN ALLEGADA CUMPLE CON LA EXPERIENCIA GENERAL SOLICITADA, TODA VEZ QUE, CORRESPONDE A ACCIONES EN TORNO A LA PREVENSIÓN DE LA VIOLENCIA INTRAFAMILIAR | D17: SEGÚN LA CERTIFICACIÓN ALLEGADA CUMPLE CON LA EXPERIENCIA GENERAL SOLICITADA, TODA VEZ QUE, CORRESPONDE A ACCIONES Y ATENCIÓN A MUJERES VICTIMAS DE VIOLENCIAS | E17: SEGÚN LA CERTIFICACIÓN ALLEGADA CUMPLE CON LA EXPERIENCIA GENERAL SOLICITADA, TODA VEZ QUE, CORRESPONDE A ACCIONES EN TORNO A LA PREVENSIÓN DE LA VIOLENCIA INTRAFAMILIAR | F17: SEGÚN LA CERTIFICACIÓN ALLEGADA CUMPLE CON LA EXPERIENCIA GENERAL SOLICITADA, TODA VEZ QUE, CORRESPONDE A ACCIONES EN TORNO A LA PREVENSIÓN DE LA VIOLENCIA INTRAFAMILIAR | G17: SEGÚN LA CERTIFICACIÓN ALLEGADA CUMPLE CON LA EXPERIENCIA GENERAL SOLICITADA, TODA VEZ QUE, CORRESPONDE A ACCIONES EN TORNO A LA PREVENSIÓN DE LA VIOLENCIA INTRAFAMILIAR | H17: SEGÚN LA CERTIFICACIÓN ALLEGADA CUMPLE CON LA EXPERIENCIA GENERAL SOLICITADA, TODA VEZ QUE, CORRESPONDE A ACCIONES EN TORNO A LA PREVENSIÓN DE LA VIOLENCIA INTRAFAMILIAR, VIOLENCIA SEXUAL Y VIOLENCIA DE GENERO. | I17: SEGÚN LA CERTIFICACIÓN ALLEGADA CUMPLE CON LA EXPERIENCIA GENERAL SOLICITADA, TODA VEZ QUE, CORRESPONDE A ACCIONES EN TORNO A LA PREVENSIÓN DEVIOLENCIAS BASADAS EN GENERO, LO CUAL INCLUYE VIOLENCIA INTRAFAMILIAR. | J17: SEGÚN LA CERTIFICACIÓN ALLEGADA CUMPLE CON LA EXPERIENCIA GENERAL SOLICITADA, TODA VEZ QUE, CORRESPONDE A ACCIONES Y ATENCIÓN A MUJERES VICTIMAS DE VIOLENCIAS | K17: SEGÚN LA CERTIFICACIÓN ALLEGADA CUMPLE CON LA EXPERIENCIA GENERAL SOLICITADA, TODA VEZ QUE, CORRESPONDE A ACCIONES EN TORNO A LA PREVENSIÓN DE LA VIOLENCIA INTRAFAMILIAR | L17: SEGÚN LA CERTIFICACIÓN ALLEGADA NO CUMPLE, TODA VEZ QUE NO APORTAN EL RUP LO CUAL ES NECESARIO PARA ESTE PROCESO.
A18: CONTRATO No. 2 GENERAL
A19: NO. DE CONTRATO | B19: 3878-2011 | C19: 323-2022 | D19: 33-210 | E19: 73003312021 | F19: 327 de 2018 | G19: 536-2022 | H19: 4600087078 de 2020 | I19: CPS 422 2018 | J19: 46000076136 DE 2018 | L19: BNP 09/2017
A20: No. CONSECUTIVO EN EL RUP | B20: 69 | C20: 71 | D20: 58 | E20: 90 | F20: 159 | G20: 114 | H20: 67 | I20: 122 | J20: 121 | K20: 79
A21: OBJETO: | B21: BRINDAR ATENCIÓN INTEGRAL A TRAVÉS DE ACCIONES TERAPÉUTICAS, PREVENCIÓN DE LA VIOLENCIA (MALTRATO INFANTIL, VIOLENCIA INTRAFAMILIAR, CONFLICTO FAMILIAR, VIOLENCIA DE GÉNERO, VIOLENCIA Y EXPLOTACIÓN SEXUAL COMERCIAL DE NIÑOS, NIÑAS Y ADOLESCENTES,) Y PROMOCIÓN Y GARANTÍA DE LOS DERECHOS, MEDIANTE EL DESARROLLO DEL PROGRAMA SUR DE CONVIVENCIA. EN LAS LOCALIDADES DE CIUDAD BOLÍVAR, RAFAEL URIBE URIBE, SAN CRISTÓBAL Y USME, ZONAS DE INTERVENCIÓN DEL PROGRAMA SUR DE CONVIVENCIA - PSC. | C21: CONTRATAR LA PRESTACIÓN DE SERVICIOS INTEGRALES PARA EL DESARROLLO DE ACCIONES EN PREVENCIÓN DE VIOLENCIA INTRAFAMILIAR, VIOLENCIA SEXUAL Y OTRAS VULNERACIONES DE DERECHOS DE LOS NIÑOS, NIÑAS, ADOLESCENTES Y SUS FAMILIAS; PROMOVIENDO EL BUEN TRATO CON ENTORNOS PROTECTORES Y TERRITORIOS SEGUROS EN LA LOCALIDAD DE SANTA FE | D21: SERVICIOS DE PROTECCION A NNA ATENDIDOS EN CENTROS DE PROTECCION SOCIAL DE LA NIÑEZ Y LA ADOLESCENCIA DE PROPIEDAD DE LA BENEFICIENCIA DE CUNDINAMARCA, EXPUESTOS A CONDICIONES DE VULNERACION DE DERECHOS POR VIOLENCIA INTRAFAMILIAR, VILENCIA FISICA, PSICOLOGICA Y SEXUAL, TRABAJO INFANTIL, DESPLAZAMIENTO FORZADO, RIESGO DE RECLUTAMIENTO POR GRUPOS AL MARGEN DE LA LEY Y AQUELLOS RIESGOS QUE ATENTEN CONTRA LA DIGNIDAD, LA EXISTENCIA Y EL DESARROLLO PERSONAL | E21: PRESTAR EL SERVICIO DE ACOMPAÑAMIENTO PSICOSOCIAL, FAMILIAR Y COMUNITARIO DE LA DIRECCIÓN DE FAMILIAS Y COMUNIDADES PARA IMPLEMENTAR LA MODALIDAD MI FAMILIA, CUYO OBJETIVO ES FORTALECER A LAS FAMILIAS PARA PROMOVER LA PROTECCIÓN INTEGRAL DE LOS NIÑOS, NIÑAS Y ADOLESCENTES Y CONTRIBUIR A LA PREVENCIÓN DE VIOLENCIA, NEGLIGENCIA O ABUSOS EN SU CONTRA, A TRAVÉS DEL MODELO DE ATENCIÓN URBANA RURAL. | F21: PRESTAR SERVICIOS PARA LA REALIZACIÓN DE ACCIONES DE PROMOCIÓN DEL BUEN TRATO Y PREVENCIÓN DE VIOLENCIAS EN LAS QUE SE VEN INVOLUCRADOS LOS NIÑOS Y NIÑAS DE LA LOCALIDAD DE SUBA | G21: CONTRATAR LOS SERVICIOS INTEGRALES Y ESPECIALIZADOS PARA LA FORMACIÓN DE PERSONAS EN ESTRATEGIAS PERSONALES Y COMUNITARIAS DE PREVENCIÓN DE LA VIOLENCIA INTRAFAMILIAR Y/O VIOLENCIA SEXUAL EN LA LOCALIDAD DE SUBA | H21: CONVENIO DE ASOCIACIÓN PARA DESARROLLAR ACCIONES CONJUNTAS PARA LA ATENCIÓN PSICOSOCIAL, ORIENTACIÓN JURÍDICA Y LABORAL A POBLACIÓN ADULTA EN EJERCICIO DE PROSTITUCIÓN | I21: CONTRATAR LA PRESTACIÓN DE SERVICIOS PORFESIONALES DE ASESORÍA, ORIENTACIÓN Y SEGUIMIENTO PARA LA PREVENCIÓN DE VIOLENCIA INFANTIL E INTRAFAMILIAR Y LA PROMOCIÓN DEL BUEN TRATO, LOS SERVICIOS PROFESIONALES PARA EL DESARROLLO DE LOS COMPONENTES DE PREVENCIÓN, ASESORÍA Y SEGUIMIENTO DE LA ESTRATEGIA ENTORNOS PROTECTORES, PREVENCIÓN DE LA MATERNIDAD TEMPRANA Y LA REALIZACIÓN DE LAS JORNADAS LOCALES DE POSICIONAMIENTO Y PROMOCION DEL BUEN TRATO | J21: PRESTACIÓN DE SERVICIOS PARA LA ATENCIÓN DE EMERGENCIA, PROTECCIÓN TEMPORAL Y ATENCIÓN PSICOJURÍDICA EN TERRITORIO A MUJERES EN RIESGO - COMPONENTE 1. | K21: PROMOVER Y PREVENIR MEDIANTE ATENCIÓN ESPECIALIZADA LA GARANTÍA DE LOS DERECHOS Y LA PROTECCIÓN INTEGRAL DE LOS NIÑOS, NIÑAS Y ADOLESCENTES, VELAR POR EL CUMPLIMIENTO DE LOS MISMOS; LA PREVENCIÓN DE SU AMENAZA O VULNERACIÓN Y LA ACTIVACIÓN DE LA RESPUESTA INSTITUCIONAL MEDIANTE LA IMPLEMENTACIÓN Y OPERACIÓN DEL PROGRAMA DE PROMOCIÓN Y PREVENCIÓN PARA LA PROTECCIÓN INTEGRAL DE NIÑOS, NIÑAS Y ADOLESCENTES -GENERACIONES CON BIENESTAR- | L21: PRESTACIÓN DE SERVICIOS PROFESIONALES PARA LA IMPLEMENTACIÓN, EJECUCIÓN Y GESTIÓN DE PROYECTOS ORIENTADOS A LA PREVENCIÓN DE LA VIOLENCIA INTRAFAMILIAR, EL FEMINICIDIO Y LA VIOLENCIA CONTRA LA MUJER
A22: ENTIDAD QUE EXPIDE LA CERTIFICACIÓN: | B22: SECRETARIA DISTRITAL DE INTEGRACIÓN SOCIAL | C22: FONDO DE DESARROLLO LOCAL DE SANTA FE | D22: BENEFICIENCIA DE CUNDINAMARCA | E22: ICBF REGIONAL TOLIMA | F22: FONDO DE DESARROLLO LOCAL DE SUBA | G22: FONDO DE DESARROLLO LOCAL DE SUBA | H22: MUNICIPIO DE MEDELLIN | I22: ALCALDIA LOCAL DE KENNEDY | J22: MUNICIPIO DE MEDELLIN - SECRETARIA DE SUMINISTROS Y SERVICIOS | K22: INSTITUTO COLOMBIANA DE BIENESTAR FAMILIAR ICBF | L22: FUNDACION MISION GLOBAL
A23: SMMLV DEL PRESUPUESTO DEL CONTRATO | B23: 570.95 | C23: 106.74 | D23: 2684.4 | E23: 5271.88 | F23: =F24/781.242 -> 572282.67 | G23: =G24/1160000 -> 1121.2313 | H23: =H24/877803 -> 578.57651 | I23: 778.1 | J23: 2586.64 | K23: =783.8*0.7 -> 548.66
A24: VALOR EN $ DEL PRESUPUESTO | B24: 323558348 | C24: 123828194 | D24: 1.4377656e+09 | E24: 5271882428 | F24: 447091260 | G24: 1300628278 | H24: 507876198 | I24: 644414923 | J24: 2142043844 | K24: =+K23*1160000 -> 636445600 | L24: 717353683
A25: SMMLV PRESUPUESTO OFICIAL | B25: 1171 | C25: 1171 | D25: 1171 | E25: 1171 | F25: 1171 | G25: 1171 | H25: 1171 | I25: 1171 | J25: 1171 | K25: 1171 | L25: 1171
A26: VALOR PRESUPUESTO OFICIAL $ | B26: 1522911450 | C26: 1522911450 | D26: 1522911450 | E26: 1522911450 | F26: 1522911450 | G26: 1522911450 | H26: 1522911450 | I26: 1522911450 | J26: 1522911450 | K26: 1522911450 | L26: 1522911450
A27: Códigos UNSPSC | B27: 80101600 | C27: 80111600 | D27: 86111600 | E27: 80101600 | F27: 80101600 | G27: 60124100 | H27: 60124100 | I27: 80101600 | J27: 80101600 | K27: 80101600
B28: 80111600 | C28: 86101700 | D28: 90101600 | E28: 80111600 | F28: 80111600 | G28: 80101600 | H28: 80101600 | I28: 80111600 | J28: 80111600 | K28: 80111600
B29: 86101700 | C29: 86111600 | D29: 93141500 | E29: 80141900 | F29: 86101700 | G29: 90101600 | H29: 86101700 | I29: 93141500 | J29: 80141900 | K29: 86101700
B30: 93141500 | C30: 90101600 | D30: 93141600 | E30: 86111600 | F30: 90101600 | G30: 93141500 | H30: 90101600 | I30: 93141600 | J30: 86101700 | K30: 86111600
B31: 93141700 | C31: 93141700 | D31: 93141700 | E31: 90101600 | F31: 93141500 | G31: 801419 | H31: 93141500 | I31: 90101600 | J31: 86111600 | K31: 93141700
A32: OBSERVACIÓN | B32: EL OFERENTE NO UTILIZO EL FORMATO DE PROPUESTA ECONOMICA DEFINITIVA PUBLICADO POR LA ENTIDAD , YA QUE EN EL FORMATO DEFINITIVO PUBLICADO , NO SE ESTABLECEN CANTIDADES COMO LA ESPECIFICO EL OFERENTE ASI MISMO EL PROPONENTE PRESENTA UN FORMATO EN PDF EL CUAL TIENE SOLO UNA DE LAS HOJAS QUE SE DEBIA DILIGENCIAR EN EL EXCEL DE NOMBRE PROPUESTA ECONOMICA VIOLENCIAS - CAUSAL DE RECHAZO NUMERO 17 "CUANDO EL PROPONENTE MODIFIQUE, CONDICIONE, ALTERE, EXCLUYA O INCLUYA APARTES QUE IMPIDAN LA EVALUACIÓN CORRESPONDIENTE A LA OFERTA ECONÓMICA. NO SE ACEPTARÁN MODIFICACIONES EN LOS ÍTEMS, NI EN LAS UNIDADES, NI EN LAS CANTIDADES, NI LAS PROPUESTAS CUYOS CAPÍTULOS NO CONTENGAN LA TOTALIDAD DE LOS ÍTEMS ENUNCIADOS EN LOS ANEXOS." | C32: SEGÚN LA CERTIFICACIÓN ALLEGADA CUMPLE CON LA EXPERIENCIA GENERAL SOLICITADA, TODA VEZ QUE, CORRESPONDE A ACCIONES EN TORNO A LA PREVENSIÓN DE LA VIOLENCIA INTRAFAMILIAR | D32: SEGÚN LA CERTIFICACIÓN ALLEGADA CUMPLE CON LA EXPERIENCIA GENERAL SOLICITADA, TODA VEZ QUE, CORRESPONDE A ACCIONES EN TORNO A LA PREVENSIÓN DE LA VIOLENCIA INTRAFAMILIAR | E32: EL OFERENTE NO UTILIZO EL FORMATO DE PROPUESTA ECONOMICA DEFINITIVA PUBLICADO POR LA ENTIDAD , YA QUE EN EL FORMATO DEFINITIVO PUBLICADO , NO SE ESTABLECEN CANTIDADES COMO LA ESPECIFICO EL OFERENTE - CAUSAL DE RECHAZO NUMERO 17 " CUANDO EL PROPONENTE MODIFIQUE, CONDICIONE, ALTERE, EXCLUYA O INCLUYA APARTES QUE IMPIDAN LA EVALUACIÓN CORRESPONDIENTE A LA OFERTA ECONÓMICA. NO SE ACEPTARÁN MODIFICACIONES EN LOS ÍTEMS, NI EN LAS UNIDADES, NI EN LAS CANTIDADES, NI LAS PROPUESTAS CUYOS CAPÍTULOS NO CONTENGAN LA TOTALIDAD DE LOS ÍTEMS ENUNCIADOS EN LOS ANEXOS." | F32: SEGÚN LA CERTIFICACIÓN ALLEGADA CUMPLE CON LA EXPERIENCIA GENERAL SOLICITADA, TODA VEZ QUE, CORRESPONDE A ACCIONES EN TORNO A LA PREVENSIÓN DE LA VIOLENCIA INTRAFAMILIAR | G32: SEGÚN LA CERTIFICACIÓN ALLEGADA CUMPLE CON LA EXPERIENCIA GENERAL SOLICITADA, TODA VEZ QUE, CORRESPONDE A ACCIONES EN TORNO A LA PREVENSIÓN DE LA VIOLENCIA INTRAFAMILIAR Y/O VIOLENCIA SEXUAL | H32: SEGÚN LA CERTIFICACIÓN ALLEGADA CUMPLE CON LA EXPERIENCIA GENERAL SOLICITADA, TODA VEZ QUE, CORRESPONDE A ACCIONES EN TORNO A LA PREVENSIÓN DE LA VIOLENCIA INTRAFAMILIAR, VIOLENCIA SEXUAL Y VIOLENCIA DE GENERO, VERIFICADO EN EL ANEXO TECNICO APORTADO. | I32: SEGÚN LA CERTIFICACIÓN ALLEGADA CUMPLE CON LA EXPERIENCIA GENERAL SOLICITADA, TODA VEZ QUE, CORRESPONDE A ACCIONES EN TORNO A LA PREVENSIÓN DE LA VIOLENCIA INTRAFAMILIAR. | J32: SEGÚN LA CERTIFICACIÓN ALLEGADA CUMPLE CON LA EXPERIENCIA GENERAL SOLICITADA, TODA VEZ QUE, CORRESPONDE A ACCIONES Y ATENCIÓN A MUJERES VICTIMAS DE VIOLENCIAS Y/O PREVENCIÓN DE VIOLENCIA INTRA FAMILAR. | K32: SEGÚN LA CERTIFICACIÓN ALLEGADA CUMPLE CON LA EXPERIENCIA GENERAL SOLICITADA, TODA VEZ QUE, CORRESPONDE A ACCIONES EN TORNO A LA PREVENSIÓN DE LA VIOLENCIA INTRAFAMILIAR | L32: EL OFERENTE NO UTILIZO EL FORMATO DE PROPUESTA ECONOMICA DEFINITIVA PUBLICADO POR LA ENTIDAD , YA QUE EN EL FORMATO DEFINITIVO PUBLICADO , NO SE ESTABLECEN CANTIDADES COMO LA ESPECIFICO EL OFERENTE - CAUSAL DE RECHAZO NUMERO 17 " CUANDO EL PROPONENTE MODIFIQUE, CONDICIONE, ALTERE, EXCLUYA O INCLUYA APARTES QUE IMPIDAN LA EVALUACIÓN CORRESPONDIENTE A LA OFERTA ECONÓMICA. NO SE ACEPTARÁN MODIFICACIONES EN LOS ÍTEMS, NI EN LAS UNIDADES, NI EN LAS CANTIDADES, NI LAS PROPUESTAS CUYOS CAPÍTULOS NO CONTENGAN LA TOTALIDAD DE LOS ÍTEMS ENUNCIADOS EN LOS ANEXOS."
A33: RESULTADO EXPERIENCIA GENERAL | B33: CUMPLE | C33: HABILITADO | D33: CUMPLE | E33: CUMPLE | F33: HABILITADO | G33: CUMPLE | H33: CUMPLE | I33: CUMPLE | J33: CUMPLE | K33: CUMPLE | L33: RECHAZADO
A34: CONTRATO No. 3 ESPECIFICA
A35: NO. DE CONTRATO | B35: 272-2014 | C35: 327-2022 | D35: 245 - 2021 | E35: 50001892021 | F35: 372-2017 | G35: 512-2021 | H35: 506-2023 | I35: 4600075140 - 2018 | J35: GJ 178-2020 | L35: SCS 14/2015
A36: No. CONSECUTIVO EN EL RUP | B36: 170 | C36: 67 | D36: 111 | E36: 88 | F36: 136 | G36: 102 | H36: 81 | I36: 119 | J36: 129 | K36: 47
A37: OBJETO: | B37: PRESTACIÓN DE SERVICIOS PARA REALIZAR LOS PROCESOS DE PROMOCIÓN DEL BUEN TRATO DONDE SE INTEGREN ACCIONES DE PREVENCIÓN, ORIENTACIÓN Y ASESORÍA INDIVIDUAL Y FAMILIAR A VÍCTIMAS DE VIOLENCIA INTRAFAMILIAR Y SEXUAL DIRIGIDA A LOS HABITANTES DE LA LOCALIDAD DE ENGATIVÁ. | C37: PRESTAR SERVICIOS ENFOCADOS A LA REALIZACIÒN DE ACCIONES EN DERECHOS DE LAS MUJERES, PREVENCIÒN DEL FEMINICIDIO Y VIOLENCIA CONTRA LAS MUJERES DE LA LOCALIDAD RAFAEL URIBE URIBE" | D37: PRESTAR SERVICIOS INTEGRALES PARA REALIZAR ACTIVIDADES EN EL DESARROLLO DE CAPACIDADES QUE FOMENTEN LA ESTRATEGIA DE CUIDADO A LAS MUJERES CUIDADORAS, CAPACITACLON PARA LA CONSTRUCCION DE CIUDADANIA EN LA PROMOCION DE LOS DERECHOS DE LAS MUJERES Y APOYO A INICIATIVAS RELACIONADAS CON EL DERECHO A UNA VIDA LIBRE DE VIOLENCES PARA LAS MUJERES EN TODAS SUS DIVERSIDADES DE LA LOCALIDAD DE SANTA FE | E37: PRESTAR EL SERVICIO DE ACOMPAÑAMIENTO PSICOSOCIAL, FAMILIAR Y COMUNITARIO DE LA DIRECCIÓN DE FAMILIAS Y COMUNIDADES PARA IMPLEMENTAR LA MODALIDAD MI FAMILIA, CUYO OBJETIVO ES “FORTALECER A LAS FAMILIAS PARA PROMOVER LA PROTECCIÓN INTEGRAL DE LOS NIÑOS, NIÑAS Y ADOLESCENTES Y CONTRIBUIR A LA PREVENCIÓN DE VIOLENCIA, NEGLIGENCIA O ABUSOS EN SU CONTRA | F37: CONTRATAR LA PRESTACIÓN DE SERVICIOS A TODO COSTO, PARA EL DESARROLLO DE PROCESOS FORMATIVOS DE PREVENCIÓN, SENSIBILIZACIÓN Y FORTALECIMIENTO DEL PLAN INTEGRAL DE SEGURIDAD Y CONVIVENCIA CIUDADANA. | G37: VINCULAR PERSONAS EN SU DIVERSIDAD, ESPECIALMENTE MUJERES, DE LA LOCALIDAD DE KENNEDY EN ACCIONES PARA LA PREVENCIÓN DEL FEMINICIDIO Y LA VIOLENCIA, QUE CONTRIBUYA A LA GARANTÍA DE SUS DERECHOS EN EL MARCO DEL PROYECTO NO. 2111: KENNEDY POR LOS DERECHOS DE LAS MUJERES. | H37: REALIZAR ACCIONES QUE FORTALEZCAN LA PROMOCIÓN DEL BUEN TRATO, LA PREVENCIÓN DE LA VIOLENCIA, INTRAFAMILIAR, VIOLENCIA SEXUAL Y VIOLENCIA DE GÉNERO EN LA LOCALIDAD DE ENGATIVÁ | I37: DINAMIZAR LOS CENTROS DE EQUIDAD DE GÉNERO CON ENFOQUE DE GÉNERO - ALCANCE DEL OBJETO: MUJERES DE LA CIUDAD DE MEDELLIN Y SUS CORREGIMIENTOS, ESPECIALMENTE AQUELLAS CON SECUELAS DE LAS VIOLENCIAS BASADAS EN EL GÉNERO, O EN CONDICIONES DE EXCLUSIÓN Y VULNERABILIDAD. | J37: PRESTACIÓN DE SERVICIOS PROFESIONALES DE APOYO TÉCNICO Y LOGÍSTICO PARA DESARROLLAR LAS ACTIVIDADES NECESARIAS DE PREVENCIÓN Y ATENCIÓN DE LAS VIOLENCIAS BASADAS EN GÉNERO EN LA COMUNA 16 EN EL MARCO DEL CONTRATO INTERADMINISTRATIVO 4600085513 DE 2020 SUSCRITO POR LA IU PASCUAL BRAVO CON EL MUNICIPIO DE MEDELLÍN. | K37: DESARROLLAR EL PROYECTO “MUJERES AHORRADORAS EN ACCIÓN” PARA EL MEJORAMIENTO DE LA CALIDAD DE VIDA, BIENESTAR Y PROSPERIDAD DE LAS MUJERES EN SITUACIÓN DE VULNERABILIDAD SOCIAL Y/O DESPLAZAMIENTO, A TRAVÉS DE LA VINCULACIÓN A LOS SERVICIOS MICRO FINANCIEROS, EL ACOMPAÑAMIENTO PARA LA GENERACIÓN DE LA CULTURA DEL AHORRO Y DEL ASEGURAMIENTO, LA INSTALACIÓN DE CAPACIDADES SOCIO EMPRESARIALES, LA FORMACIÓN INTEGRAL CON ENFOQUE DE GÉNERO, EL FORTALECIMIENTO DE GRUPOS DE MUJERES, LA ARTICULACIÓN INSTITUCIONAL Y LA PROMOCIÓN Y GESTIÓN DEL CONOCIMIENTO, QUE PERMITAN LA FORMACIÓN DE CIUDADANAS CAPACES DE TOMAR DECISIONES Y QUE PROMUEVAN EL EMPRENDIMIENTO, AUTOEMPLEO, GENERACIÓN DE INGRESOS LÍCITOS Y EL DESARROLLO ECONÓMICO, CULTURAL Y SOCIAL DE SUS COMUNIDADES. | L37: PRESTACIÓN DE SERVICIOS PROFESIONALES PARA LA IMPLEMENTACIÓN Y EJECUCIÓN DE PROYECTOS DESTINADOS A LA PREVENCIÓN DEL FEMINICIDIO Y LA VIOLENCIA CONTRA LA MUJER
A38: ENTIDAD QUE EXPIDE LA CERTIFICACIÓN: | B38: ALCALDIA LOCAL DE ENGATIVA | C38: FONDO DE DESARROLLO LOCAL DE RAFAEL URIBE URIBE | D38: FONDO DE DESARROLLO LOCAL DE SANTA FE | E38: ICBF REGIONAL META | F38: FONDO DE DESARROLLO LOCAL DE SUBA | G38: ALCALDIA LOCAL DE KENNEDY | H38: FONDO DE SESARROLLO LOCAL DE ENGATIVÁ | I38: ALCALDIA DE MEDELLIN | J38: IU PASCUAL BRAVO | K38: DEPARTAMENTO ADMINISTRATIVO PARA LA PROSPERIDAD SOCIAL | L38: FUNDACION VISION GLOBAL
A39: SMMLV DEL PRESUPUESTO DEL CONTRATO | B39: 675.56 | C39: 1308.83 | D39: =723.48*50/100 -> 361.74 | E39: 2397.59 | F39: =F40/737.717 -> 777226.46 | G39: =G40/908526 -> 1023.6361 | H39: =H40/1160000 -> 2581.2844 | I39: 525.99 | J39: 374.65 | K39: =55945.47*0.3 -> 16783.641
A40: VALOR EN $ DEL PRESUPUESTO | B40: 435296000 | C40: 1518249989 | D40: =723486000*0.5 -> 361743000 | E40: 2397599780 | F40: 573373174 | G40: 930000000 | H40: 2994289940 | I40: 410933007 | J40: 340385945 | L40: 842500000
...

Sheet EXPERIENCIA GENERAL
B1: ADQUISICION DE LOS ELEMENTOS NECESARIOS PARA EL FUNCIONAMIENTO DE LA ENTIDAD Y LOS DIFERENTES PROGRAMAS Y PROYECTOS A CARGO DEL FONDO DE DESARROLLO LOCAL DE CIUDAD BOLÍVAR - LOTE 4 | C1: PROPONENTE No. 1 | D1: PROPONENTE No. 2 | E1: PROPONENTE No. 3 | F1: PROPONENTE No. 4 | G1: PROPONENTE No. 5
C2: 1. 3A SOLUTIONS SAS | D2: 3. PGM SUMINISTROS E INGENIERIA | E2: 5. COMPAÑÍA MAYFER SB SAS | F2: 6. INGFRACOL SAS | G2: 12. GN GENERACIÓN DE NEGOCIOS S.A.S.
B3: CONTRATO No. 1 GENERAL
B4: NO. DE CONTRATO | C4: 3A-05-20119 | D4: 020-2021 | E4: 012-2018 | F4: 114 | G4: 025-2022
B5: No. CONSECUTIVO EN EL RUP | C5: 11 | D5: 17 | E5: 18 | F5: 35 | G5: 10
B6: OBJETO: | C6: SUMINISTRO DE ELEMENTOS DE PAPELERIA ASEO Y CAFETERIA PARA LA ORGANIZACIÓN. | D6: SUMINISTRO DE PAPELERÍA Y ELEMENTOS TECNOLÓGICOS | E6: SUMINISTRO DE MATERIALES Y ELEMENTOS DE ASEO, QUIMICOS, AGRICOLAS, AGROINDUSTRIALES, PAPELERIA, MUSICALES, DEPORTIVOS, TEXTIL Y ELECTRONICA | F6: COMPRAVENTA DE ELEMENTOS DE OFICINA, PAPELERIA, CARTUCHOS Y TONERS PARA LA ADMINISTRACION MUNICIPAL DEL MUNICIPIO DE VISTA HERMOSA-META | G6: ELEMENTOS DE PUBLICIDAD Y BTL, MERCHANDISING, POP IMAGEN INSTITUCIONAL Y PAPELERIA.
B7: ENTIDAD QUE EXPIDE LA CERTIFICACIÓN: | C7: SI ALCATRAZ SAS | D7: ACON SECURITY LTDA | E7: ZULMA YANETH MEDINA RUIZ | F7: ALCALDIA MUNICIPIO DE VISTAHERMOSA META | G7: COMERCIALIZADORA JAL SAS
B8: SMMLV DEL PRESUPUESTO DEL CONTRATO | C8: 211.8 | D8: 125.47 | E8: 1216.01 | F8: 81.25 | G8: 862.06
B9: VALOR EN $ DEL PRESUPUESTO | C9: 175400000 | D9: 114000000 | E9: 950000000 | F9: 50050672 | G9: 1000000000
B10: SMMLV PRESUPUESTO OFICIAL | C10: =C11/1300000 -> 116.61738 | D10: =D11/1300000 -> 116.61738 | E10: =E11/1300000 -> 116.61738 | F10: =E10 -> 116.61738 | G10: =F10 -> 116.61738
B11: VALOR PRESUPUESTO OFICIAL $ | C11: 151602600 | D11: =C11 -> 151602600 | E11: =D11 -> 151602600 | F11: =E11 -> 151602600 | G11: =F11 -> 151602600
B12: Códigos UNSPSC | C12: 44111900 | D12: 14111500 | E12: 14111500 | F12: 14111500 | G12: 14111500
C13: 44121500 | D13: 14111800 | E13: 14111800 | F13: 14111800 | G13: 14111800
C14: 44121600 | D14: 31201500 | E14: 31201500 | F14: 31201500 | G14: 31201500
C15: 44121700 | D15: 44111900 | E15: 44111900 | F15: 44111900 | G15: 44111900
C16: 80141700 | D16: 44121500 | E16: 44121500 | F16: 44121500 | G16: 44121500
D17: 44121600 | E17: 44121600 | F17: 44121600 | G17: 44121600
D18: 44121700 | E18: 44121700 | F18: 44121700 | G18: 44121700
B19: OBSERVACIÓN | C19: SEGÚN CERTIFICACIÓN APORTADA CUMPLE TODA VEZ QIE REVISADOS LOS DOCUMENTOS APORTADOS REALIZO ACTIVIDADES DE SUMINISTRO DE PAPELERIA, EL CONTRATO SE ENCUENTRA TERMINADO Y LIQUIDADO DE ACUERDO A LA CERTIFICACIÓN APORTADA; DE IGUAL MANERA SE VERIFICO EN RUES DATOS DE LA EMPRESA QUE EXPIDE CERTIFICACIÓN. | D19: SEGÚN CERTIFICACIÓN APORTADA CUMPLE TODA VEZ QIE REVISADOS LOS DOCUMENTOS APORTADOS REALIZO ACTIVIDADES DE SUMINISTRO DE PAPELERIA, EL CONTRATO SE ENCUENTRA TERMINADO Y LIQUIDADO DE ACUERDO A LA CERTIFICACIÓN APORTADA. | E19: SEGÚN CERTIFICACIÓN APORTADA CUMPLE TODA VEZ QIE REVISADOS LOS DOCUMENTOS APORTADOS REALIZO ACTIVIDADES DE SUMINISTRO DE PAPELERIA, EL CONTRATO SE ENCUENTRA TERMINADO Y LIQUIDADO DE ACUERDO A LA CERTIFICACIÓN APORTADA. | F19: SEGÚN CERTIFICACIÓN APORTADA CUMPLE TODA VEZ QIE REVISADOS LOS DOCUMENTOS APORTADOS REALIZO ACTIVIDADES DE SUMINISTRO DE PAPELERIA, EL CONTRATO SE ENCUENTRA TERMINADO Y LIQUIDADO DE ACUERDO A LA CERTIFICACIÓN APORTADA. | G19: PRESENTA SUBSANACIÓN APORTANDO LA CERTIFICACIÓN DEL CONTRATO EN EL CUAL SE EVIDENCIA QUE LA ACTIVIDAD REALIZADA FUE SUMINISTRO DE PAPELERÍA, POR TAL MOTIVO CUMPLE.
B20: CONTRATO No. 2 GENERAL
B21: NO. DE CONTRATO | C21: CPS 022-2017 | D21: CPS MC-001-2022 | E21: 185091-2018 | F21: 573-2021 | G21: 038-2019
B22: No. CONSECUTIVO EN EL RUP | C22: 12 | D22: 20 | E22: 20 | F22: 216 | G22: 49
B23: OBJETO: | C23: COMPRAVENTA DE INSUMOS DE CAFETERIA, IMPLEMENTOS DE ASEO Y PAPELERIA DE OFICINA | D23: ADQUISICION DE ELEMENTOS DE PAPELERÍA Y ELEMENTOS TECNOLÓGICOS NECESARIOS PARA EL FUNCIONAMIENTO DE LA PERSONERÍA MUNICIPAL. | E23: SUMINISTRO DE ELEMENTOS MOBILIARIO, EJEMPLARES Y/O LIBROS, Y PAPELERIA PARA DESARROLLAR LOS PROYECTOS DE LA VIGENCIA 2018 | F23: ADQUISICIÓN Y ENTREGA DE ELEMENTOS DE DOTACIÓN A LAS CASAS DE JUVENTUD OPERADAS POR LA SECRETARÍA DISTRITAL DE INTEGRACIÓN SOCIAL EN LA LOCALIDAD DE CIUDAD BOLÍVAR. | G23: SUMINISTRO DE ELEMENTOS DE PAPELERIA, UTILES DE ESCRITORIO, OFICINA Y TINTAS PARA LA CENTRAL ADMINISTRATIVA Y CONTABLE ESPECIALIZADA DE INGENIEROS Y SUS UNIDADES CENTRALIZADAS
B24: ENTIDAD QUE EXPIDE LA CERTIFICACIÓN: | C24: FUNDACION CENTRO DE DESARROLLO HUMANO & EMPRESARIAL VILLA OLIMPICA | D24: PERSONERÍA MUNICIPAL DE SOPÓ | E24: ASNEA | F24: ALCALDIA LOCAL DE CIUDAD BOLÍVAR | G24: CENAC CONTABLE INGENIEROS
B25: SMMLV DEL PRESUPUESTO DEL CONTRATO | C25: 218.75 | D25: 5.18 | E25: 272.23 | F25: 312.13 | G25: 140
B26: VALOR EN $ DEL PRESUPUESTO | C26: 161381000 | D26: 5400000 | E26: 225445000 | F26: 327693300 | G26: 115938201
B27: SMMLV PRESUPUESTO OFICIAL | C27: =C10 -> 116.61738 | D27: =D28/1300000 -> 116.61738 | E27: =E28/1300000 -> 116.61738 | F27: =E27 -> 116.61738 | G27: =F27 -> 116.61738
B28: VALOR PRESUPUESTO OFICIAL $ | C28: =C11 -> 151602600 | D28: =C28 -> 151602600 | E28: =D28 -> 151602600 | F28: =E28 -> 151602600 | G28: =F28 -> 151602600
B29: Códigos UNSPSC | C29: 14111500 | D29: =D12 -> 14111500 | E29: =E12 -> 14111500 | F29: 14111500 | G29: 14111500
C30: 14111800 | D30: =D13 -> 14111800 | E30: 31201500 | F30: 14111800 | G30: 14111800
C31: 44111900 | D31: =D14 -> 31201500 | E31: 44111900 | F31: 31201500 | G31: 31201500
C32: 44121500 | D32: =D15 -> 44111900 | E32: 44121600 | F32: 44111900 | G32: 44111900
C33: 44121600 | D33: =D16 -> 44121500 | E33: 44121700 | F33: 44121500 | G33: 44121500
C34: 44121700 | D34: =D17 -> 44121600 | E34: 44121900 | F34: 44121600 | G34: 44121600
C35: 44121900 | D35: =D18 -> 44121700 | E35: 61121500 | F35: 44121700 | G35: 44121700
B36: OBSERVACIÓN | C36: SEGÚN CERTIFICACIÓN APORTADA CUMPLE TODA VEZ QIE REVISADOS LOS DOCUMENTOS APORTADOS REALIZO ACTIVIDADES DE SUMINISTRO DE PAPELERIA, DE IGUAL MANERA SE VERIFICO EN RUES DATOS DE LA EMPRESA QUE EXPIDE CERTIFICACIÓN. | D36: SEGÚN CERTIFICACIÓN APORTADA CUMPLE TODA VEZ QIE REVISADOS LOS DOCUMENTOS APORTADOS REALIZO ACTIVIDADES DE SUMINISTRO DE PAPELERIA, DE IGUAL MANERA SE VERIFICO EN RUES DATOS DE LA EMPRESA QUE EXPIDE CERTIFICACIÓN. | E36: SEGÚN CERTIFICACIÓN APORTADA CUMPLE TODA VEZ QIE REVISADOS LOS DOCUMENTOS APORTADOS REALIZO ACTIVIDADES DE SUMINISTRO DE PAPELERIA, EL CONTRATO SE ENCUENTRA TERMINADO Y LIQUIDADO DE ACUERDO A LA CERTIFICACIÓN APORTADA. | F36: SEGÚN CERTIFICACIÓN APORTADA NO CUMPLE TODA VEZ QIE REVISADOS LOS DOCUMENTOS APORTADOS NO REALIZO ACTIVIDADES DE SUMINISTRO DE PAPELERIA, EL CONTRATO SE ENCUENTRA TERMINADO Y LIQUIDADO DE ACUERDO A LA CERTIFICACIÓN APORTADA. | G36: PRESENTA SUBSANACIÓN APORTANDO LA CERTIFICACIÓN DEL CONTRATO EN EL CUAL SE EVIDENCIA QUE LA ACTIVIDAD REALIZADA FUE SUMINISTRO DE PAPELERÍA, POR TAL MOTIVO CUMPLE.
B37: CONTRATO No. 3 GENERAL
B38: NO. DE CONTRATO | F38: 110-2017
B39: No. CONSECUTIVO EN EL RUP | F39: 127
B40: OBJETO: | F40: ADQUISICIÓN DE ELEMENTOS DE PAPELERÍA, ÚTILES DE ESCRITORIO, EQUIPOS DE OFICINA, EQUIPOS TECNOLÓGICOS (COMPUTADORES E IMPRESORAS), ELEMENTOS DE ASEO Y CAFETERÍA Y DEMAS INSUMOS NECESARIO PARA EL BUEN DESARROLLO DE LAS DEPENDENCIAS Y PLANTA DE BENEFICIO ANIMAL PARA EL MUNICIPIO DE MESETAS META
...

Sheet FORMATO EXP. HABILITANTE 
B1: “FORMATO EXPERIENCIA HABILITANTE DEL PROPONENTE”
B3: ÍTEM | C3: OFERENTES | D3: RESULTADO | E3: OBSERVACIÓN
B4: 1 | C4: PROPONENTE No. 1 | D4: CUMPLE | E4: N/A
C5: =+'EXPERIENCIA GENERAL'!C2 -> 1. 3A SOLUTIONS SAS
B6: 3 | C6: PROPONENTE No. 3 | D6: CUMPLE | E6: N/A
C7: =+'EXPERIENCIA GENERAL'!D2 -> 3. PGM SUMINISTROS E INGENIERIA
B8: 5 | C8: PROPONENTE No. 5 | D8: CUMPLE | E8: N/A
C9: =+'EXPERIENCIA GENERAL'!E2 -> 5. COMPAÑÍA MAYFER SB SAS
B10: 6 | C10: PROPONENTE No. 6 | D10: NO CUMPLE | E10: El OFERENTE NO APORTA EL FORMATO EN DEBIDA FORMA, COMO SE SOLICITA DE ACUERDO AL FORMATO DE EXPERIENCIA CALIFICADA
C11: ='EXPERIENCIA GENERAL'!F2 -> 6. INGFRACOL SAS
B12: 12 | C12: PROPONENTE No. 12 | D12: CUMPLE | E12: N/A
C13: ='EXPERIENCIA GENERAL'!G2 -> 12. GN GENERACIÓN DE NEGOCIOS S.A.S.
B21: Elaboro: John Alejandro Florez Ulloa - Contratista Planeación Social CPS 1336-2024

Sheet VERIFICACIÓN CAPACIDAD TÉCNICA
B2: "VERIFICACIÓN CAPACIDAD TÉCNICA"
B4: ÍTEM | C4: OFERENTES | D4: RESULTADO | E4: OBSERVACIÓN
B5: 1 | C5: PROPONENTE No. 1 | D5: CUMPLE | E5: N/A
C6: ='EXPERIENCIA GENERAL'!C2 -> 1. 3A SOLUTIONS SAS
B7: 3 | C7: PROPONENTE No. 3 | D7: CUMPLE | E7: EL OFERENTE SUBSANA PRESENTANDO EL FORMATO DE DE ACEPTACIÓN DE CUMPLIMIENTO DE REQUERIMIENTO Y ESPECIFICACIONES TÉCNICAS
C8: =+'EXPERIENCIA GENERAL'!D2 -> 3. PGM SUMINISTROS E INGENIERIA
B9: 5 | C9: PROPONENTE No. 5 | D9: CUMPLE | E9: N/A
C10: =+'EXPERIENCIA GENERAL'!E2 -> 5. COMPAÑÍA MAYFER SB SAS
B11: 6 | C11: PROPONENTE No. 6 | D11: CUMPLE | E11: N/A
C12: ='EXPERIENCIA GENERAL'!F2 -> 6. INGFRACOL SAS
B13: 12 | C13: PROPONENTE No. 12 | D13: CUMPLE | E13: N/A
C14: ='EXPERIENCIA GENERAL'!G2 -> 12. GN GENERACIÓN DE NEGOCIOS S.A.S.
B16: Elaboro: María Fernanda Romero - Contratista Planeación Social CPS 1334-2024

Sheet FORMATO. BUENAS PRAC. AMBIENT
A1: BUENAS PRÁCTICAS AMBIENTALES
A2: OBJETO DEL PROCESO | B2: PROPONENTE No. 1 | C2: PROPONENTE No. 3 | D2: PROPONENTE No. 5 | E2: PROPONENTE No. 6 | F2: PROPONENTE No. 12
B3: ='EXPERIENCIA GENERAL'!C2 -> 1. 3A SOLUTIONS SAS | C3: =+'EXPERIENCIA GENERAL'!D2 -> 3. PGM SUMINISTROS E INGENIERIA | D3: =+'EXPERIENCIA GENERAL'!E2 -> 5. COMPAÑÍA MAYFER SB SAS | E3: =+'EXPERIENCIA GENERAL'!F2 -> 6. INGFRACOL SAS | F3: =+'EXPERIENCIA GENERAL'!G2 -> 12. GN GENERACIÓN DE NEGOCIOS S.A.S.
A4: ANEXO - “COMPROMISOS AMBIENTALES” | B4: SI | C4: SI | D4: SI | E4: SI | F4: SI
A5: Observación: | C5: - | E5: PRESENTA FORMATO SUBSANADO CON EL OBJETO CONTRACTUAL DEL ACTUAL PROCESO | F5: PRESENTA FORMATO SUBSANADO CON EL OBJETO CONTRACTUAL DEL ACTUAL PROCESO
A6: RESULTADO: | B6: CUMPLE | C6: CUMPLE | D6: CUMPLE | E6: CUMPLE | F6: CUMPLE
B9: Elaboro: María Fernanda Romero - Contratista Planeación Social CPS 1334-2024

Sheet CONSOLIDADO TÉCNICO-FINAL
A2: CONSOLIDADO TÉCNICO LOTE 4
A4: ÍTEM | B4: OFERENTES | C4: VERIFICACION EXPERIENCIA GENERAL | D4: FORMATO EXPERIENCIA HABILITANTE | E4: VERIFICACIÓN CAPACIDAD TÉCNICA | F4: BUENAS PRACTICAS AMBIENTALES | G4: RESULTADO
A5: 1 | B5: ='EXPERIENCIA GENERAL'!C2 -> 1. 3A SOLUTIONS SAS | C5: HABILITADO | D5: HABILITADO | E5: HABILITADO | F5: HABILITADO | G5: HABILITADO
A7: 3 | B7: ='EXPERIENCIA GENERAL'!D2 -> 3. PGM SUMINISTROS E INGENIERIA | C7: HABILITADO | D7: HABILITADO | E7: HABILITADO | F7: HABILITADO | G7: HABILITADO
A9: 5 | B9: ='EXPERIENCIA GENERAL'!E2 -> 5. COMPAÑÍA MAYFER SB SAS | C9: HABILITADO | D9: HABILITADO | E9: HABILITADO | F9: HABILITADO | G9: HABILITADO
A11: 6 | B11: ='EXPERIENCIA GENERAL'!F2 -> 6. INGFRACOL SAS | C11: HABILITADO | D11: NO CUMPLE | E11: HABILITADO | F11: HABILITADO | G11: RECHAZADO
A13: 12 | B13: ='EXPERIENCIA GENERAL'!G2 -> 12. GN GENERACIÓN DE NEGOCIOS S.A.S. | C13: HABILITADO | D13: HABILITADO | E13: HABILITADO | F13: HABILITADO | G13: HABILITADO
A15: Elaboro: María Fernanda Romero - Contratista Planeación Social CPS 1334-2024
A16: Elaboro:
