Workbook
Name \0: #REF!
Name \b: #REF!
Name \b: #REF!
Name \d: #REF!
Name \g: #REF!
Name \i: #REF!
Name \i: #REF!
Name \m: #REF!
Name \m: #REF!
Name \n: #REF!
Name \PX: #REF!
Name \PX: #REF!
Name \PX: #REF!
Name \PX: #REF!
Name \PX: #REF!
Name \r: #REF!
Name \t: #REF!
Name \X: #N/A
Name \Z: #N/A
Name ____________________________________APU221: #REF!
Name ____________________________________APU465: #REF!
Name ____________________________________APU465: #REF!
Name ____________________________________APU465: #REF!
Name ____________________________________APU465: #REF!
Name ____________________________________APU465: #REF!
Name ____________________________________APU465: #REF!
Name ____________________________________APU465: #REF!
Name ____________________________________APU465: #REF!
Name ____________________________________APU465: #REF!
Name ____________________________________APU465: #REF!
Name ____________________________________PJ50: #REF!
Name ____________________________________pj51: #REF!
Name __________________________________APU221: #REF!
Name __________________________________APU465: #REF!
Name __________________________________APU465: #REF!
Name __________________________________APU465: #REF!
Name __________________________________APU465: #REF!
Name __________________________________APU465: #REF!
Name __________________________________APU465: #REF!
Name __________________________________APU465: #REF!
Name __________________________________APU465: #REF!
Name __________________________________APU465: #REF!
Name __________________________________APU465: #REF!
Name __________________________________PJ50: #REF!
Name __________________________________pj51: #REF!
Name _________________________________APU221: #REF!
Name _________________________________APU465: #REF!
Name _________________________________APU465: #REF!
Name _________________________________APU465: #REF!
Name _________________________________APU465: #REF!
Name _________________________________APU465: #REF!
Name _________________________________APU465: #REF!
Name _________________________________APU465: #REF!
Name _________________________________APU465: #REF!
Name _________________________________APU465: #REF!
Name _________________________________APU465: #REF!
Name _________________________________PJ50: #REF!
Name _________________________________pj51: #REF!
Name ________________________________APU221: #REF!
Name ________________________________APU465: #REF!

Sheet PRIORIZADA
A1: "PAVIMENTACIÓN DE VÍAS URBANAS EN EL MUNICIPIO DE IBAGUE - DEPARTAMENTO DEL TOLIMA”
A5: ITEM | B5: ITEM DE PAGO | C5: DESCRIPCION | D5: UN | E5: CANTIDAD | F5: VR UNITARIO | G5: VR.TOTAL
C6: PRELIMINARES Y EXPLANACIONES
A7: 1 | B7: =#REF! -> #REF! | C7: =#REF! -> #REF! | D7: =#REF! -> #REF! | E7: =_xlfn.IFNA(VLOOKUP(B7,#REF!,4,0),0)+_xlfn.IFNA(VLOOKUP(B7,#REF!,4,0),0)+_xlfn.IFNA(VLOOKUP(B7,#REF!,4,0),0)+_xlfn.IFNA(VLOOKUP(B7,#REF!,4,0),0)+_xlfn.IFNA(VLOOKUP(B7,#REF!,4,0),0)+_xlfn.IFNA(VLOOKUP(B7,#REF!,4,0),0)+_xlfn.IFNA(VLOOKUP(B7,#REF!,4,0),0)+_xlfn.IFNA(VLOOKUP(B7,#REF!,4,0),0)+_xlfn.IFNA(VLOOKUP(B7,#REF!,4,0),0)+_xlfn.IFNA(VLOOKUP(B7,#REF!,4,0),0)+_xlfn.IFNA(VLOOKUP(B7,#REF!,4,0),0)+_xlfn.IFNA(VLOOKUP(B7,#REF!,4,0),0)+_xlfn.IFNA(VLOOKUP(B7,#REF!,4,0),0)+_xlfn.IFNA(VLOOKUP(B7,#REF!,4,0),0)+_xlfn.IFNA(VLOOKUP(B7,#REF!,4,0),0)+_xlfn.IFNA(VLOOKUP(B7,#REF!,4,0),0)+_xlfn.IFNA(VLOOKUP(B7,#REF!,4,0),0)+_xlfn.IFNA(VLOOKUP(B7,#REF!,4,0),0)+_xlfn.IFNA(VLOOKUP(B7,#REF!,4,0),0)+_xlfn.IFNA(VLOOKUP(B7,#REF!,4,0),0)+_xlfn.IFNA(VLOOKUP(B7,#REF!,4,0),0)+_xlfn.IFNA(VLOOKUP(B7,#REF!,4,0),0)+_xlfn.IFNA(VLOOKUP(B7,#REF!,4,0),0)+_xlfn.IFNA(VLOOKUP(B7,#REF!,4,0),0)+_xlfn.IFNA(VLOOKUP(B7,#REF!,4,0),0) -> #REF! | F7: =+#REF! -> #REF! | G7: =ROUND(E7*F7,0) -> #REF!
A8: 2 | B8: =#REF! -> #REF! | C8: =#REF! -> #REF! | D8: =#REF! -> #REF! | E8: =_xlfn.IFNA(VLOOKUP(B8,#REF!,4,0),0)+_xlfn.IFNA(VLOOKUP(B8,#REF!,4,0),0)+_xlfn.IFNA(VLOOKUP(B8,#REF!,4,0),0)+_xlfn.IFNA(VLOOKUP(B8,#REF!,4,0),0)+_xlfn.IFNA(VLOOKUP(B8,#REF!,4,0),0)+_xlfn.IFNA(VLOOKUP(B8,#REF!,4,0),0)+_xlfn.IFNA(VLOOKUP(B8,#REF!,4,0),0)+_xlfn.IFNA(VLOOKUP(B8,#REF!,4,0),0)+_xlfn.IFNA(VLOOKUP(B8,#REF!,4,0),0)+_xlfn.IFNA(VLOOKUP(B8,#REF!,4,0),0)+_xlfn.IFNA(VLOOKUP(B8,#REF!,4,0),0)+_xlfn.IFNA(VLOOKUP(B8,#REF!,4,0),0)+_xlfn.IFNA(VLOOKUP(B8,#REF!,4,0),0)+_xlfn.IFNA(VLOOKUP(B8,#REF!,4,0),0)+_xlfn.IFNA(VLOOKUP(B8,#REF!,4,0),0)+_xlfn.IFNA(VLOOKUP(B8,#REF!,4,0),0)+_xlfn.IFNA(VLOOKUP(B8,#REF!,4,0),0)+_xlfn.IFNA(VLOOKUP(B8,#REF!,4,0),0)+_xlfn.IFNA(VLOOKUP(B8,#REF!,4,0),0)+_xlfn.IFNA(VLOOKUP(B8,#REF!,4,0),0)+_xlfn.IFNA(VLOOKUP(B8,#REF!,4,0),0)+_xlfn.IFNA(VLOOKUP(B8,#REF!,4,0),0)+_xlfn.IFNA(VLOOKUP(B8,#REF!,4,0),0)+_xlfn.IFNA(VLOOKUP(B8,#REF!,4,0),0)+_xlfn.IFNA(VLOOKUP(B8,#REF!,4,0),0) -> #REF! | F8: =#REF! -> #REF! | G8: =ROUND(E8*F8,0) -> #REF!
A9: 3 | B9: =#REF! -> #REF! | C9: =#REF! -> #REF! | D9: =#REF! -> #REF! | E9: =_xlfn.IFNA(VLOOKUP(B9,#REF!,4,0),0)+_xlfn.IFNA(VLOOKUP(B9,#REF!,4,0),0)+_xlfn.IFNA(VLOOKUP(B9,#REF!,4,0),0)+_xlfn.IFNA(VLOOKUP(B9,#REF!,4,0),0)+_xlfn.IFNA(VLOOKUP(B9,#REF!,4,0),0)+_xlfn.IFNA(VLOOKUP(B9,#REF!,4,0),0)+_xlfn.IFNA(VLOOKUP(B9,#REF!,4,0),0)+_xlfn.IFNA(VLOOKUP(B9,#REF!,4,0),0)+_xlfn.IFNA(VLOOKUP(B9,#REF!,4,0),0)+_xlfn.IFNA(VLOOKUP(B9,#REF!,4,0),0)+_xlfn.IFNA(VLOOKUP(B9,#REF!,4,0),0)+_xlfn.IFNA(VLOOKUP(B9,#REF!,4,0),0)+_xlfn.IFNA(VLOOKUP(B9,#REF!,4,0),0)+_xlfn.IFNA(VLOOKUP(B9,#REF!,4,0),0)+_xlfn.IFNA(VLOOKUP(B9,#REF!,4,0),0)+_xlfn.IFNA(VLOOKUP(B9,#REF!,4,0),0)+_xlfn.IFNA(VLOOKUP(B9,#REF!,4,0),0)+_xlfn.IFNA(VLOOKUP(B9,#REF!,4,0),0)+_xlfn.IFNA(VLOOKUP(B9,#REF!,4,0),0)+_xlfn.IFNA(VLOOKUP(B9,#REF!,4,0),0)+_xlfn.IFNA(VLOOKUP(B9,#REF!,4,0),0)+_xlfn.IFNA(VLOOKUP(B9,#REF!,4,0),0)+_xlfn.IFNA(VLOOKUP(B9,#REF!,4,0),0)+_xlfn.IFNA(VLOOKUP(B9,#REF!,4,0),0)+_xlfn.IFNA(VLOOKUP(B9,#REF!,4,0),0) -> #REF! | F9: =#REF! -> #REF! | G9: =ROUND(E9*F9,0) -> #REF!
A10: 4 | B10: =#REF! -> #REF! | C10: =#REF! -> #REF! | D10: =#REF! -> #REF! | E10: =_xlfn.IFNA(VLOOKUP(B10,#REF!,4,0),0)+_xlfn.IFNA(VLOOKUP(B10,#REF!,4,0),0)+_xlfn.IFNA(VLOOKUP(B10,#REF!,4,0),0)+_xlfn.IFNA(VLOOKUP(B10,#REF!,4,0),0)+_xlfn.IFNA(VLOOKUP(B10,#REF!,4,0),0)+_xlfn.IFNA(VLOOKUP(B10,#REF!,4,0),0)+_xlfn.IFNA(VLOOKUP(B10,#REF!,4,0),0)+_xlfn.IFNA(VLOOKUP(B10,#REF!,4,0),0)+_xlfn.IFNA(VLOOKUP(B10,#REF!,4,0),0)+_xlfn.IFNA(VLOOKUP(B10,#REF!,4,0),0)+_xlfn.IFNA(VLOOKUP(B10,#REF!,4,0),0)+_xlfn.IFNA(VLOOKUP(B10,#REF!,4,0),0)+_xlfn.IFNA(VLOOKUP(B10,#REF!,4,0),0)+_xlfn.IFNA(VLOOKUP(B10,#REF!,4,0),0)+_xlfn.IFNA(VLOOKUP(B10,#REF!,4,0),0)+_xlfn.IFNA(VLOOKUP(B10,#REF!,4,0),0)+_xlfn.IFNA(VLOOKUP(B10,#REF!,4,0),0)+_xlfn.IFNA(VLOOKUP(B10,#REF!,4,0),0)+_xlfn.IFNA(VLOOKUP(B10,#REF!,4,0),0)+_xlfn.IFNA(VLOOKUP(B10,#REF!,4,0),0)+_xlfn.IFNA(VLOOKUP(B10,#REF!,4,0),0)+_xlfn.IFNA(VLOOKUP(B10,#REF!,4,0),0)+_xlfn.IFNA(VLOOKUP(B10,#REF!,4,0),0)+_xlfn.IFNA(VLOOKUP(B10,#REF!,4,0),0)+_xlfn.IFNA(VLOOKUP(B10,#REF!,4,0),0) -> #REF! | F10: =#REF! -> #REF! | G10: =ROUND(E10*F10,0) -> #REF!
A11: 5 | B11: =#REF! -> #REF! | C11: =#REF! -> #REF! | D11: =#REF! -> #REF! | E11: =_xlfn.IFNA(VLOOKUP(B11,#REF!,4,0),0)+_xlfn.IFNA(VLOOKUP(B11,#REF!,4,0),0)+_xlfn.IFNA(VLOOKUP(B11,#REF!,4,0),0)+_xlfn.IFNA(VLOOKUP(B11,#REF!,4,0),0)+_xlfn.IFNA(VLOOKUP(B11,#REF!,4,0),0)+_xlfn.IFNA(VLOOKUP(B11,#REF!,4,0),0)+_xlfn.IFNA(VLOOKUP(B11,#REF!,4,0),0)+_xlfn.IFNA(VLOOKUP(B11,#REF!,4,0),0)+_xlfn.IFNA(VLOOKUP(B11,#REF!,4,0),0)+_xlfn.IFNA(VLOOKUP(B11,#REF!,4,0),0)+_xlfn.IFNA(VLOOKUP(B11,#REF!,4,0),0)+_xlfn.IFNA(VLOOKUP(B11,#REF!,4,0),0)+_xlfn.IFNA(VLOOKUP(B11,#REF!,4,0),0)+_xlfn.IFNA(VLOOKUP(B11,#REF!,4,0),0)+_xlfn.IFNA(VLOOKUP(B11,#REF!,4,0),0)+_xlfn.IFNA(VLOOKUP(B11,#REF!,4,0),0)+_xlfn.IFNA(VLOOKUP(B11,#REF!,4,0),0)+_xlfn.IFNA(VLOOKUP(B11,#REF!,4,0),0)+_xlfn.IFNA(VLOOKUP(B11,#REF!,4,0),0)+_xlfn.IFNA(VLOOKUP(B11,#REF!,4,0),0)+_xlfn.IFNA(VLOOKUP(B11,#REF!,4,0),0)+_xlfn.IFNA(VLOOKUP(B11,#REF!,4,0),0)+_xlfn.IFNA(VLOOKUP(B11,#REF!,4,0),0)+_xlfn.IFNA(VLOOKUP(B11,#REF!,4,0),0)+_xlfn.IFNA(VLOOKUP(B11,#REF!,4,0),0) -> #REF! | F11: =#REF! -> #REF! | G11: =ROUND(E11*F11,0) -> #REF!
A12: 6 | B12: =#REF! -> #REF! | C12: =#REF! -> #REF! | D12: =#REF! -> #REF! | E12: =_xlfn.IFNA(VLOOKUP(B12,#REF!,4,0),0)+_xlfn.IFNA(VLOOKUP(B12,#REF!,4,0),0)+_xlfn.IFNA(VLOOKUP(B12,#REF!,4,0),0)+_xlfn.IFNA(VLOOKUP(B12,#REF!,4,0),0)+_xlfn.IFNA(VLOOKUP(B12,#REF!,4,0),0)+_xlfn.IFNA(VLOOKUP(B12,#REF!,4,0),0)+_xlfn.IFNA(VLOOKUP(B12,#REF!,4,0),0)+_xlfn.IFNA(VLOOKUP(B12,#REF!,4,0),0)+_xlfn.IFNA(VLOOKUP(B12,#REF!,4,0),0)+_xlfn.IFNA(VLOOKUP(B12,#REF!,4,0),0)+_xlfn.IFNA(VLOOKUP(B12,#REF!,4,0),0)+_xlfn.IFNA(VLOOKUP(B12,#REF!,4,0),0)+_xlfn.IFNA(VLOOKUP(B12,#REF!,4,0),0)+_xlfn.IFNA(VLOOKUP(B12,#REF!,4,0),0)+_xlfn.IFNA(VLOOKUP(B12,#REF!,4,0),0)+_xlfn.IFNA(VLOOKUP(B12,#REF!,4,0),0)+_xlfn.IFNA(VLOOKUP(B12,#REF!,4,0),0)+_xlfn.IFNA(VLOOKUP(B12,#REF!,4,0),0)+_xlfn.IFNA(VLOOKUP(B12,#REF!,4,0),0)+_xlfn.IFNA(VLOOKUP(B12,#REF!,4,0),0)+_xlfn.IFNA(VLOOKUP(B12,#REF!,4,0),0)+_xlfn.IFNA(VLOOKUP(B12,#REF!,4,0),0)+_xlfn.IFNA(VLOOKUP(B12,#REF!,4,0),0)+_xlfn.IFNA(VLOOKUP(B12,#REF!,4,0),0)+_xlfn.IFNA(VLOOKUP(B12,#REF!,4,0),0) -> #REF! | F12: ='201.3P'!N50 -> #REF! | G12: =ROUND(E12*F12,0) -> #REF!
A13: 7 | B13: =#REF! -> #REF! | C13: =#REF! -> #REF! | D13: =#REF! -> #REF! | E13: =_xlfn.IFNA(VLOOKUP(B13,#REF!,4,0),0)+_xlfn.IFNA(VLOOKUP(B13,#REF!,4,0),0)+_xlfn.IFNA(VLOOKUP(B13,#REF!,4,0),0)+_xlfn.IFNA(VLOOKUP(B13,#REF!,4,0),0)+_xlfn.IFNA(VLOOKUP(B13,#REF!,4,0),0)+_xlfn.IFNA(VLOOKUP(B13,#REF!,4,0),0)+_xlfn.IFNA(VLOOKUP(B13,#REF!,4,0),0)+_xlfn.IFNA(VLOOKUP(B13,#REF!,4,0),0)+_xlfn.IFNA(VLOOKUP(B13,#REF!,4,0),0)+_xlfn.IFNA(VLOOKUP(B13,#REF!,4,0),0)+_xlfn.IFNA(VLOOKUP(B13,#REF!,4,0),0)+_xlfn.IFNA(VLOOKUP(B13,#REF!,4,0),0)+_xlfn.IFNA(VLOOKUP(B13,#REF!,4,0),0)+_xlfn.IFNA(VLOOKUP(B13,#REF!,4,0),0)+_xlfn.IFNA(VLOOKUP(B13,#REF!,4,0),0)+_xlfn.IFNA(VLOOKUP(B13,#REF!,4,0),0)+_xlfn.IFNA(VLOOKUP(B13,#REF!,4,0),0)+_xlfn.IFNA(VLOOKUP(B13,#REF!,4,0),0)+_xlfn.IFNA(VLOOKUP(B13,#REF!,4,0),0)+_xlfn.IFNA(VLOOKUP(B13,#REF!,4,0),0)+_xlfn.IFNA(VLOOKUP(B13,#REF!,4,0),0)+_xlfn.IFNA(VLOOKUP(B13,#REF!,4,0),0)+_xlfn.IFNA(VLOOKUP(B13,#REF!,4,0),0)+_xlfn.IFNA(VLOOKUP(B13,#REF!,4,0),0)+_xlfn.IFNA(VLOOKUP(B13,#REF!,4,0),0) -> #REF! | F13: ='201.3'!N50 -> #REF! | G13: =ROUND(E13*F13,0) -> #REF!
A14: 8 | B14: =#REF! -> #REF! | C14: =#REF! -> #REF! | D14: =#REF! -> #REF! | E14: =_xlfn.IFNA(VLOOKUP(B14,#REF!,4,0),0)+_xlfn.IFNA(VLOOKUP(B14,#REF!,4,0),0)+_xlfn.IFNA(VLOOKUP(B14,#REF!,4,0),0)+_xlfn.IFNA(VLOOKUP(B14,#REF!,4,0),0)+_xlfn.IFNA(VLOOKUP(B14,#REF!,4,0),0)+_xlfn.IFNA(VLOOKUP(B14,#REF!,4,0),0)+_xlfn.IFNA(VLOOKUP(B14,#REF!,4,0),0)+_xlfn.IFNA(VLOOKUP(B14,#REF!,4,0),0)+_xlfn.IFNA(VLOOKUP(B14,#REF!,4,0),0)+_xlfn.IFNA(VLOOKUP(B14,#REF!,4,0),0)+_xlfn.IFNA(VLOOKUP(B14,#REF!,4,0),0)+_xlfn.IFNA(VLOOKUP(B14,#REF!,4,0),0)+_xlfn.IFNA(VLOOKUP(B14,#REF!,4,0),0)+_xlfn.IFNA(VLOOKUP(B14,#REF!,4,0),0)+_xlfn.IFNA(VLOOKUP(B14,#REF!,4,0),0)+_xlfn.IFNA(VLOOKUP(B14,#REF!,4,0),0)+_xlfn.IFNA(VLOOKUP(B14,#REF!,4,0),0)+_xlfn.IFNA(VLOOKUP(B14,#REF!,4,0),0)+_xlfn.IFNA(VLOOKUP(B14,#REF!,4,0),0)+_xlfn.IFNA(VLOOKUP(B14,#REF!,4,0),0)+_xlfn.IFNA(VLOOKUP(B14,#REF!,4,0),0)+_xlfn.IFNA(VLOOKUP(B14,#REF!,4,0),0)+_xlfn.IFNA(VLOOKUP(B14,#REF!,4,0),0)+_xlfn.IFNA(VLOOKUP(B14,#REF!,4,0),0)+_xlfn.IFNA(VLOOKUP(B14,#REF!,4,0),0) -> #REF! | F14: =#REF! -> #REF! | G14: =ROUND(E14*F14,0) -> #REF!
B15: =#REF! -> #REF! | C15: SUBTOTAL PRELIMINARES Y EXPLANACIONES | D15: =#REF! -> #REF! | E15: =_xlfn.IFNA(VLOOKUP(B15,#REF!,4,0),0)+_xlfn.IFNA(VLOOKUP(B15,#REF!,4,0),0)+_xlfn.IFNA(VLOOKUP(B15,#REF!,4,0),0)+_xlfn.IFNA(VLOOKUP(B15,#REF!,4,0),0)+_xlfn.IFNA(VLOOKUP(B15,#REF!,4,0),0)+_xlfn.IFNA(VLOOKUP(B15,#REF!,4,0),0)+_xlfn.IFNA(VLOOKUP(B15,#REF!,4,0),0)+_xlfn.IFNA(VLOOKUP(B15,#REF!,4,0),0)+_xlfn.IFNA(VLOOKUP(B15,#REF!,4,0),0)+_xlfn.IFNA(VLOOKUP(B15,#REF!,4,0),0)+_xlfn.IFNA(VLOOKUP(B15,#REF!,4,0),0)+_xlfn.IFNA(VLOOKUP(B15,#REF!,4,0),0)+_xlfn.IFNA(VLOOKUP(B15,#REF!,4,0),0)+_xlfn.IFNA(VLOOKUP(B15,#REF!,4,0),0)+_xlfn.IFNA(VLOOKUP(B15,#REF!,4,0),0)+_xlfn.IFNA(VLOOKUP(B15,#REF!,4,0),0)+_xlfn.IFNA(VLOOKUP(B15,#REF!,4,0),0)+_xlfn.IFNA(VLOOKUP(B15,#REF!,4,0),0)+_xlfn.IFNA(VLOOKUP(B15,#REF!,4,0),0)+_xlfn.IFNA(VLOOKUP(B15,#REF!,4,0),0)+_xlfn.IFNA(VLOOKUP(B15,#REF!,4,0),0)+_xlfn.IFNA(VLOOKUP(B15,#REF!,4,0),0)+_xlfn.IFNA(VLOOKUP(B15,#REF!,4,0),0)+_xlfn.IFNA(VLOOKUP(B15,#REF!,4,0),0)+_xlfn.IFNA(VLOOKUP(B15,#REF!,4,0),0) -> #REF! | G15: =SUM(G7:G14) -> #REF!
B16: =#REF! -> #REF! | C16: EXCAVACIONES | D16: =#REF! -> #REF! | E16: =_xlfn.IFNA(VLOOKUP(B16,#REF!,4,0),0)+_xlfn.IFNA(VLOOKUP(B16,#REF!,4,0),0)+_xlfn.IFNA(VLOOKUP(B16,#REF!,4,0),0)+_xlfn.IFNA(VLOOKUP(B16,#REF!,4,0),0)+_xlfn.IFNA(VLOOKUP(B16,#REF!,4,0),0)+_xlfn.IFNA(VLOOKUP(B16,#REF!,4,0),0)+_xlfn.IFNA(VLOOKUP(B16,#REF!,4,0),0)+_xlfn.IFNA(VLOOKUP(B16,#REF!,4,0),0)+_xlfn.IFNA(VLOOKUP(B16,#REF!,4,0),0)+_xlfn.IFNA(VLOOKUP(B16,#REF!,4,0),0)+_xlfn.IFNA(VLOOKUP(B16,#REF!,4,0),0)+_xlfn.IFNA(VLOOKUP(B16,#REF!,4,0),0)+_xlfn.IFNA(VLOOKUP(B16,#REF!,4,0),0)+_xlfn.IFNA(VLOOKUP(B16,#REF!,4,0),0)+_xlfn.IFNA(VLOOKUP(B16,#REF!,4,0),0)+_xlfn.IFNA(VLOOKUP(B16,#REF!,4,0),0)+_xlfn.IFNA(VLOOKUP(B16,#REF!,4,0),0)+_xlfn.IFNA(VLOOKUP(B16,#REF!,4,0),0)+_xlfn.IFNA(VLOOKUP(B16,#REF!,4,0),0)+_xlfn.IFNA(VLOOKUP(B16,#REF!,4,0),0)+_xlfn.IFNA(VLOOKUP(B16,#REF!,4,0),0)+_xlfn.IFNA(VLOOKUP(B16,#REF!,4,0),0)+_xlfn.IFNA(VLOOKUP(B16,#REF!,4,0),0)+_xlfn.IFNA(VLOOKUP(B16,#REF!,4,0),0)+_xlfn.IFNA(VLOOKUP(B16,#REF!,4,0),0) -> #REF!
A17: 9 | B17: =#REF! -> #REF! | C17: =#REF! -> #REF! | D17: =#REF! -> #REF! | E17: =_xlfn.IFNA(VLOOKUP(B17,#REF!,4,0),0)+_xlfn.IFNA(VLOOKUP(B17,#REF!,4,0),0)+_xlfn.IFNA(VLOOKUP(B17,#REF!,4,0),0)+_xlfn.IFNA(VLOOKUP(B17,#REF!,4,0),0)+_xlfn.IFNA(VLOOKUP(B17,#REF!,4,0),0)+_xlfn.IFNA(VLOOKUP(B17,#REF!,4,0),0)+_xlfn.IFNA(VLOOKUP(B17,#REF!,4,0),0)+_xlfn.IFNA(VLOOKUP(B17,#REF!,4,0),0)+_xlfn.IFNA(VLOOKUP(B17,#REF!,4,0),0)+_xlfn.IFNA(VLOOKUP(B17,#REF!,4,0),0)+_xlfn.IFNA(VLOOKUP(B17,#REF!,4,0),0)+_xlfn.IFNA(VLOOKUP(B17,#REF!,4,0),0)+_xlfn.IFNA(VLOOKUP(B17,#REF!,4,0),0)+_xlfn.IFNA(VLOOKUP(B17,#REF!,4,0),0)+_xlfn.IFNA(VLOOKUP(B17,#REF!,4,0),0)+_xlfn.IFNA(VLOOKUP(B17,#REF!,4,0),0)+_xlfn.IFNA(VLOOKUP(B17,#REF!,4,0),0)+_xlfn.IFNA(VLOOKUP(B17,#REF!,4,0),0)+_xlfn.IFNA(VLOOKUP(B17,#REF!,4,0),0)+_xlfn.IFNA(VLOOKUP(B17,#REF!,4,0),0)+_xlfn.IFNA(VLOOKUP(B17,#REF!,4,0),0)+_xlfn.IFNA(VLOOKUP(B17,#REF!,4,0),0)+_xlfn.IFNA(VLOOKUP(B17,#REF!,4,0),0)+_xlfn.IFNA(VLOOKUP(B17,#REF!,4,0),0)+_xlfn.IFNA(VLOOKUP(B17,#REF!,4,0),0) -> #REF! | F17: =+#REF! -> #REF! | G17: =ROUND(E17*F17,0) -> #REF!
A18: 10 | B18: =#REF! -> #REF! | C18: =#REF! -> #REF! | D18: =#REF! -> #REF! | E18: =_xlfn.IFNA(VLOOKUP(B18,#REF!,4,0),0)+_xlfn.IFNA(VLOOKUP(B18,#REF!,4,0),0)+_xlfn.IFNA(VLOOKUP(B18,#REF!,4,0),0)+_xlfn.IFNA(VLOOKUP(B18,#REF!,4,0),0)+_xlfn.IFNA(VLOOKUP(B18,#REF!,4,0),0)+_xlfn.IFNA(VLOOKUP(B18,#REF!,4,0),0)+_xlfn.IFNA(VLOOKUP(B18,#REF!,4,0),0)+_xlfn.IFNA(VLOOKUP(B18,#REF!,4,0),0)+_xlfn.IFNA(VLOOKUP(B18,#REF!,4,0),0)+_xlfn.IFNA(VLOOKUP(B18,#REF!,4,0),0)+_xlfn.IFNA(VLOOKUP(B18,#REF!,4,0),0)+_xlfn.IFNA(VLOOKUP(B18,#REF!,4,0),0)+_xlfn.IFNA(VLOOKUP(B18,#REF!,4,0),0)+_xlfn.IFNA(VLOOKUP(B18,#REF!,4,0),0)+_xlfn.IFNA(VLOOKUP(B18,#REF!,4,0),0)+_xlfn.IFNA(VLOOKUP(B18,#REF!,4,0),0)+_xlfn.IFNA(VLOOKUP(B18,#REF!,4,0),0)+_xlfn.IFNA(VLOOKUP(B18,#REF!,4,0),0)+_xlfn.IFNA(VLOOKUP(B18,#REF!,4,0),0)+_xlfn.IFNA(VLOOKUP(B18,#REF!,4,0),0)+_xlfn.IFNA(VLOOKUP(B18,#REF!,4,0),0)+_xlfn.IFNA(VLOOKUP(B18,#REF!,4,0),0)+_xlfn.IFNA(VLOOKUP(B18,#REF!,4,0),0)+_xlfn.IFNA(VLOOKUP(B18,#REF!,4,0),0)+_xlfn.IFNA(VLOOKUP(B18,#REF!,4,0),0) -> #REF! | F18: =#REF! -> #REF! | G18: =ROUND(E18*F18,0) -> #REF!
A19: 11 | B19: =#REF! -> #REF! | C19: =#REF! -> #REF! | D19: =#REF! -> #REF! | E19: =_xlfn.IFNA(VLOOKUP(B19,#REF!,4,0),0)+_xlfn.IFNA(VLOOKUP(B19,#REF!,4,0),0)+_xlfn.IFNA(VLOOKUP(B19,#REF!,4,0),0)+_xlfn.IFNA(VLOOKUP(B19,#REF!,4,0),0)+_xlfn.IFNA(VLOOKUP(B19,#REF!,4,0),0)+_xlfn.IFNA(VLOOKUP(B19,#REF!,4,0),0)+_xlfn.IFNA(VLOOKUP(B19,#REF!,4,0),0)+_xlfn.IFNA(VLOOKUP(B19,#REF!,4,0),0)+_xlfn.IFNA(VLOOKUP(B19,#REF!,4,0),0)+_xlfn.IFNA(VLOOKUP(B19,#REF!,4,0),0)+_xlfn.IFNA(VLOOKUP(B19,#REF!,4,0),0)+_xlfn.IFNA(VLOOKUP(B19,#REF!,4,0),0)+_xlfn.IFNA(VLOOKUP(B19,#REF!,4,0),0)+_xlfn.IFNA(VLOOKUP(B19,#REF!,4,0),0)+_xlfn.IFNA(VLOOKUP(B19,#REF!,4,0),0)+_xlfn.IFNA(VLOOKUP(B19,#REF!,4,0),0)+_xlfn.IFNA(VLOOKUP(B19,#REF!,4,0),0)+_xlfn.IFNA(VLOOKUP(B19,#REF!,4,0),0)+_xlfn.IFNA(VLOOKUP(B19,#REF!,4,0),0)+_xlfn.IFNA(VLOOKUP(B19,#REF!,4,0),0)+_xlfn.IFNA(VLOOKUP(B19,#REF!,4,0),0)+_xlfn.IFNA(VLOOKUP(B19,#REF!,4,0),0)+_xlfn.IFNA(VLOOKUP(B19,#REF!,4,0),0)+_xlfn.IFNA(VLOOKUP(B19,#REF!,4,0),0)+_xlfn.IFNA(VLOOKUP(B19,#REF!,4,0),0) -> #REF! | F19: =#REF! -> #REF! | G19: =ROUND(E19*F19,0) -> #REF!
B20: =#REF! -> #REF! | C20: =#REF! -> #REF! | D20: =#REF! -> #REF! | E20: =_xlfn.IFNA(VLOOKUP(B20,#REF!,4,0),0)+_xlfn.IFNA(VLOOKUP(B20,#REF!,4,0),0)+_xlfn.IFNA(VLOOKUP(B20,#REF!,4,0),0)+_xlfn.IFNA(VLOOKUP(B20,#REF!,4,0),0)+_xlfn.IFNA(VLOOKUP(B20,#REF!,4,0),0)+_xlfn.IFNA(VLOOKUP(B20,#REF!,4,0),0)+_xlfn.IFNA(VLOOKUP(B20,#REF!,4,0),0)+_xlfn.IFNA(VLOOKUP(B20,#REF!,4,0),0)+_xlfn.IFNA(VLOOKUP(B20,#REF!,4,0),0)+_xlfn.IFNA(VLOOKUP(B20,#REF!,4,0),0)+_xlfn.IFNA(VLOOKUP(B20,#REF!,4,0),0)+_xlfn.IFNA(VLOOKUP(B20,#REF!,4,0),0)+_xlfn.IFNA(VLOOKUP(B20,#REF!,4,0),0)+_xlfn.IFNA(VLOOKUP(B20,#REF!,4,0),0)+_xlfn.IFNA(VLOOKUP(B20,#REF!,4,0),0)+_xlfn.IFNA(VLOOKUP(B20,#REF!,4,0),0)+_xlfn.IFNA(VLOOKUP(B20,#REF!,4,0),0)+_xlfn.IFNA(VLOOKUP(B20,#REF!,4,0),0)+_xlfn.IFNA(VLOOKUP(B20,#REF!,4,0),0)+_xlfn.IFNA(VLOOKUP(B20,#REF!,4,0),0)+_xlfn.IFNA(VLOOKUP(B20,#REF!,4,0),0)+_xlfn.IFNA(VLOOKUP(B20,#REF!,4,0),0)+_xlfn.IFNA(VLOOKUP(B20,#REF!,4,0),0)+_xlfn.IFNA(VLOOKUP(B20,#REF!,4,0),0)+_xlfn.IFNA(VLOOKUP(B20,#REF!,4,0),0) -> #REF! | F20: =#REF! -> #REF! | G20: =ROUND(E20*F20,0) -> #REF!
A21: 12 | B21: =#REF! -> #REF! | C21: =#REF! -> #REF! | D21: =#REF! -> #REF! | E21: =_xlfn.IFNA(VLOOKUP(B21,#REF!,4,0),0)+_xlfn.IFNA(VLOOKUP(B21,#REF!,4,0),0)+_xlfn.IFNA(VLOOKUP(B21,#REF!,4,0),0)+_xlfn.IFNA(VLOOKUP(B21,#REF!,4,0),0)+_xlfn.IFNA(VLOOKUP(B21,#REF!,4,0),0)+_xlfn.IFNA(VLOOKUP(B21,#REF!,4,0),0)+_xlfn.IFNA(VLOOKUP(B21,#REF!,4,0),0)+_xlfn.IFNA(VLOOKUP(B21,#REF!,4,0),0)+_xlfn.IFNA(VLOOKUP(B21,#REF!,4,0),0)+_xlfn.IFNA(VLOOKUP(B21,#REF!,4,0),0)+_xlfn.IFNA(VLOOKUP(B21,#REF!,4,0),0)+_xlfn.IFNA(VLOOKUP(B21,#REF!,4,0),0)+_xlfn.IFNA(VLOOKUP(B21,#REF!,4,0),0)+_xlfn.IFNA(VLOOKUP(B21,#REF!,4,0),0)+_xlfn.IFNA(VLOOKUP(B21,#REF!,4,0),0)+_xlfn.IFNA(VLOOKUP(B21,#REF!,4,0),0)+_xlfn.IFNA(VLOOKUP(B21,#REF!,4,0),0)+_xlfn.IFNA(VLOOKUP(B21,#REF!,4,0),0)+_xlfn.IFNA(VLOOKUP(B21,#REF!,4,0),0)+_xlfn.IFNA(VLOOKUP(B21,#REF!,4,0),0)+_xlfn.IFNA(VLOOKUP(B21,#REF!,4,0),0)+_xlfn.IFNA(VLOOKUP(B21,#REF!,4,0),0)+_xlfn.IFNA(VLOOKUP(B21,#REF!,4,0),0)+_xlfn.IFNA(VLOOKUP(B21,#REF!,4,0),0)+_xlfn.IFNA(VLOOKUP(B21,#REF!,4,0),0) -> #REF! | F21: =+'3P'!N52 -> #REF! | G21: =ROUND(E21*F21,0) -> #REF!
B22: =#REF! -> #REF! | C22: SUBTOTAL EXCAVACIONES | D22: =#REF! -> #REF! | E22: =_xlfn.IFNA(VLOOKUP(B22,#REF!,4,0),0)+_xlfn.IFNA(VLOOKUP(B22,#REF!,4,0),0)+_xlfn.IFNA(VLOOKUP(B22,#REF!,4,0),0)+_xlfn.IFNA(VLOOKUP(B22,#REF!,4,0),0)+_xlfn.IFNA(VLOOKUP(B22,#REF!,4,0),0)+_xlfn.IFNA(VLOOKUP(B22,#REF!,4,0),0)+_xlfn.IFNA(VLOOKUP(B22,#REF!,4,0),0)+_xlfn.IFNA(VLOOKUP(B22,#REF!,4,0),0)+_xlfn.IFNA(VLOOKUP(B22,#REF!,4,0),0)+_xlfn.IFNA(VLOOKUP(B22,#REF!,4,0),0)+_xlfn.IFNA(VLOOKUP(B22,#REF!,4,0),0)+_xlfn.IFNA(VLOOKUP(B22,#REF!,4,0),0)+_xlfn.IFNA(VLOOKUP(B22,#REF!,4,0),0)+_xlfn.IFNA(VLOOKUP(B22,#REF!,4,0),0)+_xlfn.IFNA(VLOOKUP(B22,#REF!,4,0),0)+_xlfn.IFNA(VLOOKUP(B22,#REF!,4,0),0)+_xlfn.IFNA(VLOOKUP(B22,#REF!,4,0),0)+_xlfn.IFNA(VLOOKUP(B22,#REF!,4,0),0)+_xlfn.IFNA(VLOOKUP(B22,#REF!,4,0),0)+_xlfn.IFNA(VLOOKUP(B22,#REF!,4,0),0)+_xlfn.IFNA(VLOOKUP(B22,#REF!,4,0),0)+_xlfn.IFNA(VLOOKUP(B22,#REF!,4,0),0)+_xlfn.IFNA(VLOOKUP(B22,#REF!,4,0),0)+_xlfn.IFNA(VLOOKUP(B22,#REF!,4,0),0)+_xlfn.IFNA(VLOOKUP(B22,#REF!,4,0),0) -> #REF! | G22: =SUM(G17:G21) -> #REF!
B23: =#REF! -> #REF! | C23: =#REF! -> #REF! | D23: =#REF! -> #REF! | E23: =_xlfn.IFNA(VLOOKUP(B23,#REF!,4,0),0)+_xlfn.IFNA(VLOOKUP(B23,#REF!,4,0),0)+_xlfn.IFNA(VLOOKUP(B23,#REF!,4,0),0)+_xlfn.IFNA(VLOOKUP(B23,#REF!,4,0),0)+_xlfn.IFNA(VLOOKUP(B23,#REF!,4,0),0)+_xlfn.IFNA(VLOOKUP(B23,#REF!,4,0),0)+_xlfn.IFNA(VLOOKUP(B23,#REF!,4,0),0)+_xlfn.IFNA(VLOOKUP(B23,#REF!,4,0),0)+_xlfn.IFNA(VLOOKUP(B23,#REF!,4,0),0)+_xlfn.IFNA(VLOOKUP(B23,#REF!,4,0),0)+_xlfn.IFNA(VLOOKUP(B23,#REF!,4,0),0)+_xlfn.IFNA(VLOOKUP(B23,#REF!,4,0),0)+_xlfn.IFNA(VLOOKUP(B23,#REF!,4,0),0)+_xlfn.IFNA(VLOOKUP(B23,#REF!,4,0),0)+_xlfn.IFNA(VLOOKUP(B23,#REF!,4,0),0)+_xlfn.IFNA(VLOOKUP(B23,#REF!,4,0),0)+_xlfn.IFNA(VLOOKUP(B23,#REF!,4,0),0)+_xlfn.IFNA(VLOOKUP(B23,#REF!,4,0),0)+_xlfn.IFNA(VLOOKUP(B23,#REF!,4,0),0)+_xlfn.IFNA(VLOOKUP(B23,#REF!,4,0),0)+_xlfn.IFNA(VLOOKUP(B23,#REF!,4,0),0)+_xlfn.IFNA(VLOOKUP(B23,#REF!,4,0),0)+_xlfn.IFNA(VLOOKUP(B23,#REF!,4,0),0)+_xlfn.IFNA(VLOOKUP(B23,#REF!,4,0),0)+_xlfn.IFNA(VLOOKUP(B23,#REF!,4,0),0) -> #REF!
A24: 13 | B24: =#REF! -> #REF! | C24: =#REF! -> #REF! | D24: =#REF! -> #REF! | E24: =_xlfn.IFNA(VLOOKUP(B24,#REF!,4,0),0)+_xlfn.IFNA(VLOOKUP(B24,#REF!,4,0),0)+_xlfn.IFNA(VLOOKUP(B24,#REF!,4,0),0)+_xlfn.IFNA(VLOOKUP(B24,#REF!,4,0),0)+_xlfn.IFNA(VLOOKUP(B24,#REF!,4,0),0)+_xlfn.IFNA(VLOOKUP(B24,#REF!,4,0),0)+_xlfn.IFNA(VLOOKUP(B24,#REF!,4,0),0)+_xlfn.IFNA(VLOOKUP(B24,#REF!,4,0),0)+_xlfn.IFNA(VLOOKUP(B24,#REF!,4,0),0)+_xlfn.IFNA(VLOOKUP(B24,#REF!,4,0),0)+_xlfn.IFNA(VLOOKUP(B24,#REF!,4,0),0)+_xlfn.IFNA(VLOOKUP(B24,#REF!,4,0),0)+_xlfn.IFNA(VLOOKUP(B24,#REF!,4,0),0)+_xlfn.IFNA(VLOOKUP(B24,#REF!,4,0),0)+_xlfn.IFNA(VLOOKUP(B24,#REF!,4,0),0)+_xlfn.IFNA(VLOOKUP(B24,#REF!,4,0),0)+_xlfn.IFNA(VLOOKUP(B24,#REF!,4,0),0)+_xlfn.IFNA(VLOOKUP(B24,#REF!,4,0),0)+_xlfn.IFNA(VLOOKUP(B24,#REF!,4,0),0)+_xlfn.IFNA(VLOOKUP(B24,#REF!,4,0),0)+_xlfn.IFNA(VLOOKUP(B24,#REF!,4,0),0)+_xlfn.IFNA(VLOOKUP(B24,#REF!,4,0),0)+_xlfn.IFNA(VLOOKUP(B24,#REF!,4,0),0)+_xlfn.IFNA(VLOOKUP(B24,#REF!,4,0),0)+_xlfn.IFNA(VLOOKUP(B24,#REF!,4,0),0) -> #REF! | F24: =+#REF! -> #REF! | G24: =ROUND(E24*F24,0) -> #REF!
A25: 14 | B25: =#REF! -> #REF! | C25: =#REF! -> #REF! | D25: =#REF! -> #REF! | E25: =_xlfn.IFNA(VLOOKUP(B25,#REF!,4,0),0)+_xlfn.IFNA(VLOOKUP(B25,#REF!,4,0),0)+_xlfn.IFNA(VLOOKUP(B25,#REF!,4,0),0)+_xlfn.IFNA(VLOOKUP(B25,#REF!,4,0),0)+_xlfn.IFNA(VLOOKUP(B25,#REF!,4,0),0)+_xlfn.IFNA(VLOOKUP(B25,#REF!,4,0),0)+_xlfn.IFNA(VLOOKUP(B25,#REF!,4,0),0)+_xlfn.IFNA(VLOOKUP(B25,#REF!,4,0),0)+_xlfn.IFNA(VLOOKUP(B25,#REF!,4,0),0)+_xlfn.IFNA(VLOOKUP(B25,#REF!,4,0),0)+_xlfn.IFNA(VLOOKUP(B25,#REF!,4,0),0)+_xlfn.IFNA(VLOOKUP(B25,#REF!,4,0),0)+_xlfn.IFNA(VLOOKUP(B25,#REF!,4,0),0)+_xlfn.IFNA(VLOOKUP(B25,#REF!,4,0),0)+_xlfn.IFNA(VLOOKUP(B25,#REF!,4,0),0)+_xlfn.IFNA(VLOOKUP(B25,#REF!,4,0),0)+_xlfn.IFNA(VLOOKUP(B25,#REF!,4,0),0)+_xlfn.IFNA(VLOOKUP(B25,#REF!,4,0),0)+_xlfn.IFNA(VLOOKUP(B25,#REF!,4,0),0)+_xlfn.IFNA(VLOOKUP(B25,#REF!,4,0),0)+_xlfn.IFNA(VLOOKUP(B25,#REF!,4,0),0)+_xlfn.IFNA(VLOOKUP(B25,#REF!,4,0),0)+_xlfn.IFNA(VLOOKUP(B25,#REF!,4,0),0)+_xlfn.IFNA(VLOOKUP(B25,#REF!,4,0),0)+_xlfn.IFNA(VLOOKUP(B25,#REF!,4,0),0) -> #REF! | F25: =+'320.1'!N51 -> #REF! | G25: =ROUND(E25*F25,0) -> #REF!
A26: 15 | B26: =#REF! -> #REF! | C26: =#REF! -> #REF! | D26: =#REF! -> #REF! | E26: =_xlfn.IFNA(VLOOKUP(B26,#REF!,4,0),0)+_xlfn.IFNA(VLOOKUP(B26,#REF!,4,0),0)+_xlfn.IFNA(VLOOKUP(B26,#REF!,4,0),0)+_xlfn.IFNA(VLOOKUP(B26,#REF!,4,0),0)+_xlfn.IFNA(VLOOKUP(B26,#REF!,4,0),0)+_xlfn.IFNA(VLOOKUP(B26,#REF!,4,0),0)+_xlfn.IFNA(VLOOKUP(B26,#REF!,4,0),0)+_xlfn.IFNA(VLOOKUP(B26,#REF!,4,0),0)+_xlfn.IFNA(VLOOKUP(B26,#REF!,4,0),0)+_xlfn.IFNA(VLOOKUP(B26,#REF!,4,0),0)+_xlfn.IFNA(VLOOKUP(B26,#REF!,4,0),0)+_xlfn.IFNA(VLOOKUP(B26,#REF!,4,0),0)+_xlfn.IFNA(VLOOKUP(B26,#REF!,4,0),0)+_xlfn.IFNA(VLOOKUP(B26,#REF!,4,0),0)+_xlfn.IFNA(VLOOKUP(B26,#REF!,4,0),0)+_xlfn.IFNA(VLOOKUP(B26,#REF!,4,0),0)+_xlfn.IFNA(VLOOKUP(B26,#REF!,4,0),0)+_xlfn.IFNA(VLOOKUP(B26,#REF!,4,0),0)+_xlfn.IFNA(VLOOKUP(B26,#REF!,4,0),0)+_xlfn.IFNA(VLOOKUP(B26,#REF!,4,0),0)+_xlfn.IFNA(VLOOKUP(B26,#REF!,4,0),0)+_xlfn.IFNA(VLOOKUP(B26,#REF!,4,0),0)+_xlfn.IFNA(VLOOKUP(B26,#REF!,4,0),0)+_xlfn.IFNA(VLOOKUP(B26,#REF!,4,0),0)+_xlfn.IFNA(VLOOKUP(B26,#REF!,4,0),0) -> #REF! | F26: =+#REF! -> #REF! | G26: =ROUND(E26*F26,0) -> #REF!
B27: =#REF! -> #REF! | C27: SUBTOTAL BASES, SUBBASES Y AFIRMADOS | D27: =#REF! -> #REF! | E27: =_xlfn.IFNA(VLOOKUP(B27,#REF!,4,0),0)+_xlfn.IFNA(VLOOKUP(B27,#REF!,4,0),0)+_xlfn.IFNA(VLOOKUP(B27,#REF!,4,0),0)+_xlfn.IFNA(VLOOKUP(B27,#REF!,4,0),0)+_xlfn.IFNA(VLOOKUP(B27,#REF!,4,0),0)+_xlfn.IFNA(VLOOKUP(B27,#REF!,4,0),0)+_xlfn.IFNA(VLOOKUP(B27,#REF!,4,0),0)+_xlfn.IFNA(VLOOKUP(B27,#REF!,4,0),0)+_xlfn.IFNA(VLOOKUP(B27,#REF!,4,0),0)+_xlfn.IFNA(VLOOKUP(B27,#REF!,4,0),0)+_xlfn.IFNA(VLOOKUP(B27,#REF!,4,0),0)+_xlfn.IFNA(VLOOKUP(B27,#REF!,4,0),0)+_xlfn.IFNA(VLOOKUP(B27,#REF!,4,0),0)+_xlfn.IFNA(VLOOKUP(B27,#REF!,4,0),0)+_xlfn.IFNA(VLOOKUP(B27,#REF!,4,0),0)+_xlfn.IFNA(VLOOKUP(B27,#REF!,4,0),0)+_xlfn.IFNA(VLOOKUP(B27,#REF!,4,0),0)+_xlfn.IFNA(VLOOKUP(B27,#REF!,4,0),0)+_xlfn.IFNA(VLOOKUP(B27,#REF!,4,0),0)+_xlfn.IFNA(VLOOKUP(B27,#REF!,4,0),0)+_xlfn.IFNA(VLOOKUP(B27,#REF!,4,0),0)+_xlfn.IFNA(VLOOKUP(B27,#REF!,4,0),0)+_xlfn.IFNA(VLOOKUP(B27,#REF!,4,0),0)+_xlfn.IFNA(VLOOKUP(B27,#REF!,4,0),0)+_xlfn.IFNA(VLOOKUP(B27,#REF!,4,0),0) -> #REF! | G27: =SUM(G24:G26) -> #REF!
B28: =#REF! -> #REF! | C28: PAVIMENTOS HIDRAULICOS | D28: =#REF! -> #REF! | E28: =_xlfn.IFNA(VLOOKUP(B28,#REF!,4,0),0)+_xlfn.IFNA(VLOOKUP(B28,#REF!,4,0),0)+_xlfn.IFNA(VLOOKUP(B28,#REF!,4,0),0)+_xlfn.IFNA(VLOOKUP(B28,#REF!,4,0),0)+_xlfn.IFNA(VLOOKUP(B28,#REF!,4,0),0)+_xlfn.IFNA(VLOOKUP(B28,#REF!,4,0),0)+_xlfn.IFNA(VLOOKUP(B28,#REF!,4,0),0)+_xlfn.IFNA(VLOOKUP(B28,#REF!,4,0),0)+_xlfn.IFNA(VLOOKUP(B28,#REF!,4,0),0)+_xlfn.IFNA(VLOOKUP(B28,#REF!,4,0),0)+_xlfn.IFNA(VLOOKUP(B28,#REF!,4,0),0)+_xlfn.IFNA(VLOOKUP(B28,#REF!,4,0),0)+_xlfn.IFNA(VLOOKUP(B28,#REF!,4,0),0)+_xlfn.IFNA(VLOOKUP(B28,#REF!,4,0),0)+_xlfn.IFNA(VLOOKUP(B28,#REF!,4,0),0)+_xlfn.IFNA(VLOOKUP(B28,#REF!,4,0),0)+_xlfn.IFNA(VLOOKUP(B28,#REF!,4,0),0)+_xlfn.IFNA(VLOOKUP(B28,#REF!,4,0),0)+_xlfn.IFNA(VLOOKUP(B28,#REF!,4,0),0)+_xlfn.IFNA(VLOOKUP(B28,#REF!,4,0),0)+_xlfn.IFNA(VLOOKUP(B28,#REF!,4,0),0)+_xlfn.IFNA(VLOOKUP(B28,#REF!,4,0),0)+_xlfn.IFNA(VLOOKUP(B28,#REF!,4,0),0)+_xlfn.IFNA(VLOOKUP(B28,#REF!,4,0),0)+_xlfn.IFNA(VLOOKUP(B28,#REF!,4,0),0) -> #REF!
A29: 16 | B29: =#REF! -> #REF! | C29: =#REF! -> #REF! | D29: =#REF! -> #REF! | E29: =_xlfn.IFNA(VLOOKUP(B29,#REF!,4,0),0)+_xlfn.IFNA(VLOOKUP(B29,#REF!,4,0),0)+_xlfn.IFNA(VLOOKUP(B29,#REF!,4,0),0)+_xlfn.IFNA(VLOOKUP(B29,#REF!,4,0),0)+_xlfn.IFNA(VLOOKUP(B29,#REF!,4,0),0)+_xlfn.IFNA(VLOOKUP(B29,#REF!,4,0),0)+_xlfn.IFNA(VLOOKUP(B29,#REF!,4,0),0)+_xlfn.IFNA(VLOOKUP(B29,#REF!,4,0),0)+_xlfn.IFNA(VLOOKUP(B29,#REF!,4,0),0)+_xlfn.IFNA(VLOOKUP(B29,#REF!,4,0),0)+_xlfn.IFNA(VLOOKUP(B29,#REF!,4,0),0)+_xlfn.IFNA(VLOOKUP(B29,#REF!,4,0),0)+_xlfn.IFNA(VLOOKUP(B29,#REF!,4,0),0)+_xlfn.IFNA(VLOOKUP(B29,#REF!,4,0),0)+_xlfn.IFNA(VLOOKUP(B29,#REF!,4,0),0)+_xlfn.IFNA(VLOOKUP(B29,#REF!,4,0),0)+_xlfn.IFNA(VLOOKUP(B29,#REF!,4,0),0)+_xlfn.IFNA(VLOOKUP(B29,#REF!,4,0),0)+_xlfn.IFNA(VLOOKUP(B29,#REF!,4,0),0)+_xlfn.IFNA(VLOOKUP(B29,#REF!,4,0),0)+_xlfn.IFNA(VLOOKUP(B29,#REF!,4,0),0)+_xlfn.IFNA(VLOOKUP(B29,#REF!,4,0),0)+_xlfn.IFNA(VLOOKUP(B29,#REF!,4,0),0)+_xlfn.IFNA(VLOOKUP(B29,#REF!,4,0),0)+_xlfn.IFNA(VLOOKUP(B29,#REF!,4,0),0) -> #REF! | F29: ='500.1.1P'!N56 -> #REF! | G29: =ROUND(E29*F29,0) -> #REF!
A30: 17 | B30: =#REF! -> #REF! | C30: =#REF! -> #REF! | D30: =#REF! -> #REF! | E30: =_xlfn.IFNA(VLOOKUP(B30,#REF!,4,0),0)+_xlfn.IFNA(VLOOKUP(B30,#REF!,4,0),0)+_xlfn.IFNA(VLOOKUP(B30,#REF!,4,0),0)+_xlfn.IFNA(VLOOKUP(B30,#REF!,4,0),0)+_xlfn.IFNA(VLOOKUP(B30,#REF!,4,0),0)+_xlfn.IFNA(VLOOKUP(B30,#REF!,4,0),0)+_xlfn.IFNA(VLOOKUP(B30,#REF!,4,0),0)+_xlfn.IFNA(VLOOKUP(B30,#REF!,4,0),0)+_xlfn.IFNA(VLOOKUP(B30,#REF!,4,0),0)+_xlfn.IFNA(VLOOKUP(B30,#REF!,4,0),0)+_xlfn.IFNA(VLOOKUP(B30,#REF!,4,0),0)+_xlfn.IFNA(VLOOKUP(B30,#REF!,4,0),0)+_xlfn.IFNA(VLOOKUP(B30,#REF!,4,0),0)+_xlfn.IFNA(VLOOKUP(B30,#REF!,4,0),0)+_xlfn.IFNA(VLOOKUP(B30,#REF!,4,0),0)+_xlfn.IFNA(VLOOKUP(B30,#REF!,4,0),0)+_xlfn.IFNA(VLOOKUP(B30,#REF!,4,0),0)+_xlfn.IFNA(VLOOKUP(B30,#REF!,4,0),0)+_xlfn.IFNA(VLOOKUP(B30,#REF!,4,0),0)+_xlfn.IFNA(VLOOKUP(B30,#REF!,4,0),0)+_xlfn.IFNA(VLOOKUP(B30,#REF!,4,0),0)+_xlfn.IFNA(VLOOKUP(B30,#REF!,4,0),0)+_xlfn.IFNA(VLOOKUP(B30,#REF!,4,0),0)+_xlfn.IFNA(VLOOKUP(B30,#REF!,4,0),0)+_xlfn.IFNA(VLOOKUP(B30,#REF!,4,0),0) -> #REF! | F30: =#REF! -> #REF! | G30: =ROUND(E30*F30,0) -> #REF!
A31: 19 | B31: =#REF! -> #REF! | C31: =#REF! -> #REF! | D31: =#REF! -> #REF! | E31: =_xlfn.IFNA(VLOOKUP(B31,#REF!,4,0),0)+_xlfn.IFNA(VLOOKUP(B31,#REF!,4,0),0)+_xlfn.IFNA(VLOOKUP(B31,#REF!,4,0),0)+_xlfn.IFNA(VLOOKUP(B31,#REF!,4,0),0)+_xlfn.IFNA(VLOOKUP(B31,#REF!,4,0),0)+_xlfn.IFNA(VLOOKUP(B31,#REF!,4,0),0)+_xlfn.IFNA(VLOOKUP(B31,#REF!,4,0),0)+_xlfn.IFNA(VLOOKUP(B31,#REF!,4,0),0)+_xlfn.IFNA(VLOOKUP(B31,#REF!,4,0),0)+_xlfn.IFNA(VLOOKUP(B31,#REF!,4,0),0)+_xlfn.IFNA(VLOOKUP(B31,#REF!,4,0),0)+_xlfn.IFNA(VLOOKUP(B31,#REF!,4,0),0)+_xlfn.IFNA(VLOOKUP(B31,#REF!,4,0),0)+_xlfn.IFNA(VLOOKUP(B31,#REF!,4,0),0)+_xlfn.IFNA(VLOOKUP(B31,#REF!,4,0),0)+_xlfn.IFNA(VLOOKUP(B31,#REF!,4,0),0)+_xlfn.IFNA(VLOOKUP(B31,#REF!,4,0),0)+_xlfn.IFNA(VLOOKUP(B31,#REF!,4,0),0)+_xlfn.IFNA(VLOOKUP(B31,#REF!,4,0),0)+_xlfn.IFNA(VLOOKUP(B31,#REF!,4,0),0)+_xlfn.IFNA(VLOOKUP(B31,#REF!,4,0),0)+_xlfn.IFNA(VLOOKUP(B31,#REF!,4,0),0)+_xlfn.IFNA(VLOOKUP(B31,#REF!,4,0),0)+_xlfn.IFNA(VLOOKUP(B31,#REF!,4,0),0)+_xlfn.IFNA(VLOOKUP(B31,#REF!,4,0),0) -> #REF! | F31: =#REF! -> #REF! | G31: =ROUND(E31*F31,0) -> #REF!
A32: 20 | B32: =#REF! -> #REF! | C32: =#REF! -> #REF! | D32: =#REF! -> #REF! | E32: =_xlfn.IFNA(VLOOKUP(B32,#REF!,4,0),0)+_xlfn.IFNA(VLOOKUP(B32,#REF!,4,0),0)+_xlfn.IFNA(VLOOKUP(B32,#REF!,4,0),0)+_xlfn.IFNA(VLOOKUP(B32,#REF!,4,0),0)+_xlfn.IFNA(VLOOKUP(B32,#REF!,4,0),0)+_xlfn.IFNA(VLOOKUP(B32,#REF!,4,0),0)+_xlfn.IFNA(VLOOKUP(B32,#REF!,4,0),0)+_xlfn.IFNA(VLOOKUP(B32,#REF!,4,0),0)+_xlfn.IFNA(VLOOKUP(B32,#REF!,4,0),0)+_xlfn.IFNA(VLOOKUP(B32,#REF!,4,0),0)+_xlfn.IFNA(VLOOKUP(B32,#REF!,4,0),0)+_xlfn.IFNA(VLOOKUP(B32,#REF!,4,0),0)+_xlfn.IFNA(VLOOKUP(B32,#REF!,4,0),0)+_xlfn.IFNA(VLOOKUP(B32,#REF!,4,0),0)+_xlfn.IFNA(VLOOKUP(B32,#REF!,4,0),0)+_xlfn.IFNA(VLOOKUP(B32,#REF!,4,0),0)+_xlfn.IFNA(VLOOKUP(B32,#REF!,4,0),0)+_xlfn.IFNA(VLOOKUP(B32,#REF!,4,0),0)+_xlfn.IFNA(VLOOKUP(B32,#REF!,4,0),0)+_xlfn.IFNA(VLOOKUP(B32,#REF!,4,0),0)+_xlfn.IFNA(VLOOKUP(B32,#REF!,4,0),0)+_xlfn.IFNA(VLOOKUP(B32,#REF!,4,0),0)+_xlfn.IFNA(VLOOKUP(B32,#REF!,4,0),0)+_xlfn.IFNA(VLOOKUP(B32,#REF!,4,0),0)+_xlfn.IFNA(VLOOKUP(B32,#REF!,4,0),0) -> #REF! | F32: =#REF! -> #REF! | G32: =ROUND(E32*F32,0) -> #REF!
B33: =#REF! -> #REF! | C33: SUBTOTAL PAVIMENTOS HIDRAULICOS | D33: =#REF! -> #REF! | E33: =_xlfn.IFNA(VLOOKUP(B33,#REF!,4,0),0)+_xlfn.IFNA(VLOOKUP(B33,#REF!,4,0),0)+_xlfn.IFNA(VLOOKUP(B33,#REF!,4,0),0)+_xlfn.IFNA(VLOOKUP(B33,#REF!,4,0),0)+_xlfn.IFNA(VLOOKUP(B33,#REF!,4,0),0)+_xlfn.IFNA(VLOOKUP(B33,#REF!,4,0),0)+_xlfn.IFNA(VLOOKUP(B33,#REF!,4,0),0)+_xlfn.IFNA(VLOOKUP(B33,#REF!,4,0),0)+_xlfn.IFNA(VLOOKUP(B33,#REF!,4,0),0)+_xlfn.IFNA(VLOOKUP(B33,#REF!,4,0),0)+_xlfn.IFNA(VLOOKUP(B33,#REF!,4,0),0)+_xlfn.IFNA(VLOOKUP(B33,#REF!,4,0),0)+_xlfn.IFNA(VLOOKUP(B33,#REF!,4,0),0)+_xlfn.IFNA(VLOOKUP(B33,#REF!,4,0),0)+_xlfn.IFNA(VLOOKUP(B33,#REF!,4,0),0)+_xlfn.IFNA(VLOOKUP(B33,#REF!,4,0),0)+_xlfn.IFNA(VLOOKUP(B33,#REF!,4,0),0)+_xlfn.IFNA(VLOOKUP(B33,#REF!,4,0),0)+_xlfn.IFNA(VLOOKUP(B33,#REF!,4,0),0)+_xlfn.IFNA(VLOOKUP(B33,#REF!,4,0),0)+_xlfn.IFNA(VLOOKUP(B33,#REF!,4,0),0)+_xlfn.IFNA(VLOOKUP(B33,#REF!,4,0),0)+_xlfn.IFNA(VLOOKUP(B33,#REF!,4,0),0)+_xlfn.IFNA(VLOOKUP(B33,#REF!,4,0),0)+_xlfn.IFNA(VLOOKUP(B33,#REF!,4,0),0) -> #REF! | G33: =SUM(G29:G32) -> #REF!
B34: =#REF! -> #REF! | C34: CONCRETOS | D34: =#REF! -> #REF! | E34: =_xlfn.IFNA(VLOOKUP(B34,#REF!,4,0),0)+_xlfn.IFNA(VLOOKUP(B34,#REF!,4,0),0)+_xlfn.IFNA(VLOOKUP(B34,#REF!,4,0),0)+_xlfn.IFNA(VLOOKUP(B34,#REF!,4,0),0)+_xlfn.IFNA(VLOOKUP(B34,#REF!,4,0),0)+_xlfn.IFNA(VLOOKUP(B34,#REF!,4,0),0)+_xlfn.IFNA(VLOOKUP(B34,#REF!,4,0),0)+_xlfn.IFNA(VLOOKUP(B34,#REF!,4,0),0)+_xlfn.IFNA(VLOOKUP(B34,#REF!,4,0),0)+_xlfn.IFNA(VLOOKUP(B34,#REF!,4,0),0)+_xlfn.IFNA(VLOOKUP(B34,#REF!,4,0),0)+_xlfn.IFNA(VLOOKUP(B34,#REF!,4,0),0)+_xlfn.IFNA(VLOOKUP(B34,#REF!,4,0),0)+_xlfn.IFNA(VLOOKUP(B34,#REF!,4,0),0)+_xlfn.IFNA(VLOOKUP(B34,#REF!,4,0),0)+_xlfn.IFNA(VLOOKUP(B34,#REF!,4,0),0)+_xlfn.IFNA(VLOOKUP(B34,#REF!,4,0),0)+_xlfn.IFNA(VLOOKUP(B34,#REF!,4,0),0)+_xlfn.IFNA(VLOOKUP(B34,#REF!,4,0),0)+_xlfn.IFNA(VLOOKUP(B34,#REF!,4,0),0)+_xlfn.IFNA(VLOOKUP(B34,#REF!,4,0),0)+_xlfn.IFNA(VLOOKUP(B34,#REF!,4,0),0)+_xlfn.IFNA(VLOOKUP(B34,#REF!,4,0),0)+_xlfn.IFNA(VLOOKUP(B34,#REF!,4,0),0)+_xlfn.IFNA(VLOOKUP(B34,#REF!,4,0),0) -> #REF!
A35: 21 | B35: =#REF! -> #REF! | C35: =#REF! -> #REF! | D35: =#REF! -> #REF! | E35: =_xlfn.IFNA(VLOOKUP(B35,#REF!,4,0),0)+_xlfn.IFNA(VLOOKUP(B35,#REF!,4,0),0)+_xlfn.IFNA(VLOOKUP(B35,#REF!,4,0),0)+_xlfn.IFNA(VLOOKUP(B35,#REF!,4,0),0)+_xlfn.IFNA(VLOOKUP(B35,#REF!,4,0),0)+_xlfn.IFNA(VLOOKUP(B35,#REF!,4,0),0)+_xlfn.IFNA(VLOOKUP(B35,#REF!,4,0),0)+_xlfn.IFNA(VLOOKUP(B35,#REF!,4,0),0)+_xlfn.IFNA(VLOOKUP(B35,#REF!,4,0),0)+_xlfn.IFNA(VLOOKUP(B35,#REF!,4,0),0)+_xlfn.IFNA(VLOOKUP(B35,#REF!,4,0),0)+_xlfn.IFNA(VLOOKUP(B35,#REF!,4,0),0)+_xlfn.IFNA(VLOOKUP(B35,#REF!,4,0),0)+_xlfn.IFNA(VLOOKUP(B35,#REF!,4,0),0)+_xlfn.IFNA(VLOOKUP(B35,#REF!,4,0),0)+_xlfn.IFNA(VLOOKUP(B35,#REF!,4,0),0)+_xlfn.IFNA(VLOOKUP(B35,#REF!,4,0),0)+_xlfn.IFNA(VLOOKUP(B35,#REF!,4,0),0)+_xlfn.IFNA(VLOOKUP(B35,#REF!,4,0),0)+_xlfn.IFNA(VLOOKUP(B35,#REF!,4,0),0)+_xlfn.IFNA(VLOOKUP(B35,#REF!,4,0),0)+_xlfn.IFNA(VLOOKUP(B35,#REF!,4,0),0)+_xlfn.IFNA(VLOOKUP(B35,#REF!,4,0),0)+_xlfn.IFNA(VLOOKUP(B35,#REF!,4,0),0)+_xlfn.IFNA(VLOOKUP(B35,#REF!,4,0),0) -> #REF! | F35: =#REF! -> #REF! | G35: =ROUND(E35*F35,0) -> #REF!
A36: 22 | B36: =#REF! -> #REF! | C36: =#REF! -> #REF! | D36: =#REF! -> #REF! | E36: =_xlfn.IFNA(VLOOKUP(B36,#REF!,4,0),0)+_xlfn.IFNA(VLOOKUP(B36,#REF!,4,0),0)+_xlfn.IFNA(VLOOKUP(B36,#REF!,4,0),0)+_xlfn.IFNA(VLOOKUP(B36,#REF!,4,0),0)+_xlfn.IFNA(VLOOKUP(B36,#REF!,4,0),0)+_xlfn.IFNA(VLOOKUP(B36,#REF!,4,0),0)+_xlfn.IFNA(VLOOKUP(B36,#REF!,4,0),0)+_xlfn.IFNA(VLOOKUP(B36,#REF!,4,0),0)+_xlfn.IFNA(VLOOKUP(B36,#REF!,4,0),0)+_xlfn.IFNA(VLOOKUP(B36,#REF!,4,0),0)+_xlfn.IFNA(VLOOKUP(B36,#REF!,4,0),0)+_xlfn.IFNA(VLOOKUP(B36,#REF!,4,0),0)+_xlfn.IFNA(VLOOKUP(B36,#REF!,4,0),0)+_xlfn.IFNA(VLOOKUP(B36,#REF!,4,0),0)+_xlfn.IFNA(VLOOKUP(B36,#REF!,4,0),0)+_xlfn.IFNA(VLOOKUP(B36,#REF!,4,0),0)+_xlfn.IFNA(VLOOKUP(B36,#REF!,4,0),0)+_xlfn.IFNA(VLOOKUP(B36,#REF!,4,0),0)+_xlfn.IFNA(VLOOKUP(B36,#REF!,4,0),0)+_xlfn.IFNA(VLOOKUP(B36,#REF!,4,0),0)+_xlfn.IFNA(VLOOKUP(B36,#REF!,4,0),0)+_xlfn.IFNA(VLOOKUP(B36,#REF!,4,0),0)+_xlfn.IFNA(VLOOKUP(B36,#REF!,4,0),0)+_xlfn.IFNA(VLOOKUP(B36,#REF!,4,0),0)+_xlfn.IFNA(VLOOKUP(B36,#REF!,4,0),0) -> #REF! | F36: =#REF! -> #REF! | G36: =ROUND(E36*F36,0) -> #REF!
A37: 23 | B37: =#REF! -> #REF! | C37: =#REF! -> #REF! | D37: =#REF! -> #REF! | E37: =_xlfn.IFNA(VLOOKUP(B37,#REF!,4,0),0)+_xlfn.IFNA(VLOOKUP(B37,#REF!,4,0),0)+_xlfn.IFNA(VLOOKUP(B37,#REF!,4,0),0)+_xlfn.IFNA(VLOOKUP(B37,#REF!,4,0),0)+_xlfn.IFNA(VLOOKUP(B37,#REF!,4,0),0)+_xlfn.IFNA(VLOOKUP(B37,#REF!,4,0),0)+_xlfn.IFNA(VLOOKUP(B37,#REF!,4,0),0)+_xlfn.IFNA(VLOOKUP(B37,#REF!,4,0),0)+_xlfn.IFNA(VLOOKUP(B37,#REF!,4,0),0)+_xlfn.IFNA(VLOOKUP(B37,#REF!,4,0),0)+_xlfn.IFNA(VLOOKUP(B37,#REF!,4,0),0)+_xlfn.IFNA(VLOOKUP(B37,#REF!,4,0),0)+_xlfn.IFNA(VLOOKUP(B37,#REF!,4,0),0)+_xlfn.IFNA(VLOOKUP(B37,#REF!,4,0),0)+_xlfn.IFNA(VLOOKUP(B37,#REF!,4,0),0)+_xlfn.IFNA(VLOOKUP(B37,#REF!,4,0),0)+_xlfn.IFNA(VLOOKUP(B37,#REF!,4,0),0)+_xlfn.IFNA(VLOOKUP(B37,#REF!,4,0),0)+_xlfn.IFNA(VLOOKUP(B37,#REF!,4,0),0)+_xlfn.IFNA(VLOOKUP(B37,#REF!,4,0),0)+_xlfn.IFNA(VLOOKUP(B37,#REF!,4,0),0)+_xlfn.IFNA(VLOOKUP(B37,#REF!,4,0),0)+_xlfn.IFNA(VLOOKUP(B37,#REF!,4,0),0)+_xlfn.IFNA(VLOOKUP(B37,#REF!,4,0),0)+_xlfn.IFNA(VLOOKUP(B37,#REF!,4,0),0) -> #REF! | F37: =#REF! -> #REF! | G37: =ROUND(E37*F37,0) -> #REF!
B38: =#REF! -> #REF! | C38: SUBTOTAL CONCRETOS | D38: =#REF! -> #REF! | E38: =_xlfn.IFNA(VLOOKUP(B38,#REF!,4,0),0)+_xlfn.IFNA(VLOOKUP(B38,#REF!,4,0),0)+_xlfn.IFNA(VLOOKUP(B38,#REF!,4,0),0)+_xlfn.IFNA(VLOOKUP(B38,#REF!,4,0),0)+_xlfn.IFNA(VLOOKUP(B38,#REF!,4,0),0)+_xlfn.IFNA(VLOOKUP(B38,#REF!,4,0),0)+_xlfn.IFNA(VLOOKUP(B38,#REF!,4,0),0)+_xlfn.IFNA(VLOOKUP(B38,#REF!,4,0),0)+_xlfn.IFNA(VLOOKUP(B38,#REF!,4,0),0)+_xlfn.IFNA(VLOOKUP(B38,#REF!,4,0),0)+_xlfn.IFNA(VLOOKUP(B38,#REF!,4,0),0)+_xlfn.IFNA(VLOOKUP(B38,#REF!,4,0),0)+_xlfn.IFNA(VLOOKUP(B38,#REF!,4,0),0)+_xlfn.IFNA(VLOOKUP(B38,#REF!,4,0),0)+_xlfn.IFNA(VLOOKUP(B38,#REF!,4,0),0)+_xlfn.IFNA(VLOOKUP(B38,#REF!,4,0),0)+_xlfn.IFNA(VLOOKUP(B38,#REF!,4,0),0)+_xlfn.IFNA(VLOOKUP(B38,#REF!,4,0),0)+_xlfn.IFNA(VLOOKUP(B38,#REF!,4,0),0)+_xlfn.IFNA(VLOOKUP(B38,#REF!,4,0),0)+_xlfn.IFNA(VLOOKUP(B38,#REF!,4,0),0)+_xlfn.IFNA(VLOOKUP(B38,#REF!,4,0),0)+_xlfn.IFNA(VLOOKUP(B38,#REF!,4,0),0)+_xlfn.IFNA(VLOOKUP(B38,#REF!,4,0),0)+_xlfn.IFNA(VLOOKUP(B38,#REF!,4,0),0) -> #REF! | G38: =SUM(G35:G37) -> #REF!
B39: =#REF! -> #REF! | C39: PAVIMENTOS ASFALTICOS | D39: =#REF! -> #REF! | E39: =_xlfn.IFNA(VLOOKUP(B39,#REF!,4,0),0)+_xlfn.IFNA(VLOOKUP(B39,#REF!,4,0),0)+_xlfn.IFNA(VLOOKUP(B39,#REF!,4,0),0)+_xlfn.IFNA(VLOOKUP(B39,#REF!,4,0),0)+_xlfn.IFNA(VLOOKUP(B39,#REF!,4,0),0)+_xlfn.IFNA(VLOOKUP(B39,#REF!,4,0),0)+_xlfn.IFNA(VLOOKUP(B39,#REF!,4,0),0)+_xlfn.IFNA(VLOOKUP(B39,#REF!,4,0),0)+_xlfn.IFNA(VLOOKUP(B39,#REF!,4,0),0)+_xlfn.IFNA(VLOOKUP(B39,#REF!,4,0),0)+_xlfn.IFNA(VLOOKUP(B39,#REF!,4,0),0)+_xlfn.IFNA(VLOOKUP(B39,#REF!,4,0),0)+_xlfn.IFNA(VLOOKUP(B39,#REF!,4,0),0)+_xlfn.IFNA(VLOOKUP(B39,#REF!,4,0),0)+_xlfn.IFNA(VLOOKUP(B39,#REF!,4,0),0)+_xlfn.IFNA(VLOOKUP(B39,#REF!,4,0),0)+_xlfn.IFNA(VLOOKUP(B39,#REF!,4,0),0)+_xlfn.IFNA(VLOOKUP(B39,#REF!,4,0),0)+_xlfn.IFNA(VLOOKUP(B39,#REF!,4,0),0)+_xlfn.IFNA(VLOOKUP(B39,#REF!,4,0),0)+_xlfn.IFNA(VLOOKUP(B39,#REF!,4,0),0)+_xlfn.IFNA(VLOOKUP(B39,#REF!,4,0),0)+_xlfn.IFNA(VLOOKUP(B39,#REF!,4,0),0)+_xlfn.IFNA(VLOOKUP(B39,#REF!,4,0),0)+_xlfn.IFNA(VLOOKUP(B39,#REF!,4,0),0) -> #REF!
A40: 26 | B40: =#REF! -> #REF! | C40: =#REF! -> #REF! | D40: =#REF! -> #REF! | E40: =_xlfn.IFNA(VLOOKUP(B40,#REF!,4,0),0)+_xlfn.IFNA(VLOOKUP(B40,#REF!,4,0),0)+_xlfn.IFNA(VLOOKUP(B40,#REF!,4,0),0)+_xlfn.IFNA(VLOOKUP(B40,#REF!,4,0),0)+_xlfn.IFNA(VLOOKUP(B40,#REF!,4,0),0)+_xlfn.IFNA(VLOOKUP(B40,#REF!,4,0),0)+_xlfn.IFNA(VLOOKUP(B40,#REF!,4,0),0)+_xlfn.IFNA(VLOOKUP(B40,#REF!,4,0),0)+_xlfn.IFNA(VLOOKUP(B40,#REF!,4,0),0)+_xlfn.IFNA(VLOOKUP(B40,#REF!,4,0),0)+_xlfn.IFNA(VLOOKUP(B40,#REF!,4,0),0)+_xlfn.IFNA(VLOOKUP(B40,#REF!,4,0),0)+_xlfn.IFNA(VLOOKUP(B40,#REF!,4,0),0)+_xlfn.IFNA(VLOOKUP(B40,#REF!,4,0),0)+_xlfn.IFNA(VLOOKUP(B40,#REF!,4,0),0)+_xlfn.IFNA(VLOOKUP(B40,#REF!,4,0),0)+_xlfn.IFNA(VLOOKUP(B40,#REF!,4,0),0)+_xlfn.IFNA(VLOOKUP(B40,#REF!,4,0),0)+_xlfn.IFNA(VLOOKUP(B40,#REF!,4,0),0)+_xlfn.IFNA(VLOOKUP(B40,#REF!,4,0),0)+_xlfn.IFNA(VLOOKUP(B40,#REF!,4,0),0)+_xlfn.IFNA(VLOOKUP(B40,#REF!,4,0),0)+_xlfn.IFNA(VLOOKUP(B40,#REF!,4,0),0)+_xlfn.IFNA(VLOOKUP(B40,#REF!,4,0),0)+_xlfn.IFNA(VLOOKUP(B40,#REF!,4,0),0) -> #REF! | F40: ='10.1P'!N51 -> #REF! | G40: =ROUND(E40*F40,0) -> #REF!
B41: =#REF! -> #REF! | C41: SUBTOTAL PAVIMENTOS ASFALTICOS | D41: =#REF! -> #REF! | E41: =_xlfn.IFNA(VLOOKUP(B41,#REF!,4,0),0)+_xlfn.IFNA(VLOOKUP(B41,#REF!,4,0),0)+_xlfn.IFNA(VLOOKUP(B41,#REF!,4,0),0)+_xlfn.IFNA(VLOOKUP(B41,#REF!,4,0),0)+_xlfn.IFNA(VLOOKUP(B41,#REF!,4,0),0)+_xlfn.IFNA(VLOOKUP(B41,#REF!,4,0),0)+_xlfn.IFNA(VLOOKUP(B41,#REF!,4,0),0)+_xlfn.IFNA(VLOOKUP(B41,#REF!,4,0),0)+_xlfn.IFNA(VLOOKUP(B41,#REF!,4,0),0)+_xlfn.IFNA(VLOOKUP(B41,#REF!,4,0),0)+_xlfn.IFNA(VLOOKUP(B41,#REF!,4,0),0)+_xlfn.IFNA(VLOOKUP(B41,#REF!,4,0),0)+_xlfn.IFNA(VLOOKUP(B41,#REF!,4,0),0)+_xlfn.IFNA(VLOOKUP(B41,#REF!,4,0),0)+_xlfn.IFNA(VLOOKUP(B41,#REF!,4,0),0)+_xlfn.IFNA(VLOOKUP(B41,#REF!,4,0),0)+_xlfn.IFNA(VLOOKUP(B41,#REF!,4,0),0)+_xlfn.IFNA(VLOOKUP(B41,#REF!,4,0),0)+_xlfn.IFNA(VLOOKUP(B41,#REF!,4,0),0)+_xlfn.IFNA(VLOOKUP(B41,#REF!,4,0),0)+_xlfn.IFNA(VLOOKUP(B41,#REF!,4,0),0)+_xlfn.IFNA(VLOOKUP(B41,#REF!,4,0),0)+_xlfn.IFNA(VLOOKUP(B41,#REF!,4,0),0)+_xlfn.IFNA(VLOOKUP(B41,#REF!,4,0),0)+_xlfn.IFNA(VLOOKUP(B41,#REF!,4,0),0) -> #REF! | G41: =SUM(G40:G40) -> #REF!
B42: =#REF! -> #REF! | C42: ACERO | D42: =#REF! -> #REF! | E42: =_xlfn.IFNA(VLOOKUP(B42,#REF!,4,0),0)+_xlfn.IFNA(VLOOKUP(B42,#REF!,4,0),0)+_xlfn.IFNA(VLOOKUP(B42,#REF!,4,0),0)+_xlfn.IFNA(VLOOKUP(B42,#REF!,4,0),0)+_xlfn.IFNA(VLOOKUP(B42,#REF!,4,0),0)+_xlfn.IFNA(VLOOKUP(B42,#REF!,4,0),0)+_xlfn.IFNA(VLOOKUP(B42,#REF!,4,0),0)+_xlfn.IFNA(VLOOKUP(B42,#REF!,4,0),0)+_xlfn.IFNA(VLOOKUP(B42,#REF!,4,0),0)+_xlfn.IFNA(VLOOKUP(B42,#REF!,4,0),0)+_xlfn.IFNA(VLOOKUP(B42,#REF!,4,0),0)+_xlfn.IFNA(VLOOKUP(B42,#REF!,4,0),0)+_xlfn.IFNA(VLOOKUP(B42,#REF!,4,0),0)+_xlfn.IFNA(VLOOKUP(B42,#REF!,4,0),0)+_xlfn.IFNA(VLOOKUP(B42,#REF!,4,0),0)+_xlfn.IFNA(VLOOKUP(B42,#REF!,4,0),0)+_xlfn.IFNA(VLOOKUP(B42,#REF!,4,0),0)+_xlfn.IFNA(VLOOKUP(B42,#REF!,4,0),0)+_xlfn.IFNA(VLOOKUP(B42,#REF!,4,0),0)+_xlfn.IFNA(VLOOKUP(B42,#REF!,4,0),0)+_xlfn.IFNA(VLOOKUP(B42,#REF!,4,0),0)+_xlfn.IFNA(VLOOKUP(B42,#REF!,4,0),0)+_xlfn.IFNA(VLOOKUP(B42,#REF!,4,0),0)+_xlfn.IFNA(VLOOKUP(B42,#REF!,4,0),0)+_xlfn.IFNA(VLOOKUP(B42,#REF!,4,0),0) -> #REF!
A43: 27 | B43: =#REF! -> #REF! | C43: =#REF! -> #REF! | D43: =#REF! -> #REF! | E43: =_xlfn.IFNA(VLOOKUP(B43,#REF!,4,0),0)+_xlfn.IFNA(VLOOKUP(B43,#REF!,4,0),0)+_xlfn.IFNA(VLOOKUP(B43,#REF!,4,0),0)+_xlfn.IFNA(VLOOKUP(B43,#REF!,4,0),0)+_xlfn.IFNA(VLOOKUP(B43,#REF!,4,0),0)+_xlfn.IFNA(VLOOKUP(B43,#REF!,4,0),0)+_xlfn.IFNA(VLOOKUP(B43,#REF!,4,0),0)+_xlfn.IFNA(VLOOKUP(B43,#REF!,4,0),0)+_xlfn.IFNA(VLOOKUP(B43,#REF!,4,0),0)+_xlfn.IFNA(VLOOKUP(B43,#REF!,4,0),0)+_xlfn.IFNA(VLOOKUP(B43,#REF!,4,0),0)+_xlfn.IFNA(VLOOKUP(B43,#REF!,4,0),0)+_xlfn.IFNA(VLOOKUP(B43,#REF!,4,0),0)+_xlfn.IFNA(VLOOKUP(B43,#REF!,4,0),0)+_xlfn.IFNA(VLOOKUP(B43,#REF!,4,0),0)+_xlfn.IFNA(VLOOKUP(B43,#REF!,4,0),0)+_xlfn.IFNA(VLOOKUP(B43,#REF!,4,0),0)+_xlfn.IFNA(VLOOKUP(B43,#REF!,4,0),0)+_xlfn.IFNA(VLOOKUP(B43,#REF!,4,0),0)+_xlfn.IFNA(VLOOKUP(B43,#REF!,4,0),0)+_xlfn.IFNA(VLOOKUP(B43,#REF!,4,0),0)+_xlfn.IFNA(VLOOKUP(B43,#REF!,4,0),0)+_xlfn.IFNA(VLOOKUP(B43,#REF!,4,0),0)+_xlfn.IFNA(VLOOKUP(B43,#REF!,4,0),0)+_xlfn.IFNA(VLOOKUP(B43,#REF!,4,0),0) -> #REF! | F43: =#REF! -> #REF! | G43: =ROUND(E43*F43,0) -> #REF!
...

Sheet Eliminar
A1: "PAVIMENTACIÓN DE VÍAS URBANAS EN EL MUNICIPIO DE IBAGUE - DEPARTAMENTO DEL TOLIMA”
K4: 6
A5: ITEM | C5: DESCRIPCION | D5: UN | E5: CANTIDAD | F5: VR UNITARIO | G5: VR.TOTAL | K5: C.33 | L5: C.34 | M5: C.35 | N5: C.36 | O5: C.37 | P5: C.38 | Q5: C.39 | R5: C.40 | S5: C.41 | T5: C.42 | U5: C.43 | V5: C.44 | W5: C.45 | X5: C.46 | Y5: C.47 | Z5: C.48 | AA5: C.49 | AB5: C.50 | AC5: C.51 | AD5: C.52 | AE5: C.53 | AF5: C.54 | AG5: C.55 | AH5: C.56 | AI5: C.57
C6: PRELIMINARES Y EXPLANACIONES | I6: =ROUND(SUM(K6:AI6),0) -> #REF! | J6: =I6=G7 -> #REF! | K6: =_xlfn.IFNA(VLOOKUP(B7,#REF!,$K$4,0),0) -> #REF! | L6: =_xlfn.IFNA(VLOOKUP(B7,#REF!,$K$4,0),0) -> #REF! | M6: =_xlfn.IFNA(VLOOKUP(B7,#REF!,$K$4,0),0) -> #REF! | N6: =_xlfn.IFNA(VLOOKUP(B7,#REF!,$K$4,0),0) -> #REF! | O6: =_xlfn.IFNA(VLOOKUP(B7,#REF!,$K$4,0),0) -> #REF! | P6: =_xlfn.IFNA(VLOOKUP(B7,#REF!,$K$4,0),0) -> #REF! | Q6: =_xlfn.IFNA(VLOOKUP(B7,#REF!,$K$4,0),0) -> #REF! | R6: =_xlfn.IFNA(VLOOKUP(B7,#REF!,$K$4,0),0) -> #REF! | S6: =_xlfn.IFNA(VLOOKUP(B7,#REF!,$K$4,0),0) -> #REF! | T6: =_xlfn.IFNA(VLOOKUP(B7,#REF!,$K$4,0),0) -> #REF! | U6: =_xlfn.IFNA(VLOOKUP(B7,#REF!,$K$4,0),0) -> #REF! | V6: =_xlfn.IFNA(VLOOKUP(B7,#REF!,$K$4,0),0) -> #REF! | W6: =_xlfn.IFNA(VLOOKUP(B7,#REF!,$K$4,0),0) -> #REF! | X6: =_xlfn.IFNA(VLOOKUP(B7,#REF!,$K$4,0),0) -> #REF! | Y6: =_xlfn.IFNA(VLOOKUP(B7,#REF!,$K$4,0),0) -> #REF! | Z6: =_xlfn.IFNA(VLOOKUP(B7,#REF!,$K$4,0),0) -> #REF! | AA6: =_xlfn.IFNA(VLOOKUP(B7,#REF!,$K$4,0),0) -> #REF! | AB6: =_xlfn.IFNA(VLOOKUP(B7,#REF!,$K$4,0),0) -> #REF! | AC6: =_xlfn.IFNA(VLOOKUP(B7,#REF!,$K$4,0),0) -> #REF! | AD6: =_xlfn.IFNA(VLOOKUP(B7,#REF!,$K$4,0),0) -> #REF! | AE6: =_xlfn.IFNA(VLOOKUP(B7,#REF!,$K$4,0),0) -> #REF! | AF6: =_xlfn.IFNA(VLOOKUP(B7,#REF!,$K$4,0),0) -> #REF! | AG6: =_xlfn.IFNA(VLOOKUP(B7,#REF!,$K$4,0),0) -> #REF! | AH6: =_xlfn.IFNA(VLOOKUP(B7,#REF!,$K$4,0),0) -> #REF! | AI6: =_xlfn.IFNA(VLOOKUP(B7,#REF!,$K$4,0),0) -> #REF!
A7: 1 | B7: =#REF! -> #REF! | C7: =#REF! -> #REF! | D7: =#REF! -> #REF! | E7: =_xlfn.IFNA(VLOOKUP(B7,#REF!,4,0),0)+_xlfn.IFNA(VLOOKUP(B7,#REF!,4,0),0)+_xlfn.IFNA(VLOOKUP(B7,#REF!,4,0),0)+_xlfn.IFNA(VLOOKUP(B7,#REF!,4,0),0)+_xlfn.IFNA(VLOOKUP(B7,#REF!,4,0),0)+_xlfn.IFNA(VLOOKUP(B7,#REF!,4,0),0)+_xlfn.IFNA(VLOOKUP(B7,#REF!,4,0),0)+_xlfn.IFNA(VLOOKUP(B7,#REF!,4,0),0)+_xlfn.IFNA(VLOOKUP(B7,#REF!,4,0),0)+_xlfn.IFNA(VLOOKUP(B7,#REF!,4,0),0)+_xlfn.IFNA(VLOOKUP(B7,#REF!,4,0),0)+_xlfn.IFNA(VLOOKUP(B7,#REF!,4,0),0)+_xlfn.IFNA(VLOOKUP(B7,#REF!,4,0),0)+_xlfn.IFNA(VLOOKUP(B7,#REF!,4,0),0)+_xlfn.IFNA(VLOOKUP(B7,#REF!,4,0),0)+_xlfn.IFNA(VLOOKUP(B7,#REF!,4,0),0)+_xlfn.IFNA(VLOOKUP(B7,#REF!,4,0),0)+_xlfn.IFNA(VLOOKUP(B7,#REF!,4,0),0)+_xlfn.IFNA(VLOOKUP(B7,#REF!,4,0),0)+_xlfn.IFNA(VLOOKUP(B7,#REF!,4,0),0)+_xlfn.IFNA(VLOOKUP(B7,#REF!,4,0),0)+_xlfn.IFNA(VLOOKUP(B7,#REF!,4,0),0)+_xlfn.IFNA(VLOOKUP(B7,#REF!,4,0),0)+_xlfn.IFNA(VLOOKUP(B7,#REF!,4,0),0)+_xlfn.IFNA(VLOOKUP(B7,#REF!,4,0),0) -> #REF! | F7: =+#REF! -> #REF! | G7: =ROUND(E7*F7,0) -> #REF! | I7: =ROUND(SUM(K7:AI7),0) -> #REF! | J7: =I7=G8 -> #REF! | K7: =_xlfn.IFNA(VLOOKUP(B8,#REF!,$K$4,0),0) -> #REF! | L7: =_xlfn.IFNA(VLOOKUP(B8,#REF!,$K$4,0),0) -> #REF! | M7: =_xlfn.IFNA(VLOOKUP(B8,#REF!,$K$4,0),0) -> #REF! | N7: =_xlfn.IFNA(VLOOKUP(B8,#REF!,$K$4,0),0) -> #REF! | O7: =_xlfn.IFNA(VLOOKUP(B8,#REF!,$K$4,0),0) -> #REF! | P7: =_xlfn.IFNA(VLOOKUP(B8,#REF!,$K$4,0),0) -> #REF! | Q7: =_xlfn.IFNA(VLOOKUP(B8,#REF!,$K$4,0),0) -> #REF! | R7: =_xlfn.IFNA(VLOOKUP(B8,#REF!,$K$4,0),0) -> #REF! | S7: =_xlfn.IFNA(VLOOKUP(B8,#REF!,$K$4,0),0) -> #REF! | T7: =_xlfn.IFNA(VLOOKUP(B8,#REF!,$K$4,0),0) -> #REF! | U7: =_xlfn.IFNA(VLOOKUP(B8,#REF!,$K$4,0),0) -> #REF! | V7: =_xlfn.IFNA(VLOOKUP(B8,#REF!,$K$4,0),0) -> #REF! | W7: =_xlfn.IFNA(VLOOKUP(B8,#REF!,$K$4,0),0) -> #REF! | X7: =_xlfn.IFNA(VLOOKUP(B8,#REF!,$K$4,0),0) -> #REF! | Y7: =_xlfn.IFNA(VLOOKUP(B8,#REF!,$K$4,0),0) -> #REF! | Z7: =_xlfn.IFNA(VLOOKUP(B8,#REF!,$K$4,0),0) -> #REF! | AA7: =_xlfn.IFNA(VLOOKUP(B8,#REF!,$K$4,0),0) -> #REF! | AB7: =_xlfn.IFNA(VLOOKUP(B8,#REF!,$K$4,0),0) -> #REF! | AC7: =_xlfn.IFNA(VLOOKUP(B8,#REF!,$K$4,0),0) -> #REF! | AD7: =_xlfn.IFNA(VLOOKUP(B8,#REF!,$K$4,0),0) -> #REF! | AE7: =_xlfn.IFNA(VLOOKUP(B8,#REF!,$K$4,0),0) -> #REF! | AF7: =_xlfn.IFNA(VLOOKUP(B8,#REF!,$K$4,0),0) -> #REF! | AG7: =_xlfn.IFNA(VLOOKUP(B8,#REF!,$K$4,0),0) -> #REF! | AH7: =_xlfn.IFNA(VLOOKUP(B8,#REF!,$K$4,0),0) -> #REF! | AI7: =_xlfn.IFNA(VLOOKUP(B8,#REF!,$K$4,0),0) -> #REF!
A8: 2 | B8: =#REF! -> #REF! | C8: =#REF! -> #REF! | D8: =#REF! -> #REF! | E8: =_xlfn.IFNA(VLOOKUP(B8,#REF!,4,0),0)+_xlfn.IFNA(VLOOKUP(B8,#REF!,4,0),0)+_xlfn.IFNA(VLOOKUP(B8,#REF!,4,0),0)+_xlfn.IFNA(VLOOKUP(B8,#REF!,4,0),0)+_xlfn.IFNA(VLOOKUP(B8,#REF!,4,0),0)+_xlfn.IFNA(VLOOKUP(B8,#REF!,4,0),0)+_xlfn.IFNA(VLOOKUP(B8,#REF!,4,0),0)+_xlfn.IFNA(VLOOKUP(B8,#REF!,4,0),0)+_xlfn.IFNA(VLOOKUP(B8,#REF!,4,0),0)+_xlfn.IFNA(VLOOKUP(B8,#REF!,4,0),0)+_xlfn.IFNA(VLOOKUP(B8,#REF!,4,0),0)+_xlfn.IFNA(VLOOKUP(B8,#REF!,4,0),0)+_xlfn.IFNA(VLOOKUP(B8,#REF!,4,0),0)+_xlfn.IFNA(VLOOKUP(B8,#REF!,4,0),0)+_xlfn.IFNA(VLOOKUP(B8,#REF!,4,0),0)+_xlfn.IFNA(VLOOKUP(B8,#REF!,4,0),0)+_xlfn.IFNA(VLOOKUP(B8,#REF!,4,0),0)+_xlfn.IFNA(VLOOKUP(B8,#REF!,4,0),0)+_xlfn.IFNA(VLOOKUP(B8,#REF!,4,0),0)+_xlfn.IFNA(VLOOKUP(B8,#REF!,4,0),0)+_xlfn.IFNA(VLOOKUP(B8,#REF!,4,0),0)+_xlfn.IFNA(VLOOKUP(B8,#REF!,4,0),0)+_xlfn.IFNA(VLOOKUP(B8,#REF!,4,0),0)+_xlfn.IFNA(VLOOKUP(B8,#REF!,4,0),0)+_xlfn.IFNA(VLOOKUP(B8,#REF!,4,0),0) -> #REF! | F8: =#REF! -> #REF! | G8: =ROUND(E8*F8,0) -> #REF! | I8: =ROUND(SUM(K8:AI8),0) -> #REF! | J8: =I8=G9 -> #REF! | K8: =_xlfn.IFNA(VLOOKUP(B9,#REF!,$K$4,0),0) -> #REF! | L8: =_xlfn.IFNA(VLOOKUP(B9,#REF!,$K$4,0),0) -> #REF! | M8: =_xlfn.IFNA(VLOOKUP(B9,#REF!,$K$4,0),0) -> #REF! | N8: =_xlfn.IFNA(VLOOKUP(B9,#REF!,$K$4,0),0) -> #REF! | O8: =_xlfn.IFNA(VLOOKUP(B9,#REF!,$K$4,0),0) -> #REF! | P8: =_xlfn.IFNA(VLOOKUP(B9,#REF!,$K$4,0),0) -> #REF! | Q8: =_xlfn.IFNA(VLOOKUP(B9,#REF!,$K$4,0),0) -> #REF! | R8: =_xlfn.IFNA(VLOOKUP(B9,#REF!,$K$4,0),0) -> #REF! | S8: =_xlfn.IFNA(VLOOKUP(B9,#REF!,$K$4,0),0) -> #REF! | T8: =_xlfn.IFNA(VLOOKUP(B9,#REF!,$K$4,0),0) -> #REF! | U8: =_xlfn.IFNA(VLOOKUP(B9,#REF!,$K$4,0),0) -> #REF! | V8: =_xlfn.IFNA(VLOOKUP(B9,#REF!,$K$4,0),0) -> #REF! | W8: =_xlfn.IFNA(VLOOKUP(B9,#REF!,$K$4,0),0) -> #REF! | X8: =_xlfn.IFNA(VLOOKUP(B9,#REF!,$K$4,0),0) -> #REF! | Y8: =_xlfn.IFNA(VLOOKUP(B9,#REF!,$K$4,0),0) -> #REF! | Z8: =_xlfn.IFNA(VLOOKUP(B9,#REF!,$K$4,0),0) -> #REF! | AA8: =_xlfn.IFNA(VLOOKUP(B9,#REF!,$K$4,0),0) -> #REF! | AB8: =_xlfn.IFNA(VLOOKUP(B9,#REF!,$K$4,0),0) -> #REF! | AC8: =_xlfn.IFNA(VLOOKUP(B9,#REF!,$K$4,0),0) -> #REF! | AD8: =_xlfn.IFNA(VLOOKUP(B9,#REF!,$K$4,0),0) -> #REF! | AE8: =_xlfn.IFNA(VLOOKUP(B9,#REF!,$K$4,0),0) -> #REF! | AF8: =_xlfn.IFNA(VLOOKUP(B9,#REF!,$K$4,0),0) -> #REF! | AG8: =_xlfn.IFNA(VLOOKUP(B9,#REF!,$K$4,0),0) -> #REF! | AH8: =_xlfn.IFNA(VLOOKUP(B9,#REF!,$K$4,0),0) -> #REF! | AI8: =_xlfn.IFNA(VLOOKUP(B9,#REF!,$K$4,0),0) -> #REF!
A9: 3 | B9: =#REF! -> #REF! | C9: =#REF! -> #REF! | D9: =#REF! -> #REF! | E9: =_xlfn.IFNA(VLOOKUP(B9,#REF!,4,0),0)+_xlfn.IFNA(VLOOKUP(B9,#REF!,4,0),0)+_xlfn.IFNA(VLOOKUP(B9,#REF!,4,0),0)+_xlfn.IFNA(VLOOKUP(B9,#REF!,4,0),0)+_xlfn.IFNA(VLOOKUP(B9,#REF!,4,0),0)+_xlfn.IFNA(VLOOKUP(B9,#REF!,4,0),0)+_xlfn.IFNA(VLOOKUP(B9,#REF!,4,0),0)+_xlfn.IFNA(VLOOKUP(B9,#REF!,4,0),0)+_xlfn.IFNA(VLOOKUP(B9,#REF!,4,0),0)+_xlfn.IFNA(VLOOKUP(B9,#REF!,4,0),0)+_xlfn.IFNA(VLOOKUP(B9,#REF!,4,0),0)+_xlfn.IFNA(VLOOKUP(B9,#REF!,4,0),0)+_xlfn.IFNA(VLOOKUP(B9,#REF!,4,0),0)+_xlfn.IFNA(VLOOKUP(B9,#REF!,4,0),0)+_xlfn.IFNA(VLOOKUP(B9,#REF!,4,0),0)+_xlfn.IFNA(VLOOKUP(B9,#REF!,4,0),0)+_xlfn.IFNA(VLOOKUP(B9,#REF!,4,0),0)+_xlfn.IFNA(VLOOKUP(B9,#REF!,4,0),0)+_xlfn.IFNA(VLOOKUP(B9,#REF!,4,0),0)+_xlfn.IFNA(VLOOKUP(B9,#REF!,4,0),0)+_xlfn.IFNA(VLOOKUP(B9,#REF!,4,0),0)+_xlfn.IFNA(VLOOKUP(B9,#REF!,4,0),0)+_xlfn.IFNA(VLOOKUP(B9,#REF!,4,0),0)+_xlfn.IFNA(VLOOKUP(B9,#REF!,4,0),0)+_xlfn.IFNA(VLOOKUP(B9,#REF!,4,0),0) -> #REF! | F9: =#REF! -> #REF! | G9: =ROUND(E9*F9,0) -> #REF! | I9: =SUM(K9:AI9) -> #REF! | J9: =I9=G10 -> #REF! | K9: =_xlfn.IFNA(VLOOKUP(B10,#REF!,$K$4,0),0) -> #REF! | L9: =_xlfn.IFNA(VLOOKUP(B10,#REF!,$K$4,0),0) -> #REF! | M9: =_xlfn.IFNA(VLOOKUP(B10,#REF!,$K$4,0),0) -> #REF! | N9: =_xlfn.IFNA(VLOOKUP(B10,#REF!,$K$4,0),0) -> #REF! | O9: =_xlfn.IFNA(VLOOKUP(B10,#REF!,$K$4,0),0) -> #REF! | P9: =_xlfn.IFNA(VLOOKUP(B10,#REF!,$K$4,0),0) -> #REF! | Q9: =_xlfn.IFNA(VLOOKUP(B10,#REF!,$K$4,0),0) -> #REF! | R9: =_xlfn.IFNA(VLOOKUP(B10,#REF!,$K$4,0),0) -> #REF! | S9: =_xlfn.IFNA(VLOOKUP(B10,#REF!,$K$4,0),0) -> #REF! | T9: =_xlfn.IFNA(VLOOKUP(B10,#REF!,$K$4,0),0) -> #REF! | U9: =_xlfn.IFNA(VLOOKUP(B10,#REF!,$K$4,0),0) -> #REF! | V9: =_xlfn.IFNA(VLOOKUP(B10,#REF!,$K$4,0),0) -> #REF! | W9: =_xlfn.IFNA(VLOOKUP(B10,#REF!,$K$4,0),0) -> #REF! | X9: =_xlfn.IFNA(VLOOKUP(B10,#REF!,$K$4,0),0) -> #REF! | Y9: =_xlfn.IFNA(VLOOKUP(B10,#REF!,$K$4,0),0) -> #REF! | Z9: =_xlfn.IFNA(VLOOKUP(B10,#REF!,$K$4,0),0) -> #REF! | AA9: =_xlfn.IFNA(VLOOKUP(B10,#REF!,$K$4,0),0) -> #REF! | AB9: =_xlfn.IFNA(VLOOKUP(B10,#REF!,$K$4,0),0) -> #REF! | AC9: =_xlfn.IFNA(VLOOKUP(B10,#REF!,$K$4,0),0) -> #REF! | AD9: =_xlfn.IFNA(VLOOKUP(B10,#REF!,$K$4,0),0) -> #REF! | AE9: =_xlfn.IFNA(VLOOKUP(B10,#REF!,$K$4,0),0) -> #REF! | AF9: =_xlfn.IFNA(VLOOKUP(B10,#REF!,$K$4,0),0) -> #REF! | AG9: =_xlfn.IFNA(VLOOKUP(B10,#REF!,$K$4,0),0) -> #REF! | AH9: =_xlfn.IFNA(VLOOKUP(B10,#REF!,$K$4,0),0) -> #REF! | AI9: =_xlfn.IFNA(VLOOKUP(B10,#REF!,$K$4,0),0) -> #REF!
A10: 4 | B10: =#REF! -> #REF! | C10: =#REF! -> #REF! | D10: =#REF! -> #REF! | E10: =_xlfn.IFNA(VLOOKUP(B10,#REF!,4,0),0)+_xlfn.IFNA(VLOOKUP(B10,#REF!,4,0),0)+_xlfn.IFNA(VLOOKUP(B10,#REF!,4,0),0)+_xlfn.IFNA(VLOOKUP(B10,#REF!,4,0),0)+_xlfn.IFNA(VLOOKUP(B10,#REF!,4,0),0)+_xlfn.IFNA(VLOOKUP(B10,#REF!,4,0),0)+_xlfn.IFNA(VLOOKUP(B10,#REF!,4,0),0)+_xlfn.IFNA(VLOOKUP(B10,#REF!,4,0),0)+_xlfn.IFNA(VLOOKUP(B10,#REF!,4,0),0)+_xlfn.IFNA(VLOOKUP(B10,#REF!,4,0),0)+_xlfn.IFNA(VLOOKUP(B10,#REF!,4,0),0)+_xlfn.IFNA(VLOOKUP(B10,#REF!,4,0),0)+_xlfn.IFNA(VLOOKUP(B10,#REF!,4,0),0)+_xlfn.IFNA(VLOOKUP(B10,#REF!,4,0),0)+_xlfn.IFNA(VLOOKUP(B10,#REF!,4,0),0)+_xlfn.IFNA(VLOOKUP(B10,#REF!,4,0),0)+_xlfn.IFNA(VLOOKUP(B10,#REF!,4,0),0)+_xlfn.IFNA(VLOOKUP(B10,#REF!,4,0),0)+_xlfn.IFNA(VLOOKUP(B10,#REF!,4,0),0)+_xlfn.IFNA(VLOOKUP(B10,#REF!,4,0),0)+_xlfn.IFNA(VLOOKUP(B10,#REF!,4,0),0)+_xlfn.IFNA(VLOOKUP(B10,#REF!,4,0),0)+_xlfn.IFNA(VLOOKUP(B10,#REF!,4,0),0)+_xlfn.IFNA(VLOOKUP(B10,#REF!,4,0),0)+_xlfn.IFNA(VLOOKUP(B10,#REF!,4,0),0) -> #REF! | F10: =#REF! -> #REF! | G10: =ROUND(E10*F10,0) -> #REF! | I10: =SUM(K10:AI10) -> #REF! | J10: =I10=G11 -> #REF! | K10: =_xlfn.IFNA(VLOOKUP(B11,#REF!,$K$4,0),0) -> #REF! | L10: =_xlfn.IFNA(VLOOKUP(B11,#REF!,$K$4,0),0) -> #REF! | M10: =_xlfn.IFNA(VLOOKUP(B11,#REF!,$K$4,0),0) -> #REF! | N10: =_xlfn.IFNA(VLOOKUP(B11,#REF!,$K$4,0),0) -> #REF! | O10: =_xlfn.IFNA(VLOOKUP(B11,#REF!,$K$4,0),0) -> #REF! | P10: =_xlfn.IFNA(VLOOKUP(B11,#REF!,$K$4,0),0) -> #REF! | Q10: =_xlfn.IFNA(VLOOKUP(B11,#REF!,$K$4,0),0) -> #REF! | R10: =_xlfn.IFNA(VLOOKUP(B11,#REF!,$K$4,0),0) -> #REF! | S10: =_xlfn.IFNA(VLOOKUP(B11,#REF!,$K$4,0),0) -> #REF! | T10: =_xlfn.IFNA(VLOOKUP(B11,#REF!,$K$4,0),0) -> #REF! | U10: =_xlfn.IFNA(VLOOKUP(B11,#REF!,$K$4,0),0) -> #REF! | V10: =_xlfn.IFNA(VLOOKUP(B11,#REF!,$K$4,0),0) -> #REF! | W10: =_xlfn.IFNA(VLOOKUP(B11,#REF!,$K$4,0),0) -> #REF! | X10: =_xlfn.IFNA(VLOOKUP(B11,#REF!,$K$4,0),0) -> #REF! | Y10: =_xlfn.IFNA(VLOOKUP(B11,#REF!,$K$4,0),0) -> #REF! | Z10: =_xlfn.IFNA(VLOOKUP(B11,#REF!,$K$4,0),0) -> #REF! | AA10: =_xlfn.IFNA(VLOOKUP(B11,#REF!,$K$4,0),0) -> #REF! | AB10: =_xlfn.IFNA(VLOOKUP(B11,#REF!,$K$4,0),0) -> #REF! | AC10: =_xlfn.IFNA(VLOOKUP(B11,#REF!,$K$4,0),0) -> #REF! | AD10: =_xlfn.IFNA(VLOOKUP(B11,#REF!,$K$4,0),0) -> #REF! | AE10: =_xlfn.IFNA(VLOOKUP(B11,#REF!,$K$4,0),0) -> #REF! | AF10: =_xlfn.IFNA(VLOOKUP(B11,#REF!,$K$4,0),0) -> #REF! | AG10: =_xlfn.IFNA(VLOOKUP(B11,#REF!,$K$4,0),0) -> #REF! | AH10: =_xlfn.IFNA(VLOOKUP(B11,#REF!,$K$4,0),0) -> #REF! | AI10: =_xlfn.IFNA(VLOOKUP(B11,#REF!,$K$4,0),0) -> #REF!
A11: 5 | B11: =#REF! -> #REF! | C11: =#REF! -> #REF! | D11: =#REF! -> #REF! | E11: =_xlfn.IFNA(VLOOKUP(B11,#REF!,4,0),0)+_xlfn.IFNA(VLOOKUP(B11,#REF!,4,0),0)+_xlfn.IFNA(VLOOKUP(B11,#REF!,4,0),0)+_xlfn.IFNA(VLOOKUP(B11,#REF!,4,0),0)+_xlfn.IFNA(VLOOKUP(B11,#REF!,4,0),0)+_xlfn.IFNA(VLOOKUP(B11,#REF!,4,0),0)+_xlfn.IFNA(VLOOKUP(B11,#REF!,4,0),0)+_xlfn.IFNA(VLOOKUP(B11,#REF!,4,0),0)+_xlfn.IFNA(VLOOKUP(B11,#REF!,4,0),0)+_xlfn.IFNA(VLOOKUP(B11,#REF!,4,0),0)+_xlfn.IFNA(VLOOKUP(B11,#REF!,4,0),0)+_xlfn.IFNA(VLOOKUP(B11,#REF!,4,0),0)+_xlfn.IFNA(VLOOKUP(B11,#REF!,4,0),0)+_xlfn.IFNA(VLOOKUP(B11,#REF!,4,0),0)+_xlfn.IFNA(VLOOKUP(B11,#REF!,4,0),0)+_xlfn.IFNA(VLOOKUP(B11,#REF!,4,0),0)+_xlfn.IFNA(VLOOKUP(B11,#REF!,4,0),0)+_xlfn.IFNA(VLOOKUP(B11,#REF!,4,0),0)+_xlfn.IFNA(VLOOKUP(B11,#REF!,4,0),0)+_xlfn.IFNA(VLOOKUP(B11,#REF!,4,0),0)+_xlfn.IFNA(VLOOKUP(B11,#REF!,4,0),0)+_xlfn.IFNA(VLOOKUP(B11,#REF!,4,0),0)+_xlfn.IFNA(VLOOKUP(B11,#REF!,4,0),0)+_xlfn.IFNA(VLOOKUP(B11,#REF!,4,0),0)+_xlfn.IFNA(VLOOKUP(B11,#REF!,4,0),0) -> #REF! | F11: =#REF! -> #REF! | G11: =ROUND(E11*F11,0) -> #REF! | I11: =SUM(K11:AI11) -> #REF! | J11: =I11=G12 -> #REF! | K11: =_xlfn.IFNA(VLOOKUP(B12,#REF!,$K$4,0),0) -> #REF! | L11: =_xlfn.IFNA(VLOOKUP(B12,#REF!,$K$4,0),0) -> #REF! | M11: =_xlfn.IFNA(VLOOKUP(B12,#REF!,$K$4,0),0) -> #REF! | N11: =_xlfn.IFNA(VLOOKUP(B12,#REF!,$K$4,0),0) -> #REF! | O11: =_xlfn.IFNA(VLOOKUP(B12,#REF!,$K$4,0),0) -> #REF! | P11: =_xlfn.IFNA(VLOOKUP(B12,#REF!,$K$4,0),0) -> #REF! | Q11: =_xlfn.IFNA(VLOOKUP(B12,#REF!,$K$4,0),0) -> #REF! | R11: =_xlfn.IFNA(VLOOKUP(B12,#REF!,$K$4,0),0) -> #REF! | S11: =_xlfn.IFNA(VLOOKUP(B12,#REF!,$K$4,0),0) -> #REF! | T11: =_xlfn.IFNA(VLOOKUP(B12,#REF!,$K$4,0),0) -> #REF! | U11: =_xlfn.IFNA(VLOOKUP(B12,#REF!,$K$4,0),0) -> #REF! | V11: =_xlfn.IFNA(VLOOKUP(B12,#REF!,$K$4,0),0) -> #REF! | W11: =_xlfn.IFNA(VLOOKUP(B12,#REF!,$K$4,0),0) -> #REF! | X11: =_xlfn.IFNA(VLOOKUP(B12,#REF!,$K$4,0),0) -> #REF! | Y11: =_xlfn.IFNA(VLOOKUP(B12,#REF!,$K$4,0),0) -> #REF! | Z11: =_xlfn.IFNA(VLOOKUP(B12,#REF!,$K$4,0),0) -> #REF! | AA11: =_xlfn.IFNA(VLOOKUP(B12,#REF!,$K$4,0),0) -> #REF! | AB11: =_xlfn.IFNA(VLOOKUP(B12,#REF!,$K$4,0),0) -> #REF! | AC11: =_xlfn.IFNA(VLOOKUP(B12,#REF!,$K$4,0),0) -> #REF! | AD11: =_xlfn.IFNA(VLOOKUP(B12,#REF!,$K$4,0),0) -> #REF! | AE11: =_xlfn.IFNA(VLOOKUP(B12,#REF!,$K$4,0),0) -> #REF! | AF11: =_xlfn.IFNA(VLOOKUP(B12,#REF!,$K$4,0),0) -> #REF! | AG11: =_xlfn.IFNA(VLOOKUP(B12,#REF!,$K$4,0),0) -> #REF! | AH11: =_xlfn.IFNA(VLOOKUP(B12,#REF!,$K$4,0),0) -> #REF! | AI11: =_xlfn.IFNA(VLOOKUP(B12,#REF!,$K$4,0),0) -> #REF!
A12: 6 | B12: =#REF! -> #REF! | C12: =#REF! -> #REF! | D12: =#REF! -> #REF! | E12: =_xlfn.IFNA(VLOOKUP(B12,#REF!,4,0),0)+_xlfn.IFNA(VLOOKUP(B12,#REF!,4,0),0)+_xlfn.IFNA(VLOOKUP(B12,#REF!,4,0),0)+_xlfn.IFNA(VLOOKUP(B12,#REF!,4,0),0)+_xlfn.IFNA(VLOOKUP(B12,#REF!,4,0),0)+_xlfn.IFNA(VLOOKUP(B12,#REF!,4,0),0)+_xlfn.IFNA(VLOOKUP(B12,#REF!,4,0),0)+_xlfn.IFNA(VLOOKUP(B12,#REF!,4,0),0)+_xlfn.IFNA(VLOOKUP(B12,#REF!,4,0),0)+_xlfn.IFNA(VLOOKUP(B12,#REF!,4,0),0)+_xlfn.IFNA(VLOOKUP(B12,#REF!,4,0),0)+_xlfn.IFNA(VLOOKUP(B12,#REF!,4,0),0)+_xlfn.IFNA(VLOOKUP(B12,#REF!,4,0),0)+_xlfn.IFNA(VLOOKUP(B12,#REF!,4,0),0)+_xlfn.IFNA(VLOOKUP(B12,#REF!,4,0),0)+_xlfn.IFNA(VLOOKUP(B12,#REF!,4,0),0)+_xlfn.IFNA(VLOOKUP(B12,#REF!,4,0),0)+_xlfn.IFNA(VLOOKUP(B12,#REF!,4,0),0)+_xlfn.IFNA(VLOOKUP(B12,#REF!,4,0),0)+_xlfn.IFNA(VLOOKUP(B12,#REF!,4,0),0)+_xlfn.IFNA(VLOOKUP(B12,#REF!,4,0),0)+_xlfn.IFNA(VLOOKUP(B12,#REF!,4,0),0)+_xlfn.IFNA(VLOOKUP(B12,#REF!,4,0),0)+_xlfn.IFNA(VLOOKUP(B12,#REF!,4,0),0)+_xlfn.IFNA(VLOOKUP(B12,#REF!,4,0),0) -> #REF! | F12: ='201.3P'!N50 -> #REF! | G12: =ROUND(E12*F12,0) -> #REF! | I12: =SUM(K12:AI12) -> #REF! | J12: =I12=G13 -> #REF! | K12: =_xlfn.IFNA(VLOOKUP(B13,#REF!,$K$4,0),0) -> #REF! | L12: =_xlfn.IFNA(VLOOKUP(B13,#REF!,$K$4,0),0) -> #REF! | M12: =_xlfn.IFNA(VLOOKUP(B13,#REF!,$K$4,0),0) -> #REF! | N12: =_xlfn.IFNA(VLOOKUP(B13,#REF!,$K$4,0),0) -> #REF! | O12: =_xlfn.IFNA(VLOOKUP(B13,#REF!,$K$4,0),0) -> #REF! | P12: =_xlfn.IFNA(VLOOKUP(B13,#REF!,$K$4,0),0) -> #REF! | Q12: =_xlfn.IFNA(VLOOKUP(B13,#REF!,$K$4,0),0) -> #REF! | R12: =_xlfn.IFNA(VLOOKUP(B13,#REF!,$K$4,0),0) -> #REF! | S12: =_xlfn.IFNA(VLOOKUP(B13,#REF!,$K$4,0),0) -> #REF! | T12: =_xlfn.IFNA(VLOOKUP(B13,#REF!,$K$4,0),0) -> #REF! | U12: =_xlfn.IFNA(VLOOKUP(B13,#REF!,$K$4,0),0) -> #REF! | V12: =_xlfn.IFNA(VLOOKUP(B13,#REF!,$K$4,0),0) -> #REF! | W12: =_xlfn.IFNA(VLOOKUP(B13,#REF!,$K$4,0),0) -> #REF! | X12: =_xlfn.IFNA(VLOOKUP(B13,#REF!,$K$4,0),0) -> #REF! | Y12: =_xlfn.IFNA(VLOOKUP(B13,#REF!,$K$4,0),0) -> #REF! | Z12: =_xlfn.IFNA(VLOOKUP(B13,#REF!,$K$4,0),0) -> #REF! | AA12: =_xlfn.IFNA(VLOOKUP(B13,#REF!,$K$4,0),0) -> #REF! | AB12: =_xlfn.IFNA(VLOOKUP(B13,#REF!,$K$4,0),0) -> #REF! | AC12: =_xlfn.IFNA(VLOOKUP(B13,#REF!,$K$4,0),0) -> #REF! | AD12: =_xlfn.IFNA(VLOOKUP(B13,#REF!,$K$4,0),0) -> #REF! | AE12: =_xlfn.IFNA(VLOOKUP(B13,#REF!,$K$4,0),0) -> #REF! | AF12: =_xlfn.IFNA(VLOOKUP(B13,#REF!,$K$4,0),0) -> #REF! | AG12: =_xlfn.IFNA(VLOOKUP(B13,#REF!,$K$4,0),0) -> #REF! | AH12: =_xlfn.IFNA(VLOOKUP(B13,#REF!,$K$4,0),0) -> #REF! | AI12: =_xlfn.IFNA(VLOOKUP(B13,#REF!,$K$4,0),0) -> #REF!
