Workbook

Sheet Condiciones Generales
A1: No de Proceso | B1: FDLSC SASI 002 2024
A2: Objeto: | B2: SUMINISTRO DE MATERIALES ASFÁLTICOS, DE BASE Y SUB BASE GRANULAR, DISPOSICIÓN FINAL DE ESCOMBROS, ELEMENTOS PREFABRICADOS O DE DRENAJE Y OTROS REQUERIDOS PARA LA REHABILITACIÓN Y MANTENIMIENTO DE LA INFRAESTRUCTURA DE MALLA VIAL, ESPACIO PUBLICO DE LA LOCALIDAD DE SAN CRISTÓBAL A MONTO AGOTABLE
A3: Plazo: | B3: 11 MESES
A4: Experiencia General Requerida
A5: Experiencia Especifica Requerida | B5: El proponente deberá acreditar experiencia con máximo cuatro (4) certificaciones de contratos con entidades públicas o privadas, que estén relacionados con el suministro de materiales asfalticos, materiales granulares y disposición final de escombros, que sumadas o individualmente acrediten un valor igual o superior al 100% del presupuesto oficial destinado para la presente contratación expresada en SMMLV | C5: =4181.44/2 -> 2090.72
A6: Codigos UNSPSC Validos | B6: 301118,301217,781018,301216
A7: Otras Condiones | B7: .
A8: Presupuesto Oficicial | B8: 3700000000
A9: Presupuesto Oficial en SMMLV | B9: =B8/F47 -> 2846.1538
E11: Año | F11: Salario mínimo mensual
E12: 1989 | F12: 32560
E13: 1990 | F13: 41025
E14: 1991 | F14: 51720
E15: 1992 | F15: 65190
E16: 1993 | F16: 81510
E17: 1994 | F17: 98700
E18: 1995 | F18: 118933
E19: 1996 | F19: 142125
E20: 1997 | F20: 172005
E21: 1998 | F21: 203826
E22: 1999 | F22: 236460
E23: 2000 | F23: 260100
... E47: 2024 | F47: 1300000

Sheet Lista de Oferentes
A1: FONDO DE DESARROLLO LOCAL DE SAN CRISTÓBAL
A2: FDLSC-SASI-002-2024
A3: No de Proponente | B3: Nombre del Proponente | C3: Representante Legal | D3: Empresa/Consorcio/Union Temporal | E3: Consorciado 1 | F3: Consorciado 2 | G3: Consorciado 3
A4: 1 | B4: SVB INFRAESTRUCTURA S.A.S | C4: RAUL ORLANDO VALBUENA VELANDIA | D4: EMPRESA
A5: 2 | B5: PAVIOBRAS S.A.S | C5: LUIS ALBERTO CAMARGO TOBIAS | D5: EMPRESA
A6: 3 | B6: CONSORCIO P&S | C6: SERGIO CAMILO LANDINEZ | D6: CONSORCIO | E6: PLUSEL INGENIEROS SAS (40%) | F6: PLUTARCO LANDINEZ MARTINEZ (60%)

Sheet Evaluacion Tecnica
A1: FONDO DE DESARROLLO LOCAL DE SAN CRISTÓBAL
A2: FDLSC-SASI-002-2024
A3: EVALUACION TECNICA PRELIMINAR
A5: No de Proponente | B5: 1 | O5: Cumple
A6: Presupuesto Oficial en SMMLV | B6: ='Condiciones Generales'!$B$9 -> 2846.1538 | O6: No Cumple
A7: Numero de Contratos Presentados | B7: 1
A8: Valor Minimo a Certificar | B8: 1
A9: Valor Minimo SMMLV a Certificar | B9: =$B$6*B8 -> 2846.1538
A10: Termino de Ejecucion Exigido | B10: 45643
A11: Total Salarios Minimos Certificados | B11: =IF(G16>B9,"Cumple","No Cumple") -> No Cumple
A12: =VLOOKUP(B5,'Lista de Oferentes'!$A$4:$B$6,2,FALSE) -> SVB INFRAESTRUCTURA S.A.S
A13: Objeto del Contrato | B13: Entidad Contratante | C13: Valor del Contrato | D13: Año de Terminacion del Contrato | E13: Valor del Contrato en SMMLV | F13: % Participacion | G13: Participacion en SMMLV | H13: Codigo UNSPSC: 301118,301217,781018,301216 | I13: Experiencia | J13: Observaciones
A14: =VLOOKUP(B5,'Lista de Oferentes'!$A$4:$G$6,2,FALSE) -> SVB INFRAESTRUCTURA S.A.S
A15: REALIZAR A PRECIOS UNITARIOS, LAS OBRAS DE MEJORAMIENTO INTEGRAL PARA LA MALLA VIAL INTERNA Y LA SEÑALIZACION, DE ACUERDO CON LA DESCRIPCION, ESPECIFICACION ES Y DEMAS CONDICIONES ESTABLECIDAS POR EL CONTRATANTE | B15: Raul Orlando Valbuena Velandia | C15: =76716925.4+114080404+804917052.8 -> 9.9571438e+08 | D15: 2014 | E15: =C15/(VLOOKUP(D15,'Condiciones Generales'!$E$12:$F$47,2,FALSE)) -> 1616.4195 | F15: 1 | G15: =E15*F15 -> 1616.4195 | H15: Cumple | I15: No Cumple | J15: 1. El contrato aportado, no cumple con la acreditación de la experiencia requerda, de conformidad con el inciso final del numeral 3.5.5 del pliego de condiciones. El contrato aportado es celebrado entre particulares. 2. De los socumentos válidos aportados, para acreditar la experiencia, no se evidencian las principales actividades ejecutadas donde se pueda evidendenciar el cumplimiento de la experiencia requerida. Sin embargo, aunque el documentos no es valido para acreditar la experiencia (Anexo 1) los ítems relacionados con la experiencia exigida (...)TRASPORTE Y DISPOSICIO FINAL DE ESCOMBRO A SITIO AUTORIZADO , SUB-BASE GRANULAR CLASE B (SBG_B)(SUMINISTRO, EXTENDIDO, NIVELACION ,HUMEDECIMIENTO Y COMPACTACION Y MEZCLA DENSA EN CALIENTE MDC-2 ASFALTO 80-100(SUMNISTRO,EXTENDIDO,NIVELACION Y COMPACTACION(...). se observa que, la sumatoria de los valores totales de las cantidades mencionadas anteriormente, es de 161,42 SMMLV, lo cual no cumple con la acreditación mínima de la experiencia exigida, en relación con el presupuesto oficial. En consecuencia, el contrato aportado no cumple con la experiencia establecida en el Pliego de Condiciones.
A16: TOTAL | G16: =G15 -> 1616.4195 | H16: Experiencia del Proponente | J16: NO CUMPLE
A18: No de Proponente | B18: =B5+1 -> 2
A19: Presupuesto Oficial en SMMLV | B19: ='Condiciones Generales'!$B$9 -> 2846.1538
A20: Numero de Contratos Presentados | B20: 4
A21: Valor Minimo a Certificar | B21: 1
A22: Valor Minimo SMMLV a Certificar | B22: =$B$6*B21 -> 2846.1538
A23: Termino de Ejecucion Exigido | B23: 45643
A24: Total Salarios Minimos Certificados | B24: =IF(G32>B22,"Cumple","No Cumple") -> No Cumple
A25: =VLOOKUP(B18,'Lista de Oferentes'!$A$4:$B$6,2,FALSE) -> PAVIOBRAS S.A.S
A26: Objeto del Contrato | B26: Entidad Contratante | C26: Valor del Contrato | D26: Año de Terminacion del Contrato | E26: Valor del Contrato en SMMLV | F26: % Participacion | G26: Participacion en SMMLV | H26: Codigo UNSPSC: 301118,301217,781018,301216 | I26: Experiencia | J26: Observaciones
A27: =VLOOKUP(B18,'Lista de Oferentes'!$A$4:$G$6,5,FALSE) -> 0
A28: OBJETO DEL CONTRATO:" SUMINISTRAR POR EL SISTEMA DE PRECIOS UNITARIOS FIJOS A MONTO AGOTABLE, EMULSION ASFALTICA CRL-1 MEZCLA DENSA EN CALIENTE MDC-2 Y MATERIAL GRANULAR PARA EL MEJORAMIENTO DE LA MALLA VIAL DE LA LOCALIDAD DE CIUDAD BOLIVAR | B28: FONDO DE DESARROLLO LOCAL DE CIUDAD BOLIVAR | C28: 2173840012 | D28: 2017 | E28: =C28/(VLOOKUP(D28,'Condiciones Generales'!$E$12:$F$47,2,FALSE)) -> 2946.7126 | F28: 0.75 | G28: 0 | H28: Cumple | I28: No Cumple | J28: En los documentos válidos para acreditar la experiencia del contrato aportado, no se evidencia las actividades de disposición final de escombros, no cumpliendo con el requisito.
A29: UMINISTRAR POR EL SISTEMA DE PRECIOS UNITARIOS FIJOS A MONTO AGOTABLE EMULSION ASFALTICA CRL-1, MEZCLA DENSA EN CALIENTE MDC-19 Y MATERIAL GRANULAR PARA EL MEJORAMIENTO DE LA MALLA VIAL DE LA LOCALIDAD DE CIUDAD BOLIVAR | B29: FONDO DE DESARROLLO LOCAL DE CIUDAD BOLIVAR | C29: 5001155380 | D29: 2020 | E29: =C29/(VLOOKUP(D29,'Condiciones Generales'!$E$12:$F$47,2,FALSE)) -> 5697.3551 | F29: 1 | G29: 0 | H29: Cumple | I29: No Cumple | J29: En los documentos válidos para acreditar la experiencia del contrato aportado, no se evidencia las actividades de disposición final de escombros, no cumpliendo con el requisito.
A30: CONTRATAR EL SUMINISTRO DE MATERIALES ASFALTICOS DE BASE Y SUBBASE GRANULAR, DISPOSICIÓN FINAL DE ESCOMBROS Y DEMAS ELEMENTOS REQUERIDOS PARA LA REHABILITACION , MANTENIMIENTO DE LA MALLA VIAL, ESPACIO PUBLICO Y CICLO INFRAESTRUCTURA DE LA LOCALIDAD DE SAN CRISTOBAL, A MONTO AGOTABLE." | B30: FONDO DE DESARROLLO LOCAL DE SAN CRISTOBAL | C30: 1643735796 | D30: 2023 | E30: =C30/(VLOOKUP(D30,'Condiciones Generales'!$E$12:$F$47,2,FALSE)) -> 1417.0136 | F30: 1 | G30: =E30*F30 -> 1417.0136 | H30: Cumple | I30: Cumple
A31: EJECUTAR A PRECIOS UNITARIOS FIJOS LAS ACTIVIDADES PARA LA CONSERVACION DE LA MALLA VIAL E INTERMEDIA, PUENTES Y ESPACIO PUBLICO EN LA LOCALIDAD DE SUBA EN LA CIUDAD DE BOGOTA D.C. Y LAS DEMAS ACTIVIDADES QUE SE DETALLEN EN EL ANEXO TECNICO | B31: FONDO DE DESARROLLO LOCAL DE SUBA | C31: 7830449589 | D31: 2023 | E31: =C31/(VLOOKUP(D31,'Condiciones Generales'!$E$12:$F$47,2,FALSE)) -> 6750.3876 | F31: 0.5 | G31: 0 | H31: Cumple | I31: No Cumple | J31: Teniendo en cuenta los requisitos de experiencia establecidos en el pliego de condiciones, específicamente en el numeral 3.5.1, el contrato presentado no guarda relación con el suministro de materiales. Adicionalmente, el proponente no aporta un documento donde se pueda verificar las actividades solicitadas en la experiencia
A32: TOTAL | G32: =SUM(G28:G31) -> 1417.0136 | H32: Experiencia del Proponente | J32: No Cumple
A34: No de Proponente | B34: =B18+1 -> 3
A35: Presupuesto Oficial en SMMLV | B35: ='Condiciones Generales'!$B$9 -> 2846.1538
A36: Numero de Contratos Presentados | B36: 4
A37: Valor Minimo a Certificar | B37: 1
A38: Valor Minimo SMMLV a Certificar | B38: =$B$6*B37 -> 2846.1538
A39: Termino de Ejecucion Exigido | B39: 45643
A40: Total Salarios Minimos Certificados | B40: =IF(G49>B38,"Cumple","No Cumple") -> No Cumple
A41: =VLOOKUP(B34,'Lista de Oferentes'!$A$4:$B$6,2,FALSE) -> CONSORCIO P&S
A42: Objeto del Contrato | B42: Entidad Contratante | C42: Valor del Contrato | D42: Año de Terminacion del Contrato | E42: Valor del Contrato en SMMLV | F42: % Participacion | G42: Participacion en SMMLV | H42: Codigo UNSPSC: 301118,301217,781018,301216 | I42: Experiencia General | J42: Observaciones
A43: =VLOOKUP(B34,'Lista de Oferentes'!$A$4:$G$6,5,FALSE) -> PLUSEL INGENIEROS SAS (40%)
...

Sheet Requerimiento y especificacione
A1: FONDO DE DESARROLLO LOCAL DE SAN CRISTÓBAL
A2: FDLSC-SASI-002-2024
A3: VERIFICACIÓN DE CUMPLIMIENTO DE LOS REQUERIMIENTOS Y ESPECIFICACIONES MÍNIMAS
A5: No de Proponente | B5: Nombre del Proponente | C5: Experiencia del Proponente | D5: 1,Contar con la disponibilidad de una planta de asfalto y que se encuentre a una distancia máxima de 40 kilómetros del perímetro de la localidad de San Cristóbal. (Mediante documento idóneo que soporte dicha información ejemplo contrato de arrendamiento, convenio, carta de intención, etc.). | E5: 2,Deberá contar con un equipo mínimo de tres (3) volquetas cuya capacidad mínima sea de quince mil (15.000) Kg y /o quince (15) metros cúbicos y dos volquetas sencillas con capacidad mínima de 7 m3. El proponente deberá acreditar la disponibilidad de los vehículos. (Mediante documento que soporte dicha información ejemplo contrato de arrendamiento, convenio, carta de intención, tarjeta de propiedad, etc.). Los vehículos para la ALCALDÍA LOCAL DE SAN CRISTÓBAL prestación del servicio deberán cumplir con las condiciones técnico_x0002_mecánicas, de emisiones contaminantes y las especificaciones de tipología vehicular requeridas y homologadas por el Ministerio de Transporte para la prestación del servicio. | F5: 3,Compromiso No Discriminación dentro de su oferta como requisito habilitante. Formato 6 | G5: 4,Deberá garantizar en cuanto a suministro de material las 24 horas del día, Formato 11 | H5: 5,Contar con el certificado de que los materiales pétreos empleados en la actividad provienen de lugares autorizados por la autoridad ambiental competente. (Anexar documento que soporte esta información emitido por la entidad competente Secretaria Distrital de medio Ambiente, CAR) | I5: 6,Contar con plan de gestión de residuos aprovechables, ordinarios y peligrosos. (Anexar el Plan de Gestión de residuos). | J5: 7,En toda obra de infraestructura de transporte en el Distrito Capital que se ejecute y adelante en procesos constructivos con asfalto, deberá prever el uso de materiales provenientes del aprovechamiento de llantas usadas en las proporciones técnicas que para el efecto exige el Instituto de Desarrollo Urbano, en la totalidad de metros cuadrados de la mezcla asfáltica usada para la obra (ver estudios previos, numeral 2.3.3 Requerimiento ambientales,(tabla 11) | K5: 8,Equipo Mínimo de Trabajo Habilitante que cuenta con la capacidad técnica de equipo y disposición de materiales de acuerdo con lo especificado en el Anexo Técnico Formato 12 | L5: 9,Declaración sobre multas y sanciones en donde se certifique si en los últimos dos (2) años, ha sido objeto de multas y/o sanciones por incumplimiento de mis obligaciones contractuales frente a entidades públicas o privadas. Formato 5 | M5: 9,Compromiso de transparencia Formato 4 | N5: 10,Compromiso anticorrupcion Formato 7 | O5: 11,Compromiso ambienal Formato 8 | P5: 12,Compromisode probidad Anexo 7 | Q5: CONCLUSION | R5: Observaciones
A6: ='Lista de Oferentes'!A4 -> 1 | B6: ='Lista de Oferentes'!B4 -> SVB INFRAESTRUCTURA S.A.S | C6: No Cumple | D6: No Cumple | E6: Cumple | F6: Cumple | G6: Cumple | H6: Cumple | I6: Cumple | J6: No Cumple | K6: No Cumple | L6: Cumple | M6: Cumple | N6: Cumple | O6: Cumple | P6: No Cumple | Q6: No Cumple | R6: 1.La documentación presentada no cumple con los requisitos, ya que no se acredita, ppor medio de un documento idóneo, la existencia, ni la disponibilidad de la planta para la entidad, ni se demuestra el cumplimiento de la distancia exigida de 40 kilómetros desde el perímetro de la localidad de San Cristóbal. 7. No se evidencia soporte ambiental prever el uso de materiales provenientes del aprovechamiento de llantas. 8.No se evidencia formato 12 12. Compromiso de probidad Anexo 7
A7: ='Lista de Oferentes'!A5 -> 2 | B7: ='Lista de Oferentes'!B5 -> PAVIOBRAS S.A.S | C7: No Cumple | D7: No Cumple | E7: Cumple | F7: Cumple | G7: Cumple | H7: Cumple | I7: Cumple | J7: No Cumple | K7: Cumple | L7: Cumple | M7: Cumple | N7: Cumple | O7: Cumple | P7: Cumple | Q7: No Cumple | R7: 1.En ningun documento se demuestra el cumplimiento de la distancia exigida de 40 kilómetros desde el perímetro de la localidad de San Cristóbal. 7.No se evidencia soporte ambiental prever el uso de materiales provenientes del aprovechamiento de llantas.
A8: ='Lista de Oferentes'!A6 -> 3 | B8: ='Lista de Oferentes'!B6 -> CONSORCIO P&S | C8: No Cumple | D8: No Cumple | E8: Cumple | F8: No Cumple | G8: Cumple | H8: Cumple | I8: Cumple | J8: No Cumple | K8: Cumple | L8: Cumple | M8: Cumple | N8: Cumple | O8: Cumple | P8: Cumple | Q8: No Cumple | R8: 1.La documentación presentada no cumple con los requisitos, ya que no se acredita la existencia ni la disponibilidad de la planta para la entidad. 3.No se evidencia formato 6 7. No se evidencia soporte ambiental prever el uso de materiales provenientes del aprovechamiento de llantas.
C12: Cumple
C13: No Cumple

Sheet Resumen
A1: Fondo de Desarrollo Local de San Cristobal
A2: ='Requerimiento y especificacione'!$A$2 -> FDLSC-SASI-002-2024
A3: ='Condiciones Generales'!B2 -> SUMINISTRO DE MATERIALES ASFÁLTICOS, DE BASE Y SUB BASE GRANULAR, DISPOSICIÓN FINAL DE ESCOMBROS, ELEMENTOS PREFABRICADOS O DE DRENAJE Y OTROS REQUERIDOS PARA LA REHABILITACIÓN Y MANTENIMIENTO DE LA INFRAESTRUCTURA DE MALLA VIAL, ESPACIO PUBLICO DE LA LOCALIDAD DE SAN CRISTÓBAL A MONTO AGOTABLE
A4: No de Proponente | B4: Nombre del Proponente | C4: Indices Financieros | D4: Capacidad Juridica | E4: Capacidad Tecnica | F4: VERIFICACIÓN DE CUMPLIMIENTO DE LOS REQUERIMIENTOS Y ESPECIFICACIONES MÍNIMAS (FICHA TÉCNICA) | G4: Estado | H4: Observaciones
A5: ='Lista de Oferentes'!A4 -> 1 | B5: ='Lista de Oferentes'!B4 -> SVB INFRAESTRUCTURA S.A.S | C5: CUMPLE | D5: CUMPLE | E5: ='Evaluacion Tecnica'!J16 -> NO CUMPLE | F5: ='Requerimiento y especificacione'!Q6 -> No Cumple | G5: =IF(AND(C5="Cumple",D5="Cumple",E5="Cumple",F5="Cumple"),"HABILITADO","NO HABILITADO") -> NO HABILITADO | H5: SE REQUIERE AL PROPONENTE, PARA QUE SUBSANE O PRESENTE OBSERVACIONES, EN EL TERMINO DEL TRASLADO DEL INFORME DE EVALUACIÓN PRELIMINAR
A6: ='Lista de Oferentes'!A5 -> 2 | B6: ='Lista de Oferentes'!B5 -> PAVIOBRAS S.A.S | C6: CUMPLE | D6: CUMPLE | E6: NO CUMPLE | F6: ='Requerimiento y especificacione'!Q7 -> No Cumple | G6: =IF(AND(C6="Cumple",D6="Cumple",E6="Cumple",F6="Cumple"),"HABILITADO","NO HABILITADO") -> NO HABILITADO | H6: SE REQUIERE AL PROPONENTE, PARA QUE SUBSANE O PRESENTE OBSERVACIONES, EN EL TERMINO DEL TRASLADO DEL INFORME DE EVALUACIÓN PRELIMINAR
A7: ='Lista de Oferentes'!A6 -> 3 | B7: ='Lista de Oferentes'!B6 -> CONSORCIO P&S | C7: NO CUMPLE | D7: NO CUMPLE | E7: ='Evaluacion Tecnica'!J49 -> NO CUMPLE | F7: ='Requerimiento y especificacione'!Q8 -> No Cumple | G7: =IF(AND(C7="Cumple",D7="Cumple",E7="Cumple",F7="Cumple"),"HABILITADO","NO HABILITADO") -> NO HABILITADO | H7: SE REQUIERE AL PROPONENTE, PARA QUE SUBSANE O PRESENTE OBSERVACIONES, EN EL TERMINO DEL TRASLADO DEL INFORME DE EVALUACIÓN PRELIMINAR
